{"text_format":"3","workbook":"xlsx","n_sheets":6,"sheets":["Instructions","Definitions","Step1 Firm Location List","Step 2 PO Calculator","Step 3 HUBZone Employee List","drop down"],"read":"whole","date_system":"1900"}

{"sheet":"Instructions","index":0,"n_rows":32,"n_cols":2,"rows_kept":32,"merged":[[0,0,0,1],[1,0,1,1],[2,0,2,1],[3,0,3,1],[10,0,10,1],[20,0,20,1],[21,0,21,1]]}
["Instructions:"]
["The HUBZone Program has introduced this new workbook for firms to utilize to present and organize their principal office and employee information in a format that will help expedite the application review and also calculate if the firm meets minimum eligibility requirements.   Please follow the instructions below and save and upload the workbook with your submission.   Refer to the Definitions tab for additional information on key terms.  We are testing this workbook as a prototype; the pilot period ends May, 2021 and we seek your input or questions via hubzone@sba.gov.  "]
[]
["Step 1 – Enter information in the Firm Location List tab"]
[]
["a.","Enter each location maintained by your firm (i.e. owned or leased) where employees perform work as well as standard telework locations.  Use a separate row for each standard telework location, if applicable.  Do not include locations where employees are temporarily teleworking due to COVID-19.  You do not need to enter Job Site locations (see definitions tab for further information). "]
["b.","In Column A, select the type of location from the dropdown menu."]
["c.","In Columns B through E, enter the location address (Street, City, State, Zip)."]
["d.","In Column F, enter the number of employees who worked more than 50% of their time from each location during the four-week period immediately prior to the Electonic Verification Date (EVD).   Note:   If an employee was teleworking due to COVID-19, allocate them to the location from which they would have been working if not for COVID-19"]
[]
["Step 2 – Enter employee and firm information into the Principal Office Calculator tab"]
[]
["a.","In highlighted cells E4 through E8, enter your firm name, application number, electonic verification date (EVD), payroll frequency and the dates of the qualifying payroll and prior qualifying payroll, if applicable."]
["b.","Starting in cell B18, enter information for each employee in the same order as they appear on the payroll provided.  Enter employee names as they appear on the payroll."]
["c.","In Column E, enter the total hours worked by each employee for the payroll period immediately prior to the Electronic Verification Date (EVD)."]
[null,"If an employee has not worked 40 hours in Column E, enter the hours worked in prior payroll period(s) in columns F-H as necessary, not to exceed four weeks of payroll."]
["d.","Next, allocate the hours the employee worked in Columns E-H to the location(s) they worked from.  If an employee was teleworking due to COVID-19, allocate their hours to the location(s) from which they would have been working if not for COVID-19.   In Column X, indicate whether the employee was temporarily teleworking due to COVID-19 during the payroll period(s)."]
[]
[null,"Note: The sum of Columns E-H must match the sum of Columns J-L.  If you see the word 'error' in the Hours Match Column, the hours do not match and need to be corrected.  The Final Status Column will indicate the location to which the employee was allocated.  Once all employees have been entered, the principal office calculator at the top of the sheet will display the percentage of employees that work at each location.  "]
[]
["Step 3 – Enter information in the HUBZone Employee List tab"]
["This sheet will auto-populate the names of employees that were identified as residing in a HUBZone in Step 2.  You only need to enter information into the highlighted fields."]
["a.","Select the type of residency document from the dropdown in Column A.  "]
["b.","Enter the address on the residency document in Columns E-G.  Note:  SBA will not accept identification listing Post Office Boxes as proof of HUBZone residency."]
["c.","Enter the issue or start date in Column I and expiration date or the EVD in Column K, as applicable.  See below for instructions related to specific residency documents."]
[null,"Driver’s license or State ID card:  Enter the issue date in Column I and the expiration date in Column K.  The issue date must be at least 180 days prior to the EVD and the expiration date cannot be before the EVD."]
[null,"Signed attestation and voter registration ID:  Enter the issue date in Column I and the EVD in Column K"]
[null,"Signed attestation and utility bill: Submit copies of two bills that demonstrate residency of 180 days prior to the EVD.   One bill must cover the date 180 days prior to the EVD.  Enter the beginning service date of that bill in Column I. The other bill must cover the EVD.  Enter the ending service date for that bill  in the Column K.   "]
[null,"Signed attestation and lease agreement:  Enter the start date of the term of the lease in Column I and enter the end date of the term in Column K.  "]
[null,"Signed attestation and deed:  Enter the date of the deed in Column I and enter the EVD in Column K.  "]
["d.","In Column R, indicate whether the HUBZone map confirms the address is in a HUBZone.  Link to map:  https://maps.certify.sba.gov/"]
["e. ","Add notes in the far right column, as necessary. "]

{"sheet":"Definitions","index":1,"n_rows":8,"n_cols":2,"rows_kept":8,"merged":[[0,0,0,1]]}
["Definitions:"]
["Term","Definition"]
["Application Number","This is the five digit number SBA assigned to your application within the HUBZone Certification Tracking System (HCTS)."]
["Electronic Verification Date (EVD)","This is the date when the applicant’s highest ranking official asserts to SBA that the firm is in compliance with HUBZone Program eligibility requirements. This is also the date when the applicant receives the notification to upload the required documentation."]
["Employee","\"Employee\" means all individuals employed on a full-time, part-time, or other basis, so long as that individual works a minimum of 40 hours during the four-week period immediately prior to your firm's Electronic Verification Date (EVD). SBA will review a concern's payroll records for the most recently completed pay periods that account for the four-week period immediately prior to your EVD in order to determine which individuals meet this definition.  See  13 C.F.R. 126.103 below for further detail regarding how SBA determines whether an individual is considered an \"employee\" for HUBZone purposes. \n                                                                                                                                                                                                                                                                                                                                                                                                                                                                                                                                                                                                                                     13 C.F.R. 126.103 Employee means all individuals employed on a full-time, part-time, or other basis, so long as that individual works a minimum of 40 hours during the four-week period immediately prior to the relevant date of review, which is either the date the concern submits its HUBZone application to SBA or the date of recertification. SBA will review a concern's payroll records for the most recently completed pay periods that account for the four-week period immediately prior to the date of application or date of recertification in order to determine which individuals meet this definition. To determine if an individual is an employee, SBA reviews the totality of circumstances, including criteria used by the Internal Revenue Service (IRS) for Federal income tax purposes and the factors set forth in SBA's Size Policy Statement No. 1 (51 FR 6099, February 20, 1986).\n\n(1) In general, the following are considered employees:\n(i) Individuals obtained from a temporary employee agency, leasing concern, or through a union agreement, or co-employed pursuant to a professional employer organization agreement;\n(ii) An individual who has an ownership interest in the concern and who works for the concern a minimum of 40 hours during the four-week period immediately prior to the relevant date of review, whether or not the individual receives compensation;\n(iii) The sole owner of a concern who works less than 40 hours during the four-week period immediately prior to the relevant date of review, but who has not hired another individual to direct the actions of the concern's employees;\n(iv) Individuals who receive in-kind compensation commensurate with work performed. Such compensation must provide a demonstrable financial value to the individual and must be compliant with all relevant federal and state laws.\n\n(2) In general, the following are not considered employees:\n(i) Individuals who are not owners and receive no compensation (including no in-kind compensation) for work performed;\n(ii) Individuals who receive deferred compensation for work performed;\n(iii) Independent contractors that receive payment via IRS Form 1099 and are not considered employees under SBA's Size Policy Statement No. 1; and\n(iv) Subcontractors.\n\n(3) Employees of an affiliate may be considered employees, if the totality of the circumstances shows that there is no clear line of fracture between the HUBZone applicant (or certified HUBZone small business concern) and its affiliate(s) (see §126.204)."]
["Job Site","A job site is a location  where work is performed to fulfill specific contract obligations (applicable only to firms whose primary industry is service or construction)."]
["Payroll","As part of your submission, you will be required to submit payroll records for the most recently completed pay periods that account for the four-week period immediately prior to your firm's Electronic Verification Date (EVD) and that show all employees and the number of hours worked per pay period at the time of EVD.  The SBA will accept only official payroll records   that contain, at a minimum:  employees’ names, the number of hours worked by each individual for each pay period, the wages earned by each individual for each pay period, and each pay period’s beginning and end dates. "]
["Principal Office","Principal office means the  location where the greatest number of the concern's employees at any one location perform their work.  \nSee 13 C.F.R. 126.103 below for further details regarding how SBA determines the principal office location. \n                                                                                                                                                                                                                                                                                                                                                                                                                                                                                                                                                                                                                                                                                                                                                               13 C.F.R. 126.103 (1) If an employee works at multiple locations, then the employee will be deemed to work at the location where the employee spends more than 50% of his or her time. If an employee does not spend more than 50% of his or her time at any one location and at least one of those locations is a non-HUBZone location, then the employee will be deemed to work at a non-HUBZone location.\n\n(2) In order for a location to be considered the principal office, the concern must conduct business at this location.\n\n(3) For those concerns whose “primary industry classification” is services or construction (see §121.201 of this chapter), the determination of principal office excludes the concern's employees who perform more than 50% of their work at job-site locations to fulfill specific contract obligations. If all of a concern's employees perform more than 50% of their work at job sites, the concern does not comply with the principal office requirement.\n\n(i) Example 1: A business concern whose primary industry is construction has a total of 78 employees, including the owners. The business concern has one office (Office A), which is located in a HUBZone, with 3 employees working at that location. The business concern also has a job-site for a current contract, where 75 employees perform more than 50% of their work. The 75 job-site employees are excluded for purposes of determining principal office. Since the remaining 3 employees all work at Office A, Office A is the concern's principal office. Since Office A is in a HUBZone, the business concern complies with the principal office requirement.\n\n(ii) Example 2: A business concern whose primary industry is services has a total of 4 employees, including the owner. The business concern has one office located in a HUBZone (Office A), where 2 employees perform more than 50% of their work, and a second office not located in a HUBZone (Office B), where 2 employees perform more than 50% of their work. Since there is not one location where the greatest number of the concern's employees at any one location perform their work, the business concern would not have a principal office in a HUBZone.\n\n(iii) Example 3: A business concern whose primary industry is services has a total of 6 employees, including the owner. Five of the employees perform all of their work at job-sites fulfilling specific contract obligations. The business concern's owner performs 45% of her work at job-sites, and 55% of her work at an office located in a HUBZone (Office A) conducting tasks such as writing proposals, generating payroll, and responding to emails. Office A would be considered the principal office of the concern since it is the only location where any employees of the concern work that is not a job site and the 1 individual working there spends more than 50% of her time at Office A. Since Office A is located in a HUBZone, the small business concern would meet the principal office requirement."]

{"sheet":"Step1 Firm Location List","index":2,"n_rows":2,"n_cols":6,"rows_kept":2,"merged":[[0,0,0,5]]}
["Step 1: Firm Location List"]
["Type of Location (use a separate row for each standard telework location, if applicable)","Street Address","City","State","Zip","Number of employees:  Enter the number of employees who worked more than 50% of their time from each location during the four-week period immediately prior to the Electonic Verification Date (EVD).                                                                                                                                             Note:  If an employee was teleworking due to COVID-19, allocate them to the location from which they would have been working if not for COVID-19."]

{"sheet":"Step 2 PO Calculator","index":3,"n_rows":2017,"n_cols":24,"rows_kept":2017,"merged":[[0,1,0,20],[2,3,2,5],[2,9,2,11],[2,13,2,20],[3,4,3,5],[3,13,3,19],[4,4,4,5],[4,13,4,19],[5,4,5,5],[6,4,6,5],[7,4,7,5],[8,4,8,5],[9,4,9,5]]}
[null,"Step 2: Principal Office Calculator"]
[]
[{"$nulls":3},"Firm Information",{"$nulls":5},"Principal Office Calculator ",{"$nulls":3},"35% HUBZone Residency Determination"]
[{"$nulls":3},"Firm Name",{"$nulls":5},"Employees Allocated to Principal Office",{"$f":"COUNTIF(U$18:U$2017,\"PO Employee\")","v":0},{"$f":"K4/K11","v":{"$error":"#DIV/0!"}},null,"Appear to Qualify as HUBZone Employees",{"$nulls":6},{"$f":"'Step 3 HUBZone Employee List'!L8","v":0}]
[{"$nulls":3},"Application Number",{"$nulls":5},"Employees Allocated to Other HUBZone Location",{"$f":"COUNTIF(U$18:U$2017,\"Other HZ Employee\")","v":0},{"$f":"K5/K11","v":{"$error":"#DIV/0!"}}]
[{"$nulls":3},"Electronic Verification Date (EVD)",{"$nulls":5},"Employees Allocated to Non HUBZone Location",{"$f":"COUNTIF(U$18:U$2017,\"Non HZ Employee\")","v":0},{"$f":"K6/K11","v":{"$error":"#DIV/0!"}},null,"Appears to Meets 35%",{"$f":"'Step 3 HUBZone Employee List'!J8","v":"No"}]
[{"$nulls":3},"Payroll Frequency",{"$nulls":5},"Employees Allocated to Job Sites",{"$f":"COUNTIF(U$18:U$2017,\"Job Site Employee\")","v":0},{"$f":"K7/K11","v":{"$error":"#DIV/0!"}}]
[{"$nulls":3},"Number of Locations ",{"$f":"COUNTA('Step1 Firm Location List'!A3:A22)","v":0},{"$nulls":4},"Employees Allocated to Other Locations",{"$f":"COUNTIF(U$18:U$2017,\"Other Employee\")","v":0},{"$f":"K8/K11","v":{"$error":"#DIV/0!"}}]
[{"$nulls":3},"Dates of Qualifying Payroll Period",{"$nulls":5},"Total Employees  ",{"$f":"K4+K5+K6+K7+K8","v":0}]
[{"$nulls":3},"Dates of Prior Qualifying Payroll Period (if applicable)",{"$nulls":5},"Count of Individuals not included as employees",{"$f":"COUNTIF(U$18:U$2017,\"Not counted as an Employee\")","v":0}]
[{"$nulls":9},"Total Employees excluding Job Site Employees",{"$f":"SUM(K4,K5,K6,K8)","v":0}]
[{"$nulls":9},"Total HUBZone Employees Claimed Below",{"$f":"COUNTIFS($B$18:$B$2017,\"Yes\",P$18:$P$2017,\"Y\")","v":0}]
[]
[]
[]
["Employee ID","Does Employee reside in a HUBZone?",null,"Employee Name (in order presented in payroll)","Hours worked in Qualifying Pay Period","Hours worked in 1st prior pay period (if necessary)","Hours worked in 2nd prior pay period (if necessary)","Hours worked in 3rd prior pay period (if necessary)","Hours by PP","Hours worked at Proposed Principal Office","Hours worked at other HUBZone location (including standard telework)"," Hours worked at non-HUBZone location (including standard telework)","Hours worked at Job Site ","Other Location Hours","Total Hours ",{"$nulls":4},"Hours Match?","Final Status",null,null,"Was the Employee Teleworking due to COVID 19?"]
["Employee ID","HUBZone Employee","Employee Number","Employee Name","Column4","Column3","Column2","Column1","Column12","PO Employee","Other HZ Employee","Non HZ Employee","Job Site Employee","Other Employee","Total Hours per Month","Count as employee?","Calc 1","Calc 2","Max calc","Column5","Final Status",null,null,"Job Site Employee"]
[1,null,1,{"$nulls":5},{"$f":"SUM(Table1[[#This Row],[Column4]]+Table1[[#This Row],[Column3]]+Table1[[#This Row],[Column2]]+Table1[[#This Row],[Column1]])","v":0},{"$nulls":5},{"$f":"SUM(Table1[[#This Row],[PO Employee]:[Other Employee]])","v":0},{"$f":"IF(O18>=40,\"Y\",\"N\")","v":"N"},{"$f":"INDEX($J$17:$N$17,MATCH(MAX(J18:M18),J18:M18,0))","v":{"$error":"#N/A"}},{"$f":"IF(O18>39,Table1[[#This Row],[Calc 1]],IF(O18>1,\"Not counted as an Employee\",\"#NA\"))","v":"#NA"},{"$f":"MAX(Table1[[#This Row],[PO Employee]],Table1[[#This Row],[Other HZ Employee]],Table1[[#This Row],[Non HZ Employee]],Table1[[#This Row],[Job Site Employee]],Table1[[#This Row],[Other Employee]])","v":0},{"$f":"IF(Table1[[#This Row],[Total Hours per Month]]=Table1[[#This Row],[Column12]],\"Match\",\"Error\")","v":"Match"},{"$f":"IF(Table1[[#This Row],[Calc 2]]=\"#NA\",\"#NA\",IF(Table1[[#This Row],[Non HZ Employee]]=Table1[[#This Row],[Max calc]],\"Non HZ Employee\", Table1[[#This Row],[Calc 2]]))","v":"#NA"}]
[2,null,2,{"$nulls":5},{"$f":"SUM(Table1[[#This Row],[Column4]]+Table1[[#This Row],[Column3]]+Table1[[#This Row],[Column2]]+Table1[[#This Row],[Column1]])","v":0},{"$nulls":5},{"$f":"SUM(Table1[[#This Row],[PO Employee]:[Other Employee]])","v":0},{"$f":"IF(O19>=40,\"Y\",\"N\")","v":"N"},{"$f":"INDEX($J$17:$N$17,MATCH(MAX(J19:N19),J19:N19,0))","v":{"$error":"#N/A"}},{"$f":"IF(O19>39,Table1[[#This Row],[Calc 1]],IF(O19>1,\"Not counted as an Employee\",\"#NA\"))","v":"#NA"},{"$f":"MAX(Table1[[#This Row],[PO Employee]],Table1[[#This Row],[Other HZ Employee]],Table1[[#This Row],[Non HZ Employee]],Table1[[#This Row],[Job Site Employee]],Table1[[#This Row],[Other Employee]])","v":0},{"$f":"IF(Table1[[#This Row],[Total Hours per Month]]=Table1[[#This Row],[Column12]],\"Match\",\"Error\")","v":"Match"},{"$f":"IF(Table1[[#This Row],[Calc 2]]=\"#NA\",\"#NA\",IF(Table1[[#This Row],[Non HZ Employee]]=Table1[[#This Row],[Max calc]],\"Non HZ Employee\", Table1[[#This Row],[Calc 2]]))","v":"#NA"}]
[3,null,3,{"$nulls":5},{"$f":"SUM(Table1[[#This Row],[Column4]]+Table1[[#This Row],[Column3]]+Table1[[#This Row],[Column2]]+Table1[[#This Row],[Column1]])","v":0},{"$nulls":5},{"$f":"SUM(Table1[[#This Row],[PO Employee]:[Other Employee]])","v":0},"N",{"$error":"#N/A"},{"$f":"IF(O20>39,Table1[[#This Row],[Calc 1]],IF(O20>1,\"Not counted as an Employee\",\"#NA\"))","v":"#NA"},{"$f":"MAX(Table1[[#This Row],[PO Employee]],Table1[[#This Row],[Other HZ Employee]],Table1[[#This Row],[Non HZ Employee]],Table1[[#This Row],[Job Site Employee]],Table1[[#This Row],[Other Employee]])","v":0},{"$f":"IF(Table1[[#This Row],[Total Hours per Month]]=Table1[[#This Row],[Column12]],\"Match\",\"Error\")","v":"Match"},{"$f":"IF(Table1[[#This Row],[Calc 2]]=\"#NA\",\"#NA\",IF(Table1[[#This Row],[Non HZ Employee]]=Table1[[#This Row],[Max calc]],\"Non HZ Employee\", Table1[[#This Row],[Calc 2]]))","v":"#NA"}]
[4," ",4,{"$nulls":5},{"$f":"SUM(Table1[[#This Row],[Column4]]+Table1[[#This Row],[Column3]]+Table1[[#This Row],[Column2]]+Table1[[#This Row],[Column1]])","v":0},{"$nulls":5},{"$f":"SUM(Table1[[#This Row],[PO Employee]:[Other Employee]])","v":0},"N",{"$error":"#N/A"},{"$f":"IF(O21>39,Table1[[#This Row],[Calc 1]],IF(O21>1,\"Not counted as an Employee\",\"#NA\"))","v":"#NA"},{"$f":"MAX(Table1[[#This Row],[PO Employee]],Table1[[#This Row],[Other HZ Employee]],Table1[[#This Row],[Non HZ Employee]],Table1[[#This Row],[Job Site Employee]],Table1[[#This Row],[Other Employee]])","v":0},{"$f":"IF(Table1[[#This Row],[Total Hours per Month]]=Table1[[#This Row],[Column12]],\"Match\",\"Error\")","v":"Match"},{"$f":"IF(Table1[[#This Row],[Calc 2]]=\"#NA\",\"#NA\",IF(Table1[[#This Row],[Non HZ Employee]]=Table1[[#This Row],[Max calc]],\"Non HZ Employee\", Table1[[#This Row],[Calc 2]]))","v":"#NA"}]
[5," ",5,{"$nulls":5},{"$f":"SUM(Table1[[#This Row],[Column4]]+Table1[[#This Row],[Column3]]+Table1[[#This Row],[Column2]]+Table1[[#This Row],[Column1]])","v":0},{"$nulls":5},{"$f":"SUM(Table1[[#This Row],[PO Employee]:[Other Employee]])","v":0},"N",{"$error":"#N/A"},{"$f":"IF(O22>39,Table1[[#This Row],[Calc 1]],IF(O22>1,\"Not counted as an Employee\",\"#NA\"))","v":"#NA"},{"$f":"MAX(Table1[[#This Row],[PO Employee]],Table1[[#This Row],[Other HZ Employee]],Table1[[#This Row],[Non HZ Employee]],Table1[[#This Row],[Job Site Employee]],Table1[[#This Row],[Other Employee]])","v":0},{"$f":"IF(Table1[[#This Row],[Total Hours per Month]]=Table1[[#This Row],[Column12]],\"Match\",\"Error\")","v":"Match"},{"$f":"IF(Table1[[#This Row],[Calc 2]]=\"#NA\",\"#NA\",IF(Table1[[#This Row],[Non HZ Employee]]=Table1[[#This Row],[Max calc]],\"Non HZ Employee\", Table1[[#This Row],[Calc 2]]))","v":"#NA"}]
[6," ",6,{"$nulls":5},{"$f":"SUM(Table1[[#This Row],[Column4]]+Table1[[#This Row],[Column3]]+Table1[[#This Row],[Column2]]+Table1[[#This Row],[Column1]])","v":0},{"$nulls":5},{"$f":"SUM(Table1[[#This Row],[PO Employee]:[Other Employee]])","v":0},"N",{"$error":"#N/A"},{"$f":"IF(O23>39,Table1[[#This Row],[Calc 1]],IF(O23>1,\"Not counted as an Employee\",\"#NA\"))","v":"#NA"},{"$f":"MAX(Table1[[#This Row],[PO Employee]],Table1[[#This Row],[Other HZ Employee]],Table1[[#This Row],[Non HZ Employee]],Table1[[#This Row],[Job Site Employee]],Table1[[#This Row],[Other Employee]])","v":0},{"$f":"IF(Table1[[#This Row],[Total Hours per Month]]=Table1[[#This Row],[Column12]],\"Match\",\"Error\")","v":"Match"},{"$f":"IF(Table1[[#This Row],[Calc 2]]=\"#NA\",\"#NA\",IF(Table1[[#This Row],[Non HZ Employee]]=Table1[[#This Row],[Max calc]],\"Non HZ Employee\", Table1[[#This Row],[Calc 2]]))","v":"#NA"}]
[7," ",7,{"$nulls":5},{"$f":"SUM(Table1[[#This Row],[Column4]]+Table1[[#This Row],[Column3]]+Table1[[#This Row],[Column2]]+Table1[[#This Row],[Column1]])","v":0},{"$nulls":5},{"$f":"SUM(Table1[[#This Row],[PO Employee]:[Other Employee]])","v":0},"N",{"$error":"#N/A"},{"$f":"IF(O24>39,Table1[[#This Row],[Calc 1]],IF(O24>1,\"Not counted as an Employee\",\"#NA\"))","v":"#NA"},{"$f":"MAX(Table1[[#This Row],[PO Employee]],Table1[[#This Row],[Other HZ Employee]],Table1[[#This Row],[Non HZ Employee]],Table1[[#This Row],[Job Site Employee]],Table1[[#This Row],[Other Employee]])","v":0},{"$f":"IF(Table1[[#This Row],[Total Hours per Month]]=Table1[[#This Row],[Column12]],\"Match\",\"Error\")","v":"Match"},{"$f":"IF(Table1[[#This Row],[Calc 2]]=\"#NA\",\"#NA\",IF(Table1[[#This Row],[Non HZ Employee]]=Table1[[#This Row],[Max calc]],\"Non HZ Employee\", Table1[[#This Row],[Calc 2]]))","v":"#NA"}]
[8," ",8,{"$nulls":5},{"$f":"SUM(Table1[[#This Row],[Column4]]+Table1[[#This Row],[Column3]]+Table1[[#This Row],[Column2]]+Table1[[#This Row],[Column1]])","v":0},{"$nulls":5},{"$f":"SUM(Table1[[#This Row],[PO Employee]:[Other Employee]])","v":0},"N",{"$error":"#N/A"},{"$f":"IF(O25>39,Table1[[#This Row],[Calc 1]],IF(O25>1,\"Not counted as an Employee\",\"#NA\"))","v":"#NA"},{"$f":"MAX(Table1[[#This Row],[PO Employee]],Table1[[#This Row],[Other HZ Employee]],Table1[[#This Row],[Non HZ Employee]],Table1[[#This Row],[Job Site Employee]],Table1[[#This Row],[Other Employee]])","v":0},{"$f":"IF(Table1[[#This Row],[Total Hours per Month]]=Table1[[#This Row],[Column12]],\"Match\",\"Error\")","v":"Match"},{"$f":"IF(Table1[[#This Row],[Calc 2]]=\"#NA\",\"#NA\",IF(Table1[[#This Row],[Non HZ Employee]]=Table1[[#This Row],[Max calc]],\"Non HZ Employee\", Table1[[#This Row],[Calc 2]]))","v":"#NA"}]
[9," ",9,{"$nulls":5},{"$f":"SUM(Table1[[#This Row],[Column4]]+Table1[[#This Row],[Column3]]+Table1[[#This Row],[Column2]]+Table1[[#This Row],[Column1]])","v":0},{"$nulls":5},{"$f":"SUM(Table1[[#This Row],[PO Employee]:[Other Employee]])","v":0},"N",{"$error":"#N/A"},{"$f":"IF(O26>39,Table1[[#This Row],[Calc 1]],IF(O26>1,\"Not counted as an Employee\",\"#NA\"))","v":"#NA"},{"$f":"MAX(Table1[[#This Row],[PO Employee]],Table1[[#This Row],[Other HZ Employee]],Table1[[#This Row],[Non HZ Employee]],Table1[[#This Row],[Job Site Employee]],Table1[[#This Row],[Other Employee]])","v":0},{"$f":"IF(Table1[[#This Row],[Total Hours per Month]]=Table1[[#This Row],[Column12]],\"Match\",\"Error\")","v":"Match"},{"$f":"IF(Table1[[#This Row],[Calc 2]]=\"#NA\",\"#NA\",IF(Table1[[#This Row],[Non HZ Employee]]=Table1[[#This Row],[Max calc]],\"Non HZ Employee\", Table1[[#This Row],[Calc 2]]))","v":"#NA"}]
[10," ",10,{"$nulls":5},{"$f":"SUM(Table1[[#This Row],[Column4]]+Table1[[#This Row],[Column3]]+Table1[[#This Row],[Column2]]+Table1[[#This Row],[Column1]])","v":0},{"$nulls":5},{"$f":"SUM(Table1[[#This Row],[PO Employee]:[Other Employee]])","v":0},"N",{"$error":"#N/A"},{"$f":"IF(O27>39,Table1[[#This Row],[Calc 1]],IF(O27>1,\"Not counted as an Employee\",\"#NA\"))","v":"#NA"},{"$f":"MAX(Table1[[#This Row],[PO Employee]],Table1[[#This Row],[Other HZ Employee]],Table1[[#This Row],[Non HZ Employee]],Table1[[#This Row],[Job Site Employee]],Table1[[#This Row],[Other Employee]])","v":0},{"$f":"IF(Table1[[#This Row],[Total Hours per Month]]=Table1[[#This Row],[Column12]],\"Match\",\"Error\")","v":"Match"},{"$f":"IF(Table1[[#This Row],[Calc 2]]=\"#NA\",\"#NA\",IF(Table1[[#This Row],[Non HZ Employee]]=Table1[[#This Row],[Max calc]],\"Non HZ Employee\", Table1[[#This Row],[Calc 2]]))","v":"#NA"}]
[11," ",11,{"$nulls":5},{"$f":"SUM(Table1[[#This Row],[Column4]]+Table1[[#This Row],[Column3]]+Table1[[#This Row],[Column2]]+Table1[[#This Row],[Column1]])","v":0},{"$nulls":5},{"$f":"SUM(Table1[[#This Row],[PO Employee]:[Other Employee]])","v":0},"N",{"$error":"#N/A"},{"$f":"IF(O28>39,Table1[[#This Row],[Calc 1]],IF(O28>1,\"Not counted as an Employee\",\"#NA\"))","v":"#NA"},{"$f":"MAX(Table1[[#This Row],[PO Employee]],Table1[[#This Row],[Other HZ Employee]],Table1[[#This Row],[Non HZ Employee]],Table1[[#This Row],[Job Site Employee]],Table1[[#This Row],[Other Employee]])","v":0},{"$f":"IF(Table1[[#This Row],[Total Hours per Month]]=Table1[[#This Row],[Column12]],\"Match\",\"Error\")","v":"Match"},{"$f":"IF(Table1[[#This Row],[Calc 2]]=\"#NA\",\"#NA\",IF(Table1[[#This Row],[Non HZ Employee]]=Table1[[#This Row],[Max calc]],\"Non HZ Employee\", Table1[[#This Row],[Calc 2]]))","v":"#NA"}]
[12," ",12,{"$nulls":5},{"$f":"SUM(Table1[[#This Row],[Column4]]+Table1[[#This Row],[Column3]]+Table1[[#This Row],[Column2]]+Table1[[#This Row],[Column1]])","v":0},{"$nulls":5},{"$f":"SUM(Table1[[#This Row],[PO Employee]:[Other Employee]])","v":0},"N",{"$error":"#N/A"},{"$f":"IF(O29>39,Table1[[#This Row],[Calc 1]],IF(O29>1,\"Not counted as an Employee\",\"#NA\"))","v":"#NA"},{"$f":"MAX(Table1[[#This Row],[PO Employee]],Table1[[#This Row],[Other HZ Employee]],Table1[[#This Row],[Non HZ Employee]],Table1[[#This Row],[Job Site Employee]],Table1[[#This Row],[Other Employee]])","v":0},{"$f":"IF(Table1[[#This Row],[Total Hours per Month]]=Table1[[#This Row],[Column12]],\"Match\",\"Error\")","v":"Match"},{"$f":"IF(Table1[[#This Row],[Calc 2]]=\"#NA\",\"#NA\",IF(Table1[[#This Row],[Non HZ Employee]]=Table1[[#This Row],[Max calc]],\"Non HZ Employee\", Table1[[#This Row],[Calc 2]]))","v":"#NA"}]
[13," ",13,{"$nulls":5},{"$f":"SUM(Table1[[#This Row],[Column4]]+Table1[[#This Row],[Column3]]+Table1[[#This Row],[Column2]]+Table1[[#This Row],[Column1]])","v":0},{"$nulls":5},{"$f":"SUM(Table1[[#This Row],[PO Employee]:[Other Employee]])","v":0},"N",{"$error":"#N/A"},{"$f":"IF(O30>39,Table1[[#This Row],[Calc 1]],IF(O30>1,\"Not counted as an Employee\",\"#NA\"))","v":"#NA"},{"$f":"MAX(Table1[[#This Row],[PO Employee]],Table1[[#This Row],[Other HZ Employee]],Table1[[#This Row],[Non HZ Employee]],Table1[[#This Row],[Job Site Employee]],Table1[[#This Row],[Other Employee]])","v":0},{"$f":"IF(Table1[[#This Row],[Total Hours per Month]]=Table1[[#This Row],[Column12]],\"Match\",\"Error\")","v":"Match"},{"$f":"IF(Table1[[#This Row],[Calc 2]]=\"#NA\",\"#NA\",IF(Table1[[#This Row],[Non HZ Employee]]=Table1[[#This Row],[Max calc]],\"Non HZ Employee\", Table1[[#This Row],[Calc 2]]))","v":"#NA"}]
[14," ",14,{"$nulls":5},{"$f":"SUM(Table1[[#This Row],[Column4]]+Table1[[#This Row],[Column3]]+Table1[[#This Row],[Column2]]+Table1[[#This Row],[Column1]])","v":0},{"$nulls":5},{"$f":"SUM(Table1[[#This Row],[PO Employee]:[Other Employee]])","v":0},"N",{"$error":"#N/A"},{"$f":"IF(O31>39,Table1[[#This Row],[Calc 1]],IF(O31>1,\"Not counted as an Employee\",\"#NA\"))","v":"#NA"},{"$f":"MAX(Table1[[#This Row],[PO Employee]],Table1[[#This Row],[Other HZ Employee]],Table1[[#This Row],[Non HZ Employee]],Table1[[#This Row],[Job Site Employee]],Table1[[#This Row],[Other Employee]])","v":0},{"$f":"IF(Table1[[#This Row],[Total Hours per Month]]=Table1[[#This Row],[Column12]],\"Match\",\"Error\")","v":"Match"},{"$f":"IF(Table1[[#This Row],[Calc 2]]=\"#NA\",\"#NA\",IF(Table1[[#This Row],[Non HZ Employee]]=Table1[[#This Row],[Max calc]],\"Non HZ Employee\", Table1[[#This Row],[Calc 2]]))","v":"#NA"}]
[15," ",15,{"$nulls":5},{"$f":"SUM(Table1[[#This Row],[Column4]]+Table1[[#This Row],[Column3]]+Table1[[#This Row],[Column2]]+Table1[[#This Row],[Column1]])","v":0},{"$nulls":5},{"$f":"SUM(Table1[[#This Row],[PO Employee]:[Other Employee]])","v":0},"N",{"$error":"#N/A"},{"$f":"IF(O32>39,Table1[[#This Row],[Calc 1]],IF(O32>1,\"Not counted as an Employee\",\"#NA\"))","v":"#NA"},{"$f":"MAX(Table1[[#This Row],[PO Employee]],Table1[[#This Row],[Other HZ Employee]],Table1[[#This Row],[Non HZ Employee]],Table1[[#This Row],[Job Site Employee]],Table1[[#This Row],[Other Employee]])","v":0},{"$f":"IF(Table1[[#This Row],[Total Hours per Month]]=Table1[[#This Row],[Column12]],\"Match\",\"Error\")","v":"Match"},{"$f":"IF(Table1[[#This Row],[Calc 2]]=\"#NA\",\"#NA\",IF(Table1[[#This Row],[Non HZ Employee]]=Table1[[#This Row],[Max calc]],\"Non HZ Employee\", Table1[[#This Row],[Calc 2]]))","v":"#NA"}]
[16," ",16,{"$nulls":5},{"$f":"SUM(Table1[[#This Row],[Column4]]+Table1[[#This Row],[Column3]]+Table1[[#This Row],[Column2]]+Table1[[#This Row],[Column1]])","v":0},{"$nulls":5},{"$f":"SUM(Table1[[#This Row],[PO Employee]:[Other Employee]])","v":0},"N",{"$error":"#N/A"},{"$f":"IF(O33>39,Table1[[#This Row],[Calc 1]],IF(O33>1,\"Not counted as an Employee\",\"#NA\"))","v":"#NA"},{"$f":"MAX(Table1[[#This Row],[PO Employee]],Table1[[#This Row],[Other HZ Employee]],Table1[[#This Row],[Non HZ Employee]],Table1[[#This Row],[Job Site Employee]],Table1[[#This Row],[Other Employee]])","v":0},{"$f":"IF(Table1[[#This Row],[Total Hours per Month]]=Table1[[#This Row],[Column12]],\"Match\",\"Error\")","v":"Match"},{"$f":"IF(Table1[[#This Row],[Calc 2]]=\"#NA\",\"#NA\",IF(Table1[[#This Row],[Non HZ Employee]]=Table1[[#This Row],[Max calc]],\"Non HZ Employee\", Table1[[#This Row],[Calc 2]]))","v":"#NA"}]
[17," ",17,{"$nulls":5},{"$f":"SUM(Table1[[#This Row],[Column4]]+Table1[[#This Row],[Column3]]+Table1[[#This Row],[Column2]]+Table1[[#This Row],[Column1]])","v":0},{"$nulls":5},{"$f":"SUM(Table1[[#This Row],[PO Employee]:[Other Employee]])","v":0},"N",{"$error":"#N/A"},{"$f":"IF(O34>39,Table1[[#This Row],[Calc 1]],IF(O34>1,\"Not counted as an Employee\",\"#NA\"))","v":"#NA"},{"$f":"MAX(Table1[[#This Row],[PO Employee]],Table1[[#This Row],[Other HZ Employee]],Table1[[#This Row],[Non HZ Employee]],Table1[[#This Row],[Job Site Employee]],Table1[[#This Row],[Other Employee]])","v":0},{"$f":"IF(Table1[[#This Row],[Total Hours per Month]]=Table1[[#This Row],[Column12]],\"Match\",\"Error\")","v":"Match"},{"$f":"IF(Table1[[#This Row],[Calc 2]]=\"#NA\",\"#NA\",IF(Table1[[#This Row],[Non HZ Employee]]=Table1[[#This Row],[Max calc]],\"Non HZ Employee\", Table1[[#This Row],[Calc 2]]))","v":"#NA"}]
[18," ",18,{"$nulls":5},{"$f":"SUM(Table1[[#This Row],[Column4]]+Table1[[#This Row],[Column3]]+Table1[[#This Row],[Column2]]+Table1[[#This Row],[Column1]])","v":0},{"$nulls":5},{"$f":"SUM(Table1[[#This Row],[PO Employee]:[Other Employee]])","v":0},"N",{"$error":"#N/A"},{"$f":"IF(O35>39,Table1[[#This Row],[Calc 1]],IF(O35>1,\"Not counted as an Employee\",\"#NA\"))","v":"#NA"},{"$f":"MAX(Table1[[#This Row],[PO Employee]],Table1[[#This Row],[Other HZ Employee]],Table1[[#This Row],[Non HZ Employee]],Table1[[#This Row],[Job Site Employee]],Table1[[#This Row],[Other Employee]])","v":0},{"$f":"IF(Table1[[#This Row],[Total Hours per Month]]=Table1[[#This Row],[Column12]],\"Match\",\"Error\")","v":"Match"},{"$f":"IF(Table1[[#This Row],[Calc 2]]=\"#NA\",\"#NA\",IF(Table1[[#This Row],[Non HZ Employee]]=Table1[[#This Row],[Max calc]],\"Non HZ Employee\", Table1[[#This Row],[Calc 2]]))","v":"#NA"}]
[19," ",19,{"$nulls":5},{"$f":"SUM(Table1[[#This Row],[Column4]]+Table1[[#This Row],[Column3]]+Table1[[#This Row],[Column2]]+Table1[[#This Row],[Column1]])","v":0},{"$nulls":5},{"$f":"SUM(Table1[[#This Row],[PO Employee]:[Other Employee]])","v":0},"N",{"$error":"#N/A"},{"$f":"IF(O36>39,Table1[[#This Row],[Calc 1]],IF(O36>1,\"Not counted as an Employee\",\"#NA\"))","v":"#NA"},{"$f":"MAX(Table1[[#This Row],[PO Employee]],Table1[[#This Row],[Other HZ Employee]],Table1[[#This Row],[Non HZ Employee]],Table1[[#This Row],[Job Site Employee]],Table1[[#This Row],[Other Employee]])","v":0},{"$f":"IF(Table1[[#This Row],[Total Hours per Month]]=Table1[[#This Row],[Column12]],\"Match\",\"Error\")","v":"Match"},{"$f":"IF(Table1[[#This Row],[Calc 2]]=\"#NA\",\"#NA\",IF(Table1[[#This Row],[Non HZ Employee]]=Table1[[#This Row],[Max calc]],\"Non HZ Employee\", Table1[[#This Row],[Calc 2]]))","v":"#NA"}]
[20," ",20,{"$nulls":5},{"$f":"SUM(Table1[[#This Row],[Column4]]+Table1[[#This Row],[Column3]]+Table1[[#This Row],[Column2]]+Table1[[#This Row],[Column1]])","v":0},{"$nulls":5},{"$f":"SUM(Table1[[#This Row],[PO Employee]:[Other Employee]])","v":0},"N",{"$error":"#N/A"},{"$f":"IF(O37>39,Table1[[#This Row],[Calc 1]],IF(O37>1,\"Not counted as an Employee\",\"#NA\"))","v":"#NA"},{"$f":"MAX(Table1[[#This Row],[PO Employee]],Table1[[#This Row],[Other HZ Employee]],Table1[[#This Row],[Non HZ Employee]],Table1[[#This Row],[Job Site Employee]],Table1[[#This Row],[Other Employee]])","v":0},{"$f":"IF(Table1[[#This Row],[Total Hours per Month]]=Table1[[#This Row],[Column12]],\"Match\",\"Error\")","v":"Match"},{"$f":"IF(Table1[[#This Row],[Calc 2]]=\"#NA\",\"#NA\",IF(Table1[[#This Row],[Non HZ Employee]]=Table1[[#This Row],[Max calc]],\"Non HZ Employee\", Table1[[#This Row],[Calc 2]]))","v":"#NA"}]
[21," ",21,{"$nulls":5},{"$f":"SUM(Table1[[#This Row],[Column4]]+Table1[[#This Row],[Column3]]+Table1[[#This Row],[Column2]]+Table1[[#This Row],[Column1]])","v":0},{"$nulls":5},{"$f":"SUM(Table1[[#This Row],[PO Employee]:[Other Employee]])","v":0},"N",{"$error":"#N/A"},{"$f":"IF(O38>39,Table1[[#This Row],[Calc 1]],IF(O38>1,\"Not counted as an Employee\",\"#NA\"))","v":"#NA"},{"$f":"MAX(Table1[[#This Row],[PO Employee]],Table1[[#This Row],[Other HZ Employee]],Table1[[#This Row],[Non HZ Employee]],Table1[[#This Row],[Job Site Employee]],Table1[[#This Row],[Other Employee]])","v":0},{"$f":"IF(Table1[[#This Row],[Total Hours per Month]]=Table1[[#This Row],[Column12]],\"Match\",\"Error\")","v":"Match"},{"$f":"IF(Table1[[#This Row],[Calc 2]]=\"#NA\",\"#NA\",IF(Table1[[#This Row],[Non HZ Employee]]=Table1[[#This Row],[Max calc]],\"Non HZ Employee\", Table1[[#This Row],[Calc 2]]))","v":"#NA"}]
[22," ",22,{"$nulls":5},{"$f":"SUM(Table1[[#This Row],[Column4]]+Table1[[#This Row],[Column3]]+Table1[[#This Row],[Column2]]+Table1[[#This Row],[Column1]])","v":0},{"$nulls":5},{"$f":"SUM(Table1[[#This Row],[PO Employee]:[Other Employee]])","v":0},"N",{"$error":"#N/A"},{"$f":"IF(O39>39,Table1[[#This Row],[Calc 1]],IF(O39>1,\"Not counted as an Employee\",\"#NA\"))","v":"#NA"},{"$f":"MAX(Table1[[#This Row],[PO Employee]],Table1[[#This Row],[Other HZ Employee]],Table1[[#This Row],[Non HZ Employee]],Table1[[#This Row],[Job Site Employee]],Table1[[#This Row],[Other Employee]])","v":0},{"$f":"IF(Table1[[#This Row],[Total Hours per Month]]=Table1[[#This Row],[Column12]],\"Match\",\"Error\")","v":"Match"},{"$f":"IF(Table1[[#This Row],[Calc 2]]=\"#NA\",\"#NA\",IF(Table1[[#This Row],[Non HZ Employee]]=Table1[[#This Row],[Max calc]],\"Non HZ Employee\", Table1[[#This Row],[Calc 2]]))","v":"#NA"}]
[23," ",23,{"$nulls":5},{"$f":"SUM(Table1[[#This Row],[Column4]]+Table1[[#This Row],[Column3]]+Table1[[#This Row],[Column2]]+Table1[[#This Row],[Column1]])","v":0},{"$nulls":5},{"$f":"SUM(Table1[[#This Row],[PO Employee]:[Other Employee]])","v":0},"N",{"$error":"#N/A"},{"$f":"IF(O40>39,Table1[[#This Row],[Calc 1]],IF(O40>1,\"Not counted as an Employee\",\"#NA\"))","v":"#NA"},{"$f":"MAX(Table1[[#This Row],[PO Employee]],Table1[[#This Row],[Other HZ Employee]],Table1[[#This Row],[Non HZ Employee]],Table1[[#This Row],[Job Site Employee]],Table1[[#This Row],[Other Employee]])","v":0},{"$f":"IF(Table1[[#This Row],[Total Hours per Month]]=Table1[[#This Row],[Column12]],\"Match\",\"Error\")","v":"Match"},{"$f":"IF(Table1[[#This Row],[Calc 2]]=\"#NA\",\"#NA\",IF(Table1[[#This Row],[Non HZ Employee]]=Table1[[#This Row],[Max calc]],\"Non HZ Employee\", Table1[[#This Row],[Calc 2]]))","v":"#NA"}]
[24," ",24,{"$nulls":5},{"$f":"SUM(Table1[[#This Row],[Column4]]+Table1[[#This Row],[Column3]]+Table1[[#This Row],[Column2]]+Table1[[#This Row],[Column1]])","v":0},{"$nulls":5},{"$f":"SUM(Table1[[#This Row],[PO Employee]:[Other Employee]])","v":0},"N",{"$error":"#N/A"},{"$f":"IF(O41>39,Table1[[#This Row],[Calc 1]],IF(O41>1,\"Not counted as an Employee\",\"#NA\"))","v":"#NA"},{"$f":"MAX(Table1[[#This Row],[PO Employee]],Table1[[#This Row],[Other HZ Employee]],Table1[[#This Row],[Non HZ Employee]],Table1[[#This Row],[Job Site Employee]],Table1[[#This Row],[Other Employee]])","v":0},{"$f":"IF(Table1[[#This Row],[Total Hours per Month]]=Table1[[#This Row],[Column12]],\"Match\",\"Error\")","v":"Match"},{"$f":"IF(Table1[[#This Row],[Calc 2]]=\"#NA\",\"#NA\",IF(Table1[[#This Row],[Non HZ Employee]]=Table1[[#This Row],[Max calc]],\"Non HZ Employee\", Table1[[#This Row],[Calc 2]]))","v":"#NA"}]
[25," ",25,{"$nulls":5},{"$f":"SUM(Table1[[#This Row],[Column4]]+Table1[[#This Row],[Column3]]+Table1[[#This Row],[Column2]]+Table1[[#This Row],[Column1]])","v":0},{"$nulls":5},{"$f":"SUM(Table1[[#This Row],[PO Employee]:[Other Employee]])","v":0},"N",{"$error":"#N/A"},{"$f":"IF(O42>39,Table1[[#This Row],[Calc 1]],IF(O42>1,\"Not counted as an Employee\",\"#NA\"))","v":"#NA"},{"$f":"MAX(Table1[[#This Row],[PO Employee]],Table1[[#This Row],[Other HZ Employee]],Table1[[#This Row],[Non HZ Employee]],Table1[[#This Row],[Job Site Employee]],Table1[[#This Row],[Other Employee]])","v":0},{"$f":"IF(Table1[[#This Row],[Total Hours per Month]]=Table1[[#This Row],[Column12]],\"Match\",\"Error\")","v":"Match"},{"$f":"IF(Table1[[#This Row],[Calc 2]]=\"#NA\",\"#NA\",IF(Table1[[#This Row],[Non HZ Employee]]=Table1[[#This Row],[Max calc]],\"Non HZ Employee\", Table1[[#This Row],[Calc 2]]))","v":"#NA"}]
[26," ",26,{"$nulls":5},{"$f":"SUM(Table1[[#This Row],[Column4]]+Table1[[#This Row],[Column3]]+Table1[[#This Row],[Column2]]+Table1[[#This Row],[Column1]])","v":0},{"$nulls":5},{"$f":"SUM(Table1[[#This Row],[PO Employee]:[Other Employee]])","v":0},"N",{"$error":"#N/A"},{"$f":"IF(O43>39,Table1[[#This Row],[Calc 1]],IF(O43>1,\"Not counted as an Employee\",\"#NA\"))","v":"#NA"},{"$f":"MAX(Table1[[#This Row],[PO Employee]],Table1[[#This Row],[Other HZ Employee]],Table1[[#This Row],[Non HZ Employee]],Table1[[#This Row],[Job Site Employee]],Table1[[#This Row],[Other Employee]])","v":0},{"$f":"IF(Table1[[#This Row],[Total Hours per Month]]=Table1[[#This Row],[Column12]],\"Match\",\"Error\")","v":"Match"},{"$f":"IF(Table1[[#This Row],[Calc 2]]=\"#NA\",\"#NA\",IF(Table1[[#This Row],[Non HZ Employee]]=Table1[[#This Row],[Max calc]],\"Non HZ Employee\", Table1[[#This Row],[Calc 2]]))","v":"#NA"}]
[27," ",27,{"$nulls":5},{"$f":"SUM(Table1[[#This Row],[Column4]]+Table1[[#This Row],[Column3]]+Table1[[#This Row],[Column2]]+Table1[[#This Row],[Column1]])","v":0},{"$nulls":5},{"$f":"SUM(Table1[[#This Row],[PO Employee]:[Other Employee]])","v":0},"N",{"$error":"#N/A"},{"$f":"IF(O44>39,Table1[[#This Row],[Calc 1]],IF(O44>1,\"Not counted as an Employee\",\"#NA\"))","v":"#NA"},{"$f":"MAX(Table1[[#This Row],[PO Employee]],Table1[[#This Row],[Other HZ Employee]],Table1[[#This Row],[Non HZ Employee]],Table1[[#This Row],[Job Site Employee]],Table1[[#This Row],[Other Employee]])","v":0},{"$f":"IF(Table1[[#This Row],[Total Hours per Month]]=Table1[[#This Row],[Column12]],\"Match\",\"Error\")","v":"Match"},{"$f":"IF(Table1[[#This Row],[Calc 2]]=\"#NA\",\"#NA\",IF(Table1[[#This Row],[Non HZ Employee]]=Table1[[#This Row],[Max calc]],\"Non HZ Employee\", Table1[[#This Row],[Calc 2]]))","v":"#NA"}]
[28," ",28,{"$nulls":5},{"$f":"SUM(Table1[[#This Row],[Column4]]+Table1[[#This Row],[Column3]]+Table1[[#This Row],[Column2]]+Table1[[#This Row],[Column1]])","v":0},{"$nulls":5},{"$f":"SUM(Table1[[#This Row],[PO Employee]:[Other Employee]])","v":0},"N",{"$error":"#N/A"},{"$f":"IF(O45>39,Table1[[#This Row],[Calc 1]],IF(O45>1,\"Not counted as an Employee\",\"#NA\"))","v":"#NA"},{"$f":"MAX(Table1[[#This Row],[PO Employee]],Table1[[#This Row],[Other HZ Employee]],Table1[[#This Row],[Non HZ Employee]],Table1[[#This Row],[Job Site Employee]],Table1[[#This Row],[Other Employee]])","v":0},{"$f":"IF(Table1[[#This Row],[Total Hours per Month]]=Table1[[#This Row],[Column12]],\"Match\",\"Error\")","v":"Match"},{"$f":"IF(Table1[[#This Row],[Calc 2]]=\"#NA\",\"#NA\",IF(Table1[[#This Row],[Non HZ Employee]]=Table1[[#This Row],[Max calc]],\"Non HZ Employee\", Table1[[#This Row],[Calc 2]]))","v":"#NA"}]
[29," ",29,{"$nulls":5},{"$f":"SUM(Table1[[#This Row],[Column4]]+Table1[[#This Row],[Column3]]+Table1[[#This Row],[Column2]]+Table1[[#This Row],[Column1]])","v":0},{"$nulls":5},{"$f":"SUM(Table1[[#This Row],[PO Employee]:[Other Employee]])","v":0},"N",{"$error":"#N/A"},{"$f":"IF(O46>39,Table1[[#This Row],[Calc 1]],IF(O46>1,\"Not counted as an Employee\",\"#NA\"))","v":"#NA"},{"$f":"MAX(Table1[[#This Row],[PO Employee]],Table1[[#This Row],[Other HZ Employee]],Table1[[#This Row],[Non HZ Employee]],Table1[[#This Row],[Job Site Employee]],Table1[[#This Row],[Other Employee]])","v":0},{"$f":"IF(Table1[[#This Row],[Total Hours per Month]]=Table1[[#This Row],[Column12]],\"Match\",\"Error\")","v":"Match"},{"$f":"IF(Table1[[#This Row],[Calc 2]]=\"#NA\",\"#NA\",IF(Table1[[#This Row],[Non HZ Employee]]=Table1[[#This Row],[Max calc]],\"Non HZ Employee\", Table1[[#This Row],[Calc 2]]))","v":"#NA"}]
[30," ",30,{"$nulls":5},{"$f":"SUM(Table1[[#This Row],[Column4]]+Table1[[#This Row],[Column3]]+Table1[[#This Row],[Column2]]+Table1[[#This Row],[Column1]])","v":0},{"$nulls":5},{"$f":"SUM(Table1[[#This Row],[PO Employee]:[Other Employee]])","v":0},"N",{"$error":"#N/A"},{"$f":"IF(O47>39,Table1[[#This Row],[Calc 1]],IF(O47>1,\"Not counted as an Employee\",\"#NA\"))","v":"#NA"},{"$f":"MAX(Table1[[#This Row],[PO Employee]],Table1[[#This Row],[Other HZ Employee]],Table1[[#This Row],[Non HZ Employee]],Table1[[#This Row],[Job Site Employee]],Table1[[#This Row],[Other Employee]])","v":0},{"$f":"IF(Table1[[#This Row],[Total Hours per Month]]=Table1[[#This Row],[Column12]],\"Match\",\"Error\")","v":"Match"},{"$f":"IF(Table1[[#This Row],[Calc 2]]=\"#NA\",\"#NA\",IF(Table1[[#This Row],[Non HZ Employee]]=Table1[[#This Row],[Max calc]],\"Non HZ Employee\", Table1[[#This Row],[Calc 2]]))","v":"#NA"}]
[31," ",31,{"$nulls":5},{"$f":"SUM(Table1[[#This Row],[Column4]]+Table1[[#This Row],[Column3]]+Table1[[#This Row],[Column2]]+Table1[[#This Row],[Column1]])","v":0},{"$nulls":5},{"$f":"SUM(Table1[[#This Row],[PO Employee]:[Other Employee]])","v":0},"N",{"$error":"#N/A"},{"$f":"IF(O48>39,Table1[[#This Row],[Calc 1]],IF(O48>1,\"Not counted as an Employee\",\"#NA\"))","v":"#NA"},{"$f":"MAX(Table1[[#This Row],[PO Employee]],Table1[[#This Row],[Other HZ Employee]],Table1[[#This Row],[Non HZ Employee]],Table1[[#This Row],[Job Site Employee]],Table1[[#This Row],[Other Employee]])","v":0},{"$f":"IF(Table1[[#This Row],[Total Hours per Month]]=Table1[[#This Row],[Column12]],\"Match\",\"Error\")","v":"Match"},{"$f":"IF(Table1[[#This Row],[Calc 2]]=\"#NA\",\"#NA\",IF(Table1[[#This Row],[Non HZ Employee]]=Table1[[#This Row],[Max calc]],\"Non HZ Employee\", Table1[[#This Row],[Calc 2]]))","v":"#NA"}]
[32," ",32,{"$nulls":5},{"$f":"SUM(Table1[[#This Row],[Column4]]+Table1[[#This Row],[Column3]]+Table1[[#This Row],[Column2]]+Table1[[#This Row],[Column1]])","v":0},{"$nulls":5},{"$f":"SUM(Table1[[#This Row],[PO Employee]:[Other Employee]])","v":0},"N",{"$error":"#N/A"},{"$f":"IF(O49>39,Table1[[#This Row],[Calc 1]],IF(O49>1,\"Not counted as an Employee\",\"#NA\"))","v":"#NA"},{"$f":"MAX(Table1[[#This Row],[PO Employee]],Table1[[#This Row],[Other HZ Employee]],Table1[[#This Row],[Non HZ Employee]],Table1[[#This Row],[Job Site Employee]],Table1[[#This Row],[Other Employee]])","v":0},{"$f":"IF(Table1[[#This Row],[Total Hours per Month]]=Table1[[#This Row],[Column12]],\"Match\",\"Error\")","v":"Match"},{"$f":"IF(Table1[[#This Row],[Calc 2]]=\"#NA\",\"#NA\",IF(Table1[[#This Row],[Non HZ Employee]]=Table1[[#This Row],[Max calc]],\"Non HZ Employee\", Table1[[#This Row],[Calc 2]]))","v":"#NA"}]
[33," ",33,{"$nulls":5},{"$f":"SUM(Table1[[#This Row],[Column4]]+Table1[[#This Row],[Column3]]+Table1[[#This Row],[Column2]]+Table1[[#This Row],[Column1]])","v":0},{"$nulls":5},{"$f":"SUM(Table1[[#This Row],[PO Employee]:[Other Employee]])","v":0},"N",{"$error":"#N/A"},{"$f":"IF(O50>39,Table1[[#This Row],[Calc 1]],IF(O50>1,\"Not counted as an Employee\",\"#NA\"))","v":"#NA"},{"$f":"MAX(Table1[[#This Row],[PO Employee]],Table1[[#This Row],[Other HZ Employee]],Table1[[#This Row],[Non HZ Employee]],Table1[[#This Row],[Job Site Employee]],Table1[[#This Row],[Other Employee]])","v":0},{"$f":"IF(Table1[[#This Row],[Total Hours per Month]]=Table1[[#This Row],[Column12]],\"Match\",\"Error\")","v":"Match"},{"$f":"IF(Table1[[#This Row],[Calc 2]]=\"#NA\",\"#NA\",IF(Table1[[#This Row],[Non HZ Employee]]=Table1[[#This Row],[Max calc]],\"Non HZ Employee\", Table1[[#This Row],[Calc 2]]))","v":"#NA"}]
[34," ",34,{"$nulls":5},{"$f":"SUM(Table1[[#This Row],[Column4]]+Table1[[#This Row],[Column3]]+Table1[[#This Row],[Column2]]+Table1[[#This Row],[Column1]])","v":0},{"$nulls":5},{"$f":"SUM(Table1[[#This Row],[PO Employee]:[Other Employee]])","v":0},"N",{"$error":"#N/A"},{"$f":"IF(O51>39,Table1[[#This Row],[Calc 1]],IF(O51>1,\"Not counted as an Employee\",\"#NA\"))","v":"#NA"},{"$f":"MAX(Table1[[#This Row],[PO Employee]],Table1[[#This Row],[Other HZ Employee]],Table1[[#This Row],[Non HZ Employee]],Table1[[#This Row],[Job Site Employee]],Table1[[#This Row],[Other Employee]])","v":0},{"$f":"IF(Table1[[#This Row],[Total Hours per Month]]=Table1[[#This Row],[Column12]],\"Match\",\"Error\")","v":"Match"},{"$f":"IF(Table1[[#This Row],[Calc 2]]=\"#NA\",\"#NA\",IF(Table1[[#This Row],[Non HZ Employee]]=Table1[[#This Row],[Max calc]],\"Non HZ Employee\", Table1[[#This Row],[Calc 2]]))","v":"#NA"}]
[35," ",35,{"$nulls":5},{"$f":"SUM(Table1[[#This Row],[Column4]]+Table1[[#This Row],[Column3]]+Table1[[#This Row],[Column2]]+Table1[[#This Row],[Column1]])","v":0},{"$nulls":5},{"$f":"SUM(Table1[[#This Row],[PO Employee]:[Other Employee]])","v":0},"N",{"$error":"#N/A"},{"$f":"IF(O52>39,Table1[[#This Row],[Calc 1]],IF(O52>1,\"Not counted as an Employee\",\"#NA\"))","v":"#NA"},{"$f":"MAX(Table1[[#This Row],[PO Employee]],Table1[[#This Row],[Other HZ Employee]],Table1[[#This Row],[Non HZ Employee]],Table1[[#This Row],[Job Site Employee]],Table1[[#This Row],[Other Employee]])","v":0},{"$f":"IF(Table1[[#This Row],[Total Hours per Month]]=Table1[[#This Row],[Column12]],\"Match\",\"Error\")","v":"Match"},{"$f":"IF(Table1[[#This Row],[Calc 2]]=\"#NA\",\"#NA\",IF(Table1[[#This Row],[Non HZ Employee]]=Table1[[#This Row],[Max calc]],\"Non HZ Employee\", Table1[[#This Row],[Calc 2]]))","v":"#NA"}]
[36," ",36,{"$nulls":5},{"$f":"SUM(Table1[[#This Row],[Column4]]+Table1[[#This Row],[Column3]]+Table1[[#This Row],[Column2]]+Table1[[#This Row],[Column1]])","v":0},{"$nulls":5},{"$f":"SUM(Table1[[#This Row],[PO Employee]:[Other Employee]])","v":0},"N",{"$error":"#N/A"},{"$f":"IF(O53>39,Table1[[#This Row],[Calc 1]],IF(O53>1,\"Not counted as an Employee\",\"#NA\"))","v":"#NA"},{"$f":"MAX(Table1[[#This Row],[PO Employee]],Table1[[#This Row],[Other HZ Employee]],Table1[[#This Row],[Non HZ Employee]],Table1[[#This Row],[Job Site Employee]],Table1[[#This Row],[Other Employee]])","v":0},{"$f":"IF(Table1[[#This Row],[Total Hours per Month]]=Table1[[#This Row],[Column12]],\"Match\",\"Error\")","v":"Match"},{"$f":"IF(Table1[[#This Row],[Calc 2]]=\"#NA\",\"#NA\",IF(Table1[[#This Row],[Non HZ Employee]]=Table1[[#This Row],[Max calc]],\"Non HZ Employee\", Table1[[#This Row],[Calc 2]]))","v":"#NA"}]
[37," ",37,{"$nulls":5},{"$f":"SUM(Table1[[#This Row],[Column4]]+Table1[[#This Row],[Column3]]+Table1[[#This Row],[Column2]]+Table1[[#This Row],[Column1]])","v":0},{"$nulls":5},{"$f":"SUM(Table1[[#This Row],[PO Employee]:[Other Employee]])","v":0},"N",{"$error":"#N/A"},{"$f":"IF(O54>39,Table1[[#This Row],[Calc 1]],IF(O54>1,\"Not counted as an Employee\",\"#NA\"))","v":"#NA"},{"$f":"MAX(Table1[[#This Row],[PO Employee]],Table1[[#This Row],[Other HZ Employee]],Table1[[#This Row],[Non HZ Employee]],Table1[[#This Row],[Job Site Employee]],Table1[[#This Row],[Other Employee]])","v":0},{"$f":"IF(Table1[[#This Row],[Total Hours per Month]]=Table1[[#This Row],[Column12]],\"Match\",\"Error\")","v":"Match"},{"$f":"IF(Table1[[#This Row],[Calc 2]]=\"#NA\",\"#NA\",IF(Table1[[#This Row],[Non HZ Employee]]=Table1[[#This Row],[Max calc]],\"Non HZ Employee\", Table1[[#This Row],[Calc 2]]))","v":"#NA"}]
[38," ",38,{"$nulls":5},{"$f":"SUM(Table1[[#This Row],[Column4]]+Table1[[#This Row],[Column3]]+Table1[[#This Row],[Column2]]+Table1[[#This Row],[Column1]])","v":0},{"$nulls":5},{"$f":"SUM(Table1[[#This Row],[PO Employee]:[Other Employee]])","v":0},"N",{"$error":"#N/A"},{"$f":"IF(O55>39,Table1[[#This Row],[Calc 1]],IF(O55>1,\"Not counted as an Employee\",\"#NA\"))","v":"#NA"},{"$f":"MAX(Table1[[#This Row],[PO Employee]],Table1[[#This Row],[Other HZ Employee]],Table1[[#This Row],[Non HZ Employee]],Table1[[#This Row],[Job Site Employee]],Table1[[#This Row],[Other Employee]])","v":0},{"$f":"IF(Table1[[#This Row],[Total Hours per Month]]=Table1[[#This Row],[Column12]],\"Match\",\"Error\")","v":"Match"},{"$f":"IF(Table1[[#This Row],[Calc 2]]=\"#NA\",\"#NA\",IF(Table1[[#This Row],[Non HZ Employee]]=Table1[[#This Row],[Max calc]],\"Non HZ Employee\", Table1[[#This Row],[Calc 2]]))","v":"#NA"}]
[39," ",39,{"$nulls":5},{"$f":"SUM(Table1[[#This Row],[Column4]]+Table1[[#This Row],[Column3]]+Table1[[#This Row],[Column2]]+Table1[[#This Row],[Column1]])","v":0},{"$nulls":5},{"$f":"SUM(Table1[[#This Row],[PO Employee]:[Other Employee]])","v":0},"N",{"$error":"#N/A"},{"$f":"IF(O56>39,Table1[[#This Row],[Calc 1]],IF(O56>1,\"Not counted as an Employee\",\"#NA\"))","v":"#NA"},{"$f":"MAX(Table1[[#This Row],[PO Employee]],Table1[[#This Row],[Other HZ Employee]],Table1[[#This Row],[Non HZ Employee]],Table1[[#This Row],[Job Site Employee]],Table1[[#This Row],[Other Employee]])","v":0},{"$f":"IF(Table1[[#This Row],[Total Hours per Month]]=Table1[[#This Row],[Column12]],\"Match\",\"Error\")","v":"Match"},{"$f":"IF(Table1[[#This Row],[Calc 2]]=\"#NA\",\"#NA\",IF(Table1[[#This Row],[Non HZ Employee]]=Table1[[#This Row],[Max calc]],\"Non HZ Employee\", Table1[[#This Row],[Calc 2]]))","v":"#NA"}]
[40," ",40,{"$nulls":5},{"$f":"SUM(Table1[[#This Row],[Column4]]+Table1[[#This Row],[Column3]]+Table1[[#This Row],[Column2]]+Table1[[#This Row],[Column1]])","v":0},{"$nulls":5},{"$f":"SUM(Table1[[#This Row],[PO Employee]:[Other Employee]])","v":0},"N",{"$error":"#N/A"},{"$f":"IF(O57>39,Table1[[#This Row],[Calc 1]],IF(O57>1,\"Not counted as an Employee\",\"#NA\"))","v":"#NA"},{"$f":"MAX(Table1[[#This Row],[PO Employee]],Table1[[#This Row],[Other HZ Employee]],Table1[[#This Row],[Non HZ Employee]],Table1[[#This Row],[Job Site Employee]],Table1[[#This Row],[Other Employee]])","v":0},{"$f":"IF(Table1[[#This Row],[Total Hours per Month]]=Table1[[#This Row],[Column12]],\"Match\",\"Error\")","v":"Match"},{"$f":"IF(Table1[[#This Row],[Calc 2]]=\"#NA\",\"#NA\",IF(Table1[[#This Row],[Non HZ Employee]]=Table1[[#This Row],[Max calc]],\"Non HZ Employee\", Table1[[#This Row],[Calc 2]]))","v":"#NA"}]
[41," ",41,{"$nulls":5},{"$f":"SUM(Table1[[#This Row],[Column4]]+Table1[[#This Row],[Column3]]+Table1[[#This Row],[Column2]]+Table1[[#This Row],[Column1]])","v":0},{"$nulls":5},{"$f":"SUM(Table1[[#This Row],[PO Employee]:[Other Employee]])","v":0},"N",{"$error":"#N/A"},{"$f":"IF(O58>39,Table1[[#This Row],[Calc 1]],IF(O58>1,\"Not counted as an Employee\",\"#NA\"))","v":"#NA"},{"$f":"MAX(Table1[[#This Row],[PO Employee]],Table1[[#This Row],[Other HZ Employee]],Table1[[#This Row],[Non HZ Employee]],Table1[[#This Row],[Job Site Employee]],Table1[[#This Row],[Other Employee]])","v":0},{"$f":"IF(Table1[[#This Row],[Total Hours per Month]]=Table1[[#This Row],[Column12]],\"Match\",\"Error\")","v":"Match"},{"$f":"IF(Table1[[#This Row],[Calc 2]]=\"#NA\",\"#NA\",IF(Table1[[#This Row],[Non HZ Employee]]=Table1[[#This Row],[Max calc]],\"Non HZ Employee\", Table1[[#This Row],[Calc 2]]))","v":"#NA"}]
[42," ",42,{"$nulls":5},{"$f":"SUM(Table1[[#This Row],[Column4]]+Table1[[#This Row],[Column3]]+Table1[[#This Row],[Column2]]+Table1[[#This Row],[Column1]])","v":0},{"$nulls":5},{"$f":"SUM(Table1[[#This Row],[PO Employee]:[Other Employee]])","v":0},"N",{"$error":"#N/A"},{"$f":"IF(O59>39,Table1[[#This Row],[Calc 1]],IF(O59>1,\"Not counted as an Employee\",\"#NA\"))","v":"#NA"},{"$f":"MAX(Table1[[#This Row],[PO Employee]],Table1[[#This Row],[Other HZ Employee]],Table1[[#This Row],[Non HZ Employee]],Table1[[#This Row],[Job Site Employee]],Table1[[#This Row],[Other Employee]])","v":0},{"$f":"IF(Table1[[#This Row],[Total Hours per Month]]=Table1[[#This Row],[Column12]],\"Match\",\"Error\")","v":"Match"},{"$f":"IF(Table1[[#This Row],[Calc 2]]=\"#NA\",\"#NA\",IF(Table1[[#This Row],[Non HZ Employee]]=Table1[[#This Row],[Max calc]],\"Non HZ Employee\", Table1[[#This Row],[Calc 2]]))","v":"#NA"}]
[43," ",43,{"$nulls":5},{"$f":"SUM(Table1[[#This Row],[Column4]]+Table1[[#This Row],[Column3]]+Table1[[#This Row],[Column2]]+Table1[[#This Row],[Column1]])","v":0},{"$nulls":5},{"$f":"SUM(Table1[[#This Row],[PO Employee]:[Other Employee]])","v":0},"N",{"$error":"#N/A"},{"$f":"IF(O60>39,Table1[[#This Row],[Calc 1]],IF(O60>1,\"Not counted as an Employee\",\"#NA\"))","v":"#NA"},{"$f":"MAX(Table1[[#This Row],[PO Employee]],Table1[[#This Row],[Other HZ Employee]],Table1[[#This Row],[Non HZ Employee]],Table1[[#This Row],[Job Site Employee]],Table1[[#This Row],[Other Employee]])","v":0},{"$f":"IF(Table1[[#This Row],[Total Hours per Month]]=Table1[[#This Row],[Column12]],\"Match\",\"Error\")","v":"Match"},{"$f":"IF(Table1[[#This Row],[Calc 2]]=\"#NA\",\"#NA\",IF(Table1[[#This Row],[Non HZ Employee]]=Table1[[#This Row],[Max calc]],\"Non HZ Employee\", Table1[[#This Row],[Calc 2]]))","v":"#NA"}]
[44," ",44,{"$nulls":5},{"$f":"SUM(Table1[[#This Row],[Column4]]+Table1[[#This Row],[Column3]]+Table1[[#This Row],[Column2]]+Table1[[#This Row],[Column1]])","v":0},{"$nulls":5},{"$f":"SUM(Table1[[#This Row],[PO Employee]:[Other Employee]])","v":0},"N",{"$error":"#N/A"},{"$f":"IF(O61>39,Table1[[#This Row],[Calc 1]],IF(O61>1,\"Not counted as an Employee\",\"#NA\"))","v":"#NA"},{"$f":"MAX(Table1[[#This Row],[PO Employee]],Table1[[#This Row],[Other HZ Employee]],Table1[[#This Row],[Non HZ Employee]],Table1[[#This Row],[Job Site Employee]],Table1[[#This Row],[Other Employee]])","v":0},{"$f":"IF(Table1[[#This Row],[Total Hours per Month]]=Table1[[#This Row],[Column12]],\"Match\",\"Error\")","v":"Match"},{"$f":"IF(Table1[[#This Row],[Calc 2]]=\"#NA\",\"#NA\",IF(Table1[[#This Row],[Non HZ Employee]]=Table1[[#This Row],[Max calc]],\"Non HZ Employee\", Table1[[#This Row],[Calc 2]]))","v":"#NA"}]
[45," ",45,{"$nulls":5},{"$f":"SUM(Table1[[#This Row],[Column4]]+Table1[[#This Row],[Column3]]+Table1[[#This Row],[Column2]]+Table1[[#This Row],[Column1]])","v":0},{"$nulls":5},{"$f":"SUM(Table1[[#This Row],[PO Employee]:[Other Employee]])","v":0},"N",{"$error":"#N/A"},{"$f":"IF(O62>39,Table1[[#This Row],[Calc 1]],IF(O62>1,\"Not counted as an Employee\",\"#NA\"))","v":"#NA"},{"$f":"MAX(Table1[[#This Row],[PO Employee]],Table1[[#This Row],[Other HZ Employee]],Table1[[#This Row],[Non HZ Employee]],Table1[[#This Row],[Job Site Employee]],Table1[[#This Row],[Other Employee]])","v":0},{"$f":"IF(Table1[[#This Row],[Total Hours per Month]]=Table1[[#This Row],[Column12]],\"Match\",\"Error\")","v":"Match"},{"$f":"IF(Table1[[#This Row],[Calc 2]]=\"#NA\",\"#NA\",IF(Table1[[#This Row],[Non HZ Employee]]=Table1[[#This Row],[Max calc]],\"Non HZ Employee\", Table1[[#This Row],[Calc 2]]))","v":"#NA"}]
[46," ",46,{"$nulls":5},{"$f":"SUM(Table1[[#This Row],[Column4]]+Table1[[#This Row],[Column3]]+Table1[[#This Row],[Column2]]+Table1[[#This Row],[Column1]])","v":0},{"$nulls":5},{"$f":"SUM(Table1[[#This Row],[PO Employee]:[Other Employee]])","v":0},"N",{"$error":"#N/A"},{"$f":"IF(O63>39,Table1[[#This Row],[Calc 1]],IF(O63>1,\"Not counted as an Employee\",\"#NA\"))","v":"#NA"},{"$f":"MAX(Table1[[#This Row],[PO Employee]],Table1[[#This Row],[Other HZ Employee]],Table1[[#This Row],[Non HZ Employee]],Table1[[#This Row],[Job Site Employee]],Table1[[#This Row],[Other Employee]])","v":0},{"$f":"IF(Table1[[#This Row],[Total Hours per Month]]=Table1[[#This Row],[Column12]],\"Match\",\"Error\")","v":"Match"},{"$f":"IF(Table1[[#This Row],[Calc 2]]=\"#NA\",\"#NA\",IF(Table1[[#This Row],[Non HZ Employee]]=Table1[[#This Row],[Max calc]],\"Non HZ Employee\", Table1[[#This Row],[Calc 2]]))","v":"#NA"}]
[47," ",47,{"$nulls":5},{"$f":"SUM(Table1[[#This Row],[Column4]]+Table1[[#This Row],[Column3]]+Table1[[#This Row],[Column2]]+Table1[[#This Row],[Column1]])","v":0},{"$nulls":5},{"$f":"SUM(Table1[[#This Row],[PO Employee]:[Other Employee]])","v":0},"N",{"$error":"#N/A"},{"$f":"IF(O64>39,Table1[[#This Row],[Calc 1]],IF(O64>1,\"Not counted as an Employee\",\"#NA\"))","v":"#NA"},{"$f":"MAX(Table1[[#This Row],[PO Employee]],Table1[[#This Row],[Other HZ Employee]],Table1[[#This Row],[Non HZ Employee]],Table1[[#This Row],[Job Site Employee]],Table1[[#This Row],[Other Employee]])","v":0},{"$f":"IF(Table1[[#This Row],[Total Hours per Month]]=Table1[[#This Row],[Column12]],\"Match\",\"Error\")","v":"Match"},{"$f":"IF(Table1[[#This Row],[Calc 2]]=\"#NA\",\"#NA\",IF(Table1[[#This Row],[Non HZ Employee]]=Table1[[#This Row],[Max calc]],\"Non HZ Employee\", Table1[[#This Row],[Calc 2]]))","v":"#NA"}]
[48," ",48,{"$nulls":5},{"$f":"SUM(Table1[[#This Row],[Column4]]+Table1[[#This Row],[Column3]]+Table1[[#This Row],[Column2]]+Table1[[#This Row],[Column1]])","v":0},{"$nulls":5},{"$f":"SUM(Table1[[#This Row],[PO Employee]:[Other Employee]])","v":0},"N",{"$error":"#N/A"},{"$f":"IF(O65>39,Table1[[#This Row],[Calc 1]],IF(O65>1,\"Not counted as an Employee\",\"#NA\"))","v":"#NA"},{"$f":"MAX(Table1[[#This Row],[PO Employee]],Table1[[#This Row],[Other HZ Employee]],Table1[[#This Row],[Non HZ Employee]],Table1[[#This Row],[Job Site Employee]],Table1[[#This Row],[Other Employee]])","v":0},{"$f":"IF(Table1[[#This Row],[Total Hours per Month]]=Table1[[#This Row],[Column12]],\"Match\",\"Error\")","v":"Match"},{"$f":"IF(Table1[[#This Row],[Calc 2]]=\"#NA\",\"#NA\",IF(Table1[[#This Row],[Non HZ Employee]]=Table1[[#This Row],[Max calc]],\"Non HZ Employee\", Table1[[#This Row],[Calc 2]]))","v":"#NA"}]
[49," ",49,{"$nulls":5},{"$f":"SUM(Table1[[#This Row],[Column4]]+Table1[[#This Row],[Column3]]+Table1[[#This Row],[Column2]]+Table1[[#This Row],[Column1]])","v":0},{"$nulls":5},{"$f":"SUM(Table1[[#This Row],[PO Employee]:[Other Employee]])","v":0},"N",{"$error":"#N/A"},{"$f":"IF(O66>39,Table1[[#This Row],[Calc 1]],IF(O66>1,\"Not counted as an Employee\",\"#NA\"))","v":"#NA"},{"$f":"MAX(Table1[[#This Row],[PO Employee]],Table1[[#This Row],[Other HZ Employee]],Table1[[#This Row],[Non HZ Employee]],Table1[[#This Row],[Job Site Employee]],Table1[[#This Row],[Other Employee]])","v":0},{"$f":"IF(Table1[[#This Row],[Total Hours per Month]]=Table1[[#This Row],[Column12]],\"Match\",\"Error\")","v":"Match"},{"$f":"IF(Table1[[#This Row],[Calc 2]]=\"#NA\",\"#NA\",IF(Table1[[#This Row],[Non HZ Employee]]=Table1[[#This Row],[Max calc]],\"Non HZ Employee\", Table1[[#This Row],[Calc 2]]))","v":"#NA"}]
[50," ",50,{"$nulls":5},{"$f":"SUM(Table1[[#This Row],[Column4]]+Table1[[#This Row],[Column3]]+Table1[[#This Row],[Column2]]+Table1[[#This Row],[Column1]])","v":0},{"$nulls":5},{"$f":"SUM(Table1[[#This Row],[PO Employee]:[Other Employee]])","v":0},"N",{"$error":"#N/A"},{"$f":"IF(O67>39,Table1[[#This Row],[Calc 1]],IF(O67>1,\"Not counted as an Employee\",\"#NA\"))","v":"#NA"},{"$f":"MAX(Table1[[#This Row],[PO Employee]],Table1[[#This Row],[Other HZ Employee]],Table1[[#This Row],[Non HZ Employee]],Table1[[#This Row],[Job Site Employee]],Table1[[#This Row],[Other Employee]])","v":0},{"$f":"IF(Table1[[#This Row],[Total Hours per Month]]=Table1[[#This Row],[Column12]],\"Match\",\"Error\")","v":"Match"},{"$f":"IF(Table1[[#This Row],[Calc 2]]=\"#NA\",\"#NA\",IF(Table1[[#This Row],[Non HZ Employee]]=Table1[[#This Row],[Max calc]],\"Non HZ Employee\", Table1[[#This Row],[Calc 2]]))","v":"#NA"}]
[51," ",51,{"$nulls":5},{"$f":"SUM(Table1[[#This Row],[Column4]]+Table1[[#This Row],[Column3]]+Table1[[#This Row],[Column2]]+Table1[[#This Row],[Column1]])","v":0},{"$nulls":5},{"$f":"SUM(Table1[[#This Row],[PO Employee]:[Other Employee]])","v":0},"N",{"$error":"#N/A"},{"$f":"IF(O68>39,Table1[[#This Row],[Calc 1]],IF(O68>1,\"Not counted as an Employee\",\"#NA\"))","v":"#NA"},{"$f":"MAX(Table1[[#This Row],[PO Employee]],Table1[[#This Row],[Other HZ Employee]],Table1[[#This Row],[Non HZ Employee]],Table1[[#This Row],[Job Site Employee]],Table1[[#This Row],[Other Employee]])","v":0},{"$f":"IF(Table1[[#This Row],[Total Hours per Month]]=Table1[[#This Row],[Column12]],\"Match\",\"Error\")","v":"Match"},{"$f":"IF(Table1[[#This Row],[Calc 2]]=\"#NA\",\"#NA\",IF(Table1[[#This Row],[Non HZ Employee]]=Table1[[#This Row],[Max calc]],\"Non HZ Employee\", Table1[[#This Row],[Calc 2]]))","v":"#NA"}]
[52," ",52,{"$nulls":5},{"$f":"SUM(Table1[[#This Row],[Column4]]+Table1[[#This Row],[Column3]]+Table1[[#This Row],[Column2]]+Table1[[#This Row],[Column1]])","v":0},{"$nulls":5},{"$f":"SUM(Table1[[#This Row],[PO Employee]:[Other Employee]])","v":0},"N",{"$error":"#N/A"},{"$f":"IF(O69>39,Table1[[#This Row],[Calc 1]],IF(O69>1,\"Not counted as an Employee\",\"#NA\"))","v":"#NA"},{"$f":"MAX(Table1[[#This Row],[PO Employee]],Table1[[#This Row],[Other HZ Employee]],Table1[[#This Row],[Non HZ Employee]],Table1[[#This Row],[Job Site Employee]],Table1[[#This Row],[Other Employee]])","v":0},{"$f":"IF(Table1[[#This Row],[Total Hours per Month]]=Table1[[#This Row],[Column12]],\"Match\",\"Error\")","v":"Match"},{"$f":"IF(Table1[[#This Row],[Calc 2]]=\"#NA\",\"#NA\",IF(Table1[[#This Row],[Non HZ Employee]]=Table1[[#This Row],[Max calc]],\"Non HZ Employee\", Table1[[#This Row],[Calc 2]]))","v":"#NA"}]
[53," ",53,{"$nulls":5},{"$f":"SUM(Table1[[#This Row],[Column4]]+Table1[[#This Row],[Column3]]+Table1[[#This Row],[Column2]]+Table1[[#This Row],[Column1]])","v":0},{"$nulls":5},{"$f":"SUM(Table1[[#This Row],[PO Employee]:[Other Employee]])","v":0},"N",{"$error":"#N/A"},{"$f":"IF(O70>39,Table1[[#This Row],[Calc 1]],IF(O70>1,\"Not counted as an Employee\",\"#NA\"))","v":"#NA"},{"$f":"MAX(Table1[[#This Row],[PO Employee]],Table1[[#This Row],[Other HZ Employee]],Table1[[#This Row],[Non HZ Employee]],Table1[[#This Row],[Job Site Employee]],Table1[[#This Row],[Other Employee]])","v":0},{"$f":"IF(Table1[[#This Row],[Total Hours per Month]]=Table1[[#This Row],[Column12]],\"Match\",\"Error\")","v":"Match"},{"$f":"IF(Table1[[#This Row],[Calc 2]]=\"#NA\",\"#NA\",IF(Table1[[#This Row],[Non HZ Employee]]=Table1[[#This Row],[Max calc]],\"Non HZ Employee\", Table1[[#This Row],[Calc 2]]))","v":"#NA"}]
[54," ",54,{"$nulls":5},{"$f":"SUM(Table1[[#This Row],[Column4]]+Table1[[#This Row],[Column3]]+Table1[[#This Row],[Column2]]+Table1[[#This Row],[Column1]])","v":0},{"$nulls":5},{"$f":"SUM(Table1[[#This Row],[PO Employee]:[Other Employee]])","v":0},"N",{"$error":"#N/A"},{"$f":"IF(O71>39,Table1[[#This Row],[Calc 1]],IF(O71>1,\"Not counted as an Employee\",\"#NA\"))","v":"#NA"},{"$f":"MAX(Table1[[#This Row],[PO Employee]],Table1[[#This Row],[Other HZ Employee]],Table1[[#This Row],[Non HZ Employee]],Table1[[#This Row],[Job Site Employee]],Table1[[#This Row],[Other Employee]])","v":0},{"$f":"IF(Table1[[#This Row],[Total Hours per Month]]=Table1[[#This Row],[Column12]],\"Match\",\"Error\")","v":"Match"},{"$f":"IF(Table1[[#This Row],[Calc 2]]=\"#NA\",\"#NA\",IF(Table1[[#This Row],[Non HZ Employee]]=Table1[[#This Row],[Max calc]],\"Non HZ Employee\", Table1[[#This Row],[Calc 2]]))","v":"#NA"}]
[55," ",55,{"$nulls":5},{"$f":"SUM(Table1[[#This Row],[Column4]]+Table1[[#This Row],[Column3]]+Table1[[#This Row],[Column2]]+Table1[[#This Row],[Column1]])","v":0},{"$nulls":5},{"$f":"SUM(Table1[[#This Row],[PO Employee]:[Other Employee]])","v":0},"N",{"$error":"#N/A"},{"$f":"IF(O72>39,Table1[[#This Row],[Calc 1]],IF(O72>1,\"Not counted as an Employee\",\"#NA\"))","v":"#NA"},{"$f":"MAX(Table1[[#This Row],[PO Employee]],Table1[[#This Row],[Other HZ Employee]],Table1[[#This Row],[Non HZ Employee]],Table1[[#This Row],[Job Site Employee]],Table1[[#This Row],[Other Employee]])","v":0},{"$f":"IF(Table1[[#This Row],[Total Hours per Month]]=Table1[[#This Row],[Column12]],\"Match\",\"Error\")","v":"Match"},{"$f":"IF(Table1[[#This Row],[Calc 2]]=\"#NA\",\"#NA\",IF(Table1[[#This Row],[Non HZ Employee]]=Table1[[#This Row],[Max calc]],\"Non HZ Employee\", Table1[[#This Row],[Calc 2]]))","v":"#NA"}]
[56," ",56,{"$nulls":5},{"$f":"SUM(Table1[[#This Row],[Column4]]+Table1[[#This Row],[Column3]]+Table1[[#This Row],[Column2]]+Table1[[#This Row],[Column1]])","v":0},{"$nulls":5},{"$f":"SUM(Table1[[#This Row],[PO Employee]:[Other Employee]])","v":0},"N",{"$error":"#N/A"},{"$f":"IF(O73>39,Table1[[#This Row],[Calc 1]],IF(O73>1,\"Not counted as an Employee\",\"#NA\"))","v":"#NA"},{"$f":"MAX(Table1[[#This Row],[PO Employee]],Table1[[#This Row],[Other HZ Employee]],Table1[[#This Row],[Non HZ Employee]],Table1[[#This Row],[Job Site Employee]],Table1[[#This Row],[Other Employee]])","v":0},{"$f":"IF(Table1[[#This Row],[Total Hours per Month]]=Table1[[#This Row],[Column12]],\"Match\",\"Error\")","v":"Match"},{"$f":"IF(Table1[[#This Row],[Calc 2]]=\"#NA\",\"#NA\",IF(Table1[[#This Row],[Non HZ Employee]]=Table1[[#This Row],[Max calc]],\"Non HZ Employee\", Table1[[#This Row],[Calc 2]]))","v":"#NA"}]
[57," ",57,{"$nulls":5},{"$f":"SUM(Table1[[#This Row],[Column4]]+Table1[[#This Row],[Column3]]+Table1[[#This Row],[Column2]]+Table1[[#This Row],[Column1]])","v":0},{"$nulls":5},{"$f":"SUM(Table1[[#This Row],[PO Employee]:[Other Employee]])","v":0},"N",{"$error":"#N/A"},{"$f":"IF(O74>39,Table1[[#This Row],[Calc 1]],IF(O74>1,\"Not counted as an Employee\",\"#NA\"))","v":"#NA"},{"$f":"MAX(Table1[[#This Row],[PO Employee]],Table1[[#This Row],[Other HZ Employee]],Table1[[#This Row],[Non HZ Employee]],Table1[[#This Row],[Job Site Employee]],Table1[[#This Row],[Other Employee]])","v":0},{"$f":"IF(Table1[[#This Row],[Total Hours per Month]]=Table1[[#This Row],[Column12]],\"Match\",\"Error\")","v":"Match"},{"$f":"IF(Table1[[#This Row],[Calc 2]]=\"#NA\",\"#NA\",IF(Table1[[#This Row],[Non HZ Employee]]=Table1[[#This Row],[Max calc]],\"Non HZ Employee\", Table1[[#This Row],[Calc 2]]))","v":"#NA"}]
[58," ",58,{"$nulls":5},{"$f":"SUM(Table1[[#This Row],[Column4]]+Table1[[#This Row],[Column3]]+Table1[[#This Row],[Column2]]+Table1[[#This Row],[Column1]])","v":0},{"$nulls":5},{"$f":"SUM(Table1[[#This Row],[PO Employee]:[Other Employee]])","v":0},"N",{"$error":"#N/A"},{"$f":"IF(O75>39,Table1[[#This Row],[Calc 1]],IF(O75>1,\"Not counted as an Employee\",\"#NA\"))","v":"#NA"},{"$f":"MAX(Table1[[#This Row],[PO Employee]],Table1[[#This Row],[Other HZ Employee]],Table1[[#This Row],[Non HZ Employee]],Table1[[#This Row],[Job Site Employee]],Table1[[#This Row],[Other Employee]])","v":0},{"$f":"IF(Table1[[#This Row],[Total Hours per Month]]=Table1[[#This Row],[Column12]],\"Match\",\"Error\")","v":"Match"},{"$f":"IF(Table1[[#This Row],[Calc 2]]=\"#NA\",\"#NA\",IF(Table1[[#This Row],[Non HZ Employee]]=Table1[[#This Row],[Max calc]],\"Non HZ Employee\", Table1[[#This Row],[Calc 2]]))","v":"#NA"}]
[59," ",59,{"$nulls":5},{"$f":"SUM(Table1[[#This Row],[Column4]]+Table1[[#This Row],[Column3]]+Table1[[#This Row],[Column2]]+Table1[[#This Row],[Column1]])","v":0},{"$nulls":5},{"$f":"SUM(Table1[[#This Row],[PO Employee]:[Other Employee]])","v":0},"N",{"$error":"#N/A"},{"$f":"IF(O76>39,Table1[[#This Row],[Calc 1]],IF(O76>1,\"Not counted as an Employee\",\"#NA\"))","v":"#NA"},{"$f":"MAX(Table1[[#This Row],[PO Employee]],Table1[[#This Row],[Other HZ Employee]],Table1[[#This Row],[Non HZ Employee]],Table1[[#This Row],[Job Site Employee]],Table1[[#This Row],[Other Employee]])","v":0},{"$f":"IF(Table1[[#This Row],[Total Hours per Month]]=Table1[[#This Row],[Column12]],\"Match\",\"Error\")","v":"Match"},{"$f":"IF(Table1[[#This Row],[Calc 2]]=\"#NA\",\"#NA\",IF(Table1[[#This Row],[Non HZ Employee]]=Table1[[#This Row],[Max calc]],\"Non HZ Employee\", Table1[[#This Row],[Calc 2]]))","v":"#NA"}]
[60," ",60,{"$nulls":5},{"$f":"SUM(Table1[[#This Row],[Column4]]+Table1[[#This Row],[Column3]]+Table1[[#This Row],[Column2]]+Table1[[#This Row],[Column1]])","v":0},{"$nulls":5},{"$f":"SUM(Table1[[#This Row],[PO Employee]:[Other Employee]])","v":0},"N",{"$error":"#N/A"},{"$f":"IF(O77>39,Table1[[#This Row],[Calc 1]],IF(O77>1,\"Not counted as an Employee\",\"#NA\"))","v":"#NA"},{"$f":"MAX(Table1[[#This Row],[PO Employee]],Table1[[#This Row],[Other HZ Employee]],Table1[[#This Row],[Non HZ Employee]],Table1[[#This Row],[Job Site Employee]],Table1[[#This Row],[Other Employee]])","v":0},{"$f":"IF(Table1[[#This Row],[Total Hours per Month]]=Table1[[#This Row],[Column12]],\"Match\",\"Error\")","v":"Match"},{"$f":"IF(Table1[[#This Row],[Calc 2]]=\"#NA\",\"#NA\",IF(Table1[[#This Row],[Non HZ Employee]]=Table1[[#This Row],[Max calc]],\"Non HZ Employee\", Table1[[#This Row],[Calc 2]]))","v":"#NA"}]
[61," ",61,{"$nulls":5},{"$f":"SUM(Table1[[#This Row],[Column4]]+Table1[[#This Row],[Column3]]+Table1[[#This Row],[Column2]]+Table1[[#This Row],[Column1]])","v":0},{"$nulls":5},{"$f":"SUM(Table1[[#This Row],[PO Employee]:[Other Employee]])","v":0},"N",{"$error":"#N/A"},{"$f":"IF(O78>39,Table1[[#This Row],[Calc 1]],IF(O78>1,\"Not counted as an Employee\",\"#NA\"))","v":"#NA"},{"$f":"MAX(Table1[[#This Row],[PO Employee]],Table1[[#This Row],[Other HZ Employee]],Table1[[#This Row],[Non HZ Employee]],Table1[[#This Row],[Job Site Employee]],Table1[[#This Row],[Other Employee]])","v":0},{"$f":"IF(Table1[[#This Row],[Total Hours per Month]]=Table1[[#This Row],[Column12]],\"Match\",\"Error\")","v":"Match"},{"$f":"IF(Table1[[#This Row],[Calc 2]]=\"#NA\",\"#NA\",IF(Table1[[#This Row],[Non HZ Employee]]=Table1[[#This Row],[Max calc]],\"Non HZ Employee\", Table1[[#This Row],[Calc 2]]))","v":"#NA"}]
[62," ",62,{"$nulls":5},{"$f":"SUM(Table1[[#This Row],[Column4]]+Table1[[#This Row],[Column3]]+Table1[[#This Row],[Column2]]+Table1[[#This Row],[Column1]])","v":0},{"$nulls":5},{"$f":"SUM(Table1[[#This Row],[PO Employee]:[Other Employee]])","v":0},"N",{"$error":"#N/A"},{"$f":"IF(O79>39,Table1[[#This Row],[Calc 1]],IF(O79>1,\"Not counted as an Employee\",\"#NA\"))","v":"#NA"},{"$f":"MAX(Table1[[#This Row],[PO Employee]],Table1[[#This Row],[Other HZ Employee]],Table1[[#This Row],[Non HZ Employee]],Table1[[#This Row],[Job Site Employee]],Table1[[#This Row],[Other Employee]])","v":0},{"$f":"IF(Table1[[#This Row],[Total Hours per Month]]=Table1[[#This Row],[Column12]],\"Match\",\"Error\")","v":"Match"},{"$f":"IF(Table1[[#This Row],[Calc 2]]=\"#NA\",\"#NA\",IF(Table1[[#This Row],[Non HZ Employee]]=Table1[[#This Row],[Max calc]],\"Non HZ Employee\", Table1[[#This Row],[Calc 2]]))","v":"#NA"}]
[63," ",63,{"$nulls":5},{"$f":"SUM(Table1[[#This Row],[Column4]]+Table1[[#This Row],[Column3]]+Table1[[#This Row],[Column2]]+Table1[[#This Row],[Column1]])","v":0},{"$nulls":5},{"$f":"SUM(Table1[[#This Row],[PO Employee]:[Other Employee]])","v":0},"N",{"$error":"#N/A"},{"$f":"IF(O80>39,Table1[[#This Row],[Calc 1]],IF(O80>1,\"Not counted as an Employee\",\"#NA\"))","v":"#NA"},{"$f":"MAX(Table1[[#This Row],[PO Employee]],Table1[[#This Row],[Other HZ Employee]],Table1[[#This Row],[Non HZ Employee]],Table1[[#This Row],[Job Site Employee]],Table1[[#This Row],[Other Employee]])","v":0},{"$f":"IF(Table1[[#This Row],[Total Hours per Month]]=Table1[[#This Row],[Column12]],\"Match\",\"Error\")","v":"Match"},{"$f":"IF(Table1[[#This Row],[Calc 2]]=\"#NA\",\"#NA\",IF(Table1[[#This Row],[Non HZ Employee]]=Table1[[#This Row],[Max calc]],\"Non HZ Employee\", Table1[[#This Row],[Calc 2]]))","v":"#NA"}]
[64," ",64,{"$nulls":5},{"$f":"SUM(Table1[[#This Row],[Column4]]+Table1[[#This Row],[Column3]]+Table1[[#This Row],[Column2]]+Table1[[#This Row],[Column1]])","v":0},{"$nulls":5},{"$f":"SUM(Table1[[#This Row],[PO Employee]:[Other Employee]])","v":0},"N",{"$error":"#N/A"},{"$f":"IF(O81>39,Table1[[#This Row],[Calc 1]],IF(O81>1,\"Not counted as an Employee\",\"#NA\"))","v":"#NA"},{"$f":"MAX(Table1[[#This Row],[PO Employee]],Table1[[#This Row],[Other HZ Employee]],Table1[[#This Row],[Non HZ Employee]],Table1[[#This Row],[Job Site Employee]],Table1[[#This Row],[Other Employee]])","v":0},{"$f":"IF(Table1[[#This Row],[Total Hours per Month]]=Table1[[#This Row],[Column12]],\"Match\",\"Error\")","v":"Match"},{"$f":"IF(Table1[[#This Row],[Calc 2]]=\"#NA\",\"#NA\",IF(Table1[[#This Row],[Non HZ Employee]]=Table1[[#This Row],[Max calc]],\"Non HZ Employee\", Table1[[#This Row],[Calc 2]]))","v":"#NA"}]
[65," ",65,{"$nulls":5},{"$f":"SUM(Table1[[#This Row],[Column4]]+Table1[[#This Row],[Column3]]+Table1[[#This Row],[Column2]]+Table1[[#This Row],[Column1]])","v":0},{"$nulls":5},{"$f":"SUM(Table1[[#This Row],[PO Employee]:[Other Employee]])","v":0},"N",{"$f":"INDEX($J$17:$N$17,MATCH(MAX(J82:N82),J82:N82,0))","v":{"$error":"#N/A"}},{"$f":"IF(O82>39,Table1[[#This Row],[Calc 1]],IF(O82>1,\"Not counted as an Employee\",\"#NA\"))","v":"#NA"},{"$f":"MAX(Table1[[#This Row],[PO Employee]],Table1[[#This Row],[Other HZ Employee]],Table1[[#This Row],[Non HZ Employee]],Table1[[#This Row],[Job Site Employee]],Table1[[#This Row],[Other Employee]])","v":0},{"$f":"IF(Table1[[#This Row],[Total Hours per Month]]=Table1[[#This Row],[Column12]],\"Match\",\"Error\")","v":"Match"},{"$f":"IF(Table1[[#This Row],[Calc 2]]=\"#NA\",\"#NA\",IF(Table1[[#This Row],[Non HZ Employee]]=Table1[[#This Row],[Max calc]],\"Non HZ Employee\", Table1[[#This Row],[Calc 2]]))","v":"#NA"}]
[66," ",66,{"$nulls":5},{"$f":"SUM(Table1[[#This Row],[Column4]]+Table1[[#This Row],[Column3]]+Table1[[#This Row],[Column2]]+Table1[[#This Row],[Column1]])","v":0},{"$nulls":5},{"$f":"SUM(Table1[[#This Row],[PO Employee]:[Other Employee]])","v":0},{"$f":"IF(O83>=40,\"Y\",\"N\")","v":"N"},{"$error":"#N/A"},{"$f":"IF(O83>39,Table1[[#This Row],[Calc 1]],IF(O83>1,\"Not counted as an Employee\",\"#NA\"))","v":"#NA"},{"$f":"MAX(Table1[[#This Row],[PO Employee]],Table1[[#This Row],[Other HZ Employee]],Table1[[#This Row],[Non HZ Employee]],Table1[[#This Row],[Job Site Employee]],Table1[[#This Row],[Other Employee]])","v":0},{"$f":"IF(Table1[[#This Row],[Total Hours per Month]]=Table1[[#This Row],[Column12]],\"Match\",\"Error\")","v":"Match"},{"$f":"IF(Table1[[#This Row],[Calc 2]]=\"#NA\",\"#NA\",IF(Table1[[#This Row],[Non HZ Employee]]=Table1[[#This Row],[Max calc]],\"Non HZ Employee\", Table1[[#This Row],[Calc 2]]))","v":"#NA"}]
[67," ",67,{"$nulls":5},{"$f":"SUM(Table1[[#This Row],[Column4]]+Table1[[#This Row],[Column3]]+Table1[[#This Row],[Column2]]+Table1[[#This Row],[Column1]])","v":0},{"$nulls":5},{"$f":"SUM(Table1[[#This Row],[PO Employee]:[Other Employee]])","v":0},"N",{"$error":"#N/A"},{"$f":"IF(O84>39,Table1[[#This Row],[Calc 1]],IF(O84>1,\"Not counted as an Employee\",\"#NA\"))","v":"#NA"},{"$f":"MAX(Table1[[#This Row],[PO Employee]],Table1[[#This Row],[Other HZ Employee]],Table1[[#This Row],[Non HZ Employee]],Table1[[#This Row],[Job Site Employee]],Table1[[#This Row],[Other Employee]])","v":0},{"$f":"IF(Table1[[#This Row],[Total Hours per Month]]=Table1[[#This Row],[Column12]],\"Match\",\"Error\")","v":"Match"},{"$f":"IF(Table1[[#This Row],[Calc 2]]=\"#NA\",\"#NA\",IF(Table1[[#This Row],[Non HZ Employee]]=Table1[[#This Row],[Max calc]],\"Non HZ Employee\", Table1[[#This Row],[Calc 2]]))","v":"#NA"}]
[68," ",68,{"$nulls":5},{"$f":"SUM(Table1[[#This Row],[Column4]]+Table1[[#This Row],[Column3]]+Table1[[#This Row],[Column2]]+Table1[[#This Row],[Column1]])","v":0},{"$nulls":5},{"$f":"SUM(Table1[[#This Row],[PO Employee]:[Other Employee]])","v":0},"N",{"$error":"#N/A"},{"$f":"IF(O85>39,Table1[[#This Row],[Calc 1]],IF(O85>1,\"Not counted as an Employee\",\"#NA\"))","v":"#NA"},{"$f":"MAX(Table1[[#This Row],[PO Employee]],Table1[[#This Row],[Other HZ Employee]],Table1[[#This Row],[Non HZ Employee]],Table1[[#This Row],[Job Site Employee]],Table1[[#This Row],[Other Employee]])","v":0},{"$f":"IF(Table1[[#This Row],[Total Hours per Month]]=Table1[[#This Row],[Column12]],\"Match\",\"Error\")","v":"Match"},{"$f":"IF(Table1[[#This Row],[Calc 2]]=\"#NA\",\"#NA\",IF(Table1[[#This Row],[Non HZ Employee]]=Table1[[#This Row],[Max calc]],\"Non HZ Employee\", Table1[[#This Row],[Calc 2]]))","v":"#NA"}]
[69," ",69,{"$nulls":5},{"$f":"SUM(Table1[[#This Row],[Column4]]+Table1[[#This Row],[Column3]]+Table1[[#This Row],[Column2]]+Table1[[#This Row],[Column1]])","v":0},{"$nulls":5},{"$f":"SUM(Table1[[#This Row],[PO Employee]:[Other Employee]])","v":0},"N",{"$error":"#N/A"},{"$f":"IF(O86>39,Table1[[#This Row],[Calc 1]],IF(O86>1,\"Not counted as an Employee\",\"#NA\"))","v":"#NA"},{"$f":"MAX(Table1[[#This Row],[PO Employee]],Table1[[#This Row],[Other HZ Employee]],Table1[[#This Row],[Non HZ Employee]],Table1[[#This Row],[Job Site Employee]],Table1[[#This Row],[Other Employee]])","v":0},{"$f":"IF(Table1[[#This Row],[Total Hours per Month]]=Table1[[#This Row],[Column12]],\"Match\",\"Error\")","v":"Match"},{"$f":"IF(Table1[[#This Row],[Calc 2]]=\"#NA\",\"#NA\",IF(Table1[[#This Row],[Non HZ Employee]]=Table1[[#This Row],[Max calc]],\"Non HZ Employee\", Table1[[#This Row],[Calc 2]]))","v":"#NA"}]
[70," ",70,{"$nulls":5},{"$f":"SUM(Table1[[#This Row],[Column4]]+Table1[[#This Row],[Column3]]+Table1[[#This Row],[Column2]]+Table1[[#This Row],[Column1]])","v":0},{"$nulls":5},{"$f":"SUM(Table1[[#This Row],[PO Employee]:[Other Employee]])","v":0},"N",{"$error":"#N/A"},{"$f":"IF(O87>39,Table1[[#This Row],[Calc 1]],IF(O87>1,\"Not counted as an Employee\",\"#NA\"))","v":"#NA"},{"$f":"MAX(Table1[[#This Row],[PO Employee]],Table1[[#This Row],[Other HZ Employee]],Table1[[#This Row],[Non HZ Employee]],Table1[[#This Row],[Job Site Employee]],Table1[[#This Row],[Other Employee]])","v":0},{"$f":"IF(Table1[[#This Row],[Total Hours per Month]]=Table1[[#This Row],[Column12]],\"Match\",\"Error\")","v":"Match"},{"$f":"IF(Table1[[#This Row],[Calc 2]]=\"#NA\",\"#NA\",IF(Table1[[#This Row],[Non HZ Employee]]=Table1[[#This Row],[Max calc]],\"Non HZ Employee\", Table1[[#This Row],[Calc 2]]))","v":"#NA"}]
[71," ",71,{"$nulls":5},{"$f":"SUM(Table1[[#This Row],[Column4]]+Table1[[#This Row],[Column3]]+Table1[[#This Row],[Column2]]+Table1[[#This Row],[Column1]])","v":0},{"$nulls":5},{"$f":"SUM(Table1[[#This Row],[PO Employee]:[Other Employee]])","v":0},"N",{"$error":"#N/A"},{"$f":"IF(O88>39,Table1[[#This Row],[Calc 1]],IF(O88>1,\"Not counted as an Employee\",\"#NA\"))","v":"#NA"},{"$f":"MAX(Table1[[#This Row],[PO Employee]],Table1[[#This Row],[Other HZ Employee]],Table1[[#This Row],[Non HZ Employee]],Table1[[#This Row],[Job Site Employee]],Table1[[#This Row],[Other Employee]])","v":0},{"$f":"IF(Table1[[#This Row],[Total Hours per Month]]=Table1[[#This Row],[Column12]],\"Match\",\"Error\")","v":"Match"},{"$f":"IF(Table1[[#This Row],[Calc 2]]=\"#NA\",\"#NA\",IF(Table1[[#This Row],[Non HZ Employee]]=Table1[[#This Row],[Max calc]],\"Non HZ Employee\", Table1[[#This Row],[Calc 2]]))","v":"#NA"}]
[72," ",72,{"$nulls":5},{"$f":"SUM(Table1[[#This Row],[Column4]]+Table1[[#This Row],[Column3]]+Table1[[#This Row],[Column2]]+Table1[[#This Row],[Column1]])","v":0},{"$nulls":5},{"$f":"SUM(Table1[[#This Row],[PO Employee]:[Other Employee]])","v":0},"N",{"$error":"#N/A"},{"$f":"IF(O89>39,Table1[[#This Row],[Calc 1]],IF(O89>1,\"Not counted as an Employee\",\"#NA\"))","v":"#NA"},{"$f":"MAX(Table1[[#This Row],[PO Employee]],Table1[[#This Row],[Other HZ Employee]],Table1[[#This Row],[Non HZ Employee]],Table1[[#This Row],[Job Site Employee]],Table1[[#This Row],[Other Employee]])","v":0},{"$f":"IF(Table1[[#This Row],[Total Hours per Month]]=Table1[[#This Row],[Column12]],\"Match\",\"Error\")","v":"Match"},{"$f":"IF(Table1[[#This Row],[Calc 2]]=\"#NA\",\"#NA\",IF(Table1[[#This Row],[Non HZ Employee]]=Table1[[#This Row],[Max calc]],\"Non HZ Employee\", Table1[[#This Row],[Calc 2]]))","v":"#NA"}]
[73," ",73,{"$nulls":5},{"$f":"SUM(Table1[[#This Row],[Column4]]+Table1[[#This Row],[Column3]]+Table1[[#This Row],[Column2]]+Table1[[#This Row],[Column1]])","v":0},{"$nulls":5},{"$f":"SUM(Table1[[#This Row],[PO Employee]:[Other Employee]])","v":0},"N",{"$error":"#N/A"},{"$f":"IF(O90>39,Table1[[#This Row],[Calc 1]],IF(O90>1,\"Not counted as an Employee\",\"#NA\"))","v":"#NA"},{"$f":"MAX(Table1[[#This Row],[PO Employee]],Table1[[#This Row],[Other HZ Employee]],Table1[[#This Row],[Non HZ Employee]],Table1[[#This Row],[Job Site Employee]],Table1[[#This Row],[Other Employee]])","v":0},{"$f":"IF(Table1[[#This Row],[Total Hours per Month]]=Table1[[#This Row],[Column12]],\"Match\",\"Error\")","v":"Match"},{"$f":"IF(Table1[[#This Row],[Calc 2]]=\"#NA\",\"#NA\",IF(Table1[[#This Row],[Non HZ Employee]]=Table1[[#This Row],[Max calc]],\"Non HZ Employee\", Table1[[#This Row],[Calc 2]]))","v":"#NA"}]
[74," ",74,{"$nulls":5},{"$f":"SUM(Table1[[#This Row],[Column4]]+Table1[[#This Row],[Column3]]+Table1[[#This Row],[Column2]]+Table1[[#This Row],[Column1]])","v":0},{"$nulls":5},{"$f":"SUM(Table1[[#This Row],[PO Employee]:[Other Employee]])","v":0},"N",{"$error":"#N/A"},{"$f":"IF(O91>39,Table1[[#This Row],[Calc 1]],IF(O91>1,\"Not counted as an Employee\",\"#NA\"))","v":"#NA"},{"$f":"MAX(Table1[[#This Row],[PO Employee]],Table1[[#This Row],[Other HZ Employee]],Table1[[#This Row],[Non HZ Employee]],Table1[[#This Row],[Job Site Employee]],Table1[[#This Row],[Other Employee]])","v":0},{"$f":"IF(Table1[[#This Row],[Total Hours per Month]]=Table1[[#This Row],[Column12]],\"Match\",\"Error\")","v":"Match"},{"$f":"IF(Table1[[#This Row],[Calc 2]]=\"#NA\",\"#NA\",IF(Table1[[#This Row],[Non HZ Employee]]=Table1[[#This Row],[Max calc]],\"Non HZ Employee\", Table1[[#This Row],[Calc 2]]))","v":"#NA"}]
[75," ",75,{"$nulls":5},{"$f":"SUM(Table1[[#This Row],[Column4]]+Table1[[#This Row],[Column3]]+Table1[[#This Row],[Column2]]+Table1[[#This Row],[Column1]])","v":0},{"$nulls":5},{"$f":"SUM(Table1[[#This Row],[PO Employee]:[Other Employee]])","v":0},"N",{"$error":"#N/A"},{"$f":"IF(O92>39,Table1[[#This Row],[Calc 1]],IF(O92>1,\"Not counted as an Employee\",\"#NA\"))","v":"#NA"},{"$f":"MAX(Table1[[#This Row],[PO Employee]],Table1[[#This Row],[Other HZ Employee]],Table1[[#This Row],[Non HZ Employee]],Table1[[#This Row],[Job Site Employee]],Table1[[#This Row],[Other Employee]])","v":0},{"$f":"IF(Table1[[#This Row],[Total Hours per Month]]=Table1[[#This Row],[Column12]],\"Match\",\"Error\")","v":"Match"},{"$f":"IF(Table1[[#This Row],[Calc 2]]=\"#NA\",\"#NA\",IF(Table1[[#This Row],[Non HZ Employee]]=Table1[[#This Row],[Max calc]],\"Non HZ Employee\", Table1[[#This Row],[Calc 2]]))","v":"#NA"}]
[76," ",76,{"$nulls":5},{"$f":"SUM(Table1[[#This Row],[Column4]]+Table1[[#This Row],[Column3]]+Table1[[#This Row],[Column2]]+Table1[[#This Row],[Column1]])","v":0},{"$nulls":5},{"$f":"SUM(Table1[[#This Row],[PO Employee]:[Other Employee]])","v":0},"N",{"$error":"#N/A"},{"$f":"IF(O93>39,Table1[[#This Row],[Calc 1]],IF(O93>1,\"Not counted as an Employee\",\"#NA\"))","v":"#NA"},{"$f":"MAX(Table1[[#This Row],[PO Employee]],Table1[[#This Row],[Other HZ Employee]],Table1[[#This Row],[Non HZ Employee]],Table1[[#This Row],[Job Site Employee]],Table1[[#This Row],[Other Employee]])","v":0},{"$f":"IF(Table1[[#This Row],[Total Hours per Month]]=Table1[[#This Row],[Column12]],\"Match\",\"Error\")","v":"Match"},{"$f":"IF(Table1[[#This Row],[Calc 2]]=\"#NA\",\"#NA\",IF(Table1[[#This Row],[Non HZ Employee]]=Table1[[#This Row],[Max calc]],\"Non HZ Employee\", Table1[[#This Row],[Calc 2]]))","v":"#NA"}]
[77," ",77,{"$nulls":5},{"$f":"SUM(Table1[[#This Row],[Column4]]+Table1[[#This Row],[Column3]]+Table1[[#This Row],[Column2]]+Table1[[#This Row],[Column1]])","v":0},{"$nulls":5},{"$f":"SUM(Table1[[#This Row],[PO Employee]:[Other Employee]])","v":0},"N",{"$error":"#N/A"},{"$f":"IF(O94>39,Table1[[#This Row],[Calc 1]],IF(O94>1,\"Not counted as an Employee\",\"#NA\"))","v":"#NA"},{"$f":"MAX(Table1[[#This Row],[PO Employee]],Table1[[#This Row],[Other HZ Employee]],Table1[[#This Row],[Non HZ Employee]],Table1[[#This Row],[Job Site Employee]],Table1[[#This Row],[Other Employee]])","v":0},{"$f":"IF(Table1[[#This Row],[Total Hours per Month]]=Table1[[#This Row],[Column12]],\"Match\",\"Error\")","v":"Match"},{"$f":"IF(Table1[[#This Row],[Calc 2]]=\"#NA\",\"#NA\",IF(Table1[[#This Row],[Non HZ Employee]]=Table1[[#This Row],[Max calc]],\"Non HZ Employee\", Table1[[#This Row],[Calc 2]]))","v":"#NA"}]
[78," ",78,{"$nulls":5},{"$f":"SUM(Table1[[#This Row],[Column4]]+Table1[[#This Row],[Column3]]+Table1[[#This Row],[Column2]]+Table1[[#This Row],[Column1]])","v":0},{"$nulls":5},{"$f":"SUM(Table1[[#This Row],[PO Employee]:[Other Employee]])","v":0},"N",{"$error":"#N/A"},{"$f":"IF(O95>39,Table1[[#This Row],[Calc 1]],IF(O95>1,\"Not counted as an Employee\",\"#NA\"))","v":"#NA"},{"$f":"MAX(Table1[[#This Row],[PO Employee]],Table1[[#This Row],[Other HZ Employee]],Table1[[#This Row],[Non HZ Employee]],Table1[[#This Row],[Job Site Employee]],Table1[[#This Row],[Other Employee]])","v":0},{"$f":"IF(Table1[[#This Row],[Total Hours per Month]]=Table1[[#This Row],[Column12]],\"Match\",\"Error\")","v":"Match"},{"$f":"IF(Table1[[#This Row],[Calc 2]]=\"#NA\",\"#NA\",IF(Table1[[#This Row],[Non HZ Employee]]=Table1[[#This Row],[Max calc]],\"Non HZ Employee\", Table1[[#This Row],[Calc 2]]))","v":"#NA"}]
[79," ",79,{"$nulls":5},{"$f":"SUM(Table1[[#This Row],[Column4]]+Table1[[#This Row],[Column3]]+Table1[[#This Row],[Column2]]+Table1[[#This Row],[Column1]])","v":0},{"$nulls":5},{"$f":"SUM(Table1[[#This Row],[PO Employee]:[Other Employee]])","v":0},"N",{"$error":"#N/A"},{"$f":"IF(O96>39,Table1[[#This Row],[Calc 1]],IF(O96>1,\"Not counted as an Employee\",\"#NA\"))","v":"#NA"},{"$f":"MAX(Table1[[#This Row],[PO Employee]],Table1[[#This Row],[Other HZ Employee]],Table1[[#This Row],[Non HZ Employee]],Table1[[#This Row],[Job Site Employee]],Table1[[#This Row],[Other Employee]])","v":0},{"$f":"IF(Table1[[#This Row],[Total Hours per Month]]=Table1[[#This Row],[Column12]],\"Match\",\"Error\")","v":"Match"},{"$f":"IF(Table1[[#This Row],[Calc 2]]=\"#NA\",\"#NA\",IF(Table1[[#This Row],[Non HZ Employee]]=Table1[[#This Row],[Max calc]],\"Non HZ Employee\", Table1[[#This Row],[Calc 2]]))","v":"#NA"}]
[80," ",80,{"$nulls":5},{"$f":"SUM(Table1[[#This Row],[Column4]]+Table1[[#This Row],[Column3]]+Table1[[#This Row],[Column2]]+Table1[[#This Row],[Column1]])","v":0},{"$nulls":5},{"$f":"SUM(Table1[[#This Row],[PO Employee]:[Other Employee]])","v":0},"N",{"$error":"#N/A"},{"$f":"IF(O97>39,Table1[[#This Row],[Calc 1]],IF(O97>1,\"Not counted as an Employee\",\"#NA\"))","v":"#NA"},{"$f":"MAX(Table1[[#This Row],[PO Employee]],Table1[[#This Row],[Other HZ Employee]],Table1[[#This Row],[Non HZ Employee]],Table1[[#This Row],[Job Site Employee]],Table1[[#This Row],[Other Employee]])","v":0},{"$f":"IF(Table1[[#This Row],[Total Hours per Month]]=Table1[[#This Row],[Column12]],\"Match\",\"Error\")","v":"Match"},{"$f":"IF(Table1[[#This Row],[Calc 2]]=\"#NA\",\"#NA\",IF(Table1[[#This Row],[Non HZ Employee]]=Table1[[#This Row],[Max calc]],\"Non HZ Employee\", Table1[[#This Row],[Calc 2]]))","v":"#NA"}]
[81," ",81,{"$nulls":5},{"$f":"SUM(Table1[[#This Row],[Column4]]+Table1[[#This Row],[Column3]]+Table1[[#This Row],[Column2]]+Table1[[#This Row],[Column1]])","v":0},{"$nulls":5},{"$f":"SUM(Table1[[#This Row],[PO Employee]:[Other Employee]])","v":0},"N",{"$error":"#N/A"},{"$f":"IF(O98>39,Table1[[#This Row],[Calc 1]],IF(O98>1,\"Not counted as an Employee\",\"#NA\"))","v":"#NA"},{"$f":"MAX(Table1[[#This Row],[PO Employee]],Table1[[#This Row],[Other HZ Employee]],Table1[[#This Row],[Non HZ Employee]],Table1[[#This Row],[Job Site Employee]],Table1[[#This Row],[Other Employee]])","v":0},{"$f":"IF(Table1[[#This Row],[Total Hours per Month]]=Table1[[#This Row],[Column12]],\"Match\",\"Error\")","v":"Match"},{"$f":"IF(Table1[[#This Row],[Calc 2]]=\"#NA\",\"#NA\",IF(Table1[[#This Row],[Non HZ Employee]]=Table1[[#This Row],[Max calc]],\"Non HZ Employee\", Table1[[#This Row],[Calc 2]]))","v":"#NA"}]
[82," ",82,{"$nulls":5},{"$f":"SUM(Table1[[#This Row],[Column4]]+Table1[[#This Row],[Column3]]+Table1[[#This Row],[Column2]]+Table1[[#This Row],[Column1]])","v":0},{"$nulls":5},{"$f":"SUM(Table1[[#This Row],[PO Employee]:[Other Employee]])","v":0},"N",{"$error":"#N/A"},{"$f":"IF(O99>39,Table1[[#This Row],[Calc 1]],IF(O99>1,\"Not counted as an Employee\",\"#NA\"))","v":"#NA"},{"$f":"MAX(Table1[[#This Row],[PO Employee]],Table1[[#This Row],[Other HZ Employee]],Table1[[#This Row],[Non HZ Employee]],Table1[[#This Row],[Job Site Employee]],Table1[[#This Row],[Other Employee]])","v":0},{"$f":"IF(Table1[[#This Row],[Total Hours per Month]]=Table1[[#This Row],[Column12]],\"Match\",\"Error\")","v":"Match"},{"$f":"IF(Table1[[#This Row],[Calc 2]]=\"#NA\",\"#NA\",IF(Table1[[#This Row],[Non HZ Employee]]=Table1[[#This Row],[Max calc]],\"Non HZ Employee\", Table1[[#This Row],[Calc 2]]))","v":"#NA"}]
[83," ",83,{"$nulls":5},{"$f":"SUM(Table1[[#This Row],[Column4]]+Table1[[#This Row],[Column3]]+Table1[[#This Row],[Column2]]+Table1[[#This Row],[Column1]])","v":0},{"$nulls":5},{"$f":"SUM(Table1[[#This Row],[PO Employee]:[Other Employee]])","v":0},"N",{"$error":"#N/A"},{"$f":"IF(O100>39,Table1[[#This Row],[Calc 1]],IF(O100>1,\"Not counted as an Employee\",\"#NA\"))","v":"#NA"},{"$f":"MAX(Table1[[#This Row],[PO Employee]],Table1[[#This Row],[Other HZ Employee]],Table1[[#This Row],[Non HZ Employee]],Table1[[#This Row],[Job Site Employee]],Table1[[#This Row],[Other Employee]])","v":0},{"$f":"IF(Table1[[#This Row],[Total Hours per Month]]=Table1[[#This Row],[Column12]],\"Match\",\"Error\")","v":"Match"},{"$f":"IF(Table1[[#This Row],[Calc 2]]=\"#NA\",\"#NA\",IF(Table1[[#This Row],[Non HZ Employee]]=Table1[[#This Row],[Max calc]],\"Non HZ Employee\", Table1[[#This Row],[Calc 2]]))","v":"#NA"}]
[84," ",84,{"$nulls":5},{"$f":"SUM(Table1[[#This Row],[Column4]]+Table1[[#This Row],[Column3]]+Table1[[#This Row],[Column2]]+Table1[[#This Row],[Column1]])","v":0},{"$nulls":5},{"$f":"SUM(Table1[[#This Row],[PO Employee]:[Other Employee]])","v":0},"N",{"$error":"#N/A"},{"$f":"IF(O101>39,Table1[[#This Row],[Calc 1]],IF(O101>1,\"Not counted as an Employee\",\"#NA\"))","v":"#NA"},{"$f":"MAX(Table1[[#This Row],[PO Employee]],Table1[[#This Row],[Other HZ Employee]],Table1[[#This Row],[Non HZ Employee]],Table1[[#This Row],[Job Site Employee]],Table1[[#This Row],[Other Employee]])","v":0},{"$f":"IF(Table1[[#This Row],[Total Hours per Month]]=Table1[[#This Row],[Column12]],\"Match\",\"Error\")","v":"Match"},{"$f":"IF(Table1[[#This Row],[Calc 2]]=\"#NA\",\"#NA\",IF(Table1[[#This Row],[Non HZ Employee]]=Table1[[#This Row],[Max calc]],\"Non HZ Employee\", Table1[[#This Row],[Calc 2]]))","v":"#NA"}]
[85," ",85,{"$nulls":5},{"$f":"SUM(Table1[[#This Row],[Column4]]+Table1[[#This Row],[Column3]]+Table1[[#This Row],[Column2]]+Table1[[#This Row],[Column1]])","v":0},{"$nulls":5},{"$f":"SUM(Table1[[#This Row],[PO Employee]:[Other Employee]])","v":0},"N",{"$error":"#N/A"},{"$f":"IF(O102>39,Table1[[#This Row],[Calc 1]],IF(O102>1,\"Not counted as an Employee\",\"#NA\"))","v":"#NA"},{"$f":"MAX(Table1[[#This Row],[PO Employee]],Table1[[#This Row],[Other HZ Employee]],Table1[[#This Row],[Non HZ Employee]],Table1[[#This Row],[Job Site Employee]],Table1[[#This Row],[Other Employee]])","v":0},{"$f":"IF(Table1[[#This Row],[Total Hours per Month]]=Table1[[#This Row],[Column12]],\"Match\",\"Error\")","v":"Match"},{"$f":"IF(Table1[[#This Row],[Calc 2]]=\"#NA\",\"#NA\",IF(Table1[[#This Row],[Non HZ Employee]]=Table1[[#This Row],[Max calc]],\"Non HZ Employee\", Table1[[#This Row],[Calc 2]]))","v":"#NA"}]
[86," ",86,{"$nulls":5},{"$f":"SUM(Table1[[#This Row],[Column4]]+Table1[[#This Row],[Column3]]+Table1[[#This Row],[Column2]]+Table1[[#This Row],[Column1]])","v":0},{"$nulls":5},{"$f":"SUM(Table1[[#This Row],[PO Employee]:[Other Employee]])","v":0},"N",{"$error":"#N/A"},{"$f":"IF(O103>39,Table1[[#This Row],[Calc 1]],IF(O103>1,\"Not counted as an Employee\",\"#NA\"))","v":"#NA"},{"$f":"MAX(Table1[[#This Row],[PO Employee]],Table1[[#This Row],[Other HZ Employee]],Table1[[#This Row],[Non HZ Employee]],Table1[[#This Row],[Job Site Employee]],Table1[[#This Row],[Other Employee]])","v":0},{"$f":"IF(Table1[[#This Row],[Total Hours per Month]]=Table1[[#This Row],[Column12]],\"Match\",\"Error\")","v":"Match"},{"$f":"IF(Table1[[#This Row],[Calc 2]]=\"#NA\",\"#NA\",IF(Table1[[#This Row],[Non HZ Employee]]=Table1[[#This Row],[Max calc]],\"Non HZ Employee\", Table1[[#This Row],[Calc 2]]))","v":"#NA"}]
[87," ",87,{"$nulls":5},{"$f":"SUM(Table1[[#This Row],[Column4]]+Table1[[#This Row],[Column3]]+Table1[[#This Row],[Column2]]+Table1[[#This Row],[Column1]])","v":0},{"$nulls":5},{"$f":"SUM(Table1[[#This Row],[PO Employee]:[Other Employee]])","v":0},"N",{"$error":"#N/A"},{"$f":"IF(O104>39,Table1[[#This Row],[Calc 1]],IF(O104>1,\"Not counted as an Employee\",\"#NA\"))","v":"#NA"},{"$f":"MAX(Table1[[#This Row],[PO Employee]],Table1[[#This Row],[Other HZ Employee]],Table1[[#This Row],[Non HZ Employee]],Table1[[#This Row],[Job Site Employee]],Table1[[#This Row],[Other Employee]])","v":0},{"$f":"IF(Table1[[#This Row],[Total Hours per Month]]=Table1[[#This Row],[Column12]],\"Match\",\"Error\")","v":"Match"},{"$f":"IF(Table1[[#This Row],[Calc 2]]=\"#NA\",\"#NA\",IF(Table1[[#This Row],[Non HZ Employee]]=Table1[[#This Row],[Max calc]],\"Non HZ Employee\", Table1[[#This Row],[Calc 2]]))","v":"#NA"}]
[88," ",88,{"$nulls":5},{"$f":"SUM(Table1[[#This Row],[Column4]]+Table1[[#This Row],[Column3]]+Table1[[#This Row],[Column2]]+Table1[[#This Row],[Column1]])","v":0},{"$nulls":5},{"$f":"SUM(Table1[[#This Row],[PO Employee]:[Other Employee]])","v":0},"N",{"$error":"#N/A"},{"$f":"IF(O105>39,Table1[[#This Row],[Calc 1]],IF(O105>1,\"Not counted as an Employee\",\"#NA\"))","v":"#NA"},{"$f":"MAX(Table1[[#This Row],[PO Employee]],Table1[[#This Row],[Other HZ Employee]],Table1[[#This Row],[Non HZ Employee]],Table1[[#This Row],[Job Site Employee]],Table1[[#This Row],[Other Employee]])","v":0},{"$f":"IF(Table1[[#This Row],[Total Hours per Month]]=Table1[[#This Row],[Column12]],\"Match\",\"Error\")","v":"Match"},{"$f":"IF(Table1[[#This Row],[Calc 2]]=\"#NA\",\"#NA\",IF(Table1[[#This Row],[Non HZ Employee]]=Table1[[#This Row],[Max calc]],\"Non HZ Employee\", Table1[[#This Row],[Calc 2]]))","v":"#NA"}]
[89," ",89,{"$nulls":5},{"$f":"SUM(Table1[[#This Row],[Column4]]+Table1[[#This Row],[Column3]]+Table1[[#This Row],[Column2]]+Table1[[#This Row],[Column1]])","v":0},{"$nulls":5},{"$f":"SUM(Table1[[#This Row],[PO Employee]:[Other Employee]])","v":0},"N",{"$error":"#N/A"},{"$f":"IF(O106>39,Table1[[#This Row],[Calc 1]],IF(O106>1,\"Not counted as an Employee\",\"#NA\"))","v":"#NA"},{"$f":"MAX(Table1[[#This Row],[PO Employee]],Table1[[#This Row],[Other HZ Employee]],Table1[[#This Row],[Non HZ Employee]],Table1[[#This Row],[Job Site Employee]],Table1[[#This Row],[Other Employee]])","v":0},{"$f":"IF(Table1[[#This Row],[Total Hours per Month]]=Table1[[#This Row],[Column12]],\"Match\",\"Error\")","v":"Match"},{"$f":"IF(Table1[[#This Row],[Calc 2]]=\"#NA\",\"#NA\",IF(Table1[[#This Row],[Non HZ Employee]]=Table1[[#This Row],[Max calc]],\"Non HZ Employee\", Table1[[#This Row],[Calc 2]]))","v":"#NA"}]
[90," ",90,{"$nulls":5},{"$f":"SUM(Table1[[#This Row],[Column4]]+Table1[[#This Row],[Column3]]+Table1[[#This Row],[Column2]]+Table1[[#This Row],[Column1]])","v":0},{"$nulls":5},{"$f":"SUM(Table1[[#This Row],[PO Employee]:[Other Employee]])","v":0},"N",{"$error":"#N/A"},{"$f":"IF(O107>39,Table1[[#This Row],[Calc 1]],IF(O107>1,\"Not counted as an Employee\",\"#NA\"))","v":"#NA"},{"$f":"MAX(Table1[[#This Row],[PO Employee]],Table1[[#This Row],[Other HZ Employee]],Table1[[#This Row],[Non HZ Employee]],Table1[[#This Row],[Job Site Employee]],Table1[[#This Row],[Other Employee]])","v":0},{"$f":"IF(Table1[[#This Row],[Total Hours per Month]]=Table1[[#This Row],[Column12]],\"Match\",\"Error\")","v":"Match"},{"$f":"IF(Table1[[#This Row],[Calc 2]]=\"#NA\",\"#NA\",IF(Table1[[#This Row],[Non HZ Employee]]=Table1[[#This Row],[Max calc]],\"Non HZ Employee\", Table1[[#This Row],[Calc 2]]))","v":"#NA"}]
[91," ",91,{"$nulls":5},{"$f":"SUM(Table1[[#This Row],[Column4]]+Table1[[#This Row],[Column3]]+Table1[[#This Row],[Column2]]+Table1[[#This Row],[Column1]])","v":0},{"$nulls":5},{"$f":"SUM(Table1[[#This Row],[PO Employee]:[Other Employee]])","v":0},"N",{"$error":"#N/A"},{"$f":"IF(O108>39,Table1[[#This Row],[Calc 1]],IF(O108>1,\"Not counted as an Employee\",\"#NA\"))","v":"#NA"},{"$f":"MAX(Table1[[#This Row],[PO Employee]],Table1[[#This Row],[Other HZ Employee]],Table1[[#This Row],[Non HZ Employee]],Table1[[#This Row],[Job Site Employee]],Table1[[#This Row],[Other Employee]])","v":0},{"$f":"IF(Table1[[#This Row],[Total Hours per Month]]=Table1[[#This Row],[Column12]],\"Match\",\"Error\")","v":"Match"},{"$f":"IF(Table1[[#This Row],[Calc 2]]=\"#NA\",\"#NA\",IF(Table1[[#This Row],[Non HZ Employee]]=Table1[[#This Row],[Max calc]],\"Non HZ Employee\", Table1[[#This Row],[Calc 2]]))","v":"#NA"}]
[92," ",92,{"$nulls":5},{"$f":"SUM(Table1[[#This Row],[Column4]]+Table1[[#This Row],[Column3]]+Table1[[#This Row],[Column2]]+Table1[[#This Row],[Column1]])","v":0},{"$nulls":5},{"$f":"SUM(Table1[[#This Row],[PO Employee]:[Other Employee]])","v":0},"N",{"$error":"#N/A"},{"$f":"IF(O109>39,Table1[[#This Row],[Calc 1]],IF(O109>1,\"Not counted as an Employee\",\"#NA\"))","v":"#NA"},{"$f":"MAX(Table1[[#This Row],[PO Employee]],Table1[[#This Row],[Other HZ Employee]],Table1[[#This Row],[Non HZ Employee]],Table1[[#This Row],[Job Site Employee]],Table1[[#This Row],[Other Employee]])","v":0},{"$f":"IF(Table1[[#This Row],[Total Hours per Month]]=Table1[[#This Row],[Column12]],\"Match\",\"Error\")","v":"Match"},{"$f":"IF(Table1[[#This Row],[Calc 2]]=\"#NA\",\"#NA\",IF(Table1[[#This Row],[Non HZ Employee]]=Table1[[#This Row],[Max calc]],\"Non HZ Employee\", Table1[[#This Row],[Calc 2]]))","v":"#NA"}]
[93," ",93,{"$nulls":5},{"$f":"SUM(Table1[[#This Row],[Column4]]+Table1[[#This Row],[Column3]]+Table1[[#This Row],[Column2]]+Table1[[#This Row],[Column1]])","v":0},{"$nulls":5},{"$f":"SUM(Table1[[#This Row],[PO Employee]:[Other Employee]])","v":0},"N",{"$error":"#N/A"},{"$f":"IF(O110>39,Table1[[#This Row],[Calc 1]],IF(O110>1,\"Not counted as an Employee\",\"#NA\"))","v":"#NA"},{"$f":"MAX(Table1[[#This Row],[PO Employee]],Table1[[#This Row],[Other HZ Employee]],Table1[[#This Row],[Non HZ Employee]],Table1[[#This Row],[Job Site Employee]],Table1[[#This Row],[Other Employee]])","v":0},{"$f":"IF(Table1[[#This Row],[Total Hours per Month]]=Table1[[#This Row],[Column12]],\"Match\",\"Error\")","v":"Match"},{"$f":"IF(Table1[[#This Row],[Calc 2]]=\"#NA\",\"#NA\",IF(Table1[[#This Row],[Non HZ Employee]]=Table1[[#This Row],[Max calc]],\"Non HZ Employee\", Table1[[#This Row],[Calc 2]]))","v":"#NA"}]
[94," ",94,{"$nulls":5},{"$f":"SUM(Table1[[#This Row],[Column4]]+Table1[[#This Row],[Column3]]+Table1[[#This Row],[Column2]]+Table1[[#This Row],[Column1]])","v":0},{"$nulls":5},{"$f":"SUM(Table1[[#This Row],[PO Employee]:[Other Employee]])","v":0},"N",{"$error":"#N/A"},{"$f":"IF(O111>39,Table1[[#This Row],[Calc 1]],IF(O111>1,\"Not counted as an Employee\",\"#NA\"))","v":"#NA"},{"$f":"MAX(Table1[[#This Row],[PO Employee]],Table1[[#This Row],[Other HZ Employee]],Table1[[#This Row],[Non HZ Employee]],Table1[[#This Row],[Job Site Employee]],Table1[[#This Row],[Other Employee]])","v":0},{"$f":"IF(Table1[[#This Row],[Total Hours per Month]]=Table1[[#This Row],[Column12]],\"Match\",\"Error\")","v":"Match"},{"$f":"IF(Table1[[#This Row],[Calc 2]]=\"#NA\",\"#NA\",IF(Table1[[#This Row],[Non HZ Employee]]=Table1[[#This Row],[Max calc]],\"Non HZ Employee\", Table1[[#This Row],[Calc 2]]))","v":"#NA"}]
[95," ",95,{"$nulls":5},{"$f":"SUM(Table1[[#This Row],[Column4]]+Table1[[#This Row],[Column3]]+Table1[[#This Row],[Column2]]+Table1[[#This Row],[Column1]])","v":0},{"$nulls":5},{"$f":"SUM(Table1[[#This Row],[PO Employee]:[Other Employee]])","v":0},"N",{"$error":"#N/A"},{"$f":"IF(O112>39,Table1[[#This Row],[Calc 1]],IF(O112>1,\"Not counted as an Employee\",\"#NA\"))","v":"#NA"},{"$f":"MAX(Table1[[#This Row],[PO Employee]],Table1[[#This Row],[Other HZ Employee]],Table1[[#This Row],[Non HZ Employee]],Table1[[#This Row],[Job Site Employee]],Table1[[#This Row],[Other Employee]])","v":0},{"$f":"IF(Table1[[#This Row],[Total Hours per Month]]=Table1[[#This Row],[Column12]],\"Match\",\"Error\")","v":"Match"},{"$f":"IF(Table1[[#This Row],[Calc 2]]=\"#NA\",\"#NA\",IF(Table1[[#This Row],[Non HZ Employee]]=Table1[[#This Row],[Max calc]],\"Non HZ Employee\", Table1[[#This Row],[Calc 2]]))","v":"#NA"}]
[96," ",96,{"$nulls":5},{"$f":"SUM(Table1[[#This Row],[Column4]]+Table1[[#This Row],[Column3]]+Table1[[#This Row],[Column2]]+Table1[[#This Row],[Column1]])","v":0},{"$nulls":5},{"$f":"SUM(Table1[[#This Row],[PO Employee]:[Other Employee]])","v":0},"N",{"$error":"#N/A"},{"$f":"IF(O113>39,Table1[[#This Row],[Calc 1]],IF(O113>1,\"Not counted as an Employee\",\"#NA\"))","v":"#NA"},{"$f":"MAX(Table1[[#This Row],[PO Employee]],Table1[[#This Row],[Other HZ Employee]],Table1[[#This Row],[Non HZ Employee]],Table1[[#This Row],[Job Site Employee]],Table1[[#This Row],[Other Employee]])","v":0},{"$f":"IF(Table1[[#This Row],[Total Hours per Month]]=Table1[[#This Row],[Column12]],\"Match\",\"Error\")","v":"Match"},{"$f":"IF(Table1[[#This Row],[Calc 2]]=\"#NA\",\"#NA\",IF(Table1[[#This Row],[Non HZ Employee]]=Table1[[#This Row],[Max calc]],\"Non HZ Employee\", Table1[[#This Row],[Calc 2]]))","v":"#NA"}]
[97," ",97,{"$nulls":5},{"$f":"SUM(Table1[[#This Row],[Column4]]+Table1[[#This Row],[Column3]]+Table1[[#This Row],[Column2]]+Table1[[#This Row],[Column1]])","v":0},{"$nulls":5},{"$f":"SUM(Table1[[#This Row],[PO Employee]:[Other Employee]])","v":0},"N",{"$error":"#N/A"},{"$f":"IF(O114>39,Table1[[#This Row],[Calc 1]],IF(O114>1,\"Not counted as an Employee\",\"#NA\"))","v":"#NA"},{"$f":"MAX(Table1[[#This Row],[PO Employee]],Table1[[#This Row],[Other HZ Employee]],Table1[[#This Row],[Non HZ Employee]],Table1[[#This Row],[Job Site Employee]],Table1[[#This Row],[Other Employee]])","v":0},{"$f":"IF(Table1[[#This Row],[Total Hours per Month]]=Table1[[#This Row],[Column12]],\"Match\",\"Error\")","v":"Match"},{"$f":"IF(Table1[[#This Row],[Calc 2]]=\"#NA\",\"#NA\",IF(Table1[[#This Row],[Non HZ Employee]]=Table1[[#This Row],[Max calc]],\"Non HZ Employee\", Table1[[#This Row],[Calc 2]]))","v":"#NA"}]
[98," ",98,{"$nulls":5},{"$f":"SUM(Table1[[#This Row],[Column4]]+Table1[[#This Row],[Column3]]+Table1[[#This Row],[Column2]]+Table1[[#This Row],[Column1]])","v":0},{"$nulls":5},{"$f":"SUM(Table1[[#This Row],[PO Employee]:[Other Employee]])","v":0},"N",{"$error":"#N/A"},{"$f":"IF(O115>39,Table1[[#This Row],[Calc 1]],IF(O115>1,\"Not counted as an Employee\",\"#NA\"))","v":"#NA"},{"$f":"MAX(Table1[[#This Row],[PO Employee]],Table1[[#This Row],[Other HZ Employee]],Table1[[#This Row],[Non HZ Employee]],Table1[[#This Row],[Job Site Employee]],Table1[[#This Row],[Other Employee]])","v":0},{"$f":"IF(Table1[[#This Row],[Total Hours per Month]]=Table1[[#This Row],[Column12]],\"Match\",\"Error\")","v":"Match"},{"$f":"IF(Table1[[#This Row],[Calc 2]]=\"#NA\",\"#NA\",IF(Table1[[#This Row],[Non HZ Employee]]=Table1[[#This Row],[Max calc]],\"Non HZ Employee\", Table1[[#This Row],[Calc 2]]))","v":"#NA"}]
[99," ",99,{"$nulls":5},{"$f":"SUM(Table1[[#This Row],[Column4]]+Table1[[#This Row],[Column3]]+Table1[[#This Row],[Column2]]+Table1[[#This Row],[Column1]])","v":0},{"$nulls":5},{"$f":"SUM(Table1[[#This Row],[PO Employee]:[Other Employee]])","v":0},"N",{"$error":"#N/A"},{"$f":"IF(O116>39,Table1[[#This Row],[Calc 1]],IF(O116>1,\"Not counted as an Employee\",\"#NA\"))","v":"#NA"},{"$f":"MAX(Table1[[#This Row],[PO Employee]],Table1[[#This Row],[Other HZ Employee]],Table1[[#This Row],[Non HZ Employee]],Table1[[#This Row],[Job Site Employee]],Table1[[#This Row],[Other Employee]])","v":0},{"$f":"IF(Table1[[#This Row],[Total Hours per Month]]=Table1[[#This Row],[Column12]],\"Match\",\"Error\")","v":"Match"},{"$f":"IF(Table1[[#This Row],[Calc 2]]=\"#NA\",\"#NA\",IF(Table1[[#This Row],[Non HZ Employee]]=Table1[[#This Row],[Max calc]],\"Non HZ Employee\", Table1[[#This Row],[Calc 2]]))","v":"#NA"}]
[100," ",100,{"$nulls":5},{"$f":"SUM(Table1[[#This Row],[Column4]]+Table1[[#This Row],[Column3]]+Table1[[#This Row],[Column2]]+Table1[[#This Row],[Column1]])","v":0},{"$nulls":5},{"$f":"SUM(Table1[[#This Row],[PO Employee]:[Other Employee]])","v":0},"N",{"$error":"#N/A"},{"$f":"IF(O117>39,Table1[[#This Row],[Calc 1]],IF(O117>1,\"Not counted as an Employee\",\"#NA\"))","v":"#NA"},{"$f":"MAX(Table1[[#This Row],[PO Employee]],Table1[[#This Row],[Other HZ Employee]],Table1[[#This Row],[Non HZ Employee]],Table1[[#This Row],[Job Site Employee]],Table1[[#This Row],[Other Employee]])","v":0},{"$f":"IF(Table1[[#This Row],[Total Hours per Month]]=Table1[[#This Row],[Column12]],\"Match\",\"Error\")","v":"Match"},{"$f":"IF(Table1[[#This Row],[Calc 2]]=\"#NA\",\"#NA\",IF(Table1[[#This Row],[Non HZ Employee]]=Table1[[#This Row],[Max calc]],\"Non HZ Employee\", Table1[[#This Row],[Calc 2]]))","v":"#NA"}]
[101," ",101,{"$nulls":5},{"$f":"SUM(Table1[[#This Row],[Column4]]+Table1[[#This Row],[Column3]]+Table1[[#This Row],[Column2]]+Table1[[#This Row],[Column1]])","v":0},{"$nulls":5},{"$f":"SUM(Table1[[#This Row],[PO Employee]:[Other Employee]])","v":0},"N",{"$error":"#N/A"},{"$f":"IF(O118>39,Table1[[#This Row],[Calc 1]],IF(O118>1,\"Not counted as an Employee\",\"#NA\"))","v":"#NA"},{"$f":"MAX(Table1[[#This Row],[PO Employee]],Table1[[#This Row],[Other HZ Employee]],Table1[[#This Row],[Non HZ Employee]],Table1[[#This Row],[Job Site Employee]],Table1[[#This Row],[Other Employee]])","v":0},{"$f":"IF(Table1[[#This Row],[Total Hours per Month]]=Table1[[#This Row],[Column12]],\"Match\",\"Error\")","v":"Match"},{"$f":"IF(Table1[[#This Row],[Calc 2]]=\"#NA\",\"#NA\",IF(Table1[[#This Row],[Non HZ Employee]]=Table1[[#This Row],[Max calc]],\"Non HZ Employee\", Table1[[#This Row],[Calc 2]]))","v":"#NA"}]
[102," ",102,{"$nulls":5},{"$f":"SUM(Table1[[#This Row],[Column4]]+Table1[[#This Row],[Column3]]+Table1[[#This Row],[Column2]]+Table1[[#This Row],[Column1]])","v":0},{"$nulls":5},{"$f":"SUM(Table1[[#This Row],[PO Employee]:[Other Employee]])","v":0},"N",{"$error":"#N/A"},{"$f":"IF(O119>39,Table1[[#This Row],[Calc 1]],IF(O119>1,\"Not counted as an Employee\",\"#NA\"))","v":"#NA"},{"$f":"MAX(Table1[[#This Row],[PO Employee]],Table1[[#This Row],[Other HZ Employee]],Table1[[#This Row],[Non HZ Employee]],Table1[[#This Row],[Job Site Employee]],Table1[[#This Row],[Other Employee]])","v":0},{"$f":"IF(Table1[[#This Row],[Total Hours per Month]]=Table1[[#This Row],[Column12]],\"Match\",\"Error\")","v":"Match"},{"$f":"IF(Table1[[#This Row],[Calc 2]]=\"#NA\",\"#NA\",IF(Table1[[#This Row],[Non HZ Employee]]=Table1[[#This Row],[Max calc]],\"Non HZ Employee\", Table1[[#This Row],[Calc 2]]))","v":"#NA"}]
[103," ",103,{"$nulls":5},{"$f":"SUM(Table1[[#This Row],[Column4]]+Table1[[#This Row],[Column3]]+Table1[[#This Row],[Column2]]+Table1[[#This Row],[Column1]])","v":0},{"$nulls":5},{"$f":"SUM(Table1[[#This Row],[PO Employee]:[Other Employee]])","v":0},"N",{"$error":"#N/A"},{"$f":"IF(O120>39,Table1[[#This Row],[Calc 1]],IF(O120>1,\"Not counted as an Employee\",\"#NA\"))","v":"#NA"},{"$f":"MAX(Table1[[#This Row],[PO Employee]],Table1[[#This Row],[Other HZ Employee]],Table1[[#This Row],[Non HZ Employee]],Table1[[#This Row],[Job Site Employee]],Table1[[#This Row],[Other Employee]])","v":0},{"$f":"IF(Table1[[#This Row],[Total Hours per Month]]=Table1[[#This Row],[Column12]],\"Match\",\"Error\")","v":"Match"},{"$f":"IF(Table1[[#This Row],[Calc 2]]=\"#NA\",\"#NA\",IF(Table1[[#This Row],[Non HZ Employee]]=Table1[[#This Row],[Max calc]],\"Non HZ Employee\", Table1[[#This Row],[Calc 2]]))","v":"#NA"}]
[104," ",104,{"$nulls":5},{"$f":"SUM(Table1[[#This Row],[Column4]]+Table1[[#This Row],[Column3]]+Table1[[#This Row],[Column2]]+Table1[[#This Row],[Column1]])","v":0},{"$nulls":5},{"$f":"SUM(Table1[[#This Row],[PO Employee]:[Other Employee]])","v":0},"N",{"$error":"#N/A"},{"$f":"IF(O121>39,Table1[[#This Row],[Calc 1]],IF(O121>1,\"Not counted as an Employee\",\"#NA\"))","v":"#NA"},{"$f":"MAX(Table1[[#This Row],[PO Employee]],Table1[[#This Row],[Other HZ Employee]],Table1[[#This Row],[Non HZ Employee]],Table1[[#This Row],[Job Site Employee]],Table1[[#This Row],[Other Employee]])","v":0},{"$f":"IF(Table1[[#This Row],[Total Hours per Month]]=Table1[[#This Row],[Column12]],\"Match\",\"Error\")","v":"Match"},{"$f":"IF(Table1[[#This Row],[Calc 2]]=\"#NA\",\"#NA\",IF(Table1[[#This Row],[Non HZ Employee]]=Table1[[#This Row],[Max calc]],\"Non HZ Employee\", Table1[[#This Row],[Calc 2]]))","v":"#NA"}]
[105," ",105,{"$nulls":5},{"$f":"SUM(Table1[[#This Row],[Column4]]+Table1[[#This Row],[Column3]]+Table1[[#This Row],[Column2]]+Table1[[#This Row],[Column1]])","v":0},{"$nulls":5},{"$f":"SUM(Table1[[#This Row],[PO Employee]:[Other Employee]])","v":0},"N",{"$error":"#N/A"},{"$f":"IF(O122>39,Table1[[#This Row],[Calc 1]],IF(O122>1,\"Not counted as an Employee\",\"#NA\"))","v":"#NA"},{"$f":"MAX(Table1[[#This Row],[PO Employee]],Table1[[#This Row],[Other HZ Employee]],Table1[[#This Row],[Non HZ Employee]],Table1[[#This Row],[Job Site Employee]],Table1[[#This Row],[Other Employee]])","v":0},{"$f":"IF(Table1[[#This Row],[Total Hours per Month]]=Table1[[#This Row],[Column12]],\"Match\",\"Error\")","v":"Match"},{"$f":"IF(Table1[[#This Row],[Calc 2]]=\"#NA\",\"#NA\",IF(Table1[[#This Row],[Non HZ Employee]]=Table1[[#This Row],[Max calc]],\"Non HZ Employee\", Table1[[#This Row],[Calc 2]]))","v":"#NA"}]
[106," ",106,{"$nulls":5},{"$f":"SUM(Table1[[#This Row],[Column4]]+Table1[[#This Row],[Column3]]+Table1[[#This Row],[Column2]]+Table1[[#This Row],[Column1]])","v":0},{"$nulls":5},{"$f":"SUM(Table1[[#This Row],[PO Employee]:[Other Employee]])","v":0},"N",{"$error":"#N/A"},{"$f":"IF(O123>39,Table1[[#This Row],[Calc 1]],IF(O123>1,\"Not counted as an Employee\",\"#NA\"))","v":"#NA"},{"$f":"MAX(Table1[[#This Row],[PO Employee]],Table1[[#This Row],[Other HZ Employee]],Table1[[#This Row],[Non HZ Employee]],Table1[[#This Row],[Job Site Employee]],Table1[[#This Row],[Other Employee]])","v":0},{"$f":"IF(Table1[[#This Row],[Total Hours per Month]]=Table1[[#This Row],[Column12]],\"Match\",\"Error\")","v":"Match"},{"$f":"IF(Table1[[#This Row],[Calc 2]]=\"#NA\",\"#NA\",IF(Table1[[#This Row],[Non HZ Employee]]=Table1[[#This Row],[Max calc]],\"Non HZ Employee\", Table1[[#This Row],[Calc 2]]))","v":"#NA"}]
[107," ",107,{"$nulls":5},{"$f":"SUM(Table1[[#This Row],[Column4]]+Table1[[#This Row],[Column3]]+Table1[[#This Row],[Column2]]+Table1[[#This Row],[Column1]])","v":0},{"$nulls":5},{"$f":"SUM(Table1[[#This Row],[PO Employee]:[Other Employee]])","v":0},"N",{"$error":"#N/A"},{"$f":"IF(O124>39,Table1[[#This Row],[Calc 1]],IF(O124>1,\"Not counted as an Employee\",\"#NA\"))","v":"#NA"},{"$f":"MAX(Table1[[#This Row],[PO Employee]],Table1[[#This Row],[Other HZ Employee]],Table1[[#This Row],[Non HZ Employee]],Table1[[#This Row],[Job Site Employee]],Table1[[#This Row],[Other Employee]])","v":0},{"$f":"IF(Table1[[#This Row],[Total Hours per Month]]=Table1[[#This Row],[Column12]],\"Match\",\"Error\")","v":"Match"},{"$f":"IF(Table1[[#This Row],[Calc 2]]=\"#NA\",\"#NA\",IF(Table1[[#This Row],[Non HZ Employee]]=Table1[[#This Row],[Max calc]],\"Non HZ Employee\", Table1[[#This Row],[Calc 2]]))","v":"#NA"}]
[108," ",108,{"$nulls":5},{"$f":"SUM(Table1[[#This Row],[Column4]]+Table1[[#This Row],[Column3]]+Table1[[#This Row],[Column2]]+Table1[[#This Row],[Column1]])","v":0},{"$nulls":5},{"$f":"SUM(Table1[[#This Row],[PO Employee]:[Other Employee]])","v":0},"N",{"$error":"#N/A"},{"$f":"IF(O125>39,Table1[[#This Row],[Calc 1]],IF(O125>1,\"Not counted as an Employee\",\"#NA\"))","v":"#NA"},{"$f":"MAX(Table1[[#This Row],[PO Employee]],Table1[[#This Row],[Other HZ Employee]],Table1[[#This Row],[Non HZ Employee]],Table1[[#This Row],[Job Site Employee]],Table1[[#This Row],[Other Employee]])","v":0},{"$f":"IF(Table1[[#This Row],[Total Hours per Month]]=Table1[[#This Row],[Column12]],\"Match\",\"Error\")","v":"Match"},{"$f":"IF(Table1[[#This Row],[Calc 2]]=\"#NA\",\"#NA\",IF(Table1[[#This Row],[Non HZ Employee]]=Table1[[#This Row],[Max calc]],\"Non HZ Employee\", Table1[[#This Row],[Calc 2]]))","v":"#NA"}]
[109," ",109,{"$nulls":5},{"$f":"SUM(Table1[[#This Row],[Column4]]+Table1[[#This Row],[Column3]]+Table1[[#This Row],[Column2]]+Table1[[#This Row],[Column1]])","v":0},{"$nulls":5},{"$f":"SUM(Table1[[#This Row],[PO Employee]:[Other Employee]])","v":0},"N",{"$error":"#N/A"},{"$f":"IF(O126>39,Table1[[#This Row],[Calc 1]],IF(O126>1,\"Not counted as an Employee\",\"#NA\"))","v":"#NA"},{"$f":"MAX(Table1[[#This Row],[PO Employee]],Table1[[#This Row],[Other HZ Employee]],Table1[[#This Row],[Non HZ Employee]],Table1[[#This Row],[Job Site Employee]],Table1[[#This Row],[Other Employee]])","v":0},{"$f":"IF(Table1[[#This Row],[Total Hours per Month]]=Table1[[#This Row],[Column12]],\"Match\",\"Error\")","v":"Match"},{"$f":"IF(Table1[[#This Row],[Calc 2]]=\"#NA\",\"#NA\",IF(Table1[[#This Row],[Non HZ Employee]]=Table1[[#This Row],[Max calc]],\"Non HZ Employee\", Table1[[#This Row],[Calc 2]]))","v":"#NA"}]
[110," ",110,{"$nulls":5},{"$f":"SUM(Table1[[#This Row],[Column4]]+Table1[[#This Row],[Column3]]+Table1[[#This Row],[Column2]]+Table1[[#This Row],[Column1]])","v":0},{"$nulls":5},{"$f":"SUM(Table1[[#This Row],[PO Employee]:[Other Employee]])","v":0},"N",{"$error":"#N/A"},{"$f":"IF(O127>39,Table1[[#This Row],[Calc 1]],IF(O127>1,\"Not counted as an Employee\",\"#NA\"))","v":"#NA"},{"$f":"MAX(Table1[[#This Row],[PO Employee]],Table1[[#This Row],[Other HZ Employee]],Table1[[#This Row],[Non HZ Employee]],Table1[[#This Row],[Job Site Employee]],Table1[[#This Row],[Other Employee]])","v":0},{"$f":"IF(Table1[[#This Row],[Total Hours per Month]]=Table1[[#This Row],[Column12]],\"Match\",\"Error\")","v":"Match"},{"$f":"IF(Table1[[#This Row],[Calc 2]]=\"#NA\",\"#NA\",IF(Table1[[#This Row],[Non HZ Employee]]=Table1[[#This Row],[Max calc]],\"Non HZ Employee\", Table1[[#This Row],[Calc 2]]))","v":"#NA"}]
[111," ",111,{"$nulls":5},{"$f":"SUM(Table1[[#This Row],[Column4]]+Table1[[#This Row],[Column3]]+Table1[[#This Row],[Column2]]+Table1[[#This Row],[Column1]])","v":0},{"$nulls":5},{"$f":"SUM(Table1[[#This Row],[PO Employee]:[Other Employee]])","v":0},"N",{"$error":"#N/A"},{"$f":"IF(O128>39,Table1[[#This Row],[Calc 1]],IF(O128>1,\"Not counted as an Employee\",\"#NA\"))","v":"#NA"},{"$f":"MAX(Table1[[#This Row],[PO Employee]],Table1[[#This Row],[Other HZ Employee]],Table1[[#This Row],[Non HZ Employee]],Table1[[#This Row],[Job Site Employee]],Table1[[#This Row],[Other Employee]])","v":0},{"$f":"IF(Table1[[#This Row],[Total Hours per Month]]=Table1[[#This Row],[Column12]],\"Match\",\"Error\")","v":"Match"},{"$f":"IF(Table1[[#This Row],[Calc 2]]=\"#NA\",\"#NA\",IF(Table1[[#This Row],[Non HZ Employee]]=Table1[[#This Row],[Max calc]],\"Non HZ Employee\", Table1[[#This Row],[Calc 2]]))","v":"#NA"}]
[112," ",112,{"$nulls":5},{"$f":"SUM(Table1[[#This Row],[Column4]]+Table1[[#This Row],[Column3]]+Table1[[#This Row],[Column2]]+Table1[[#This Row],[Column1]])","v":0},{"$nulls":5},{"$f":"SUM(Table1[[#This Row],[PO Employee]:[Other Employee]])","v":0},"N",{"$error":"#N/A"},{"$f":"IF(O129>39,Table1[[#This Row],[Calc 1]],IF(O129>1,\"Not counted as an Employee\",\"#NA\"))","v":"#NA"},{"$f":"MAX(Table1[[#This Row],[PO Employee]],Table1[[#This Row],[Other HZ Employee]],Table1[[#This Row],[Non HZ Employee]],Table1[[#This Row],[Job Site Employee]],Table1[[#This Row],[Other Employee]])","v":0},{"$f":"IF(Table1[[#This Row],[Total Hours per Month]]=Table1[[#This Row],[Column12]],\"Match\",\"Error\")","v":"Match"},{"$f":"IF(Table1[[#This Row],[Calc 2]]=\"#NA\",\"#NA\",IF(Table1[[#This Row],[Non HZ Employee]]=Table1[[#This Row],[Max calc]],\"Non HZ Employee\", Table1[[#This Row],[Calc 2]]))","v":"#NA"}]
[113," ",113,{"$nulls":5},{"$f":"SUM(Table1[[#This Row],[Column4]]+Table1[[#This Row],[Column3]]+Table1[[#This Row],[Column2]]+Table1[[#This Row],[Column1]])","v":0},{"$nulls":5},{"$f":"SUM(Table1[[#This Row],[PO Employee]:[Other Employee]])","v":0},"N",{"$error":"#N/A"},{"$f":"IF(O130>39,Table1[[#This Row],[Calc 1]],IF(O130>1,\"Not counted as an Employee\",\"#NA\"))","v":"#NA"},{"$f":"MAX(Table1[[#This Row],[PO Employee]],Table1[[#This Row],[Other HZ Employee]],Table1[[#This Row],[Non HZ Employee]],Table1[[#This Row],[Job Site Employee]],Table1[[#This Row],[Other Employee]])","v":0},{"$f":"IF(Table1[[#This Row],[Total Hours per Month]]=Table1[[#This Row],[Column12]],\"Match\",\"Error\")","v":"Match"},{"$f":"IF(Table1[[#This Row],[Calc 2]]=\"#NA\",\"#NA\",IF(Table1[[#This Row],[Non HZ Employee]]=Table1[[#This Row],[Max calc]],\"Non HZ Employee\", Table1[[#This Row],[Calc 2]]))","v":"#NA"}]
[114," ",114,{"$nulls":5},{"$f":"SUM(Table1[[#This Row],[Column4]]+Table1[[#This Row],[Column3]]+Table1[[#This Row],[Column2]]+Table1[[#This Row],[Column1]])","v":0},{"$nulls":5},{"$f":"SUM(Table1[[#This Row],[PO Employee]:[Other Employee]])","v":0},"N",{"$error":"#N/A"},{"$f":"IF(O131>39,Table1[[#This Row],[Calc 1]],IF(O131>1,\"Not counted as an Employee\",\"#NA\"))","v":"#NA"},{"$f":"MAX(Table1[[#This Row],[PO Employee]],Table1[[#This Row],[Other HZ Employee]],Table1[[#This Row],[Non HZ Employee]],Table1[[#This Row],[Job Site Employee]],Table1[[#This Row],[Other Employee]])","v":0},{"$f":"IF(Table1[[#This Row],[Total Hours per Month]]=Table1[[#This Row],[Column12]],\"Match\",\"Error\")","v":"Match"},{"$f":"IF(Table1[[#This Row],[Calc 2]]=\"#NA\",\"#NA\",IF(Table1[[#This Row],[Non HZ Employee]]=Table1[[#This Row],[Max calc]],\"Non HZ Employee\", Table1[[#This Row],[Calc 2]]))","v":"#NA"}]
[115," ",115,{"$nulls":5},{"$f":"SUM(Table1[[#This Row],[Column4]]+Table1[[#This Row],[Column3]]+Table1[[#This Row],[Column2]]+Table1[[#This Row],[Column1]])","v":0},{"$nulls":5},{"$f":"SUM(Table1[[#This Row],[PO Employee]:[Other Employee]])","v":0},"N",{"$error":"#N/A"},{"$f":"IF(O132>39,Table1[[#This Row],[Calc 1]],IF(O132>1,\"Not counted as an Employee\",\"#NA\"))","v":"#NA"},{"$f":"MAX(Table1[[#This Row],[PO Employee]],Table1[[#This Row],[Other HZ Employee]],Table1[[#This Row],[Non HZ Employee]],Table1[[#This Row],[Job Site Employee]],Table1[[#This Row],[Other Employee]])","v":0},{"$f":"IF(Table1[[#This Row],[Total Hours per Month]]=Table1[[#This Row],[Column12]],\"Match\",\"Error\")","v":"Match"},{"$f":"IF(Table1[[#This Row],[Calc 2]]=\"#NA\",\"#NA\",IF(Table1[[#This Row],[Non HZ Employee]]=Table1[[#This Row],[Max calc]],\"Non HZ Employee\", Table1[[#This Row],[Calc 2]]))","v":"#NA"}]
[116," ",116,{"$nulls":5},{"$f":"SUM(Table1[[#This Row],[Column4]]+Table1[[#This Row],[Column3]]+Table1[[#This Row],[Column2]]+Table1[[#This Row],[Column1]])","v":0},{"$nulls":5},{"$f":"SUM(Table1[[#This Row],[PO Employee]:[Other Employee]])","v":0},"N",{"$error":"#N/A"},{"$f":"IF(O133>39,Table1[[#This Row],[Calc 1]],IF(O133>1,\"Not counted as an Employee\",\"#NA\"))","v":"#NA"},{"$f":"MAX(Table1[[#This Row],[PO Employee]],Table1[[#This Row],[Other HZ Employee]],Table1[[#This Row],[Non HZ Employee]],Table1[[#This Row],[Job Site Employee]],Table1[[#This Row],[Other Employee]])","v":0},{"$f":"IF(Table1[[#This Row],[Total Hours per Month]]=Table1[[#This Row],[Column12]],\"Match\",\"Error\")","v":"Match"},{"$f":"IF(Table1[[#This Row],[Calc 2]]=\"#NA\",\"#NA\",IF(Table1[[#This Row],[Non HZ Employee]]=Table1[[#This Row],[Max calc]],\"Non HZ Employee\", Table1[[#This Row],[Calc 2]]))","v":"#NA"}]
[117," ",117,{"$nulls":5},{"$f":"SUM(Table1[[#This Row],[Column4]]+Table1[[#This Row],[Column3]]+Table1[[#This Row],[Column2]]+Table1[[#This Row],[Column1]])","v":0},{"$nulls":5},{"$f":"SUM(Table1[[#This Row],[PO Employee]:[Other Employee]])","v":0},"N",{"$error":"#N/A"},{"$f":"IF(O134>39,Table1[[#This Row],[Calc 1]],IF(O134>1,\"Not counted as an Employee\",\"#NA\"))","v":"#NA"},{"$f":"MAX(Table1[[#This Row],[PO Employee]],Table1[[#This Row],[Other HZ Employee]],Table1[[#This Row],[Non HZ Employee]],Table1[[#This Row],[Job Site Employee]],Table1[[#This Row],[Other Employee]])","v":0},{"$f":"IF(Table1[[#This Row],[Total Hours per Month]]=Table1[[#This Row],[Column12]],\"Match\",\"Error\")","v":"Match"},{"$f":"IF(Table1[[#This Row],[Calc 2]]=\"#NA\",\"#NA\",IF(Table1[[#This Row],[Non HZ Employee]]=Table1[[#This Row],[Max calc]],\"Non HZ Employee\", Table1[[#This Row],[Calc 2]]))","v":"#NA"}]
[118," ",118,{"$nulls":5},{"$f":"SUM(Table1[[#This Row],[Column4]]+Table1[[#This Row],[Column3]]+Table1[[#This Row],[Column2]]+Table1[[#This Row],[Column1]])","v":0},{"$nulls":5},{"$f":"SUM(Table1[[#This Row],[PO Employee]:[Other Employee]])","v":0},"N",{"$error":"#N/A"},{"$f":"IF(O135>39,Table1[[#This Row],[Calc 1]],IF(O135>1,\"Not counted as an Employee\",\"#NA\"))","v":"#NA"},{"$f":"MAX(Table1[[#This Row],[PO Employee]],Table1[[#This Row],[Other HZ Employee]],Table1[[#This Row],[Non HZ Employee]],Table1[[#This Row],[Job Site Employee]],Table1[[#This Row],[Other Employee]])","v":0},{"$f":"IF(Table1[[#This Row],[Total Hours per Month]]=Table1[[#This Row],[Column12]],\"Match\",\"Error\")","v":"Match"},{"$f":"IF(Table1[[#This Row],[Calc 2]]=\"#NA\",\"#NA\",IF(Table1[[#This Row],[Non HZ Employee]]=Table1[[#This Row],[Max calc]],\"Non HZ Employee\", Table1[[#This Row],[Calc 2]]))","v":"#NA"}]
[119," ",119,{"$nulls":5},{"$f":"SUM(Table1[[#This Row],[Column4]]+Table1[[#This Row],[Column3]]+Table1[[#This Row],[Column2]]+Table1[[#This Row],[Column1]])","v":0},{"$nulls":5},{"$f":"SUM(Table1[[#This Row],[PO Employee]:[Other Employee]])","v":0},"N",{"$error":"#N/A"},{"$f":"IF(O136>39,Table1[[#This Row],[Calc 1]],IF(O136>1,\"Not counted as an Employee\",\"#NA\"))","v":"#NA"},{"$f":"MAX(Table1[[#This Row],[PO Employee]],Table1[[#This Row],[Other HZ Employee]],Table1[[#This Row],[Non HZ Employee]],Table1[[#This Row],[Job Site Employee]],Table1[[#This Row],[Other Employee]])","v":0},{"$f":"IF(Table1[[#This Row],[Total Hours per Month]]=Table1[[#This Row],[Column12]],\"Match\",\"Error\")","v":"Match"},{"$f":"IF(Table1[[#This Row],[Calc 2]]=\"#NA\",\"#NA\",IF(Table1[[#This Row],[Non HZ Employee]]=Table1[[#This Row],[Max calc]],\"Non HZ Employee\", Table1[[#This Row],[Calc 2]]))","v":"#NA"}]
[120," ",120,{"$nulls":5},{"$f":"SUM(Table1[[#This Row],[Column4]]+Table1[[#This Row],[Column3]]+Table1[[#This Row],[Column2]]+Table1[[#This Row],[Column1]])","v":0},{"$nulls":5},{"$f":"SUM(Table1[[#This Row],[PO Employee]:[Other Employee]])","v":0},"N",{"$error":"#N/A"},{"$f":"IF(O137>39,Table1[[#This Row],[Calc 1]],IF(O137>1,\"Not counted as an Employee\",\"#NA\"))","v":"#NA"},{"$f":"MAX(Table1[[#This Row],[PO Employee]],Table1[[#This Row],[Other HZ Employee]],Table1[[#This Row],[Non HZ Employee]],Table1[[#This Row],[Job Site Employee]],Table1[[#This Row],[Other Employee]])","v":0},{"$f":"IF(Table1[[#This Row],[Total Hours per Month]]=Table1[[#This Row],[Column12]],\"Match\",\"Error\")","v":"Match"},{"$f":"IF(Table1[[#This Row],[Calc 2]]=\"#NA\",\"#NA\",IF(Table1[[#This Row],[Non HZ Employee]]=Table1[[#This Row],[Max calc]],\"Non HZ Employee\", Table1[[#This Row],[Calc 2]]))","v":"#NA"}]
[121," ",121,{"$nulls":5},{"$f":"SUM(Table1[[#This Row],[Column4]]+Table1[[#This Row],[Column3]]+Table1[[#This Row],[Column2]]+Table1[[#This Row],[Column1]])","v":0},{"$nulls":5},{"$f":"SUM(Table1[[#This Row],[PO Employee]:[Other Employee]])","v":0},"N",{"$error":"#N/A"},{"$f":"IF(O138>39,Table1[[#This Row],[Calc 1]],IF(O138>1,\"Not counted as an Employee\",\"#NA\"))","v":"#NA"},{"$f":"MAX(Table1[[#This Row],[PO Employee]],Table1[[#This Row],[Other HZ Employee]],Table1[[#This Row],[Non HZ Employee]],Table1[[#This Row],[Job Site Employee]],Table1[[#This Row],[Other Employee]])","v":0},{"$f":"IF(Table1[[#This Row],[Total Hours per Month]]=Table1[[#This Row],[Column12]],\"Match\",\"Error\")","v":"Match"},{"$f":"IF(Table1[[#This Row],[Calc 2]]=\"#NA\",\"#NA\",IF(Table1[[#This Row],[Non HZ Employee]]=Table1[[#This Row],[Max calc]],\"Non HZ Employee\", Table1[[#This Row],[Calc 2]]))","v":"#NA"}]
[122," ",122,{"$nulls":5},{"$f":"SUM(Table1[[#This Row],[Column4]]+Table1[[#This Row],[Column3]]+Table1[[#This Row],[Column2]]+Table1[[#This Row],[Column1]])","v":0},{"$nulls":5},{"$f":"SUM(Table1[[#This Row],[PO Employee]:[Other Employee]])","v":0},"N",{"$error":"#N/A"},{"$f":"IF(O139>39,Table1[[#This Row],[Calc 1]],IF(O139>1,\"Not counted as an Employee\",\"#NA\"))","v":"#NA"},{"$f":"MAX(Table1[[#This Row],[PO Employee]],Table1[[#This Row],[Other HZ Employee]],Table1[[#This Row],[Non HZ Employee]],Table1[[#This Row],[Job Site Employee]],Table1[[#This Row],[Other Employee]])","v":0},{"$f":"IF(Table1[[#This Row],[Total Hours per Month]]=Table1[[#This Row],[Column12]],\"Match\",\"Error\")","v":"Match"},{"$f":"IF(Table1[[#This Row],[Calc 2]]=\"#NA\",\"#NA\",IF(Table1[[#This Row],[Non HZ Employee]]=Table1[[#This Row],[Max calc]],\"Non HZ Employee\", Table1[[#This Row],[Calc 2]]))","v":"#NA"}]
[123," ",123,{"$nulls":5},{"$f":"SUM(Table1[[#This Row],[Column4]]+Table1[[#This Row],[Column3]]+Table1[[#This Row],[Column2]]+Table1[[#This Row],[Column1]])","v":0},{"$nulls":5},{"$f":"SUM(Table1[[#This Row],[PO Employee]:[Other Employee]])","v":0},"N",{"$error":"#N/A"},{"$f":"IF(O140>39,Table1[[#This Row],[Calc 1]],IF(O140>1,\"Not counted as an Employee\",\"#NA\"))","v":"#NA"},{"$f":"MAX(Table1[[#This Row],[PO Employee]],Table1[[#This Row],[Other HZ Employee]],Table1[[#This Row],[Non HZ Employee]],Table1[[#This Row],[Job Site Employee]],Table1[[#This Row],[Other Employee]])","v":0},{"$f":"IF(Table1[[#This Row],[Total Hours per Month]]=Table1[[#This Row],[Column12]],\"Match\",\"Error\")","v":"Match"},{"$f":"IF(Table1[[#This Row],[Calc 2]]=\"#NA\",\"#NA\",IF(Table1[[#This Row],[Non HZ Employee]]=Table1[[#This Row],[Max calc]],\"Non HZ Employee\", Table1[[#This Row],[Calc 2]]))","v":"#NA"}]
[124," ",124,{"$nulls":5},{"$f":"SUM(Table1[[#This Row],[Column4]]+Table1[[#This Row],[Column3]]+Table1[[#This Row],[Column2]]+Table1[[#This Row],[Column1]])","v":0},{"$nulls":5},{"$f":"SUM(Table1[[#This Row],[PO Employee]:[Other Employee]])","v":0},"N",{"$error":"#N/A"},{"$f":"IF(O141>39,Table1[[#This Row],[Calc 1]],IF(O141>1,\"Not counted as an Employee\",\"#NA\"))","v":"#NA"},{"$f":"MAX(Table1[[#This Row],[PO Employee]],Table1[[#This Row],[Other HZ Employee]],Table1[[#This Row],[Non HZ Employee]],Table1[[#This Row],[Job Site Employee]],Table1[[#This Row],[Other Employee]])","v":0},{"$f":"IF(Table1[[#This Row],[Total Hours per Month]]=Table1[[#This Row],[Column12]],\"Match\",\"Error\")","v":"Match"},{"$f":"IF(Table1[[#This Row],[Calc 2]]=\"#NA\",\"#NA\",IF(Table1[[#This Row],[Non HZ Employee]]=Table1[[#This Row],[Max calc]],\"Non HZ Employee\", Table1[[#This Row],[Calc 2]]))","v":"#NA"}]
[125," ",125,{"$nulls":5},{"$f":"SUM(Table1[[#This Row],[Column4]]+Table1[[#This Row],[Column3]]+Table1[[#This Row],[Column2]]+Table1[[#This Row],[Column1]])","v":0},{"$nulls":5},{"$f":"SUM(Table1[[#This Row],[PO Employee]:[Other Employee]])","v":0},"N",{"$error":"#N/A"},{"$f":"IF(O142>39,Table1[[#This Row],[Calc 1]],IF(O142>1,\"Not counted as an Employee\",\"#NA\"))","v":"#NA"},{"$f":"MAX(Table1[[#This Row],[PO Employee]],Table1[[#This Row],[Other HZ Employee]],Table1[[#This Row],[Non HZ Employee]],Table1[[#This Row],[Job Site Employee]],Table1[[#This Row],[Other Employee]])","v":0},{"$f":"IF(Table1[[#This Row],[Total Hours per Month]]=Table1[[#This Row],[Column12]],\"Match\",\"Error\")","v":"Match"},{"$f":"IF(Table1[[#This Row],[Calc 2]]=\"#NA\",\"#NA\",IF(Table1[[#This Row],[Non HZ Employee]]=Table1[[#This Row],[Max calc]],\"Non HZ Employee\", Table1[[#This Row],[Calc 2]]))","v":"#NA"}]
[126," ",126,{"$nulls":5},{"$f":"SUM(Table1[[#This Row],[Column4]]+Table1[[#This Row],[Column3]]+Table1[[#This Row],[Column2]]+Table1[[#This Row],[Column1]])","v":0},{"$nulls":5},{"$f":"SUM(Table1[[#This Row],[PO Employee]:[Other Employee]])","v":0},"N",{"$error":"#N/A"},{"$f":"IF(O143>39,Table1[[#This Row],[Calc 1]],IF(O143>1,\"Not counted as an Employee\",\"#NA\"))","v":"#NA"},{"$f":"MAX(Table1[[#This Row],[PO Employee]],Table1[[#This Row],[Other HZ Employee]],Table1[[#This Row],[Non HZ Employee]],Table1[[#This Row],[Job Site Employee]],Table1[[#This Row],[Other Employee]])","v":0},{"$f":"IF(Table1[[#This Row],[Total Hours per Month]]=Table1[[#This Row],[Column12]],\"Match\",\"Error\")","v":"Match"},{"$f":"IF(Table1[[#This Row],[Calc 2]]=\"#NA\",\"#NA\",IF(Table1[[#This Row],[Non HZ Employee]]=Table1[[#This Row],[Max calc]],\"Non HZ Employee\", Table1[[#This Row],[Calc 2]]))","v":"#NA"}]
[127," ",127,{"$nulls":5},{"$f":"SUM(Table1[[#This Row],[Column4]]+Table1[[#This Row],[Column3]]+Table1[[#This Row],[Column2]]+Table1[[#This Row],[Column1]])","v":0},{"$nulls":5},{"$f":"SUM(Table1[[#This Row],[PO Employee]:[Other Employee]])","v":0},"N",{"$error":"#N/A"},{"$f":"IF(O144>39,Table1[[#This Row],[Calc 1]],IF(O144>1,\"Not counted as an Employee\",\"#NA\"))","v":"#NA"},{"$f":"MAX(Table1[[#This Row],[PO Employee]],Table1[[#This Row],[Other HZ Employee]],Table1[[#This Row],[Non HZ Employee]],Table1[[#This Row],[Job Site Employee]],Table1[[#This Row],[Other Employee]])","v":0},{"$f":"IF(Table1[[#This Row],[Total Hours per Month]]=Table1[[#This Row],[Column12]],\"Match\",\"Error\")","v":"Match"},{"$f":"IF(Table1[[#This Row],[Calc 2]]=\"#NA\",\"#NA\",IF(Table1[[#This Row],[Non HZ Employee]]=Table1[[#This Row],[Max calc]],\"Non HZ Employee\", Table1[[#This Row],[Calc 2]]))","v":"#NA"}]
[128," ",128,{"$nulls":5},{"$f":"SUM(Table1[[#This Row],[Column4]]+Table1[[#This Row],[Column3]]+Table1[[#This Row],[Column2]]+Table1[[#This Row],[Column1]])","v":0},{"$nulls":5},{"$f":"SUM(Table1[[#This Row],[PO Employee]:[Other Employee]])","v":0},"N",{"$error":"#N/A"},{"$f":"IF(O145>39,Table1[[#This Row],[Calc 1]],IF(O145>1,\"Not counted as an Employee\",\"#NA\"))","v":"#NA"},{"$f":"MAX(Table1[[#This Row],[PO Employee]],Table1[[#This Row],[Other HZ Employee]],Table1[[#This Row],[Non HZ Employee]],Table1[[#This Row],[Job Site Employee]],Table1[[#This Row],[Other Employee]])","v":0},{"$f":"IF(Table1[[#This Row],[Total Hours per Month]]=Table1[[#This Row],[Column12]],\"Match\",\"Error\")","v":"Match"},{"$f":"IF(Table1[[#This Row],[Calc 2]]=\"#NA\",\"#NA\",IF(Table1[[#This Row],[Non HZ Employee]]=Table1[[#This Row],[Max calc]],\"Non HZ Employee\", Table1[[#This Row],[Calc 2]]))","v":"#NA"}]
[129," ",129,{"$nulls":5},{"$f":"SUM(Table1[[#This Row],[Column4]]+Table1[[#This Row],[Column3]]+Table1[[#This Row],[Column2]]+Table1[[#This Row],[Column1]])","v":0},{"$nulls":5},{"$f":"SUM(Table1[[#This Row],[PO Employee]:[Other Employee]])","v":0},"N",{"$f":"INDEX($J$17:$N$17,MATCH(MAX(J146:N146),J146:N146,0))","v":{"$error":"#N/A"}},{"$f":"IF(O146>39,Table1[[#This Row],[Calc 1]],IF(O146>1,\"Not counted as an Employee\",\"#NA\"))","v":"#NA"},{"$f":"MAX(Table1[[#This Row],[PO Employee]],Table1[[#This Row],[Other HZ Employee]],Table1[[#This Row],[Non HZ Employee]],Table1[[#This Row],[Job Site Employee]],Table1[[#This Row],[Other Employee]])","v":0},{"$f":"IF(Table1[[#This Row],[Total Hours per Month]]=Table1[[#This Row],[Column12]],\"Match\",\"Error\")","v":"Match"},{"$f":"IF(Table1[[#This Row],[Calc 2]]=\"#NA\",\"#NA\",IF(Table1[[#This Row],[Non HZ Employee]]=Table1[[#This Row],[Max calc]],\"Non HZ Employee\", Table1[[#This Row],[Calc 2]]))","v":"#NA"}]
[130," ",130,{"$nulls":5},{"$f":"SUM(Table1[[#This Row],[Column4]]+Table1[[#This Row],[Column3]]+Table1[[#This Row],[Column2]]+Table1[[#This Row],[Column1]])","v":0},{"$nulls":5},{"$f":"SUM(Table1[[#This Row],[PO Employee]:[Other Employee]])","v":0},{"$f":"IF(O147>=40,\"Y\",\"N\")","v":"N"},{"$error":"#N/A"},{"$f":"IF(O147>39,Table1[[#This Row],[Calc 1]],IF(O147>1,\"Not counted as an Employee\",\"#NA\"))","v":"#NA"},{"$f":"MAX(Table1[[#This Row],[PO Employee]],Table1[[#This Row],[Other HZ Employee]],Table1[[#This Row],[Non HZ Employee]],Table1[[#This Row],[Job Site Employee]],Table1[[#This Row],[Other Employee]])","v":0},{"$f":"IF(Table1[[#This Row],[Total Hours per Month]]=Table1[[#This Row],[Column12]],\"Match\",\"Error\")","v":"Match"},{"$f":"IF(Table1[[#This Row],[Calc 2]]=\"#NA\",\"#NA\",IF(Table1[[#This Row],[Non HZ Employee]]=Table1[[#This Row],[Max calc]],\"Non HZ Employee\", Table1[[#This Row],[Calc 2]]))","v":"#NA"}]
[131," ",131,{"$nulls":5},{"$f":"SUM(Table1[[#This Row],[Column4]]+Table1[[#This Row],[Column3]]+Table1[[#This Row],[Column2]]+Table1[[#This Row],[Column1]])","v":0},{"$nulls":5},{"$f":"SUM(Table1[[#This Row],[PO Employee]:[Other Employee]])","v":0},"N",{"$error":"#N/A"},{"$f":"IF(O148>39,Table1[[#This Row],[Calc 1]],IF(O148>1,\"Not counted as an Employee\",\"#NA\"))","v":"#NA"},{"$f":"MAX(Table1[[#This Row],[PO Employee]],Table1[[#This Row],[Other HZ Employee]],Table1[[#This Row],[Non HZ Employee]],Table1[[#This Row],[Job Site Employee]],Table1[[#This Row],[Other Employee]])","v":0},{"$f":"IF(Table1[[#This Row],[Total Hours per Month]]=Table1[[#This Row],[Column12]],\"Match\",\"Error\")","v":"Match"},{"$f":"IF(Table1[[#This Row],[Calc 2]]=\"#NA\",\"#NA\",IF(Table1[[#This Row],[Non HZ Employee]]=Table1[[#This Row],[Max calc]],\"Non HZ Employee\", Table1[[#This Row],[Calc 2]]))","v":"#NA"}]
[132," ",132,{"$nulls":5},{"$f":"SUM(Table1[[#This Row],[Column4]]+Table1[[#This Row],[Column3]]+Table1[[#This Row],[Column2]]+Table1[[#This Row],[Column1]])","v":0},{"$nulls":5},{"$f":"SUM(Table1[[#This Row],[PO Employee]:[Other Employee]])","v":0},"N",{"$error":"#N/A"},{"$f":"IF(O149>39,Table1[[#This Row],[Calc 1]],IF(O149>1,\"Not counted as an Employee\",\"#NA\"))","v":"#NA"},{"$f":"MAX(Table1[[#This Row],[PO Employee]],Table1[[#This Row],[Other HZ Employee]],Table1[[#This Row],[Non HZ Employee]],Table1[[#This Row],[Job Site Employee]],Table1[[#This Row],[Other Employee]])","v":0},{"$f":"IF(Table1[[#This Row],[Total Hours per Month]]=Table1[[#This Row],[Column12]],\"Match\",\"Error\")","v":"Match"},{"$f":"IF(Table1[[#This Row],[Calc 2]]=\"#NA\",\"#NA\",IF(Table1[[#This Row],[Non HZ Employee]]=Table1[[#This Row],[Max calc]],\"Non HZ Employee\", Table1[[#This Row],[Calc 2]]))","v":"#NA"}]
[133," ",133,{"$nulls":5},{"$f":"SUM(Table1[[#This Row],[Column4]]+Table1[[#This Row],[Column3]]+Table1[[#This Row],[Column2]]+Table1[[#This Row],[Column1]])","v":0},{"$nulls":5},{"$f":"SUM(Table1[[#This Row],[PO Employee]:[Other Employee]])","v":0},"N",{"$error":"#N/A"},{"$f":"IF(O150>39,Table1[[#This Row],[Calc 1]],IF(O150>1,\"Not counted as an Employee\",\"#NA\"))","v":"#NA"},{"$f":"MAX(Table1[[#This Row],[PO Employee]],Table1[[#This Row],[Other HZ Employee]],Table1[[#This Row],[Non HZ Employee]],Table1[[#This Row],[Job Site Employee]],Table1[[#This Row],[Other Employee]])","v":0},{"$f":"IF(Table1[[#This Row],[Total Hours per Month]]=Table1[[#This Row],[Column12]],\"Match\",\"Error\")","v":"Match"},{"$f":"IF(Table1[[#This Row],[Calc 2]]=\"#NA\",\"#NA\",IF(Table1[[#This Row],[Non HZ Employee]]=Table1[[#This Row],[Max calc]],\"Non HZ Employee\", Table1[[#This Row],[Calc 2]]))","v":"#NA"}]
[134," ",134,{"$nulls":5},{"$f":"SUM(Table1[[#This Row],[Column4]]+Table1[[#This Row],[Column3]]+Table1[[#This Row],[Column2]]+Table1[[#This Row],[Column1]])","v":0},{"$nulls":5},{"$f":"SUM(Table1[[#This Row],[PO Employee]:[Other Employee]])","v":0},"N",{"$error":"#N/A"},{"$f":"IF(O151>39,Table1[[#This Row],[Calc 1]],IF(O151>1,\"Not counted as an Employee\",\"#NA\"))","v":"#NA"},{"$f":"MAX(Table1[[#This Row],[PO Employee]],Table1[[#This Row],[Other HZ Employee]],Table1[[#This Row],[Non HZ Employee]],Table1[[#This Row],[Job Site Employee]],Table1[[#This Row],[Other Employee]])","v":0},{"$f":"IF(Table1[[#This Row],[Total Hours per Month]]=Table1[[#This Row],[Column12]],\"Match\",\"Error\")","v":"Match"},{"$f":"IF(Table1[[#This Row],[Calc 2]]=\"#NA\",\"#NA\",IF(Table1[[#This Row],[Non HZ Employee]]=Table1[[#This Row],[Max calc]],\"Non HZ Employee\", Table1[[#This Row],[Calc 2]]))","v":"#NA"}]
[135," ",135,{"$nulls":5},{"$f":"SUM(Table1[[#This Row],[Column4]]+Table1[[#This Row],[Column3]]+Table1[[#This Row],[Column2]]+Table1[[#This Row],[Column1]])","v":0},{"$nulls":5},{"$f":"SUM(Table1[[#This Row],[PO Employee]:[Other Employee]])","v":0},"N",{"$error":"#N/A"},{"$f":"IF(O152>39,Table1[[#This Row],[Calc 1]],IF(O152>1,\"Not counted as an Employee\",\"#NA\"))","v":"#NA"},{"$f":"MAX(Table1[[#This Row],[PO Employee]],Table1[[#This Row],[Other HZ Employee]],Table1[[#This Row],[Non HZ Employee]],Table1[[#This Row],[Job Site Employee]],Table1[[#This Row],[Other Employee]])","v":0},{"$f":"IF(Table1[[#This Row],[Total Hours per Month]]=Table1[[#This Row],[Column12]],\"Match\",\"Error\")","v":"Match"},{"$f":"IF(Table1[[#This Row],[Calc 2]]=\"#NA\",\"#NA\",IF(Table1[[#This Row],[Non HZ Employee]]=Table1[[#This Row],[Max calc]],\"Non HZ Employee\", Table1[[#This Row],[Calc 2]]))","v":"#NA"}]
[136," ",136,{"$nulls":5},{"$f":"SUM(Table1[[#This Row],[Column4]]+Table1[[#This Row],[Column3]]+Table1[[#This Row],[Column2]]+Table1[[#This Row],[Column1]])","v":0},{"$nulls":5},{"$f":"SUM(Table1[[#This Row],[PO Employee]:[Other Employee]])","v":0},"N",{"$error":"#N/A"},{"$f":"IF(O153>39,Table1[[#This Row],[Calc 1]],IF(O153>1,\"Not counted as an Employee\",\"#NA\"))","v":"#NA"},{"$f":"MAX(Table1[[#This Row],[PO Employee]],Table1[[#This Row],[Other HZ Employee]],Table1[[#This Row],[Non HZ Employee]],Table1[[#This Row],[Job Site Employee]],Table1[[#This Row],[Other Employee]])","v":0},{"$f":"IF(Table1[[#This Row],[Total Hours per Month]]=Table1[[#This Row],[Column12]],\"Match\",\"Error\")","v":"Match"},{"$f":"IF(Table1[[#This Row],[Calc 2]]=\"#NA\",\"#NA\",IF(Table1[[#This Row],[Non HZ Employee]]=Table1[[#This Row],[Max calc]],\"Non HZ Employee\", Table1[[#This Row],[Calc 2]]))","v":"#NA"}]
[137," ",137,{"$nulls":5},{"$f":"SUM(Table1[[#This Row],[Column4]]+Table1[[#This Row],[Column3]]+Table1[[#This Row],[Column2]]+Table1[[#This Row],[Column1]])","v":0},{"$nulls":5},{"$f":"SUM(Table1[[#This Row],[PO Employee]:[Other Employee]])","v":0},"N",{"$error":"#N/A"},{"$f":"IF(O154>39,Table1[[#This Row],[Calc 1]],IF(O154>1,\"Not counted as an Employee\",\"#NA\"))","v":"#NA"},{"$f":"MAX(Table1[[#This Row],[PO Employee]],Table1[[#This Row],[Other HZ Employee]],Table1[[#This Row],[Non HZ Employee]],Table1[[#This Row],[Job Site Employee]],Table1[[#This Row],[Other Employee]])","v":0},{"$f":"IF(Table1[[#This Row],[Total Hours per Month]]=Table1[[#This Row],[Column12]],\"Match\",\"Error\")","v":"Match"},{"$f":"IF(Table1[[#This Row],[Calc 2]]=\"#NA\",\"#NA\",IF(Table1[[#This Row],[Non HZ Employee]]=Table1[[#This Row],[Max calc]],\"Non HZ Employee\", Table1[[#This Row],[Calc 2]]))","v":"#NA"}]
[138," ",138,{"$nulls":5},{"$f":"SUM(Table1[[#This Row],[Column4]]+Table1[[#This Row],[Column3]]+Table1[[#This Row],[Column2]]+Table1[[#This Row],[Column1]])","v":0},{"$nulls":5},{"$f":"SUM(Table1[[#This Row],[PO Employee]:[Other Employee]])","v":0},"N",{"$error":"#N/A"},{"$f":"IF(O155>39,Table1[[#This Row],[Calc 1]],IF(O155>1,\"Not counted as an Employee\",\"#NA\"))","v":"#NA"},{"$f":"MAX(Table1[[#This Row],[PO Employee]],Table1[[#This Row],[Other HZ Employee]],Table1[[#This Row],[Non HZ Employee]],Table1[[#This Row],[Job Site Employee]],Table1[[#This Row],[Other Employee]])","v":0},{"$f":"IF(Table1[[#This Row],[Total Hours per Month]]=Table1[[#This Row],[Column12]],\"Match\",\"Error\")","v":"Match"},{"$f":"IF(Table1[[#This Row],[Calc 2]]=\"#NA\",\"#NA\",IF(Table1[[#This Row],[Non HZ Employee]]=Table1[[#This Row],[Max calc]],\"Non HZ Employee\", Table1[[#This Row],[Calc 2]]))","v":"#NA"}]
[139," ",139,{"$nulls":5},{"$f":"SUM(Table1[[#This Row],[Column4]]+Table1[[#This Row],[Column3]]+Table1[[#This Row],[Column2]]+Table1[[#This Row],[Column1]])","v":0},{"$nulls":5},{"$f":"SUM(Table1[[#This Row],[PO Employee]:[Other Employee]])","v":0},"N",{"$error":"#N/A"},{"$f":"IF(O156>39,Table1[[#This Row],[Calc 1]],IF(O156>1,\"Not counted as an Employee\",\"#NA\"))","v":"#NA"},{"$f":"MAX(Table1[[#This Row],[PO Employee]],Table1[[#This Row],[Other HZ Employee]],Table1[[#This Row],[Non HZ Employee]],Table1[[#This Row],[Job Site Employee]],Table1[[#This Row],[Other Employee]])","v":0},{"$f":"IF(Table1[[#This Row],[Total Hours per Month]]=Table1[[#This Row],[Column12]],\"Match\",\"Error\")","v":"Match"},{"$f":"IF(Table1[[#This Row],[Calc 2]]=\"#NA\",\"#NA\",IF(Table1[[#This Row],[Non HZ Employee]]=Table1[[#This Row],[Max calc]],\"Non HZ Employee\", Table1[[#This Row],[Calc 2]]))","v":"#NA"}]
[140," ",140,{"$nulls":5},{"$f":"SUM(Table1[[#This Row],[Column4]]+Table1[[#This Row],[Column3]]+Table1[[#This Row],[Column2]]+Table1[[#This Row],[Column1]])","v":0},{"$nulls":5},{"$f":"SUM(Table1[[#This Row],[PO Employee]:[Other Employee]])","v":0},"N",{"$error":"#N/A"},{"$f":"IF(O157>39,Table1[[#This Row],[Calc 1]],IF(O157>1,\"Not counted as an Employee\",\"#NA\"))","v":"#NA"},{"$f":"MAX(Table1[[#This Row],[PO Employee]],Table1[[#This Row],[Other HZ Employee]],Table1[[#This Row],[Non HZ Employee]],Table1[[#This Row],[Job Site Employee]],Table1[[#This Row],[Other Employee]])","v":0},{"$f":"IF(Table1[[#This Row],[Total Hours per Month]]=Table1[[#This Row],[Column12]],\"Match\",\"Error\")","v":"Match"},{"$f":"IF(Table1[[#This Row],[Calc 2]]=\"#NA\",\"#NA\",IF(Table1[[#This Row],[Non HZ Employee]]=Table1[[#This Row],[Max calc]],\"Non HZ Employee\", Table1[[#This Row],[Calc 2]]))","v":"#NA"}]
[141," ",141,{"$nulls":5},{"$f":"SUM(Table1[[#This Row],[Column4]]+Table1[[#This Row],[Column3]]+Table1[[#This Row],[Column2]]+Table1[[#This Row],[Column1]])","v":0},{"$nulls":5},{"$f":"SUM(Table1[[#This Row],[PO Employee]:[Other Employee]])","v":0},"N",{"$error":"#N/A"},{"$f":"IF(O158>39,Table1[[#This Row],[Calc 1]],IF(O158>1,\"Not counted as an Employee\",\"#NA\"))","v":"#NA"},{"$f":"MAX(Table1[[#This Row],[PO Employee]],Table1[[#This Row],[Other HZ Employee]],Table1[[#This Row],[Non HZ Employee]],Table1[[#This Row],[Job Site Employee]],Table1[[#This Row],[Other Employee]])","v":0},{"$f":"IF(Table1[[#This Row],[Total Hours per Month]]=Table1[[#This Row],[Column12]],\"Match\",\"Error\")","v":"Match"},{"$f":"IF(Table1[[#This Row],[Calc 2]]=\"#NA\",\"#NA\",IF(Table1[[#This Row],[Non HZ Employee]]=Table1[[#This Row],[Max calc]],\"Non HZ Employee\", Table1[[#This Row],[Calc 2]]))","v":"#NA"}]
[142," ",142,{"$nulls":5},{"$f":"SUM(Table1[[#This Row],[Column4]]+Table1[[#This Row],[Column3]]+Table1[[#This Row],[Column2]]+Table1[[#This Row],[Column1]])","v":0},{"$nulls":5},{"$f":"SUM(Table1[[#This Row],[PO Employee]:[Other Employee]])","v":0},"N",{"$error":"#N/A"},{"$f":"IF(O159>39,Table1[[#This Row],[Calc 1]],IF(O159>1,\"Not counted as an Employee\",\"#NA\"))","v":"#NA"},{"$f":"MAX(Table1[[#This Row],[PO Employee]],Table1[[#This Row],[Other HZ Employee]],Table1[[#This Row],[Non HZ Employee]],Table1[[#This Row],[Job Site Employee]],Table1[[#This Row],[Other Employee]])","v":0},{"$f":"IF(Table1[[#This Row],[Total Hours per Month]]=Table1[[#This Row],[Column12]],\"Match\",\"Error\")","v":"Match"},{"$f":"IF(Table1[[#This Row],[Calc 2]]=\"#NA\",\"#NA\",IF(Table1[[#This Row],[Non HZ Employee]]=Table1[[#This Row],[Max calc]],\"Non HZ Employee\", Table1[[#This Row],[Calc 2]]))","v":"#NA"}]
[143," ",143,{"$nulls":5},{"$f":"SUM(Table1[[#This Row],[Column4]]+Table1[[#This Row],[Column3]]+Table1[[#This Row],[Column2]]+Table1[[#This Row],[Column1]])","v":0},{"$nulls":5},{"$f":"SUM(Table1[[#This Row],[PO Employee]:[Other Employee]])","v":0},"N",{"$error":"#N/A"},{"$f":"IF(O160>39,Table1[[#This Row],[Calc 1]],IF(O160>1,\"Not counted as an Employee\",\"#NA\"))","v":"#NA"},{"$f":"MAX(Table1[[#This Row],[PO Employee]],Table1[[#This Row],[Other HZ Employee]],Table1[[#This Row],[Non HZ Employee]],Table1[[#This Row],[Job Site Employee]],Table1[[#This Row],[Other Employee]])","v":0},{"$f":"IF(Table1[[#This Row],[Total Hours per Month]]=Table1[[#This Row],[Column12]],\"Match\",\"Error\")","v":"Match"},{"$f":"IF(Table1[[#This Row],[Calc 2]]=\"#NA\",\"#NA\",IF(Table1[[#This Row],[Non HZ Employee]]=Table1[[#This Row],[Max calc]],\"Non HZ Employee\", Table1[[#This Row],[Calc 2]]))","v":"#NA"}]
[144," ",144,{"$nulls":5},{"$f":"SUM(Table1[[#This Row],[Column4]]+Table1[[#This Row],[Column3]]+Table1[[#This Row],[Column2]]+Table1[[#This Row],[Column1]])","v":0},{"$nulls":5},{"$f":"SUM(Table1[[#This Row],[PO Employee]:[Other Employee]])","v":0},"N",{"$error":"#N/A"},{"$f":"IF(O161>39,Table1[[#This Row],[Calc 1]],IF(O161>1,\"Not counted as an Employee\",\"#NA\"))","v":"#NA"},{"$f":"MAX(Table1[[#This Row],[PO Employee]],Table1[[#This Row],[Other HZ Employee]],Table1[[#This Row],[Non HZ Employee]],Table1[[#This Row],[Job Site Employee]],Table1[[#This Row],[Other Employee]])","v":0},{"$f":"IF(Table1[[#This Row],[Total Hours per Month]]=Table1[[#This Row],[Column12]],\"Match\",\"Error\")","v":"Match"},{"$f":"IF(Table1[[#This Row],[Calc 2]]=\"#NA\",\"#NA\",IF(Table1[[#This Row],[Non HZ Employee]]=Table1[[#This Row],[Max calc]],\"Non HZ Employee\", Table1[[#This Row],[Calc 2]]))","v":"#NA"}]
[145," ",145,{"$nulls":5},{"$f":"SUM(Table1[[#This Row],[Column4]]+Table1[[#This Row],[Column3]]+Table1[[#This Row],[Column2]]+Table1[[#This Row],[Column1]])","v":0},{"$nulls":5},{"$f":"SUM(Table1[[#This Row],[PO Employee]:[Other Employee]])","v":0},"N",{"$error":"#N/A"},{"$f":"IF(O162>39,Table1[[#This Row],[Calc 1]],IF(O162>1,\"Not counted as an Employee\",\"#NA\"))","v":"#NA"},{"$f":"MAX(Table1[[#This Row],[PO Employee]],Table1[[#This Row],[Other HZ Employee]],Table1[[#This Row],[Non HZ Employee]],Table1[[#This Row],[Job Site Employee]],Table1[[#This Row],[Other Employee]])","v":0},{"$f":"IF(Table1[[#This Row],[Total Hours per Month]]=Table1[[#This Row],[Column12]],\"Match\",\"Error\")","v":"Match"},{"$f":"IF(Table1[[#This Row],[Calc 2]]=\"#NA\",\"#NA\",IF(Table1[[#This Row],[Non HZ Employee]]=Table1[[#This Row],[Max calc]],\"Non HZ Employee\", Table1[[#This Row],[Calc 2]]))","v":"#NA"}]
[146," ",146,{"$nulls":5},{"$f":"SUM(Table1[[#This Row],[Column4]]+Table1[[#This Row],[Column3]]+Table1[[#This Row],[Column2]]+Table1[[#This Row],[Column1]])","v":0},{"$nulls":5},{"$f":"SUM(Table1[[#This Row],[PO Employee]:[Other Employee]])","v":0},"N",{"$error":"#N/A"},{"$f":"IF(O163>39,Table1[[#This Row],[Calc 1]],IF(O163>1,\"Not counted as an Employee\",\"#NA\"))","v":"#NA"},{"$f":"MAX(Table1[[#This Row],[PO Employee]],Table1[[#This Row],[Other HZ Employee]],Table1[[#This Row],[Non HZ Employee]],Table1[[#This Row],[Job Site Employee]],Table1[[#This Row],[Other Employee]])","v":0},{"$f":"IF(Table1[[#This Row],[Total Hours per Month]]=Table1[[#This Row],[Column12]],\"Match\",\"Error\")","v":"Match"},{"$f":"IF(Table1[[#This Row],[Calc 2]]=\"#NA\",\"#NA\",IF(Table1[[#This Row],[Non HZ Employee]]=Table1[[#This Row],[Max calc]],\"Non HZ Employee\", Table1[[#This Row],[Calc 2]]))","v":"#NA"}]
[147," ",147,{"$nulls":5},{"$f":"SUM(Table1[[#This Row],[Column4]]+Table1[[#This Row],[Column3]]+Table1[[#This Row],[Column2]]+Table1[[#This Row],[Column1]])","v":0},{"$nulls":5},{"$f":"SUM(Table1[[#This Row],[PO Employee]:[Other Employee]])","v":0},"N",{"$error":"#N/A"},{"$f":"IF(O164>39,Table1[[#This Row],[Calc 1]],IF(O164>1,\"Not counted as an Employee\",\"#NA\"))","v":"#NA"},{"$f":"MAX(Table1[[#This Row],[PO Employee]],Table1[[#This Row],[Other HZ Employee]],Table1[[#This Row],[Non HZ Employee]],Table1[[#This Row],[Job Site Employee]],Table1[[#This Row],[Other Employee]])","v":0},{"$f":"IF(Table1[[#This Row],[Total Hours per Month]]=Table1[[#This Row],[Column12]],\"Match\",\"Error\")","v":"Match"},{"$f":"IF(Table1[[#This Row],[Calc 2]]=\"#NA\",\"#NA\",IF(Table1[[#This Row],[Non HZ Employee]]=Table1[[#This Row],[Max calc]],\"Non HZ Employee\", Table1[[#This Row],[Calc 2]]))","v":"#NA"}]
[148," ",148,{"$nulls":5},{"$f":"SUM(Table1[[#This Row],[Column4]]+Table1[[#This Row],[Column3]]+Table1[[#This Row],[Column2]]+Table1[[#This Row],[Column1]])","v":0},{"$nulls":5},{"$f":"SUM(Table1[[#This Row],[PO Employee]:[Other Employee]])","v":0},"N",{"$error":"#N/A"},{"$f":"IF(O165>39,Table1[[#This Row],[Calc 1]],IF(O165>1,\"Not counted as an Employee\",\"#NA\"))","v":"#NA"},{"$f":"MAX(Table1[[#This Row],[PO Employee]],Table1[[#This Row],[Other HZ Employee]],Table1[[#This Row],[Non HZ Employee]],Table1[[#This Row],[Job Site Employee]],Table1[[#This Row],[Other Employee]])","v":0},{"$f":"IF(Table1[[#This Row],[Total Hours per Month]]=Table1[[#This Row],[Column12]],\"Match\",\"Error\")","v":"Match"},{"$f":"IF(Table1[[#This Row],[Calc 2]]=\"#NA\",\"#NA\",IF(Table1[[#This Row],[Non HZ Employee]]=Table1[[#This Row],[Max calc]],\"Non HZ Employee\", Table1[[#This Row],[Calc 2]]))","v":"#NA"}]
[149," ",149,{"$nulls":5},{"$f":"SUM(Table1[[#This Row],[Column4]]+Table1[[#This Row],[Column3]]+Table1[[#This Row],[Column2]]+Table1[[#This Row],[Column1]])","v":0},{"$nulls":5},{"$f":"SUM(Table1[[#This Row],[PO Employee]:[Other Employee]])","v":0},"N",{"$error":"#N/A"},{"$f":"IF(O166>39,Table1[[#This Row],[Calc 1]],IF(O166>1,\"Not counted as an Employee\",\"#NA\"))","v":"#NA"},{"$f":"MAX(Table1[[#This Row],[PO Employee]],Table1[[#This Row],[Other HZ Employee]],Table1[[#This Row],[Non HZ Employee]],Table1[[#This Row],[Job Site Employee]],Table1[[#This Row],[Other Employee]])","v":0},{"$f":"IF(Table1[[#This Row],[Total Hours per Month]]=Table1[[#This Row],[Column12]],\"Match\",\"Error\")","v":"Match"},{"$f":"IF(Table1[[#This Row],[Calc 2]]=\"#NA\",\"#NA\",IF(Table1[[#This Row],[Non HZ Employee]]=Table1[[#This Row],[Max calc]],\"Non HZ Employee\", Table1[[#This Row],[Calc 2]]))","v":"#NA"}]
[150," ",150,{"$nulls":5},{"$f":"SUM(Table1[[#This Row],[Column4]]+Table1[[#This Row],[Column3]]+Table1[[#This Row],[Column2]]+Table1[[#This Row],[Column1]])","v":0},{"$nulls":5},{"$f":"SUM(Table1[[#This Row],[PO Employee]:[Other Employee]])","v":0},"N",{"$error":"#N/A"},{"$f":"IF(O167>39,Table1[[#This Row],[Calc 1]],IF(O167>1,\"Not counted as an Employee\",\"#NA\"))","v":"#NA"},{"$f":"MAX(Table1[[#This Row],[PO Employee]],Table1[[#This Row],[Other HZ Employee]],Table1[[#This Row],[Non HZ Employee]],Table1[[#This Row],[Job Site Employee]],Table1[[#This Row],[Other Employee]])","v":0},{"$f":"IF(Table1[[#This Row],[Total Hours per Month]]=Table1[[#This Row],[Column12]],\"Match\",\"Error\")","v":"Match"},{"$f":"IF(Table1[[#This Row],[Calc 2]]=\"#NA\",\"#NA\",IF(Table1[[#This Row],[Non HZ Employee]]=Table1[[#This Row],[Max calc]],\"Non HZ Employee\", Table1[[#This Row],[Calc 2]]))","v":"#NA"}]
[151," ",151,{"$nulls":5},{"$f":"SUM(Table1[[#This Row],[Column4]]+Table1[[#This Row],[Column3]]+Table1[[#This Row],[Column2]]+Table1[[#This Row],[Column1]])","v":0},{"$nulls":5},{"$f":"SUM(Table1[[#This Row],[PO Employee]:[Other Employee]])","v":0},"N",{"$error":"#N/A"},{"$f":"IF(O168>39,Table1[[#This Row],[Calc 1]],IF(O168>1,\"Not counted as an Employee\",\"#NA\"))","v":"#NA"},{"$f":"MAX(Table1[[#This Row],[PO Employee]],Table1[[#This Row],[Other HZ Employee]],Table1[[#This Row],[Non HZ Employee]],Table1[[#This Row],[Job Site Employee]],Table1[[#This Row],[Other Employee]])","v":0},{"$f":"IF(Table1[[#This Row],[Total Hours per Month]]=Table1[[#This Row],[Column12]],\"Match\",\"Error\")","v":"Match"},{"$f":"IF(Table1[[#This Row],[Calc 2]]=\"#NA\",\"#NA\",IF(Table1[[#This Row],[Non HZ Employee]]=Table1[[#This Row],[Max calc]],\"Non HZ Employee\", Table1[[#This Row],[Calc 2]]))","v":"#NA"}]
[152," ",152,{"$nulls":5},{"$f":"SUM(Table1[[#This Row],[Column4]]+Table1[[#This Row],[Column3]]+Table1[[#This Row],[Column2]]+Table1[[#This Row],[Column1]])","v":0},{"$nulls":5},{"$f":"SUM(Table1[[#This Row],[PO Employee]:[Other Employee]])","v":0},"N",{"$error":"#N/A"},{"$f":"IF(O169>39,Table1[[#This Row],[Calc 1]],IF(O169>1,\"Not counted as an Employee\",\"#NA\"))","v":"#NA"},{"$f":"MAX(Table1[[#This Row],[PO Employee]],Table1[[#This Row],[Other HZ Employee]],Table1[[#This Row],[Non HZ Employee]],Table1[[#This Row],[Job Site Employee]],Table1[[#This Row],[Other Employee]])","v":0},{"$f":"IF(Table1[[#This Row],[Total Hours per Month]]=Table1[[#This Row],[Column12]],\"Match\",\"Error\")","v":"Match"},{"$f":"IF(Table1[[#This Row],[Calc 2]]=\"#NA\",\"#NA\",IF(Table1[[#This Row],[Non HZ Employee]]=Table1[[#This Row],[Max calc]],\"Non HZ Employee\", Table1[[#This Row],[Calc 2]]))","v":"#NA"}]
[153," ",153,{"$nulls":5},{"$f":"SUM(Table1[[#This Row],[Column4]]+Table1[[#This Row],[Column3]]+Table1[[#This Row],[Column2]]+Table1[[#This Row],[Column1]])","v":0},{"$nulls":5},{"$f":"SUM(Table1[[#This Row],[PO Employee]:[Other Employee]])","v":0},"N",{"$error":"#N/A"},{"$f":"IF(O170>39,Table1[[#This Row],[Calc 1]],IF(O170>1,\"Not counted as an Employee\",\"#NA\"))","v":"#NA"},{"$f":"MAX(Table1[[#This Row],[PO Employee]],Table1[[#This Row],[Other HZ Employee]],Table1[[#This Row],[Non HZ Employee]],Table1[[#This Row],[Job Site Employee]],Table1[[#This Row],[Other Employee]])","v":0},{"$f":"IF(Table1[[#This Row],[Total Hours per Month]]=Table1[[#This Row],[Column12]],\"Match\",\"Error\")","v":"Match"},{"$f":"IF(Table1[[#This Row],[Calc 2]]=\"#NA\",\"#NA\",IF(Table1[[#This Row],[Non HZ Employee]]=Table1[[#This Row],[Max calc]],\"Non HZ Employee\", Table1[[#This Row],[Calc 2]]))","v":"#NA"}]
[154," ",154,{"$nulls":5},{"$f":"SUM(Table1[[#This Row],[Column4]]+Table1[[#This Row],[Column3]]+Table1[[#This Row],[Column2]]+Table1[[#This Row],[Column1]])","v":0},{"$nulls":5},{"$f":"SUM(Table1[[#This Row],[PO Employee]:[Other Employee]])","v":0},"N",{"$error":"#N/A"},{"$f":"IF(O171>39,Table1[[#This Row],[Calc 1]],IF(O171>1,\"Not counted as an Employee\",\"#NA\"))","v":"#NA"},{"$f":"MAX(Table1[[#This Row],[PO Employee]],Table1[[#This Row],[Other HZ Employee]],Table1[[#This Row],[Non HZ Employee]],Table1[[#This Row],[Job Site Employee]],Table1[[#This Row],[Other Employee]])","v":0},{"$f":"IF(Table1[[#This Row],[Total Hours per Month]]=Table1[[#This Row],[Column12]],\"Match\",\"Error\")","v":"Match"},{"$f":"IF(Table1[[#This Row],[Calc 2]]=\"#NA\",\"#NA\",IF(Table1[[#This Row],[Non HZ Employee]]=Table1[[#This Row],[Max calc]],\"Non HZ Employee\", Table1[[#This Row],[Calc 2]]))","v":"#NA"}]
[155," ",155,{"$nulls":5},{"$f":"SUM(Table1[[#This Row],[Column4]]+Table1[[#This Row],[Column3]]+Table1[[#This Row],[Column2]]+Table1[[#This Row],[Column1]])","v":0},{"$nulls":5},{"$f":"SUM(Table1[[#This Row],[PO Employee]:[Other Employee]])","v":0},"N",{"$error":"#N/A"},{"$f":"IF(O172>39,Table1[[#This Row],[Calc 1]],IF(O172>1,\"Not counted as an Employee\",\"#NA\"))","v":"#NA"},{"$f":"MAX(Table1[[#This Row],[PO Employee]],Table1[[#This Row],[Other HZ Employee]],Table1[[#This Row],[Non HZ Employee]],Table1[[#This Row],[Job Site Employee]],Table1[[#This Row],[Other Employee]])","v":0},{"$f":"IF(Table1[[#This Row],[Total Hours per Month]]=Table1[[#This Row],[Column12]],\"Match\",\"Error\")","v":"Match"},{"$f":"IF(Table1[[#This Row],[Calc 2]]=\"#NA\",\"#NA\",IF(Table1[[#This Row],[Non HZ Employee]]=Table1[[#This Row],[Max calc]],\"Non HZ Employee\", Table1[[#This Row],[Calc 2]]))","v":"#NA"}]
[156," ",156,{"$nulls":5},{"$f":"SUM(Table1[[#This Row],[Column4]]+Table1[[#This Row],[Column3]]+Table1[[#This Row],[Column2]]+Table1[[#This Row],[Column1]])","v":0},{"$nulls":5},{"$f":"SUM(Table1[[#This Row],[PO Employee]:[Other Employee]])","v":0},"N",{"$error":"#N/A"},{"$f":"IF(O173>39,Table1[[#This Row],[Calc 1]],IF(O173>1,\"Not counted as an Employee\",\"#NA\"))","v":"#NA"},{"$f":"MAX(Table1[[#This Row],[PO Employee]],Table1[[#This Row],[Other HZ Employee]],Table1[[#This Row],[Non HZ Employee]],Table1[[#This Row],[Job Site Employee]],Table1[[#This Row],[Other Employee]])","v":0},{"$f":"IF(Table1[[#This Row],[Total Hours per Month]]=Table1[[#This Row],[Column12]],\"Match\",\"Error\")","v":"Match"},{"$f":"IF(Table1[[#This Row],[Calc 2]]=\"#NA\",\"#NA\",IF(Table1[[#This Row],[Non HZ Employee]]=Table1[[#This Row],[Max calc]],\"Non HZ Employee\", Table1[[#This Row],[Calc 2]]))","v":"#NA"}]
[157," ",157,{"$nulls":5},{"$f":"SUM(Table1[[#This Row],[Column4]]+Table1[[#This Row],[Column3]]+Table1[[#This Row],[Column2]]+Table1[[#This Row],[Column1]])","v":0},{"$nulls":5},{"$f":"SUM(Table1[[#This Row],[PO Employee]:[Other Employee]])","v":0},"N",{"$error":"#N/A"},{"$f":"IF(O174>39,Table1[[#This Row],[Calc 1]],IF(O174>1,\"Not counted as an Employee\",\"#NA\"))","v":"#NA"},{"$f":"MAX(Table1[[#This Row],[PO Employee]],Table1[[#This Row],[Other HZ Employee]],Table1[[#This Row],[Non HZ Employee]],Table1[[#This Row],[Job Site Employee]],Table1[[#This Row],[Other Employee]])","v":0},{"$f":"IF(Table1[[#This Row],[Total Hours per Month]]=Table1[[#This Row],[Column12]],\"Match\",\"Error\")","v":"Match"},{"$f":"IF(Table1[[#This Row],[Calc 2]]=\"#NA\",\"#NA\",IF(Table1[[#This Row],[Non HZ Employee]]=Table1[[#This Row],[Max calc]],\"Non HZ Employee\", Table1[[#This Row],[Calc 2]]))","v":"#NA"}]
[158," ",158,{"$nulls":5},{"$f":"SUM(Table1[[#This Row],[Column4]]+Table1[[#This Row],[Column3]]+Table1[[#This Row],[Column2]]+Table1[[#This Row],[Column1]])","v":0},{"$nulls":5},{"$f":"SUM(Table1[[#This Row],[PO Employee]:[Other Employee]])","v":0},"N",{"$error":"#N/A"},{"$f":"IF(O175>39,Table1[[#This Row],[Calc 1]],IF(O175>1,\"Not counted as an Employee\",\"#NA\"))","v":"#NA"},{"$f":"MAX(Table1[[#This Row],[PO Employee]],Table1[[#This Row],[Other HZ Employee]],Table1[[#This Row],[Non HZ Employee]],Table1[[#This Row],[Job Site Employee]],Table1[[#This Row],[Other Employee]])","v":0},{"$f":"IF(Table1[[#This Row],[Total Hours per Month]]=Table1[[#This Row],[Column12]],\"Match\",\"Error\")","v":"Match"},{"$f":"IF(Table1[[#This Row],[Calc 2]]=\"#NA\",\"#NA\",IF(Table1[[#This Row],[Non HZ Employee]]=Table1[[#This Row],[Max calc]],\"Non HZ Employee\", Table1[[#This Row],[Calc 2]]))","v":"#NA"}]
[159," ",159,{"$nulls":5},{"$f":"SUM(Table1[[#This Row],[Column4]]+Table1[[#This Row],[Column3]]+Table1[[#This Row],[Column2]]+Table1[[#This Row],[Column1]])","v":0},{"$nulls":5},{"$f":"SUM(Table1[[#This Row],[PO Employee]:[Other Employee]])","v":0},"N",{"$error":"#N/A"},{"$f":"IF(O176>39,Table1[[#This Row],[Calc 1]],IF(O176>1,\"Not counted as an Employee\",\"#NA\"))","v":"#NA"},{"$f":"MAX(Table1[[#This Row],[PO Employee]],Table1[[#This Row],[Other HZ Employee]],Table1[[#This Row],[Non HZ Employee]],Table1[[#This Row],[Job Site Employee]],Table1[[#This Row],[Other Employee]])","v":0},{"$f":"IF(Table1[[#This Row],[Total Hours per Month]]=Table1[[#This Row],[Column12]],\"Match\",\"Error\")","v":"Match"},{"$f":"IF(Table1[[#This Row],[Calc 2]]=\"#NA\",\"#NA\",IF(Table1[[#This Row],[Non HZ Employee]]=Table1[[#This Row],[Max calc]],\"Non HZ Employee\", Table1[[#This Row],[Calc 2]]))","v":"#NA"}]
[160," ",160,{"$nulls":5},{"$f":"SUM(Table1[[#This Row],[Column4]]+Table1[[#This Row],[Column3]]+Table1[[#This Row],[Column2]]+Table1[[#This Row],[Column1]])","v":0},{"$nulls":5},{"$f":"SUM(Table1[[#This Row],[PO Employee]:[Other Employee]])","v":0},"N",{"$error":"#N/A"},{"$f":"IF(O177>39,Table1[[#This Row],[Calc 1]],IF(O177>1,\"Not counted as an Employee\",\"#NA\"))","v":"#NA"},{"$f":"MAX(Table1[[#This Row],[PO Employee]],Table1[[#This Row],[Other HZ Employee]],Table1[[#This Row],[Non HZ Employee]],Table1[[#This Row],[Job Site Employee]],Table1[[#This Row],[Other Employee]])","v":0},{"$f":"IF(Table1[[#This Row],[Total Hours per Month]]=Table1[[#This Row],[Column12]],\"Match\",\"Error\")","v":"Match"},{"$f":"IF(Table1[[#This Row],[Calc 2]]=\"#NA\",\"#NA\",IF(Table1[[#This Row],[Non HZ Employee]]=Table1[[#This Row],[Max calc]],\"Non HZ Employee\", Table1[[#This Row],[Calc 2]]))","v":"#NA"}]
[161," ",161,{"$nulls":5},{"$f":"SUM(Table1[[#This Row],[Column4]]+Table1[[#This Row],[Column3]]+Table1[[#This Row],[Column2]]+Table1[[#This Row],[Column1]])","v":0},{"$nulls":5},{"$f":"SUM(Table1[[#This Row],[PO Employee]:[Other Employee]])","v":0},"N",{"$error":"#N/A"},{"$f":"IF(O178>39,Table1[[#This Row],[Calc 1]],IF(O178>1,\"Not counted as an Employee\",\"#NA\"))","v":"#NA"},{"$f":"MAX(Table1[[#This Row],[PO Employee]],Table1[[#This Row],[Other HZ Employee]],Table1[[#This Row],[Non HZ Employee]],Table1[[#This Row],[Job Site Employee]],Table1[[#This Row],[Other Employee]])","v":0},{"$f":"IF(Table1[[#This Row],[Total Hours per Month]]=Table1[[#This Row],[Column12]],\"Match\",\"Error\")","v":"Match"},{"$f":"IF(Table1[[#This Row],[Calc 2]]=\"#NA\",\"#NA\",IF(Table1[[#This Row],[Non HZ Employee]]=Table1[[#This Row],[Max calc]],\"Non HZ Employee\", Table1[[#This Row],[Calc 2]]))","v":"#NA"}]
[162," ",162,{"$nulls":5},{"$f":"SUM(Table1[[#This Row],[Column4]]+Table1[[#This Row],[Column3]]+Table1[[#This Row],[Column2]]+Table1[[#This Row],[Column1]])","v":0},{"$nulls":5},{"$f":"SUM(Table1[[#This Row],[PO Employee]:[Other Employee]])","v":0},"N",{"$error":"#N/A"},{"$f":"IF(O179>39,Table1[[#This Row],[Calc 1]],IF(O179>1,\"Not counted as an Employee\",\"#NA\"))","v":"#NA"},{"$f":"MAX(Table1[[#This Row],[PO Employee]],Table1[[#This Row],[Other HZ Employee]],Table1[[#This Row],[Non HZ Employee]],Table1[[#This Row],[Job Site Employee]],Table1[[#This Row],[Other Employee]])","v":0},{"$f":"IF(Table1[[#This Row],[Total Hours per Month]]=Table1[[#This Row],[Column12]],\"Match\",\"Error\")","v":"Match"},{"$f":"IF(Table1[[#This Row],[Calc 2]]=\"#NA\",\"#NA\",IF(Table1[[#This Row],[Non HZ Employee]]=Table1[[#This Row],[Max calc]],\"Non HZ Employee\", Table1[[#This Row],[Calc 2]]))","v":"#NA"}]
[163," ",163,{"$nulls":5},{"$f":"SUM(Table1[[#This Row],[Column4]]+Table1[[#This Row],[Column3]]+Table1[[#This Row],[Column2]]+Table1[[#This Row],[Column1]])","v":0},{"$nulls":5},{"$f":"SUM(Table1[[#This Row],[PO Employee]:[Other Employee]])","v":0},"N",{"$error":"#N/A"},{"$f":"IF(O180>39,Table1[[#This Row],[Calc 1]],IF(O180>1,\"Not counted as an Employee\",\"#NA\"))","v":"#NA"},{"$f":"MAX(Table1[[#This Row],[PO Employee]],Table1[[#This Row],[Other HZ Employee]],Table1[[#This Row],[Non HZ Employee]],Table1[[#This Row],[Job Site Employee]],Table1[[#This Row],[Other Employee]])","v":0},{"$f":"IF(Table1[[#This Row],[Total Hours per Month]]=Table1[[#This Row],[Column12]],\"Match\",\"Error\")","v":"Match"},{"$f":"IF(Table1[[#This Row],[Calc 2]]=\"#NA\",\"#NA\",IF(Table1[[#This Row],[Non HZ Employee]]=Table1[[#This Row],[Max calc]],\"Non HZ Employee\", Table1[[#This Row],[Calc 2]]))","v":"#NA"}]
[164," ",164,{"$nulls":5},{"$f":"SUM(Table1[[#This Row],[Column4]]+Table1[[#This Row],[Column3]]+Table1[[#This Row],[Column2]]+Table1[[#This Row],[Column1]])","v":0},{"$nulls":5},{"$f":"SUM(Table1[[#This Row],[PO Employee]:[Other Employee]])","v":0},"N",{"$error":"#N/A"},{"$f":"IF(O181>39,Table1[[#This Row],[Calc 1]],IF(O181>1,\"Not counted as an Employee\",\"#NA\"))","v":"#NA"},{"$f":"MAX(Table1[[#This Row],[PO Employee]],Table1[[#This Row],[Other HZ Employee]],Table1[[#This Row],[Non HZ Employee]],Table1[[#This Row],[Job Site Employee]],Table1[[#This Row],[Other Employee]])","v":0},{"$f":"IF(Table1[[#This Row],[Total Hours per Month]]=Table1[[#This Row],[Column12]],\"Match\",\"Error\")","v":"Match"},{"$f":"IF(Table1[[#This Row],[Calc 2]]=\"#NA\",\"#NA\",IF(Table1[[#This Row],[Non HZ Employee]]=Table1[[#This Row],[Max calc]],\"Non HZ Employee\", Table1[[#This Row],[Calc 2]]))","v":"#NA"}]
[165," ",165,{"$nulls":5},{"$f":"SUM(Table1[[#This Row],[Column4]]+Table1[[#This Row],[Column3]]+Table1[[#This Row],[Column2]]+Table1[[#This Row],[Column1]])","v":0},{"$nulls":5},{"$f":"SUM(Table1[[#This Row],[PO Employee]:[Other Employee]])","v":0},"N",{"$error":"#N/A"},{"$f":"IF(O182>39,Table1[[#This Row],[Calc 1]],IF(O182>1,\"Not counted as an Employee\",\"#NA\"))","v":"#NA"},{"$f":"MAX(Table1[[#This Row],[PO Employee]],Table1[[#This Row],[Other HZ Employee]],Table1[[#This Row],[Non HZ Employee]],Table1[[#This Row],[Job Site Employee]],Table1[[#This Row],[Other Employee]])","v":0},{"$f":"IF(Table1[[#This Row],[Total Hours per Month]]=Table1[[#This Row],[Column12]],\"Match\",\"Error\")","v":"Match"},{"$f":"IF(Table1[[#This Row],[Calc 2]]=\"#NA\",\"#NA\",IF(Table1[[#This Row],[Non HZ Employee]]=Table1[[#This Row],[Max calc]],\"Non HZ Employee\", Table1[[#This Row],[Calc 2]]))","v":"#NA"}]
[166," ",166,{"$nulls":5},{"$f":"SUM(Table1[[#This Row],[Column4]]+Table1[[#This Row],[Column3]]+Table1[[#This Row],[Column2]]+Table1[[#This Row],[Column1]])","v":0},{"$nulls":5},{"$f":"SUM(Table1[[#This Row],[PO Employee]:[Other Employee]])","v":0},"N",{"$error":"#N/A"},{"$f":"IF(O183>39,Table1[[#This Row],[Calc 1]],IF(O183>1,\"Not counted as an Employee\",\"#NA\"))","v":"#NA"},{"$f":"MAX(Table1[[#This Row],[PO Employee]],Table1[[#This Row],[Other HZ Employee]],Table1[[#This Row],[Non HZ Employee]],Table1[[#This Row],[Job Site Employee]],Table1[[#This Row],[Other Employee]])","v":0},{"$f":"IF(Table1[[#This Row],[Total Hours per Month]]=Table1[[#This Row],[Column12]],\"Match\",\"Error\")","v":"Match"},{"$f":"IF(Table1[[#This Row],[Calc 2]]=\"#NA\",\"#NA\",IF(Table1[[#This Row],[Non HZ Employee]]=Table1[[#This Row],[Max calc]],\"Non HZ Employee\", Table1[[#This Row],[Calc 2]]))","v":"#NA"}]
[167," ",167,{"$nulls":5},{"$f":"SUM(Table1[[#This Row],[Column4]]+Table1[[#This Row],[Column3]]+Table1[[#This Row],[Column2]]+Table1[[#This Row],[Column1]])","v":0},{"$nulls":5},{"$f":"SUM(Table1[[#This Row],[PO Employee]:[Other Employee]])","v":0},"N",{"$error":"#N/A"},{"$f":"IF(O184>39,Table1[[#This Row],[Calc 1]],IF(O184>1,\"Not counted as an Employee\",\"#NA\"))","v":"#NA"},{"$f":"MAX(Table1[[#This Row],[PO Employee]],Table1[[#This Row],[Other HZ Employee]],Table1[[#This Row],[Non HZ Employee]],Table1[[#This Row],[Job Site Employee]],Table1[[#This Row],[Other Employee]])","v":0},{"$f":"IF(Table1[[#This Row],[Total Hours per Month]]=Table1[[#This Row],[Column12]],\"Match\",\"Error\")","v":"Match"},{"$f":"IF(Table1[[#This Row],[Calc 2]]=\"#NA\",\"#NA\",IF(Table1[[#This Row],[Non HZ Employee]]=Table1[[#This Row],[Max calc]],\"Non HZ Employee\", Table1[[#This Row],[Calc 2]]))","v":"#NA"}]
[168," ",168,{"$nulls":5},{"$f":"SUM(Table1[[#This Row],[Column4]]+Table1[[#This Row],[Column3]]+Table1[[#This Row],[Column2]]+Table1[[#This Row],[Column1]])","v":0},{"$nulls":5},{"$f":"SUM(Table1[[#This Row],[PO Employee]:[Other Employee]])","v":0},"N",{"$error":"#N/A"},{"$f":"IF(O185>39,Table1[[#This Row],[Calc 1]],IF(O185>1,\"Not counted as an Employee\",\"#NA\"))","v":"#NA"},{"$f":"MAX(Table1[[#This Row],[PO Employee]],Table1[[#This Row],[Other HZ Employee]],Table1[[#This Row],[Non HZ Employee]],Table1[[#This Row],[Job Site Employee]],Table1[[#This Row],[Other Employee]])","v":0},{"$f":"IF(Table1[[#This Row],[Total Hours per Month]]=Table1[[#This Row],[Column12]],\"Match\",\"Error\")","v":"Match"},{"$f":"IF(Table1[[#This Row],[Calc 2]]=\"#NA\",\"#NA\",IF(Table1[[#This Row],[Non HZ Employee]]=Table1[[#This Row],[Max calc]],\"Non HZ Employee\", Table1[[#This Row],[Calc 2]]))","v":"#NA"}]
[169," ",169,{"$nulls":5},{"$f":"SUM(Table1[[#This Row],[Column4]]+Table1[[#This Row],[Column3]]+Table1[[#This Row],[Column2]]+Table1[[#This Row],[Column1]])","v":0},{"$nulls":5},{"$f":"SUM(Table1[[#This Row],[PO Employee]:[Other Employee]])","v":0},"N",{"$error":"#N/A"},{"$f":"IF(O186>39,Table1[[#This Row],[Calc 1]],IF(O186>1,\"Not counted as an Employee\",\"#NA\"))","v":"#NA"},{"$f":"MAX(Table1[[#This Row],[PO Employee]],Table1[[#This Row],[Other HZ Employee]],Table1[[#This Row],[Non HZ Employee]],Table1[[#This Row],[Job Site Employee]],Table1[[#This Row],[Other Employee]])","v":0},{"$f":"IF(Table1[[#This Row],[Total Hours per Month]]=Table1[[#This Row],[Column12]],\"Match\",\"Error\")","v":"Match"},{"$f":"IF(Table1[[#This Row],[Calc 2]]=\"#NA\",\"#NA\",IF(Table1[[#This Row],[Non HZ Employee]]=Table1[[#This Row],[Max calc]],\"Non HZ Employee\", Table1[[#This Row],[Calc 2]]))","v":"#NA"}]
[170," ",170,{"$nulls":5},{"$f":"SUM(Table1[[#This Row],[Column4]]+Table1[[#This Row],[Column3]]+Table1[[#This Row],[Column2]]+Table1[[#This Row],[Column1]])","v":0},{"$nulls":5},{"$f":"SUM(Table1[[#This Row],[PO Employee]:[Other Employee]])","v":0},"N",{"$error":"#N/A"},{"$f":"IF(O187>39,Table1[[#This Row],[Calc 1]],IF(O187>1,\"Not counted as an Employee\",\"#NA\"))","v":"#NA"},{"$f":"MAX(Table1[[#This Row],[PO Employee]],Table1[[#This Row],[Other HZ Employee]],Table1[[#This Row],[Non HZ Employee]],Table1[[#This Row],[Job Site Employee]],Table1[[#This Row],[Other Employee]])","v":0},{"$f":"IF(Table1[[#This Row],[Total Hours per Month]]=Table1[[#This Row],[Column12]],\"Match\",\"Error\")","v":"Match"},{"$f":"IF(Table1[[#This Row],[Calc 2]]=\"#NA\",\"#NA\",IF(Table1[[#This Row],[Non HZ Employee]]=Table1[[#This Row],[Max calc]],\"Non HZ Employee\", Table1[[#This Row],[Calc 2]]))","v":"#NA"}]
[171," ",171,{"$nulls":5},{"$f":"SUM(Table1[[#This Row],[Column4]]+Table1[[#This Row],[Column3]]+Table1[[#This Row],[Column2]]+Table1[[#This Row],[Column1]])","v":0},{"$nulls":5},{"$f":"SUM(Table1[[#This Row],[PO Employee]:[Other Employee]])","v":0},"N",{"$error":"#N/A"},{"$f":"IF(O188>39,Table1[[#This Row],[Calc 1]],IF(O188>1,\"Not counted as an Employee\",\"#NA\"))","v":"#NA"},{"$f":"MAX(Table1[[#This Row],[PO Employee]],Table1[[#This Row],[Other HZ Employee]],Table1[[#This Row],[Non HZ Employee]],Table1[[#This Row],[Job Site Employee]],Table1[[#This Row],[Other Employee]])","v":0},{"$f":"IF(Table1[[#This Row],[Total Hours per Month]]=Table1[[#This Row],[Column12]],\"Match\",\"Error\")","v":"Match"},{"$f":"IF(Table1[[#This Row],[Calc 2]]=\"#NA\",\"#NA\",IF(Table1[[#This Row],[Non HZ Employee]]=Table1[[#This Row],[Max calc]],\"Non HZ Employee\", Table1[[#This Row],[Calc 2]]))","v":"#NA"}]
[172," ",172,{"$nulls":5},{"$f":"SUM(Table1[[#This Row],[Column4]]+Table1[[#This Row],[Column3]]+Table1[[#This Row],[Column2]]+Table1[[#This Row],[Column1]])","v":0},{"$nulls":5},{"$f":"SUM(Table1[[#This Row],[PO Employee]:[Other Employee]])","v":0},"N",{"$error":"#N/A"},{"$f":"IF(O189>39,Table1[[#This Row],[Calc 1]],IF(O189>1,\"Not counted as an Employee\",\"#NA\"))","v":"#NA"},{"$f":"MAX(Table1[[#This Row],[PO Employee]],Table1[[#This Row],[Other HZ Employee]],Table1[[#This Row],[Non HZ Employee]],Table1[[#This Row],[Job Site Employee]],Table1[[#This Row],[Other Employee]])","v":0},{"$f":"IF(Table1[[#This Row],[Total Hours per Month]]=Table1[[#This Row],[Column12]],\"Match\",\"Error\")","v":"Match"},{"$f":"IF(Table1[[#This Row],[Calc 2]]=\"#NA\",\"#NA\",IF(Table1[[#This Row],[Non HZ Employee]]=Table1[[#This Row],[Max calc]],\"Non HZ Employee\", Table1[[#This Row],[Calc 2]]))","v":"#NA"}]
[173," ",173,{"$nulls":5},{"$f":"SUM(Table1[[#This Row],[Column4]]+Table1[[#This Row],[Column3]]+Table1[[#This Row],[Column2]]+Table1[[#This Row],[Column1]])","v":0},{"$nulls":5},{"$f":"SUM(Table1[[#This Row],[PO Employee]:[Other Employee]])","v":0},"N",{"$error":"#N/A"},{"$f":"IF(O190>39,Table1[[#This Row],[Calc 1]],IF(O190>1,\"Not counted as an Employee\",\"#NA\"))","v":"#NA"},{"$f":"MAX(Table1[[#This Row],[PO Employee]],Table1[[#This Row],[Other HZ Employee]],Table1[[#This Row],[Non HZ Employee]],Table1[[#This Row],[Job Site Employee]],Table1[[#This Row],[Other Employee]])","v":0},{"$f":"IF(Table1[[#This Row],[Total Hours per Month]]=Table1[[#This Row],[Column12]],\"Match\",\"Error\")","v":"Match"},{"$f":"IF(Table1[[#This Row],[Calc 2]]=\"#NA\",\"#NA\",IF(Table1[[#This Row],[Non HZ Employee]]=Table1[[#This Row],[Max calc]],\"Non HZ Employee\", Table1[[#This Row],[Calc 2]]))","v":"#NA"}]
[174," ",174,{"$nulls":5},{"$f":"SUM(Table1[[#This Row],[Column4]]+Table1[[#This Row],[Column3]]+Table1[[#This Row],[Column2]]+Table1[[#This Row],[Column1]])","v":0},{"$nulls":5},{"$f":"SUM(Table1[[#This Row],[PO Employee]:[Other Employee]])","v":0},"N",{"$error":"#N/A"},{"$f":"IF(O191>39,Table1[[#This Row],[Calc 1]],IF(O191>1,\"Not counted as an Employee\",\"#NA\"))","v":"#NA"},{"$f":"MAX(Table1[[#This Row],[PO Employee]],Table1[[#This Row],[Other HZ Employee]],Table1[[#This Row],[Non HZ Employee]],Table1[[#This Row],[Job Site Employee]],Table1[[#This Row],[Other Employee]])","v":0},{"$f":"IF(Table1[[#This Row],[Total Hours per Month]]=Table1[[#This Row],[Column12]],\"Match\",\"Error\")","v":"Match"},{"$f":"IF(Table1[[#This Row],[Calc 2]]=\"#NA\",\"#NA\",IF(Table1[[#This Row],[Non HZ Employee]]=Table1[[#This Row],[Max calc]],\"Non HZ Employee\", Table1[[#This Row],[Calc 2]]))","v":"#NA"}]
[175," ",175,{"$nulls":5},{"$f":"SUM(Table1[[#This Row],[Column4]]+Table1[[#This Row],[Column3]]+Table1[[#This Row],[Column2]]+Table1[[#This Row],[Column1]])","v":0},{"$nulls":5},{"$f":"SUM(Table1[[#This Row],[PO Employee]:[Other Employee]])","v":0},"N",{"$error":"#N/A"},{"$f":"IF(O192>39,Table1[[#This Row],[Calc 1]],IF(O192>1,\"Not counted as an Employee\",\"#NA\"))","v":"#NA"},{"$f":"MAX(Table1[[#This Row],[PO Employee]],Table1[[#This Row],[Other HZ Employee]],Table1[[#This Row],[Non HZ Employee]],Table1[[#This Row],[Job Site Employee]],Table1[[#This Row],[Other Employee]])","v":0},{"$f":"IF(Table1[[#This Row],[Total Hours per Month]]=Table1[[#This Row],[Column12]],\"Match\",\"Error\")","v":"Match"},{"$f":"IF(Table1[[#This Row],[Calc 2]]=\"#NA\",\"#NA\",IF(Table1[[#This Row],[Non HZ Employee]]=Table1[[#This Row],[Max calc]],\"Non HZ Employee\", Table1[[#This Row],[Calc 2]]))","v":"#NA"}]
[176," ",176,{"$nulls":5},{"$f":"SUM(Table1[[#This Row],[Column4]]+Table1[[#This Row],[Column3]]+Table1[[#This Row],[Column2]]+Table1[[#This Row],[Column1]])","v":0},{"$nulls":5},{"$f":"SUM(Table1[[#This Row],[PO Employee]:[Other Employee]])","v":0},"N",{"$error":"#N/A"},{"$f":"IF(O193>39,Table1[[#This Row],[Calc 1]],IF(O193>1,\"Not counted as an Employee\",\"#NA\"))","v":"#NA"},{"$f":"MAX(Table1[[#This Row],[PO Employee]],Table1[[#This Row],[Other HZ Employee]],Table1[[#This Row],[Non HZ Employee]],Table1[[#This Row],[Job Site Employee]],Table1[[#This Row],[Other Employee]])","v":0},{"$f":"IF(Table1[[#This Row],[Total Hours per Month]]=Table1[[#This Row],[Column12]],\"Match\",\"Error\")","v":"Match"},{"$f":"IF(Table1[[#This Row],[Calc 2]]=\"#NA\",\"#NA\",IF(Table1[[#This Row],[Non HZ Employee]]=Table1[[#This Row],[Max calc]],\"Non HZ Employee\", Table1[[#This Row],[Calc 2]]))","v":"#NA"}]
[177," ",177,{"$nulls":5},{"$f":"SUM(Table1[[#This Row],[Column4]]+Table1[[#This Row],[Column3]]+Table1[[#This Row],[Column2]]+Table1[[#This Row],[Column1]])","v":0},{"$nulls":5},{"$f":"SUM(Table1[[#This Row],[PO Employee]:[Other Employee]])","v":0},"N",{"$error":"#N/A"},{"$f":"IF(O194>39,Table1[[#This Row],[Calc 1]],IF(O194>1,\"Not counted as an Employee\",\"#NA\"))","v":"#NA"},{"$f":"MAX(Table1[[#This Row],[PO Employee]],Table1[[#This Row],[Other HZ Employee]],Table1[[#This Row],[Non HZ Employee]],Table1[[#This Row],[Job Site Employee]],Table1[[#This Row],[Other Employee]])","v":0},{"$f":"IF(Table1[[#This Row],[Total Hours per Month]]=Table1[[#This Row],[Column12]],\"Match\",\"Error\")","v":"Match"},{"$f":"IF(Table1[[#This Row],[Calc 2]]=\"#NA\",\"#NA\",IF(Table1[[#This Row],[Non HZ Employee]]=Table1[[#This Row],[Max calc]],\"Non HZ Employee\", Table1[[#This Row],[Calc 2]]))","v":"#NA"}]
[178," ",178,{"$nulls":5},{"$f":"SUM(Table1[[#This Row],[Column4]]+Table1[[#This Row],[Column3]]+Table1[[#This Row],[Column2]]+Table1[[#This Row],[Column1]])","v":0},{"$nulls":5},{"$f":"SUM(Table1[[#This Row],[PO Employee]:[Other Employee]])","v":0},"N",{"$error":"#N/A"},{"$f":"IF(O195>39,Table1[[#This Row],[Calc 1]],IF(O195>1,\"Not counted as an Employee\",\"#NA\"))","v":"#NA"},{"$f":"MAX(Table1[[#This Row],[PO Employee]],Table1[[#This Row],[Other HZ Employee]],Table1[[#This Row],[Non HZ Employee]],Table1[[#This Row],[Job Site Employee]],Table1[[#This Row],[Other Employee]])","v":0},{"$f":"IF(Table1[[#This Row],[Total Hours per Month]]=Table1[[#This Row],[Column12]],\"Match\",\"Error\")","v":"Match"},{"$f":"IF(Table1[[#This Row],[Calc 2]]=\"#NA\",\"#NA\",IF(Table1[[#This Row],[Non HZ Employee]]=Table1[[#This Row],[Max calc]],\"Non HZ Employee\", Table1[[#This Row],[Calc 2]]))","v":"#NA"}]
[179," ",179,{"$nulls":5},{"$f":"SUM(Table1[[#This Row],[Column4]]+Table1[[#This Row],[Column3]]+Table1[[#This Row],[Column2]]+Table1[[#This Row],[Column1]])","v":0},{"$nulls":5},{"$f":"SUM(Table1[[#This Row],[PO Employee]:[Other Employee]])","v":0},"N",{"$error":"#N/A"},{"$f":"IF(O196>39,Table1[[#This Row],[Calc 1]],IF(O196>1,\"Not counted as an Employee\",\"#NA\"))","v":"#NA"},{"$f":"MAX(Table1[[#This Row],[PO Employee]],Table1[[#This Row],[Other HZ Employee]],Table1[[#This Row],[Non HZ Employee]],Table1[[#This Row],[Job Site Employee]],Table1[[#This Row],[Other Employee]])","v":0},{"$f":"IF(Table1[[#This Row],[Total Hours per Month]]=Table1[[#This Row],[Column12]],\"Match\",\"Error\")","v":"Match"},{"$f":"IF(Table1[[#This Row],[Calc 2]]=\"#NA\",\"#NA\",IF(Table1[[#This Row],[Non HZ Employee]]=Table1[[#This Row],[Max calc]],\"Non HZ Employee\", Table1[[#This Row],[Calc 2]]))","v":"#NA"}]
[180," ",180,{"$nulls":5},{"$f":"SUM(Table1[[#This Row],[Column4]]+Table1[[#This Row],[Column3]]+Table1[[#This Row],[Column2]]+Table1[[#This Row],[Column1]])","v":0},{"$nulls":5},{"$f":"SUM(Table1[[#This Row],[PO Employee]:[Other Employee]])","v":0},"N",{"$error":"#N/A"},{"$f":"IF(O197>39,Table1[[#This Row],[Calc 1]],IF(O197>1,\"Not counted as an Employee\",\"#NA\"))","v":"#NA"},{"$f":"MAX(Table1[[#This Row],[PO Employee]],Table1[[#This Row],[Other HZ Employee]],Table1[[#This Row],[Non HZ Employee]],Table1[[#This Row],[Job Site Employee]],Table1[[#This Row],[Other Employee]])","v":0},{"$f":"IF(Table1[[#This Row],[Total Hours per Month]]=Table1[[#This Row],[Column12]],\"Match\",\"Error\")","v":"Match"},{"$f":"IF(Table1[[#This Row],[Calc 2]]=\"#NA\",\"#NA\",IF(Table1[[#This Row],[Non HZ Employee]]=Table1[[#This Row],[Max calc]],\"Non HZ Employee\", Table1[[#This Row],[Calc 2]]))","v":"#NA"}]
[181," ",181,{"$nulls":5},{"$f":"SUM(Table1[[#This Row],[Column4]]+Table1[[#This Row],[Column3]]+Table1[[#This Row],[Column2]]+Table1[[#This Row],[Column1]])","v":0},{"$nulls":5},{"$f":"SUM(Table1[[#This Row],[PO Employee]:[Other Employee]])","v":0},"N",{"$error":"#N/A"},{"$f":"IF(O198>39,Table1[[#This Row],[Calc 1]],IF(O198>1,\"Not counted as an Employee\",\"#NA\"))","v":"#NA"},{"$f":"MAX(Table1[[#This Row],[PO Employee]],Table1[[#This Row],[Other HZ Employee]],Table1[[#This Row],[Non HZ Employee]],Table1[[#This Row],[Job Site Employee]],Table1[[#This Row],[Other Employee]])","v":0},{"$f":"IF(Table1[[#This Row],[Total Hours per Month]]=Table1[[#This Row],[Column12]],\"Match\",\"Error\")","v":"Match"},{"$f":"IF(Table1[[#This Row],[Calc 2]]=\"#NA\",\"#NA\",IF(Table1[[#This Row],[Non HZ Employee]]=Table1[[#This Row],[Max calc]],\"Non HZ Employee\", Table1[[#This Row],[Calc 2]]))","v":"#NA"}]
[182," ",182,{"$nulls":5},{"$f":"SUM(Table1[[#This Row],[Column4]]+Table1[[#This Row],[Column3]]+Table1[[#This Row],[Column2]]+Table1[[#This Row],[Column1]])","v":0},{"$nulls":5},{"$f":"SUM(Table1[[#This Row],[PO Employee]:[Other Employee]])","v":0},"N",{"$error":"#N/A"},{"$f":"IF(O199>39,Table1[[#This Row],[Calc 1]],IF(O199>1,\"Not counted as an Employee\",\"#NA\"))","v":"#NA"},{"$f":"MAX(Table1[[#This Row],[PO Employee]],Table1[[#This Row],[Other HZ Employee]],Table1[[#This Row],[Non HZ Employee]],Table1[[#This Row],[Job Site Employee]],Table1[[#This Row],[Other Employee]])","v":0},{"$f":"IF(Table1[[#This Row],[Total Hours per Month]]=Table1[[#This Row],[Column12]],\"Match\",\"Error\")","v":"Match"},{"$f":"IF(Table1[[#This Row],[Calc 2]]=\"#NA\",\"#NA\",IF(Table1[[#This Row],[Non HZ Employee]]=Table1[[#This Row],[Max calc]],\"Non HZ Employee\", Table1[[#This Row],[Calc 2]]))","v":"#NA"}]
[183," ",183,{"$nulls":5},{"$f":"SUM(Table1[[#This Row],[Column4]]+Table1[[#This Row],[Column3]]+Table1[[#This Row],[Column2]]+Table1[[#This Row],[Column1]])","v":0},{"$nulls":5},{"$f":"SUM(Table1[[#This Row],[PO Employee]:[Other Employee]])","v":0},"N",{"$error":"#N/A"},{"$f":"IF(O200>39,Table1[[#This Row],[Calc 1]],IF(O200>1,\"Not counted as an Employee\",\"#NA\"))","v":"#NA"},{"$f":"MAX(Table1[[#This Row],[PO Employee]],Table1[[#This Row],[Other HZ Employee]],Table1[[#This Row],[Non HZ Employee]],Table1[[#This Row],[Job Site Employee]],Table1[[#This Row],[Other Employee]])","v":0},{"$f":"IF(Table1[[#This Row],[Total Hours per Month]]=Table1[[#This Row],[Column12]],\"Match\",\"Error\")","v":"Match"},{"$f":"IF(Table1[[#This Row],[Calc 2]]=\"#NA\",\"#NA\",IF(Table1[[#This Row],[Non HZ Employee]]=Table1[[#This Row],[Max calc]],\"Non HZ Employee\", Table1[[#This Row],[Calc 2]]))","v":"#NA"}]
[184," ",184,{"$nulls":5},{"$f":"SUM(Table1[[#This Row],[Column4]]+Table1[[#This Row],[Column3]]+Table1[[#This Row],[Column2]]+Table1[[#This Row],[Column1]])","v":0},{"$nulls":5},{"$f":"SUM(Table1[[#This Row],[PO Employee]:[Other Employee]])","v":0},"N",{"$error":"#N/A"},{"$f":"IF(O201>39,Table1[[#This Row],[Calc 1]],IF(O201>1,\"Not counted as an Employee\",\"#NA\"))","v":"#NA"},{"$f":"MAX(Table1[[#This Row],[PO Employee]],Table1[[#This Row],[Other HZ Employee]],Table1[[#This Row],[Non HZ Employee]],Table1[[#This Row],[Job Site Employee]],Table1[[#This Row],[Other Employee]])","v":0},{"$f":"IF(Table1[[#This Row],[Total Hours per Month]]=Table1[[#This Row],[Column12]],\"Match\",\"Error\")","v":"Match"},{"$f":"IF(Table1[[#This Row],[Calc 2]]=\"#NA\",\"#NA\",IF(Table1[[#This Row],[Non HZ Employee]]=Table1[[#This Row],[Max calc]],\"Non HZ Employee\", Table1[[#This Row],[Calc 2]]))","v":"#NA"}]
[185," ",185,{"$nulls":5},{"$f":"SUM(Table1[[#This Row],[Column4]]+Table1[[#This Row],[Column3]]+Table1[[#This Row],[Column2]]+Table1[[#This Row],[Column1]])","v":0},{"$nulls":5},{"$f":"SUM(Table1[[#This Row],[PO Employee]:[Other Employee]])","v":0},"N",{"$error":"#N/A"},{"$f":"IF(O202>39,Table1[[#This Row],[Calc 1]],IF(O202>1,\"Not counted as an Employee\",\"#NA\"))","v":"#NA"},{"$f":"MAX(Table1[[#This Row],[PO Employee]],Table1[[#This Row],[Other HZ Employee]],Table1[[#This Row],[Non HZ Employee]],Table1[[#This Row],[Job Site Employee]],Table1[[#This Row],[Other Employee]])","v":0},{"$f":"IF(Table1[[#This Row],[Total Hours per Month]]=Table1[[#This Row],[Column12]],\"Match\",\"Error\")","v":"Match"},{"$f":"IF(Table1[[#This Row],[Calc 2]]=\"#NA\",\"#NA\",IF(Table1[[#This Row],[Non HZ Employee]]=Table1[[#This Row],[Max calc]],\"Non HZ Employee\", Table1[[#This Row],[Calc 2]]))","v":"#NA"}]
[186," ",186,{"$nulls":5},{"$f":"SUM(Table1[[#This Row],[Column4]]+Table1[[#This Row],[Column3]]+Table1[[#This Row],[Column2]]+Table1[[#This Row],[Column1]])","v":0},{"$nulls":5},{"$f":"SUM(Table1[[#This Row],[PO Employee]:[Other Employee]])","v":0},"N",{"$error":"#N/A"},{"$f":"IF(O203>39,Table1[[#This Row],[Calc 1]],IF(O203>1,\"Not counted as an Employee\",\"#NA\"))","v":"#NA"},{"$f":"MAX(Table1[[#This Row],[PO Employee]],Table1[[#This Row],[Other HZ Employee]],Table1[[#This Row],[Non HZ Employee]],Table1[[#This Row],[Job Site Employee]],Table1[[#This Row],[Other Employee]])","v":0},{"$f":"IF(Table1[[#This Row],[Total Hours per Month]]=Table1[[#This Row],[Column12]],\"Match\",\"Error\")","v":"Match"},{"$f":"IF(Table1[[#This Row],[Calc 2]]=\"#NA\",\"#NA\",IF(Table1[[#This Row],[Non HZ Employee]]=Table1[[#This Row],[Max calc]],\"Non HZ Employee\", Table1[[#This Row],[Calc 2]]))","v":"#NA"}]
[187," ",187,{"$nulls":5},{"$f":"SUM(Table1[[#This Row],[Column4]]+Table1[[#This Row],[Column3]]+Table1[[#This Row],[Column2]]+Table1[[#This Row],[Column1]])","v":0},{"$nulls":5},{"$f":"SUM(Table1[[#This Row],[PO Employee]:[Other Employee]])","v":0},"N",{"$error":"#N/A"},{"$f":"IF(O204>39,Table1[[#This Row],[Calc 1]],IF(O204>1,\"Not counted as an Employee\",\"#NA\"))","v":"#NA"},{"$f":"MAX(Table1[[#This Row],[PO Employee]],Table1[[#This Row],[Other HZ Employee]],Table1[[#This Row],[Non HZ Employee]],Table1[[#This Row],[Job Site Employee]],Table1[[#This Row],[Other Employee]])","v":0},{"$f":"IF(Table1[[#This Row],[Total Hours per Month]]=Table1[[#This Row],[Column12]],\"Match\",\"Error\")","v":"Match"},{"$f":"IF(Table1[[#This Row],[Calc 2]]=\"#NA\",\"#NA\",IF(Table1[[#This Row],[Non HZ Employee]]=Table1[[#This Row],[Max calc]],\"Non HZ Employee\", Table1[[#This Row],[Calc 2]]))","v":"#NA"}]
[188," ",188,{"$nulls":5},{"$f":"SUM(Table1[[#This Row],[Column4]]+Table1[[#This Row],[Column3]]+Table1[[#This Row],[Column2]]+Table1[[#This Row],[Column1]])","v":0},{"$nulls":5},{"$f":"SUM(Table1[[#This Row],[PO Employee]:[Other Employee]])","v":0},"N",{"$error":"#N/A"},{"$f":"IF(O205>39,Table1[[#This Row],[Calc 1]],IF(O205>1,\"Not counted as an Employee\",\"#NA\"))","v":"#NA"},{"$f":"MAX(Table1[[#This Row],[PO Employee]],Table1[[#This Row],[Other HZ Employee]],Table1[[#This Row],[Non HZ Employee]],Table1[[#This Row],[Job Site Employee]],Table1[[#This Row],[Other Employee]])","v":0},{"$f":"IF(Table1[[#This Row],[Total Hours per Month]]=Table1[[#This Row],[Column12]],\"Match\",\"Error\")","v":"Match"},{"$f":"IF(Table1[[#This Row],[Calc 2]]=\"#NA\",\"#NA\",IF(Table1[[#This Row],[Non HZ Employee]]=Table1[[#This Row],[Max calc]],\"Non HZ Employee\", Table1[[#This Row],[Calc 2]]))","v":"#NA"}]
[189," ",189,{"$nulls":5},{"$f":"SUM(Table1[[#This Row],[Column4]]+Table1[[#This Row],[Column3]]+Table1[[#This Row],[Column2]]+Table1[[#This Row],[Column1]])","v":0},{"$nulls":5},{"$f":"SUM(Table1[[#This Row],[PO Employee]:[Other Employee]])","v":0},"N",{"$error":"#N/A"},{"$f":"IF(O206>39,Table1[[#This Row],[Calc 1]],IF(O206>1,\"Not counted as an Employee\",\"#NA\"))","v":"#NA"},{"$f":"MAX(Table1[[#This Row],[PO Employee]],Table1[[#This Row],[Other HZ Employee]],Table1[[#This Row],[Non HZ Employee]],Table1[[#This Row],[Job Site Employee]],Table1[[#This Row],[Other Employee]])","v":0},{"$f":"IF(Table1[[#This Row],[Total Hours per Month]]=Table1[[#This Row],[Column12]],\"Match\",\"Error\")","v":"Match"},{"$f":"IF(Table1[[#This Row],[Calc 2]]=\"#NA\",\"#NA\",IF(Table1[[#This Row],[Non HZ Employee]]=Table1[[#This Row],[Max calc]],\"Non HZ Employee\", Table1[[#This Row],[Calc 2]]))","v":"#NA"}]
[190," ",190,{"$nulls":5},{"$f":"SUM(Table1[[#This Row],[Column4]]+Table1[[#This Row],[Column3]]+Table1[[#This Row],[Column2]]+Table1[[#This Row],[Column1]])","v":0},{"$nulls":5},{"$f":"SUM(Table1[[#This Row],[PO Employee]:[Other Employee]])","v":0},"N",{"$error":"#N/A"},{"$f":"IF(O207>39,Table1[[#This Row],[Calc 1]],IF(O207>1,\"Not counted as an Employee\",\"#NA\"))","v":"#NA"},{"$f":"MAX(Table1[[#This Row],[PO Employee]],Table1[[#This Row],[Other HZ Employee]],Table1[[#This Row],[Non HZ Employee]],Table1[[#This Row],[Job Site Employee]],Table1[[#This Row],[Other Employee]])","v":0},{"$f":"IF(Table1[[#This Row],[Total Hours per Month]]=Table1[[#This Row],[Column12]],\"Match\",\"Error\")","v":"Match"},{"$f":"IF(Table1[[#This Row],[Calc 2]]=\"#NA\",\"#NA\",IF(Table1[[#This Row],[Non HZ Employee]]=Table1[[#This Row],[Max calc]],\"Non HZ Employee\", Table1[[#This Row],[Calc 2]]))","v":"#NA"}]
[191," ",191,{"$nulls":5},{"$f":"SUM(Table1[[#This Row],[Column4]]+Table1[[#This Row],[Column3]]+Table1[[#This Row],[Column2]]+Table1[[#This Row],[Column1]])","v":0},{"$nulls":5},{"$f":"SUM(Table1[[#This Row],[PO Employee]:[Other Employee]])","v":0},"N",{"$error":"#N/A"},{"$f":"IF(O208>39,Table1[[#This Row],[Calc 1]],IF(O208>1,\"Not counted as an Employee\",\"#NA\"))","v":"#NA"},{"$f":"MAX(Table1[[#This Row],[PO Employee]],Table1[[#This Row],[Other HZ Employee]],Table1[[#This Row],[Non HZ Employee]],Table1[[#This Row],[Job Site Employee]],Table1[[#This Row],[Other Employee]])","v":0},{"$f":"IF(Table1[[#This Row],[Total Hours per Month]]=Table1[[#This Row],[Column12]],\"Match\",\"Error\")","v":"Match"},{"$f":"IF(Table1[[#This Row],[Calc 2]]=\"#NA\",\"#NA\",IF(Table1[[#This Row],[Non HZ Employee]]=Table1[[#This Row],[Max calc]],\"Non HZ Employee\", Table1[[#This Row],[Calc 2]]))","v":"#NA"}]
[192," ",192,{"$nulls":5},{"$f":"SUM(Table1[[#This Row],[Column4]]+Table1[[#This Row],[Column3]]+Table1[[#This Row],[Column2]]+Table1[[#This Row],[Column1]])","v":0},{"$nulls":5},{"$f":"SUM(Table1[[#This Row],[PO Employee]:[Other Employee]])","v":0},"N",{"$error":"#N/A"},{"$f":"IF(O209>39,Table1[[#This Row],[Calc 1]],IF(O209>1,\"Not counted as an Employee\",\"#NA\"))","v":"#NA"},{"$f":"MAX(Table1[[#This Row],[PO Employee]],Table1[[#This Row],[Other HZ Employee]],Table1[[#This Row],[Non HZ Employee]],Table1[[#This Row],[Job Site Employee]],Table1[[#This Row],[Other Employee]])","v":0},{"$f":"IF(Table1[[#This Row],[Total Hours per Month]]=Table1[[#This Row],[Column12]],\"Match\",\"Error\")","v":"Match"},{"$f":"IF(Table1[[#This Row],[Calc 2]]=\"#NA\",\"#NA\",IF(Table1[[#This Row],[Non HZ Employee]]=Table1[[#This Row],[Max calc]],\"Non HZ Employee\", Table1[[#This Row],[Calc 2]]))","v":"#NA"}]
[193," ",193,{"$nulls":5},{"$f":"SUM(Table1[[#This Row],[Column4]]+Table1[[#This Row],[Column3]]+Table1[[#This Row],[Column2]]+Table1[[#This Row],[Column1]])","v":0},{"$nulls":5},{"$f":"SUM(Table1[[#This Row],[PO Employee]:[Other Employee]])","v":0},"N",{"$f":"INDEX($J$17:$N$17,MATCH(MAX(J210:N210),J210:N210,0))","v":{"$error":"#N/A"}},{"$f":"IF(O210>39,Table1[[#This Row],[Calc 1]],IF(O210>1,\"Not counted as an Employee\",\"#NA\"))","v":"#NA"},{"$f":"MAX(Table1[[#This Row],[PO Employee]],Table1[[#This Row],[Other HZ Employee]],Table1[[#This Row],[Non HZ Employee]],Table1[[#This Row],[Job Site Employee]],Table1[[#This Row],[Other Employee]])","v":0},{"$f":"IF(Table1[[#This Row],[Total Hours per Month]]=Table1[[#This Row],[Column12]],\"Match\",\"Error\")","v":"Match"},{"$f":"IF(Table1[[#This Row],[Calc 2]]=\"#NA\",\"#NA\",IF(Table1[[#This Row],[Non HZ Employee]]=Table1[[#This Row],[Max calc]],\"Non HZ Employee\", Table1[[#This Row],[Calc 2]]))","v":"#NA"}]
[194," ",194,{"$nulls":5},{"$f":"SUM(Table1[[#This Row],[Column4]]+Table1[[#This Row],[Column3]]+Table1[[#This Row],[Column2]]+Table1[[#This Row],[Column1]])","v":0},{"$nulls":5},{"$f":"SUM(Table1[[#This Row],[PO Employee]:[Other Employee]])","v":0},{"$f":"IF(O211>=40,\"Y\",\"N\")","v":"N"},{"$error":"#N/A"},{"$f":"IF(O211>39,Table1[[#This Row],[Calc 1]],IF(O211>1,\"Not counted as an Employee\",\"#NA\"))","v":"#NA"},{"$f":"MAX(Table1[[#This Row],[PO Employee]],Table1[[#This Row],[Other HZ Employee]],Table1[[#This Row],[Non HZ Employee]],Table1[[#This Row],[Job Site Employee]],Table1[[#This Row],[Other Employee]])","v":0},{"$f":"IF(Table1[[#This Row],[Total Hours per Month]]=Table1[[#This Row],[Column12]],\"Match\",\"Error\")","v":"Match"},{"$f":"IF(Table1[[#This Row],[Calc 2]]=\"#NA\",\"#NA\",IF(Table1[[#This Row],[Non HZ Employee]]=Table1[[#This Row],[Max calc]],\"Non HZ Employee\", Table1[[#This Row],[Calc 2]]))","v":"#NA"}]
[195," ",195,{"$nulls":5},{"$f":"SUM(Table1[[#This Row],[Column4]]+Table1[[#This Row],[Column3]]+Table1[[#This Row],[Column2]]+Table1[[#This Row],[Column1]])","v":0},{"$nulls":5},{"$f":"SUM(Table1[[#This Row],[PO Employee]:[Other Employee]])","v":0},"N",{"$error":"#N/A"},{"$f":"IF(O212>39,Table1[[#This Row],[Calc 1]],IF(O212>1,\"Not counted as an Employee\",\"#NA\"))","v":"#NA"},{"$f":"MAX(Table1[[#This Row],[PO Employee]],Table1[[#This Row],[Other HZ Employee]],Table1[[#This Row],[Non HZ Employee]],Table1[[#This Row],[Job Site Employee]],Table1[[#This Row],[Other Employee]])","v":0},{"$f":"IF(Table1[[#This Row],[Total Hours per Month]]=Table1[[#This Row],[Column12]],\"Match\",\"Error\")","v":"Match"},{"$f":"IF(Table1[[#This Row],[Calc 2]]=\"#NA\",\"#NA\",IF(Table1[[#This Row],[Non HZ Employee]]=Table1[[#This Row],[Max calc]],\"Non HZ Employee\", Table1[[#This Row],[Calc 2]]))","v":"#NA"}]
[196," ",196,{"$nulls":5},{"$f":"SUM(Table1[[#This Row],[Column4]]+Table1[[#This Row],[Column3]]+Table1[[#This Row],[Column2]]+Table1[[#This Row],[Column1]])","v":0},{"$nulls":5},{"$f":"SUM(Table1[[#This Row],[PO Employee]:[Other Employee]])","v":0},"N",{"$error":"#N/A"},{"$f":"IF(O213>39,Table1[[#This Row],[Calc 1]],IF(O213>1,\"Not counted as an Employee\",\"#NA\"))","v":"#NA"},{"$f":"MAX(Table1[[#This Row],[PO Employee]],Table1[[#This Row],[Other HZ Employee]],Table1[[#This Row],[Non HZ Employee]],Table1[[#This Row],[Job Site Employee]],Table1[[#This Row],[Other Employee]])","v":0},{"$f":"IF(Table1[[#This Row],[Total Hours per Month]]=Table1[[#This Row],[Column12]],\"Match\",\"Error\")","v":"Match"},{"$f":"IF(Table1[[#This Row],[Calc 2]]=\"#NA\",\"#NA\",IF(Table1[[#This Row],[Non HZ Employee]]=Table1[[#This Row],[Max calc]],\"Non HZ Employee\", Table1[[#This Row],[Calc 2]]))","v":"#NA"}]
[197," ",197,{"$nulls":5},{"$f":"SUM(Table1[[#This Row],[Column4]]+Table1[[#This Row],[Column3]]+Table1[[#This Row],[Column2]]+Table1[[#This Row],[Column1]])","v":0},{"$nulls":5},{"$f":"SUM(Table1[[#This Row],[PO Employee]:[Other Employee]])","v":0},"N",{"$error":"#N/A"},{"$f":"IF(O214>39,Table1[[#This Row],[Calc 1]],IF(O214>1,\"Not counted as an Employee\",\"#NA\"))","v":"#NA"},{"$f":"MAX(Table1[[#This Row],[PO Employee]],Table1[[#This Row],[Other HZ Employee]],Table1[[#This Row],[Non HZ Employee]],Table1[[#This Row],[Job Site Employee]],Table1[[#This Row],[Other Employee]])","v":0},{"$f":"IF(Table1[[#This Row],[Total Hours per Month]]=Table1[[#This Row],[Column12]],\"Match\",\"Error\")","v":"Match"},{"$f":"IF(Table1[[#This Row],[Calc 2]]=\"#NA\",\"#NA\",IF(Table1[[#This Row],[Non HZ Employee]]=Table1[[#This Row],[Max calc]],\"Non HZ Employee\", Table1[[#This Row],[Calc 2]]))","v":"#NA"}]
[198," ",198,{"$nulls":5},{"$f":"SUM(Table1[[#This Row],[Column4]]+Table1[[#This Row],[Column3]]+Table1[[#This Row],[Column2]]+Table1[[#This Row],[Column1]])","v":0},{"$nulls":5},{"$f":"SUM(Table1[[#This Row],[PO Employee]:[Other Employee]])","v":0},"N",{"$error":"#N/A"},{"$f":"IF(O215>39,Table1[[#This Row],[Calc 1]],IF(O215>1,\"Not counted as an Employee\",\"#NA\"))","v":"#NA"},{"$f":"MAX(Table1[[#This Row],[PO Employee]],Table1[[#This Row],[Other HZ Employee]],Table1[[#This Row],[Non HZ Employee]],Table1[[#This Row],[Job Site Employee]],Table1[[#This Row],[Other Employee]])","v":0},{"$f":"IF(Table1[[#This Row],[Total Hours per Month]]=Table1[[#This Row],[Column12]],\"Match\",\"Error\")","v":"Match"},{"$f":"IF(Table1[[#This Row],[Calc 2]]=\"#NA\",\"#NA\",IF(Table1[[#This Row],[Non HZ Employee]]=Table1[[#This Row],[Max calc]],\"Non HZ Employee\", Table1[[#This Row],[Calc 2]]))","v":"#NA"}]
[199," ",199,{"$nulls":5},{"$f":"SUM(Table1[[#This Row],[Column4]]+Table1[[#This Row],[Column3]]+Table1[[#This Row],[Column2]]+Table1[[#This Row],[Column1]])","v":0},{"$nulls":5},{"$f":"SUM(Table1[[#This Row],[PO Employee]:[Other Employee]])","v":0},"N",{"$error":"#N/A"},{"$f":"IF(O216>39,Table1[[#This Row],[Calc 1]],IF(O216>1,\"Not counted as an Employee\",\"#NA\"))","v":"#NA"},{"$f":"MAX(Table1[[#This Row],[PO Employee]],Table1[[#This Row],[Other HZ Employee]],Table1[[#This Row],[Non HZ Employee]],Table1[[#This Row],[Job Site Employee]],Table1[[#This Row],[Other Employee]])","v":0},{"$f":"IF(Table1[[#This Row],[Total Hours per Month]]=Table1[[#This Row],[Column12]],\"Match\",\"Error\")","v":"Match"},{"$f":"IF(Table1[[#This Row],[Calc 2]]=\"#NA\",\"#NA\",IF(Table1[[#This Row],[Non HZ Employee]]=Table1[[#This Row],[Max calc]],\"Non HZ Employee\", Table1[[#This Row],[Calc 2]]))","v":"#NA"}]
[200," ",200,{"$nulls":5},{"$f":"SUM(Table1[[#This Row],[Column4]]+Table1[[#This Row],[Column3]]+Table1[[#This Row],[Column2]]+Table1[[#This Row],[Column1]])","v":0},{"$nulls":5},{"$f":"SUM(Table1[[#This Row],[PO Employee]:[Other Employee]])","v":0},"N",{"$error":"#N/A"},{"$f":"IF(O217>39,Table1[[#This Row],[Calc 1]],IF(O217>1,\"Not counted as an Employee\",\"#NA\"))","v":"#NA"},{"$f":"MAX(Table1[[#This Row],[PO Employee]],Table1[[#This Row],[Other HZ Employee]],Table1[[#This Row],[Non HZ Employee]],Table1[[#This Row],[Job Site Employee]],Table1[[#This Row],[Other Employee]])","v":0},{"$f":"IF(Table1[[#This Row],[Total Hours per Month]]=Table1[[#This Row],[Column12]],\"Match\",\"Error\")","v":"Match"},{"$f":"IF(Table1[[#This Row],[Calc 2]]=\"#NA\",\"#NA\",IF(Table1[[#This Row],[Non HZ Employee]]=Table1[[#This Row],[Max calc]],\"Non HZ Employee\", Table1[[#This Row],[Calc 2]]))","v":"#NA"}]
[201," ",201,{"$nulls":5},{"$f":"SUM(Table1[[#This Row],[Column4]]+Table1[[#This Row],[Column3]]+Table1[[#This Row],[Column2]]+Table1[[#This Row],[Column1]])","v":0},{"$nulls":5},{"$f":"SUM(Table1[[#This Row],[PO Employee]:[Other Employee]])","v":0},"N",{"$error":"#N/A"},{"$f":"IF(O218>39,Table1[[#This Row],[Calc 1]],IF(O218>1,\"Not counted as an Employee\",\"#NA\"))","v":"#NA"},{"$f":"MAX(Table1[[#This Row],[PO Employee]],Table1[[#This Row],[Other HZ Employee]],Table1[[#This Row],[Non HZ Employee]],Table1[[#This Row],[Job Site Employee]],Table1[[#This Row],[Other Employee]])","v":0},{"$f":"IF(Table1[[#This Row],[Total Hours per Month]]=Table1[[#This Row],[Column12]],\"Match\",\"Error\")","v":"Match"},{"$f":"IF(Table1[[#This Row],[Calc 2]]=\"#NA\",\"#NA\",IF(Table1[[#This Row],[Non HZ Employee]]=Table1[[#This Row],[Max calc]],\"Non HZ Employee\", Table1[[#This Row],[Calc 2]]))","v":"#NA"}]
[202," ",202,{"$nulls":5},{"$f":"SUM(Table1[[#This Row],[Column4]]+Table1[[#This Row],[Column3]]+Table1[[#This Row],[Column2]]+Table1[[#This Row],[Column1]])","v":0},{"$nulls":5},{"$f":"SUM(Table1[[#This Row],[PO Employee]:[Other Employee]])","v":0},"N",{"$error":"#N/A"},{"$f":"IF(O219>39,Table1[[#This Row],[Calc 1]],IF(O219>1,\"Not counted as an Employee\",\"#NA\"))","v":"#NA"},{"$f":"MAX(Table1[[#This Row],[PO Employee]],Table1[[#This Row],[Other HZ Employee]],Table1[[#This Row],[Non HZ Employee]],Table1[[#This Row],[Job Site Employee]],Table1[[#This Row],[Other Employee]])","v":0},{"$f":"IF(Table1[[#This Row],[Total Hours per Month]]=Table1[[#This Row],[Column12]],\"Match\",\"Error\")","v":"Match"},{"$f":"IF(Table1[[#This Row],[Calc 2]]=\"#NA\",\"#NA\",IF(Table1[[#This Row],[Non HZ Employee]]=Table1[[#This Row],[Max calc]],\"Non HZ Employee\", Table1[[#This Row],[Calc 2]]))","v":"#NA"}]
[203," ",203,{"$nulls":5},{"$f":"SUM(Table1[[#This Row],[Column4]]+Table1[[#This Row],[Column3]]+Table1[[#This Row],[Column2]]+Table1[[#This Row],[Column1]])","v":0},{"$nulls":5},{"$f":"SUM(Table1[[#This Row],[PO Employee]:[Other Employee]])","v":0},"N",{"$error":"#N/A"},{"$f":"IF(O220>39,Table1[[#This Row],[Calc 1]],IF(O220>1,\"Not counted as an Employee\",\"#NA\"))","v":"#NA"},{"$f":"MAX(Table1[[#This Row],[PO Employee]],Table1[[#This Row],[Other HZ Employee]],Table1[[#This Row],[Non HZ Employee]],Table1[[#This Row],[Job Site Employee]],Table1[[#This Row],[Other Employee]])","v":0},{"$f":"IF(Table1[[#This Row],[Total Hours per Month]]=Table1[[#This Row],[Column12]],\"Match\",\"Error\")","v":"Match"},{"$f":"IF(Table1[[#This Row],[Calc 2]]=\"#NA\",\"#NA\",IF(Table1[[#This Row],[Non HZ Employee]]=Table1[[#This Row],[Max calc]],\"Non HZ Employee\", Table1[[#This Row],[Calc 2]]))","v":"#NA"}]
[204," ",204,{"$nulls":5},{"$f":"SUM(Table1[[#This Row],[Column4]]+Table1[[#This Row],[Column3]]+Table1[[#This Row],[Column2]]+Table1[[#This Row],[Column1]])","v":0},{"$nulls":5},{"$f":"SUM(Table1[[#This Row],[PO Employee]:[Other Employee]])","v":0},"N",{"$error":"#N/A"},{"$f":"IF(O221>39,Table1[[#This Row],[Calc 1]],IF(O221>1,\"Not counted as an Employee\",\"#NA\"))","v":"#NA"},{"$f":"MAX(Table1[[#This Row],[PO Employee]],Table1[[#This Row],[Other HZ Employee]],Table1[[#This Row],[Non HZ Employee]],Table1[[#This Row],[Job Site Employee]],Table1[[#This Row],[Other Employee]])","v":0},{"$f":"IF(Table1[[#This Row],[Total Hours per Month]]=Table1[[#This Row],[Column12]],\"Match\",\"Error\")","v":"Match"},{"$f":"IF(Table1[[#This Row],[Calc 2]]=\"#NA\",\"#NA\",IF(Table1[[#This Row],[Non HZ Employee]]=Table1[[#This Row],[Max calc]],\"Non HZ Employee\", Table1[[#This Row],[Calc 2]]))","v":"#NA"}]
[205," ",205,{"$nulls":5},{"$f":"SUM(Table1[[#This Row],[Column4]]+Table1[[#This Row],[Column3]]+Table1[[#This Row],[Column2]]+Table1[[#This Row],[Column1]])","v":0},{"$nulls":5},{"$f":"SUM(Table1[[#This Row],[PO Employee]:[Other Employee]])","v":0},"N",{"$error":"#N/A"},{"$f":"IF(O222>39,Table1[[#This Row],[Calc 1]],IF(O222>1,\"Not counted as an Employee\",\"#NA\"))","v":"#NA"},{"$f":"MAX(Table1[[#This Row],[PO Employee]],Table1[[#This Row],[Other HZ Employee]],Table1[[#This Row],[Non HZ Employee]],Table1[[#This Row],[Job Site Employee]],Table1[[#This Row],[Other Employee]])","v":0},{"$f":"IF(Table1[[#This Row],[Total Hours per Month]]=Table1[[#This Row],[Column12]],\"Match\",\"Error\")","v":"Match"},{"$f":"IF(Table1[[#This Row],[Calc 2]]=\"#NA\",\"#NA\",IF(Table1[[#This Row],[Non HZ Employee]]=Table1[[#This Row],[Max calc]],\"Non HZ Employee\", Table1[[#This Row],[Calc 2]]))","v":"#NA"}]
[206," ",206,{"$nulls":5},{"$f":"SUM(Table1[[#This Row],[Column4]]+Table1[[#This Row],[Column3]]+Table1[[#This Row],[Column2]]+Table1[[#This Row],[Column1]])","v":0},{"$nulls":5},{"$f":"SUM(Table1[[#This Row],[PO Employee]:[Other Employee]])","v":0},"N",{"$error":"#N/A"},{"$f":"IF(O223>39,Table1[[#This Row],[Calc 1]],IF(O223>1,\"Not counted as an Employee\",\"#NA\"))","v":"#NA"},{"$f":"MAX(Table1[[#This Row],[PO Employee]],Table1[[#This Row],[Other HZ Employee]],Table1[[#This Row],[Non HZ Employee]],Table1[[#This Row],[Job Site Employee]],Table1[[#This Row],[Other Employee]])","v":0},{"$f":"IF(Table1[[#This Row],[Total Hours per Month]]=Table1[[#This Row],[Column12]],\"Match\",\"Error\")","v":"Match"},{"$f":"IF(Table1[[#This Row],[Calc 2]]=\"#NA\",\"#NA\",IF(Table1[[#This Row],[Non HZ Employee]]=Table1[[#This Row],[Max calc]],\"Non HZ Employee\", Table1[[#This Row],[Calc 2]]))","v":"#NA"}]
[207," ",207,{"$nulls":5},{"$f":"SUM(Table1[[#This Row],[Column4]]+Table1[[#This Row],[Column3]]+Table1[[#This Row],[Column2]]+Table1[[#This Row],[Column1]])","v":0},{"$nulls":5},{"$f":"SUM(Table1[[#This Row],[PO Employee]:[Other Employee]])","v":0},"N",{"$error":"#N/A"},{"$f":"IF(O224>39,Table1[[#This Row],[Calc 1]],IF(O224>1,\"Not counted as an Employee\",\"#NA\"))","v":"#NA"},{"$f":"MAX(Table1[[#This Row],[PO Employee]],Table1[[#This Row],[Other HZ Employee]],Table1[[#This Row],[Non HZ Employee]],Table1[[#This Row],[Job Site Employee]],Table1[[#This Row],[Other Employee]])","v":0},{"$f":"IF(Table1[[#This Row],[Total Hours per Month]]=Table1[[#This Row],[Column12]],\"Match\",\"Error\")","v":"Match"},{"$f":"IF(Table1[[#This Row],[Calc 2]]=\"#NA\",\"#NA\",IF(Table1[[#This Row],[Non HZ Employee]]=Table1[[#This Row],[Max calc]],\"Non HZ Employee\", Table1[[#This Row],[Calc 2]]))","v":"#NA"}]
[208," ",208,{"$nulls":5},{"$f":"SUM(Table1[[#This Row],[Column4]]+Table1[[#This Row],[Column3]]+Table1[[#This Row],[Column2]]+Table1[[#This Row],[Column1]])","v":0},{"$nulls":5},{"$f":"SUM(Table1[[#This Row],[PO Employee]:[Other Employee]])","v":0},"N",{"$error":"#N/A"},{"$f":"IF(O225>39,Table1[[#This Row],[Calc 1]],IF(O225>1,\"Not counted as an Employee\",\"#NA\"))","v":"#NA"},{"$f":"MAX(Table1[[#This Row],[PO Employee]],Table1[[#This Row],[Other HZ Employee]],Table1[[#This Row],[Non HZ Employee]],Table1[[#This Row],[Job Site Employee]],Table1[[#This Row],[Other Employee]])","v":0},{"$f":"IF(Table1[[#This Row],[Total Hours per Month]]=Table1[[#This Row],[Column12]],\"Match\",\"Error\")","v":"Match"},{"$f":"IF(Table1[[#This Row],[Calc 2]]=\"#NA\",\"#NA\",IF(Table1[[#This Row],[Non HZ Employee]]=Table1[[#This Row],[Max calc]],\"Non HZ Employee\", Table1[[#This Row],[Calc 2]]))","v":"#NA"}]
[209," ",209,{"$nulls":5},{"$f":"SUM(Table1[[#This Row],[Column4]]+Table1[[#This Row],[Column3]]+Table1[[#This Row],[Column2]]+Table1[[#This Row],[Column1]])","v":0},{"$nulls":5},{"$f":"SUM(Table1[[#This Row],[PO Employee]:[Other Employee]])","v":0},"N",{"$error":"#N/A"},{"$f":"IF(O226>39,Table1[[#This Row],[Calc 1]],IF(O226>1,\"Not counted as an Employee\",\"#NA\"))","v":"#NA"},{"$f":"MAX(Table1[[#This Row],[PO Employee]],Table1[[#This Row],[Other HZ Employee]],Table1[[#This Row],[Non HZ Employee]],Table1[[#This Row],[Job Site Employee]],Table1[[#This Row],[Other Employee]])","v":0},{"$f":"IF(Table1[[#This Row],[Total Hours per Month]]=Table1[[#This Row],[Column12]],\"Match\",\"Error\")","v":"Match"},{"$f":"IF(Table1[[#This Row],[Calc 2]]=\"#NA\",\"#NA\",IF(Table1[[#This Row],[Non HZ Employee]]=Table1[[#This Row],[Max calc]],\"Non HZ Employee\", Table1[[#This Row],[Calc 2]]))","v":"#NA"}]
[210," ",210,{"$nulls":5},{"$f":"SUM(Table1[[#This Row],[Column4]]+Table1[[#This Row],[Column3]]+Table1[[#This Row],[Column2]]+Table1[[#This Row],[Column1]])","v":0},{"$nulls":5},{"$f":"SUM(Table1[[#This Row],[PO Employee]:[Other Employee]])","v":0},"N",{"$error":"#N/A"},{"$f":"IF(O227>39,Table1[[#This Row],[Calc 1]],IF(O227>1,\"Not counted as an Employee\",\"#NA\"))","v":"#NA"},{"$f":"MAX(Table1[[#This Row],[PO Employee]],Table1[[#This Row],[Other HZ Employee]],Table1[[#This Row],[Non HZ Employee]],Table1[[#This Row],[Job Site Employee]],Table1[[#This Row],[Other Employee]])","v":0},{"$f":"IF(Table1[[#This Row],[Total Hours per Month]]=Table1[[#This Row],[Column12]],\"Match\",\"Error\")","v":"Match"},{"$f":"IF(Table1[[#This Row],[Calc 2]]=\"#NA\",\"#NA\",IF(Table1[[#This Row],[Non HZ Employee]]=Table1[[#This Row],[Max calc]],\"Non HZ Employee\", Table1[[#This Row],[Calc 2]]))","v":"#NA"}]
[211," ",211,{"$nulls":5},{"$f":"SUM(Table1[[#This Row],[Column4]]+Table1[[#This Row],[Column3]]+Table1[[#This Row],[Column2]]+Table1[[#This Row],[Column1]])","v":0},{"$nulls":5},{"$f":"SUM(Table1[[#This Row],[PO Employee]:[Other Employee]])","v":0},"N",{"$error":"#N/A"},{"$f":"IF(O228>39,Table1[[#This Row],[Calc 1]],IF(O228>1,\"Not counted as an Employee\",\"#NA\"))","v":"#NA"},{"$f":"MAX(Table1[[#This Row],[PO Employee]],Table1[[#This Row],[Other HZ Employee]],Table1[[#This Row],[Non HZ Employee]],Table1[[#This Row],[Job Site Employee]],Table1[[#This Row],[Other Employee]])","v":0},{"$f":"IF(Table1[[#This Row],[Total Hours per Month]]=Table1[[#This Row],[Column12]],\"Match\",\"Error\")","v":"Match"},{"$f":"IF(Table1[[#This Row],[Calc 2]]=\"#NA\",\"#NA\",IF(Table1[[#This Row],[Non HZ Employee]]=Table1[[#This Row],[Max calc]],\"Non HZ Employee\", Table1[[#This Row],[Calc 2]]))","v":"#NA"}]
[212," ",212,{"$nulls":5},{"$f":"SUM(Table1[[#This Row],[Column4]]+Table1[[#This Row],[Column3]]+Table1[[#This Row],[Column2]]+Table1[[#This Row],[Column1]])","v":0},{"$nulls":5},{"$f":"SUM(Table1[[#This Row],[PO Employee]:[Other Employee]])","v":0},"N",{"$error":"#N/A"},{"$f":"IF(O229>39,Table1[[#This Row],[Calc 1]],IF(O229>1,\"Not counted as an Employee\",\"#NA\"))","v":"#NA"},{"$f":"MAX(Table1[[#This Row],[PO Employee]],Table1[[#This Row],[Other HZ Employee]],Table1[[#This Row],[Non HZ Employee]],Table1[[#This Row],[Job Site Employee]],Table1[[#This Row],[Other Employee]])","v":0},{"$f":"IF(Table1[[#This Row],[Total Hours per Month]]=Table1[[#This Row],[Column12]],\"Match\",\"Error\")","v":"Match"},{"$f":"IF(Table1[[#This Row],[Calc 2]]=\"#NA\",\"#NA\",IF(Table1[[#This Row],[Non HZ Employee]]=Table1[[#This Row],[Max calc]],\"Non HZ Employee\", Table1[[#This Row],[Calc 2]]))","v":"#NA"}]
[213," ",213,{"$nulls":5},{"$f":"SUM(Table1[[#This Row],[Column4]]+Table1[[#This Row],[Column3]]+Table1[[#This Row],[Column2]]+Table1[[#This Row],[Column1]])","v":0},{"$nulls":5},{"$f":"SUM(Table1[[#This Row],[PO Employee]:[Other Employee]])","v":0},"N",{"$error":"#N/A"},{"$f":"IF(O230>39,Table1[[#This Row],[Calc 1]],IF(O230>1,\"Not counted as an Employee\",\"#NA\"))","v":"#NA"},{"$f":"MAX(Table1[[#This Row],[PO Employee]],Table1[[#This Row],[Other HZ Employee]],Table1[[#This Row],[Non HZ Employee]],Table1[[#This Row],[Job Site Employee]],Table1[[#This Row],[Other Employee]])","v":0},{"$f":"IF(Table1[[#This Row],[Total Hours per Month]]=Table1[[#This Row],[Column12]],\"Match\",\"Error\")","v":"Match"},{"$f":"IF(Table1[[#This Row],[Calc 2]]=\"#NA\",\"#NA\",IF(Table1[[#This Row],[Non HZ Employee]]=Table1[[#This Row],[Max calc]],\"Non HZ Employee\", Table1[[#This Row],[Calc 2]]))","v":"#NA"}]
[214," ",214,{"$nulls":5},{"$f":"SUM(Table1[[#This Row],[Column4]]+Table1[[#This Row],[Column3]]+Table1[[#This Row],[Column2]]+Table1[[#This Row],[Column1]])","v":0},{"$nulls":5},{"$f":"SUM(Table1[[#This Row],[PO Employee]:[Other Employee]])","v":0},"N",{"$error":"#N/A"},{"$f":"IF(O231>39,Table1[[#This Row],[Calc 1]],IF(O231>1,\"Not counted as an Employee\",\"#NA\"))","v":"#NA"},{"$f":"MAX(Table1[[#This Row],[PO Employee]],Table1[[#This Row],[Other HZ Employee]],Table1[[#This Row],[Non HZ Employee]],Table1[[#This Row],[Job Site Employee]],Table1[[#This Row],[Other Employee]])","v":0},{"$f":"IF(Table1[[#This Row],[Total Hours per Month]]=Table1[[#This Row],[Column12]],\"Match\",\"Error\")","v":"Match"},{"$f":"IF(Table1[[#This Row],[Calc 2]]=\"#NA\",\"#NA\",IF(Table1[[#This Row],[Non HZ Employee]]=Table1[[#This Row],[Max calc]],\"Non HZ Employee\", Table1[[#This Row],[Calc 2]]))","v":"#NA"}]
[215," ",215,{"$nulls":5},{"$f":"SUM(Table1[[#This Row],[Column4]]+Table1[[#This Row],[Column3]]+Table1[[#This Row],[Column2]]+Table1[[#This Row],[Column1]])","v":0},{"$nulls":5},{"$f":"SUM(Table1[[#This Row],[PO Employee]:[Other Employee]])","v":0},"N",{"$error":"#N/A"},{"$f":"IF(O232>39,Table1[[#This Row],[Calc 1]],IF(O232>1,\"Not counted as an Employee\",\"#NA\"))","v":"#NA"},{"$f":"MAX(Table1[[#This Row],[PO Employee]],Table1[[#This Row],[Other HZ Employee]],Table1[[#This Row],[Non HZ Employee]],Table1[[#This Row],[Job Site Employee]],Table1[[#This Row],[Other Employee]])","v":0},{"$f":"IF(Table1[[#This Row],[Total Hours per Month]]=Table1[[#This Row],[Column12]],\"Match\",\"Error\")","v":"Match"},{"$f":"IF(Table1[[#This Row],[Calc 2]]=\"#NA\",\"#NA\",IF(Table1[[#This Row],[Non HZ Employee]]=Table1[[#This Row],[Max calc]],\"Non HZ Employee\", Table1[[#This Row],[Calc 2]]))","v":"#NA"}]
[216," ",216,{"$nulls":5},{"$f":"SUM(Table1[[#This Row],[Column4]]+Table1[[#This Row],[Column3]]+Table1[[#This Row],[Column2]]+Table1[[#This Row],[Column1]])","v":0},{"$nulls":5},{"$f":"SUM(Table1[[#This Row],[PO Employee]:[Other Employee]])","v":0},"N",{"$error":"#N/A"},{"$f":"IF(O233>39,Table1[[#This Row],[Calc 1]],IF(O233>1,\"Not counted as an Employee\",\"#NA\"))","v":"#NA"},{"$f":"MAX(Table1[[#This Row],[PO Employee]],Table1[[#This Row],[Other HZ Employee]],Table1[[#This Row],[Non HZ Employee]],Table1[[#This Row],[Job Site Employee]],Table1[[#This Row],[Other Employee]])","v":0},{"$f":"IF(Table1[[#This Row],[Total Hours per Month]]=Table1[[#This Row],[Column12]],\"Match\",\"Error\")","v":"Match"},{"$f":"IF(Table1[[#This Row],[Calc 2]]=\"#NA\",\"#NA\",IF(Table1[[#This Row],[Non HZ Employee]]=Table1[[#This Row],[Max calc]],\"Non HZ Employee\", Table1[[#This Row],[Calc 2]]))","v":"#NA"}]
[217," ",217,{"$nulls":5},{"$f":"SUM(Table1[[#This Row],[Column4]]+Table1[[#This Row],[Column3]]+Table1[[#This Row],[Column2]]+Table1[[#This Row],[Column1]])","v":0},{"$nulls":5},{"$f":"SUM(Table1[[#This Row],[PO Employee]:[Other Employee]])","v":0},"N",{"$error":"#N/A"},{"$f":"IF(O234>39,Table1[[#This Row],[Calc 1]],IF(O234>1,\"Not counted as an Employee\",\"#NA\"))","v":"#NA"},{"$f":"MAX(Table1[[#This Row],[PO Employee]],Table1[[#This Row],[Other HZ Employee]],Table1[[#This Row],[Non HZ Employee]],Table1[[#This Row],[Job Site Employee]],Table1[[#This Row],[Other Employee]])","v":0},{"$f":"IF(Table1[[#This Row],[Total Hours per Month]]=Table1[[#This Row],[Column12]],\"Match\",\"Error\")","v":"Match"},{"$f":"IF(Table1[[#This Row],[Calc 2]]=\"#NA\",\"#NA\",IF(Table1[[#This Row],[Non HZ Employee]]=Table1[[#This Row],[Max calc]],\"Non HZ Employee\", Table1[[#This Row],[Calc 2]]))","v":"#NA"}]
[218," ",218,{"$nulls":5},{"$f":"SUM(Table1[[#This Row],[Column4]]+Table1[[#This Row],[Column3]]+Table1[[#This Row],[Column2]]+Table1[[#This Row],[Column1]])","v":0},{"$nulls":5},{"$f":"SUM(Table1[[#This Row],[PO Employee]:[Other Employee]])","v":0},"N",{"$error":"#N/A"},{"$f":"IF(O235>39,Table1[[#This Row],[Calc 1]],IF(O235>1,\"Not counted as an Employee\",\"#NA\"))","v":"#NA"},{"$f":"MAX(Table1[[#This Row],[PO Employee]],Table1[[#This Row],[Other HZ Employee]],Table1[[#This Row],[Non HZ Employee]],Table1[[#This Row],[Job Site Employee]],Table1[[#This Row],[Other Employee]])","v":0},{"$f":"IF(Table1[[#This Row],[Total Hours per Month]]=Table1[[#This Row],[Column12]],\"Match\",\"Error\")","v":"Match"},{"$f":"IF(Table1[[#This Row],[Calc 2]]=\"#NA\",\"#NA\",IF(Table1[[#This Row],[Non HZ Employee]]=Table1[[#This Row],[Max calc]],\"Non HZ Employee\", Table1[[#This Row],[Calc 2]]))","v":"#NA"}]
[219," ",219,{"$nulls":5},{"$f":"SUM(Table1[[#This Row],[Column4]]+Table1[[#This Row],[Column3]]+Table1[[#This Row],[Column2]]+Table1[[#This Row],[Column1]])","v":0},{"$nulls":5},{"$f":"SUM(Table1[[#This Row],[PO Employee]:[Other Employee]])","v":0},"N",{"$error":"#N/A"},{"$f":"IF(O236>39,Table1[[#This Row],[Calc 1]],IF(O236>1,\"Not counted as an Employee\",\"#NA\"))","v":"#NA"},{"$f":"MAX(Table1[[#This Row],[PO Employee]],Table1[[#This Row],[Other HZ Employee]],Table1[[#This Row],[Non HZ Employee]],Table1[[#This Row],[Job Site Employee]],Table1[[#This Row],[Other Employee]])","v":0},{"$f":"IF(Table1[[#This Row],[Total Hours per Month]]=Table1[[#This Row],[Column12]],\"Match\",\"Error\")","v":"Match"},{"$f":"IF(Table1[[#This Row],[Calc 2]]=\"#NA\",\"#NA\",IF(Table1[[#This Row],[Non HZ Employee]]=Table1[[#This Row],[Max calc]],\"Non HZ Employee\", Table1[[#This Row],[Calc 2]]))","v":"#NA"}]
[220," ",220,{"$nulls":5},{"$f":"SUM(Table1[[#This Row],[Column4]]+Table1[[#This Row],[Column3]]+Table1[[#This Row],[Column2]]+Table1[[#This Row],[Column1]])","v":0},{"$nulls":5},{"$f":"SUM(Table1[[#This Row],[PO Employee]:[Other Employee]])","v":0},"N",{"$error":"#N/A"},{"$f":"IF(O237>39,Table1[[#This Row],[Calc 1]],IF(O237>1,\"Not counted as an Employee\",\"#NA\"))","v":"#NA"},{"$f":"MAX(Table1[[#This Row],[PO Employee]],Table1[[#This Row],[Other HZ Employee]],Table1[[#This Row],[Non HZ Employee]],Table1[[#This Row],[Job Site Employee]],Table1[[#This Row],[Other Employee]])","v":0},{"$f":"IF(Table1[[#This Row],[Total Hours per Month]]=Table1[[#This Row],[Column12]],\"Match\",\"Error\")","v":"Match"},{"$f":"IF(Table1[[#This Row],[Calc 2]]=\"#NA\",\"#NA\",IF(Table1[[#This Row],[Non HZ Employee]]=Table1[[#This Row],[Max calc]],\"Non HZ Employee\", Table1[[#This Row],[Calc 2]]))","v":"#NA"}]
[221," ",221,{"$nulls":5},{"$f":"SUM(Table1[[#This Row],[Column4]]+Table1[[#This Row],[Column3]]+Table1[[#This Row],[Column2]]+Table1[[#This Row],[Column1]])","v":0},{"$nulls":5},{"$f":"SUM(Table1[[#This Row],[PO Employee]:[Other Employee]])","v":0},"N",{"$error":"#N/A"},{"$f":"IF(O238>39,Table1[[#This Row],[Calc 1]],IF(O238>1,\"Not counted as an Employee\",\"#NA\"))","v":"#NA"},{"$f":"MAX(Table1[[#This Row],[PO Employee]],Table1[[#This Row],[Other HZ Employee]],Table1[[#This Row],[Non HZ Employee]],Table1[[#This Row],[Job Site Employee]],Table1[[#This Row],[Other Employee]])","v":0},{"$f":"IF(Table1[[#This Row],[Total Hours per Month]]=Table1[[#This Row],[Column12]],\"Match\",\"Error\")","v":"Match"},{"$f":"IF(Table1[[#This Row],[Calc 2]]=\"#NA\",\"#NA\",IF(Table1[[#This Row],[Non HZ Employee]]=Table1[[#This Row],[Max calc]],\"Non HZ Employee\", Table1[[#This Row],[Calc 2]]))","v":"#NA"}]
[222," ",222,{"$nulls":5},{"$f":"SUM(Table1[[#This Row],[Column4]]+Table1[[#This Row],[Column3]]+Table1[[#This Row],[Column2]]+Table1[[#This Row],[Column1]])","v":0},{"$nulls":5},{"$f":"SUM(Table1[[#This Row],[PO Employee]:[Other Employee]])","v":0},"N",{"$error":"#N/A"},{"$f":"IF(O239>39,Table1[[#This Row],[Calc 1]],IF(O239>1,\"Not counted as an Employee\",\"#NA\"))","v":"#NA"},{"$f":"MAX(Table1[[#This Row],[PO Employee]],Table1[[#This Row],[Other HZ Employee]],Table1[[#This Row],[Non HZ Employee]],Table1[[#This Row],[Job Site Employee]],Table1[[#This Row],[Other Employee]])","v":0},{"$f":"IF(Table1[[#This Row],[Total Hours per Month]]=Table1[[#This Row],[Column12]],\"Match\",\"Error\")","v":"Match"},{"$f":"IF(Table1[[#This Row],[Calc 2]]=\"#NA\",\"#NA\",IF(Table1[[#This Row],[Non HZ Employee]]=Table1[[#This Row],[Max calc]],\"Non HZ Employee\", Table1[[#This Row],[Calc 2]]))","v":"#NA"}]
[223," ",223,{"$nulls":5},{"$f":"SUM(Table1[[#This Row],[Column4]]+Table1[[#This Row],[Column3]]+Table1[[#This Row],[Column2]]+Table1[[#This Row],[Column1]])","v":0},{"$nulls":5},{"$f":"SUM(Table1[[#This Row],[PO Employee]:[Other Employee]])","v":0},"N",{"$error":"#N/A"},{"$f":"IF(O240>39,Table1[[#This Row],[Calc 1]],IF(O240>1,\"Not counted as an Employee\",\"#NA\"))","v":"#NA"},{"$f":"MAX(Table1[[#This Row],[PO Employee]],Table1[[#This Row],[Other HZ Employee]],Table1[[#This Row],[Non HZ Employee]],Table1[[#This Row],[Job Site Employee]],Table1[[#This Row],[Other Employee]])","v":0},{"$f":"IF(Table1[[#This Row],[Total Hours per Month]]=Table1[[#This Row],[Column12]],\"Match\",\"Error\")","v":"Match"},{"$f":"IF(Table1[[#This Row],[Calc 2]]=\"#NA\",\"#NA\",IF(Table1[[#This Row],[Non HZ Employee]]=Table1[[#This Row],[Max calc]],\"Non HZ Employee\", Table1[[#This Row],[Calc 2]]))","v":"#NA"}]
[224," ",224,{"$nulls":5},{"$f":"SUM(Table1[[#This Row],[Column4]]+Table1[[#This Row],[Column3]]+Table1[[#This Row],[Column2]]+Table1[[#This Row],[Column1]])","v":0},{"$nulls":5},{"$f":"SUM(Table1[[#This Row],[PO Employee]:[Other Employee]])","v":0},"N",{"$error":"#N/A"},{"$f":"IF(O241>39,Table1[[#This Row],[Calc 1]],IF(O241>1,\"Not counted as an Employee\",\"#NA\"))","v":"#NA"},{"$f":"MAX(Table1[[#This Row],[PO Employee]],Table1[[#This Row],[Other HZ Employee]],Table1[[#This Row],[Non HZ Employee]],Table1[[#This Row],[Job Site Employee]],Table1[[#This Row],[Other Employee]])","v":0},{"$f":"IF(Table1[[#This Row],[Total Hours per Month]]=Table1[[#This Row],[Column12]],\"Match\",\"Error\")","v":"Match"},{"$f":"IF(Table1[[#This Row],[Calc 2]]=\"#NA\",\"#NA\",IF(Table1[[#This Row],[Non HZ Employee]]=Table1[[#This Row],[Max calc]],\"Non HZ Employee\", Table1[[#This Row],[Calc 2]]))","v":"#NA"}]
[225," ",225,{"$nulls":5},{"$f":"SUM(Table1[[#This Row],[Column4]]+Table1[[#This Row],[Column3]]+Table1[[#This Row],[Column2]]+Table1[[#This Row],[Column1]])","v":0},{"$nulls":5},{"$f":"SUM(Table1[[#This Row],[PO Employee]:[Other Employee]])","v":0},"N",{"$error":"#N/A"},{"$f":"IF(O242>39,Table1[[#This Row],[Calc 1]],IF(O242>1,\"Not counted as an Employee\",\"#NA\"))","v":"#NA"},{"$f":"MAX(Table1[[#This Row],[PO Employee]],Table1[[#This Row],[Other HZ Employee]],Table1[[#This Row],[Non HZ Employee]],Table1[[#This Row],[Job Site Employee]],Table1[[#This Row],[Other Employee]])","v":0},{"$f":"IF(Table1[[#This Row],[Total Hours per Month]]=Table1[[#This Row],[Column12]],\"Match\",\"Error\")","v":"Match"},{"$f":"IF(Table1[[#This Row],[Calc 2]]=\"#NA\",\"#NA\",IF(Table1[[#This Row],[Non HZ Employee]]=Table1[[#This Row],[Max calc]],\"Non HZ Employee\", Table1[[#This Row],[Calc 2]]))","v":"#NA"}]
[226," ",226,{"$nulls":5},{"$f":"SUM(Table1[[#This Row],[Column4]]+Table1[[#This Row],[Column3]]+Table1[[#This Row],[Column2]]+Table1[[#This Row],[Column1]])","v":0},{"$nulls":5},{"$f":"SUM(Table1[[#This Row],[PO Employee]:[Other Employee]])","v":0},"N",{"$error":"#N/A"},{"$f":"IF(O243>39,Table1[[#This Row],[Calc 1]],IF(O243>1,\"Not counted as an Employee\",\"#NA\"))","v":"#NA"},{"$f":"MAX(Table1[[#This Row],[PO Employee]],Table1[[#This Row],[Other HZ Employee]],Table1[[#This Row],[Non HZ Employee]],Table1[[#This Row],[Job Site Employee]],Table1[[#This Row],[Other Employee]])","v":0},{"$f":"IF(Table1[[#This Row],[Total Hours per Month]]=Table1[[#This Row],[Column12]],\"Match\",\"Error\")","v":"Match"},{"$f":"IF(Table1[[#This Row],[Calc 2]]=\"#NA\",\"#NA\",IF(Table1[[#This Row],[Non HZ Employee]]=Table1[[#This Row],[Max calc]],\"Non HZ Employee\", Table1[[#This Row],[Calc 2]]))","v":"#NA"}]
[227," ",227,{"$nulls":5},{"$f":"SUM(Table1[[#This Row],[Column4]]+Table1[[#This Row],[Column3]]+Table1[[#This Row],[Column2]]+Table1[[#This Row],[Column1]])","v":0},{"$nulls":5},{"$f":"SUM(Table1[[#This Row],[PO Employee]:[Other Employee]])","v":0},"N",{"$error":"#N/A"},{"$f":"IF(O244>39,Table1[[#This Row],[Calc 1]],IF(O244>1,\"Not counted as an Employee\",\"#NA\"))","v":"#NA"},{"$f":"MAX(Table1[[#This Row],[PO Employee]],Table1[[#This Row],[Other HZ Employee]],Table1[[#This Row],[Non HZ Employee]],Table1[[#This Row],[Job Site Employee]],Table1[[#This Row],[Other Employee]])","v":0},{"$f":"IF(Table1[[#This Row],[Total Hours per Month]]=Table1[[#This Row],[Column12]],\"Match\",\"Error\")","v":"Match"},{"$f":"IF(Table1[[#This Row],[Calc 2]]=\"#NA\",\"#NA\",IF(Table1[[#This Row],[Non HZ Employee]]=Table1[[#This Row],[Max calc]],\"Non HZ Employee\", Table1[[#This Row],[Calc 2]]))","v":"#NA"}]
[228," ",228,{"$nulls":5},{"$f":"SUM(Table1[[#This Row],[Column4]]+Table1[[#This Row],[Column3]]+Table1[[#This Row],[Column2]]+Table1[[#This Row],[Column1]])","v":0},{"$nulls":5},{"$f":"SUM(Table1[[#This Row],[PO Employee]:[Other Employee]])","v":0},"N",{"$error":"#N/A"},{"$f":"IF(O245>39,Table1[[#This Row],[Calc 1]],IF(O245>1,\"Not counted as an Employee\",\"#NA\"))","v":"#NA"},{"$f":"MAX(Table1[[#This Row],[PO Employee]],Table1[[#This Row],[Other HZ Employee]],Table1[[#This Row],[Non HZ Employee]],Table1[[#This Row],[Job Site Employee]],Table1[[#This Row],[Other Employee]])","v":0},{"$f":"IF(Table1[[#This Row],[Total Hours per Month]]=Table1[[#This Row],[Column12]],\"Match\",\"Error\")","v":"Match"},{"$f":"IF(Table1[[#This Row],[Calc 2]]=\"#NA\",\"#NA\",IF(Table1[[#This Row],[Non HZ Employee]]=Table1[[#This Row],[Max calc]],\"Non HZ Employee\", Table1[[#This Row],[Calc 2]]))","v":"#NA"}]
[229," ",229,{"$nulls":5},{"$f":"SUM(Table1[[#This Row],[Column4]]+Table1[[#This Row],[Column3]]+Table1[[#This Row],[Column2]]+Table1[[#This Row],[Column1]])","v":0},{"$nulls":5},{"$f":"SUM(Table1[[#This Row],[PO Employee]:[Other Employee]])","v":0},"N",{"$error":"#N/A"},{"$f":"IF(O246>39,Table1[[#This Row],[Calc 1]],IF(O246>1,\"Not counted as an Employee\",\"#NA\"))","v":"#NA"},{"$f":"MAX(Table1[[#This Row],[PO Employee]],Table1[[#This Row],[Other HZ Employee]],Table1[[#This Row],[Non HZ Employee]],Table1[[#This Row],[Job Site Employee]],Table1[[#This Row],[Other Employee]])","v":0},{"$f":"IF(Table1[[#This Row],[Total Hours per Month]]=Table1[[#This Row],[Column12]],\"Match\",\"Error\")","v":"Match"},{"$f":"IF(Table1[[#This Row],[Calc 2]]=\"#NA\",\"#NA\",IF(Table1[[#This Row],[Non HZ Employee]]=Table1[[#This Row],[Max calc]],\"Non HZ Employee\", Table1[[#This Row],[Calc 2]]))","v":"#NA"}]
[230," ",230,{"$nulls":5},{"$f":"SUM(Table1[[#This Row],[Column4]]+Table1[[#This Row],[Column3]]+Table1[[#This Row],[Column2]]+Table1[[#This Row],[Column1]])","v":0},{"$nulls":5},{"$f":"SUM(Table1[[#This Row],[PO Employee]:[Other Employee]])","v":0},"N",{"$error":"#N/A"},{"$f":"IF(O247>39,Table1[[#This Row],[Calc 1]],IF(O247>1,\"Not counted as an Employee\",\"#NA\"))","v":"#NA"},{"$f":"MAX(Table1[[#This Row],[PO Employee]],Table1[[#This Row],[Other HZ Employee]],Table1[[#This Row],[Non HZ Employee]],Table1[[#This Row],[Job Site Employee]],Table1[[#This Row],[Other Employee]])","v":0},{"$f":"IF(Table1[[#This Row],[Total Hours per Month]]=Table1[[#This Row],[Column12]],\"Match\",\"Error\")","v":"Match"},{"$f":"IF(Table1[[#This Row],[Calc 2]]=\"#NA\",\"#NA\",IF(Table1[[#This Row],[Non HZ Employee]]=Table1[[#This Row],[Max calc]],\"Non HZ Employee\", Table1[[#This Row],[Calc 2]]))","v":"#NA"}]
[231," ",231,{"$nulls":5},{"$f":"SUM(Table1[[#This Row],[Column4]]+Table1[[#This Row],[Column3]]+Table1[[#This Row],[Column2]]+Table1[[#This Row],[Column1]])","v":0},{"$nulls":5},{"$f":"SUM(Table1[[#This Row],[PO Employee]:[Other Employee]])","v":0},"N",{"$error":"#N/A"},{"$f":"IF(O248>39,Table1[[#This Row],[Calc 1]],IF(O248>1,\"Not counted as an Employee\",\"#NA\"))","v":"#NA"},{"$f":"MAX(Table1[[#This Row],[PO Employee]],Table1[[#This Row],[Other HZ Employee]],Table1[[#This Row],[Non HZ Employee]],Table1[[#This Row],[Job Site Employee]],Table1[[#This Row],[Other Employee]])","v":0},{"$f":"IF(Table1[[#This Row],[Total Hours per Month]]=Table1[[#This Row],[Column12]],\"Match\",\"Error\")","v":"Match"},{"$f":"IF(Table1[[#This Row],[Calc 2]]=\"#NA\",\"#NA\",IF(Table1[[#This Row],[Non HZ Employee]]=Table1[[#This Row],[Max calc]],\"Non HZ Employee\", Table1[[#This Row],[Calc 2]]))","v":"#NA"}]
[232," ",232,{"$nulls":5},{"$f":"SUM(Table1[[#This Row],[Column4]]+Table1[[#This Row],[Column3]]+Table1[[#This Row],[Column2]]+Table1[[#This Row],[Column1]])","v":0},{"$nulls":5},{"$f":"SUM(Table1[[#This Row],[PO Employee]:[Other Employee]])","v":0},"N",{"$error":"#N/A"},{"$f":"IF(O249>39,Table1[[#This Row],[Calc 1]],IF(O249>1,\"Not counted as an Employee\",\"#NA\"))","v":"#NA"},{"$f":"MAX(Table1[[#This Row],[PO Employee]],Table1[[#This Row],[Other HZ Employee]],Table1[[#This Row],[Non HZ Employee]],Table1[[#This Row],[Job Site Employee]],Table1[[#This Row],[Other Employee]])","v":0},{"$f":"IF(Table1[[#This Row],[Total Hours per Month]]=Table1[[#This Row],[Column12]],\"Match\",\"Error\")","v":"Match"},{"$f":"IF(Table1[[#This Row],[Calc 2]]=\"#NA\",\"#NA\",IF(Table1[[#This Row],[Non HZ Employee]]=Table1[[#This Row],[Max calc]],\"Non HZ Employee\", Table1[[#This Row],[Calc 2]]))","v":"#NA"}]
[233," ",233,{"$nulls":5},{"$f":"SUM(Table1[[#This Row],[Column4]]+Table1[[#This Row],[Column3]]+Table1[[#This Row],[Column2]]+Table1[[#This Row],[Column1]])","v":0},{"$nulls":5},{"$f":"SUM(Table1[[#This Row],[PO Employee]:[Other Employee]])","v":0},"N",{"$error":"#N/A"},{"$f":"IF(O250>39,Table1[[#This Row],[Calc 1]],IF(O250>1,\"Not counted as an Employee\",\"#NA\"))","v":"#NA"},{"$f":"MAX(Table1[[#This Row],[PO Employee]],Table1[[#This Row],[Other HZ Employee]],Table1[[#This Row],[Non HZ Employee]],Table1[[#This Row],[Job Site Employee]],Table1[[#This Row],[Other Employee]])","v":0},{"$f":"IF(Table1[[#This Row],[Total Hours per Month]]=Table1[[#This Row],[Column12]],\"Match\",\"Error\")","v":"Match"},{"$f":"IF(Table1[[#This Row],[Calc 2]]=\"#NA\",\"#NA\",IF(Table1[[#This Row],[Non HZ Employee]]=Table1[[#This Row],[Max calc]],\"Non HZ Employee\", Table1[[#This Row],[Calc 2]]))","v":"#NA"}]
[234," ",234,{"$nulls":5},{"$f":"SUM(Table1[[#This Row],[Column4]]+Table1[[#This Row],[Column3]]+Table1[[#This Row],[Column2]]+Table1[[#This Row],[Column1]])","v":0},{"$nulls":5},{"$f":"SUM(Table1[[#This Row],[PO Employee]:[Other Employee]])","v":0},"N",{"$error":"#N/A"},{"$f":"IF(O251>39,Table1[[#This Row],[Calc 1]],IF(O251>1,\"Not counted as an Employee\",\"#NA\"))","v":"#NA"},{"$f":"MAX(Table1[[#This Row],[PO Employee]],Table1[[#This Row],[Other HZ Employee]],Table1[[#This Row],[Non HZ Employee]],Table1[[#This Row],[Job Site Employee]],Table1[[#This Row],[Other Employee]])","v":0},{"$f":"IF(Table1[[#This Row],[Total Hours per Month]]=Table1[[#This Row],[Column12]],\"Match\",\"Error\")","v":"Match"},{"$f":"IF(Table1[[#This Row],[Calc 2]]=\"#NA\",\"#NA\",IF(Table1[[#This Row],[Non HZ Employee]]=Table1[[#This Row],[Max calc]],\"Non HZ Employee\", Table1[[#This Row],[Calc 2]]))","v":"#NA"}]
[235," ",235,{"$nulls":5},{"$f":"SUM(Table1[[#This Row],[Column4]]+Table1[[#This Row],[Column3]]+Table1[[#This Row],[Column2]]+Table1[[#This Row],[Column1]])","v":0},{"$nulls":5},{"$f":"SUM(Table1[[#This Row],[PO Employee]:[Other Employee]])","v":0},"N",{"$error":"#N/A"},{"$f":"IF(O252>39,Table1[[#This Row],[Calc 1]],IF(O252>1,\"Not counted as an Employee\",\"#NA\"))","v":"#NA"},{"$f":"MAX(Table1[[#This Row],[PO Employee]],Table1[[#This Row],[Other HZ Employee]],Table1[[#This Row],[Non HZ Employee]],Table1[[#This Row],[Job Site Employee]],Table1[[#This Row],[Other Employee]])","v":0},{"$f":"IF(Table1[[#This Row],[Total Hours per Month]]=Table1[[#This Row],[Column12]],\"Match\",\"Error\")","v":"Match"},{"$f":"IF(Table1[[#This Row],[Calc 2]]=\"#NA\",\"#NA\",IF(Table1[[#This Row],[Non HZ Employee]]=Table1[[#This Row],[Max calc]],\"Non HZ Employee\", Table1[[#This Row],[Calc 2]]))","v":"#NA"}]
[236," ",236,{"$nulls":5},{"$f":"SUM(Table1[[#This Row],[Column4]]+Table1[[#This Row],[Column3]]+Table1[[#This Row],[Column2]]+Table1[[#This Row],[Column1]])","v":0},{"$nulls":5},{"$f":"SUM(Table1[[#This Row],[PO Employee]:[Other Employee]])","v":0},"N",{"$error":"#N/A"},{"$f":"IF(O253>39,Table1[[#This Row],[Calc 1]],IF(O253>1,\"Not counted as an Employee\",\"#NA\"))","v":"#NA"},{"$f":"MAX(Table1[[#This Row],[PO Employee]],Table1[[#This Row],[Other HZ Employee]],Table1[[#This Row],[Non HZ Employee]],Table1[[#This Row],[Job Site Employee]],Table1[[#This Row],[Other Employee]])","v":0},{"$f":"IF(Table1[[#This Row],[Total Hours per Month]]=Table1[[#This Row],[Column12]],\"Match\",\"Error\")","v":"Match"},{"$f":"IF(Table1[[#This Row],[Calc 2]]=\"#NA\",\"#NA\",IF(Table1[[#This Row],[Non HZ Employee]]=Table1[[#This Row],[Max calc]],\"Non HZ Employee\", Table1[[#This Row],[Calc 2]]))","v":"#NA"}]
[237," ",237,{"$nulls":5},{"$f":"SUM(Table1[[#This Row],[Column4]]+Table1[[#This Row],[Column3]]+Table1[[#This Row],[Column2]]+Table1[[#This Row],[Column1]])","v":0},{"$nulls":5},{"$f":"SUM(Table1[[#This Row],[PO Employee]:[Other Employee]])","v":0},"N",{"$error":"#N/A"},{"$f":"IF(O254>39,Table1[[#This Row],[Calc 1]],IF(O254>1,\"Not counted as an Employee\",\"#NA\"))","v":"#NA"},{"$f":"MAX(Table1[[#This Row],[PO Employee]],Table1[[#This Row],[Other HZ Employee]],Table1[[#This Row],[Non HZ Employee]],Table1[[#This Row],[Job Site Employee]],Table1[[#This Row],[Other Employee]])","v":0},{"$f":"IF(Table1[[#This Row],[Total Hours per Month]]=Table1[[#This Row],[Column12]],\"Match\",\"Error\")","v":"Match"},{"$f":"IF(Table1[[#This Row],[Calc 2]]=\"#NA\",\"#NA\",IF(Table1[[#This Row],[Non HZ Employee]]=Table1[[#This Row],[Max calc]],\"Non HZ Employee\", Table1[[#This Row],[Calc 2]]))","v":"#NA"}]
[238," ",238,{"$nulls":5},{"$f":"SUM(Table1[[#This Row],[Column4]]+Table1[[#This Row],[Column3]]+Table1[[#This Row],[Column2]]+Table1[[#This Row],[Column1]])","v":0},{"$nulls":5},{"$f":"SUM(Table1[[#This Row],[PO Employee]:[Other Employee]])","v":0},"N",{"$error":"#N/A"},{"$f":"IF(O255>39,Table1[[#This Row],[Calc 1]],IF(O255>1,\"Not counted as an Employee\",\"#NA\"))","v":"#NA"},{"$f":"MAX(Table1[[#This Row],[PO Employee]],Table1[[#This Row],[Other HZ Employee]],Table1[[#This Row],[Non HZ Employee]],Table1[[#This Row],[Job Site Employee]],Table1[[#This Row],[Other Employee]])","v":0},{"$f":"IF(Table1[[#This Row],[Total Hours per Month]]=Table1[[#This Row],[Column12]],\"Match\",\"Error\")","v":"Match"},{"$f":"IF(Table1[[#This Row],[Calc 2]]=\"#NA\",\"#NA\",IF(Table1[[#This Row],[Non HZ Employee]]=Table1[[#This Row],[Max calc]],\"Non HZ Employee\", Table1[[#This Row],[Calc 2]]))","v":"#NA"}]
[239," ",239,{"$nulls":5},{"$f":"SUM(Table1[[#This Row],[Column4]]+Table1[[#This Row],[Column3]]+Table1[[#This Row],[Column2]]+Table1[[#This Row],[Column1]])","v":0},{"$nulls":5},{"$f":"SUM(Table1[[#This Row],[PO Employee]:[Other Employee]])","v":0},"N",{"$error":"#N/A"},{"$f":"IF(O256>39,Table1[[#This Row],[Calc 1]],IF(O256>1,\"Not counted as an Employee\",\"#NA\"))","v":"#NA"},{"$f":"MAX(Table1[[#This Row],[PO Employee]],Table1[[#This Row],[Other HZ Employee]],Table1[[#This Row],[Non HZ Employee]],Table1[[#This Row],[Job Site Employee]],Table1[[#This Row],[Other Employee]])","v":0},{"$f":"IF(Table1[[#This Row],[Total Hours per Month]]=Table1[[#This Row],[Column12]],\"Match\",\"Error\")","v":"Match"},{"$f":"IF(Table1[[#This Row],[Calc 2]]=\"#NA\",\"#NA\",IF(Table1[[#This Row],[Non HZ Employee]]=Table1[[#This Row],[Max calc]],\"Non HZ Employee\", Table1[[#This Row],[Calc 2]]))","v":"#NA"}]
[240," ",240,{"$nulls":5},{"$f":"SUM(Table1[[#This Row],[Column4]]+Table1[[#This Row],[Column3]]+Table1[[#This Row],[Column2]]+Table1[[#This Row],[Column1]])","v":0},{"$nulls":5},{"$f":"SUM(Table1[[#This Row],[PO Employee]:[Other Employee]])","v":0},"N",{"$error":"#N/A"},{"$f":"IF(O257>39,Table1[[#This Row],[Calc 1]],IF(O257>1,\"Not counted as an Employee\",\"#NA\"))","v":"#NA"},{"$f":"MAX(Table1[[#This Row],[PO Employee]],Table1[[#This Row],[Other HZ Employee]],Table1[[#This Row],[Non HZ Employee]],Table1[[#This Row],[Job Site Employee]],Table1[[#This Row],[Other Employee]])","v":0},{"$f":"IF(Table1[[#This Row],[Total Hours per Month]]=Table1[[#This Row],[Column12]],\"Match\",\"Error\")","v":"Match"},{"$f":"IF(Table1[[#This Row],[Calc 2]]=\"#NA\",\"#NA\",IF(Table1[[#This Row],[Non HZ Employee]]=Table1[[#This Row],[Max calc]],\"Non HZ Employee\", Table1[[#This Row],[Calc 2]]))","v":"#NA"}]
[241," ",241,{"$nulls":5},{"$f":"SUM(Table1[[#This Row],[Column4]]+Table1[[#This Row],[Column3]]+Table1[[#This Row],[Column2]]+Table1[[#This Row],[Column1]])","v":0},{"$nulls":5},{"$f":"SUM(Table1[[#This Row],[PO Employee]:[Other Employee]])","v":0},"N",{"$error":"#N/A"},{"$f":"IF(O258>39,Table1[[#This Row],[Calc 1]],IF(O258>1,\"Not counted as an Employee\",\"#NA\"))","v":"#NA"},{"$f":"MAX(Table1[[#This Row],[PO Employee]],Table1[[#This Row],[Other HZ Employee]],Table1[[#This Row],[Non HZ Employee]],Table1[[#This Row],[Job Site Employee]],Table1[[#This Row],[Other Employee]])","v":0},{"$f":"IF(Table1[[#This Row],[Total Hours per Month]]=Table1[[#This Row],[Column12]],\"Match\",\"Error\")","v":"Match"},{"$f":"IF(Table1[[#This Row],[Calc 2]]=\"#NA\",\"#NA\",IF(Table1[[#This Row],[Non HZ Employee]]=Table1[[#This Row],[Max calc]],\"Non HZ Employee\", Table1[[#This Row],[Calc 2]]))","v":"#NA"}]
[242," ",242,{"$nulls":5},{"$f":"SUM(Table1[[#This Row],[Column4]]+Table1[[#This Row],[Column3]]+Table1[[#This Row],[Column2]]+Table1[[#This Row],[Column1]])","v":0},{"$nulls":5},{"$f":"SUM(Table1[[#This Row],[PO Employee]:[Other Employee]])","v":0},"N",{"$error":"#N/A"},{"$f":"IF(O259>39,Table1[[#This Row],[Calc 1]],IF(O259>1,\"Not counted as an Employee\",\"#NA\"))","v":"#NA"},{"$f":"MAX(Table1[[#This Row],[PO Employee]],Table1[[#This Row],[Other HZ Employee]],Table1[[#This Row],[Non HZ Employee]],Table1[[#This Row],[Job Site Employee]],Table1[[#This Row],[Other Employee]])","v":0},{"$f":"IF(Table1[[#This Row],[Total Hours per Month]]=Table1[[#This Row],[Column12]],\"Match\",\"Error\")","v":"Match"},{"$f":"IF(Table1[[#This Row],[Calc 2]]=\"#NA\",\"#NA\",IF(Table1[[#This Row],[Non HZ Employee]]=Table1[[#This Row],[Max calc]],\"Non HZ Employee\", Table1[[#This Row],[Calc 2]]))","v":"#NA"}]
[243," ",243,{"$nulls":5},{"$f":"SUM(Table1[[#This Row],[Column4]]+Table1[[#This Row],[Column3]]+Table1[[#This Row],[Column2]]+Table1[[#This Row],[Column1]])","v":0},{"$nulls":5},{"$f":"SUM(Table1[[#This Row],[PO Employee]:[Other Employee]])","v":0},"N",{"$error":"#N/A"},{"$f":"IF(O260>39,Table1[[#This Row],[Calc 1]],IF(O260>1,\"Not counted as an Employee\",\"#NA\"))","v":"#NA"},{"$f":"MAX(Table1[[#This Row],[PO Employee]],Table1[[#This Row],[Other HZ Employee]],Table1[[#This Row],[Non HZ Employee]],Table1[[#This Row],[Job Site Employee]],Table1[[#This Row],[Other Employee]])","v":0},{"$f":"IF(Table1[[#This Row],[Total Hours per Month]]=Table1[[#This Row],[Column12]],\"Match\",\"Error\")","v":"Match"},{"$f":"IF(Table1[[#This Row],[Calc 2]]=\"#NA\",\"#NA\",IF(Table1[[#This Row],[Non HZ Employee]]=Table1[[#This Row],[Max calc]],\"Non HZ Employee\", Table1[[#This Row],[Calc 2]]))","v":"#NA"}]
[244," ",244,{"$nulls":5},{"$f":"SUM(Table1[[#This Row],[Column4]]+Table1[[#This Row],[Column3]]+Table1[[#This Row],[Column2]]+Table1[[#This Row],[Column1]])","v":0},{"$nulls":5},{"$f":"SUM(Table1[[#This Row],[PO Employee]:[Other Employee]])","v":0},"N",{"$error":"#N/A"},{"$f":"IF(O261>39,Table1[[#This Row],[Calc 1]],IF(O261>1,\"Not counted as an Employee\",\"#NA\"))","v":"#NA"},{"$f":"MAX(Table1[[#This Row],[PO Employee]],Table1[[#This Row],[Other HZ Employee]],Table1[[#This Row],[Non HZ Employee]],Table1[[#This Row],[Job Site Employee]],Table1[[#This Row],[Other Employee]])","v":0},{"$f":"IF(Table1[[#This Row],[Total Hours per Month]]=Table1[[#This Row],[Column12]],\"Match\",\"Error\")","v":"Match"},{"$f":"IF(Table1[[#This Row],[Calc 2]]=\"#NA\",\"#NA\",IF(Table1[[#This Row],[Non HZ Employee]]=Table1[[#This Row],[Max calc]],\"Non HZ Employee\", Table1[[#This Row],[Calc 2]]))","v":"#NA"}]
[245," ",245,{"$nulls":5},{"$f":"SUM(Table1[[#This Row],[Column4]]+Table1[[#This Row],[Column3]]+Table1[[#This Row],[Column2]]+Table1[[#This Row],[Column1]])","v":0},{"$nulls":5},{"$f":"SUM(Table1[[#This Row],[PO Employee]:[Other Employee]])","v":0},"N",{"$error":"#N/A"},{"$f":"IF(O262>39,Table1[[#This Row],[Calc 1]],IF(O262>1,\"Not counted as an Employee\",\"#NA\"))","v":"#NA"},{"$f":"MAX(Table1[[#This Row],[PO Employee]],Table1[[#This Row],[Other HZ Employee]],Table1[[#This Row],[Non HZ Employee]],Table1[[#This Row],[Job Site Employee]],Table1[[#This Row],[Other Employee]])","v":0},{"$f":"IF(Table1[[#This Row],[Total Hours per Month]]=Table1[[#This Row],[Column12]],\"Match\",\"Error\")","v":"Match"},{"$f":"IF(Table1[[#This Row],[Calc 2]]=\"#NA\",\"#NA\",IF(Table1[[#This Row],[Non HZ Employee]]=Table1[[#This Row],[Max calc]],\"Non HZ Employee\", Table1[[#This Row],[Calc 2]]))","v":"#NA"}]
[246," ",246,{"$nulls":5},{"$f":"SUM(Table1[[#This Row],[Column4]]+Table1[[#This Row],[Column3]]+Table1[[#This Row],[Column2]]+Table1[[#This Row],[Column1]])","v":0},{"$nulls":5},{"$f":"SUM(Table1[[#This Row],[PO Employee]:[Other Employee]])","v":0},"N",{"$error":"#N/A"},{"$f":"IF(O263>39,Table1[[#This Row],[Calc 1]],IF(O263>1,\"Not counted as an Employee\",\"#NA\"))","v":"#NA"},{"$f":"MAX(Table1[[#This Row],[PO Employee]],Table1[[#This Row],[Other HZ Employee]],Table1[[#This Row],[Non HZ Employee]],Table1[[#This Row],[Job Site Employee]],Table1[[#This Row],[Other Employee]])","v":0},{"$f":"IF(Table1[[#This Row],[Total Hours per Month]]=Table1[[#This Row],[Column12]],\"Match\",\"Error\")","v":"Match"},{"$f":"IF(Table1[[#This Row],[Calc 2]]=\"#NA\",\"#NA\",IF(Table1[[#This Row],[Non HZ Employee]]=Table1[[#This Row],[Max calc]],\"Non HZ Employee\", Table1[[#This Row],[Calc 2]]))","v":"#NA"}]
[247," ",247,{"$nulls":5},{"$f":"SUM(Table1[[#This Row],[Column4]]+Table1[[#This Row],[Column3]]+Table1[[#This Row],[Column2]]+Table1[[#This Row],[Column1]])","v":0},{"$nulls":5},{"$f":"SUM(Table1[[#This Row],[PO Employee]:[Other Employee]])","v":0},"N",{"$error":"#N/A"},{"$f":"IF(O264>39,Table1[[#This Row],[Calc 1]],IF(O264>1,\"Not counted as an Employee\",\"#NA\"))","v":"#NA"},{"$f":"MAX(Table1[[#This Row],[PO Employee]],Table1[[#This Row],[Other HZ Employee]],Table1[[#This Row],[Non HZ Employee]],Table1[[#This Row],[Job Site Employee]],Table1[[#This Row],[Other Employee]])","v":0},{"$f":"IF(Table1[[#This Row],[Total Hours per Month]]=Table1[[#This Row],[Column12]],\"Match\",\"Error\")","v":"Match"},{"$f":"IF(Table1[[#This Row],[Calc 2]]=\"#NA\",\"#NA\",IF(Table1[[#This Row],[Non HZ Employee]]=Table1[[#This Row],[Max calc]],\"Non HZ Employee\", Table1[[#This Row],[Calc 2]]))","v":"#NA"}]
[248," ",248,{"$nulls":5},{"$f":"SUM(Table1[[#This Row],[Column4]]+Table1[[#This Row],[Column3]]+Table1[[#This Row],[Column2]]+Table1[[#This Row],[Column1]])","v":0},{"$nulls":5},{"$f":"SUM(Table1[[#This Row],[PO Employee]:[Other Employee]])","v":0},"N",{"$error":"#N/A"},{"$f":"IF(O265>39,Table1[[#This Row],[Calc 1]],IF(O265>1,\"Not counted as an Employee\",\"#NA\"))","v":"#NA"},{"$f":"MAX(Table1[[#This Row],[PO Employee]],Table1[[#This Row],[Other HZ Employee]],Table1[[#This Row],[Non HZ Employee]],Table1[[#This Row],[Job Site Employee]],Table1[[#This Row],[Other Employee]])","v":0},{"$f":"IF(Table1[[#This Row],[Total Hours per Month]]=Table1[[#This Row],[Column12]],\"Match\",\"Error\")","v":"Match"},{"$f":"IF(Table1[[#This Row],[Calc 2]]=\"#NA\",\"#NA\",IF(Table1[[#This Row],[Non HZ Employee]]=Table1[[#This Row],[Max calc]],\"Non HZ Employee\", Table1[[#This Row],[Calc 2]]))","v":"#NA"}]
[249," ",249,{"$nulls":5},{"$f":"SUM(Table1[[#This Row],[Column4]]+Table1[[#This Row],[Column3]]+Table1[[#This Row],[Column2]]+Table1[[#This Row],[Column1]])","v":0},{"$nulls":5},{"$f":"SUM(Table1[[#This Row],[PO Employee]:[Other Employee]])","v":0},"N",{"$error":"#N/A"},{"$f":"IF(O266>39,Table1[[#This Row],[Calc 1]],IF(O266>1,\"Not counted as an Employee\",\"#NA\"))","v":"#NA"},{"$f":"MAX(Table1[[#This Row],[PO Employee]],Table1[[#This Row],[Other HZ Employee]],Table1[[#This Row],[Non HZ Employee]],Table1[[#This Row],[Job Site Employee]],Table1[[#This Row],[Other Employee]])","v":0},{"$f":"IF(Table1[[#This Row],[Total Hours per Month]]=Table1[[#This Row],[Column12]],\"Match\",\"Error\")","v":"Match"},{"$f":"IF(Table1[[#This Row],[Calc 2]]=\"#NA\",\"#NA\",IF(Table1[[#This Row],[Non HZ Employee]]=Table1[[#This Row],[Max calc]],\"Non HZ Employee\", Table1[[#This Row],[Calc 2]]))","v":"#NA"}]
[250," ",250,{"$nulls":5},{"$f":"SUM(Table1[[#This Row],[Column4]]+Table1[[#This Row],[Column3]]+Table1[[#This Row],[Column2]]+Table1[[#This Row],[Column1]])","v":0},{"$nulls":5},{"$f":"SUM(Table1[[#This Row],[PO Employee]:[Other Employee]])","v":0},"N",{"$error":"#N/A"},{"$f":"IF(O267>39,Table1[[#This Row],[Calc 1]],IF(O267>1,\"Not counted as an Employee\",\"#NA\"))","v":"#NA"},{"$f":"MAX(Table1[[#This Row],[PO Employee]],Table1[[#This Row],[Other HZ Employee]],Table1[[#This Row],[Non HZ Employee]],Table1[[#This Row],[Job Site Employee]],Table1[[#This Row],[Other Employee]])","v":0},{"$f":"IF(Table1[[#This Row],[Total Hours per Month]]=Table1[[#This Row],[Column12]],\"Match\",\"Error\")","v":"Match"},{"$f":"IF(Table1[[#This Row],[Calc 2]]=\"#NA\",\"#NA\",IF(Table1[[#This Row],[Non HZ Employee]]=Table1[[#This Row],[Max calc]],\"Non HZ Employee\", Table1[[#This Row],[Calc 2]]))","v":"#NA"}]
[251," ",251,{"$nulls":5},{"$f":"SUM(Table1[[#This Row],[Column4]]+Table1[[#This Row],[Column3]]+Table1[[#This Row],[Column2]]+Table1[[#This Row],[Column1]])","v":0},{"$nulls":5},{"$f":"SUM(Table1[[#This Row],[PO Employee]:[Other Employee]])","v":0},"N",{"$error":"#N/A"},{"$f":"IF(O268>39,Table1[[#This Row],[Calc 1]],IF(O268>1,\"Not counted as an Employee\",\"#NA\"))","v":"#NA"},{"$f":"MAX(Table1[[#This Row],[PO Employee]],Table1[[#This Row],[Other HZ Employee]],Table1[[#This Row],[Non HZ Employee]],Table1[[#This Row],[Job Site Employee]],Table1[[#This Row],[Other Employee]])","v":0},{"$f":"IF(Table1[[#This Row],[Total Hours per Month]]=Table1[[#This Row],[Column12]],\"Match\",\"Error\")","v":"Match"},{"$f":"IF(Table1[[#This Row],[Calc 2]]=\"#NA\",\"#NA\",IF(Table1[[#This Row],[Non HZ Employee]]=Table1[[#This Row],[Max calc]],\"Non HZ Employee\", Table1[[#This Row],[Calc 2]]))","v":"#NA"}]
[252," ",252,{"$nulls":5},{"$f":"SUM(Table1[[#This Row],[Column4]]+Table1[[#This Row],[Column3]]+Table1[[#This Row],[Column2]]+Table1[[#This Row],[Column1]])","v":0},{"$nulls":5},{"$f":"SUM(Table1[[#This Row],[PO Employee]:[Other Employee]])","v":0},"N",{"$error":"#N/A"},{"$f":"IF(O269>39,Table1[[#This Row],[Calc 1]],IF(O269>1,\"Not counted as an Employee\",\"#NA\"))","v":"#NA"},{"$f":"MAX(Table1[[#This Row],[PO Employee]],Table1[[#This Row],[Other HZ Employee]],Table1[[#This Row],[Non HZ Employee]],Table1[[#This Row],[Job Site Employee]],Table1[[#This Row],[Other Employee]])","v":0},{"$f":"IF(Table1[[#This Row],[Total Hours per Month]]=Table1[[#This Row],[Column12]],\"Match\",\"Error\")","v":"Match"},{"$f":"IF(Table1[[#This Row],[Calc 2]]=\"#NA\",\"#NA\",IF(Table1[[#This Row],[Non HZ Employee]]=Table1[[#This Row],[Max calc]],\"Non HZ Employee\", Table1[[#This Row],[Calc 2]]))","v":"#NA"}]
[253," ",253,{"$nulls":5},{"$f":"SUM(Table1[[#This Row],[Column4]]+Table1[[#This Row],[Column3]]+Table1[[#This Row],[Column2]]+Table1[[#This Row],[Column1]])","v":0},{"$nulls":5},{"$f":"SUM(Table1[[#This Row],[PO Employee]:[Other Employee]])","v":0},"N",{"$error":"#N/A"},{"$f":"IF(O270>39,Table1[[#This Row],[Calc 1]],IF(O270>1,\"Not counted as an Employee\",\"#NA\"))","v":"#NA"},{"$f":"MAX(Table1[[#This Row],[PO Employee]],Table1[[#This Row],[Other HZ Employee]],Table1[[#This Row],[Non HZ Employee]],Table1[[#This Row],[Job Site Employee]],Table1[[#This Row],[Other Employee]])","v":0},{"$f":"IF(Table1[[#This Row],[Total Hours per Month]]=Table1[[#This Row],[Column12]],\"Match\",\"Error\")","v":"Match"},{"$f":"IF(Table1[[#This Row],[Calc 2]]=\"#NA\",\"#NA\",IF(Table1[[#This Row],[Non HZ Employee]]=Table1[[#This Row],[Max calc]],\"Non HZ Employee\", Table1[[#This Row],[Calc 2]]))","v":"#NA"}]
[254," ",254,{"$nulls":5},{"$f":"SUM(Table1[[#This Row],[Column4]]+Table1[[#This Row],[Column3]]+Table1[[#This Row],[Column2]]+Table1[[#This Row],[Column1]])","v":0},{"$nulls":5},{"$f":"SUM(Table1[[#This Row],[PO Employee]:[Other Employee]])","v":0},"N",{"$error":"#N/A"},{"$f":"IF(O271>39,Table1[[#This Row],[Calc 1]],IF(O271>1,\"Not counted as an Employee\",\"#NA\"))","v":"#NA"},{"$f":"MAX(Table1[[#This Row],[PO Employee]],Table1[[#This Row],[Other HZ Employee]],Table1[[#This Row],[Non HZ Employee]],Table1[[#This Row],[Job Site Employee]],Table1[[#This Row],[Other Employee]])","v":0},{"$f":"IF(Table1[[#This Row],[Total Hours per Month]]=Table1[[#This Row],[Column12]],\"Match\",\"Error\")","v":"Match"},{"$f":"IF(Table1[[#This Row],[Calc 2]]=\"#NA\",\"#NA\",IF(Table1[[#This Row],[Non HZ Employee]]=Table1[[#This Row],[Max calc]],\"Non HZ Employee\", Table1[[#This Row],[Calc 2]]))","v":"#NA"}]
[255," ",255,{"$nulls":5},{"$f":"SUM(Table1[[#This Row],[Column4]]+Table1[[#This Row],[Column3]]+Table1[[#This Row],[Column2]]+Table1[[#This Row],[Column1]])","v":0},{"$nulls":5},{"$f":"SUM(Table1[[#This Row],[PO Employee]:[Other Employee]])","v":0},"N",{"$error":"#N/A"},{"$f":"IF(O272>39,Table1[[#This Row],[Calc 1]],IF(O272>1,\"Not counted as an Employee\",\"#NA\"))","v":"#NA"},{"$f":"MAX(Table1[[#This Row],[PO Employee]],Table1[[#This Row],[Other HZ Employee]],Table1[[#This Row],[Non HZ Employee]],Table1[[#This Row],[Job Site Employee]],Table1[[#This Row],[Other Employee]])","v":0},{"$f":"IF(Table1[[#This Row],[Total Hours per Month]]=Table1[[#This Row],[Column12]],\"Match\",\"Error\")","v":"Match"},{"$f":"IF(Table1[[#This Row],[Calc 2]]=\"#NA\",\"#NA\",IF(Table1[[#This Row],[Non HZ Employee]]=Table1[[#This Row],[Max calc]],\"Non HZ Employee\", Table1[[#This Row],[Calc 2]]))","v":"#NA"}]
[256," ",256,{"$nulls":5},{"$f":"SUM(Table1[[#This Row],[Column4]]+Table1[[#This Row],[Column3]]+Table1[[#This Row],[Column2]]+Table1[[#This Row],[Column1]])","v":0},{"$nulls":5},{"$f":"SUM(Table1[[#This Row],[PO Employee]:[Other Employee]])","v":0},"N",{"$error":"#N/A"},{"$f":"IF(O273>39,Table1[[#This Row],[Calc 1]],IF(O273>1,\"Not counted as an Employee\",\"#NA\"))","v":"#NA"},{"$f":"MAX(Table1[[#This Row],[PO Employee]],Table1[[#This Row],[Other HZ Employee]],Table1[[#This Row],[Non HZ Employee]],Table1[[#This Row],[Job Site Employee]],Table1[[#This Row],[Other Employee]])","v":0},{"$f":"IF(Table1[[#This Row],[Total Hours per Month]]=Table1[[#This Row],[Column12]],\"Match\",\"Error\")","v":"Match"},{"$f":"IF(Table1[[#This Row],[Calc 2]]=\"#NA\",\"#NA\",IF(Table1[[#This Row],[Non HZ Employee]]=Table1[[#This Row],[Max calc]],\"Non HZ Employee\", Table1[[#This Row],[Calc 2]]))","v":"#NA"}]
[257," ",257,{"$nulls":5},{"$f":"SUM(Table1[[#This Row],[Column4]]+Table1[[#This Row],[Column3]]+Table1[[#This Row],[Column2]]+Table1[[#This Row],[Column1]])","v":0},{"$nulls":5},{"$f":"SUM(Table1[[#This Row],[PO Employee]:[Other Employee]])","v":0},"N",{"$f":"INDEX($J$17:$N$17,MATCH(MAX(J274:N274),J274:N274,0))","v":{"$error":"#N/A"}},{"$f":"IF(O274>39,Table1[[#This Row],[Calc 1]],IF(O274>1,\"Not counted as an Employee\",\"#NA\"))","v":"#NA"},{"$f":"MAX(Table1[[#This Row],[PO Employee]],Table1[[#This Row],[Other HZ Employee]],Table1[[#This Row],[Non HZ Employee]],Table1[[#This Row],[Job Site Employee]],Table1[[#This Row],[Other Employee]])","v":0},{"$f":"IF(Table1[[#This Row],[Total Hours per Month]]=Table1[[#This Row],[Column12]],\"Match\",\"Error\")","v":"Match"},{"$f":"IF(Table1[[#This Row],[Calc 2]]=\"#NA\",\"#NA\",IF(Table1[[#This Row],[Non HZ Employee]]=Table1[[#This Row],[Max calc]],\"Non HZ Employee\", Table1[[#This Row],[Calc 2]]))","v":"#NA"}]
[258," ",258,{"$nulls":5},{"$f":"SUM(Table1[[#This Row],[Column4]]+Table1[[#This Row],[Column3]]+Table1[[#This Row],[Column2]]+Table1[[#This Row],[Column1]])","v":0},{"$nulls":5},{"$f":"SUM(Table1[[#This Row],[PO Employee]:[Other Employee]])","v":0},{"$f":"IF(O275>=40,\"Y\",\"N\")","v":"N"},{"$error":"#N/A"},{"$f":"IF(O275>39,Table1[[#This Row],[Calc 1]],IF(O275>1,\"Not counted as an Employee\",\"#NA\"))","v":"#NA"},{"$f":"MAX(Table1[[#This Row],[PO Employee]],Table1[[#This Row],[Other HZ Employee]],Table1[[#This Row],[Non HZ Employee]],Table1[[#This Row],[Job Site Employee]],Table1[[#This Row],[Other Employee]])","v":0},{"$f":"IF(Table1[[#This Row],[Total Hours per Month]]=Table1[[#This Row],[Column12]],\"Match\",\"Error\")","v":"Match"},{"$f":"IF(Table1[[#This Row],[Calc 2]]=\"#NA\",\"#NA\",IF(Table1[[#This Row],[Non HZ Employee]]=Table1[[#This Row],[Max calc]],\"Non HZ Employee\", Table1[[#This Row],[Calc 2]]))","v":"#NA"}]
[259," ",259,{"$nulls":5},{"$f":"SUM(Table1[[#This Row],[Column4]]+Table1[[#This Row],[Column3]]+Table1[[#This Row],[Column2]]+Table1[[#This Row],[Column1]])","v":0},{"$nulls":5},{"$f":"SUM(Table1[[#This Row],[PO Employee]:[Other Employee]])","v":0},"N",{"$error":"#N/A"},{"$f":"IF(O276>39,Table1[[#This Row],[Calc 1]],IF(O276>1,\"Not counted as an Employee\",\"#NA\"))","v":"#NA"},{"$f":"MAX(Table1[[#This Row],[PO Employee]],Table1[[#This Row],[Other HZ Employee]],Table1[[#This Row],[Non HZ Employee]],Table1[[#This Row],[Job Site Employee]],Table1[[#This Row],[Other Employee]])","v":0},{"$f":"IF(Table1[[#This Row],[Total Hours per Month]]=Table1[[#This Row],[Column12]],\"Match\",\"Error\")","v":"Match"},{"$f":"IF(Table1[[#This Row],[Calc 2]]=\"#NA\",\"#NA\",IF(Table1[[#This Row],[Non HZ Employee]]=Table1[[#This Row],[Max calc]],\"Non HZ Employee\", Table1[[#This Row],[Calc 2]]))","v":"#NA"}]
[260," ",260,{"$nulls":5},{"$f":"SUM(Table1[[#This Row],[Column4]]+Table1[[#This Row],[Column3]]+Table1[[#This Row],[Column2]]+Table1[[#This Row],[Column1]])","v":0},{"$nulls":5},{"$f":"SUM(Table1[[#This Row],[PO Employee]:[Other Employee]])","v":0},"N",{"$error":"#N/A"},{"$f":"IF(O277>39,Table1[[#This Row],[Calc 1]],IF(O277>1,\"Not counted as an Employee\",\"#NA\"))","v":"#NA"},{"$f":"MAX(Table1[[#This Row],[PO Employee]],Table1[[#This Row],[Other HZ Employee]],Table1[[#This Row],[Non HZ Employee]],Table1[[#This Row],[Job Site Employee]],Table1[[#This Row],[Other Employee]])","v":0},{"$f":"IF(Table1[[#This Row],[Total Hours per Month]]=Table1[[#This Row],[Column12]],\"Match\",\"Error\")","v":"Match"},{"$f":"IF(Table1[[#This Row],[Calc 2]]=\"#NA\",\"#NA\",IF(Table1[[#This Row],[Non HZ Employee]]=Table1[[#This Row],[Max calc]],\"Non HZ Employee\", Table1[[#This Row],[Calc 2]]))","v":"#NA"}]
[261," ",261,{"$nulls":5},{"$f":"SUM(Table1[[#This Row],[Column4]]+Table1[[#This Row],[Column3]]+Table1[[#This Row],[Column2]]+Table1[[#This Row],[Column1]])","v":0},{"$nulls":5},{"$f":"SUM(Table1[[#This Row],[PO Employee]:[Other Employee]])","v":0},"N",{"$error":"#N/A"},{"$f":"IF(O278>39,Table1[[#This Row],[Calc 1]],IF(O278>1,\"Not counted as an Employee\",\"#NA\"))","v":"#NA"},{"$f":"MAX(Table1[[#This Row],[PO Employee]],Table1[[#This Row],[Other HZ Employee]],Table1[[#This Row],[Non HZ Employee]],Table1[[#This Row],[Job Site Employee]],Table1[[#This Row],[Other Employee]])","v":0},{"$f":"IF(Table1[[#This Row],[Total Hours per Month]]=Table1[[#This Row],[Column12]],\"Match\",\"Error\")","v":"Match"},{"$f":"IF(Table1[[#This Row],[Calc 2]]=\"#NA\",\"#NA\",IF(Table1[[#This Row],[Non HZ Employee]]=Table1[[#This Row],[Max calc]],\"Non HZ Employee\", Table1[[#This Row],[Calc 2]]))","v":"#NA"}]
[262," ",262,{"$nulls":5},{"$f":"SUM(Table1[[#This Row],[Column4]]+Table1[[#This Row],[Column3]]+Table1[[#This Row],[Column2]]+Table1[[#This Row],[Column1]])","v":0},{"$nulls":5},{"$f":"SUM(Table1[[#This Row],[PO Employee]:[Other Employee]])","v":0},"N",{"$error":"#N/A"},{"$f":"IF(O279>39,Table1[[#This Row],[Calc 1]],IF(O279>1,\"Not counted as an Employee\",\"#NA\"))","v":"#NA"},{"$f":"MAX(Table1[[#This Row],[PO Employee]],Table1[[#This Row],[Other HZ Employee]],Table1[[#This Row],[Non HZ Employee]],Table1[[#This Row],[Job Site Employee]],Table1[[#This Row],[Other Employee]])","v":0},{"$f":"IF(Table1[[#This Row],[Total Hours per Month]]=Table1[[#This Row],[Column12]],\"Match\",\"Error\")","v":"Match"},{"$f":"IF(Table1[[#This Row],[Calc 2]]=\"#NA\",\"#NA\",IF(Table1[[#This Row],[Non HZ Employee]]=Table1[[#This Row],[Max calc]],\"Non HZ Employee\", Table1[[#This Row],[Calc 2]]))","v":"#NA"}]
[263," ",263,{"$nulls":5},{"$f":"SUM(Table1[[#This Row],[Column4]]+Table1[[#This Row],[Column3]]+Table1[[#This Row],[Column2]]+Table1[[#This Row],[Column1]])","v":0},{"$nulls":5},{"$f":"SUM(Table1[[#This Row],[PO Employee]:[Other Employee]])","v":0},"N",{"$error":"#N/A"},{"$f":"IF(O280>39,Table1[[#This Row],[Calc 1]],IF(O280>1,\"Not counted as an Employee\",\"#NA\"))","v":"#NA"},{"$f":"MAX(Table1[[#This Row],[PO Employee]],Table1[[#This Row],[Other HZ Employee]],Table1[[#This Row],[Non HZ Employee]],Table1[[#This Row],[Job Site Employee]],Table1[[#This Row],[Other Employee]])","v":0},{"$f":"IF(Table1[[#This Row],[Total Hours per Month]]=Table1[[#This Row],[Column12]],\"Match\",\"Error\")","v":"Match"},{"$f":"IF(Table1[[#This Row],[Calc 2]]=\"#NA\",\"#NA\",IF(Table1[[#This Row],[Non HZ Employee]]=Table1[[#This Row],[Max calc]],\"Non HZ Employee\", Table1[[#This Row],[Calc 2]]))","v":"#NA"}]
[264," ",264,{"$nulls":5},{"$f":"SUM(Table1[[#This Row],[Column4]]+Table1[[#This Row],[Column3]]+Table1[[#This Row],[Column2]]+Table1[[#This Row],[Column1]])","v":0},{"$nulls":5},{"$f":"SUM(Table1[[#This Row],[PO Employee]:[Other Employee]])","v":0},"N",{"$error":"#N/A"},{"$f":"IF(O281>39,Table1[[#This Row],[Calc 1]],IF(O281>1,\"Not counted as an Employee\",\"#NA\"))","v":"#NA"},{"$f":"MAX(Table1[[#This Row],[PO Employee]],Table1[[#This Row],[Other HZ Employee]],Table1[[#This Row],[Non HZ Employee]],Table1[[#This Row],[Job Site Employee]],Table1[[#This Row],[Other Employee]])","v":0},{"$f":"IF(Table1[[#This Row],[Total Hours per Month]]=Table1[[#This Row],[Column12]],\"Match\",\"Error\")","v":"Match"},{"$f":"IF(Table1[[#This Row],[Calc 2]]=\"#NA\",\"#NA\",IF(Table1[[#This Row],[Non HZ Employee]]=Table1[[#This Row],[Max calc]],\"Non HZ Employee\", Table1[[#This Row],[Calc 2]]))","v":"#NA"}]
[265," ",265,{"$nulls":5},{"$f":"SUM(Table1[[#This Row],[Column4]]+Table1[[#This Row],[Column3]]+Table1[[#This Row],[Column2]]+Table1[[#This Row],[Column1]])","v":0},{"$nulls":5},{"$f":"SUM(Table1[[#This Row],[PO Employee]:[Other Employee]])","v":0},"N",{"$error":"#N/A"},{"$f":"IF(O282>39,Table1[[#This Row],[Calc 1]],IF(O282>1,\"Not counted as an Employee\",\"#NA\"))","v":"#NA"},{"$f":"MAX(Table1[[#This Row],[PO Employee]],Table1[[#This Row],[Other HZ Employee]],Table1[[#This Row],[Non HZ Employee]],Table1[[#This Row],[Job Site Employee]],Table1[[#This Row],[Other Employee]])","v":0},{"$f":"IF(Table1[[#This Row],[Total Hours per Month]]=Table1[[#This Row],[Column12]],\"Match\",\"Error\")","v":"Match"},{"$f":"IF(Table1[[#This Row],[Calc 2]]=\"#NA\",\"#NA\",IF(Table1[[#This Row],[Non HZ Employee]]=Table1[[#This Row],[Max calc]],\"Non HZ Employee\", Table1[[#This Row],[Calc 2]]))","v":"#NA"}]
[266," ",266,{"$nulls":5},{"$f":"SUM(Table1[[#This Row],[Column4]]+Table1[[#This Row],[Column3]]+Table1[[#This Row],[Column2]]+Table1[[#This Row],[Column1]])","v":0},{"$nulls":5},{"$f":"SUM(Table1[[#This Row],[PO Employee]:[Other Employee]])","v":0},"N",{"$error":"#N/A"},{"$f":"IF(O283>39,Table1[[#This Row],[Calc 1]],IF(O283>1,\"Not counted as an Employee\",\"#NA\"))","v":"#NA"},{"$f":"MAX(Table1[[#This Row],[PO Employee]],Table1[[#This Row],[Other HZ Employee]],Table1[[#This Row],[Non HZ Employee]],Table1[[#This Row],[Job Site Employee]],Table1[[#This Row],[Other Employee]])","v":0},{"$f":"IF(Table1[[#This Row],[Total Hours per Month]]=Table1[[#This Row],[Column12]],\"Match\",\"Error\")","v":"Match"},{"$f":"IF(Table1[[#This Row],[Calc 2]]=\"#NA\",\"#NA\",IF(Table1[[#This Row],[Non HZ Employee]]=Table1[[#This Row],[Max calc]],\"Non HZ Employee\", Table1[[#This Row],[Calc 2]]))","v":"#NA"}]
[267," ",267,{"$nulls":5},{"$f":"SUM(Table1[[#This Row],[Column4]]+Table1[[#This Row],[Column3]]+Table1[[#This Row],[Column2]]+Table1[[#This Row],[Column1]])","v":0},{"$nulls":5},{"$f":"SUM(Table1[[#This Row],[PO Employee]:[Other Employee]])","v":0},"N",{"$error":"#N/A"},{"$f":"IF(O284>39,Table1[[#This Row],[Calc 1]],IF(O284>1,\"Not counted as an Employee\",\"#NA\"))","v":"#NA"},{"$f":"MAX(Table1[[#This Row],[PO Employee]],Table1[[#This Row],[Other HZ Employee]],Table1[[#This Row],[Non HZ Employee]],Table1[[#This Row],[Job Site Employee]],Table1[[#This Row],[Other Employee]])","v":0},{"$f":"IF(Table1[[#This Row],[Total Hours per Month]]=Table1[[#This Row],[Column12]],\"Match\",\"Error\")","v":"Match"},{"$f":"IF(Table1[[#This Row],[Calc 2]]=\"#NA\",\"#NA\",IF(Table1[[#This Row],[Non HZ Employee]]=Table1[[#This Row],[Max calc]],\"Non HZ Employee\", Table1[[#This Row],[Calc 2]]))","v":"#NA"}]
[268," ",268,{"$nulls":5},{"$f":"SUM(Table1[[#This Row],[Column4]]+Table1[[#This Row],[Column3]]+Table1[[#This Row],[Column2]]+Table1[[#This Row],[Column1]])","v":0},{"$nulls":5},{"$f":"SUM(Table1[[#This Row],[PO Employee]:[Other Employee]])","v":0},"N",{"$error":"#N/A"},{"$f":"IF(O285>39,Table1[[#This Row],[Calc 1]],IF(O285>1,\"Not counted as an Employee\",\"#NA\"))","v":"#NA"},{"$f":"MAX(Table1[[#This Row],[PO Employee]],Table1[[#This Row],[Other HZ Employee]],Table1[[#This Row],[Non HZ Employee]],Table1[[#This Row],[Job Site Employee]],Table1[[#This Row],[Other Employee]])","v":0},{"$f":"IF(Table1[[#This Row],[Total Hours per Month]]=Table1[[#This Row],[Column12]],\"Match\",\"Error\")","v":"Match"},{"$f":"IF(Table1[[#This Row],[Calc 2]]=\"#NA\",\"#NA\",IF(Table1[[#This Row],[Non HZ Employee]]=Table1[[#This Row],[Max calc]],\"Non HZ Employee\", Table1[[#This Row],[Calc 2]]))","v":"#NA"}]
[269," ",269,{"$nulls":5},{"$f":"SUM(Table1[[#This Row],[Column4]]+Table1[[#This Row],[Column3]]+Table1[[#This Row],[Column2]]+Table1[[#This Row],[Column1]])","v":0},{"$nulls":5},{"$f":"SUM(Table1[[#This Row],[PO Employee]:[Other Employee]])","v":0},"N",{"$error":"#N/A"},{"$f":"IF(O286>39,Table1[[#This Row],[Calc 1]],IF(O286>1,\"Not counted as an Employee\",\"#NA\"))","v":"#NA"},{"$f":"MAX(Table1[[#This Row],[PO Employee]],Table1[[#This Row],[Other HZ Employee]],Table1[[#This Row],[Non HZ Employee]],Table1[[#This Row],[Job Site Employee]],Table1[[#This Row],[Other Employee]])","v":0},{"$f":"IF(Table1[[#This Row],[Total Hours per Month]]=Table1[[#This Row],[Column12]],\"Match\",\"Error\")","v":"Match"},{"$f":"IF(Table1[[#This Row],[Calc 2]]=\"#NA\",\"#NA\",IF(Table1[[#This Row],[Non HZ Employee]]=Table1[[#This Row],[Max calc]],\"Non HZ Employee\", Table1[[#This Row],[Calc 2]]))","v":"#NA"}]
[270," ",270,{"$nulls":5},{"$f":"SUM(Table1[[#This Row],[Column4]]+Table1[[#This Row],[Column3]]+Table1[[#This Row],[Column2]]+Table1[[#This Row],[Column1]])","v":0},{"$nulls":5},{"$f":"SUM(Table1[[#This Row],[PO Employee]:[Other Employee]])","v":0},"N",{"$error":"#N/A"},{"$f":"IF(O287>39,Table1[[#This Row],[Calc 1]],IF(O287>1,\"Not counted as an Employee\",\"#NA\"))","v":"#NA"},{"$f":"MAX(Table1[[#This Row],[PO Employee]],Table1[[#This Row],[Other HZ Employee]],Table1[[#This Row],[Non HZ Employee]],Table1[[#This Row],[Job Site Employee]],Table1[[#This Row],[Other Employee]])","v":0},{"$f":"IF(Table1[[#This Row],[Total Hours per Month]]=Table1[[#This Row],[Column12]],\"Match\",\"Error\")","v":"Match"},{"$f":"IF(Table1[[#This Row],[Calc 2]]=\"#NA\",\"#NA\",IF(Table1[[#This Row],[Non HZ Employee]]=Table1[[#This Row],[Max calc]],\"Non HZ Employee\", Table1[[#This Row],[Calc 2]]))","v":"#NA"}]
[271," ",271,{"$nulls":5},{"$f":"SUM(Table1[[#This Row],[Column4]]+Table1[[#This Row],[Column3]]+Table1[[#This Row],[Column2]]+Table1[[#This Row],[Column1]])","v":0},{"$nulls":5},{"$f":"SUM(Table1[[#This Row],[PO Employee]:[Other Employee]])","v":0},"N",{"$error":"#N/A"},{"$f":"IF(O288>39,Table1[[#This Row],[Calc 1]],IF(O288>1,\"Not counted as an Employee\",\"#NA\"))","v":"#NA"},{"$f":"MAX(Table1[[#This Row],[PO Employee]],Table1[[#This Row],[Other HZ Employee]],Table1[[#This Row],[Non HZ Employee]],Table1[[#This Row],[Job Site Employee]],Table1[[#This Row],[Other Employee]])","v":0},{"$f":"IF(Table1[[#This Row],[Total Hours per Month]]=Table1[[#This Row],[Column12]],\"Match\",\"Error\")","v":"Match"},{"$f":"IF(Table1[[#This Row],[Calc 2]]=\"#NA\",\"#NA\",IF(Table1[[#This Row],[Non HZ Employee]]=Table1[[#This Row],[Max calc]],\"Non HZ Employee\", Table1[[#This Row],[Calc 2]]))","v":"#NA"}]
[272," ",272,{"$nulls":5},{"$f":"SUM(Table1[[#This Row],[Column4]]+Table1[[#This Row],[Column3]]+Table1[[#This Row],[Column2]]+Table1[[#This Row],[Column1]])","v":0},{"$nulls":5},{"$f":"SUM(Table1[[#This Row],[PO Employee]:[Other Employee]])","v":0},"N",{"$error":"#N/A"},{"$f":"IF(O289>39,Table1[[#This Row],[Calc 1]],IF(O289>1,\"Not counted as an Employee\",\"#NA\"))","v":"#NA"},{"$f":"MAX(Table1[[#This Row],[PO Employee]],Table1[[#This Row],[Other HZ Employee]],Table1[[#This Row],[Non HZ Employee]],Table1[[#This Row],[Job Site Employee]],Table1[[#This Row],[Other Employee]])","v":0},{"$f":"IF(Table1[[#This Row],[Total Hours per Month]]=Table1[[#This Row],[Column12]],\"Match\",\"Error\")","v":"Match"},{"$f":"IF(Table1[[#This Row],[Calc 2]]=\"#NA\",\"#NA\",IF(Table1[[#This Row],[Non HZ Employee]]=Table1[[#This Row],[Max calc]],\"Non HZ Employee\", Table1[[#This Row],[Calc 2]]))","v":"#NA"}]
[273," ",273,{"$nulls":5},{"$f":"SUM(Table1[[#This Row],[Column4]]+Table1[[#This Row],[Column3]]+Table1[[#This Row],[Column2]]+Table1[[#This Row],[Column1]])","v":0},{"$nulls":5},{"$f":"SUM(Table1[[#This Row],[PO Employee]:[Other Employee]])","v":0},"N",{"$error":"#N/A"},{"$f":"IF(O290>39,Table1[[#This Row],[Calc 1]],IF(O290>1,\"Not counted as an Employee\",\"#NA\"))","v":"#NA"},{"$f":"MAX(Table1[[#This Row],[PO Employee]],Table1[[#This Row],[Other HZ Employee]],Table1[[#This Row],[Non HZ Employee]],Table1[[#This Row],[Job Site Employee]],Table1[[#This Row],[Other Employee]])","v":0},{"$f":"IF(Table1[[#This Row],[Total Hours per Month]]=Table1[[#This Row],[Column12]],\"Match\",\"Error\")","v":"Match"},{"$f":"IF(Table1[[#This Row],[Calc 2]]=\"#NA\",\"#NA\",IF(Table1[[#This Row],[Non HZ Employee]]=Table1[[#This Row],[Max calc]],\"Non HZ Employee\", Table1[[#This Row],[Calc 2]]))","v":"#NA"}]
[274," ",274,{"$nulls":5},{"$f":"SUM(Table1[[#This Row],[Column4]]+Table1[[#This Row],[Column3]]+Table1[[#This Row],[Column2]]+Table1[[#This Row],[Column1]])","v":0},{"$nulls":5},{"$f":"SUM(Table1[[#This Row],[PO Employee]:[Other Employee]])","v":0},"N",{"$error":"#N/A"},{"$f":"IF(O291>39,Table1[[#This Row],[Calc 1]],IF(O291>1,\"Not counted as an Employee\",\"#NA\"))","v":"#NA"},{"$f":"MAX(Table1[[#This Row],[PO Employee]],Table1[[#This Row],[Other HZ Employee]],Table1[[#This Row],[Non HZ Employee]],Table1[[#This Row],[Job Site Employee]],Table1[[#This Row],[Other Employee]])","v":0},{"$f":"IF(Table1[[#This Row],[Total Hours per Month]]=Table1[[#This Row],[Column12]],\"Match\",\"Error\")","v":"Match"},{"$f":"IF(Table1[[#This Row],[Calc 2]]=\"#NA\",\"#NA\",IF(Table1[[#This Row],[Non HZ Employee]]=Table1[[#This Row],[Max calc]],\"Non HZ Employee\", Table1[[#This Row],[Calc 2]]))","v":"#NA"}]
[275," ",275,{"$nulls":5},{"$f":"SUM(Table1[[#This Row],[Column4]]+Table1[[#This Row],[Column3]]+Table1[[#This Row],[Column2]]+Table1[[#This Row],[Column1]])","v":0},{"$nulls":5},{"$f":"SUM(Table1[[#This Row],[PO Employee]:[Other Employee]])","v":0},"N",{"$error":"#N/A"},{"$f":"IF(O292>39,Table1[[#This Row],[Calc 1]],IF(O292>1,\"Not counted as an Employee\",\"#NA\"))","v":"#NA"},{"$f":"MAX(Table1[[#This Row],[PO Employee]],Table1[[#This Row],[Other HZ Employee]],Table1[[#This Row],[Non HZ Employee]],Table1[[#This Row],[Job Site Employee]],Table1[[#This Row],[Other Employee]])","v":0},{"$f":"IF(Table1[[#This Row],[Total Hours per Month]]=Table1[[#This Row],[Column12]],\"Match\",\"Error\")","v":"Match"},{"$f":"IF(Table1[[#This Row],[Calc 2]]=\"#NA\",\"#NA\",IF(Table1[[#This Row],[Non HZ Employee]]=Table1[[#This Row],[Max calc]],\"Non HZ Employee\", Table1[[#This Row],[Calc 2]]))","v":"#NA"}]
[276," ",276,{"$nulls":5},{"$f":"SUM(Table1[[#This Row],[Column4]]+Table1[[#This Row],[Column3]]+Table1[[#This Row],[Column2]]+Table1[[#This Row],[Column1]])","v":0},{"$nulls":5},{"$f":"SUM(Table1[[#This Row],[PO Employee]:[Other Employee]])","v":0},"N",{"$error":"#N/A"},{"$f":"IF(O293>39,Table1[[#This Row],[Calc 1]],IF(O293>1,\"Not counted as an Employee\",\"#NA\"))","v":"#NA"},{"$f":"MAX(Table1[[#This Row],[PO Employee]],Table1[[#This Row],[Other HZ Employee]],Table1[[#This Row],[Non HZ Employee]],Table1[[#This Row],[Job Site Employee]],Table1[[#This Row],[Other Employee]])","v":0},{"$f":"IF(Table1[[#This Row],[Total Hours per Month]]=Table1[[#This Row],[Column12]],\"Match\",\"Error\")","v":"Match"},{"$f":"IF(Table1[[#This Row],[Calc 2]]=\"#NA\",\"#NA\",IF(Table1[[#This Row],[Non HZ Employee]]=Table1[[#This Row],[Max calc]],\"Non HZ Employee\", Table1[[#This Row],[Calc 2]]))","v":"#NA"}]
[277," ",277,{"$nulls":5},{"$f":"SUM(Table1[[#This Row],[Column4]]+Table1[[#This Row],[Column3]]+Table1[[#This Row],[Column2]]+Table1[[#This Row],[Column1]])","v":0},{"$nulls":5},{"$f":"SUM(Table1[[#This Row],[PO Employee]:[Other Employee]])","v":0},"N",{"$error":"#N/A"},{"$f":"IF(O294>39,Table1[[#This Row],[Calc 1]],IF(O294>1,\"Not counted as an Employee\",\"#NA\"))","v":"#NA"},{"$f":"MAX(Table1[[#This Row],[PO Employee]],Table1[[#This Row],[Other HZ Employee]],Table1[[#This Row],[Non HZ Employee]],Table1[[#This Row],[Job Site Employee]],Table1[[#This Row],[Other Employee]])","v":0},{"$f":"IF(Table1[[#This Row],[Total Hours per Month]]=Table1[[#This Row],[Column12]],\"Match\",\"Error\")","v":"Match"},{"$f":"IF(Table1[[#This Row],[Calc 2]]=\"#NA\",\"#NA\",IF(Table1[[#This Row],[Non HZ Employee]]=Table1[[#This Row],[Max calc]],\"Non HZ Employee\", Table1[[#This Row],[Calc 2]]))","v":"#NA"}]
[278," ",278,{"$nulls":5},{"$f":"SUM(Table1[[#This Row],[Column4]]+Table1[[#This Row],[Column3]]+Table1[[#This Row],[Column2]]+Table1[[#This Row],[Column1]])","v":0},{"$nulls":5},{"$f":"SUM(Table1[[#This Row],[PO Employee]:[Other Employee]])","v":0},"N",{"$error":"#N/A"},{"$f":"IF(O295>39,Table1[[#This Row],[Calc 1]],IF(O295>1,\"Not counted as an Employee\",\"#NA\"))","v":"#NA"},{"$f":"MAX(Table1[[#This Row],[PO Employee]],Table1[[#This Row],[Other HZ Employee]],Table1[[#This Row],[Non HZ Employee]],Table1[[#This Row],[Job Site Employee]],Table1[[#This Row],[Other Employee]])","v":0},{"$f":"IF(Table1[[#This Row],[Total Hours per Month]]=Table1[[#This Row],[Column12]],\"Match\",\"Error\")","v":"Match"},{"$f":"IF(Table1[[#This Row],[Calc 2]]=\"#NA\",\"#NA\",IF(Table1[[#This Row],[Non HZ Employee]]=Table1[[#This Row],[Max calc]],\"Non HZ Employee\", Table1[[#This Row],[Calc 2]]))","v":"#NA"}]
[279," ",279,{"$nulls":5},{"$f":"SUM(Table1[[#This Row],[Column4]]+Table1[[#This Row],[Column3]]+Table1[[#This Row],[Column2]]+Table1[[#This Row],[Column1]])","v":0},{"$nulls":5},{"$f":"SUM(Table1[[#This Row],[PO Employee]:[Other Employee]])","v":0},"N",{"$error":"#N/A"},{"$f":"IF(O296>39,Table1[[#This Row],[Calc 1]],IF(O296>1,\"Not counted as an Employee\",\"#NA\"))","v":"#NA"},{"$f":"MAX(Table1[[#This Row],[PO Employee]],Table1[[#This Row],[Other HZ Employee]],Table1[[#This Row],[Non HZ Employee]],Table1[[#This Row],[Job Site Employee]],Table1[[#This Row],[Other Employee]])","v":0},{"$f":"IF(Table1[[#This Row],[Total Hours per Month]]=Table1[[#This Row],[Column12]],\"Match\",\"Error\")","v":"Match"},{"$f":"IF(Table1[[#This Row],[Calc 2]]=\"#NA\",\"#NA\",IF(Table1[[#This Row],[Non HZ Employee]]=Table1[[#This Row],[Max calc]],\"Non HZ Employee\", Table1[[#This Row],[Calc 2]]))","v":"#NA"}]
[280," ",280,{"$nulls":5},{"$f":"SUM(Table1[[#This Row],[Column4]]+Table1[[#This Row],[Column3]]+Table1[[#This Row],[Column2]]+Table1[[#This Row],[Column1]])","v":0},{"$nulls":5},{"$f":"SUM(Table1[[#This Row],[PO Employee]:[Other Employee]])","v":0},"N",{"$error":"#N/A"},{"$f":"IF(O297>39,Table1[[#This Row],[Calc 1]],IF(O297>1,\"Not counted as an Employee\",\"#NA\"))","v":"#NA"},{"$f":"MAX(Table1[[#This Row],[PO Employee]],Table1[[#This Row],[Other HZ Employee]],Table1[[#This Row],[Non HZ Employee]],Table1[[#This Row],[Job Site Employee]],Table1[[#This Row],[Other Employee]])","v":0},{"$f":"IF(Table1[[#This Row],[Total Hours per Month]]=Table1[[#This Row],[Column12]],\"Match\",\"Error\")","v":"Match"},{"$f":"IF(Table1[[#This Row],[Calc 2]]=\"#NA\",\"#NA\",IF(Table1[[#This Row],[Non HZ Employee]]=Table1[[#This Row],[Max calc]],\"Non HZ Employee\", Table1[[#This Row],[Calc 2]]))","v":"#NA"}]
[281," ",281,{"$nulls":5},{"$f":"SUM(Table1[[#This Row],[Column4]]+Table1[[#This Row],[Column3]]+Table1[[#This Row],[Column2]]+Table1[[#This Row],[Column1]])","v":0},{"$nulls":5},{"$f":"SUM(Table1[[#This Row],[PO Employee]:[Other Employee]])","v":0},"N",{"$error":"#N/A"},{"$f":"IF(O298>39,Table1[[#This Row],[Calc 1]],IF(O298>1,\"Not counted as an Employee\",\"#NA\"))","v":"#NA"},{"$f":"MAX(Table1[[#This Row],[PO Employee]],Table1[[#This Row],[Other HZ Employee]],Table1[[#This Row],[Non HZ Employee]],Table1[[#This Row],[Job Site Employee]],Table1[[#This Row],[Other Employee]])","v":0},{"$f":"IF(Table1[[#This Row],[Total Hours per Month]]=Table1[[#This Row],[Column12]],\"Match\",\"Error\")","v":"Match"},{"$f":"IF(Table1[[#This Row],[Calc 2]]=\"#NA\",\"#NA\",IF(Table1[[#This Row],[Non HZ Employee]]=Table1[[#This Row],[Max calc]],\"Non HZ Employee\", Table1[[#This Row],[Calc 2]]))","v":"#NA"}]
[282," ",282,{"$nulls":5},{"$f":"SUM(Table1[[#This Row],[Column4]]+Table1[[#This Row],[Column3]]+Table1[[#This Row],[Column2]]+Table1[[#This Row],[Column1]])","v":0},{"$nulls":5},{"$f":"SUM(Table1[[#This Row],[PO Employee]:[Other Employee]])","v":0},"N",{"$error":"#N/A"},{"$f":"IF(O299>39,Table1[[#This Row],[Calc 1]],IF(O299>1,\"Not counted as an Employee\",\"#NA\"))","v":"#NA"},{"$f":"MAX(Table1[[#This Row],[PO Employee]],Table1[[#This Row],[Other HZ Employee]],Table1[[#This Row],[Non HZ Employee]],Table1[[#This Row],[Job Site Employee]],Table1[[#This Row],[Other Employee]])","v":0},{"$f":"IF(Table1[[#This Row],[Total Hours per Month]]=Table1[[#This Row],[Column12]],\"Match\",\"Error\")","v":"Match"},{"$f":"IF(Table1[[#This Row],[Calc 2]]=\"#NA\",\"#NA\",IF(Table1[[#This Row],[Non HZ Employee]]=Table1[[#This Row],[Max calc]],\"Non HZ Employee\", Table1[[#This Row],[Calc 2]]))","v":"#NA"}]
[283," ",283,{"$nulls":5},{"$f":"SUM(Table1[[#This Row],[Column4]]+Table1[[#This Row],[Column3]]+Table1[[#This Row],[Column2]]+Table1[[#This Row],[Column1]])","v":0},{"$nulls":5},{"$f":"SUM(Table1[[#This Row],[PO Employee]:[Other Employee]])","v":0},"N",{"$error":"#N/A"},{"$f":"IF(O300>39,Table1[[#This Row],[Calc 1]],IF(O300>1,\"Not counted as an Employee\",\"#NA\"))","v":"#NA"},{"$f":"MAX(Table1[[#This Row],[PO Employee]],Table1[[#This Row],[Other HZ Employee]],Table1[[#This Row],[Non HZ Employee]],Table1[[#This Row],[Job Site Employee]],Table1[[#This Row],[Other Employee]])","v":0},{"$f":"IF(Table1[[#This Row],[Total Hours per Month]]=Table1[[#This Row],[Column12]],\"Match\",\"Error\")","v":"Match"},{"$f":"IF(Table1[[#This Row],[Calc 2]]=\"#NA\",\"#NA\",IF(Table1[[#This Row],[Non HZ Employee]]=Table1[[#This Row],[Max calc]],\"Non HZ Employee\", Table1[[#This Row],[Calc 2]]))","v":"#NA"}]
[284," ",284,{"$nulls":5},{"$f":"SUM(Table1[[#This Row],[Column4]]+Table1[[#This Row],[Column3]]+Table1[[#This Row],[Column2]]+Table1[[#This Row],[Column1]])","v":0},{"$nulls":5},{"$f":"SUM(Table1[[#This Row],[PO Employee]:[Other Employee]])","v":0},"N",{"$error":"#N/A"},{"$f":"IF(O301>39,Table1[[#This Row],[Calc 1]],IF(O301>1,\"Not counted as an Employee\",\"#NA\"))","v":"#NA"},{"$f":"MAX(Table1[[#This Row],[PO Employee]],Table1[[#This Row],[Other HZ Employee]],Table1[[#This Row],[Non HZ Employee]],Table1[[#This Row],[Job Site Employee]],Table1[[#This Row],[Other Employee]])","v":0},{"$f":"IF(Table1[[#This Row],[Total Hours per Month]]=Table1[[#This Row],[Column12]],\"Match\",\"Error\")","v":"Match"},{"$f":"IF(Table1[[#This Row],[Calc 2]]=\"#NA\",\"#NA\",IF(Table1[[#This Row],[Non HZ Employee]]=Table1[[#This Row],[Max calc]],\"Non HZ Employee\", Table1[[#This Row],[Calc 2]]))","v":"#NA"}]
[285," ",285,{"$nulls":5},{"$f":"SUM(Table1[[#This Row],[Column4]]+Table1[[#This Row],[Column3]]+Table1[[#This Row],[Column2]]+Table1[[#This Row],[Column1]])","v":0},{"$nulls":5},{"$f":"SUM(Table1[[#This Row],[PO Employee]:[Other Employee]])","v":0},"N",{"$error":"#N/A"},{"$f":"IF(O302>39,Table1[[#This Row],[Calc 1]],IF(O302>1,\"Not counted as an Employee\",\"#NA\"))","v":"#NA"},{"$f":"MAX(Table1[[#This Row],[PO Employee]],Table1[[#This Row],[Other HZ Employee]],Table1[[#This Row],[Non HZ Employee]],Table1[[#This Row],[Job Site Employee]],Table1[[#This Row],[Other Employee]])","v":0},{"$f":"IF(Table1[[#This Row],[Total Hours per Month]]=Table1[[#This Row],[Column12]],\"Match\",\"Error\")","v":"Match"},{"$f":"IF(Table1[[#This Row],[Calc 2]]=\"#NA\",\"#NA\",IF(Table1[[#This Row],[Non HZ Employee]]=Table1[[#This Row],[Max calc]],\"Non HZ Employee\", Table1[[#This Row],[Calc 2]]))","v":"#NA"}]
[286," ",286,{"$nulls":5},{"$f":"SUM(Table1[[#This Row],[Column4]]+Table1[[#This Row],[Column3]]+Table1[[#This Row],[Column2]]+Table1[[#This Row],[Column1]])","v":0},{"$nulls":5},{"$f":"SUM(Table1[[#This Row],[PO Employee]:[Other Employee]])","v":0},"N",{"$error":"#N/A"},{"$f":"IF(O303>39,Table1[[#This Row],[Calc 1]],IF(O303>1,\"Not counted as an Employee\",\"#NA\"))","v":"#NA"},{"$f":"MAX(Table1[[#This Row],[PO Employee]],Table1[[#This Row],[Other HZ Employee]],Table1[[#This Row],[Non HZ Employee]],Table1[[#This Row],[Job Site Employee]],Table1[[#This Row],[Other Employee]])","v":0},{"$f":"IF(Table1[[#This Row],[Total Hours per Month]]=Table1[[#This Row],[Column12]],\"Match\",\"Error\")","v":"Match"},{"$f":"IF(Table1[[#This Row],[Calc 2]]=\"#NA\",\"#NA\",IF(Table1[[#This Row],[Non HZ Employee]]=Table1[[#This Row],[Max calc]],\"Non HZ Employee\", Table1[[#This Row],[Calc 2]]))","v":"#NA"}]
[287," ",287,{"$nulls":5},{"$f":"SUM(Table1[[#This Row],[Column4]]+Table1[[#This Row],[Column3]]+Table1[[#This Row],[Column2]]+Table1[[#This Row],[Column1]])","v":0},{"$nulls":5},{"$f":"SUM(Table1[[#This Row],[PO Employee]:[Other Employee]])","v":0},"N",{"$error":"#N/A"},{"$f":"IF(O304>39,Table1[[#This Row],[Calc 1]],IF(O304>1,\"Not counted as an Employee\",\"#NA\"))","v":"#NA"},{"$f":"MAX(Table1[[#This Row],[PO Employee]],Table1[[#This Row],[Other HZ Employee]],Table1[[#This Row],[Non HZ Employee]],Table1[[#This Row],[Job Site Employee]],Table1[[#This Row],[Other Employee]])","v":0},{"$f":"IF(Table1[[#This Row],[Total Hours per Month]]=Table1[[#This Row],[Column12]],\"Match\",\"Error\")","v":"Match"},{"$f":"IF(Table1[[#This Row],[Calc 2]]=\"#NA\",\"#NA\",IF(Table1[[#This Row],[Non HZ Employee]]=Table1[[#This Row],[Max calc]],\"Non HZ Employee\", Table1[[#This Row],[Calc 2]]))","v":"#NA"}]
[288," ",288,{"$nulls":5},{"$f":"SUM(Table1[[#This Row],[Column4]]+Table1[[#This Row],[Column3]]+Table1[[#This Row],[Column2]]+Table1[[#This Row],[Column1]])","v":0},{"$nulls":5},{"$f":"SUM(Table1[[#This Row],[PO Employee]:[Other Employee]])","v":0},"N",{"$error":"#N/A"},{"$f":"IF(O305>39,Table1[[#This Row],[Calc 1]],IF(O305>1,\"Not counted as an Employee\",\"#NA\"))","v":"#NA"},{"$f":"MAX(Table1[[#This Row],[PO Employee]],Table1[[#This Row],[Other HZ Employee]],Table1[[#This Row],[Non HZ Employee]],Table1[[#This Row],[Job Site Employee]],Table1[[#This Row],[Other Employee]])","v":0},{"$f":"IF(Table1[[#This Row],[Total Hours per Month]]=Table1[[#This Row],[Column12]],\"Match\",\"Error\")","v":"Match"},{"$f":"IF(Table1[[#This Row],[Calc 2]]=\"#NA\",\"#NA\",IF(Table1[[#This Row],[Non HZ Employee]]=Table1[[#This Row],[Max calc]],\"Non HZ Employee\", Table1[[#This Row],[Calc 2]]))","v":"#NA"}]
[289," ",289,{"$nulls":5},{"$f":"SUM(Table1[[#This Row],[Column4]]+Table1[[#This Row],[Column3]]+Table1[[#This Row],[Column2]]+Table1[[#This Row],[Column1]])","v":0},{"$nulls":5},{"$f":"SUM(Table1[[#This Row],[PO Employee]:[Other Employee]])","v":0},"N",{"$error":"#N/A"},{"$f":"IF(O306>39,Table1[[#This Row],[Calc 1]],IF(O306>1,\"Not counted as an Employee\",\"#NA\"))","v":"#NA"},{"$f":"MAX(Table1[[#This Row],[PO Employee]],Table1[[#This Row],[Other HZ Employee]],Table1[[#This Row],[Non HZ Employee]],Table1[[#This Row],[Job Site Employee]],Table1[[#This Row],[Other Employee]])","v":0},{"$f":"IF(Table1[[#This Row],[Total Hours per Month]]=Table1[[#This Row],[Column12]],\"Match\",\"Error\")","v":"Match"},{"$f":"IF(Table1[[#This Row],[Calc 2]]=\"#NA\",\"#NA\",IF(Table1[[#This Row],[Non HZ Employee]]=Table1[[#This Row],[Max calc]],\"Non HZ Employee\", Table1[[#This Row],[Calc 2]]))","v":"#NA"}]
[290," ",290,{"$nulls":5},{"$f":"SUM(Table1[[#This Row],[Column4]]+Table1[[#This Row],[Column3]]+Table1[[#This Row],[Column2]]+Table1[[#This Row],[Column1]])","v":0},{"$nulls":5},{"$f":"SUM(Table1[[#This Row],[PO Employee]:[Other Employee]])","v":0},"N",{"$error":"#N/A"},{"$f":"IF(O307>39,Table1[[#This Row],[Calc 1]],IF(O307>1,\"Not counted as an Employee\",\"#NA\"))","v":"#NA"},{"$f":"MAX(Table1[[#This Row],[PO Employee]],Table1[[#This Row],[Other HZ Employee]],Table1[[#This Row],[Non HZ Employee]],Table1[[#This Row],[Job Site Employee]],Table1[[#This Row],[Other Employee]])","v":0},{"$f":"IF(Table1[[#This Row],[Total Hours per Month]]=Table1[[#This Row],[Column12]],\"Match\",\"Error\")","v":"Match"},{"$f":"IF(Table1[[#This Row],[Calc 2]]=\"#NA\",\"#NA\",IF(Table1[[#This Row],[Non HZ Employee]]=Table1[[#This Row],[Max calc]],\"Non HZ Employee\", Table1[[#This Row],[Calc 2]]))","v":"#NA"}]
[291," ",291,{"$nulls":5},{"$f":"SUM(Table1[[#This Row],[Column4]]+Table1[[#This Row],[Column3]]+Table1[[#This Row],[Column2]]+Table1[[#This Row],[Column1]])","v":0},{"$nulls":5},{"$f":"SUM(Table1[[#This Row],[PO Employee]:[Other Employee]])","v":0},"N",{"$error":"#N/A"},{"$f":"IF(O308>39,Table1[[#This Row],[Calc 1]],IF(O308>1,\"Not counted as an Employee\",\"#NA\"))","v":"#NA"},{"$f":"MAX(Table1[[#This Row],[PO Employee]],Table1[[#This Row],[Other HZ Employee]],Table1[[#This Row],[Non HZ Employee]],Table1[[#This Row],[Job Site Employee]],Table1[[#This Row],[Other Employee]])","v":0},{"$f":"IF(Table1[[#This Row],[Total Hours per Month]]=Table1[[#This Row],[Column12]],\"Match\",\"Error\")","v":"Match"},{"$f":"IF(Table1[[#This Row],[Calc 2]]=\"#NA\",\"#NA\",IF(Table1[[#This Row],[Non HZ Employee]]=Table1[[#This Row],[Max calc]],\"Non HZ Employee\", Table1[[#This Row],[Calc 2]]))","v":"#NA"}]
[292," ",292,{"$nulls":5},{"$f":"SUM(Table1[[#This Row],[Column4]]+Table1[[#This Row],[Column3]]+Table1[[#This Row],[Column2]]+Table1[[#This Row],[Column1]])","v":0},{"$nulls":5},{"$f":"SUM(Table1[[#This Row],[PO Employee]:[Other Employee]])","v":0},"N",{"$error":"#N/A"},{"$f":"IF(O309>39,Table1[[#This Row],[Calc 1]],IF(O309>1,\"Not counted as an Employee\",\"#NA\"))","v":"#NA"},{"$f":"MAX(Table1[[#This Row],[PO Employee]],Table1[[#This Row],[Other HZ Employee]],Table1[[#This Row],[Non HZ Employee]],Table1[[#This Row],[Job Site Employee]],Table1[[#This Row],[Other Employee]])","v":0},{"$f":"IF(Table1[[#This Row],[Total Hours per Month]]=Table1[[#This Row],[Column12]],\"Match\",\"Error\")","v":"Match"},{"$f":"IF(Table1[[#This Row],[Calc 2]]=\"#NA\",\"#NA\",IF(Table1[[#This Row],[Non HZ Employee]]=Table1[[#This Row],[Max calc]],\"Non HZ Employee\", Table1[[#This Row],[Calc 2]]))","v":"#NA"}]
[293," ",293,{"$nulls":5},{"$f":"SUM(Table1[[#This Row],[Column4]]+Table1[[#This Row],[Column3]]+Table1[[#This Row],[Column2]]+Table1[[#This Row],[Column1]])","v":0},{"$nulls":5},{"$f":"SUM(Table1[[#This Row],[PO Employee]:[Other Employee]])","v":0},"N",{"$error":"#N/A"},{"$f":"IF(O310>39,Table1[[#This Row],[Calc 1]],IF(O310>1,\"Not counted as an Employee\",\"#NA\"))","v":"#NA"},{"$f":"MAX(Table1[[#This Row],[PO Employee]],Table1[[#This Row],[Other HZ Employee]],Table1[[#This Row],[Non HZ Employee]],Table1[[#This Row],[Job Site Employee]],Table1[[#This Row],[Other Employee]])","v":0},{"$f":"IF(Table1[[#This Row],[Total Hours per Month]]=Table1[[#This Row],[Column12]],\"Match\",\"Error\")","v":"Match"},{"$f":"IF(Table1[[#This Row],[Calc 2]]=\"#NA\",\"#NA\",IF(Table1[[#This Row],[Non HZ Employee]]=Table1[[#This Row],[Max calc]],\"Non HZ Employee\", Table1[[#This Row],[Calc 2]]))","v":"#NA"}]
[294," ",294,{"$nulls":5},{"$f":"SUM(Table1[[#This Row],[Column4]]+Table1[[#This Row],[Column3]]+Table1[[#This Row],[Column2]]+Table1[[#This Row],[Column1]])","v":0},{"$nulls":5},{"$f":"SUM(Table1[[#This Row],[PO Employee]:[Other Employee]])","v":0},"N",{"$error":"#N/A"},{"$f":"IF(O311>39,Table1[[#This Row],[Calc 1]],IF(O311>1,\"Not counted as an Employee\",\"#NA\"))","v":"#NA"},{"$f":"MAX(Table1[[#This Row],[PO Employee]],Table1[[#This Row],[Other HZ Employee]],Table1[[#This Row],[Non HZ Employee]],Table1[[#This Row],[Job Site Employee]],Table1[[#This Row],[Other Employee]])","v":0},{"$f":"IF(Table1[[#This Row],[Total Hours per Month]]=Table1[[#This Row],[Column12]],\"Match\",\"Error\")","v":"Match"},{"$f":"IF(Table1[[#This Row],[Calc 2]]=\"#NA\",\"#NA\",IF(Table1[[#This Row],[Non HZ Employee]]=Table1[[#This Row],[Max calc]],\"Non HZ Employee\", Table1[[#This Row],[Calc 2]]))","v":"#NA"}]
[295," ",295,{"$nulls":5},{"$f":"SUM(Table1[[#This Row],[Column4]]+Table1[[#This Row],[Column3]]+Table1[[#This Row],[Column2]]+Table1[[#This Row],[Column1]])","v":0},{"$nulls":5},{"$f":"SUM(Table1[[#This Row],[PO Employee]:[Other Employee]])","v":0},"N",{"$error":"#N/A"},{"$f":"IF(O312>39,Table1[[#This Row],[Calc 1]],IF(O312>1,\"Not counted as an Employee\",\"#NA\"))","v":"#NA"},{"$f":"MAX(Table1[[#This Row],[PO Employee]],Table1[[#This Row],[Other HZ Employee]],Table1[[#This Row],[Non HZ Employee]],Table1[[#This Row],[Job Site Employee]],Table1[[#This Row],[Other Employee]])","v":0},{"$f":"IF(Table1[[#This Row],[Total Hours per Month]]=Table1[[#This Row],[Column12]],\"Match\",\"Error\")","v":"Match"},{"$f":"IF(Table1[[#This Row],[Calc 2]]=\"#NA\",\"#NA\",IF(Table1[[#This Row],[Non HZ Employee]]=Table1[[#This Row],[Max calc]],\"Non HZ Employee\", Table1[[#This Row],[Calc 2]]))","v":"#NA"}]
[296," ",296,{"$nulls":5},{"$f":"SUM(Table1[[#This Row],[Column4]]+Table1[[#This Row],[Column3]]+Table1[[#This Row],[Column2]]+Table1[[#This Row],[Column1]])","v":0},{"$nulls":5},{"$f":"SUM(Table1[[#This Row],[PO Employee]:[Other Employee]])","v":0},"N",{"$error":"#N/A"},{"$f":"IF(O313>39,Table1[[#This Row],[Calc 1]],IF(O313>1,\"Not counted as an Employee\",\"#NA\"))","v":"#NA"},{"$f":"MAX(Table1[[#This Row],[PO Employee]],Table1[[#This Row],[Other HZ Employee]],Table1[[#This Row],[Non HZ Employee]],Table1[[#This Row],[Job Site Employee]],Table1[[#This Row],[Other Employee]])","v":0},{"$f":"IF(Table1[[#This Row],[Total Hours per Month]]=Table1[[#This Row],[Column12]],\"Match\",\"Error\")","v":"Match"},{"$f":"IF(Table1[[#This Row],[Calc 2]]=\"#NA\",\"#NA\",IF(Table1[[#This Row],[Non HZ Employee]]=Table1[[#This Row],[Max calc]],\"Non HZ Employee\", Table1[[#This Row],[Calc 2]]))","v":"#NA"}]
[297," ",297,{"$nulls":5},{"$f":"SUM(Table1[[#This Row],[Column4]]+Table1[[#This Row],[Column3]]+Table1[[#This Row],[Column2]]+Table1[[#This Row],[Column1]])","v":0},{"$nulls":5},{"$f":"SUM(Table1[[#This Row],[PO Employee]:[Other Employee]])","v":0},"N",{"$error":"#N/A"},{"$f":"IF(O314>39,Table1[[#This Row],[Calc 1]],IF(O314>1,\"Not counted as an Employee\",\"#NA\"))","v":"#NA"},{"$f":"MAX(Table1[[#This Row],[PO Employee]],Table1[[#This Row],[Other HZ Employee]],Table1[[#This Row],[Non HZ Employee]],Table1[[#This Row],[Job Site Employee]],Table1[[#This Row],[Other Employee]])","v":0},{"$f":"IF(Table1[[#This Row],[Total Hours per Month]]=Table1[[#This Row],[Column12]],\"Match\",\"Error\")","v":"Match"},{"$f":"IF(Table1[[#This Row],[Calc 2]]=\"#NA\",\"#NA\",IF(Table1[[#This Row],[Non HZ Employee]]=Table1[[#This Row],[Max calc]],\"Non HZ Employee\", Table1[[#This Row],[Calc 2]]))","v":"#NA"}]
[298," ",298,{"$nulls":5},{"$f":"SUM(Table1[[#This Row],[Column4]]+Table1[[#This Row],[Column3]]+Table1[[#This Row],[Column2]]+Table1[[#This Row],[Column1]])","v":0},{"$nulls":5},{"$f":"SUM(Table1[[#This Row],[PO Employee]:[Other Employee]])","v":0},"N",{"$error":"#N/A"},{"$f":"IF(O315>39,Table1[[#This Row],[Calc 1]],IF(O315>1,\"Not counted as an Employee\",\"#NA\"))","v":"#NA"},{"$f":"MAX(Table1[[#This Row],[PO Employee]],Table1[[#This Row],[Other HZ Employee]],Table1[[#This Row],[Non HZ Employee]],Table1[[#This Row],[Job Site Employee]],Table1[[#This Row],[Other Employee]])","v":0},{"$f":"IF(Table1[[#This Row],[Total Hours per Month]]=Table1[[#This Row],[Column12]],\"Match\",\"Error\")","v":"Match"},{"$f":"IF(Table1[[#This Row],[Calc 2]]=\"#NA\",\"#NA\",IF(Table1[[#This Row],[Non HZ Employee]]=Table1[[#This Row],[Max calc]],\"Non HZ Employee\", Table1[[#This Row],[Calc 2]]))","v":"#NA"}]
[299," ",299,{"$nulls":5},{"$f":"SUM(Table1[[#This Row],[Column4]]+Table1[[#This Row],[Column3]]+Table1[[#This Row],[Column2]]+Table1[[#This Row],[Column1]])","v":0},{"$nulls":5},{"$f":"SUM(Table1[[#This Row],[PO Employee]:[Other Employee]])","v":0},"N",{"$error":"#N/A"},{"$f":"IF(O316>39,Table1[[#This Row],[Calc 1]],IF(O316>1,\"Not counted as an Employee\",\"#NA\"))","v":"#NA"},{"$f":"MAX(Table1[[#This Row],[PO Employee]],Table1[[#This Row],[Other HZ Employee]],Table1[[#This Row],[Non HZ Employee]],Table1[[#This Row],[Job Site Employee]],Table1[[#This Row],[Other Employee]])","v":0},{"$f":"IF(Table1[[#This Row],[Total Hours per Month]]=Table1[[#This Row],[Column12]],\"Match\",\"Error\")","v":"Match"},{"$f":"IF(Table1[[#This Row],[Calc 2]]=\"#NA\",\"#NA\",IF(Table1[[#This Row],[Non HZ Employee]]=Table1[[#This Row],[Max calc]],\"Non HZ Employee\", Table1[[#This Row],[Calc 2]]))","v":"#NA"}]
[300," ",300,{"$nulls":5},{"$f":"SUM(Table1[[#This Row],[Column4]]+Table1[[#This Row],[Column3]]+Table1[[#This Row],[Column2]]+Table1[[#This Row],[Column1]])","v":0},{"$nulls":5},{"$f":"SUM(Table1[[#This Row],[PO Employee]:[Other Employee]])","v":0},"N",{"$error":"#N/A"},{"$f":"IF(O317>39,Table1[[#This Row],[Calc 1]],IF(O317>1,\"Not counted as an Employee\",\"#NA\"))","v":"#NA"},{"$f":"MAX(Table1[[#This Row],[PO Employee]],Table1[[#This Row],[Other HZ Employee]],Table1[[#This Row],[Non HZ Employee]],Table1[[#This Row],[Job Site Employee]],Table1[[#This Row],[Other Employee]])","v":0},{"$f":"IF(Table1[[#This Row],[Total Hours per Month]]=Table1[[#This Row],[Column12]],\"Match\",\"Error\")","v":"Match"},{"$f":"IF(Table1[[#This Row],[Calc 2]]=\"#NA\",\"#NA\",IF(Table1[[#This Row],[Non HZ Employee]]=Table1[[#This Row],[Max calc]],\"Non HZ Employee\", Table1[[#This Row],[Calc 2]]))","v":"#NA"}]
[301," ",301,{"$nulls":5},{"$f":"SUM(Table1[[#This Row],[Column4]]+Table1[[#This Row],[Column3]]+Table1[[#This Row],[Column2]]+Table1[[#This Row],[Column1]])","v":0},{"$nulls":5},{"$f":"SUM(Table1[[#This Row],[PO Employee]:[Other Employee]])","v":0},"N",{"$error":"#N/A"},{"$f":"IF(O318>39,Table1[[#This Row],[Calc 1]],IF(O318>1,\"Not counted as an Employee\",\"#NA\"))","v":"#NA"},{"$f":"MAX(Table1[[#This Row],[PO Employee]],Table1[[#This Row],[Other HZ Employee]],Table1[[#This Row],[Non HZ Employee]],Table1[[#This Row],[Job Site Employee]],Table1[[#This Row],[Other Employee]])","v":0},{"$f":"IF(Table1[[#This Row],[Total Hours per Month]]=Table1[[#This Row],[Column12]],\"Match\",\"Error\")","v":"Match"},{"$f":"IF(Table1[[#This Row],[Calc 2]]=\"#NA\",\"#NA\",IF(Table1[[#This Row],[Non HZ Employee]]=Table1[[#This Row],[Max calc]],\"Non HZ Employee\", Table1[[#This Row],[Calc 2]]))","v":"#NA"}]
[302," ",302,{"$nulls":5},{"$f":"SUM(Table1[[#This Row],[Column4]]+Table1[[#This Row],[Column3]]+Table1[[#This Row],[Column2]]+Table1[[#This Row],[Column1]])","v":0},{"$nulls":5},{"$f":"SUM(Table1[[#This Row],[PO Employee]:[Other Employee]])","v":0},"N",{"$error":"#N/A"},{"$f":"IF(O319>39,Table1[[#This Row],[Calc 1]],IF(O319>1,\"Not counted as an Employee\",\"#NA\"))","v":"#NA"},{"$f":"MAX(Table1[[#This Row],[PO Employee]],Table1[[#This Row],[Other HZ Employee]],Table1[[#This Row],[Non HZ Employee]],Table1[[#This Row],[Job Site Employee]],Table1[[#This Row],[Other Employee]])","v":0},{"$f":"IF(Table1[[#This Row],[Total Hours per Month]]=Table1[[#This Row],[Column12]],\"Match\",\"Error\")","v":"Match"},{"$f":"IF(Table1[[#This Row],[Calc 2]]=\"#NA\",\"#NA\",IF(Table1[[#This Row],[Non HZ Employee]]=Table1[[#This Row],[Max calc]],\"Non HZ Employee\", Table1[[#This Row],[Calc 2]]))","v":"#NA"}]
[303," ",303,{"$nulls":5},{"$f":"SUM(Table1[[#This Row],[Column4]]+Table1[[#This Row],[Column3]]+Table1[[#This Row],[Column2]]+Table1[[#This Row],[Column1]])","v":0},{"$nulls":5},{"$f":"SUM(Table1[[#This Row],[PO Employee]:[Other Employee]])","v":0},"N",{"$error":"#N/A"},{"$f":"IF(O320>39,Table1[[#This Row],[Calc 1]],IF(O320>1,\"Not counted as an Employee\",\"#NA\"))","v":"#NA"},{"$f":"MAX(Table1[[#This Row],[PO Employee]],Table1[[#This Row],[Other HZ Employee]],Table1[[#This Row],[Non HZ Employee]],Table1[[#This Row],[Job Site Employee]],Table1[[#This Row],[Other Employee]])","v":0},{"$f":"IF(Table1[[#This Row],[Total Hours per Month]]=Table1[[#This Row],[Column12]],\"Match\",\"Error\")","v":"Match"},{"$f":"IF(Table1[[#This Row],[Calc 2]]=\"#NA\",\"#NA\",IF(Table1[[#This Row],[Non HZ Employee]]=Table1[[#This Row],[Max calc]],\"Non HZ Employee\", Table1[[#This Row],[Calc 2]]))","v":"#NA"}]
[304," ",304,{"$nulls":5},{"$f":"SUM(Table1[[#This Row],[Column4]]+Table1[[#This Row],[Column3]]+Table1[[#This Row],[Column2]]+Table1[[#This Row],[Column1]])","v":0},{"$nulls":5},{"$f":"SUM(Table1[[#This Row],[PO Employee]:[Other Employee]])","v":0},"N",{"$error":"#N/A"},{"$f":"IF(O321>39,Table1[[#This Row],[Calc 1]],IF(O321>1,\"Not counted as an Employee\",\"#NA\"))","v":"#NA"},{"$f":"MAX(Table1[[#This Row],[PO Employee]],Table1[[#This Row],[Other HZ Employee]],Table1[[#This Row],[Non HZ Employee]],Table1[[#This Row],[Job Site Employee]],Table1[[#This Row],[Other Employee]])","v":0},{"$f":"IF(Table1[[#This Row],[Total Hours per Month]]=Table1[[#This Row],[Column12]],\"Match\",\"Error\")","v":"Match"},{"$f":"IF(Table1[[#This Row],[Calc 2]]=\"#NA\",\"#NA\",IF(Table1[[#This Row],[Non HZ Employee]]=Table1[[#This Row],[Max calc]],\"Non HZ Employee\", Table1[[#This Row],[Calc 2]]))","v":"#NA"}]
[305," ",305,{"$nulls":5},{"$f":"SUM(Table1[[#This Row],[Column4]]+Table1[[#This Row],[Column3]]+Table1[[#This Row],[Column2]]+Table1[[#This Row],[Column1]])","v":0},{"$nulls":5},{"$f":"SUM(Table1[[#This Row],[PO Employee]:[Other Employee]])","v":0},"N",{"$error":"#N/A"},{"$f":"IF(O322>39,Table1[[#This Row],[Calc 1]],IF(O322>1,\"Not counted as an Employee\",\"#NA\"))","v":"#NA"},{"$f":"MAX(Table1[[#This Row],[PO Employee]],Table1[[#This Row],[Other HZ Employee]],Table1[[#This Row],[Non HZ Employee]],Table1[[#This Row],[Job Site Employee]],Table1[[#This Row],[Other Employee]])","v":0},{"$f":"IF(Table1[[#This Row],[Total Hours per Month]]=Table1[[#This Row],[Column12]],\"Match\",\"Error\")","v":"Match"},{"$f":"IF(Table1[[#This Row],[Calc 2]]=\"#NA\",\"#NA\",IF(Table1[[#This Row],[Non HZ Employee]]=Table1[[#This Row],[Max calc]],\"Non HZ Employee\", Table1[[#This Row],[Calc 2]]))","v":"#NA"}]
[306," ",306,{"$nulls":5},{"$f":"SUM(Table1[[#This Row],[Column4]]+Table1[[#This Row],[Column3]]+Table1[[#This Row],[Column2]]+Table1[[#This Row],[Column1]])","v":0},{"$nulls":5},{"$f":"SUM(Table1[[#This Row],[PO Employee]:[Other Employee]])","v":0},"N",{"$error":"#N/A"},{"$f":"IF(O323>39,Table1[[#This Row],[Calc 1]],IF(O323>1,\"Not counted as an Employee\",\"#NA\"))","v":"#NA"},{"$f":"MAX(Table1[[#This Row],[PO Employee]],Table1[[#This Row],[Other HZ Employee]],Table1[[#This Row],[Non HZ Employee]],Table1[[#This Row],[Job Site Employee]],Table1[[#This Row],[Other Employee]])","v":0},{"$f":"IF(Table1[[#This Row],[Total Hours per Month]]=Table1[[#This Row],[Column12]],\"Match\",\"Error\")","v":"Match"},{"$f":"IF(Table1[[#This Row],[Calc 2]]=\"#NA\",\"#NA\",IF(Table1[[#This Row],[Non HZ Employee]]=Table1[[#This Row],[Max calc]],\"Non HZ Employee\", Table1[[#This Row],[Calc 2]]))","v":"#NA"}]
[307," ",307,{"$nulls":5},{"$f":"SUM(Table1[[#This Row],[Column4]]+Table1[[#This Row],[Column3]]+Table1[[#This Row],[Column2]]+Table1[[#This Row],[Column1]])","v":0},{"$nulls":5},{"$f":"SUM(Table1[[#This Row],[PO Employee]:[Other Employee]])","v":0},"N",{"$error":"#N/A"},{"$f":"IF(O324>39,Table1[[#This Row],[Calc 1]],IF(O324>1,\"Not counted as an Employee\",\"#NA\"))","v":"#NA"},{"$f":"MAX(Table1[[#This Row],[PO Employee]],Table1[[#This Row],[Other HZ Employee]],Table1[[#This Row],[Non HZ Employee]],Table1[[#This Row],[Job Site Employee]],Table1[[#This Row],[Other Employee]])","v":0},{"$f":"IF(Table1[[#This Row],[Total Hours per Month]]=Table1[[#This Row],[Column12]],\"Match\",\"Error\")","v":"Match"},{"$f":"IF(Table1[[#This Row],[Calc 2]]=\"#NA\",\"#NA\",IF(Table1[[#This Row],[Non HZ Employee]]=Table1[[#This Row],[Max calc]],\"Non HZ Employee\", Table1[[#This Row],[Calc 2]]))","v":"#NA"}]
[308," ",308,{"$nulls":5},{"$f":"SUM(Table1[[#This Row],[Column4]]+Table1[[#This Row],[Column3]]+Table1[[#This Row],[Column2]]+Table1[[#This Row],[Column1]])","v":0},{"$nulls":5},{"$f":"SUM(Table1[[#This Row],[PO Employee]:[Other Employee]])","v":0},"N",{"$error":"#N/A"},{"$f":"IF(O325>39,Table1[[#This Row],[Calc 1]],IF(O325>1,\"Not counted as an Employee\",\"#NA\"))","v":"#NA"},{"$f":"MAX(Table1[[#This Row],[PO Employee]],Table1[[#This Row],[Other HZ Employee]],Table1[[#This Row],[Non HZ Employee]],Table1[[#This Row],[Job Site Employee]],Table1[[#This Row],[Other Employee]])","v":0},{"$f":"IF(Table1[[#This Row],[Total Hours per Month]]=Table1[[#This Row],[Column12]],\"Match\",\"Error\")","v":"Match"},{"$f":"IF(Table1[[#This Row],[Calc 2]]=\"#NA\",\"#NA\",IF(Table1[[#This Row],[Non HZ Employee]]=Table1[[#This Row],[Max calc]],\"Non HZ Employee\", Table1[[#This Row],[Calc 2]]))","v":"#NA"}]
[309," ",309,{"$nulls":5},{"$f":"SUM(Table1[[#This Row],[Column4]]+Table1[[#This Row],[Column3]]+Table1[[#This Row],[Column2]]+Table1[[#This Row],[Column1]])","v":0},{"$nulls":5},{"$f":"SUM(Table1[[#This Row],[PO Employee]:[Other Employee]])","v":0},"N",{"$error":"#N/A"},{"$f":"IF(O326>39,Table1[[#This Row],[Calc 1]],IF(O326>1,\"Not counted as an Employee\",\"#NA\"))","v":"#NA"},{"$f":"MAX(Table1[[#This Row],[PO Employee]],Table1[[#This Row],[Other HZ Employee]],Table1[[#This Row],[Non HZ Employee]],Table1[[#This Row],[Job Site Employee]],Table1[[#This Row],[Other Employee]])","v":0},{"$f":"IF(Table1[[#This Row],[Total Hours per Month]]=Table1[[#This Row],[Column12]],\"Match\",\"Error\")","v":"Match"},{"$f":"IF(Table1[[#This Row],[Calc 2]]=\"#NA\",\"#NA\",IF(Table1[[#This Row],[Non HZ Employee]]=Table1[[#This Row],[Max calc]],\"Non HZ Employee\", Table1[[#This Row],[Calc 2]]))","v":"#NA"}]
[310," ",310,{"$nulls":5},{"$f":"SUM(Table1[[#This Row],[Column4]]+Table1[[#This Row],[Column3]]+Table1[[#This Row],[Column2]]+Table1[[#This Row],[Column1]])","v":0},{"$nulls":5},{"$f":"SUM(Table1[[#This Row],[PO Employee]:[Other Employee]])","v":0},"N",{"$error":"#N/A"},{"$f":"IF(O327>39,Table1[[#This Row],[Calc 1]],IF(O327>1,\"Not counted as an Employee\",\"#NA\"))","v":"#NA"},{"$f":"MAX(Table1[[#This Row],[PO Employee]],Table1[[#This Row],[Other HZ Employee]],Table1[[#This Row],[Non HZ Employee]],Table1[[#This Row],[Job Site Employee]],Table1[[#This Row],[Other Employee]])","v":0},{"$f":"IF(Table1[[#This Row],[Total Hours per Month]]=Table1[[#This Row],[Column12]],\"Match\",\"Error\")","v":"Match"},{"$f":"IF(Table1[[#This Row],[Calc 2]]=\"#NA\",\"#NA\",IF(Table1[[#This Row],[Non HZ Employee]]=Table1[[#This Row],[Max calc]],\"Non HZ Employee\", Table1[[#This Row],[Calc 2]]))","v":"#NA"}]
[311," ",311,{"$nulls":5},{"$f":"SUM(Table1[[#This Row],[Column4]]+Table1[[#This Row],[Column3]]+Table1[[#This Row],[Column2]]+Table1[[#This Row],[Column1]])","v":0},{"$nulls":5},{"$f":"SUM(Table1[[#This Row],[PO Employee]:[Other Employee]])","v":0},"N",{"$error":"#N/A"},{"$f":"IF(O328>39,Table1[[#This Row],[Calc 1]],IF(O328>1,\"Not counted as an Employee\",\"#NA\"))","v":"#NA"},{"$f":"MAX(Table1[[#This Row],[PO Employee]],Table1[[#This Row],[Other HZ Employee]],Table1[[#This Row],[Non HZ Employee]],Table1[[#This Row],[Job Site Employee]],Table1[[#This Row],[Other Employee]])","v":0},{"$f":"IF(Table1[[#This Row],[Total Hours per Month]]=Table1[[#This Row],[Column12]],\"Match\",\"Error\")","v":"Match"},{"$f":"IF(Table1[[#This Row],[Calc 2]]=\"#NA\",\"#NA\",IF(Table1[[#This Row],[Non HZ Employee]]=Table1[[#This Row],[Max calc]],\"Non HZ Employee\", Table1[[#This Row],[Calc 2]]))","v":"#NA"}]
[312," ",312,{"$nulls":5},{"$f":"SUM(Table1[[#This Row],[Column4]]+Table1[[#This Row],[Column3]]+Table1[[#This Row],[Column2]]+Table1[[#This Row],[Column1]])","v":0},{"$nulls":5},{"$f":"SUM(Table1[[#This Row],[PO Employee]:[Other Employee]])","v":0},"N",{"$error":"#N/A"},{"$f":"IF(O329>39,Table1[[#This Row],[Calc 1]],IF(O329>1,\"Not counted as an Employee\",\"#NA\"))","v":"#NA"},{"$f":"MAX(Table1[[#This Row],[PO Employee]],Table1[[#This Row],[Other HZ Employee]],Table1[[#This Row],[Non HZ Employee]],Table1[[#This Row],[Job Site Employee]],Table1[[#This Row],[Other Employee]])","v":0},{"$f":"IF(Table1[[#This Row],[Total Hours per Month]]=Table1[[#This Row],[Column12]],\"Match\",\"Error\")","v":"Match"},{"$f":"IF(Table1[[#This Row],[Calc 2]]=\"#NA\",\"#NA\",IF(Table1[[#This Row],[Non HZ Employee]]=Table1[[#This Row],[Max calc]],\"Non HZ Employee\", Table1[[#This Row],[Calc 2]]))","v":"#NA"}]
[313," ",313,{"$nulls":5},{"$f":"SUM(Table1[[#This Row],[Column4]]+Table1[[#This Row],[Column3]]+Table1[[#This Row],[Column2]]+Table1[[#This Row],[Column1]])","v":0},{"$nulls":5},{"$f":"SUM(Table1[[#This Row],[PO Employee]:[Other Employee]])","v":0},"N",{"$error":"#N/A"},{"$f":"IF(O330>39,Table1[[#This Row],[Calc 1]],IF(O330>1,\"Not counted as an Employee\",\"#NA\"))","v":"#NA"},{"$f":"MAX(Table1[[#This Row],[PO Employee]],Table1[[#This Row],[Other HZ Employee]],Table1[[#This Row],[Non HZ Employee]],Table1[[#This Row],[Job Site Employee]],Table1[[#This Row],[Other Employee]])","v":0},{"$f":"IF(Table1[[#This Row],[Total Hours per Month]]=Table1[[#This Row],[Column12]],\"Match\",\"Error\")","v":"Match"},{"$f":"IF(Table1[[#This Row],[Calc 2]]=\"#NA\",\"#NA\",IF(Table1[[#This Row],[Non HZ Employee]]=Table1[[#This Row],[Max calc]],\"Non HZ Employee\", Table1[[#This Row],[Calc 2]]))","v":"#NA"}]
[314," ",314,{"$nulls":5},{"$f":"SUM(Table1[[#This Row],[Column4]]+Table1[[#This Row],[Column3]]+Table1[[#This Row],[Column2]]+Table1[[#This Row],[Column1]])","v":0},{"$nulls":5},{"$f":"SUM(Table1[[#This Row],[PO Employee]:[Other Employee]])","v":0},"N",{"$error":"#N/A"},{"$f":"IF(O331>39,Table1[[#This Row],[Calc 1]],IF(O331>1,\"Not counted as an Employee\",\"#NA\"))","v":"#NA"},{"$f":"MAX(Table1[[#This Row],[PO Employee]],Table1[[#This Row],[Other HZ Employee]],Table1[[#This Row],[Non HZ Employee]],Table1[[#This Row],[Job Site Employee]],Table1[[#This Row],[Other Employee]])","v":0},{"$f":"IF(Table1[[#This Row],[Total Hours per Month]]=Table1[[#This Row],[Column12]],\"Match\",\"Error\")","v":"Match"},{"$f":"IF(Table1[[#This Row],[Calc 2]]=\"#NA\",\"#NA\",IF(Table1[[#This Row],[Non HZ Employee]]=Table1[[#This Row],[Max calc]],\"Non HZ Employee\", Table1[[#This Row],[Calc 2]]))","v":"#NA"}]
[315," ",315,{"$nulls":5},{"$f":"SUM(Table1[[#This Row],[Column4]]+Table1[[#This Row],[Column3]]+Table1[[#This Row],[Column2]]+Table1[[#This Row],[Column1]])","v":0},{"$nulls":5},{"$f":"SUM(Table1[[#This Row],[PO Employee]:[Other Employee]])","v":0},"N",{"$error":"#N/A"},{"$f":"IF(O332>39,Table1[[#This Row],[Calc 1]],IF(O332>1,\"Not counted as an Employee\",\"#NA\"))","v":"#NA"},{"$f":"MAX(Table1[[#This Row],[PO Employee]],Table1[[#This Row],[Other HZ Employee]],Table1[[#This Row],[Non HZ Employee]],Table1[[#This Row],[Job Site Employee]],Table1[[#This Row],[Other Employee]])","v":0},{"$f":"IF(Table1[[#This Row],[Total Hours per Month]]=Table1[[#This Row],[Column12]],\"Match\",\"Error\")","v":"Match"},{"$f":"IF(Table1[[#This Row],[Calc 2]]=\"#NA\",\"#NA\",IF(Table1[[#This Row],[Non HZ Employee]]=Table1[[#This Row],[Max calc]],\"Non HZ Employee\", Table1[[#This Row],[Calc 2]]))","v":"#NA"}]
[316," ",316,{"$nulls":5},{"$f":"SUM(Table1[[#This Row],[Column4]]+Table1[[#This Row],[Column3]]+Table1[[#This Row],[Column2]]+Table1[[#This Row],[Column1]])","v":0},{"$nulls":5},{"$f":"SUM(Table1[[#This Row],[PO Employee]:[Other Employee]])","v":0},"N",{"$error":"#N/A"},{"$f":"IF(O333>39,Table1[[#This Row],[Calc 1]],IF(O333>1,\"Not counted as an Employee\",\"#NA\"))","v":"#NA"},{"$f":"MAX(Table1[[#This Row],[PO Employee]],Table1[[#This Row],[Other HZ Employee]],Table1[[#This Row],[Non HZ Employee]],Table1[[#This Row],[Job Site Employee]],Table1[[#This Row],[Other Employee]])","v":0},{"$f":"IF(Table1[[#This Row],[Total Hours per Month]]=Table1[[#This Row],[Column12]],\"Match\",\"Error\")","v":"Match"},{"$f":"IF(Table1[[#This Row],[Calc 2]]=\"#NA\",\"#NA\",IF(Table1[[#This Row],[Non HZ Employee]]=Table1[[#This Row],[Max calc]],\"Non HZ Employee\", Table1[[#This Row],[Calc 2]]))","v":"#NA"}]
[317," ",317,{"$nulls":5},{"$f":"SUM(Table1[[#This Row],[Column4]]+Table1[[#This Row],[Column3]]+Table1[[#This Row],[Column2]]+Table1[[#This Row],[Column1]])","v":0},{"$nulls":5},{"$f":"SUM(Table1[[#This Row],[PO Employee]:[Other Employee]])","v":0},"N",{"$error":"#N/A"},{"$f":"IF(O334>39,Table1[[#This Row],[Calc 1]],IF(O334>1,\"Not counted as an Employee\",\"#NA\"))","v":"#NA"},{"$f":"MAX(Table1[[#This Row],[PO Employee]],Table1[[#This Row],[Other HZ Employee]],Table1[[#This Row],[Non HZ Employee]],Table1[[#This Row],[Job Site Employee]],Table1[[#This Row],[Other Employee]])","v":0},{"$f":"IF(Table1[[#This Row],[Total Hours per Month]]=Table1[[#This Row],[Column12]],\"Match\",\"Error\")","v":"Match"},{"$f":"IF(Table1[[#This Row],[Calc 2]]=\"#NA\",\"#NA\",IF(Table1[[#This Row],[Non HZ Employee]]=Table1[[#This Row],[Max calc]],\"Non HZ Employee\", Table1[[#This Row],[Calc 2]]))","v":"#NA"}]
[318," ",318,{"$nulls":5},{"$f":"SUM(Table1[[#This Row],[Column4]]+Table1[[#This Row],[Column3]]+Table1[[#This Row],[Column2]]+Table1[[#This Row],[Column1]])","v":0},{"$nulls":5},{"$f":"SUM(Table1[[#This Row],[PO Employee]:[Other Employee]])","v":0},"N",{"$error":"#N/A"},{"$f":"IF(O335>39,Table1[[#This Row],[Calc 1]],IF(O335>1,\"Not counted as an Employee\",\"#NA\"))","v":"#NA"},{"$f":"MAX(Table1[[#This Row],[PO Employee]],Table1[[#This Row],[Other HZ Employee]],Table1[[#This Row],[Non HZ Employee]],Table1[[#This Row],[Job Site Employee]],Table1[[#This Row],[Other Employee]])","v":0},{"$f":"IF(Table1[[#This Row],[Total Hours per Month]]=Table1[[#This Row],[Column12]],\"Match\",\"Error\")","v":"Match"},{"$f":"IF(Table1[[#This Row],[Calc 2]]=\"#NA\",\"#NA\",IF(Table1[[#This Row],[Non HZ Employee]]=Table1[[#This Row],[Max calc]],\"Non HZ Employee\", Table1[[#This Row],[Calc 2]]))","v":"#NA"}]
[319," ",319,{"$nulls":5},{"$f":"SUM(Table1[[#This Row],[Column4]]+Table1[[#This Row],[Column3]]+Table1[[#This Row],[Column2]]+Table1[[#This Row],[Column1]])","v":0},{"$nulls":5},{"$f":"SUM(Table1[[#This Row],[PO Employee]:[Other Employee]])","v":0},"N",{"$error":"#N/A"},{"$f":"IF(O336>39,Table1[[#This Row],[Calc 1]],IF(O336>1,\"Not counted as an Employee\",\"#NA\"))","v":"#NA"},{"$f":"MAX(Table1[[#This Row],[PO Employee]],Table1[[#This Row],[Other HZ Employee]],Table1[[#This Row],[Non HZ Employee]],Table1[[#This Row],[Job Site Employee]],Table1[[#This Row],[Other Employee]])","v":0},{"$f":"IF(Table1[[#This Row],[Total Hours per Month]]=Table1[[#This Row],[Column12]],\"Match\",\"Error\")","v":"Match"},{"$f":"IF(Table1[[#This Row],[Calc 2]]=\"#NA\",\"#NA\",IF(Table1[[#This Row],[Non HZ Employee]]=Table1[[#This Row],[Max calc]],\"Non HZ Employee\", Table1[[#This Row],[Calc 2]]))","v":"#NA"}]
[320," ",320,{"$nulls":5},{"$f":"SUM(Table1[[#This Row],[Column4]]+Table1[[#This Row],[Column3]]+Table1[[#This Row],[Column2]]+Table1[[#This Row],[Column1]])","v":0},{"$nulls":5},{"$f":"SUM(Table1[[#This Row],[PO Employee]:[Other Employee]])","v":0},"N",{"$error":"#N/A"},{"$f":"IF(O337>39,Table1[[#This Row],[Calc 1]],IF(O337>1,\"Not counted as an Employee\",\"#NA\"))","v":"#NA"},{"$f":"MAX(Table1[[#This Row],[PO Employee]],Table1[[#This Row],[Other HZ Employee]],Table1[[#This Row],[Non HZ Employee]],Table1[[#This Row],[Job Site Employee]],Table1[[#This Row],[Other Employee]])","v":0},{"$f":"IF(Table1[[#This Row],[Total Hours per Month]]=Table1[[#This Row],[Column12]],\"Match\",\"Error\")","v":"Match"},{"$f":"IF(Table1[[#This Row],[Calc 2]]=\"#NA\",\"#NA\",IF(Table1[[#This Row],[Non HZ Employee]]=Table1[[#This Row],[Max calc]],\"Non HZ Employee\", Table1[[#This Row],[Calc 2]]))","v":"#NA"}]
[321," ",321,{"$nulls":5},{"$f":"SUM(Table1[[#This Row],[Column4]]+Table1[[#This Row],[Column3]]+Table1[[#This Row],[Column2]]+Table1[[#This Row],[Column1]])","v":0},{"$nulls":5},{"$f":"SUM(Table1[[#This Row],[PO Employee]:[Other Employee]])","v":0},"N",{"$f":"INDEX($J$17:$N$17,MATCH(MAX(J338:N338),J338:N338,0))","v":{"$error":"#N/A"}},{"$f":"IF(O338>39,Table1[[#This Row],[Calc 1]],IF(O338>1,\"Not counted as an Employee\",\"#NA\"))","v":"#NA"},{"$f":"MAX(Table1[[#This Row],[PO Employee]],Table1[[#This Row],[Other HZ Employee]],Table1[[#This Row],[Non HZ Employee]],Table1[[#This Row],[Job Site Employee]],Table1[[#This Row],[Other Employee]])","v":0},{"$f":"IF(Table1[[#This Row],[Total Hours per Month]]=Table1[[#This Row],[Column12]],\"Match\",\"Error\")","v":"Match"},{"$f":"IF(Table1[[#This Row],[Calc 2]]=\"#NA\",\"#NA\",IF(Table1[[#This Row],[Non HZ Employee]]=Table1[[#This Row],[Max calc]],\"Non HZ Employee\", Table1[[#This Row],[Calc 2]]))","v":"#NA"}]
[322," ",322,{"$nulls":5},{"$f":"SUM(Table1[[#This Row],[Column4]]+Table1[[#This Row],[Column3]]+Table1[[#This Row],[Column2]]+Table1[[#This Row],[Column1]])","v":0},{"$nulls":5},{"$f":"SUM(Table1[[#This Row],[PO Employee]:[Other Employee]])","v":0},{"$f":"IF(O339>=40,\"Y\",\"N\")","v":"N"},{"$error":"#N/A"},{"$f":"IF(O339>39,Table1[[#This Row],[Calc 1]],IF(O339>1,\"Not counted as an Employee\",\"#NA\"))","v":"#NA"},{"$f":"MAX(Table1[[#This Row],[PO Employee]],Table1[[#This Row],[Other HZ Employee]],Table1[[#This Row],[Non HZ Employee]],Table1[[#This Row],[Job Site Employee]],Table1[[#This Row],[Other Employee]])","v":0},{"$f":"IF(Table1[[#This Row],[Total Hours per Month]]=Table1[[#This Row],[Column12]],\"Match\",\"Error\")","v":"Match"},{"$f":"IF(Table1[[#This Row],[Calc 2]]=\"#NA\",\"#NA\",IF(Table1[[#This Row],[Non HZ Employee]]=Table1[[#This Row],[Max calc]],\"Non HZ Employee\", Table1[[#This Row],[Calc 2]]))","v":"#NA"}]
[323," ",323,{"$nulls":5},{"$f":"SUM(Table1[[#This Row],[Column4]]+Table1[[#This Row],[Column3]]+Table1[[#This Row],[Column2]]+Table1[[#This Row],[Column1]])","v":0},{"$nulls":5},{"$f":"SUM(Table1[[#This Row],[PO Employee]:[Other Employee]])","v":0},"N",{"$error":"#N/A"},{"$f":"IF(O340>39,Table1[[#This Row],[Calc 1]],IF(O340>1,\"Not counted as an Employee\",\"#NA\"))","v":"#NA"},{"$f":"MAX(Table1[[#This Row],[PO Employee]],Table1[[#This Row],[Other HZ Employee]],Table1[[#This Row],[Non HZ Employee]],Table1[[#This Row],[Job Site Employee]],Table1[[#This Row],[Other Employee]])","v":0},{"$f":"IF(Table1[[#This Row],[Total Hours per Month]]=Table1[[#This Row],[Column12]],\"Match\",\"Error\")","v":"Match"},{"$f":"IF(Table1[[#This Row],[Calc 2]]=\"#NA\",\"#NA\",IF(Table1[[#This Row],[Non HZ Employee]]=Table1[[#This Row],[Max calc]],\"Non HZ Employee\", Table1[[#This Row],[Calc 2]]))","v":"#NA"}]
[324," ",324,{"$nulls":5},{"$f":"SUM(Table1[[#This Row],[Column4]]+Table1[[#This Row],[Column3]]+Table1[[#This Row],[Column2]]+Table1[[#This Row],[Column1]])","v":0},{"$nulls":5},{"$f":"SUM(Table1[[#This Row],[PO Employee]:[Other Employee]])","v":0},"N",{"$error":"#N/A"},{"$f":"IF(O341>39,Table1[[#This Row],[Calc 1]],IF(O341>1,\"Not counted as an Employee\",\"#NA\"))","v":"#NA"},{"$f":"MAX(Table1[[#This Row],[PO Employee]],Table1[[#This Row],[Other HZ Employee]],Table1[[#This Row],[Non HZ Employee]],Table1[[#This Row],[Job Site Employee]],Table1[[#This Row],[Other Employee]])","v":0},{"$f":"IF(Table1[[#This Row],[Total Hours per Month]]=Table1[[#This Row],[Column12]],\"Match\",\"Error\")","v":"Match"},{"$f":"IF(Table1[[#This Row],[Calc 2]]=\"#NA\",\"#NA\",IF(Table1[[#This Row],[Non HZ Employee]]=Table1[[#This Row],[Max calc]],\"Non HZ Employee\", Table1[[#This Row],[Calc 2]]))","v":"#NA"}]
[325," ",325,{"$nulls":5},{"$f":"SUM(Table1[[#This Row],[Column4]]+Table1[[#This Row],[Column3]]+Table1[[#This Row],[Column2]]+Table1[[#This Row],[Column1]])","v":0},{"$nulls":5},{"$f":"SUM(Table1[[#This Row],[PO Employee]:[Other Employee]])","v":0},"N",{"$error":"#N/A"},{"$f":"IF(O342>39,Table1[[#This Row],[Calc 1]],IF(O342>1,\"Not counted as an Employee\",\"#NA\"))","v":"#NA"},{"$f":"MAX(Table1[[#This Row],[PO Employee]],Table1[[#This Row],[Other HZ Employee]],Table1[[#This Row],[Non HZ Employee]],Table1[[#This Row],[Job Site Employee]],Table1[[#This Row],[Other Employee]])","v":0},{"$f":"IF(Table1[[#This Row],[Total Hours per Month]]=Table1[[#This Row],[Column12]],\"Match\",\"Error\")","v":"Match"},{"$f":"IF(Table1[[#This Row],[Calc 2]]=\"#NA\",\"#NA\",IF(Table1[[#This Row],[Non HZ Employee]]=Table1[[#This Row],[Max calc]],\"Non HZ Employee\", Table1[[#This Row],[Calc 2]]))","v":"#NA"}]
[326," ",326,{"$nulls":5},{"$f":"SUM(Table1[[#This Row],[Column4]]+Table1[[#This Row],[Column3]]+Table1[[#This Row],[Column2]]+Table1[[#This Row],[Column1]])","v":0},{"$nulls":5},{"$f":"SUM(Table1[[#This Row],[PO Employee]:[Other Employee]])","v":0},"N",{"$error":"#N/A"},{"$f":"IF(O343>39,Table1[[#This Row],[Calc 1]],IF(O343>1,\"Not counted as an Employee\",\"#NA\"))","v":"#NA"},{"$f":"MAX(Table1[[#This Row],[PO Employee]],Table1[[#This Row],[Other HZ Employee]],Table1[[#This Row],[Non HZ Employee]],Table1[[#This Row],[Job Site Employee]],Table1[[#This Row],[Other Employee]])","v":0},{"$f":"IF(Table1[[#This Row],[Total Hours per Month]]=Table1[[#This Row],[Column12]],\"Match\",\"Error\")","v":"Match"},{"$f":"IF(Table1[[#This Row],[Calc 2]]=\"#NA\",\"#NA\",IF(Table1[[#This Row],[Non HZ Employee]]=Table1[[#This Row],[Max calc]],\"Non HZ Employee\", Table1[[#This Row],[Calc 2]]))","v":"#NA"}]
[327," ",327,{"$nulls":5},{"$f":"SUM(Table1[[#This Row],[Column4]]+Table1[[#This Row],[Column3]]+Table1[[#This Row],[Column2]]+Table1[[#This Row],[Column1]])","v":0},{"$nulls":5},{"$f":"SUM(Table1[[#This Row],[PO Employee]:[Other Employee]])","v":0},"N",{"$error":"#N/A"},{"$f":"IF(O344>39,Table1[[#This Row],[Calc 1]],IF(O344>1,\"Not counted as an Employee\",\"#NA\"))","v":"#NA"},{"$f":"MAX(Table1[[#This Row],[PO Employee]],Table1[[#This Row],[Other HZ Employee]],Table1[[#This Row],[Non HZ Employee]],Table1[[#This Row],[Job Site Employee]],Table1[[#This Row],[Other Employee]])","v":0},{"$f":"IF(Table1[[#This Row],[Total Hours per Month]]=Table1[[#This Row],[Column12]],\"Match\",\"Error\")","v":"Match"},{"$f":"IF(Table1[[#This Row],[Calc 2]]=\"#NA\",\"#NA\",IF(Table1[[#This Row],[Non HZ Employee]]=Table1[[#This Row],[Max calc]],\"Non HZ Employee\", Table1[[#This Row],[Calc 2]]))","v":"#NA"}]
[328," ",328,{"$nulls":5},{"$f":"SUM(Table1[[#This Row],[Column4]]+Table1[[#This Row],[Column3]]+Table1[[#This Row],[Column2]]+Table1[[#This Row],[Column1]])","v":0},{"$nulls":5},{"$f":"SUM(Table1[[#This Row],[PO Employee]:[Other Employee]])","v":0},"N",{"$error":"#N/A"},{"$f":"IF(O345>39,Table1[[#This Row],[Calc 1]],IF(O345>1,\"Not counted as an Employee\",\"#NA\"))","v":"#NA"},{"$f":"MAX(Table1[[#This Row],[PO Employee]],Table1[[#This Row],[Other HZ Employee]],Table1[[#This Row],[Non HZ Employee]],Table1[[#This Row],[Job Site Employee]],Table1[[#This Row],[Other Employee]])","v":0},{"$f":"IF(Table1[[#This Row],[Total Hours per Month]]=Table1[[#This Row],[Column12]],\"Match\",\"Error\")","v":"Match"},{"$f":"IF(Table1[[#This Row],[Calc 2]]=\"#NA\",\"#NA\",IF(Table1[[#This Row],[Non HZ Employee]]=Table1[[#This Row],[Max calc]],\"Non HZ Employee\", Table1[[#This Row],[Calc 2]]))","v":"#NA"}]
[329," ",329,{"$nulls":5},{"$f":"SUM(Table1[[#This Row],[Column4]]+Table1[[#This Row],[Column3]]+Table1[[#This Row],[Column2]]+Table1[[#This Row],[Column1]])","v":0},{"$nulls":5},{"$f":"SUM(Table1[[#This Row],[PO Employee]:[Other Employee]])","v":0},"N",{"$error":"#N/A"},{"$f":"IF(O346>39,Table1[[#This Row],[Calc 1]],IF(O346>1,\"Not counted as an Employee\",\"#NA\"))","v":"#NA"},{"$f":"MAX(Table1[[#This Row],[PO Employee]],Table1[[#This Row],[Other HZ Employee]],Table1[[#This Row],[Non HZ Employee]],Table1[[#This Row],[Job Site Employee]],Table1[[#This Row],[Other Employee]])","v":0},{"$f":"IF(Table1[[#This Row],[Total Hours per Month]]=Table1[[#This Row],[Column12]],\"Match\",\"Error\")","v":"Match"},{"$f":"IF(Table1[[#This Row],[Calc 2]]=\"#NA\",\"#NA\",IF(Table1[[#This Row],[Non HZ Employee]]=Table1[[#This Row],[Max calc]],\"Non HZ Employee\", Table1[[#This Row],[Calc 2]]))","v":"#NA"}]
[330," ",330,{"$nulls":5},{"$f":"SUM(Table1[[#This Row],[Column4]]+Table1[[#This Row],[Column3]]+Table1[[#This Row],[Column2]]+Table1[[#This Row],[Column1]])","v":0},{"$nulls":5},{"$f":"SUM(Table1[[#This Row],[PO Employee]:[Other Employee]])","v":0},"N",{"$error":"#N/A"},{"$f":"IF(O347>39,Table1[[#This Row],[Calc 1]],IF(O347>1,\"Not counted as an Employee\",\"#NA\"))","v":"#NA"},{"$f":"MAX(Table1[[#This Row],[PO Employee]],Table1[[#This Row],[Other HZ Employee]],Table1[[#This Row],[Non HZ Employee]],Table1[[#This Row],[Job Site Employee]],Table1[[#This Row],[Other Employee]])","v":0},{"$f":"IF(Table1[[#This Row],[Total Hours per Month]]=Table1[[#This Row],[Column12]],\"Match\",\"Error\")","v":"Match"},{"$f":"IF(Table1[[#This Row],[Calc 2]]=\"#NA\",\"#NA\",IF(Table1[[#This Row],[Non HZ Employee]]=Table1[[#This Row],[Max calc]],\"Non HZ Employee\", Table1[[#This Row],[Calc 2]]))","v":"#NA"}]
[331," ",331,{"$nulls":5},{"$f":"SUM(Table1[[#This Row],[Column4]]+Table1[[#This Row],[Column3]]+Table1[[#This Row],[Column2]]+Table1[[#This Row],[Column1]])","v":0},{"$nulls":5},{"$f":"SUM(Table1[[#This Row],[PO Employee]:[Other Employee]])","v":0},"N",{"$error":"#N/A"},{"$f":"IF(O348>39,Table1[[#This Row],[Calc 1]],IF(O348>1,\"Not counted as an Employee\",\"#NA\"))","v":"#NA"},{"$f":"MAX(Table1[[#This Row],[PO Employee]],Table1[[#This Row],[Other HZ Employee]],Table1[[#This Row],[Non HZ Employee]],Table1[[#This Row],[Job Site Employee]],Table1[[#This Row],[Other Employee]])","v":0},{"$f":"IF(Table1[[#This Row],[Total Hours per Month]]=Table1[[#This Row],[Column12]],\"Match\",\"Error\")","v":"Match"},{"$f":"IF(Table1[[#This Row],[Calc 2]]=\"#NA\",\"#NA\",IF(Table1[[#This Row],[Non HZ Employee]]=Table1[[#This Row],[Max calc]],\"Non HZ Employee\", Table1[[#This Row],[Calc 2]]))","v":"#NA"}]
[332," ",332,{"$nulls":5},{"$f":"SUM(Table1[[#This Row],[Column4]]+Table1[[#This Row],[Column3]]+Table1[[#This Row],[Column2]]+Table1[[#This Row],[Column1]])","v":0},{"$nulls":5},{"$f":"SUM(Table1[[#This Row],[PO Employee]:[Other Employee]])","v":0},"N",{"$error":"#N/A"},{"$f":"IF(O349>39,Table1[[#This Row],[Calc 1]],IF(O349>1,\"Not counted as an Employee\",\"#NA\"))","v":"#NA"},{"$f":"MAX(Table1[[#This Row],[PO Employee]],Table1[[#This Row],[Other HZ Employee]],Table1[[#This Row],[Non HZ Employee]],Table1[[#This Row],[Job Site Employee]],Table1[[#This Row],[Other Employee]])","v":0},{"$f":"IF(Table1[[#This Row],[Total Hours per Month]]=Table1[[#This Row],[Column12]],\"Match\",\"Error\")","v":"Match"},{"$f":"IF(Table1[[#This Row],[Calc 2]]=\"#NA\",\"#NA\",IF(Table1[[#This Row],[Non HZ Employee]]=Table1[[#This Row],[Max calc]],\"Non HZ Employee\", Table1[[#This Row],[Calc 2]]))","v":"#NA"}]
[333," ",333,{"$nulls":5},{"$f":"SUM(Table1[[#This Row],[Column4]]+Table1[[#This Row],[Column3]]+Table1[[#This Row],[Column2]]+Table1[[#This Row],[Column1]])","v":0},{"$nulls":5},{"$f":"SUM(Table1[[#This Row],[PO Employee]:[Other Employee]])","v":0},"N",{"$error":"#N/A"},{"$f":"IF(O350>39,Table1[[#This Row],[Calc 1]],IF(O350>1,\"Not counted as an Employee\",\"#NA\"))","v":"#NA"},{"$f":"MAX(Table1[[#This Row],[PO Employee]],Table1[[#This Row],[Other HZ Employee]],Table1[[#This Row],[Non HZ Employee]],Table1[[#This Row],[Job Site Employee]],Table1[[#This Row],[Other Employee]])","v":0},{"$f":"IF(Table1[[#This Row],[Total Hours per Month]]=Table1[[#This Row],[Column12]],\"Match\",\"Error\")","v":"Match"},{"$f":"IF(Table1[[#This Row],[Calc 2]]=\"#NA\",\"#NA\",IF(Table1[[#This Row],[Non HZ Employee]]=Table1[[#This Row],[Max calc]],\"Non HZ Employee\", Table1[[#This Row],[Calc 2]]))","v":"#NA"}]
[334," ",334,{"$nulls":5},{"$f":"SUM(Table1[[#This Row],[Column4]]+Table1[[#This Row],[Column3]]+Table1[[#This Row],[Column2]]+Table1[[#This Row],[Column1]])","v":0},{"$nulls":5},{"$f":"SUM(Table1[[#This Row],[PO Employee]:[Other Employee]])","v":0},"N",{"$error":"#N/A"},{"$f":"IF(O351>39,Table1[[#This Row],[Calc 1]],IF(O351>1,\"Not counted as an Employee\",\"#NA\"))","v":"#NA"},{"$f":"MAX(Table1[[#This Row],[PO Employee]],Table1[[#This Row],[Other HZ Employee]],Table1[[#This Row],[Non HZ Employee]],Table1[[#This Row],[Job Site Employee]],Table1[[#This Row],[Other Employee]])","v":0},{"$f":"IF(Table1[[#This Row],[Total Hours per Month]]=Table1[[#This Row],[Column12]],\"Match\",\"Error\")","v":"Match"},{"$f":"IF(Table1[[#This Row],[Calc 2]]=\"#NA\",\"#NA\",IF(Table1[[#This Row],[Non HZ Employee]]=Table1[[#This Row],[Max calc]],\"Non HZ Employee\", Table1[[#This Row],[Calc 2]]))","v":"#NA"}]
[335," ",335,{"$nulls":5},{"$f":"SUM(Table1[[#This Row],[Column4]]+Table1[[#This Row],[Column3]]+Table1[[#This Row],[Column2]]+Table1[[#This Row],[Column1]])","v":0},{"$nulls":5},{"$f":"SUM(Table1[[#This Row],[PO Employee]:[Other Employee]])","v":0},"N",{"$error":"#N/A"},{"$f":"IF(O352>39,Table1[[#This Row],[Calc 1]],IF(O352>1,\"Not counted as an Employee\",\"#NA\"))","v":"#NA"},{"$f":"MAX(Table1[[#This Row],[PO Employee]],Table1[[#This Row],[Other HZ Employee]],Table1[[#This Row],[Non HZ Employee]],Table1[[#This Row],[Job Site Employee]],Table1[[#This Row],[Other Employee]])","v":0},{"$f":"IF(Table1[[#This Row],[Total Hours per Month]]=Table1[[#This Row],[Column12]],\"Match\",\"Error\")","v":"Match"},{"$f":"IF(Table1[[#This Row],[Calc 2]]=\"#NA\",\"#NA\",IF(Table1[[#This Row],[Non HZ Employee]]=Table1[[#This Row],[Max calc]],\"Non HZ Employee\", Table1[[#This Row],[Calc 2]]))","v":"#NA"}]
[336," ",336,{"$nulls":5},{"$f":"SUM(Table1[[#This Row],[Column4]]+Table1[[#This Row],[Column3]]+Table1[[#This Row],[Column2]]+Table1[[#This Row],[Column1]])","v":0},{"$nulls":5},{"$f":"SUM(Table1[[#This Row],[PO Employee]:[Other Employee]])","v":0},"N",{"$error":"#N/A"},{"$f":"IF(O353>39,Table1[[#This Row],[Calc 1]],IF(O353>1,\"Not counted as an Employee\",\"#NA\"))","v":"#NA"},{"$f":"MAX(Table1[[#This Row],[PO Employee]],Table1[[#This Row],[Other HZ Employee]],Table1[[#This Row],[Non HZ Employee]],Table1[[#This Row],[Job Site Employee]],Table1[[#This Row],[Other Employee]])","v":0},{"$f":"IF(Table1[[#This Row],[Total Hours per Month]]=Table1[[#This Row],[Column12]],\"Match\",\"Error\")","v":"Match"},{"$f":"IF(Table1[[#This Row],[Calc 2]]=\"#NA\",\"#NA\",IF(Table1[[#This Row],[Non HZ Employee]]=Table1[[#This Row],[Max calc]],\"Non HZ Employee\", Table1[[#This Row],[Calc 2]]))","v":"#NA"}]
[337," ",337,{"$nulls":5},{"$f":"SUM(Table1[[#This Row],[Column4]]+Table1[[#This Row],[Column3]]+Table1[[#This Row],[Column2]]+Table1[[#This Row],[Column1]])","v":0},{"$nulls":5},{"$f":"SUM(Table1[[#This Row],[PO Employee]:[Other Employee]])","v":0},"N",{"$error":"#N/A"},{"$f":"IF(O354>39,Table1[[#This Row],[Calc 1]],IF(O354>1,\"Not counted as an Employee\",\"#NA\"))","v":"#NA"},{"$f":"MAX(Table1[[#This Row],[PO Employee]],Table1[[#This Row],[Other HZ Employee]],Table1[[#This Row],[Non HZ Employee]],Table1[[#This Row],[Job Site Employee]],Table1[[#This Row],[Other Employee]])","v":0},{"$f":"IF(Table1[[#This Row],[Total Hours per Month]]=Table1[[#This Row],[Column12]],\"Match\",\"Error\")","v":"Match"},{"$f":"IF(Table1[[#This Row],[Calc 2]]=\"#NA\",\"#NA\",IF(Table1[[#This Row],[Non HZ Employee]]=Table1[[#This Row],[Max calc]],\"Non HZ Employee\", Table1[[#This Row],[Calc 2]]))","v":"#NA"}]
[338," ",338,{"$nulls":5},{"$f":"SUM(Table1[[#This Row],[Column4]]+Table1[[#This Row],[Column3]]+Table1[[#This Row],[Column2]]+Table1[[#This Row],[Column1]])","v":0},{"$nulls":5},{"$f":"SUM(Table1[[#This Row],[PO Employee]:[Other Employee]])","v":0},"N",{"$error":"#N/A"},{"$f":"IF(O355>39,Table1[[#This Row],[Calc 1]],IF(O355>1,\"Not counted as an Employee\",\"#NA\"))","v":"#NA"},{"$f":"MAX(Table1[[#This Row],[PO Employee]],Table1[[#This Row],[Other HZ Employee]],Table1[[#This Row],[Non HZ Employee]],Table1[[#This Row],[Job Site Employee]],Table1[[#This Row],[Other Employee]])","v":0},{"$f":"IF(Table1[[#This Row],[Total Hours per Month]]=Table1[[#This Row],[Column12]],\"Match\",\"Error\")","v":"Match"},{"$f":"IF(Table1[[#This Row],[Calc 2]]=\"#NA\",\"#NA\",IF(Table1[[#This Row],[Non HZ Employee]]=Table1[[#This Row],[Max calc]],\"Non HZ Employee\", Table1[[#This Row],[Calc 2]]))","v":"#NA"}]
[339," ",339,{"$nulls":5},{"$f":"SUM(Table1[[#This Row],[Column4]]+Table1[[#This Row],[Column3]]+Table1[[#This Row],[Column2]]+Table1[[#This Row],[Column1]])","v":0},{"$nulls":5},{"$f":"SUM(Table1[[#This Row],[PO Employee]:[Other Employee]])","v":0},"N",{"$error":"#N/A"},{"$f":"IF(O356>39,Table1[[#This Row],[Calc 1]],IF(O356>1,\"Not counted as an Employee\",\"#NA\"))","v":"#NA"},{"$f":"MAX(Table1[[#This Row],[PO Employee]],Table1[[#This Row],[Other HZ Employee]],Table1[[#This Row],[Non HZ Employee]],Table1[[#This Row],[Job Site Employee]],Table1[[#This Row],[Other Employee]])","v":0},{"$f":"IF(Table1[[#This Row],[Total Hours per Month]]=Table1[[#This Row],[Column12]],\"Match\",\"Error\")","v":"Match"},{"$f":"IF(Table1[[#This Row],[Calc 2]]=\"#NA\",\"#NA\",IF(Table1[[#This Row],[Non HZ Employee]]=Table1[[#This Row],[Max calc]],\"Non HZ Employee\", Table1[[#This Row],[Calc 2]]))","v":"#NA"}]
[340," ",340,{"$nulls":5},{"$f":"SUM(Table1[[#This Row],[Column4]]+Table1[[#This Row],[Column3]]+Table1[[#This Row],[Column2]]+Table1[[#This Row],[Column1]])","v":0},{"$nulls":5},{"$f":"SUM(Table1[[#This Row],[PO Employee]:[Other Employee]])","v":0},"N",{"$error":"#N/A"},{"$f":"IF(O357>39,Table1[[#This Row],[Calc 1]],IF(O357>1,\"Not counted as an Employee\",\"#NA\"))","v":"#NA"},{"$f":"MAX(Table1[[#This Row],[PO Employee]],Table1[[#This Row],[Other HZ Employee]],Table1[[#This Row],[Non HZ Employee]],Table1[[#This Row],[Job Site Employee]],Table1[[#This Row],[Other Employee]])","v":0},{"$f":"IF(Table1[[#This Row],[Total Hours per Month]]=Table1[[#This Row],[Column12]],\"Match\",\"Error\")","v":"Match"},{"$f":"IF(Table1[[#This Row],[Calc 2]]=\"#NA\",\"#NA\",IF(Table1[[#This Row],[Non HZ Employee]]=Table1[[#This Row],[Max calc]],\"Non HZ Employee\", Table1[[#This Row],[Calc 2]]))","v":"#NA"}]
[341," ",341,{"$nulls":5},{"$f":"SUM(Table1[[#This Row],[Column4]]+Table1[[#This Row],[Column3]]+Table1[[#This Row],[Column2]]+Table1[[#This Row],[Column1]])","v":0},{"$nulls":5},{"$f":"SUM(Table1[[#This Row],[PO Employee]:[Other Employee]])","v":0},"N",{"$error":"#N/A"},{"$f":"IF(O358>39,Table1[[#This Row],[Calc 1]],IF(O358>1,\"Not counted as an Employee\",\"#NA\"))","v":"#NA"},{"$f":"MAX(Table1[[#This Row],[PO Employee]],Table1[[#This Row],[Other HZ Employee]],Table1[[#This Row],[Non HZ Employee]],Table1[[#This Row],[Job Site Employee]],Table1[[#This Row],[Other Employee]])","v":0},{"$f":"IF(Table1[[#This Row],[Total Hours per Month]]=Table1[[#This Row],[Column12]],\"Match\",\"Error\")","v":"Match"},{"$f":"IF(Table1[[#This Row],[Calc 2]]=\"#NA\",\"#NA\",IF(Table1[[#This Row],[Non HZ Employee]]=Table1[[#This Row],[Max calc]],\"Non HZ Employee\", Table1[[#This Row],[Calc 2]]))","v":"#NA"}]
[342," ",342,{"$nulls":5},{"$f":"SUM(Table1[[#This Row],[Column4]]+Table1[[#This Row],[Column3]]+Table1[[#This Row],[Column2]]+Table1[[#This Row],[Column1]])","v":0},{"$nulls":5},{"$f":"SUM(Table1[[#This Row],[PO Employee]:[Other Employee]])","v":0},"N",{"$error":"#N/A"},{"$f":"IF(O359>39,Table1[[#This Row],[Calc 1]],IF(O359>1,\"Not counted as an Employee\",\"#NA\"))","v":"#NA"},{"$f":"MAX(Table1[[#This Row],[PO Employee]],Table1[[#This Row],[Other HZ Employee]],Table1[[#This Row],[Non HZ Employee]],Table1[[#This Row],[Job Site Employee]],Table1[[#This Row],[Other Employee]])","v":0},{"$f":"IF(Table1[[#This Row],[Total Hours per Month]]=Table1[[#This Row],[Column12]],\"Match\",\"Error\")","v":"Match"},{"$f":"IF(Table1[[#This Row],[Calc 2]]=\"#NA\",\"#NA\",IF(Table1[[#This Row],[Non HZ Employee]]=Table1[[#This Row],[Max calc]],\"Non HZ Employee\", Table1[[#This Row],[Calc 2]]))","v":"#NA"}]
[343," ",343,{"$nulls":5},{"$f":"SUM(Table1[[#This Row],[Column4]]+Table1[[#This Row],[Column3]]+Table1[[#This Row],[Column2]]+Table1[[#This Row],[Column1]])","v":0},{"$nulls":5},{"$f":"SUM(Table1[[#This Row],[PO Employee]:[Other Employee]])","v":0},"N",{"$error":"#N/A"},{"$f":"IF(O360>39,Table1[[#This Row],[Calc 1]],IF(O360>1,\"Not counted as an Employee\",\"#NA\"))","v":"#NA"},{"$f":"MAX(Table1[[#This Row],[PO Employee]],Table1[[#This Row],[Other HZ Employee]],Table1[[#This Row],[Non HZ Employee]],Table1[[#This Row],[Job Site Employee]],Table1[[#This Row],[Other Employee]])","v":0},{"$f":"IF(Table1[[#This Row],[Total Hours per Month]]=Table1[[#This Row],[Column12]],\"Match\",\"Error\")","v":"Match"},{"$f":"IF(Table1[[#This Row],[Calc 2]]=\"#NA\",\"#NA\",IF(Table1[[#This Row],[Non HZ Employee]]=Table1[[#This Row],[Max calc]],\"Non HZ Employee\", Table1[[#This Row],[Calc 2]]))","v":"#NA"}]
[344," ",344,{"$nulls":5},{"$f":"SUM(Table1[[#This Row],[Column4]]+Table1[[#This Row],[Column3]]+Table1[[#This Row],[Column2]]+Table1[[#This Row],[Column1]])","v":0},{"$nulls":5},{"$f":"SUM(Table1[[#This Row],[PO Employee]:[Other Employee]])","v":0},"N",{"$error":"#N/A"},{"$f":"IF(O361>39,Table1[[#This Row],[Calc 1]],IF(O361>1,\"Not counted as an Employee\",\"#NA\"))","v":"#NA"},{"$f":"MAX(Table1[[#This Row],[PO Employee]],Table1[[#This Row],[Other HZ Employee]],Table1[[#This Row],[Non HZ Employee]],Table1[[#This Row],[Job Site Employee]],Table1[[#This Row],[Other Employee]])","v":0},{"$f":"IF(Table1[[#This Row],[Total Hours per Month]]=Table1[[#This Row],[Column12]],\"Match\",\"Error\")","v":"Match"},{"$f":"IF(Table1[[#This Row],[Calc 2]]=\"#NA\",\"#NA\",IF(Table1[[#This Row],[Non HZ Employee]]=Table1[[#This Row],[Max calc]],\"Non HZ Employee\", Table1[[#This Row],[Calc 2]]))","v":"#NA"}]
[345," ",345,{"$nulls":5},{"$f":"SUM(Table1[[#This Row],[Column4]]+Table1[[#This Row],[Column3]]+Table1[[#This Row],[Column2]]+Table1[[#This Row],[Column1]])","v":0},{"$nulls":5},{"$f":"SUM(Table1[[#This Row],[PO Employee]:[Other Employee]])","v":0},"N",{"$error":"#N/A"},{"$f":"IF(O362>39,Table1[[#This Row],[Calc 1]],IF(O362>1,\"Not counted as an Employee\",\"#NA\"))","v":"#NA"},{"$f":"MAX(Table1[[#This Row],[PO Employee]],Table1[[#This Row],[Other HZ Employee]],Table1[[#This Row],[Non HZ Employee]],Table1[[#This Row],[Job Site Employee]],Table1[[#This Row],[Other Employee]])","v":0},{"$f":"IF(Table1[[#This Row],[Total Hours per Month]]=Table1[[#This Row],[Column12]],\"Match\",\"Error\")","v":"Match"},{"$f":"IF(Table1[[#This Row],[Calc 2]]=\"#NA\",\"#NA\",IF(Table1[[#This Row],[Non HZ Employee]]=Table1[[#This Row],[Max calc]],\"Non HZ Employee\", Table1[[#This Row],[Calc 2]]))","v":"#NA"}]
[346," ",346,{"$nulls":5},{"$f":"SUM(Table1[[#This Row],[Column4]]+Table1[[#This Row],[Column3]]+Table1[[#This Row],[Column2]]+Table1[[#This Row],[Column1]])","v":0},{"$nulls":5},{"$f":"SUM(Table1[[#This Row],[PO Employee]:[Other Employee]])","v":0},"N",{"$error":"#N/A"},{"$f":"IF(O363>39,Table1[[#This Row],[Calc 1]],IF(O363>1,\"Not counted as an Employee\",\"#NA\"))","v":"#NA"},{"$f":"MAX(Table1[[#This Row],[PO Employee]],Table1[[#This Row],[Other HZ Employee]],Table1[[#This Row],[Non HZ Employee]],Table1[[#This Row],[Job Site Employee]],Table1[[#This Row],[Other Employee]])","v":0},{"$f":"IF(Table1[[#This Row],[Total Hours per Month]]=Table1[[#This Row],[Column12]],\"Match\",\"Error\")","v":"Match"},{"$f":"IF(Table1[[#This Row],[Calc 2]]=\"#NA\",\"#NA\",IF(Table1[[#This Row],[Non HZ Employee]]=Table1[[#This Row],[Max calc]],\"Non HZ Employee\", Table1[[#This Row],[Calc 2]]))","v":"#NA"}]
[347," ",347,{"$nulls":5},{"$f":"SUM(Table1[[#This Row],[Column4]]+Table1[[#This Row],[Column3]]+Table1[[#This Row],[Column2]]+Table1[[#This Row],[Column1]])","v":0},{"$nulls":5},{"$f":"SUM(Table1[[#This Row],[PO Employee]:[Other Employee]])","v":0},"N",{"$error":"#N/A"},{"$f":"IF(O364>39,Table1[[#This Row],[Calc 1]],IF(O364>1,\"Not counted as an Employee\",\"#NA\"))","v":"#NA"},{"$f":"MAX(Table1[[#This Row],[PO Employee]],Table1[[#This Row],[Other HZ Employee]],Table1[[#This Row],[Non HZ Employee]],Table1[[#This Row],[Job Site Employee]],Table1[[#This Row],[Other Employee]])","v":0},{"$f":"IF(Table1[[#This Row],[Total Hours per Month]]=Table1[[#This Row],[Column12]],\"Match\",\"Error\")","v":"Match"},{"$f":"IF(Table1[[#This Row],[Calc 2]]=\"#NA\",\"#NA\",IF(Table1[[#This Row],[Non HZ Employee]]=Table1[[#This Row],[Max calc]],\"Non HZ Employee\", Table1[[#This Row],[Calc 2]]))","v":"#NA"}]
[348," ",348,{"$nulls":5},{"$f":"SUM(Table1[[#This Row],[Column4]]+Table1[[#This Row],[Column3]]+Table1[[#This Row],[Column2]]+Table1[[#This Row],[Column1]])","v":0},{"$nulls":5},{"$f":"SUM(Table1[[#This Row],[PO Employee]:[Other Employee]])","v":0},"N",{"$error":"#N/A"},{"$f":"IF(O365>39,Table1[[#This Row],[Calc 1]],IF(O365>1,\"Not counted as an Employee\",\"#NA\"))","v":"#NA"},{"$f":"MAX(Table1[[#This Row],[PO Employee]],Table1[[#This Row],[Other HZ Employee]],Table1[[#This Row],[Non HZ Employee]],Table1[[#This Row],[Job Site Employee]],Table1[[#This Row],[Other Employee]])","v":0},{"$f":"IF(Table1[[#This Row],[Total Hours per Month]]=Table1[[#This Row],[Column12]],\"Match\",\"Error\")","v":"Match"},{"$f":"IF(Table1[[#This Row],[Calc 2]]=\"#NA\",\"#NA\",IF(Table1[[#This Row],[Non HZ Employee]]=Table1[[#This Row],[Max calc]],\"Non HZ Employee\", Table1[[#This Row],[Calc 2]]))","v":"#NA"}]
[349," ",349,{"$nulls":5},{"$f":"SUM(Table1[[#This Row],[Column4]]+Table1[[#This Row],[Column3]]+Table1[[#This Row],[Column2]]+Table1[[#This Row],[Column1]])","v":0},{"$nulls":5},{"$f":"SUM(Table1[[#This Row],[PO Employee]:[Other Employee]])","v":0},"N",{"$error":"#N/A"},{"$f":"IF(O366>39,Table1[[#This Row],[Calc 1]],IF(O366>1,\"Not counted as an Employee\",\"#NA\"))","v":"#NA"},{"$f":"MAX(Table1[[#This Row],[PO Employee]],Table1[[#This Row],[Other HZ Employee]],Table1[[#This Row],[Non HZ Employee]],Table1[[#This Row],[Job Site Employee]],Table1[[#This Row],[Other Employee]])","v":0},{"$f":"IF(Table1[[#This Row],[Total Hours per Month]]=Table1[[#This Row],[Column12]],\"Match\",\"Error\")","v":"Match"},{"$f":"IF(Table1[[#This Row],[Calc 2]]=\"#NA\",\"#NA\",IF(Table1[[#This Row],[Non HZ Employee]]=Table1[[#This Row],[Max calc]],\"Non HZ Employee\", Table1[[#This Row],[Calc 2]]))","v":"#NA"}]
[350," ",350,{"$nulls":5},{"$f":"SUM(Table1[[#This Row],[Column4]]+Table1[[#This Row],[Column3]]+Table1[[#This Row],[Column2]]+Table1[[#This Row],[Column1]])","v":0},{"$nulls":5},{"$f":"SUM(Table1[[#This Row],[PO Employee]:[Other Employee]])","v":0},"N",{"$error":"#N/A"},{"$f":"IF(O367>39,Table1[[#This Row],[Calc 1]],IF(O367>1,\"Not counted as an Employee\",\"#NA\"))","v":"#NA"},{"$f":"MAX(Table1[[#This Row],[PO Employee]],Table1[[#This Row],[Other HZ Employee]],Table1[[#This Row],[Non HZ Employee]],Table1[[#This Row],[Job Site Employee]],Table1[[#This Row],[Other Employee]])","v":0},{"$f":"IF(Table1[[#This Row],[Total Hours per Month]]=Table1[[#This Row],[Column12]],\"Match\",\"Error\")","v":"Match"},{"$f":"IF(Table1[[#This Row],[Calc 2]]=\"#NA\",\"#NA\",IF(Table1[[#This Row],[Non HZ Employee]]=Table1[[#This Row],[Max calc]],\"Non HZ Employee\", Table1[[#This Row],[Calc 2]]))","v":"#NA"}]
[351," ",351,{"$nulls":5},{"$f":"SUM(Table1[[#This Row],[Column4]]+Table1[[#This Row],[Column3]]+Table1[[#This Row],[Column2]]+Table1[[#This Row],[Column1]])","v":0},{"$nulls":5},{"$f":"SUM(Table1[[#This Row],[PO Employee]:[Other Employee]])","v":0},"N",{"$error":"#N/A"},{"$f":"IF(O368>39,Table1[[#This Row],[Calc 1]],IF(O368>1,\"Not counted as an Employee\",\"#NA\"))","v":"#NA"},{"$f":"MAX(Table1[[#This Row],[PO Employee]],Table1[[#This Row],[Other HZ Employee]],Table1[[#This Row],[Non HZ Employee]],Table1[[#This Row],[Job Site Employee]],Table1[[#This Row],[Other Employee]])","v":0},{"$f":"IF(Table1[[#This Row],[Total Hours per Month]]=Table1[[#This Row],[Column12]],\"Match\",\"Error\")","v":"Match"},{"$f":"IF(Table1[[#This Row],[Calc 2]]=\"#NA\",\"#NA\",IF(Table1[[#This Row],[Non HZ Employee]]=Table1[[#This Row],[Max calc]],\"Non HZ Employee\", Table1[[#This Row],[Calc 2]]))","v":"#NA"}]
[352," ",352,{"$nulls":5},{"$f":"SUM(Table1[[#This Row],[Column4]]+Table1[[#This Row],[Column3]]+Table1[[#This Row],[Column2]]+Table1[[#This Row],[Column1]])","v":0},{"$nulls":5},{"$f":"SUM(Table1[[#This Row],[PO Employee]:[Other Employee]])","v":0},"N",{"$error":"#N/A"},{"$f":"IF(O369>39,Table1[[#This Row],[Calc 1]],IF(O369>1,\"Not counted as an Employee\",\"#NA\"))","v":"#NA"},{"$f":"MAX(Table1[[#This Row],[PO Employee]],Table1[[#This Row],[Other HZ Employee]],Table1[[#This Row],[Non HZ Employee]],Table1[[#This Row],[Job Site Employee]],Table1[[#This Row],[Other Employee]])","v":0},{"$f":"IF(Table1[[#This Row],[Total Hours per Month]]=Table1[[#This Row],[Column12]],\"Match\",\"Error\")","v":"Match"},{"$f":"IF(Table1[[#This Row],[Calc 2]]=\"#NA\",\"#NA\",IF(Table1[[#This Row],[Non HZ Employee]]=Table1[[#This Row],[Max calc]],\"Non HZ Employee\", Table1[[#This Row],[Calc 2]]))","v":"#NA"}]
[353," ",353,{"$nulls":5},{"$f":"SUM(Table1[[#This Row],[Column4]]+Table1[[#This Row],[Column3]]+Table1[[#This Row],[Column2]]+Table1[[#This Row],[Column1]])","v":0},{"$nulls":5},{"$f":"SUM(Table1[[#This Row],[PO Employee]:[Other Employee]])","v":0},"N",{"$error":"#N/A"},{"$f":"IF(O370>39,Table1[[#This Row],[Calc 1]],IF(O370>1,\"Not counted as an Employee\",\"#NA\"))","v":"#NA"},{"$f":"MAX(Table1[[#This Row],[PO Employee]],Table1[[#This Row],[Other HZ Employee]],Table1[[#This Row],[Non HZ Employee]],Table1[[#This Row],[Job Site Employee]],Table1[[#This Row],[Other Employee]])","v":0},{"$f":"IF(Table1[[#This Row],[Total Hours per Month]]=Table1[[#This Row],[Column12]],\"Match\",\"Error\")","v":"Match"},{"$f":"IF(Table1[[#This Row],[Calc 2]]=\"#NA\",\"#NA\",IF(Table1[[#This Row],[Non HZ Employee]]=Table1[[#This Row],[Max calc]],\"Non HZ Employee\", Table1[[#This Row],[Calc 2]]))","v":"#NA"}]
[354," ",354,{"$nulls":5},{"$f":"SUM(Table1[[#This Row],[Column4]]+Table1[[#This Row],[Column3]]+Table1[[#This Row],[Column2]]+Table1[[#This Row],[Column1]])","v":0},{"$nulls":5},{"$f":"SUM(Table1[[#This Row],[PO Employee]:[Other Employee]])","v":0},"N",{"$error":"#N/A"},{"$f":"IF(O371>39,Table1[[#This Row],[Calc 1]],IF(O371>1,\"Not counted as an Employee\",\"#NA\"))","v":"#NA"},{"$f":"MAX(Table1[[#This Row],[PO Employee]],Table1[[#This Row],[Other HZ Employee]],Table1[[#This Row],[Non HZ Employee]],Table1[[#This Row],[Job Site Employee]],Table1[[#This Row],[Other Employee]])","v":0},{"$f":"IF(Table1[[#This Row],[Total Hours per Month]]=Table1[[#This Row],[Column12]],\"Match\",\"Error\")","v":"Match"},{"$f":"IF(Table1[[#This Row],[Calc 2]]=\"#NA\",\"#NA\",IF(Table1[[#This Row],[Non HZ Employee]]=Table1[[#This Row],[Max calc]],\"Non HZ Employee\", Table1[[#This Row],[Calc 2]]))","v":"#NA"}]
[355," ",355,{"$nulls":5},{"$f":"SUM(Table1[[#This Row],[Column4]]+Table1[[#This Row],[Column3]]+Table1[[#This Row],[Column2]]+Table1[[#This Row],[Column1]])","v":0},{"$nulls":5},{"$f":"SUM(Table1[[#This Row],[PO Employee]:[Other Employee]])","v":0},"N",{"$error":"#N/A"},{"$f":"IF(O372>39,Table1[[#This Row],[Calc 1]],IF(O372>1,\"Not counted as an Employee\",\"#NA\"))","v":"#NA"},{"$f":"MAX(Table1[[#This Row],[PO Employee]],Table1[[#This Row],[Other HZ Employee]],Table1[[#This Row],[Non HZ Employee]],Table1[[#This Row],[Job Site Employee]],Table1[[#This Row],[Other Employee]])","v":0},{"$f":"IF(Table1[[#This Row],[Total Hours per Month]]=Table1[[#This Row],[Column12]],\"Match\",\"Error\")","v":"Match"},{"$f":"IF(Table1[[#This Row],[Calc 2]]=\"#NA\",\"#NA\",IF(Table1[[#This Row],[Non HZ Employee]]=Table1[[#This Row],[Max calc]],\"Non HZ Employee\", Table1[[#This Row],[Calc 2]]))","v":"#NA"}]
[356," ",356,{"$nulls":5},{"$f":"SUM(Table1[[#This Row],[Column4]]+Table1[[#This Row],[Column3]]+Table1[[#This Row],[Column2]]+Table1[[#This Row],[Column1]])","v":0},{"$nulls":5},{"$f":"SUM(Table1[[#This Row],[PO Employee]:[Other Employee]])","v":0},"N",{"$error":"#N/A"},{"$f":"IF(O373>39,Table1[[#This Row],[Calc 1]],IF(O373>1,\"Not counted as an Employee\",\"#NA\"))","v":"#NA"},{"$f":"MAX(Table1[[#This Row],[PO Employee]],Table1[[#This Row],[Other HZ Employee]],Table1[[#This Row],[Non HZ Employee]],Table1[[#This Row],[Job Site Employee]],Table1[[#This Row],[Other Employee]])","v":0},{"$f":"IF(Table1[[#This Row],[Total Hours per Month]]=Table1[[#This Row],[Column12]],\"Match\",\"Error\")","v":"Match"},{"$f":"IF(Table1[[#This Row],[Calc 2]]=\"#NA\",\"#NA\",IF(Table1[[#This Row],[Non HZ Employee]]=Table1[[#This Row],[Max calc]],\"Non HZ Employee\", Table1[[#This Row],[Calc 2]]))","v":"#NA"}]
[357," ",357,{"$nulls":5},{"$f":"SUM(Table1[[#This Row],[Column4]]+Table1[[#This Row],[Column3]]+Table1[[#This Row],[Column2]]+Table1[[#This Row],[Column1]])","v":0},{"$nulls":5},{"$f":"SUM(Table1[[#This Row],[PO Employee]:[Other Employee]])","v":0},"N",{"$error":"#N/A"},{"$f":"IF(O374>39,Table1[[#This Row],[Calc 1]],IF(O374>1,\"Not counted as an Employee\",\"#NA\"))","v":"#NA"},{"$f":"MAX(Table1[[#This Row],[PO Employee]],Table1[[#This Row],[Other HZ Employee]],Table1[[#This Row],[Non HZ Employee]],Table1[[#This Row],[Job Site Employee]],Table1[[#This Row],[Other Employee]])","v":0},{"$f":"IF(Table1[[#This Row],[Total Hours per Month]]=Table1[[#This Row],[Column12]],\"Match\",\"Error\")","v":"Match"},{"$f":"IF(Table1[[#This Row],[Calc 2]]=\"#NA\",\"#NA\",IF(Table1[[#This Row],[Non HZ Employee]]=Table1[[#This Row],[Max calc]],\"Non HZ Employee\", Table1[[#This Row],[Calc 2]]))","v":"#NA"}]
[358," ",358,{"$nulls":5},{"$f":"SUM(Table1[[#This Row],[Column4]]+Table1[[#This Row],[Column3]]+Table1[[#This Row],[Column2]]+Table1[[#This Row],[Column1]])","v":0},{"$nulls":5},{"$f":"SUM(Table1[[#This Row],[PO Employee]:[Other Employee]])","v":0},"N",{"$error":"#N/A"},{"$f":"IF(O375>39,Table1[[#This Row],[Calc 1]],IF(O375>1,\"Not counted as an Employee\",\"#NA\"))","v":"#NA"},{"$f":"MAX(Table1[[#This Row],[PO Employee]],Table1[[#This Row],[Other HZ Employee]],Table1[[#This Row],[Non HZ Employee]],Table1[[#This Row],[Job Site Employee]],Table1[[#This Row],[Other Employee]])","v":0},{"$f":"IF(Table1[[#This Row],[Total Hours per Month]]=Table1[[#This Row],[Column12]],\"Match\",\"Error\")","v":"Match"},{"$f":"IF(Table1[[#This Row],[Calc 2]]=\"#NA\",\"#NA\",IF(Table1[[#This Row],[Non HZ Employee]]=Table1[[#This Row],[Max calc]],\"Non HZ Employee\", Table1[[#This Row],[Calc 2]]))","v":"#NA"}]
[359," ",359,{"$nulls":5},{"$f":"SUM(Table1[[#This Row],[Column4]]+Table1[[#This Row],[Column3]]+Table1[[#This Row],[Column2]]+Table1[[#This Row],[Column1]])","v":0},{"$nulls":5},{"$f":"SUM(Table1[[#This Row],[PO Employee]:[Other Employee]])","v":0},"N",{"$error":"#N/A"},{"$f":"IF(O376>39,Table1[[#This Row],[Calc 1]],IF(O376>1,\"Not counted as an Employee\",\"#NA\"))","v":"#NA"},{"$f":"MAX(Table1[[#This Row],[PO Employee]],Table1[[#This Row],[Other HZ Employee]],Table1[[#This Row],[Non HZ Employee]],Table1[[#This Row],[Job Site Employee]],Table1[[#This Row],[Other Employee]])","v":0},{"$f":"IF(Table1[[#This Row],[Total Hours per Month]]=Table1[[#This Row],[Column12]],\"Match\",\"Error\")","v":"Match"},{"$f":"IF(Table1[[#This Row],[Calc 2]]=\"#NA\",\"#NA\",IF(Table1[[#This Row],[Non HZ Employee]]=Table1[[#This Row],[Max calc]],\"Non HZ Employee\", Table1[[#This Row],[Calc 2]]))","v":"#NA"}]
[360," ",360,{"$nulls":5},{"$f":"SUM(Table1[[#This Row],[Column4]]+Table1[[#This Row],[Column3]]+Table1[[#This Row],[Column2]]+Table1[[#This Row],[Column1]])","v":0},{"$nulls":5},{"$f":"SUM(Table1[[#This Row],[PO Employee]:[Other Employee]])","v":0},"N",{"$error":"#N/A"},{"$f":"IF(O377>39,Table1[[#This Row],[Calc 1]],IF(O377>1,\"Not counted as an Employee\",\"#NA\"))","v":"#NA"},{"$f":"MAX(Table1[[#This Row],[PO Employee]],Table1[[#This Row],[Other HZ Employee]],Table1[[#This Row],[Non HZ Employee]],Table1[[#This Row],[Job Site Employee]],Table1[[#This Row],[Other Employee]])","v":0},{"$f":"IF(Table1[[#This Row],[Total Hours per Month]]=Table1[[#This Row],[Column12]],\"Match\",\"Error\")","v":"Match"},{"$f":"IF(Table1[[#This Row],[Calc 2]]=\"#NA\",\"#NA\",IF(Table1[[#This Row],[Non HZ Employee]]=Table1[[#This Row],[Max calc]],\"Non HZ Employee\", Table1[[#This Row],[Calc 2]]))","v":"#NA"}]
[361," ",361,{"$nulls":5},{"$f":"SUM(Table1[[#This Row],[Column4]]+Table1[[#This Row],[Column3]]+Table1[[#This Row],[Column2]]+Table1[[#This Row],[Column1]])","v":0},{"$nulls":5},{"$f":"SUM(Table1[[#This Row],[PO Employee]:[Other Employee]])","v":0},"N",{"$error":"#N/A"},{"$f":"IF(O378>39,Table1[[#This Row],[Calc 1]],IF(O378>1,\"Not counted as an Employee\",\"#NA\"))","v":"#NA"},{"$f":"MAX(Table1[[#This Row],[PO Employee]],Table1[[#This Row],[Other HZ Employee]],Table1[[#This Row],[Non HZ Employee]],Table1[[#This Row],[Job Site Employee]],Table1[[#This Row],[Other Employee]])","v":0},{"$f":"IF(Table1[[#This Row],[Total Hours per Month]]=Table1[[#This Row],[Column12]],\"Match\",\"Error\")","v":"Match"},{"$f":"IF(Table1[[#This Row],[Calc 2]]=\"#NA\",\"#NA\",IF(Table1[[#This Row],[Non HZ Employee]]=Table1[[#This Row],[Max calc]],\"Non HZ Employee\", Table1[[#This Row],[Calc 2]]))","v":"#NA"}]
[362," ",362,{"$nulls":5},{"$f":"SUM(Table1[[#This Row],[Column4]]+Table1[[#This Row],[Column3]]+Table1[[#This Row],[Column2]]+Table1[[#This Row],[Column1]])","v":0},{"$nulls":5},{"$f":"SUM(Table1[[#This Row],[PO Employee]:[Other Employee]])","v":0},"N",{"$error":"#N/A"},{"$f":"IF(O379>39,Table1[[#This Row],[Calc 1]],IF(O379>1,\"Not counted as an Employee\",\"#NA\"))","v":"#NA"},{"$f":"MAX(Table1[[#This Row],[PO Employee]],Table1[[#This Row],[Other HZ Employee]],Table1[[#This Row],[Non HZ Employee]],Table1[[#This Row],[Job Site Employee]],Table1[[#This Row],[Other Employee]])","v":0},{"$f":"IF(Table1[[#This Row],[Total Hours per Month]]=Table1[[#This Row],[Column12]],\"Match\",\"Error\")","v":"Match"},{"$f":"IF(Table1[[#This Row],[Calc 2]]=\"#NA\",\"#NA\",IF(Table1[[#This Row],[Non HZ Employee]]=Table1[[#This Row],[Max calc]],\"Non HZ Employee\", Table1[[#This Row],[Calc 2]]))","v":"#NA"}]
[363," ",363,{"$nulls":5},{"$f":"SUM(Table1[[#This Row],[Column4]]+Table1[[#This Row],[Column3]]+Table1[[#This Row],[Column2]]+Table1[[#This Row],[Column1]])","v":0},{"$nulls":5},{"$f":"SUM(Table1[[#This Row],[PO Employee]:[Other Employee]])","v":0},"N",{"$error":"#N/A"},{"$f":"IF(O380>39,Table1[[#This Row],[Calc 1]],IF(O380>1,\"Not counted as an Employee\",\"#NA\"))","v":"#NA"},{"$f":"MAX(Table1[[#This Row],[PO Employee]],Table1[[#This Row],[Other HZ Employee]],Table1[[#This Row],[Non HZ Employee]],Table1[[#This Row],[Job Site Employee]],Table1[[#This Row],[Other Employee]])","v":0},{"$f":"IF(Table1[[#This Row],[Total Hours per Month]]=Table1[[#This Row],[Column12]],\"Match\",\"Error\")","v":"Match"},{"$f":"IF(Table1[[#This Row],[Calc 2]]=\"#NA\",\"#NA\",IF(Table1[[#This Row],[Non HZ Employee]]=Table1[[#This Row],[Max calc]],\"Non HZ Employee\", Table1[[#This Row],[Calc 2]]))","v":"#NA"}]
[364," ",364,{"$nulls":5},{"$f":"SUM(Table1[[#This Row],[Column4]]+Table1[[#This Row],[Column3]]+Table1[[#This Row],[Column2]]+Table1[[#This Row],[Column1]])","v":0},{"$nulls":5},{"$f":"SUM(Table1[[#This Row],[PO Employee]:[Other Employee]])","v":0},"N",{"$error":"#N/A"},{"$f":"IF(O381>39,Table1[[#This Row],[Calc 1]],IF(O381>1,\"Not counted as an Employee\",\"#NA\"))","v":"#NA"},{"$f":"MAX(Table1[[#This Row],[PO Employee]],Table1[[#This Row],[Other HZ Employee]],Table1[[#This Row],[Non HZ Employee]],Table1[[#This Row],[Job Site Employee]],Table1[[#This Row],[Other Employee]])","v":0},{"$f":"IF(Table1[[#This Row],[Total Hours per Month]]=Table1[[#This Row],[Column12]],\"Match\",\"Error\")","v":"Match"},{"$f":"IF(Table1[[#This Row],[Calc 2]]=\"#NA\",\"#NA\",IF(Table1[[#This Row],[Non HZ Employee]]=Table1[[#This Row],[Max calc]],\"Non HZ Employee\", Table1[[#This Row],[Calc 2]]))","v":"#NA"}]
[365," ",365,{"$nulls":5},{"$f":"SUM(Table1[[#This Row],[Column4]]+Table1[[#This Row],[Column3]]+Table1[[#This Row],[Column2]]+Table1[[#This Row],[Column1]])","v":0},{"$nulls":5},{"$f":"SUM(Table1[[#This Row],[PO Employee]:[Other Employee]])","v":0},"N",{"$error":"#N/A"},{"$f":"IF(O382>39,Table1[[#This Row],[Calc 1]],IF(O382>1,\"Not counted as an Employee\",\"#NA\"))","v":"#NA"},{"$f":"MAX(Table1[[#This Row],[PO Employee]],Table1[[#This Row],[Other HZ Employee]],Table1[[#This Row],[Non HZ Employee]],Table1[[#This Row],[Job Site Employee]],Table1[[#This Row],[Other Employee]])","v":0},{"$f":"IF(Table1[[#This Row],[Total Hours per Month]]=Table1[[#This Row],[Column12]],\"Match\",\"Error\")","v":"Match"},{"$f":"IF(Table1[[#This Row],[Calc 2]]=\"#NA\",\"#NA\",IF(Table1[[#This Row],[Non HZ Employee]]=Table1[[#This Row],[Max calc]],\"Non HZ Employee\", Table1[[#This Row],[Calc 2]]))","v":"#NA"}]
[366," ",366,{"$nulls":5},{"$f":"SUM(Table1[[#This Row],[Column4]]+Table1[[#This Row],[Column3]]+Table1[[#This Row],[Column2]]+Table1[[#This Row],[Column1]])","v":0},{"$nulls":5},{"$f":"SUM(Table1[[#This Row],[PO Employee]:[Other Employee]])","v":0},"N",{"$error":"#N/A"},{"$f":"IF(O383>39,Table1[[#This Row],[Calc 1]],IF(O383>1,\"Not counted as an Employee\",\"#NA\"))","v":"#NA"},{"$f":"MAX(Table1[[#This Row],[PO Employee]],Table1[[#This Row],[Other HZ Employee]],Table1[[#This Row],[Non HZ Employee]],Table1[[#This Row],[Job Site Employee]],Table1[[#This Row],[Other Employee]])","v":0},{"$f":"IF(Table1[[#This Row],[Total Hours per Month]]=Table1[[#This Row],[Column12]],\"Match\",\"Error\")","v":"Match"},{"$f":"IF(Table1[[#This Row],[Calc 2]]=\"#NA\",\"#NA\",IF(Table1[[#This Row],[Non HZ Employee]]=Table1[[#This Row],[Max calc]],\"Non HZ Employee\", Table1[[#This Row],[Calc 2]]))","v":"#NA"}]
[367," ",367,{"$nulls":5},{"$f":"SUM(Table1[[#This Row],[Column4]]+Table1[[#This Row],[Column3]]+Table1[[#This Row],[Column2]]+Table1[[#This Row],[Column1]])","v":0},{"$nulls":5},{"$f":"SUM(Table1[[#This Row],[PO Employee]:[Other Employee]])","v":0},"N",{"$error":"#N/A"},{"$f":"IF(O384>39,Table1[[#This Row],[Calc 1]],IF(O384>1,\"Not counted as an Employee\",\"#NA\"))","v":"#NA"},{"$f":"MAX(Table1[[#This Row],[PO Employee]],Table1[[#This Row],[Other HZ Employee]],Table1[[#This Row],[Non HZ Employee]],Table1[[#This Row],[Job Site Employee]],Table1[[#This Row],[Other Employee]])","v":0},{"$f":"IF(Table1[[#This Row],[Total Hours per Month]]=Table1[[#This Row],[Column12]],\"Match\",\"Error\")","v":"Match"},{"$f":"IF(Table1[[#This Row],[Calc 2]]=\"#NA\",\"#NA\",IF(Table1[[#This Row],[Non HZ Employee]]=Table1[[#This Row],[Max calc]],\"Non HZ Employee\", Table1[[#This Row],[Calc 2]]))","v":"#NA"}]
[368," ",368,{"$nulls":5},{"$f":"SUM(Table1[[#This Row],[Column4]]+Table1[[#This Row],[Column3]]+Table1[[#This Row],[Column2]]+Table1[[#This Row],[Column1]])","v":0},{"$nulls":5},{"$f":"SUM(Table1[[#This Row],[PO Employee]:[Other Employee]])","v":0},"N",{"$error":"#N/A"},{"$f":"IF(O385>39,Table1[[#This Row],[Calc 1]],IF(O385>1,\"Not counted as an Employee\",\"#NA\"))","v":"#NA"},{"$f":"MAX(Table1[[#This Row],[PO Employee]],Table1[[#This Row],[Other HZ Employee]],Table1[[#This Row],[Non HZ Employee]],Table1[[#This Row],[Job Site Employee]],Table1[[#This Row],[Other Employee]])","v":0},{"$f":"IF(Table1[[#This Row],[Total Hours per Month]]=Table1[[#This Row],[Column12]],\"Match\",\"Error\")","v":"Match"},{"$f":"IF(Table1[[#This Row],[Calc 2]]=\"#NA\",\"#NA\",IF(Table1[[#This Row],[Non HZ Employee]]=Table1[[#This Row],[Max calc]],\"Non HZ Employee\", Table1[[#This Row],[Calc 2]]))","v":"#NA"}]
[369," ",369,{"$nulls":5},{"$f":"SUM(Table1[[#This Row],[Column4]]+Table1[[#This Row],[Column3]]+Table1[[#This Row],[Column2]]+Table1[[#This Row],[Column1]])","v":0},{"$nulls":5},{"$f":"SUM(Table1[[#This Row],[PO Employee]:[Other Employee]])","v":0},"N",{"$error":"#N/A"},{"$f":"IF(O386>39,Table1[[#This Row],[Calc 1]],IF(O386>1,\"Not counted as an Employee\",\"#NA\"))","v":"#NA"},{"$f":"MAX(Table1[[#This Row],[PO Employee]],Table1[[#This Row],[Other HZ Employee]],Table1[[#This Row],[Non HZ Employee]],Table1[[#This Row],[Job Site Employee]],Table1[[#This Row],[Other Employee]])","v":0},{"$f":"IF(Table1[[#This Row],[Total Hours per Month]]=Table1[[#This Row],[Column12]],\"Match\",\"Error\")","v":"Match"},{"$f":"IF(Table1[[#This Row],[Calc 2]]=\"#NA\",\"#NA\",IF(Table1[[#This Row],[Non HZ Employee]]=Table1[[#This Row],[Max calc]],\"Non HZ Employee\", Table1[[#This Row],[Calc 2]]))","v":"#NA"}]
[370," ",370,{"$nulls":5},{"$f":"SUM(Table1[[#This Row],[Column4]]+Table1[[#This Row],[Column3]]+Table1[[#This Row],[Column2]]+Table1[[#This Row],[Column1]])","v":0},{"$nulls":5},{"$f":"SUM(Table1[[#This Row],[PO Employee]:[Other Employee]])","v":0},"N",{"$error":"#N/A"},{"$f":"IF(O387>39,Table1[[#This Row],[Calc 1]],IF(O387>1,\"Not counted as an Employee\",\"#NA\"))","v":"#NA"},{"$f":"MAX(Table1[[#This Row],[PO Employee]],Table1[[#This Row],[Other HZ Employee]],Table1[[#This Row],[Non HZ Employee]],Table1[[#This Row],[Job Site Employee]],Table1[[#This Row],[Other Employee]])","v":0},{"$f":"IF(Table1[[#This Row],[Total Hours per Month]]=Table1[[#This Row],[Column12]],\"Match\",\"Error\")","v":"Match"},{"$f":"IF(Table1[[#This Row],[Calc 2]]=\"#NA\",\"#NA\",IF(Table1[[#This Row],[Non HZ Employee]]=Table1[[#This Row],[Max calc]],\"Non HZ Employee\", Table1[[#This Row],[Calc 2]]))","v":"#NA"}]
[371," ",371,{"$nulls":5},{"$f":"SUM(Table1[[#This Row],[Column4]]+Table1[[#This Row],[Column3]]+Table1[[#This Row],[Column2]]+Table1[[#This Row],[Column1]])","v":0},{"$nulls":5},{"$f":"SUM(Table1[[#This Row],[PO Employee]:[Other Employee]])","v":0},"N",{"$error":"#N/A"},{"$f":"IF(O388>39,Table1[[#This Row],[Calc 1]],IF(O388>1,\"Not counted as an Employee\",\"#NA\"))","v":"#NA"},{"$f":"MAX(Table1[[#This Row],[PO Employee]],Table1[[#This Row],[Other HZ Employee]],Table1[[#This Row],[Non HZ Employee]],Table1[[#This Row],[Job Site Employee]],Table1[[#This Row],[Other Employee]])","v":0},{"$f":"IF(Table1[[#This Row],[Total Hours per Month]]=Table1[[#This Row],[Column12]],\"Match\",\"Error\")","v":"Match"},{"$f":"IF(Table1[[#This Row],[Calc 2]]=\"#NA\",\"#NA\",IF(Table1[[#This Row],[Non HZ Employee]]=Table1[[#This Row],[Max calc]],\"Non HZ Employee\", Table1[[#This Row],[Calc 2]]))","v":"#NA"}]
[372," ",372,{"$nulls":5},{"$f":"SUM(Table1[[#This Row],[Column4]]+Table1[[#This Row],[Column3]]+Table1[[#This Row],[Column2]]+Table1[[#This Row],[Column1]])","v":0},{"$nulls":5},{"$f":"SUM(Table1[[#This Row],[PO Employee]:[Other Employee]])","v":0},"N",{"$error":"#N/A"},{"$f":"IF(O389>39,Table1[[#This Row],[Calc 1]],IF(O389>1,\"Not counted as an Employee\",\"#NA\"))","v":"#NA"},{"$f":"MAX(Table1[[#This Row],[PO Employee]],Table1[[#This Row],[Other HZ Employee]],Table1[[#This Row],[Non HZ Employee]],Table1[[#This Row],[Job Site Employee]],Table1[[#This Row],[Other Employee]])","v":0},{"$f":"IF(Table1[[#This Row],[Total Hours per Month]]=Table1[[#This Row],[Column12]],\"Match\",\"Error\")","v":"Match"},{"$f":"IF(Table1[[#This Row],[Calc 2]]=\"#NA\",\"#NA\",IF(Table1[[#This Row],[Non HZ Employee]]=Table1[[#This Row],[Max calc]],\"Non HZ Employee\", Table1[[#This Row],[Calc 2]]))","v":"#NA"}]
[373," ",373,{"$nulls":5},{"$f":"SUM(Table1[[#This Row],[Column4]]+Table1[[#This Row],[Column3]]+Table1[[#This Row],[Column2]]+Table1[[#This Row],[Column1]])","v":0},{"$nulls":5},{"$f":"SUM(Table1[[#This Row],[PO Employee]:[Other Employee]])","v":0},"N",{"$error":"#N/A"},{"$f":"IF(O390>39,Table1[[#This Row],[Calc 1]],IF(O390>1,\"Not counted as an Employee\",\"#NA\"))","v":"#NA"},{"$f":"MAX(Table1[[#This Row],[PO Employee]],Table1[[#This Row],[Other HZ Employee]],Table1[[#This Row],[Non HZ Employee]],Table1[[#This Row],[Job Site Employee]],Table1[[#This Row],[Other Employee]])","v":0},{"$f":"IF(Table1[[#This Row],[Total Hours per Month]]=Table1[[#This Row],[Column12]],\"Match\",\"Error\")","v":"Match"},{"$f":"IF(Table1[[#This Row],[Calc 2]]=\"#NA\",\"#NA\",IF(Table1[[#This Row],[Non HZ Employee]]=Table1[[#This Row],[Max calc]],\"Non HZ Employee\", Table1[[#This Row],[Calc 2]]))","v":"#NA"}]
[374," ",374,{"$nulls":5},{"$f":"SUM(Table1[[#This Row],[Column4]]+Table1[[#This Row],[Column3]]+Table1[[#This Row],[Column2]]+Table1[[#This Row],[Column1]])","v":0},{"$nulls":5},{"$f":"SUM(Table1[[#This Row],[PO Employee]:[Other Employee]])","v":0},"N",{"$error":"#N/A"},{"$f":"IF(O391>39,Table1[[#This Row],[Calc 1]],IF(O391>1,\"Not counted as an Employee\",\"#NA\"))","v":"#NA"},{"$f":"MAX(Table1[[#This Row],[PO Employee]],Table1[[#This Row],[Other HZ Employee]],Table1[[#This Row],[Non HZ Employee]],Table1[[#This Row],[Job Site Employee]],Table1[[#This Row],[Other Employee]])","v":0},{"$f":"IF(Table1[[#This Row],[Total Hours per Month]]=Table1[[#This Row],[Column12]],\"Match\",\"Error\")","v":"Match"},{"$f":"IF(Table1[[#This Row],[Calc 2]]=\"#NA\",\"#NA\",IF(Table1[[#This Row],[Non HZ Employee]]=Table1[[#This Row],[Max calc]],\"Non HZ Employee\", Table1[[#This Row],[Calc 2]]))","v":"#NA"}]
[375," ",375,{"$nulls":5},{"$f":"SUM(Table1[[#This Row],[Column4]]+Table1[[#This Row],[Column3]]+Table1[[#This Row],[Column2]]+Table1[[#This Row],[Column1]])","v":0},{"$nulls":5},{"$f":"SUM(Table1[[#This Row],[PO Employee]:[Other Employee]])","v":0},"N",{"$error":"#N/A"},{"$f":"IF(O392>39,Table1[[#This Row],[Calc 1]],IF(O392>1,\"Not counted as an Employee\",\"#NA\"))","v":"#NA"},{"$f":"MAX(Table1[[#This Row],[PO Employee]],Table1[[#This Row],[Other HZ Employee]],Table1[[#This Row],[Non HZ Employee]],Table1[[#This Row],[Job Site Employee]],Table1[[#This Row],[Other Employee]])","v":0},{"$f":"IF(Table1[[#This Row],[Total Hours per Month]]=Table1[[#This Row],[Column12]],\"Match\",\"Error\")","v":"Match"},{"$f":"IF(Table1[[#This Row],[Calc 2]]=\"#NA\",\"#NA\",IF(Table1[[#This Row],[Non HZ Employee]]=Table1[[#This Row],[Max calc]],\"Non HZ Employee\", Table1[[#This Row],[Calc 2]]))","v":"#NA"}]
[376," ",376,{"$nulls":5},{"$f":"SUM(Table1[[#This Row],[Column4]]+Table1[[#This Row],[Column3]]+Table1[[#This Row],[Column2]]+Table1[[#This Row],[Column1]])","v":0},{"$nulls":5},{"$f":"SUM(Table1[[#This Row],[PO Employee]:[Other Employee]])","v":0},"N",{"$error":"#N/A"},{"$f":"IF(O393>39,Table1[[#This Row],[Calc 1]],IF(O393>1,\"Not counted as an Employee\",\"#NA\"))","v":"#NA"},{"$f":"MAX(Table1[[#This Row],[PO Employee]],Table1[[#This Row],[Other HZ Employee]],Table1[[#This Row],[Non HZ Employee]],Table1[[#This Row],[Job Site Employee]],Table1[[#This Row],[Other Employee]])","v":0},{"$f":"IF(Table1[[#This Row],[Total Hours per Month]]=Table1[[#This Row],[Column12]],\"Match\",\"Error\")","v":"Match"},{"$f":"IF(Table1[[#This Row],[Calc 2]]=\"#NA\",\"#NA\",IF(Table1[[#This Row],[Non HZ Employee]]=Table1[[#This Row],[Max calc]],\"Non HZ Employee\", Table1[[#This Row],[Calc 2]]))","v":"#NA"}]
[377," ",377,{"$nulls":5},{"$f":"SUM(Table1[[#This Row],[Column4]]+Table1[[#This Row],[Column3]]+Table1[[#This Row],[Column2]]+Table1[[#This Row],[Column1]])","v":0},{"$nulls":5},{"$f":"SUM(Table1[[#This Row],[PO Employee]:[Other Employee]])","v":0},"N",{"$error":"#N/A"},{"$f":"IF(O394>39,Table1[[#This Row],[Calc 1]],IF(O394>1,\"Not counted as an Employee\",\"#NA\"))","v":"#NA"},{"$f":"MAX(Table1[[#This Row],[PO Employee]],Table1[[#This Row],[Other HZ Employee]],Table1[[#This Row],[Non HZ Employee]],Table1[[#This Row],[Job Site Employee]],Table1[[#This Row],[Other Employee]])","v":0},{"$f":"IF(Table1[[#This Row],[Total Hours per Month]]=Table1[[#This Row],[Column12]],\"Match\",\"Error\")","v":"Match"},{"$f":"IF(Table1[[#This Row],[Calc 2]]=\"#NA\",\"#NA\",IF(Table1[[#This Row],[Non HZ Employee]]=Table1[[#This Row],[Max calc]],\"Non HZ Employee\", Table1[[#This Row],[Calc 2]]))","v":"#NA"}]
[378," ",378,{"$nulls":5},{"$f":"SUM(Table1[[#This Row],[Column4]]+Table1[[#This Row],[Column3]]+Table1[[#This Row],[Column2]]+Table1[[#This Row],[Column1]])","v":0},{"$nulls":5},{"$f":"SUM(Table1[[#This Row],[PO Employee]:[Other Employee]])","v":0},"N",{"$error":"#N/A"},{"$f":"IF(O395>39,Table1[[#This Row],[Calc 1]],IF(O395>1,\"Not counted as an Employee\",\"#NA\"))","v":"#NA"},{"$f":"MAX(Table1[[#This Row],[PO Employee]],Table1[[#This Row],[Other HZ Employee]],Table1[[#This Row],[Non HZ Employee]],Table1[[#This Row],[Job Site Employee]],Table1[[#This Row],[Other Employee]])","v":0},{"$f":"IF(Table1[[#This Row],[Total Hours per Month]]=Table1[[#This Row],[Column12]],\"Match\",\"Error\")","v":"Match"},{"$f":"IF(Table1[[#This Row],[Calc 2]]=\"#NA\",\"#NA\",IF(Table1[[#This Row],[Non HZ Employee]]=Table1[[#This Row],[Max calc]],\"Non HZ Employee\", Table1[[#This Row],[Calc 2]]))","v":"#NA"}]
[379," ",379,{"$nulls":5},{"$f":"SUM(Table1[[#This Row],[Column4]]+Table1[[#This Row],[Column3]]+Table1[[#This Row],[Column2]]+Table1[[#This Row],[Column1]])","v":0},{"$nulls":5},{"$f":"SUM(Table1[[#This Row],[PO Employee]:[Other Employee]])","v":0},"N",{"$error":"#N/A"},{"$f":"IF(O396>39,Table1[[#This Row],[Calc 1]],IF(O396>1,\"Not counted as an Employee\",\"#NA\"))","v":"#NA"},{"$f":"MAX(Table1[[#This Row],[PO Employee]],Table1[[#This Row],[Other HZ Employee]],Table1[[#This Row],[Non HZ Employee]],Table1[[#This Row],[Job Site Employee]],Table1[[#This Row],[Other Employee]])","v":0},{"$f":"IF(Table1[[#This Row],[Total Hours per Month]]=Table1[[#This Row],[Column12]],\"Match\",\"Error\")","v":"Match"},{"$f":"IF(Table1[[#This Row],[Calc 2]]=\"#NA\",\"#NA\",IF(Table1[[#This Row],[Non HZ Employee]]=Table1[[#This Row],[Max calc]],\"Non HZ Employee\", Table1[[#This Row],[Calc 2]]))","v":"#NA"}]
[380," ",380,{"$nulls":5},{"$f":"SUM(Table1[[#This Row],[Column4]]+Table1[[#This Row],[Column3]]+Table1[[#This Row],[Column2]]+Table1[[#This Row],[Column1]])","v":0},{"$nulls":5},{"$f":"SUM(Table1[[#This Row],[PO Employee]:[Other Employee]])","v":0},"N",{"$error":"#N/A"},{"$f":"IF(O397>39,Table1[[#This Row],[Calc 1]],IF(O397>1,\"Not counted as an Employee\",\"#NA\"))","v":"#NA"},{"$f":"MAX(Table1[[#This Row],[PO Employee]],Table1[[#This Row],[Other HZ Employee]],Table1[[#This Row],[Non HZ Employee]],Table1[[#This Row],[Job Site Employee]],Table1[[#This Row],[Other Employee]])","v":0},{"$f":"IF(Table1[[#This Row],[Total Hours per Month]]=Table1[[#This Row],[Column12]],\"Match\",\"Error\")","v":"Match"},{"$f":"IF(Table1[[#This Row],[Calc 2]]=\"#NA\",\"#NA\",IF(Table1[[#This Row],[Non HZ Employee]]=Table1[[#This Row],[Max calc]],\"Non HZ Employee\", Table1[[#This Row],[Calc 2]]))","v":"#NA"}]
[381," ",381,{"$nulls":5},{"$f":"SUM(Table1[[#This Row],[Column4]]+Table1[[#This Row],[Column3]]+Table1[[#This Row],[Column2]]+Table1[[#This Row],[Column1]])","v":0},{"$nulls":5},{"$f":"SUM(Table1[[#This Row],[PO Employee]:[Other Employee]])","v":0},"N",{"$error":"#N/A"},{"$f":"IF(O398>39,Table1[[#This Row],[Calc 1]],IF(O398>1,\"Not counted as an Employee\",\"#NA\"))","v":"#NA"},{"$f":"MAX(Table1[[#This Row],[PO Employee]],Table1[[#This Row],[Other HZ Employee]],Table1[[#This Row],[Non HZ Employee]],Table1[[#This Row],[Job Site Employee]],Table1[[#This Row],[Other Employee]])","v":0},{"$f":"IF(Table1[[#This Row],[Total Hours per Month]]=Table1[[#This Row],[Column12]],\"Match\",\"Error\")","v":"Match"},{"$f":"IF(Table1[[#This Row],[Calc 2]]=\"#NA\",\"#NA\",IF(Table1[[#This Row],[Non HZ Employee]]=Table1[[#This Row],[Max calc]],\"Non HZ Employee\", Table1[[#This Row],[Calc 2]]))","v":"#NA"}]
[382," ",382,{"$nulls":5},{"$f":"SUM(Table1[[#This Row],[Column4]]+Table1[[#This Row],[Column3]]+Table1[[#This Row],[Column2]]+Table1[[#This Row],[Column1]])","v":0},{"$nulls":5},{"$f":"SUM(Table1[[#This Row],[PO Employee]:[Other Employee]])","v":0},"N",{"$error":"#N/A"},{"$f":"IF(O399>39,Table1[[#This Row],[Calc 1]],IF(O399>1,\"Not counted as an Employee\",\"#NA\"))","v":"#NA"},{"$f":"MAX(Table1[[#This Row],[PO Employee]],Table1[[#This Row],[Other HZ Employee]],Table1[[#This Row],[Non HZ Employee]],Table1[[#This Row],[Job Site Employee]],Table1[[#This Row],[Other Employee]])","v":0},{"$f":"IF(Table1[[#This Row],[Total Hours per Month]]=Table1[[#This Row],[Column12]],\"Match\",\"Error\")","v":"Match"},{"$f":"IF(Table1[[#This Row],[Calc 2]]=\"#NA\",\"#NA\",IF(Table1[[#This Row],[Non HZ Employee]]=Table1[[#This Row],[Max calc]],\"Non HZ Employee\", Table1[[#This Row],[Calc 2]]))","v":"#NA"}]
[383," ",383,{"$nulls":5},{"$f":"SUM(Table1[[#This Row],[Column4]]+Table1[[#This Row],[Column3]]+Table1[[#This Row],[Column2]]+Table1[[#This Row],[Column1]])","v":0},{"$nulls":5},{"$f":"SUM(Table1[[#This Row],[PO Employee]:[Other Employee]])","v":0},"N",{"$error":"#N/A"},{"$f":"IF(O400>39,Table1[[#This Row],[Calc 1]],IF(O400>1,\"Not counted as an Employee\",\"#NA\"))","v":"#NA"},{"$f":"MAX(Table1[[#This Row],[PO Employee]],Table1[[#This Row],[Other HZ Employee]],Table1[[#This Row],[Non HZ Employee]],Table1[[#This Row],[Job Site Employee]],Table1[[#This Row],[Other Employee]])","v":0},{"$f":"IF(Table1[[#This Row],[Total Hours per Month]]=Table1[[#This Row],[Column12]],\"Match\",\"Error\")","v":"Match"},{"$f":"IF(Table1[[#This Row],[Calc 2]]=\"#NA\",\"#NA\",IF(Table1[[#This Row],[Non HZ Employee]]=Table1[[#This Row],[Max calc]],\"Non HZ Employee\", Table1[[#This Row],[Calc 2]]))","v":"#NA"}]
[384," ",384,{"$nulls":5},{"$f":"SUM(Table1[[#This Row],[Column4]]+Table1[[#This Row],[Column3]]+Table1[[#This Row],[Column2]]+Table1[[#This Row],[Column1]])","v":0},{"$nulls":5},{"$f":"SUM(Table1[[#This Row],[PO Employee]:[Other Employee]])","v":0},"N",{"$error":"#N/A"},{"$f":"IF(O401>39,Table1[[#This Row],[Calc 1]],IF(O401>1,\"Not counted as an Employee\",\"#NA\"))","v":"#NA"},{"$f":"MAX(Table1[[#This Row],[PO Employee]],Table1[[#This Row],[Other HZ Employee]],Table1[[#This Row],[Non HZ Employee]],Table1[[#This Row],[Job Site Employee]],Table1[[#This Row],[Other Employee]])","v":0},{"$f":"IF(Table1[[#This Row],[Total Hours per Month]]=Table1[[#This Row],[Column12]],\"Match\",\"Error\")","v":"Match"},{"$f":"IF(Table1[[#This Row],[Calc 2]]=\"#NA\",\"#NA\",IF(Table1[[#This Row],[Non HZ Employee]]=Table1[[#This Row],[Max calc]],\"Non HZ Employee\", Table1[[#This Row],[Calc 2]]))","v":"#NA"}]
[385," ",385,{"$nulls":5},{"$f":"SUM(Table1[[#This Row],[Column4]]+Table1[[#This Row],[Column3]]+Table1[[#This Row],[Column2]]+Table1[[#This Row],[Column1]])","v":0},{"$nulls":5},{"$f":"SUM(Table1[[#This Row],[PO Employee]:[Other Employee]])","v":0},"N",{"$f":"INDEX($J$17:$N$17,MATCH(MAX(J402:N402),J402:N402,0))","v":{"$error":"#N/A"}},{"$f":"IF(O402>39,Table1[[#This Row],[Calc 1]],IF(O402>1,\"Not counted as an Employee\",\"#NA\"))","v":"#NA"},{"$f":"MAX(Table1[[#This Row],[PO Employee]],Table1[[#This Row],[Other HZ Employee]],Table1[[#This Row],[Non HZ Employee]],Table1[[#This Row],[Job Site Employee]],Table1[[#This Row],[Other Employee]])","v":0},{"$f":"IF(Table1[[#This Row],[Total Hours per Month]]=Table1[[#This Row],[Column12]],\"Match\",\"Error\")","v":"Match"},{"$f":"IF(Table1[[#This Row],[Calc 2]]=\"#NA\",\"#NA\",IF(Table1[[#This Row],[Non HZ Employee]]=Table1[[#This Row],[Max calc]],\"Non HZ Employee\", Table1[[#This Row],[Calc 2]]))","v":"#NA"}]
[386," ",386,{"$nulls":5},{"$f":"SUM(Table1[[#This Row],[Column4]]+Table1[[#This Row],[Column3]]+Table1[[#This Row],[Column2]]+Table1[[#This Row],[Column1]])","v":0},{"$nulls":5},{"$f":"SUM(Table1[[#This Row],[PO Employee]:[Other Employee]])","v":0},{"$f":"IF(O403>=40,\"Y\",\"N\")","v":"N"},{"$error":"#N/A"},{"$f":"IF(O403>39,Table1[[#This Row],[Calc 1]],IF(O403>1,\"Not counted as an Employee\",\"#NA\"))","v":"#NA"},{"$f":"MAX(Table1[[#This Row],[PO Employee]],Table1[[#This Row],[Other HZ Employee]],Table1[[#This Row],[Non HZ Employee]],Table1[[#This Row],[Job Site Employee]],Table1[[#This Row],[Other Employee]])","v":0},{"$f":"IF(Table1[[#This Row],[Total Hours per Month]]=Table1[[#This Row],[Column12]],\"Match\",\"Error\")","v":"Match"},{"$f":"IF(Table1[[#This Row],[Calc 2]]=\"#NA\",\"#NA\",IF(Table1[[#This Row],[Non HZ Employee]]=Table1[[#This Row],[Max calc]],\"Non HZ Employee\", Table1[[#This Row],[Calc 2]]))","v":"#NA"}]
[387," ",387,{"$nulls":5},{"$f":"SUM(Table1[[#This Row],[Column4]]+Table1[[#This Row],[Column3]]+Table1[[#This Row],[Column2]]+Table1[[#This Row],[Column1]])","v":0},{"$nulls":5},{"$f":"SUM(Table1[[#This Row],[PO Employee]:[Other Employee]])","v":0},"N",{"$error":"#N/A"},{"$f":"IF(O404>39,Table1[[#This Row],[Calc 1]],IF(O404>1,\"Not counted as an Employee\",\"#NA\"))","v":"#NA"},{"$f":"MAX(Table1[[#This Row],[PO Employee]],Table1[[#This Row],[Other HZ Employee]],Table1[[#This Row],[Non HZ Employee]],Table1[[#This Row],[Job Site Employee]],Table1[[#This Row],[Other Employee]])","v":0},{"$f":"IF(Table1[[#This Row],[Total Hours per Month]]=Table1[[#This Row],[Column12]],\"Match\",\"Error\")","v":"Match"},{"$f":"IF(Table1[[#This Row],[Calc 2]]=\"#NA\",\"#NA\",IF(Table1[[#This Row],[Non HZ Employee]]=Table1[[#This Row],[Max calc]],\"Non HZ Employee\", Table1[[#This Row],[Calc 2]]))","v":"#NA"}]
[388," ",388,{"$nulls":5},{"$f":"SUM(Table1[[#This Row],[Column4]]+Table1[[#This Row],[Column3]]+Table1[[#This Row],[Column2]]+Table1[[#This Row],[Column1]])","v":0},{"$nulls":5},{"$f":"SUM(Table1[[#This Row],[PO Employee]:[Other Employee]])","v":0},"N",{"$error":"#N/A"},{"$f":"IF(O405>39,Table1[[#This Row],[Calc 1]],IF(O405>1,\"Not counted as an Employee\",\"#NA\"))","v":"#NA"},{"$f":"MAX(Table1[[#This Row],[PO Employee]],Table1[[#This Row],[Other HZ Employee]],Table1[[#This Row],[Non HZ Employee]],Table1[[#This Row],[Job Site Employee]],Table1[[#This Row],[Other Employee]])","v":0},{"$f":"IF(Table1[[#This Row],[Total Hours per Month]]=Table1[[#This Row],[Column12]],\"Match\",\"Error\")","v":"Match"},{"$f":"IF(Table1[[#This Row],[Calc 2]]=\"#NA\",\"#NA\",IF(Table1[[#This Row],[Non HZ Employee]]=Table1[[#This Row],[Max calc]],\"Non HZ Employee\", Table1[[#This Row],[Calc 2]]))","v":"#NA"}]
[389," ",389,{"$nulls":5},{"$f":"SUM(Table1[[#This Row],[Column4]]+Table1[[#This Row],[Column3]]+Table1[[#This Row],[Column2]]+Table1[[#This Row],[Column1]])","v":0},{"$nulls":5},{"$f":"SUM(Table1[[#This Row],[PO Employee]:[Other Employee]])","v":0},"N",{"$error":"#N/A"},{"$f":"IF(O406>39,Table1[[#This Row],[Calc 1]],IF(O406>1,\"Not counted as an Employee\",\"#NA\"))","v":"#NA"},{"$f":"MAX(Table1[[#This Row],[PO Employee]],Table1[[#This Row],[Other HZ Employee]],Table1[[#This Row],[Non HZ Employee]],Table1[[#This Row],[Job Site Employee]],Table1[[#This Row],[Other Employee]])","v":0},{"$f":"IF(Table1[[#This Row],[Total Hours per Month]]=Table1[[#This Row],[Column12]],\"Match\",\"Error\")","v":"Match"},{"$f":"IF(Table1[[#This Row],[Calc 2]]=\"#NA\",\"#NA\",IF(Table1[[#This Row],[Non HZ Employee]]=Table1[[#This Row],[Max calc]],\"Non HZ Employee\", Table1[[#This Row],[Calc 2]]))","v":"#NA"}]
[390," ",390,{"$nulls":5},{"$f":"SUM(Table1[[#This Row],[Column4]]+Table1[[#This Row],[Column3]]+Table1[[#This Row],[Column2]]+Table1[[#This Row],[Column1]])","v":0},{"$nulls":5},{"$f":"SUM(Table1[[#This Row],[PO Employee]:[Other Employee]])","v":0},"N",{"$error":"#N/A"},{"$f":"IF(O407>39,Table1[[#This Row],[Calc 1]],IF(O407>1,\"Not counted as an Employee\",\"#NA\"))","v":"#NA"},{"$f":"MAX(Table1[[#This Row],[PO Employee]],Table1[[#This Row],[Other HZ Employee]],Table1[[#This Row],[Non HZ Employee]],Table1[[#This Row],[Job Site Employee]],Table1[[#This Row],[Other Employee]])","v":0},{"$f":"IF(Table1[[#This Row],[Total Hours per Month]]=Table1[[#This Row],[Column12]],\"Match\",\"Error\")","v":"Match"},{"$f":"IF(Table1[[#This Row],[Calc 2]]=\"#NA\",\"#NA\",IF(Table1[[#This Row],[Non HZ Employee]]=Table1[[#This Row],[Max calc]],\"Non HZ Employee\", Table1[[#This Row],[Calc 2]]))","v":"#NA"}]
[391," ",391,{"$nulls":5},{"$f":"SUM(Table1[[#This Row],[Column4]]+Table1[[#This Row],[Column3]]+Table1[[#This Row],[Column2]]+Table1[[#This Row],[Column1]])","v":0},{"$nulls":5},{"$f":"SUM(Table1[[#This Row],[PO Employee]:[Other Employee]])","v":0},"N",{"$error":"#N/A"},{"$f":"IF(O408>39,Table1[[#This Row],[Calc 1]],IF(O408>1,\"Not counted as an Employee\",\"#NA\"))","v":"#NA"},{"$f":"MAX(Table1[[#This Row],[PO Employee]],Table1[[#This Row],[Other HZ Employee]],Table1[[#This Row],[Non HZ Employee]],Table1[[#This Row],[Job Site Employee]],Table1[[#This Row],[Other Employee]])","v":0},{"$f":"IF(Table1[[#This Row],[Total Hours per Month]]=Table1[[#This Row],[Column12]],\"Match\",\"Error\")","v":"Match"},{"$f":"IF(Table1[[#This Row],[Calc 2]]=\"#NA\",\"#NA\",IF(Table1[[#This Row],[Non HZ Employee]]=Table1[[#This Row],[Max calc]],\"Non HZ Employee\", Table1[[#This Row],[Calc 2]]))","v":"#NA"}]
[392," ",392,{"$nulls":5},{"$f":"SUM(Table1[[#This Row],[Column4]]+Table1[[#This Row],[Column3]]+Table1[[#This Row],[Column2]]+Table1[[#This Row],[Column1]])","v":0},{"$nulls":5},{"$f":"SUM(Table1[[#This Row],[PO Employee]:[Other Employee]])","v":0},"N",{"$error":"#N/A"},{"$f":"IF(O409>39,Table1[[#This Row],[Calc 1]],IF(O409>1,\"Not counted as an Employee\",\"#NA\"))","v":"#NA"},{"$f":"MAX(Table1[[#This Row],[PO Employee]],Table1[[#This Row],[Other HZ Employee]],Table1[[#This Row],[Non HZ Employee]],Table1[[#This Row],[Job Site Employee]],Table1[[#This Row],[Other Employee]])","v":0},{"$f":"IF(Table1[[#This Row],[Total Hours per Month]]=Table1[[#This Row],[Column12]],\"Match\",\"Error\")","v":"Match"},{"$f":"IF(Table1[[#This Row],[Calc 2]]=\"#NA\",\"#NA\",IF(Table1[[#This Row],[Non HZ Employee]]=Table1[[#This Row],[Max calc]],\"Non HZ Employee\", Table1[[#This Row],[Calc 2]]))","v":"#NA"}]
[393," ",393,{"$nulls":5},{"$f":"SUM(Table1[[#This Row],[Column4]]+Table1[[#This Row],[Column3]]+Table1[[#This Row],[Column2]]+Table1[[#This Row],[Column1]])","v":0},{"$nulls":5},{"$f":"SUM(Table1[[#This Row],[PO Employee]:[Other Employee]])","v":0},"N",{"$error":"#N/A"},{"$f":"IF(O410>39,Table1[[#This Row],[Calc 1]],IF(O410>1,\"Not counted as an Employee\",\"#NA\"))","v":"#NA"},{"$f":"MAX(Table1[[#This Row],[PO Employee]],Table1[[#This Row],[Other HZ Employee]],Table1[[#This Row],[Non HZ Employee]],Table1[[#This Row],[Job Site Employee]],Table1[[#This Row],[Other Employee]])","v":0},{"$f":"IF(Table1[[#This Row],[Total Hours per Month]]=Table1[[#This Row],[Column12]],\"Match\",\"Error\")","v":"Match"},{"$f":"IF(Table1[[#This Row],[Calc 2]]=\"#NA\",\"#NA\",IF(Table1[[#This Row],[Non HZ Employee]]=Table1[[#This Row],[Max calc]],\"Non HZ Employee\", Table1[[#This Row],[Calc 2]]))","v":"#NA"}]
[394," ",394,{"$nulls":5},{"$f":"SUM(Table1[[#This Row],[Column4]]+Table1[[#This Row],[Column3]]+Table1[[#This Row],[Column2]]+Table1[[#This Row],[Column1]])","v":0},{"$nulls":5},{"$f":"SUM(Table1[[#This Row],[PO Employee]:[Other Employee]])","v":0},"N",{"$error":"#N/A"},{"$f":"IF(O411>39,Table1[[#This Row],[Calc 1]],IF(O411>1,\"Not counted as an Employee\",\"#NA\"))","v":"#NA"},{"$f":"MAX(Table1[[#This Row],[PO Employee]],Table1[[#This Row],[Other HZ Employee]],Table1[[#This Row],[Non HZ Employee]],Table1[[#This Row],[Job Site Employee]],Table1[[#This Row],[Other Employee]])","v":0},{"$f":"IF(Table1[[#This Row],[Total Hours per Month]]=Table1[[#This Row],[Column12]],\"Match\",\"Error\")","v":"Match"},{"$f":"IF(Table1[[#This Row],[Calc 2]]=\"#NA\",\"#NA\",IF(Table1[[#This Row],[Non HZ Employee]]=Table1[[#This Row],[Max calc]],\"Non HZ Employee\", Table1[[#This Row],[Calc 2]]))","v":"#NA"}]
[395," ",395,{"$nulls":5},{"$f":"SUM(Table1[[#This Row],[Column4]]+Table1[[#This Row],[Column3]]+Table1[[#This Row],[Column2]]+Table1[[#This Row],[Column1]])","v":0},{"$nulls":5},{"$f":"SUM(Table1[[#This Row],[PO Employee]:[Other Employee]])","v":0},"N",{"$error":"#N/A"},{"$f":"IF(O412>39,Table1[[#This Row],[Calc 1]],IF(O412>1,\"Not counted as an Employee\",\"#NA\"))","v":"#NA"},{"$f":"MAX(Table1[[#This Row],[PO Employee]],Table1[[#This Row],[Other HZ Employee]],Table1[[#This Row],[Non HZ Employee]],Table1[[#This Row],[Job Site Employee]],Table1[[#This Row],[Other Employee]])","v":0},{"$f":"IF(Table1[[#This Row],[Total Hours per Month]]=Table1[[#This Row],[Column12]],\"Match\",\"Error\")","v":"Match"},{"$f":"IF(Table1[[#This Row],[Calc 2]]=\"#NA\",\"#NA\",IF(Table1[[#This Row],[Non HZ Employee]]=Table1[[#This Row],[Max calc]],\"Non HZ Employee\", Table1[[#This Row],[Calc 2]]))","v":"#NA"}]
[396," ",396,{"$nulls":5},{"$f":"SUM(Table1[[#This Row],[Column4]]+Table1[[#This Row],[Column3]]+Table1[[#This Row],[Column2]]+Table1[[#This Row],[Column1]])","v":0},{"$nulls":5},{"$f":"SUM(Table1[[#This Row],[PO Employee]:[Other Employee]])","v":0},"N",{"$error":"#N/A"},{"$f":"IF(O413>39,Table1[[#This Row],[Calc 1]],IF(O413>1,\"Not counted as an Employee\",\"#NA\"))","v":"#NA"},{"$f":"MAX(Table1[[#This Row],[PO Employee]],Table1[[#This Row],[Other HZ Employee]],Table1[[#This Row],[Non HZ Employee]],Table1[[#This Row],[Job Site Employee]],Table1[[#This Row],[Other Employee]])","v":0},{"$f":"IF(Table1[[#This Row],[Total Hours per Month]]=Table1[[#This Row],[Column12]],\"Match\",\"Error\")","v":"Match"},{"$f":"IF(Table1[[#This Row],[Calc 2]]=\"#NA\",\"#NA\",IF(Table1[[#This Row],[Non HZ Employee]]=Table1[[#This Row],[Max calc]],\"Non HZ Employee\", Table1[[#This Row],[Calc 2]]))","v":"#NA"}]
[397," ",397,{"$nulls":5},{"$f":"SUM(Table1[[#This Row],[Column4]]+Table1[[#This Row],[Column3]]+Table1[[#This Row],[Column2]]+Table1[[#This Row],[Column1]])","v":0},{"$nulls":5},{"$f":"SUM(Table1[[#This Row],[PO Employee]:[Other Employee]])","v":0},"N",{"$error":"#N/A"},{"$f":"IF(O414>39,Table1[[#This Row],[Calc 1]],IF(O414>1,\"Not counted as an Employee\",\"#NA\"))","v":"#NA"},{"$f":"MAX(Table1[[#This Row],[PO Employee]],Table1[[#This Row],[Other HZ Employee]],Table1[[#This Row],[Non HZ Employee]],Table1[[#This Row],[Job Site Employee]],Table1[[#This Row],[Other Employee]])","v":0},{"$f":"IF(Table1[[#This Row],[Total Hours per Month]]=Table1[[#This Row],[Column12]],\"Match\",\"Error\")","v":"Match"},{"$f":"IF(Table1[[#This Row],[Calc 2]]=\"#NA\",\"#NA\",IF(Table1[[#This Row],[Non HZ Employee]]=Table1[[#This Row],[Max calc]],\"Non HZ Employee\", Table1[[#This Row],[Calc 2]]))","v":"#NA"}]
[398," ",398,{"$nulls":5},{"$f":"SUM(Table1[[#This Row],[Column4]]+Table1[[#This Row],[Column3]]+Table1[[#This Row],[Column2]]+Table1[[#This Row],[Column1]])","v":0},{"$nulls":5},{"$f":"SUM(Table1[[#This Row],[PO Employee]:[Other Employee]])","v":0},"N",{"$error":"#N/A"},{"$f":"IF(O415>39,Table1[[#This Row],[Calc 1]],IF(O415>1,\"Not counted as an Employee\",\"#NA\"))","v":"#NA"},{"$f":"MAX(Table1[[#This Row],[PO Employee]],Table1[[#This Row],[Other HZ Employee]],Table1[[#This Row],[Non HZ Employee]],Table1[[#This Row],[Job Site Employee]],Table1[[#This Row],[Other Employee]])","v":0},{"$f":"IF(Table1[[#This Row],[Total Hours per Month]]=Table1[[#This Row],[Column12]],\"Match\",\"Error\")","v":"Match"},{"$f":"IF(Table1[[#This Row],[Calc 2]]=\"#NA\",\"#NA\",IF(Table1[[#This Row],[Non HZ Employee]]=Table1[[#This Row],[Max calc]],\"Non HZ Employee\", Table1[[#This Row],[Calc 2]]))","v":"#NA"}]
[399," ",399,{"$nulls":5},{"$f":"SUM(Table1[[#This Row],[Column4]]+Table1[[#This Row],[Column3]]+Table1[[#This Row],[Column2]]+Table1[[#This Row],[Column1]])","v":0},{"$nulls":5},{"$f":"SUM(Table1[[#This Row],[PO Employee]:[Other Employee]])","v":0},"N",{"$error":"#N/A"},{"$f":"IF(O416>39,Table1[[#This Row],[Calc 1]],IF(O416>1,\"Not counted as an Employee\",\"#NA\"))","v":"#NA"},{"$f":"MAX(Table1[[#This Row],[PO Employee]],Table1[[#This Row],[Other HZ Employee]],Table1[[#This Row],[Non HZ Employee]],Table1[[#This Row],[Job Site Employee]],Table1[[#This Row],[Other Employee]])","v":0},{"$f":"IF(Table1[[#This Row],[Total Hours per Month]]=Table1[[#This Row],[Column12]],\"Match\",\"Error\")","v":"Match"},{"$f":"IF(Table1[[#This Row],[Calc 2]]=\"#NA\",\"#NA\",IF(Table1[[#This Row],[Non HZ Employee]]=Table1[[#This Row],[Max calc]],\"Non HZ Employee\", Table1[[#This Row],[Calc 2]]))","v":"#NA"}]
[400," ",400,{"$nulls":5},{"$f":"SUM(Table1[[#This Row],[Column4]]+Table1[[#This Row],[Column3]]+Table1[[#This Row],[Column2]]+Table1[[#This Row],[Column1]])","v":0},{"$nulls":5},{"$f":"SUM(Table1[[#This Row],[PO Employee]:[Other Employee]])","v":0},"N",{"$error":"#N/A"},{"$f":"IF(O417>39,Table1[[#This Row],[Calc 1]],IF(O417>1,\"Not counted as an Employee\",\"#NA\"))","v":"#NA"},{"$f":"MAX(Table1[[#This Row],[PO Employee]],Table1[[#This Row],[Other HZ Employee]],Table1[[#This Row],[Non HZ Employee]],Table1[[#This Row],[Job Site Employee]],Table1[[#This Row],[Other Employee]])","v":0},{"$f":"IF(Table1[[#This Row],[Total Hours per Month]]=Table1[[#This Row],[Column12]],\"Match\",\"Error\")","v":"Match"},{"$f":"IF(Table1[[#This Row],[Calc 2]]=\"#NA\",\"#NA\",IF(Table1[[#This Row],[Non HZ Employee]]=Table1[[#This Row],[Max calc]],\"Non HZ Employee\", Table1[[#This Row],[Calc 2]]))","v":"#NA"}]
[401," ",401,{"$nulls":5},{"$f":"SUM(Table1[[#This Row],[Column4]]+Table1[[#This Row],[Column3]]+Table1[[#This Row],[Column2]]+Table1[[#This Row],[Column1]])","v":0},{"$nulls":5},{"$f":"SUM(Table1[[#This Row],[PO Employee]:[Other Employee]])","v":0},"N",{"$error":"#N/A"},{"$f":"IF(O418>39,Table1[[#This Row],[Calc 1]],IF(O418>1,\"Not counted as an Employee\",\"#NA\"))","v":"#NA"},{"$f":"MAX(Table1[[#This Row],[PO Employee]],Table1[[#This Row],[Other HZ Employee]],Table1[[#This Row],[Non HZ Employee]],Table1[[#This Row],[Job Site Employee]],Table1[[#This Row],[Other Employee]])","v":0},{"$f":"IF(Table1[[#This Row],[Total Hours per Month]]=Table1[[#This Row],[Column12]],\"Match\",\"Error\")","v":"Match"},{"$f":"IF(Table1[[#This Row],[Calc 2]]=\"#NA\",\"#NA\",IF(Table1[[#This Row],[Non HZ Employee]]=Table1[[#This Row],[Max calc]],\"Non HZ Employee\", Table1[[#This Row],[Calc 2]]))","v":"#NA"}]
[402," ",402,{"$nulls":5},{"$f":"SUM(Table1[[#This Row],[Column4]]+Table1[[#This Row],[Column3]]+Table1[[#This Row],[Column2]]+Table1[[#This Row],[Column1]])","v":0},{"$nulls":5},{"$f":"SUM(Table1[[#This Row],[PO Employee]:[Other Employee]])","v":0},"N",{"$error":"#N/A"},{"$f":"IF(O419>39,Table1[[#This Row],[Calc 1]],IF(O419>1,\"Not counted as an Employee\",\"#NA\"))","v":"#NA"},{"$f":"MAX(Table1[[#This Row],[PO Employee]],Table1[[#This Row],[Other HZ Employee]],Table1[[#This Row],[Non HZ Employee]],Table1[[#This Row],[Job Site Employee]],Table1[[#This Row],[Other Employee]])","v":0},{"$f":"IF(Table1[[#This Row],[Total Hours per Month]]=Table1[[#This Row],[Column12]],\"Match\",\"Error\")","v":"Match"},{"$f":"IF(Table1[[#This Row],[Calc 2]]=\"#NA\",\"#NA\",IF(Table1[[#This Row],[Non HZ Employee]]=Table1[[#This Row],[Max calc]],\"Non HZ Employee\", Table1[[#This Row],[Calc 2]]))","v":"#NA"}]
[403," ",403,{"$nulls":5},{"$f":"SUM(Table1[[#This Row],[Column4]]+Table1[[#This Row],[Column3]]+Table1[[#This Row],[Column2]]+Table1[[#This Row],[Column1]])","v":0},{"$nulls":5},{"$f":"SUM(Table1[[#This Row],[PO Employee]:[Other Employee]])","v":0},"N",{"$error":"#N/A"},{"$f":"IF(O420>39,Table1[[#This Row],[Calc 1]],IF(O420>1,\"Not counted as an Employee\",\"#NA\"))","v":"#NA"},{"$f":"MAX(Table1[[#This Row],[PO Employee]],Table1[[#This Row],[Other HZ Employee]],Table1[[#This Row],[Non HZ Employee]],Table1[[#This Row],[Job Site Employee]],Table1[[#This Row],[Other Employee]])","v":0},{"$f":"IF(Table1[[#This Row],[Total Hours per Month]]=Table1[[#This Row],[Column12]],\"Match\",\"Error\")","v":"Match"},{"$f":"IF(Table1[[#This Row],[Calc 2]]=\"#NA\",\"#NA\",IF(Table1[[#This Row],[Non HZ Employee]]=Table1[[#This Row],[Max calc]],\"Non HZ Employee\", Table1[[#This Row],[Calc 2]]))","v":"#NA"}]
[404," ",404,{"$nulls":5},{"$f":"SUM(Table1[[#This Row],[Column4]]+Table1[[#This Row],[Column3]]+Table1[[#This Row],[Column2]]+Table1[[#This Row],[Column1]])","v":0},{"$nulls":5},{"$f":"SUM(Table1[[#This Row],[PO Employee]:[Other Employee]])","v":0},"N",{"$error":"#N/A"},{"$f":"IF(O421>39,Table1[[#This Row],[Calc 1]],IF(O421>1,\"Not counted as an Employee\",\"#NA\"))","v":"#NA"},{"$f":"MAX(Table1[[#This Row],[PO Employee]],Table1[[#This Row],[Other HZ Employee]],Table1[[#This Row],[Non HZ Employee]],Table1[[#This Row],[Job Site Employee]],Table1[[#This Row],[Other Employee]])","v":0},{"$f":"IF(Table1[[#This Row],[Total Hours per Month]]=Table1[[#This Row],[Column12]],\"Match\",\"Error\")","v":"Match"},{"$f":"IF(Table1[[#This Row],[Calc 2]]=\"#NA\",\"#NA\",IF(Table1[[#This Row],[Non HZ Employee]]=Table1[[#This Row],[Max calc]],\"Non HZ Employee\", Table1[[#This Row],[Calc 2]]))","v":"#NA"}]
[405," ",405,{"$nulls":5},{"$f":"SUM(Table1[[#This Row],[Column4]]+Table1[[#This Row],[Column3]]+Table1[[#This Row],[Column2]]+Table1[[#This Row],[Column1]])","v":0},{"$nulls":5},{"$f":"SUM(Table1[[#This Row],[PO Employee]:[Other Employee]])","v":0},"N",{"$error":"#N/A"},{"$f":"IF(O422>39,Table1[[#This Row],[Calc 1]],IF(O422>1,\"Not counted as an Employee\",\"#NA\"))","v":"#NA"},{"$f":"MAX(Table1[[#This Row],[PO Employee]],Table1[[#This Row],[Other HZ Employee]],Table1[[#This Row],[Non HZ Employee]],Table1[[#This Row],[Job Site Employee]],Table1[[#This Row],[Other Employee]])","v":0},{"$f":"IF(Table1[[#This Row],[Total Hours per Month]]=Table1[[#This Row],[Column12]],\"Match\",\"Error\")","v":"Match"},{"$f":"IF(Table1[[#This Row],[Calc 2]]=\"#NA\",\"#NA\",IF(Table1[[#This Row],[Non HZ Employee]]=Table1[[#This Row],[Max calc]],\"Non HZ Employee\", Table1[[#This Row],[Calc 2]]))","v":"#NA"}]
[406," ",406,{"$nulls":5},{"$f":"SUM(Table1[[#This Row],[Column4]]+Table1[[#This Row],[Column3]]+Table1[[#This Row],[Column2]]+Table1[[#This Row],[Column1]])","v":0},{"$nulls":5},{"$f":"SUM(Table1[[#This Row],[PO Employee]:[Other Employee]])","v":0},"N",{"$error":"#N/A"},{"$f":"IF(O423>39,Table1[[#This Row],[Calc 1]],IF(O423>1,\"Not counted as an Employee\",\"#NA\"))","v":"#NA"},{"$f":"MAX(Table1[[#This Row],[PO Employee]],Table1[[#This Row],[Other HZ Employee]],Table1[[#This Row],[Non HZ Employee]],Table1[[#This Row],[Job Site Employee]],Table1[[#This Row],[Other Employee]])","v":0},{"$f":"IF(Table1[[#This Row],[Total Hours per Month]]=Table1[[#This Row],[Column12]],\"Match\",\"Error\")","v":"Match"},{"$f":"IF(Table1[[#This Row],[Calc 2]]=\"#NA\",\"#NA\",IF(Table1[[#This Row],[Non HZ Employee]]=Table1[[#This Row],[Max calc]],\"Non HZ Employee\", Table1[[#This Row],[Calc 2]]))","v":"#NA"}]
[407," ",407,{"$nulls":5},{"$f":"SUM(Table1[[#This Row],[Column4]]+Table1[[#This Row],[Column3]]+Table1[[#This Row],[Column2]]+Table1[[#This Row],[Column1]])","v":0},{"$nulls":5},{"$f":"SUM(Table1[[#This Row],[PO Employee]:[Other Employee]])","v":0},"N",{"$error":"#N/A"},{"$f":"IF(O424>39,Table1[[#This Row],[Calc 1]],IF(O424>1,\"Not counted as an Employee\",\"#NA\"))","v":"#NA"},{"$f":"MAX(Table1[[#This Row],[PO Employee]],Table1[[#This Row],[Other HZ Employee]],Table1[[#This Row],[Non HZ Employee]],Table1[[#This Row],[Job Site Employee]],Table1[[#This Row],[Other Employee]])","v":0},{"$f":"IF(Table1[[#This Row],[Total Hours per Month]]=Table1[[#This Row],[Column12]],\"Match\",\"Error\")","v":"Match"},{"$f":"IF(Table1[[#This Row],[Calc 2]]=\"#NA\",\"#NA\",IF(Table1[[#This Row],[Non HZ Employee]]=Table1[[#This Row],[Max calc]],\"Non HZ Employee\", Table1[[#This Row],[Calc 2]]))","v":"#NA"}]
[408," ",408,{"$nulls":5},{"$f":"SUM(Table1[[#This Row],[Column4]]+Table1[[#This Row],[Column3]]+Table1[[#This Row],[Column2]]+Table1[[#This Row],[Column1]])","v":0},{"$nulls":5},{"$f":"SUM(Table1[[#This Row],[PO Employee]:[Other Employee]])","v":0},"N",{"$error":"#N/A"},{"$f":"IF(O425>39,Table1[[#This Row],[Calc 1]],IF(O425>1,\"Not counted as an Employee\",\"#NA\"))","v":"#NA"},{"$f":"MAX(Table1[[#This Row],[PO Employee]],Table1[[#This Row],[Other HZ Employee]],Table1[[#This Row],[Non HZ Employee]],Table1[[#This Row],[Job Site Employee]],Table1[[#This Row],[Other Employee]])","v":0},{"$f":"IF(Table1[[#This Row],[Total Hours per Month]]=Table1[[#This Row],[Column12]],\"Match\",\"Error\")","v":"Match"},{"$f":"IF(Table1[[#This Row],[Calc 2]]=\"#NA\",\"#NA\",IF(Table1[[#This Row],[Non HZ Employee]]=Table1[[#This Row],[Max calc]],\"Non HZ Employee\", Table1[[#This Row],[Calc 2]]))","v":"#NA"}]
[409," ",409,{"$nulls":5},{"$f":"SUM(Table1[[#This Row],[Column4]]+Table1[[#This Row],[Column3]]+Table1[[#This Row],[Column2]]+Table1[[#This Row],[Column1]])","v":0},{"$nulls":5},{"$f":"SUM(Table1[[#This Row],[PO Employee]:[Other Employee]])","v":0},"N",{"$error":"#N/A"},{"$f":"IF(O426>39,Table1[[#This Row],[Calc 1]],IF(O426>1,\"Not counted as an Employee\",\"#NA\"))","v":"#NA"},{"$f":"MAX(Table1[[#This Row],[PO Employee]],Table1[[#This Row],[Other HZ Employee]],Table1[[#This Row],[Non HZ Employee]],Table1[[#This Row],[Job Site Employee]],Table1[[#This Row],[Other Employee]])","v":0},{"$f":"IF(Table1[[#This Row],[Total Hours per Month]]=Table1[[#This Row],[Column12]],\"Match\",\"Error\")","v":"Match"},{"$f":"IF(Table1[[#This Row],[Calc 2]]=\"#NA\",\"#NA\",IF(Table1[[#This Row],[Non HZ Employee]]=Table1[[#This Row],[Max calc]],\"Non HZ Employee\", Table1[[#This Row],[Calc 2]]))","v":"#NA"}]
[410," ",410,{"$nulls":5},{"$f":"SUM(Table1[[#This Row],[Column4]]+Table1[[#This Row],[Column3]]+Table1[[#This Row],[Column2]]+Table1[[#This Row],[Column1]])","v":0},{"$nulls":5},{"$f":"SUM(Table1[[#This Row],[PO Employee]:[Other Employee]])","v":0},"N",{"$error":"#N/A"},{"$f":"IF(O427>39,Table1[[#This Row],[Calc 1]],IF(O427>1,\"Not counted as an Employee\",\"#NA\"))","v":"#NA"},{"$f":"MAX(Table1[[#This Row],[PO Employee]],Table1[[#This Row],[Other HZ Employee]],Table1[[#This Row],[Non HZ Employee]],Table1[[#This Row],[Job Site Employee]],Table1[[#This Row],[Other Employee]])","v":0},{"$f":"IF(Table1[[#This Row],[Total Hours per Month]]=Table1[[#This Row],[Column12]],\"Match\",\"Error\")","v":"Match"},{"$f":"IF(Table1[[#This Row],[Calc 2]]=\"#NA\",\"#NA\",IF(Table1[[#This Row],[Non HZ Employee]]=Table1[[#This Row],[Max calc]],\"Non HZ Employee\", Table1[[#This Row],[Calc 2]]))","v":"#NA"}]
[411," ",411,{"$nulls":5},{"$f":"SUM(Table1[[#This Row],[Column4]]+Table1[[#This Row],[Column3]]+Table1[[#This Row],[Column2]]+Table1[[#This Row],[Column1]])","v":0},{"$nulls":5},{"$f":"SUM(Table1[[#This Row],[PO Employee]:[Other Employee]])","v":0},"N",{"$error":"#N/A"},{"$f":"IF(O428>39,Table1[[#This Row],[Calc 1]],IF(O428>1,\"Not counted as an Employee\",\"#NA\"))","v":"#NA"},{"$f":"MAX(Table1[[#This Row],[PO Employee]],Table1[[#This Row],[Other HZ Employee]],Table1[[#This Row],[Non HZ Employee]],Table1[[#This Row],[Job Site Employee]],Table1[[#This Row],[Other Employee]])","v":0},{"$f":"IF(Table1[[#This Row],[Total Hours per Month]]=Table1[[#This Row],[Column12]],\"Match\",\"Error\")","v":"Match"},{"$f":"IF(Table1[[#This Row],[Calc 2]]=\"#NA\",\"#NA\",IF(Table1[[#This Row],[Non HZ Employee]]=Table1[[#This Row],[Max calc]],\"Non HZ Employee\", Table1[[#This Row],[Calc 2]]))","v":"#NA"}]
[412," ",412,{"$nulls":5},{"$f":"SUM(Table1[[#This Row],[Column4]]+Table1[[#This Row],[Column3]]+Table1[[#This Row],[Column2]]+Table1[[#This Row],[Column1]])","v":0},{"$nulls":5},{"$f":"SUM(Table1[[#This Row],[PO Employee]:[Other Employee]])","v":0},"N",{"$error":"#N/A"},{"$f":"IF(O429>39,Table1[[#This Row],[Calc 1]],IF(O429>1,\"Not counted as an Employee\",\"#NA\"))","v":"#NA"},{"$f":"MAX(Table1[[#This Row],[PO Employee]],Table1[[#This Row],[Other HZ Employee]],Table1[[#This Row],[Non HZ Employee]],Table1[[#This Row],[Job Site Employee]],Table1[[#This Row],[Other Employee]])","v":0},{"$f":"IF(Table1[[#This Row],[Total Hours per Month]]=Table1[[#This Row],[Column12]],\"Match\",\"Error\")","v":"Match"},{"$f":"IF(Table1[[#This Row],[Calc 2]]=\"#NA\",\"#NA\",IF(Table1[[#This Row],[Non HZ Employee]]=Table1[[#This Row],[Max calc]],\"Non HZ Employee\", Table1[[#This Row],[Calc 2]]))","v":"#NA"}]
[413," ",413,{"$nulls":5},{"$f":"SUM(Table1[[#This Row],[Column4]]+Table1[[#This Row],[Column3]]+Table1[[#This Row],[Column2]]+Table1[[#This Row],[Column1]])","v":0},{"$nulls":5},{"$f":"SUM(Table1[[#This Row],[PO Employee]:[Other Employee]])","v":0},"N",{"$error":"#N/A"},{"$f":"IF(O430>39,Table1[[#This Row],[Calc 1]],IF(O430>1,\"Not counted as an Employee\",\"#NA\"))","v":"#NA"},{"$f":"MAX(Table1[[#This Row],[PO Employee]],Table1[[#This Row],[Other HZ Employee]],Table1[[#This Row],[Non HZ Employee]],Table1[[#This Row],[Job Site Employee]],Table1[[#This Row],[Other Employee]])","v":0},{"$f":"IF(Table1[[#This Row],[Total Hours per Month]]=Table1[[#This Row],[Column12]],\"Match\",\"Error\")","v":"Match"},{"$f":"IF(Table1[[#This Row],[Calc 2]]=\"#NA\",\"#NA\",IF(Table1[[#This Row],[Non HZ Employee]]=Table1[[#This Row],[Max calc]],\"Non HZ Employee\", Table1[[#This Row],[Calc 2]]))","v":"#NA"}]
[414," ",414,{"$nulls":5},{"$f":"SUM(Table1[[#This Row],[Column4]]+Table1[[#This Row],[Column3]]+Table1[[#This Row],[Column2]]+Table1[[#This Row],[Column1]])","v":0},{"$nulls":5},{"$f":"SUM(Table1[[#This Row],[PO Employee]:[Other Employee]])","v":0},"N",{"$error":"#N/A"},{"$f":"IF(O431>39,Table1[[#This Row],[Calc 1]],IF(O431>1,\"Not counted as an Employee\",\"#NA\"))","v":"#NA"},{"$f":"MAX(Table1[[#This Row],[PO Employee]],Table1[[#This Row],[Other HZ Employee]],Table1[[#This Row],[Non HZ Employee]],Table1[[#This Row],[Job Site Employee]],Table1[[#This Row],[Other Employee]])","v":0},{"$f":"IF(Table1[[#This Row],[Total Hours per Month]]=Table1[[#This Row],[Column12]],\"Match\",\"Error\")","v":"Match"},{"$f":"IF(Table1[[#This Row],[Calc 2]]=\"#NA\",\"#NA\",IF(Table1[[#This Row],[Non HZ Employee]]=Table1[[#This Row],[Max calc]],\"Non HZ Employee\", Table1[[#This Row],[Calc 2]]))","v":"#NA"}]
[415," ",415,{"$nulls":5},{"$f":"SUM(Table1[[#This Row],[Column4]]+Table1[[#This Row],[Column3]]+Table1[[#This Row],[Column2]]+Table1[[#This Row],[Column1]])","v":0},{"$nulls":5},{"$f":"SUM(Table1[[#This Row],[PO Employee]:[Other Employee]])","v":0},"N",{"$error":"#N/A"},{"$f":"IF(O432>39,Table1[[#This Row],[Calc 1]],IF(O432>1,\"Not counted as an Employee\",\"#NA\"))","v":"#NA"},{"$f":"MAX(Table1[[#This Row],[PO Employee]],Table1[[#This Row],[Other HZ Employee]],Table1[[#This Row],[Non HZ Employee]],Table1[[#This Row],[Job Site Employee]],Table1[[#This Row],[Other Employee]])","v":0},{"$f":"IF(Table1[[#This Row],[Total Hours per Month]]=Table1[[#This Row],[Column12]],\"Match\",\"Error\")","v":"Match"},{"$f":"IF(Table1[[#This Row],[Calc 2]]=\"#NA\",\"#NA\",IF(Table1[[#This Row],[Non HZ Employee]]=Table1[[#This Row],[Max calc]],\"Non HZ Employee\", Table1[[#This Row],[Calc 2]]))","v":"#NA"}]
[416," ",416,{"$nulls":5},{"$f":"SUM(Table1[[#This Row],[Column4]]+Table1[[#This Row],[Column3]]+Table1[[#This Row],[Column2]]+Table1[[#This Row],[Column1]])","v":0},{"$nulls":5},{"$f":"SUM(Table1[[#This Row],[PO Employee]:[Other Employee]])","v":0},"N",{"$error":"#N/A"},{"$f":"IF(O433>39,Table1[[#This Row],[Calc 1]],IF(O433>1,\"Not counted as an Employee\",\"#NA\"))","v":"#NA"},{"$f":"MAX(Table1[[#This Row],[PO Employee]],Table1[[#This Row],[Other HZ Employee]],Table1[[#This Row],[Non HZ Employee]],Table1[[#This Row],[Job Site Employee]],Table1[[#This Row],[Other Employee]])","v":0},{"$f":"IF(Table1[[#This Row],[Total Hours per Month]]=Table1[[#This Row],[Column12]],\"Match\",\"Error\")","v":"Match"},{"$f":"IF(Table1[[#This Row],[Calc 2]]=\"#NA\",\"#NA\",IF(Table1[[#This Row],[Non HZ Employee]]=Table1[[#This Row],[Max calc]],\"Non HZ Employee\", Table1[[#This Row],[Calc 2]]))","v":"#NA"}]
[417," ",417,{"$nulls":5},{"$f":"SUM(Table1[[#This Row],[Column4]]+Table1[[#This Row],[Column3]]+Table1[[#This Row],[Column2]]+Table1[[#This Row],[Column1]])","v":0},{"$nulls":5},{"$f":"SUM(Table1[[#This Row],[PO Employee]:[Other Employee]])","v":0},"N",{"$error":"#N/A"},{"$f":"IF(O434>39,Table1[[#This Row],[Calc 1]],IF(O434>1,\"Not counted as an Employee\",\"#NA\"))","v":"#NA"},{"$f":"MAX(Table1[[#This Row],[PO Employee]],Table1[[#This Row],[Other HZ Employee]],Table1[[#This Row],[Non HZ Employee]],Table1[[#This Row],[Job Site Employee]],Table1[[#This Row],[Other Employee]])","v":0},{"$f":"IF(Table1[[#This Row],[Total Hours per Month]]=Table1[[#This Row],[Column12]],\"Match\",\"Error\")","v":"Match"},{"$f":"IF(Table1[[#This Row],[Calc 2]]=\"#NA\",\"#NA\",IF(Table1[[#This Row],[Non HZ Employee]]=Table1[[#This Row],[Max calc]],\"Non HZ Employee\", Table1[[#This Row],[Calc 2]]))","v":"#NA"}]
[418," ",418,{"$nulls":5},{"$f":"SUM(Table1[[#This Row],[Column4]]+Table1[[#This Row],[Column3]]+Table1[[#This Row],[Column2]]+Table1[[#This Row],[Column1]])","v":0},{"$nulls":5},{"$f":"SUM(Table1[[#This Row],[PO Employee]:[Other Employee]])","v":0},"N",{"$error":"#N/A"},{"$f":"IF(O435>39,Table1[[#This Row],[Calc 1]],IF(O435>1,\"Not counted as an Employee\",\"#NA\"))","v":"#NA"},{"$f":"MAX(Table1[[#This Row],[PO Employee]],Table1[[#This Row],[Other HZ Employee]],Table1[[#This Row],[Non HZ Employee]],Table1[[#This Row],[Job Site Employee]],Table1[[#This Row],[Other Employee]])","v":0},{"$f":"IF(Table1[[#This Row],[Total Hours per Month]]=Table1[[#This Row],[Column12]],\"Match\",\"Error\")","v":"Match"},{"$f":"IF(Table1[[#This Row],[Calc 2]]=\"#NA\",\"#NA\",IF(Table1[[#This Row],[Non HZ Employee]]=Table1[[#This Row],[Max calc]],\"Non HZ Employee\", Table1[[#This Row],[Calc 2]]))","v":"#NA"}]
[419," ",419,{"$nulls":5},{"$f":"SUM(Table1[[#This Row],[Column4]]+Table1[[#This Row],[Column3]]+Table1[[#This Row],[Column2]]+Table1[[#This Row],[Column1]])","v":0},{"$nulls":5},{"$f":"SUM(Table1[[#This Row],[PO Employee]:[Other Employee]])","v":0},"N",{"$error":"#N/A"},{"$f":"IF(O436>39,Table1[[#This Row],[Calc 1]],IF(O436>1,\"Not counted as an Employee\",\"#NA\"))","v":"#NA"},{"$f":"MAX(Table1[[#This Row],[PO Employee]],Table1[[#This Row],[Other HZ Employee]],Table1[[#This Row],[Non HZ Employee]],Table1[[#This Row],[Job Site Employee]],Table1[[#This Row],[Other Employee]])","v":0},{"$f":"IF(Table1[[#This Row],[Total Hours per Month]]=Table1[[#This Row],[Column12]],\"Match\",\"Error\")","v":"Match"},{"$f":"IF(Table1[[#This Row],[Calc 2]]=\"#NA\",\"#NA\",IF(Table1[[#This Row],[Non HZ Employee]]=Table1[[#This Row],[Max calc]],\"Non HZ Employee\", Table1[[#This Row],[Calc 2]]))","v":"#NA"}]
[420," ",420,{"$nulls":5},{"$f":"SUM(Table1[[#This Row],[Column4]]+Table1[[#This Row],[Column3]]+Table1[[#This Row],[Column2]]+Table1[[#This Row],[Column1]])","v":0},{"$nulls":5},{"$f":"SUM(Table1[[#This Row],[PO Employee]:[Other Employee]])","v":0},"N",{"$error":"#N/A"},{"$f":"IF(O437>39,Table1[[#This Row],[Calc 1]],IF(O437>1,\"Not counted as an Employee\",\"#NA\"))","v":"#NA"},{"$f":"MAX(Table1[[#This Row],[PO Employee]],Table1[[#This Row],[Other HZ Employee]],Table1[[#This Row],[Non HZ Employee]],Table1[[#This Row],[Job Site Employee]],Table1[[#This Row],[Other Employee]])","v":0},{"$f":"IF(Table1[[#This Row],[Total Hours per Month]]=Table1[[#This Row],[Column12]],\"Match\",\"Error\")","v":"Match"},{"$f":"IF(Table1[[#This Row],[Calc 2]]=\"#NA\",\"#NA\",IF(Table1[[#This Row],[Non HZ Employee]]=Table1[[#This Row],[Max calc]],\"Non HZ Employee\", Table1[[#This Row],[Calc 2]]))","v":"#NA"}]
[421," ",421,{"$nulls":5},{"$f":"SUM(Table1[[#This Row],[Column4]]+Table1[[#This Row],[Column3]]+Table1[[#This Row],[Column2]]+Table1[[#This Row],[Column1]])","v":0},{"$nulls":5},{"$f":"SUM(Table1[[#This Row],[PO Employee]:[Other Employee]])","v":0},"N",{"$error":"#N/A"},{"$f":"IF(O438>39,Table1[[#This Row],[Calc 1]],IF(O438>1,\"Not counted as an Employee\",\"#NA\"))","v":"#NA"},{"$f":"MAX(Table1[[#This Row],[PO Employee]],Table1[[#This Row],[Other HZ Employee]],Table1[[#This Row],[Non HZ Employee]],Table1[[#This Row],[Job Site Employee]],Table1[[#This Row],[Other Employee]])","v":0},{"$f":"IF(Table1[[#This Row],[Total Hours per Month]]=Table1[[#This Row],[Column12]],\"Match\",\"Error\")","v":"Match"},{"$f":"IF(Table1[[#This Row],[Calc 2]]=\"#NA\",\"#NA\",IF(Table1[[#This Row],[Non HZ Employee]]=Table1[[#This Row],[Max calc]],\"Non HZ Employee\", Table1[[#This Row],[Calc 2]]))","v":"#NA"}]
[422," ",422,{"$nulls":5},{"$f":"SUM(Table1[[#This Row],[Column4]]+Table1[[#This Row],[Column3]]+Table1[[#This Row],[Column2]]+Table1[[#This Row],[Column1]])","v":0},{"$nulls":5},{"$f":"SUM(Table1[[#This Row],[PO Employee]:[Other Employee]])","v":0},"N",{"$error":"#N/A"},{"$f":"IF(O439>39,Table1[[#This Row],[Calc 1]],IF(O439>1,\"Not counted as an Employee\",\"#NA\"))","v":"#NA"},{"$f":"MAX(Table1[[#This Row],[PO Employee]],Table1[[#This Row],[Other HZ Employee]],Table1[[#This Row],[Non HZ Employee]],Table1[[#This Row],[Job Site Employee]],Table1[[#This Row],[Other Employee]])","v":0},{"$f":"IF(Table1[[#This Row],[Total Hours per Month]]=Table1[[#This Row],[Column12]],\"Match\",\"Error\")","v":"Match"},{"$f":"IF(Table1[[#This Row],[Calc 2]]=\"#NA\",\"#NA\",IF(Table1[[#This Row],[Non HZ Employee]]=Table1[[#This Row],[Max calc]],\"Non HZ Employee\", Table1[[#This Row],[Calc 2]]))","v":"#NA"}]
[423," ",423,{"$nulls":5},{"$f":"SUM(Table1[[#This Row],[Column4]]+Table1[[#This Row],[Column3]]+Table1[[#This Row],[Column2]]+Table1[[#This Row],[Column1]])","v":0},{"$nulls":5},{"$f":"SUM(Table1[[#This Row],[PO Employee]:[Other Employee]])","v":0},"N",{"$error":"#N/A"},{"$f":"IF(O440>39,Table1[[#This Row],[Calc 1]],IF(O440>1,\"Not counted as an Employee\",\"#NA\"))","v":"#NA"},{"$f":"MAX(Table1[[#This Row],[PO Employee]],Table1[[#This Row],[Other HZ Employee]],Table1[[#This Row],[Non HZ Employee]],Table1[[#This Row],[Job Site Employee]],Table1[[#This Row],[Other Employee]])","v":0},{"$f":"IF(Table1[[#This Row],[Total Hours per Month]]=Table1[[#This Row],[Column12]],\"Match\",\"Error\")","v":"Match"},{"$f":"IF(Table1[[#This Row],[Calc 2]]=\"#NA\",\"#NA\",IF(Table1[[#This Row],[Non HZ Employee]]=Table1[[#This Row],[Max calc]],\"Non HZ Employee\", Table1[[#This Row],[Calc 2]]))","v":"#NA"}]
[424," ",424,{"$nulls":5},{"$f":"SUM(Table1[[#This Row],[Column4]]+Table1[[#This Row],[Column3]]+Table1[[#This Row],[Column2]]+Table1[[#This Row],[Column1]])","v":0},{"$nulls":5},{"$f":"SUM(Table1[[#This Row],[PO Employee]:[Other Employee]])","v":0},"N",{"$error":"#N/A"},{"$f":"IF(O441>39,Table1[[#This Row],[Calc 1]],IF(O441>1,\"Not counted as an Employee\",\"#NA\"))","v":"#NA"},{"$f":"MAX(Table1[[#This Row],[PO Employee]],Table1[[#This Row],[Other HZ Employee]],Table1[[#This Row],[Non HZ Employee]],Table1[[#This Row],[Job Site Employee]],Table1[[#This Row],[Other Employee]])","v":0},{"$f":"IF(Table1[[#This Row],[Total Hours per Month]]=Table1[[#This Row],[Column12]],\"Match\",\"Error\")","v":"Match"},{"$f":"IF(Table1[[#This Row],[Calc 2]]=\"#NA\",\"#NA\",IF(Table1[[#This Row],[Non HZ Employee]]=Table1[[#This Row],[Max calc]],\"Non HZ Employee\", Table1[[#This Row],[Calc 2]]))","v":"#NA"}]
[425," ",425,{"$nulls":5},{"$f":"SUM(Table1[[#This Row],[Column4]]+Table1[[#This Row],[Column3]]+Table1[[#This Row],[Column2]]+Table1[[#This Row],[Column1]])","v":0},{"$nulls":5},{"$f":"SUM(Table1[[#This Row],[PO Employee]:[Other Employee]])","v":0},"N",{"$error":"#N/A"},{"$f":"IF(O442>39,Table1[[#This Row],[Calc 1]],IF(O442>1,\"Not counted as an Employee\",\"#NA\"))","v":"#NA"},{"$f":"MAX(Table1[[#This Row],[PO Employee]],Table1[[#This Row],[Other HZ Employee]],Table1[[#This Row],[Non HZ Employee]],Table1[[#This Row],[Job Site Employee]],Table1[[#This Row],[Other Employee]])","v":0},{"$f":"IF(Table1[[#This Row],[Total Hours per Month]]=Table1[[#This Row],[Column12]],\"Match\",\"Error\")","v":"Match"},{"$f":"IF(Table1[[#This Row],[Calc 2]]=\"#NA\",\"#NA\",IF(Table1[[#This Row],[Non HZ Employee]]=Table1[[#This Row],[Max calc]],\"Non HZ Employee\", Table1[[#This Row],[Calc 2]]))","v":"#NA"}]
[426," ",426,{"$nulls":5},{"$f":"SUM(Table1[[#This Row],[Column4]]+Table1[[#This Row],[Column3]]+Table1[[#This Row],[Column2]]+Table1[[#This Row],[Column1]])","v":0},{"$nulls":5},{"$f":"SUM(Table1[[#This Row],[PO Employee]:[Other Employee]])","v":0},"N",{"$error":"#N/A"},{"$f":"IF(O443>39,Table1[[#This Row],[Calc 1]],IF(O443>1,\"Not counted as an Employee\",\"#NA\"))","v":"#NA"},{"$f":"MAX(Table1[[#This Row],[PO Employee]],Table1[[#This Row],[Other HZ Employee]],Table1[[#This Row],[Non HZ Employee]],Table1[[#This Row],[Job Site Employee]],Table1[[#This Row],[Other Employee]])","v":0},{"$f":"IF(Table1[[#This Row],[Total Hours per Month]]=Table1[[#This Row],[Column12]],\"Match\",\"Error\")","v":"Match"},{"$f":"IF(Table1[[#This Row],[Calc 2]]=\"#NA\",\"#NA\",IF(Table1[[#This Row],[Non HZ Employee]]=Table1[[#This Row],[Max calc]],\"Non HZ Employee\", Table1[[#This Row],[Calc 2]]))","v":"#NA"}]
[427," ",427,{"$nulls":5},{"$f":"SUM(Table1[[#This Row],[Column4]]+Table1[[#This Row],[Column3]]+Table1[[#This Row],[Column2]]+Table1[[#This Row],[Column1]])","v":0},{"$nulls":5},{"$f":"SUM(Table1[[#This Row],[PO Employee]:[Other Employee]])","v":0},"N",{"$error":"#N/A"},{"$f":"IF(O444>39,Table1[[#This Row],[Calc 1]],IF(O444>1,\"Not counted as an Employee\",\"#NA\"))","v":"#NA"},{"$f":"MAX(Table1[[#This Row],[PO Employee]],Table1[[#This Row],[Other HZ Employee]],Table1[[#This Row],[Non HZ Employee]],Table1[[#This Row],[Job Site Employee]],Table1[[#This Row],[Other Employee]])","v":0},{"$f":"IF(Table1[[#This Row],[Total Hours per Month]]=Table1[[#This Row],[Column12]],\"Match\",\"Error\")","v":"Match"},{"$f":"IF(Table1[[#This Row],[Calc 2]]=\"#NA\",\"#NA\",IF(Table1[[#This Row],[Non HZ Employee]]=Table1[[#This Row],[Max calc]],\"Non HZ Employee\", Table1[[#This Row],[Calc 2]]))","v":"#NA"}]
[428," ",428,{"$nulls":5},{"$f":"SUM(Table1[[#This Row],[Column4]]+Table1[[#This Row],[Column3]]+Table1[[#This Row],[Column2]]+Table1[[#This Row],[Column1]])","v":0},{"$nulls":5},{"$f":"SUM(Table1[[#This Row],[PO Employee]:[Other Employee]])","v":0},"N",{"$error":"#N/A"},{"$f":"IF(O445>39,Table1[[#This Row],[Calc 1]],IF(O445>1,\"Not counted as an Employee\",\"#NA\"))","v":"#NA"},{"$f":"MAX(Table1[[#This Row],[PO Employee]],Table1[[#This Row],[Other HZ Employee]],Table1[[#This Row],[Non HZ Employee]],Table1[[#This Row],[Job Site Employee]],Table1[[#This Row],[Other Employee]])","v":0},{"$f":"IF(Table1[[#This Row],[Total Hours per Month]]=Table1[[#This Row],[Column12]],\"Match\",\"Error\")","v":"Match"},{"$f":"IF(Table1[[#This Row],[Calc 2]]=\"#NA\",\"#NA\",IF(Table1[[#This Row],[Non HZ Employee]]=Table1[[#This Row],[Max calc]],\"Non HZ Employee\", Table1[[#This Row],[Calc 2]]))","v":"#NA"}]
[429," ",429,{"$nulls":5},{"$f":"SUM(Table1[[#This Row],[Column4]]+Table1[[#This Row],[Column3]]+Table1[[#This Row],[Column2]]+Table1[[#This Row],[Column1]])","v":0},{"$nulls":5},{"$f":"SUM(Table1[[#This Row],[PO Employee]:[Other Employee]])","v":0},"N",{"$error":"#N/A"},{"$f":"IF(O446>39,Table1[[#This Row],[Calc 1]],IF(O446>1,\"Not counted as an Employee\",\"#NA\"))","v":"#NA"},{"$f":"MAX(Table1[[#This Row],[PO Employee]],Table1[[#This Row],[Other HZ Employee]],Table1[[#This Row],[Non HZ Employee]],Table1[[#This Row],[Job Site Employee]],Table1[[#This Row],[Other Employee]])","v":0},{"$f":"IF(Table1[[#This Row],[Total Hours per Month]]=Table1[[#This Row],[Column12]],\"Match\",\"Error\")","v":"Match"},{"$f":"IF(Table1[[#This Row],[Calc 2]]=\"#NA\",\"#NA\",IF(Table1[[#This Row],[Non HZ Employee]]=Table1[[#This Row],[Max calc]],\"Non HZ Employee\", Table1[[#This Row],[Calc 2]]))","v":"#NA"}]
[430," ",430,{"$nulls":5},{"$f":"SUM(Table1[[#This Row],[Column4]]+Table1[[#This Row],[Column3]]+Table1[[#This Row],[Column2]]+Table1[[#This Row],[Column1]])","v":0},{"$nulls":5},{"$f":"SUM(Table1[[#This Row],[PO Employee]:[Other Employee]])","v":0},"N",{"$error":"#N/A"},{"$f":"IF(O447>39,Table1[[#This Row],[Calc 1]],IF(O447>1,\"Not counted as an Employee\",\"#NA\"))","v":"#NA"},{"$f":"MAX(Table1[[#This Row],[PO Employee]],Table1[[#This Row],[Other HZ Employee]],Table1[[#This Row],[Non HZ Employee]],Table1[[#This Row],[Job Site Employee]],Table1[[#This Row],[Other Employee]])","v":0},{"$f":"IF(Table1[[#This Row],[Total Hours per Month]]=Table1[[#This Row],[Column12]],\"Match\",\"Error\")","v":"Match"},{"$f":"IF(Table1[[#This Row],[Calc 2]]=\"#NA\",\"#NA\",IF(Table1[[#This Row],[Non HZ Employee]]=Table1[[#This Row],[Max calc]],\"Non HZ Employee\", Table1[[#This Row],[Calc 2]]))","v":"#NA"}]
[431," ",431,{"$nulls":5},{"$f":"SUM(Table1[[#This Row],[Column4]]+Table1[[#This Row],[Column3]]+Table1[[#This Row],[Column2]]+Table1[[#This Row],[Column1]])","v":0},{"$nulls":5},{"$f":"SUM(Table1[[#This Row],[PO Employee]:[Other Employee]])","v":0},"N",{"$error":"#N/A"},{"$f":"IF(O448>39,Table1[[#This Row],[Calc 1]],IF(O448>1,\"Not counted as an Employee\",\"#NA\"))","v":"#NA"},{"$f":"MAX(Table1[[#This Row],[PO Employee]],Table1[[#This Row],[Other HZ Employee]],Table1[[#This Row],[Non HZ Employee]],Table1[[#This Row],[Job Site Employee]],Table1[[#This Row],[Other Employee]])","v":0},{"$f":"IF(Table1[[#This Row],[Total Hours per Month]]=Table1[[#This Row],[Column12]],\"Match\",\"Error\")","v":"Match"},{"$f":"IF(Table1[[#This Row],[Calc 2]]=\"#NA\",\"#NA\",IF(Table1[[#This Row],[Non HZ Employee]]=Table1[[#This Row],[Max calc]],\"Non HZ Employee\", Table1[[#This Row],[Calc 2]]))","v":"#NA"}]
[432," ",432,{"$nulls":5},{"$f":"SUM(Table1[[#This Row],[Column4]]+Table1[[#This Row],[Column3]]+Table1[[#This Row],[Column2]]+Table1[[#This Row],[Column1]])","v":0},{"$nulls":5},{"$f":"SUM(Table1[[#This Row],[PO Employee]:[Other Employee]])","v":0},"N",{"$error":"#N/A"},{"$f":"IF(O449>39,Table1[[#This Row],[Calc 1]],IF(O449>1,\"Not counted as an Employee\",\"#NA\"))","v":"#NA"},{"$f":"MAX(Table1[[#This Row],[PO Employee]],Table1[[#This Row],[Other HZ Employee]],Table1[[#This Row],[Non HZ Employee]],Table1[[#This Row],[Job Site Employee]],Table1[[#This Row],[Other Employee]])","v":0},{"$f":"IF(Table1[[#This Row],[Total Hours per Month]]=Table1[[#This Row],[Column12]],\"Match\",\"Error\")","v":"Match"},{"$f":"IF(Table1[[#This Row],[Calc 2]]=\"#NA\",\"#NA\",IF(Table1[[#This Row],[Non HZ Employee]]=Table1[[#This Row],[Max calc]],\"Non HZ Employee\", Table1[[#This Row],[Calc 2]]))","v":"#NA"}]
[433," ",433,{"$nulls":5},{"$f":"SUM(Table1[[#This Row],[Column4]]+Table1[[#This Row],[Column3]]+Table1[[#This Row],[Column2]]+Table1[[#This Row],[Column1]])","v":0},{"$nulls":5},{"$f":"SUM(Table1[[#This Row],[PO Employee]:[Other Employee]])","v":0},"N",{"$error":"#N/A"},{"$f":"IF(O450>39,Table1[[#This Row],[Calc 1]],IF(O450>1,\"Not counted as an Employee\",\"#NA\"))","v":"#NA"},{"$f":"MAX(Table1[[#This Row],[PO Employee]],Table1[[#This Row],[Other HZ Employee]],Table1[[#This Row],[Non HZ Employee]],Table1[[#This Row],[Job Site Employee]],Table1[[#This Row],[Other Employee]])","v":0},{"$f":"IF(Table1[[#This Row],[Total Hours per Month]]=Table1[[#This Row],[Column12]],\"Match\",\"Error\")","v":"Match"},{"$f":"IF(Table1[[#This Row],[Calc 2]]=\"#NA\",\"#NA\",IF(Table1[[#This Row],[Non HZ Employee]]=Table1[[#This Row],[Max calc]],\"Non HZ Employee\", Table1[[#This Row],[Calc 2]]))","v":"#NA"}]
[434," ",434,{"$nulls":5},{"$f":"SUM(Table1[[#This Row],[Column4]]+Table1[[#This Row],[Column3]]+Table1[[#This Row],[Column2]]+Table1[[#This Row],[Column1]])","v":0},{"$nulls":5},{"$f":"SUM(Table1[[#This Row],[PO Employee]:[Other Employee]])","v":0},"N",{"$error":"#N/A"},{"$f":"IF(O451>39,Table1[[#This Row],[Calc 1]],IF(O451>1,\"Not counted as an Employee\",\"#NA\"))","v":"#NA"},{"$f":"MAX(Table1[[#This Row],[PO Employee]],Table1[[#This Row],[Other HZ Employee]],Table1[[#This Row],[Non HZ Employee]],Table1[[#This Row],[Job Site Employee]],Table1[[#This Row],[Other Employee]])","v":0},{"$f":"IF(Table1[[#This Row],[Total Hours per Month]]=Table1[[#This Row],[Column12]],\"Match\",\"Error\")","v":"Match"},{"$f":"IF(Table1[[#This Row],[Calc 2]]=\"#NA\",\"#NA\",IF(Table1[[#This Row],[Non HZ Employee]]=Table1[[#This Row],[Max calc]],\"Non HZ Employee\", Table1[[#This Row],[Calc 2]]))","v":"#NA"}]
[435," ",435,{"$nulls":5},{"$f":"SUM(Table1[[#This Row],[Column4]]+Table1[[#This Row],[Column3]]+Table1[[#This Row],[Column2]]+Table1[[#This Row],[Column1]])","v":0},{"$nulls":5},{"$f":"SUM(Table1[[#This Row],[PO Employee]:[Other Employee]])","v":0},"N",{"$error":"#N/A"},{"$f":"IF(O452>39,Table1[[#This Row],[Calc 1]],IF(O452>1,\"Not counted as an Employee\",\"#NA\"))","v":"#NA"},{"$f":"MAX(Table1[[#This Row],[PO Employee]],Table1[[#This Row],[Other HZ Employee]],Table1[[#This Row],[Non HZ Employee]],Table1[[#This Row],[Job Site Employee]],Table1[[#This Row],[Other Employee]])","v":0},{"$f":"IF(Table1[[#This Row],[Total Hours per Month]]=Table1[[#This Row],[Column12]],\"Match\",\"Error\")","v":"Match"},{"$f":"IF(Table1[[#This Row],[Calc 2]]=\"#NA\",\"#NA\",IF(Table1[[#This Row],[Non HZ Employee]]=Table1[[#This Row],[Max calc]],\"Non HZ Employee\", Table1[[#This Row],[Calc 2]]))","v":"#NA"}]
[436," ",436,{"$nulls":5},{"$f":"SUM(Table1[[#This Row],[Column4]]+Table1[[#This Row],[Column3]]+Table1[[#This Row],[Column2]]+Table1[[#This Row],[Column1]])","v":0},{"$nulls":5},{"$f":"SUM(Table1[[#This Row],[PO Employee]:[Other Employee]])","v":0},"N",{"$error":"#N/A"},{"$f":"IF(O453>39,Table1[[#This Row],[Calc 1]],IF(O453>1,\"Not counted as an Employee\",\"#NA\"))","v":"#NA"},{"$f":"MAX(Table1[[#This Row],[PO Employee]],Table1[[#This Row],[Other HZ Employee]],Table1[[#This Row],[Non HZ Employee]],Table1[[#This Row],[Job Site Employee]],Table1[[#This Row],[Other Employee]])","v":0},{"$f":"IF(Table1[[#This Row],[Total Hours per Month]]=Table1[[#This Row],[Column12]],\"Match\",\"Error\")","v":"Match"},{"$f":"IF(Table1[[#This Row],[Calc 2]]=\"#NA\",\"#NA\",IF(Table1[[#This Row],[Non HZ Employee]]=Table1[[#This Row],[Max calc]],\"Non HZ Employee\", Table1[[#This Row],[Calc 2]]))","v":"#NA"}]
[437," ",437,{"$nulls":5},{"$f":"SUM(Table1[[#This Row],[Column4]]+Table1[[#This Row],[Column3]]+Table1[[#This Row],[Column2]]+Table1[[#This Row],[Column1]])","v":0},{"$nulls":5},{"$f":"SUM(Table1[[#This Row],[PO Employee]:[Other Employee]])","v":0},"N",{"$error":"#N/A"},{"$f":"IF(O454>39,Table1[[#This Row],[Calc 1]],IF(O454>1,\"Not counted as an Employee\",\"#NA\"))","v":"#NA"},{"$f":"MAX(Table1[[#This Row],[PO Employee]],Table1[[#This Row],[Other HZ Employee]],Table1[[#This Row],[Non HZ Employee]],Table1[[#This Row],[Job Site Employee]],Table1[[#This Row],[Other Employee]])","v":0},{"$f":"IF(Table1[[#This Row],[Total Hours per Month]]=Table1[[#This Row],[Column12]],\"Match\",\"Error\")","v":"Match"},{"$f":"IF(Table1[[#This Row],[Calc 2]]=\"#NA\",\"#NA\",IF(Table1[[#This Row],[Non HZ Employee]]=Table1[[#This Row],[Max calc]],\"Non HZ Employee\", Table1[[#This Row],[Calc 2]]))","v":"#NA"}]
[438," ",438,{"$nulls":5},{"$f":"SUM(Table1[[#This Row],[Column4]]+Table1[[#This Row],[Column3]]+Table1[[#This Row],[Column2]]+Table1[[#This Row],[Column1]])","v":0},{"$nulls":5},{"$f":"SUM(Table1[[#This Row],[PO Employee]:[Other Employee]])","v":0},"N",{"$error":"#N/A"},{"$f":"IF(O455>39,Table1[[#This Row],[Calc 1]],IF(O455>1,\"Not counted as an Employee\",\"#NA\"))","v":"#NA"},{"$f":"MAX(Table1[[#This Row],[PO Employee]],Table1[[#This Row],[Other HZ Employee]],Table1[[#This Row],[Non HZ Employee]],Table1[[#This Row],[Job Site Employee]],Table1[[#This Row],[Other Employee]])","v":0},{"$f":"IF(Table1[[#This Row],[Total Hours per Month]]=Table1[[#This Row],[Column12]],\"Match\",\"Error\")","v":"Match"},{"$f":"IF(Table1[[#This Row],[Calc 2]]=\"#NA\",\"#NA\",IF(Table1[[#This Row],[Non HZ Employee]]=Table1[[#This Row],[Max calc]],\"Non HZ Employee\", Table1[[#This Row],[Calc 2]]))","v":"#NA"}]
[439," ",439,{"$nulls":5},{"$f":"SUM(Table1[[#This Row],[Column4]]+Table1[[#This Row],[Column3]]+Table1[[#This Row],[Column2]]+Table1[[#This Row],[Column1]])","v":0},{"$nulls":5},{"$f":"SUM(Table1[[#This Row],[PO Employee]:[Other Employee]])","v":0},"N",{"$error":"#N/A"},{"$f":"IF(O456>39,Table1[[#This Row],[Calc 1]],IF(O456>1,\"Not counted as an Employee\",\"#NA\"))","v":"#NA"},{"$f":"MAX(Table1[[#This Row],[PO Employee]],Table1[[#This Row],[Other HZ Employee]],Table1[[#This Row],[Non HZ Employee]],Table1[[#This Row],[Job Site Employee]],Table1[[#This Row],[Other Employee]])","v":0},{"$f":"IF(Table1[[#This Row],[Total Hours per Month]]=Table1[[#This Row],[Column12]],\"Match\",\"Error\")","v":"Match"},{"$f":"IF(Table1[[#This Row],[Calc 2]]=\"#NA\",\"#NA\",IF(Table1[[#This Row],[Non HZ Employee]]=Table1[[#This Row],[Max calc]],\"Non HZ Employee\", Table1[[#This Row],[Calc 2]]))","v":"#NA"}]
[440," ",440,{"$nulls":5},{"$f":"SUM(Table1[[#This Row],[Column4]]+Table1[[#This Row],[Column3]]+Table1[[#This Row],[Column2]]+Table1[[#This Row],[Column1]])","v":0},{"$nulls":5},{"$f":"SUM(Table1[[#This Row],[PO Employee]:[Other Employee]])","v":0},"N",{"$error":"#N/A"},{"$f":"IF(O457>39,Table1[[#This Row],[Calc 1]],IF(O457>1,\"Not counted as an Employee\",\"#NA\"))","v":"#NA"},{"$f":"MAX(Table1[[#This Row],[PO Employee]],Table1[[#This Row],[Other HZ Employee]],Table1[[#This Row],[Non HZ Employee]],Table1[[#This Row],[Job Site Employee]],Table1[[#This Row],[Other Employee]])","v":0},{"$f":"IF(Table1[[#This Row],[Total Hours per Month]]=Table1[[#This Row],[Column12]],\"Match\",\"Error\")","v":"Match"},{"$f":"IF(Table1[[#This Row],[Calc 2]]=\"#NA\",\"#NA\",IF(Table1[[#This Row],[Non HZ Employee]]=Table1[[#This Row],[Max calc]],\"Non HZ Employee\", Table1[[#This Row],[Calc 2]]))","v":"#NA"}]
[441," ",441,{"$nulls":5},{"$f":"SUM(Table1[[#This Row],[Column4]]+Table1[[#This Row],[Column3]]+Table1[[#This Row],[Column2]]+Table1[[#This Row],[Column1]])","v":0},{"$nulls":5},{"$f":"SUM(Table1[[#This Row],[PO Employee]:[Other Employee]])","v":0},"N",{"$error":"#N/A"},{"$f":"IF(O458>39,Table1[[#This Row],[Calc 1]],IF(O458>1,\"Not counted as an Employee\",\"#NA\"))","v":"#NA"},{"$f":"MAX(Table1[[#This Row],[PO Employee]],Table1[[#This Row],[Other HZ Employee]],Table1[[#This Row],[Non HZ Employee]],Table1[[#This Row],[Job Site Employee]],Table1[[#This Row],[Other Employee]])","v":0},{"$f":"IF(Table1[[#This Row],[Total Hours per Month]]=Table1[[#This Row],[Column12]],\"Match\",\"Error\")","v":"Match"},{"$f":"IF(Table1[[#This Row],[Calc 2]]=\"#NA\",\"#NA\",IF(Table1[[#This Row],[Non HZ Employee]]=Table1[[#This Row],[Max calc]],\"Non HZ Employee\", Table1[[#This Row],[Calc 2]]))","v":"#NA"}]
[442," ",442,{"$nulls":5},{"$f":"SUM(Table1[[#This Row],[Column4]]+Table1[[#This Row],[Column3]]+Table1[[#This Row],[Column2]]+Table1[[#This Row],[Column1]])","v":0},{"$nulls":5},{"$f":"SUM(Table1[[#This Row],[PO Employee]:[Other Employee]])","v":0},"N",{"$error":"#N/A"},{"$f":"IF(O459>39,Table1[[#This Row],[Calc 1]],IF(O459>1,\"Not counted as an Employee\",\"#NA\"))","v":"#NA"},{"$f":"MAX(Table1[[#This Row],[PO Employee]],Table1[[#This Row],[Other HZ Employee]],Table1[[#This Row],[Non HZ Employee]],Table1[[#This Row],[Job Site Employee]],Table1[[#This Row],[Other Employee]])","v":0},{"$f":"IF(Table1[[#This Row],[Total Hours per Month]]=Table1[[#This Row],[Column12]],\"Match\",\"Error\")","v":"Match"},{"$f":"IF(Table1[[#This Row],[Calc 2]]=\"#NA\",\"#NA\",IF(Table1[[#This Row],[Non HZ Employee]]=Table1[[#This Row],[Max calc]],\"Non HZ Employee\", Table1[[#This Row],[Calc 2]]))","v":"#NA"}]
[443," ",443,{"$nulls":5},{"$f":"SUM(Table1[[#This Row],[Column4]]+Table1[[#This Row],[Column3]]+Table1[[#This Row],[Column2]]+Table1[[#This Row],[Column1]])","v":0},{"$nulls":5},{"$f":"SUM(Table1[[#This Row],[PO Employee]:[Other Employee]])","v":0},"N",{"$error":"#N/A"},{"$f":"IF(O460>39,Table1[[#This Row],[Calc 1]],IF(O460>1,\"Not counted as an Employee\",\"#NA\"))","v":"#NA"},{"$f":"MAX(Table1[[#This Row],[PO Employee]],Table1[[#This Row],[Other HZ Employee]],Table1[[#This Row],[Non HZ Employee]],Table1[[#This Row],[Job Site Employee]],Table1[[#This Row],[Other Employee]])","v":0},{"$f":"IF(Table1[[#This Row],[Total Hours per Month]]=Table1[[#This Row],[Column12]],\"Match\",\"Error\")","v":"Match"},{"$f":"IF(Table1[[#This Row],[Calc 2]]=\"#NA\",\"#NA\",IF(Table1[[#This Row],[Non HZ Employee]]=Table1[[#This Row],[Max calc]],\"Non HZ Employee\", Table1[[#This Row],[Calc 2]]))","v":"#NA"}]
[444," ",444,{"$nulls":5},{"$f":"SUM(Table1[[#This Row],[Column4]]+Table1[[#This Row],[Column3]]+Table1[[#This Row],[Column2]]+Table1[[#This Row],[Column1]])","v":0},{"$nulls":5},{"$f":"SUM(Table1[[#This Row],[PO Employee]:[Other Employee]])","v":0},"N",{"$error":"#N/A"},{"$f":"IF(O461>39,Table1[[#This Row],[Calc 1]],IF(O461>1,\"Not counted as an Employee\",\"#NA\"))","v":"#NA"},{"$f":"MAX(Table1[[#This Row],[PO Employee]],Table1[[#This Row],[Other HZ Employee]],Table1[[#This Row],[Non HZ Employee]],Table1[[#This Row],[Job Site Employee]],Table1[[#This Row],[Other Employee]])","v":0},{"$f":"IF(Table1[[#This Row],[Total Hours per Month]]=Table1[[#This Row],[Column12]],\"Match\",\"Error\")","v":"Match"},{"$f":"IF(Table1[[#This Row],[Calc 2]]=\"#NA\",\"#NA\",IF(Table1[[#This Row],[Non HZ Employee]]=Table1[[#This Row],[Max calc]],\"Non HZ Employee\", Table1[[#This Row],[Calc 2]]))","v":"#NA"}]
[445," ",445,{"$nulls":5},{"$f":"SUM(Table1[[#This Row],[Column4]]+Table1[[#This Row],[Column3]]+Table1[[#This Row],[Column2]]+Table1[[#This Row],[Column1]])","v":0},{"$nulls":5},{"$f":"SUM(Table1[[#This Row],[PO Employee]:[Other Employee]])","v":0},"N",{"$error":"#N/A"},{"$f":"IF(O462>39,Table1[[#This Row],[Calc 1]],IF(O462>1,\"Not counted as an Employee\",\"#NA\"))","v":"#NA"},{"$f":"MAX(Table1[[#This Row],[PO Employee]],Table1[[#This Row],[Other HZ Employee]],Table1[[#This Row],[Non HZ Employee]],Table1[[#This Row],[Job Site Employee]],Table1[[#This Row],[Other Employee]])","v":0},{"$f":"IF(Table1[[#This Row],[Total Hours per Month]]=Table1[[#This Row],[Column12]],\"Match\",\"Error\")","v":"Match"},{"$f":"IF(Table1[[#This Row],[Calc 2]]=\"#NA\",\"#NA\",IF(Table1[[#This Row],[Non HZ Employee]]=Table1[[#This Row],[Max calc]],\"Non HZ Employee\", Table1[[#This Row],[Calc 2]]))","v":"#NA"}]
[446," ",446,{"$nulls":5},{"$f":"SUM(Table1[[#This Row],[Column4]]+Table1[[#This Row],[Column3]]+Table1[[#This Row],[Column2]]+Table1[[#This Row],[Column1]])","v":0},{"$nulls":5},{"$f":"SUM(Table1[[#This Row],[PO Employee]:[Other Employee]])","v":0},"N",{"$error":"#N/A"},{"$f":"IF(O463>39,Table1[[#This Row],[Calc 1]],IF(O463>1,\"Not counted as an Employee\",\"#NA\"))","v":"#NA"},{"$f":"MAX(Table1[[#This Row],[PO Employee]],Table1[[#This Row],[Other HZ Employee]],Table1[[#This Row],[Non HZ Employee]],Table1[[#This Row],[Job Site Employee]],Table1[[#This Row],[Other Employee]])","v":0},{"$f":"IF(Table1[[#This Row],[Total Hours per Month]]=Table1[[#This Row],[Column12]],\"Match\",\"Error\")","v":"Match"},{"$f":"IF(Table1[[#This Row],[Calc 2]]=\"#NA\",\"#NA\",IF(Table1[[#This Row],[Non HZ Employee]]=Table1[[#This Row],[Max calc]],\"Non HZ Employee\", Table1[[#This Row],[Calc 2]]))","v":"#NA"}]
[447," ",447,{"$nulls":5},{"$f":"SUM(Table1[[#This Row],[Column4]]+Table1[[#This Row],[Column3]]+Table1[[#This Row],[Column2]]+Table1[[#This Row],[Column1]])","v":0},{"$nulls":5},{"$f":"SUM(Table1[[#This Row],[PO Employee]:[Other Employee]])","v":0},"N",{"$error":"#N/A"},{"$f":"IF(O464>39,Table1[[#This Row],[Calc 1]],IF(O464>1,\"Not counted as an Employee\",\"#NA\"))","v":"#NA"},{"$f":"MAX(Table1[[#This Row],[PO Employee]],Table1[[#This Row],[Other HZ Employee]],Table1[[#This Row],[Non HZ Employee]],Table1[[#This Row],[Job Site Employee]],Table1[[#This Row],[Other Employee]])","v":0},{"$f":"IF(Table1[[#This Row],[Total Hours per Month]]=Table1[[#This Row],[Column12]],\"Match\",\"Error\")","v":"Match"},{"$f":"IF(Table1[[#This Row],[Calc 2]]=\"#NA\",\"#NA\",IF(Table1[[#This Row],[Non HZ Employee]]=Table1[[#This Row],[Max calc]],\"Non HZ Employee\", Table1[[#This Row],[Calc 2]]))","v":"#NA"}]
[448," ",448,{"$nulls":5},{"$f":"SUM(Table1[[#This Row],[Column4]]+Table1[[#This Row],[Column3]]+Table1[[#This Row],[Column2]]+Table1[[#This Row],[Column1]])","v":0},{"$nulls":5},{"$f":"SUM(Table1[[#This Row],[PO Employee]:[Other Employee]])","v":0},"N",{"$error":"#N/A"},{"$f":"IF(O465>39,Table1[[#This Row],[Calc 1]],IF(O465>1,\"Not counted as an Employee\",\"#NA\"))","v":"#NA"},{"$f":"MAX(Table1[[#This Row],[PO Employee]],Table1[[#This Row],[Other HZ Employee]],Table1[[#This Row],[Non HZ Employee]],Table1[[#This Row],[Job Site Employee]],Table1[[#This Row],[Other Employee]])","v":0},{"$f":"IF(Table1[[#This Row],[Total Hours per Month]]=Table1[[#This Row],[Column12]],\"Match\",\"Error\")","v":"Match"},{"$f":"IF(Table1[[#This Row],[Calc 2]]=\"#NA\",\"#NA\",IF(Table1[[#This Row],[Non HZ Employee]]=Table1[[#This Row],[Max calc]],\"Non HZ Employee\", Table1[[#This Row],[Calc 2]]))","v":"#NA"}]
[449," ",449,{"$nulls":5},{"$f":"SUM(Table1[[#This Row],[Column4]]+Table1[[#This Row],[Column3]]+Table1[[#This Row],[Column2]]+Table1[[#This Row],[Column1]])","v":0},{"$nulls":5},{"$f":"SUM(Table1[[#This Row],[PO Employee]:[Other Employee]])","v":0},"N",{"$f":"INDEX($J$17:$N$17,MATCH(MAX(J466:N466),J466:N466,0))","v":{"$error":"#N/A"}},{"$f":"IF(O466>39,Table1[[#This Row],[Calc 1]],IF(O466>1,\"Not counted as an Employee\",\"#NA\"))","v":"#NA"},{"$f":"MAX(Table1[[#This Row],[PO Employee]],Table1[[#This Row],[Other HZ Employee]],Table1[[#This Row],[Non HZ Employee]],Table1[[#This Row],[Job Site Employee]],Table1[[#This Row],[Other Employee]])","v":0},{"$f":"IF(Table1[[#This Row],[Total Hours per Month]]=Table1[[#This Row],[Column12]],\"Match\",\"Error\")","v":"Match"},{"$f":"IF(Table1[[#This Row],[Calc 2]]=\"#NA\",\"#NA\",IF(Table1[[#This Row],[Non HZ Employee]]=Table1[[#This Row],[Max calc]],\"Non HZ Employee\", Table1[[#This Row],[Calc 2]]))","v":"#NA"}]
[450," ",450,{"$nulls":5},{"$f":"SUM(Table1[[#This Row],[Column4]]+Table1[[#This Row],[Column3]]+Table1[[#This Row],[Column2]]+Table1[[#This Row],[Column1]])","v":0},{"$nulls":5},{"$f":"SUM(Table1[[#This Row],[PO Employee]:[Other Employee]])","v":0},{"$f":"IF(O467>=40,\"Y\",\"N\")","v":"N"},{"$error":"#N/A"},{"$f":"IF(O467>39,Table1[[#This Row],[Calc 1]],IF(O467>1,\"Not counted as an Employee\",\"#NA\"))","v":"#NA"},{"$f":"MAX(Table1[[#This Row],[PO Employee]],Table1[[#This Row],[Other HZ Employee]],Table1[[#This Row],[Non HZ Employee]],Table1[[#This Row],[Job Site Employee]],Table1[[#This Row],[Other Employee]])","v":0},{"$f":"IF(Table1[[#This Row],[Total Hours per Month]]=Table1[[#This Row],[Column12]],\"Match\",\"Error\")","v":"Match"},{"$f":"IF(Table1[[#This Row],[Calc 2]]=\"#NA\",\"#NA\",IF(Table1[[#This Row],[Non HZ Employee]]=Table1[[#This Row],[Max calc]],\"Non HZ Employee\", Table1[[#This Row],[Calc 2]]))","v":"#NA"}]
[451," ",451,{"$nulls":5},{"$f":"SUM(Table1[[#This Row],[Column4]]+Table1[[#This Row],[Column3]]+Table1[[#This Row],[Column2]]+Table1[[#This Row],[Column1]])","v":0},{"$nulls":5},{"$f":"SUM(Table1[[#This Row],[PO Employee]:[Other Employee]])","v":0},"N",{"$error":"#N/A"},{"$f":"IF(O468>39,Table1[[#This Row],[Calc 1]],IF(O468>1,\"Not counted as an Employee\",\"#NA\"))","v":"#NA"},{"$f":"MAX(Table1[[#This Row],[PO Employee]],Table1[[#This Row],[Other HZ Employee]],Table1[[#This Row],[Non HZ Employee]],Table1[[#This Row],[Job Site Employee]],Table1[[#This Row],[Other Employee]])","v":0},{"$f":"IF(Table1[[#This Row],[Total Hours per Month]]=Table1[[#This Row],[Column12]],\"Match\",\"Error\")","v":"Match"},{"$f":"IF(Table1[[#This Row],[Calc 2]]=\"#NA\",\"#NA\",IF(Table1[[#This Row],[Non HZ Employee]]=Table1[[#This Row],[Max calc]],\"Non HZ Employee\", Table1[[#This Row],[Calc 2]]))","v":"#NA"}]
[452," ",452,{"$nulls":5},{"$f":"SUM(Table1[[#This Row],[Column4]]+Table1[[#This Row],[Column3]]+Table1[[#This Row],[Column2]]+Table1[[#This Row],[Column1]])","v":0},{"$nulls":5},{"$f":"SUM(Table1[[#This Row],[PO Employee]:[Other Employee]])","v":0},"N",{"$error":"#N/A"},{"$f":"IF(O469>39,Table1[[#This Row],[Calc 1]],IF(O469>1,\"Not counted as an Employee\",\"#NA\"))","v":"#NA"},{"$f":"MAX(Table1[[#This Row],[PO Employee]],Table1[[#This Row],[Other HZ Employee]],Table1[[#This Row],[Non HZ Employee]],Table1[[#This Row],[Job Site Employee]],Table1[[#This Row],[Other Employee]])","v":0},{"$f":"IF(Table1[[#This Row],[Total Hours per Month]]=Table1[[#This Row],[Column12]],\"Match\",\"Error\")","v":"Match"},{"$f":"IF(Table1[[#This Row],[Calc 2]]=\"#NA\",\"#NA\",IF(Table1[[#This Row],[Non HZ Employee]]=Table1[[#This Row],[Max calc]],\"Non HZ Employee\", Table1[[#This Row],[Calc 2]]))","v":"#NA"}]
[453," ",453,{"$nulls":5},{"$f":"SUM(Table1[[#This Row],[Column4]]+Table1[[#This Row],[Column3]]+Table1[[#This Row],[Column2]]+Table1[[#This Row],[Column1]])","v":0},{"$nulls":5},{"$f":"SUM(Table1[[#This Row],[PO Employee]:[Other Employee]])","v":0},"N",{"$error":"#N/A"},{"$f":"IF(O470>39,Table1[[#This Row],[Calc 1]],IF(O470>1,\"Not counted as an Employee\",\"#NA\"))","v":"#NA"},{"$f":"MAX(Table1[[#This Row],[PO Employee]],Table1[[#This Row],[Other HZ Employee]],Table1[[#This Row],[Non HZ Employee]],Table1[[#This Row],[Job Site Employee]],Table1[[#This Row],[Other Employee]])","v":0},{"$f":"IF(Table1[[#This Row],[Total Hours per Month]]=Table1[[#This Row],[Column12]],\"Match\",\"Error\")","v":"Match"},{"$f":"IF(Table1[[#This Row],[Calc 2]]=\"#NA\",\"#NA\",IF(Table1[[#This Row],[Non HZ Employee]]=Table1[[#This Row],[Max calc]],\"Non HZ Employee\", Table1[[#This Row],[Calc 2]]))","v":"#NA"}]
[454," ",454,{"$nulls":5},{"$f":"SUM(Table1[[#This Row],[Column4]]+Table1[[#This Row],[Column3]]+Table1[[#This Row],[Column2]]+Table1[[#This Row],[Column1]])","v":0},{"$nulls":5},{"$f":"SUM(Table1[[#This Row],[PO Employee]:[Other Employee]])","v":0},"N",{"$error":"#N/A"},{"$f":"IF(O471>39,Table1[[#This Row],[Calc 1]],IF(O471>1,\"Not counted as an Employee\",\"#NA\"))","v":"#NA"},{"$f":"MAX(Table1[[#This Row],[PO Employee]],Table1[[#This Row],[Other HZ Employee]],Table1[[#This Row],[Non HZ Employee]],Table1[[#This Row],[Job Site Employee]],Table1[[#This Row],[Other Employee]])","v":0},{"$f":"IF(Table1[[#This Row],[Total Hours per Month]]=Table1[[#This Row],[Column12]],\"Match\",\"Error\")","v":"Match"},{"$f":"IF(Table1[[#This Row],[Calc 2]]=\"#NA\",\"#NA\",IF(Table1[[#This Row],[Non HZ Employee]]=Table1[[#This Row],[Max calc]],\"Non HZ Employee\", Table1[[#This Row],[Calc 2]]))","v":"#NA"}]
[455," ",455,{"$nulls":5},{"$f":"SUM(Table1[[#This Row],[Column4]]+Table1[[#This Row],[Column3]]+Table1[[#This Row],[Column2]]+Table1[[#This Row],[Column1]])","v":0},{"$nulls":5},{"$f":"SUM(Table1[[#This Row],[PO Employee]:[Other Employee]])","v":0},"N",{"$error":"#N/A"},{"$f":"IF(O472>39,Table1[[#This Row],[Calc 1]],IF(O472>1,\"Not counted as an Employee\",\"#NA\"))","v":"#NA"},{"$f":"MAX(Table1[[#This Row],[PO Employee]],Table1[[#This Row],[Other HZ Employee]],Table1[[#This Row],[Non HZ Employee]],Table1[[#This Row],[Job Site Employee]],Table1[[#This Row],[Other Employee]])","v":0},{"$f":"IF(Table1[[#This Row],[Total Hours per Month]]=Table1[[#This Row],[Column12]],\"Match\",\"Error\")","v":"Match"},{"$f":"IF(Table1[[#This Row],[Calc 2]]=\"#NA\",\"#NA\",IF(Table1[[#This Row],[Non HZ Employee]]=Table1[[#This Row],[Max calc]],\"Non HZ Employee\", Table1[[#This Row],[Calc 2]]))","v":"#NA"}]
[456," ",456,{"$nulls":5},{"$f":"SUM(Table1[[#This Row],[Column4]]+Table1[[#This Row],[Column3]]+Table1[[#This Row],[Column2]]+Table1[[#This Row],[Column1]])","v":0},{"$nulls":5},{"$f":"SUM(Table1[[#This Row],[PO Employee]:[Other Employee]])","v":0},"N",{"$error":"#N/A"},{"$f":"IF(O473>39,Table1[[#This Row],[Calc 1]],IF(O473>1,\"Not counted as an Employee\",\"#NA\"))","v":"#NA"},{"$f":"MAX(Table1[[#This Row],[PO Employee]],Table1[[#This Row],[Other HZ Employee]],Table1[[#This Row],[Non HZ Employee]],Table1[[#This Row],[Job Site Employee]],Table1[[#This Row],[Other Employee]])","v":0},{"$f":"IF(Table1[[#This Row],[Total Hours per Month]]=Table1[[#This Row],[Column12]],\"Match\",\"Error\")","v":"Match"},{"$f":"IF(Table1[[#This Row],[Calc 2]]=\"#NA\",\"#NA\",IF(Table1[[#This Row],[Non HZ Employee]]=Table1[[#This Row],[Max calc]],\"Non HZ Employee\", Table1[[#This Row],[Calc 2]]))","v":"#NA"}]
[457," ",457,{"$nulls":5},{"$f":"SUM(Table1[[#This Row],[Column4]]+Table1[[#This Row],[Column3]]+Table1[[#This Row],[Column2]]+Table1[[#This Row],[Column1]])","v":0},{"$nulls":5},{"$f":"SUM(Table1[[#This Row],[PO Employee]:[Other Employee]])","v":0},"N",{"$error":"#N/A"},{"$f":"IF(O474>39,Table1[[#This Row],[Calc 1]],IF(O474>1,\"Not counted as an Employee\",\"#NA\"))","v":"#NA"},{"$f":"MAX(Table1[[#This Row],[PO Employee]],Table1[[#This Row],[Other HZ Employee]],Table1[[#This Row],[Non HZ Employee]],Table1[[#This Row],[Job Site Employee]],Table1[[#This Row],[Other Employee]])","v":0},{"$f":"IF(Table1[[#This Row],[Total Hours per Month]]=Table1[[#This Row],[Column12]],\"Match\",\"Error\")","v":"Match"},{"$f":"IF(Table1[[#This Row],[Calc 2]]=\"#NA\",\"#NA\",IF(Table1[[#This Row],[Non HZ Employee]]=Table1[[#This Row],[Max calc]],\"Non HZ Employee\", Table1[[#This Row],[Calc 2]]))","v":"#NA"}]
[458," ",458,{"$nulls":5},{"$f":"SUM(Table1[[#This Row],[Column4]]+Table1[[#This Row],[Column3]]+Table1[[#This Row],[Column2]]+Table1[[#This Row],[Column1]])","v":0},{"$nulls":5},{"$f":"SUM(Table1[[#This Row],[PO Employee]:[Other Employee]])","v":0},"N",{"$error":"#N/A"},{"$f":"IF(O475>39,Table1[[#This Row],[Calc 1]],IF(O475>1,\"Not counted as an Employee\",\"#NA\"))","v":"#NA"},{"$f":"MAX(Table1[[#This Row],[PO Employee]],Table1[[#This Row],[Other HZ Employee]],Table1[[#This Row],[Non HZ Employee]],Table1[[#This Row],[Job Site Employee]],Table1[[#This Row],[Other Employee]])","v":0},{"$f":"IF(Table1[[#This Row],[Total Hours per Month]]=Table1[[#This Row],[Column12]],\"Match\",\"Error\")","v":"Match"},{"$f":"IF(Table1[[#This Row],[Calc 2]]=\"#NA\",\"#NA\",IF(Table1[[#This Row],[Non HZ Employee]]=Table1[[#This Row],[Max calc]],\"Non HZ Employee\", Table1[[#This Row],[Calc 2]]))","v":"#NA"}]
[459," ",459,{"$nulls":5},{"$f":"SUM(Table1[[#This Row],[Column4]]+Table1[[#This Row],[Column3]]+Table1[[#This Row],[Column2]]+Table1[[#This Row],[Column1]])","v":0},{"$nulls":5},{"$f":"SUM(Table1[[#This Row],[PO Employee]:[Other Employee]])","v":0},"N",{"$error":"#N/A"},{"$f":"IF(O476>39,Table1[[#This Row],[Calc 1]],IF(O476>1,\"Not counted as an Employee\",\"#NA\"))","v":"#NA"},{"$f":"MAX(Table1[[#This Row],[PO Employee]],Table1[[#This Row],[Other HZ Employee]],Table1[[#This Row],[Non HZ Employee]],Table1[[#This Row],[Job Site Employee]],Table1[[#This Row],[Other Employee]])","v":0},{"$f":"IF(Table1[[#This Row],[Total Hours per Month]]=Table1[[#This Row],[Column12]],\"Match\",\"Error\")","v":"Match"},{"$f":"IF(Table1[[#This Row],[Calc 2]]=\"#NA\",\"#NA\",IF(Table1[[#This Row],[Non HZ Employee]]=Table1[[#This Row],[Max calc]],\"Non HZ Employee\", Table1[[#This Row],[Calc 2]]))","v":"#NA"}]
[460," ",460,{"$nulls":5},{"$f":"SUM(Table1[[#This Row],[Column4]]+Table1[[#This Row],[Column3]]+Table1[[#This Row],[Column2]]+Table1[[#This Row],[Column1]])","v":0},{"$nulls":5},{"$f":"SUM(Table1[[#This Row],[PO Employee]:[Other Employee]])","v":0},"N",{"$error":"#N/A"},{"$f":"IF(O477>39,Table1[[#This Row],[Calc 1]],IF(O477>1,\"Not counted as an Employee\",\"#NA\"))","v":"#NA"},{"$f":"MAX(Table1[[#This Row],[PO Employee]],Table1[[#This Row],[Other HZ Employee]],Table1[[#This Row],[Non HZ Employee]],Table1[[#This Row],[Job Site Employee]],Table1[[#This Row],[Other Employee]])","v":0},{"$f":"IF(Table1[[#This Row],[Total Hours per Month]]=Table1[[#This Row],[Column12]],\"Match\",\"Error\")","v":"Match"},{"$f":"IF(Table1[[#This Row],[Calc 2]]=\"#NA\",\"#NA\",IF(Table1[[#This Row],[Non HZ Employee]]=Table1[[#This Row],[Max calc]],\"Non HZ Employee\", Table1[[#This Row],[Calc 2]]))","v":"#NA"}]
[461," ",461,{"$nulls":5},{"$f":"SUM(Table1[[#This Row],[Column4]]+Table1[[#This Row],[Column3]]+Table1[[#This Row],[Column2]]+Table1[[#This Row],[Column1]])","v":0},{"$nulls":5},{"$f":"SUM(Table1[[#This Row],[PO Employee]:[Other Employee]])","v":0},"N",{"$error":"#N/A"},{"$f":"IF(O478>39,Table1[[#This Row],[Calc 1]],IF(O478>1,\"Not counted as an Employee\",\"#NA\"))","v":"#NA"},{"$f":"MAX(Table1[[#This Row],[PO Employee]],Table1[[#This Row],[Other HZ Employee]],Table1[[#This Row],[Non HZ Employee]],Table1[[#This Row],[Job Site Employee]],Table1[[#This Row],[Other Employee]])","v":0},{"$f":"IF(Table1[[#This Row],[Total Hours per Month]]=Table1[[#This Row],[Column12]],\"Match\",\"Error\")","v":"Match"},{"$f":"IF(Table1[[#This Row],[Calc 2]]=\"#NA\",\"#NA\",IF(Table1[[#This Row],[Non HZ Employee]]=Table1[[#This Row],[Max calc]],\"Non HZ Employee\", Table1[[#This Row],[Calc 2]]))","v":"#NA"}]
[462," ",462,{"$nulls":5},{"$f":"SUM(Table1[[#This Row],[Column4]]+Table1[[#This Row],[Column3]]+Table1[[#This Row],[Column2]]+Table1[[#This Row],[Column1]])","v":0},{"$nulls":5},{"$f":"SUM(Table1[[#This Row],[PO Employee]:[Other Employee]])","v":0},"N",{"$error":"#N/A"},{"$f":"IF(O479>39,Table1[[#This Row],[Calc 1]],IF(O479>1,\"Not counted as an Employee\",\"#NA\"))","v":"#NA"},{"$f":"MAX(Table1[[#This Row],[PO Employee]],Table1[[#This Row],[Other HZ Employee]],Table1[[#This Row],[Non HZ Employee]],Table1[[#This Row],[Job Site Employee]],Table1[[#This Row],[Other Employee]])","v":0},{"$f":"IF(Table1[[#This Row],[Total Hours per Month]]=Table1[[#This Row],[Column12]],\"Match\",\"Error\")","v":"Match"},{"$f":"IF(Table1[[#This Row],[Calc 2]]=\"#NA\",\"#NA\",IF(Table1[[#This Row],[Non HZ Employee]]=Table1[[#This Row],[Max calc]],\"Non HZ Employee\", Table1[[#This Row],[Calc 2]]))","v":"#NA"}]
[463," ",463,{"$nulls":5},{"$f":"SUM(Table1[[#This Row],[Column4]]+Table1[[#This Row],[Column3]]+Table1[[#This Row],[Column2]]+Table1[[#This Row],[Column1]])","v":0},{"$nulls":5},{"$f":"SUM(Table1[[#This Row],[PO Employee]:[Other Employee]])","v":0},"N",{"$error":"#N/A"},{"$f":"IF(O480>39,Table1[[#This Row],[Calc 1]],IF(O480>1,\"Not counted as an Employee\",\"#NA\"))","v":"#NA"},{"$f":"MAX(Table1[[#This Row],[PO Employee]],Table1[[#This Row],[Other HZ Employee]],Table1[[#This Row],[Non HZ Employee]],Table1[[#This Row],[Job Site Employee]],Table1[[#This Row],[Other Employee]])","v":0},{"$f":"IF(Table1[[#This Row],[Total Hours per Month]]=Table1[[#This Row],[Column12]],\"Match\",\"Error\")","v":"Match"},{"$f":"IF(Table1[[#This Row],[Calc 2]]=\"#NA\",\"#NA\",IF(Table1[[#This Row],[Non HZ Employee]]=Table1[[#This Row],[Max calc]],\"Non HZ Employee\", Table1[[#This Row],[Calc 2]]))","v":"#NA"}]
[464," ",464,{"$nulls":5},{"$f":"SUM(Table1[[#This Row],[Column4]]+Table1[[#This Row],[Column3]]+Table1[[#This Row],[Column2]]+Table1[[#This Row],[Column1]])","v":0},{"$nulls":5},{"$f":"SUM(Table1[[#This Row],[PO Employee]:[Other Employee]])","v":0},"N",{"$error":"#N/A"},{"$f":"IF(O481>39,Table1[[#This Row],[Calc 1]],IF(O481>1,\"Not counted as an Employee\",\"#NA\"))","v":"#NA"},{"$f":"MAX(Table1[[#This Row],[PO Employee]],Table1[[#This Row],[Other HZ Employee]],Table1[[#This Row],[Non HZ Employee]],Table1[[#This Row],[Job Site Employee]],Table1[[#This Row],[Other Employee]])","v":0},{"$f":"IF(Table1[[#This Row],[Total Hours per Month]]=Table1[[#This Row],[Column12]],\"Match\",\"Error\")","v":"Match"},{"$f":"IF(Table1[[#This Row],[Calc 2]]=\"#NA\",\"#NA\",IF(Table1[[#This Row],[Non HZ Employee]]=Table1[[#This Row],[Max calc]],\"Non HZ Employee\", Table1[[#This Row],[Calc 2]]))","v":"#NA"}]
[465," ",465,{"$nulls":5},{"$f":"SUM(Table1[[#This Row],[Column4]]+Table1[[#This Row],[Column3]]+Table1[[#This Row],[Column2]]+Table1[[#This Row],[Column1]])","v":0},{"$nulls":5},{"$f":"SUM(Table1[[#This Row],[PO Employee]:[Other Employee]])","v":0},"N",{"$error":"#N/A"},{"$f":"IF(O482>39,Table1[[#This Row],[Calc 1]],IF(O482>1,\"Not counted as an Employee\",\"#NA\"))","v":"#NA"},{"$f":"MAX(Table1[[#This Row],[PO Employee]],Table1[[#This Row],[Other HZ Employee]],Table1[[#This Row],[Non HZ Employee]],Table1[[#This Row],[Job Site Employee]],Table1[[#This Row],[Other Employee]])","v":0},{"$f":"IF(Table1[[#This Row],[Total Hours per Month]]=Table1[[#This Row],[Column12]],\"Match\",\"Error\")","v":"Match"},{"$f":"IF(Table1[[#This Row],[Calc 2]]=\"#NA\",\"#NA\",IF(Table1[[#This Row],[Non HZ Employee]]=Table1[[#This Row],[Max calc]],\"Non HZ Employee\", Table1[[#This Row],[Calc 2]]))","v":"#NA"}]
[466," ",466,{"$nulls":5},{"$f":"SUM(Table1[[#This Row],[Column4]]+Table1[[#This Row],[Column3]]+Table1[[#This Row],[Column2]]+Table1[[#This Row],[Column1]])","v":0},{"$nulls":5},{"$f":"SUM(Table1[[#This Row],[PO Employee]:[Other Employee]])","v":0},"N",{"$error":"#N/A"},{"$f":"IF(O483>39,Table1[[#This Row],[Calc 1]],IF(O483>1,\"Not counted as an Employee\",\"#NA\"))","v":"#NA"},{"$f":"MAX(Table1[[#This Row],[PO Employee]],Table1[[#This Row],[Other HZ Employee]],Table1[[#This Row],[Non HZ Employee]],Table1[[#This Row],[Job Site Employee]],Table1[[#This Row],[Other Employee]])","v":0},{"$f":"IF(Table1[[#This Row],[Total Hours per Month]]=Table1[[#This Row],[Column12]],\"Match\",\"Error\")","v":"Match"},{"$f":"IF(Table1[[#This Row],[Calc 2]]=\"#NA\",\"#NA\",IF(Table1[[#This Row],[Non HZ Employee]]=Table1[[#This Row],[Max calc]],\"Non HZ Employee\", Table1[[#This Row],[Calc 2]]))","v":"#NA"}]
[467," ",467,{"$nulls":5},{"$f":"SUM(Table1[[#This Row],[Column4]]+Table1[[#This Row],[Column3]]+Table1[[#This Row],[Column2]]+Table1[[#This Row],[Column1]])","v":0},{"$nulls":5},{"$f":"SUM(Table1[[#This Row],[PO Employee]:[Other Employee]])","v":0},"N",{"$error":"#N/A"},{"$f":"IF(O484>39,Table1[[#This Row],[Calc 1]],IF(O484>1,\"Not counted as an Employee\",\"#NA\"))","v":"#NA"},{"$f":"MAX(Table1[[#This Row],[PO Employee]],Table1[[#This Row],[Other HZ Employee]],Table1[[#This Row],[Non HZ Employee]],Table1[[#This Row],[Job Site Employee]],Table1[[#This Row],[Other Employee]])","v":0},{"$f":"IF(Table1[[#This Row],[Total Hours per Month]]=Table1[[#This Row],[Column12]],\"Match\",\"Error\")","v":"Match"},{"$f":"IF(Table1[[#This Row],[Calc 2]]=\"#NA\",\"#NA\",IF(Table1[[#This Row],[Non HZ Employee]]=Table1[[#This Row],[Max calc]],\"Non HZ Employee\", Table1[[#This Row],[Calc 2]]))","v":"#NA"}]
[468," ",468,{"$nulls":5},{"$f":"SUM(Table1[[#This Row],[Column4]]+Table1[[#This Row],[Column3]]+Table1[[#This Row],[Column2]]+Table1[[#This Row],[Column1]])","v":0},{"$nulls":5},{"$f":"SUM(Table1[[#This Row],[PO Employee]:[Other Employee]])","v":0},"N",{"$error":"#N/A"},{"$f":"IF(O485>39,Table1[[#This Row],[Calc 1]],IF(O485>1,\"Not counted as an Employee\",\"#NA\"))","v":"#NA"},{"$f":"MAX(Table1[[#This Row],[PO Employee]],Table1[[#This Row],[Other HZ Employee]],Table1[[#This Row],[Non HZ Employee]],Table1[[#This Row],[Job Site Employee]],Table1[[#This Row],[Other Employee]])","v":0},{"$f":"IF(Table1[[#This Row],[Total Hours per Month]]=Table1[[#This Row],[Column12]],\"Match\",\"Error\")","v":"Match"},{"$f":"IF(Table1[[#This Row],[Calc 2]]=\"#NA\",\"#NA\",IF(Table1[[#This Row],[Non HZ Employee]]=Table1[[#This Row],[Max calc]],\"Non HZ Employee\", Table1[[#This Row],[Calc 2]]))","v":"#NA"}]
[469," ",469,{"$nulls":5},{"$f":"SUM(Table1[[#This Row],[Column4]]+Table1[[#This Row],[Column3]]+Table1[[#This Row],[Column2]]+Table1[[#This Row],[Column1]])","v":0},{"$nulls":5},{"$f":"SUM(Table1[[#This Row],[PO Employee]:[Other Employee]])","v":0},"N",{"$error":"#N/A"},{"$f":"IF(O486>39,Table1[[#This Row],[Calc 1]],IF(O486>1,\"Not counted as an Employee\",\"#NA\"))","v":"#NA"},{"$f":"MAX(Table1[[#This Row],[PO Employee]],Table1[[#This Row],[Other HZ Employee]],Table1[[#This Row],[Non HZ Employee]],Table1[[#This Row],[Job Site Employee]],Table1[[#This Row],[Other Employee]])","v":0},{"$f":"IF(Table1[[#This Row],[Total Hours per Month]]=Table1[[#This Row],[Column12]],\"Match\",\"Error\")","v":"Match"},{"$f":"IF(Table1[[#This Row],[Calc 2]]=\"#NA\",\"#NA\",IF(Table1[[#This Row],[Non HZ Employee]]=Table1[[#This Row],[Max calc]],\"Non HZ Employee\", Table1[[#This Row],[Calc 2]]))","v":"#NA"}]
[470," ",470,{"$nulls":5},{"$f":"SUM(Table1[[#This Row],[Column4]]+Table1[[#This Row],[Column3]]+Table1[[#This Row],[Column2]]+Table1[[#This Row],[Column1]])","v":0},{"$nulls":5},{"$f":"SUM(Table1[[#This Row],[PO Employee]:[Other Employee]])","v":0},"N",{"$error":"#N/A"},{"$f":"IF(O487>39,Table1[[#This Row],[Calc 1]],IF(O487>1,\"Not counted as an Employee\",\"#NA\"))","v":"#NA"},{"$f":"MAX(Table1[[#This Row],[PO Employee]],Table1[[#This Row],[Other HZ Employee]],Table1[[#This Row],[Non HZ Employee]],Table1[[#This Row],[Job Site Employee]],Table1[[#This Row],[Other Employee]])","v":0},{"$f":"IF(Table1[[#This Row],[Total Hours per Month]]=Table1[[#This Row],[Column12]],\"Match\",\"Error\")","v":"Match"},{"$f":"IF(Table1[[#This Row],[Calc 2]]=\"#NA\",\"#NA\",IF(Table1[[#This Row],[Non HZ Employee]]=Table1[[#This Row],[Max calc]],\"Non HZ Employee\", Table1[[#This Row],[Calc 2]]))","v":"#NA"}]
[471," ",471,{"$nulls":5},{"$f":"SUM(Table1[[#This Row],[Column4]]+Table1[[#This Row],[Column3]]+Table1[[#This Row],[Column2]]+Table1[[#This Row],[Column1]])","v":0},{"$nulls":5},{"$f":"SUM(Table1[[#This Row],[PO Employee]:[Other Employee]])","v":0},"N",{"$error":"#N/A"},{"$f":"IF(O488>39,Table1[[#This Row],[Calc 1]],IF(O488>1,\"Not counted as an Employee\",\"#NA\"))","v":"#NA"},{"$f":"MAX(Table1[[#This Row],[PO Employee]],Table1[[#This Row],[Other HZ Employee]],Table1[[#This Row],[Non HZ Employee]],Table1[[#This Row],[Job Site Employee]],Table1[[#This Row],[Other Employee]])","v":0},{"$f":"IF(Table1[[#This Row],[Total Hours per Month]]=Table1[[#This Row],[Column12]],\"Match\",\"Error\")","v":"Match"},{"$f":"IF(Table1[[#This Row],[Calc 2]]=\"#NA\",\"#NA\",IF(Table1[[#This Row],[Non HZ Employee]]=Table1[[#This Row],[Max calc]],\"Non HZ Employee\", Table1[[#This Row],[Calc 2]]))","v":"#NA"}]
[472," ",472,{"$nulls":5},{"$f":"SUM(Table1[[#This Row],[Column4]]+Table1[[#This Row],[Column3]]+Table1[[#This Row],[Column2]]+Table1[[#This Row],[Column1]])","v":0},{"$nulls":5},{"$f":"SUM(Table1[[#This Row],[PO Employee]:[Other Employee]])","v":0},"N",{"$error":"#N/A"},{"$f":"IF(O489>39,Table1[[#This Row],[Calc 1]],IF(O489>1,\"Not counted as an Employee\",\"#NA\"))","v":"#NA"},{"$f":"MAX(Table1[[#This Row],[PO Employee]],Table1[[#This Row],[Other HZ Employee]],Table1[[#This Row],[Non HZ Employee]],Table1[[#This Row],[Job Site Employee]],Table1[[#This Row],[Other Employee]])","v":0},{"$f":"IF(Table1[[#This Row],[Total Hours per Month]]=Table1[[#This Row],[Column12]],\"Match\",\"Error\")","v":"Match"},{"$f":"IF(Table1[[#This Row],[Calc 2]]=\"#NA\",\"#NA\",IF(Table1[[#This Row],[Non HZ Employee]]=Table1[[#This Row],[Max calc]],\"Non HZ Employee\", Table1[[#This Row],[Calc 2]]))","v":"#NA"}]
[473," ",473,{"$nulls":5},{"$f":"SUM(Table1[[#This Row],[Column4]]+Table1[[#This Row],[Column3]]+Table1[[#This Row],[Column2]]+Table1[[#This Row],[Column1]])","v":0},{"$nulls":5},{"$f":"SUM(Table1[[#This Row],[PO Employee]:[Other Employee]])","v":0},"N",{"$error":"#N/A"},{"$f":"IF(O490>39,Table1[[#This Row],[Calc 1]],IF(O490>1,\"Not counted as an Employee\",\"#NA\"))","v":"#NA"},{"$f":"MAX(Table1[[#This Row],[PO Employee]],Table1[[#This Row],[Other HZ Employee]],Table1[[#This Row],[Non HZ Employee]],Table1[[#This Row],[Job Site Employee]],Table1[[#This Row],[Other Employee]])","v":0},{"$f":"IF(Table1[[#This Row],[Total Hours per Month]]=Table1[[#This Row],[Column12]],\"Match\",\"Error\")","v":"Match"},{"$f":"IF(Table1[[#This Row],[Calc 2]]=\"#NA\",\"#NA\",IF(Table1[[#This Row],[Non HZ Employee]]=Table1[[#This Row],[Max calc]],\"Non HZ Employee\", Table1[[#This Row],[Calc 2]]))","v":"#NA"}]
[474," ",474,{"$nulls":5},{"$f":"SUM(Table1[[#This Row],[Column4]]+Table1[[#This Row],[Column3]]+Table1[[#This Row],[Column2]]+Table1[[#This Row],[Column1]])","v":0},{"$nulls":5},{"$f":"SUM(Table1[[#This Row],[PO Employee]:[Other Employee]])","v":0},"N",{"$error":"#N/A"},{"$f":"IF(O491>39,Table1[[#This Row],[Calc 1]],IF(O491>1,\"Not counted as an Employee\",\"#NA\"))","v":"#NA"},{"$f":"MAX(Table1[[#This Row],[PO Employee]],Table1[[#This Row],[Other HZ Employee]],Table1[[#This Row],[Non HZ Employee]],Table1[[#This Row],[Job Site Employee]],Table1[[#This Row],[Other Employee]])","v":0},{"$f":"IF(Table1[[#This Row],[Total Hours per Month]]=Table1[[#This Row],[Column12]],\"Match\",\"Error\")","v":"Match"},{"$f":"IF(Table1[[#This Row],[Calc 2]]=\"#NA\",\"#NA\",IF(Table1[[#This Row],[Non HZ Employee]]=Table1[[#This Row],[Max calc]],\"Non HZ Employee\", Table1[[#This Row],[Calc 2]]))","v":"#NA"}]
[475," ",475,{"$nulls":5},{"$f":"SUM(Table1[[#This Row],[Column4]]+Table1[[#This Row],[Column3]]+Table1[[#This Row],[Column2]]+Table1[[#This Row],[Column1]])","v":0},{"$nulls":5},{"$f":"SUM(Table1[[#This Row],[PO Employee]:[Other Employee]])","v":0},"N",{"$error":"#N/A"},{"$f":"IF(O492>39,Table1[[#This Row],[Calc 1]],IF(O492>1,\"Not counted as an Employee\",\"#NA\"))","v":"#NA"},{"$f":"MAX(Table1[[#This Row],[PO Employee]],Table1[[#This Row],[Other HZ Employee]],Table1[[#This Row],[Non HZ Employee]],Table1[[#This Row],[Job Site Employee]],Table1[[#This Row],[Other Employee]])","v":0},{"$f":"IF(Table1[[#This Row],[Total Hours per Month]]=Table1[[#This Row],[Column12]],\"Match\",\"Error\")","v":"Match"},{"$f":"IF(Table1[[#This Row],[Calc 2]]=\"#NA\",\"#NA\",IF(Table1[[#This Row],[Non HZ Employee]]=Table1[[#This Row],[Max calc]],\"Non HZ Employee\", Table1[[#This Row],[Calc 2]]))","v":"#NA"}]
[476," ",476,{"$nulls":5},{"$f":"SUM(Table1[[#This Row],[Column4]]+Table1[[#This Row],[Column3]]+Table1[[#This Row],[Column2]]+Table1[[#This Row],[Column1]])","v":0},{"$nulls":5},{"$f":"SUM(Table1[[#This Row],[PO Employee]:[Other Employee]])","v":0},"N",{"$error":"#N/A"},{"$f":"IF(O493>39,Table1[[#This Row],[Calc 1]],IF(O493>1,\"Not counted as an Employee\",\"#NA\"))","v":"#NA"},{"$f":"MAX(Table1[[#This Row],[PO Employee]],Table1[[#This Row],[Other HZ Employee]],Table1[[#This Row],[Non HZ Employee]],Table1[[#This Row],[Job Site Employee]],Table1[[#This Row],[Other Employee]])","v":0},{"$f":"IF(Table1[[#This Row],[Total Hours per Month]]=Table1[[#This Row],[Column12]],\"Match\",\"Error\")","v":"Match"},{"$f":"IF(Table1[[#This Row],[Calc 2]]=\"#NA\",\"#NA\",IF(Table1[[#This Row],[Non HZ Employee]]=Table1[[#This Row],[Max calc]],\"Non HZ Employee\", Table1[[#This Row],[Calc 2]]))","v":"#NA"}]
[477," ",477,{"$nulls":5},{"$f":"SUM(Table1[[#This Row],[Column4]]+Table1[[#This Row],[Column3]]+Table1[[#This Row],[Column2]]+Table1[[#This Row],[Column1]])","v":0},{"$nulls":5},{"$f":"SUM(Table1[[#This Row],[PO Employee]:[Other Employee]])","v":0},"N",{"$error":"#N/A"},{"$f":"IF(O494>39,Table1[[#This Row],[Calc 1]],IF(O494>1,\"Not counted as an Employee\",\"#NA\"))","v":"#NA"},{"$f":"MAX(Table1[[#This Row],[PO Employee]],Table1[[#This Row],[Other HZ Employee]],Table1[[#This Row],[Non HZ Employee]],Table1[[#This Row],[Job Site Employee]],Table1[[#This Row],[Other Employee]])","v":0},{"$f":"IF(Table1[[#This Row],[Total Hours per Month]]=Table1[[#This Row],[Column12]],\"Match\",\"Error\")","v":"Match"},{"$f":"IF(Table1[[#This Row],[Calc 2]]=\"#NA\",\"#NA\",IF(Table1[[#This Row],[Non HZ Employee]]=Table1[[#This Row],[Max calc]],\"Non HZ Employee\", Table1[[#This Row],[Calc 2]]))","v":"#NA"}]
[478," ",478,{"$nulls":5},{"$f":"SUM(Table1[[#This Row],[Column4]]+Table1[[#This Row],[Column3]]+Table1[[#This Row],[Column2]]+Table1[[#This Row],[Column1]])","v":0},{"$nulls":5},{"$f":"SUM(Table1[[#This Row],[PO Employee]:[Other Employee]])","v":0},"N",{"$error":"#N/A"},{"$f":"IF(O495>39,Table1[[#This Row],[Calc 1]],IF(O495>1,\"Not counted as an Employee\",\"#NA\"))","v":"#NA"},{"$f":"MAX(Table1[[#This Row],[PO Employee]],Table1[[#This Row],[Other HZ Employee]],Table1[[#This Row],[Non HZ Employee]],Table1[[#This Row],[Job Site Employee]],Table1[[#This Row],[Other Employee]])","v":0},{"$f":"IF(Table1[[#This Row],[Total Hours per Month]]=Table1[[#This Row],[Column12]],\"Match\",\"Error\")","v":"Match"},{"$f":"IF(Table1[[#This Row],[Calc 2]]=\"#NA\",\"#NA\",IF(Table1[[#This Row],[Non HZ Employee]]=Table1[[#This Row],[Max calc]],\"Non HZ Employee\", Table1[[#This Row],[Calc 2]]))","v":"#NA"}]
[479," ",479,{"$nulls":5},{"$f":"SUM(Table1[[#This Row],[Column4]]+Table1[[#This Row],[Column3]]+Table1[[#This Row],[Column2]]+Table1[[#This Row],[Column1]])","v":0},{"$nulls":5},{"$f":"SUM(Table1[[#This Row],[PO Employee]:[Other Employee]])","v":0},"N",{"$error":"#N/A"},{"$f":"IF(O496>39,Table1[[#This Row],[Calc 1]],IF(O496>1,\"Not counted as an Employee\",\"#NA\"))","v":"#NA"},{"$f":"MAX(Table1[[#This Row],[PO Employee]],Table1[[#This Row],[Other HZ Employee]],Table1[[#This Row],[Non HZ Employee]],Table1[[#This Row],[Job Site Employee]],Table1[[#This Row],[Other Employee]])","v":0},{"$f":"IF(Table1[[#This Row],[Total Hours per Month]]=Table1[[#This Row],[Column12]],\"Match\",\"Error\")","v":"Match"},{"$f":"IF(Table1[[#This Row],[Calc 2]]=\"#NA\",\"#NA\",IF(Table1[[#This Row],[Non HZ Employee]]=Table1[[#This Row],[Max calc]],\"Non HZ Employee\", Table1[[#This Row],[Calc 2]]))","v":"#NA"}]
[480," ",480,{"$nulls":5},{"$f":"SUM(Table1[[#This Row],[Column4]]+Table1[[#This Row],[Column3]]+Table1[[#This Row],[Column2]]+Table1[[#This Row],[Column1]])","v":0},{"$nulls":5},{"$f":"SUM(Table1[[#This Row],[PO Employee]:[Other Employee]])","v":0},"N",{"$error":"#N/A"},{"$f":"IF(O497>39,Table1[[#This Row],[Calc 1]],IF(O497>1,\"Not counted as an Employee\",\"#NA\"))","v":"#NA"},{"$f":"MAX(Table1[[#This Row],[PO Employee]],Table1[[#This Row],[Other HZ Employee]],Table1[[#This Row],[Non HZ Employee]],Table1[[#This Row],[Job Site Employee]],Table1[[#This Row],[Other Employee]])","v":0},{"$f":"IF(Table1[[#This Row],[Total Hours per Month]]=Table1[[#This Row],[Column12]],\"Match\",\"Error\")","v":"Match"},{"$f":"IF(Table1[[#This Row],[Calc 2]]=\"#NA\",\"#NA\",IF(Table1[[#This Row],[Non HZ Employee]]=Table1[[#This Row],[Max calc]],\"Non HZ Employee\", Table1[[#This Row],[Calc 2]]))","v":"#NA"}]
[481," ",481,{"$nulls":5},{"$f":"SUM(Table1[[#This Row],[Column4]]+Table1[[#This Row],[Column3]]+Table1[[#This Row],[Column2]]+Table1[[#This Row],[Column1]])","v":0},{"$nulls":5},{"$f":"SUM(Table1[[#This Row],[PO Employee]:[Other Employee]])","v":0},"N",{"$error":"#N/A"},{"$f":"IF(O498>39,Table1[[#This Row],[Calc 1]],IF(O498>1,\"Not counted as an Employee\",\"#NA\"))","v":"#NA"},{"$f":"MAX(Table1[[#This Row],[PO Employee]],Table1[[#This Row],[Other HZ Employee]],Table1[[#This Row],[Non HZ Employee]],Table1[[#This Row],[Job Site Employee]],Table1[[#This Row],[Other Employee]])","v":0},{"$f":"IF(Table1[[#This Row],[Total Hours per Month]]=Table1[[#This Row],[Column12]],\"Match\",\"Error\")","v":"Match"},{"$f":"IF(Table1[[#This Row],[Calc 2]]=\"#NA\",\"#NA\",IF(Table1[[#This Row],[Non HZ Employee]]=Table1[[#This Row],[Max calc]],\"Non HZ Employee\", Table1[[#This Row],[Calc 2]]))","v":"#NA"}]
[482," ",482,{"$nulls":5},{"$f":"SUM(Table1[[#This Row],[Column4]]+Table1[[#This Row],[Column3]]+Table1[[#This Row],[Column2]]+Table1[[#This Row],[Column1]])","v":0},{"$nulls":5},{"$f":"SUM(Table1[[#This Row],[PO Employee]:[Other Employee]])","v":0},"N",{"$error":"#N/A"},{"$f":"IF(O499>39,Table1[[#This Row],[Calc 1]],IF(O499>1,\"Not counted as an Employee\",\"#NA\"))","v":"#NA"},{"$f":"MAX(Table1[[#This Row],[PO Employee]],Table1[[#This Row],[Other HZ Employee]],Table1[[#This Row],[Non HZ Employee]],Table1[[#This Row],[Job Site Employee]],Table1[[#This Row],[Other Employee]])","v":0},{"$f":"IF(Table1[[#This Row],[Total Hours per Month]]=Table1[[#This Row],[Column12]],\"Match\",\"Error\")","v":"Match"},{"$f":"IF(Table1[[#This Row],[Calc 2]]=\"#NA\",\"#NA\",IF(Table1[[#This Row],[Non HZ Employee]]=Table1[[#This Row],[Max calc]],\"Non HZ Employee\", Table1[[#This Row],[Calc 2]]))","v":"#NA"}]
[483," ",483,{"$nulls":5},{"$f":"SUM(Table1[[#This Row],[Column4]]+Table1[[#This Row],[Column3]]+Table1[[#This Row],[Column2]]+Table1[[#This Row],[Column1]])","v":0},{"$nulls":5},{"$f":"SUM(Table1[[#This Row],[PO Employee]:[Other Employee]])","v":0},"N",{"$error":"#N/A"},{"$f":"IF(O500>39,Table1[[#This Row],[Calc 1]],IF(O500>1,\"Not counted as an Employee\",\"#NA\"))","v":"#NA"},{"$f":"MAX(Table1[[#This Row],[PO Employee]],Table1[[#This Row],[Other HZ Employee]],Table1[[#This Row],[Non HZ Employee]],Table1[[#This Row],[Job Site Employee]],Table1[[#This Row],[Other Employee]])","v":0},{"$f":"IF(Table1[[#This Row],[Total Hours per Month]]=Table1[[#This Row],[Column12]],\"Match\",\"Error\")","v":"Match"},{"$f":"IF(Table1[[#This Row],[Calc 2]]=\"#NA\",\"#NA\",IF(Table1[[#This Row],[Non HZ Employee]]=Table1[[#This Row],[Max calc]],\"Non HZ Employee\", Table1[[#This Row],[Calc 2]]))","v":"#NA"}]
[484," ",484,{"$nulls":5},{"$f":"SUM(Table1[[#This Row],[Column4]]+Table1[[#This Row],[Column3]]+Table1[[#This Row],[Column2]]+Table1[[#This Row],[Column1]])","v":0},{"$nulls":5},{"$f":"SUM(Table1[[#This Row],[PO Employee]:[Other Employee]])","v":0},"N",{"$error":"#N/A"},{"$f":"IF(O501>39,Table1[[#This Row],[Calc 1]],IF(O501>1,\"Not counted as an Employee\",\"#NA\"))","v":"#NA"},{"$f":"MAX(Table1[[#This Row],[PO Employee]],Table1[[#This Row],[Other HZ Employee]],Table1[[#This Row],[Non HZ Employee]],Table1[[#This Row],[Job Site Employee]],Table1[[#This Row],[Other Employee]])","v":0},{"$f":"IF(Table1[[#This Row],[Total Hours per Month]]=Table1[[#This Row],[Column12]],\"Match\",\"Error\")","v":"Match"},{"$f":"IF(Table1[[#This Row],[Calc 2]]=\"#NA\",\"#NA\",IF(Table1[[#This Row],[Non HZ Employee]]=Table1[[#This Row],[Max calc]],\"Non HZ Employee\", Table1[[#This Row],[Calc 2]]))","v":"#NA"}]
[485," ",485,{"$nulls":5},{"$f":"SUM(Table1[[#This Row],[Column4]]+Table1[[#This Row],[Column3]]+Table1[[#This Row],[Column2]]+Table1[[#This Row],[Column1]])","v":0},{"$nulls":5},{"$f":"SUM(Table1[[#This Row],[PO Employee]:[Other Employee]])","v":0},"N",{"$error":"#N/A"},{"$f":"IF(O502>39,Table1[[#This Row],[Calc 1]],IF(O502>1,\"Not counted as an Employee\",\"#NA\"))","v":"#NA"},{"$f":"MAX(Table1[[#This Row],[PO Employee]],Table1[[#This Row],[Other HZ Employee]],Table1[[#This Row],[Non HZ Employee]],Table1[[#This Row],[Job Site Employee]],Table1[[#This Row],[Other Employee]])","v":0},{"$f":"IF(Table1[[#This Row],[Total Hours per Month]]=Table1[[#This Row],[Column12]],\"Match\",\"Error\")","v":"Match"},{"$f":"IF(Table1[[#This Row],[Calc 2]]=\"#NA\",\"#NA\",IF(Table1[[#This Row],[Non HZ Employee]]=Table1[[#This Row],[Max calc]],\"Non HZ Employee\", Table1[[#This Row],[Calc 2]]))","v":"#NA"}]
[486," ",486,{"$nulls":5},{"$f":"SUM(Table1[[#This Row],[Column4]]+Table1[[#This Row],[Column3]]+Table1[[#This Row],[Column2]]+Table1[[#This Row],[Column1]])","v":0},{"$nulls":5},{"$f":"SUM(Table1[[#This Row],[PO Employee]:[Other Employee]])","v":0},"N",{"$error":"#N/A"},{"$f":"IF(O503>39,Table1[[#This Row],[Calc 1]],IF(O503>1,\"Not counted as an Employee\",\"#NA\"))","v":"#NA"},{"$f":"MAX(Table1[[#This Row],[PO Employee]],Table1[[#This Row],[Other HZ Employee]],Table1[[#This Row],[Non HZ Employee]],Table1[[#This Row],[Job Site Employee]],Table1[[#This Row],[Other Employee]])","v":0},{"$f":"IF(Table1[[#This Row],[Total Hours per Month]]=Table1[[#This Row],[Column12]],\"Match\",\"Error\")","v":"Match"},{"$f":"IF(Table1[[#This Row],[Calc 2]]=\"#NA\",\"#NA\",IF(Table1[[#This Row],[Non HZ Employee]]=Table1[[#This Row],[Max calc]],\"Non HZ Employee\", Table1[[#This Row],[Calc 2]]))","v":"#NA"}]
[487," ",487,{"$nulls":5},{"$f":"SUM(Table1[[#This Row],[Column4]]+Table1[[#This Row],[Column3]]+Table1[[#This Row],[Column2]]+Table1[[#This Row],[Column1]])","v":0},{"$nulls":5},{"$f":"SUM(Table1[[#This Row],[PO Employee]:[Other Employee]])","v":0},"N",{"$error":"#N/A"},{"$f":"IF(O504>39,Table1[[#This Row],[Calc 1]],IF(O504>1,\"Not counted as an Employee\",\"#NA\"))","v":"#NA"},{"$f":"MAX(Table1[[#This Row],[PO Employee]],Table1[[#This Row],[Other HZ Employee]],Table1[[#This Row],[Non HZ Employee]],Table1[[#This Row],[Job Site Employee]],Table1[[#This Row],[Other Employee]])","v":0},{"$f":"IF(Table1[[#This Row],[Total Hours per Month]]=Table1[[#This Row],[Column12]],\"Match\",\"Error\")","v":"Match"},{"$f":"IF(Table1[[#This Row],[Calc 2]]=\"#NA\",\"#NA\",IF(Table1[[#This Row],[Non HZ Employee]]=Table1[[#This Row],[Max calc]],\"Non HZ Employee\", Table1[[#This Row],[Calc 2]]))","v":"#NA"}]
[488," ",488,{"$nulls":5},{"$f":"SUM(Table1[[#This Row],[Column4]]+Table1[[#This Row],[Column3]]+Table1[[#This Row],[Column2]]+Table1[[#This Row],[Column1]])","v":0},{"$nulls":5},{"$f":"SUM(Table1[[#This Row],[PO Employee]:[Other Employee]])","v":0},"N",{"$error":"#N/A"},{"$f":"IF(O505>39,Table1[[#This Row],[Calc 1]],IF(O505>1,\"Not counted as an Employee\",\"#NA\"))","v":"#NA"},{"$f":"MAX(Table1[[#This Row],[PO Employee]],Table1[[#This Row],[Other HZ Employee]],Table1[[#This Row],[Non HZ Employee]],Table1[[#This Row],[Job Site Employee]],Table1[[#This Row],[Other Employee]])","v":0},{"$f":"IF(Table1[[#This Row],[Total Hours per Month]]=Table1[[#This Row],[Column12]],\"Match\",\"Error\")","v":"Match"},{"$f":"IF(Table1[[#This Row],[Calc 2]]=\"#NA\",\"#NA\",IF(Table1[[#This Row],[Non HZ Employee]]=Table1[[#This Row],[Max calc]],\"Non HZ Employee\", Table1[[#This Row],[Calc 2]]))","v":"#NA"}]
[489," ",489,{"$nulls":5},{"$f":"SUM(Table1[[#This Row],[Column4]]+Table1[[#This Row],[Column3]]+Table1[[#This Row],[Column2]]+Table1[[#This Row],[Column1]])","v":0},{"$nulls":5},{"$f":"SUM(Table1[[#This Row],[PO Employee]:[Other Employee]])","v":0},"N",{"$error":"#N/A"},{"$f":"IF(O506>39,Table1[[#This Row],[Calc 1]],IF(O506>1,\"Not counted as an Employee\",\"#NA\"))","v":"#NA"},{"$f":"MAX(Table1[[#This Row],[PO Employee]],Table1[[#This Row],[Other HZ Employee]],Table1[[#This Row],[Non HZ Employee]],Table1[[#This Row],[Job Site Employee]],Table1[[#This Row],[Other Employee]])","v":0},{"$f":"IF(Table1[[#This Row],[Total Hours per Month]]=Table1[[#This Row],[Column12]],\"Match\",\"Error\")","v":"Match"},{"$f":"IF(Table1[[#This Row],[Calc 2]]=\"#NA\",\"#NA\",IF(Table1[[#This Row],[Non HZ Employee]]=Table1[[#This Row],[Max calc]],\"Non HZ Employee\", Table1[[#This Row],[Calc 2]]))","v":"#NA"}]
[490," ",490,{"$nulls":5},{"$f":"SUM(Table1[[#This Row],[Column4]]+Table1[[#This Row],[Column3]]+Table1[[#This Row],[Column2]]+Table1[[#This Row],[Column1]])","v":0},{"$nulls":5},{"$f":"SUM(Table1[[#This Row],[PO Employee]:[Other Employee]])","v":0},"N",{"$error":"#N/A"},{"$f":"IF(O507>39,Table1[[#This Row],[Calc 1]],IF(O507>1,\"Not counted as an Employee\",\"#NA\"))","v":"#NA"},{"$f":"MAX(Table1[[#This Row],[PO Employee]],Table1[[#This Row],[Other HZ Employee]],Table1[[#This Row],[Non HZ Employee]],Table1[[#This Row],[Job Site Employee]],Table1[[#This Row],[Other Employee]])","v":0},{"$f":"IF(Table1[[#This Row],[Total Hours per Month]]=Table1[[#This Row],[Column12]],\"Match\",\"Error\")","v":"Match"},{"$f":"IF(Table1[[#This Row],[Calc 2]]=\"#NA\",\"#NA\",IF(Table1[[#This Row],[Non HZ Employee]]=Table1[[#This Row],[Max calc]],\"Non HZ Employee\", Table1[[#This Row],[Calc 2]]))","v":"#NA"}]
[491," ",491,{"$nulls":5},{"$f":"SUM(Table1[[#This Row],[Column4]]+Table1[[#This Row],[Column3]]+Table1[[#This Row],[Column2]]+Table1[[#This Row],[Column1]])","v":0},{"$nulls":5},{"$f":"SUM(Table1[[#This Row],[PO Employee]:[Other Employee]])","v":0},"N",{"$error":"#N/A"},{"$f":"IF(O508>39,Table1[[#This Row],[Calc 1]],IF(O508>1,\"Not counted as an Employee\",\"#NA\"))","v":"#NA"},{"$f":"MAX(Table1[[#This Row],[PO Employee]],Table1[[#This Row],[Other HZ Employee]],Table1[[#This Row],[Non HZ Employee]],Table1[[#This Row],[Job Site Employee]],Table1[[#This Row],[Other Employee]])","v":0},{"$f":"IF(Table1[[#This Row],[Total Hours per Month]]=Table1[[#This Row],[Column12]],\"Match\",\"Error\")","v":"Match"},{"$f":"IF(Table1[[#This Row],[Calc 2]]=\"#NA\",\"#NA\",IF(Table1[[#This Row],[Non HZ Employee]]=Table1[[#This Row],[Max calc]],\"Non HZ Employee\", Table1[[#This Row],[Calc 2]]))","v":"#NA"}]
[492," ",492,{"$nulls":5},{"$f":"SUM(Table1[[#This Row],[Column4]]+Table1[[#This Row],[Column3]]+Table1[[#This Row],[Column2]]+Table1[[#This Row],[Column1]])","v":0},{"$nulls":5},{"$f":"SUM(Table1[[#This Row],[PO Employee]:[Other Employee]])","v":0},"N",{"$error":"#N/A"},{"$f":"IF(O509>39,Table1[[#This Row],[Calc 1]],IF(O509>1,\"Not counted as an Employee\",\"#NA\"))","v":"#NA"},{"$f":"MAX(Table1[[#This Row],[PO Employee]],Table1[[#This Row],[Other HZ Employee]],Table1[[#This Row],[Non HZ Employee]],Table1[[#This Row],[Job Site Employee]],Table1[[#This Row],[Other Employee]])","v":0},{"$f":"IF(Table1[[#This Row],[Total Hours per Month]]=Table1[[#This Row],[Column12]],\"Match\",\"Error\")","v":"Match"},{"$f":"IF(Table1[[#This Row],[Calc 2]]=\"#NA\",\"#NA\",IF(Table1[[#This Row],[Non HZ Employee]]=Table1[[#This Row],[Max calc]],\"Non HZ Employee\", Table1[[#This Row],[Calc 2]]))","v":"#NA"}]
[493," ",493,{"$nulls":5},{"$f":"SUM(Table1[[#This Row],[Column4]]+Table1[[#This Row],[Column3]]+Table1[[#This Row],[Column2]]+Table1[[#This Row],[Column1]])","v":0},{"$nulls":5},{"$f":"SUM(Table1[[#This Row],[PO Employee]:[Other Employee]])","v":0},"N",{"$error":"#N/A"},{"$f":"IF(O510>39,Table1[[#This Row],[Calc 1]],IF(O510>1,\"Not counted as an Employee\",\"#NA\"))","v":"#NA"},{"$f":"MAX(Table1[[#This Row],[PO Employee]],Table1[[#This Row],[Other HZ Employee]],Table1[[#This Row],[Non HZ Employee]],Table1[[#This Row],[Job Site Employee]],Table1[[#This Row],[Other Employee]])","v":0},{"$f":"IF(Table1[[#This Row],[Total Hours per Month]]=Table1[[#This Row],[Column12]],\"Match\",\"Error\")","v":"Match"},{"$f":"IF(Table1[[#This Row],[Calc 2]]=\"#NA\",\"#NA\",IF(Table1[[#This Row],[Non HZ Employee]]=Table1[[#This Row],[Max calc]],\"Non HZ Employee\", Table1[[#This Row],[Calc 2]]))","v":"#NA"}]
[494," ",494,{"$nulls":5},{"$f":"SUM(Table1[[#This Row],[Column4]]+Table1[[#This Row],[Column3]]+Table1[[#This Row],[Column2]]+Table1[[#This Row],[Column1]])","v":0},{"$nulls":5},{"$f":"SUM(Table1[[#This Row],[PO Employee]:[Other Employee]])","v":0},"N",{"$error":"#N/A"},{"$f":"IF(O511>39,Table1[[#This Row],[Calc 1]],IF(O511>1,\"Not counted as an Employee\",\"#NA\"))","v":"#NA"},{"$f":"MAX(Table1[[#This Row],[PO Employee]],Table1[[#This Row],[Other HZ Employee]],Table1[[#This Row],[Non HZ Employee]],Table1[[#This Row],[Job Site Employee]],Table1[[#This Row],[Other Employee]])","v":0},{"$f":"IF(Table1[[#This Row],[Total Hours per Month]]=Table1[[#This Row],[Column12]],\"Match\",\"Error\")","v":"Match"},{"$f":"IF(Table1[[#This Row],[Calc 2]]=\"#NA\",\"#NA\",IF(Table1[[#This Row],[Non HZ Employee]]=Table1[[#This Row],[Max calc]],\"Non HZ Employee\", Table1[[#This Row],[Calc 2]]))","v":"#NA"}]
[495," ",495,{"$nulls":5},{"$f":"SUM(Table1[[#This Row],[Column4]]+Table1[[#This Row],[Column3]]+Table1[[#This Row],[Column2]]+Table1[[#This Row],[Column1]])","v":0},{"$nulls":5},{"$f":"SUM(Table1[[#This Row],[PO Employee]:[Other Employee]])","v":0},"N",{"$error":"#N/A"},{"$f":"IF(O512>39,Table1[[#This Row],[Calc 1]],IF(O512>1,\"Not counted as an Employee\",\"#NA\"))","v":"#NA"},{"$f":"MAX(Table1[[#This Row],[PO Employee]],Table1[[#This Row],[Other HZ Employee]],Table1[[#This Row],[Non HZ Employee]],Table1[[#This Row],[Job Site Employee]],Table1[[#This Row],[Other Employee]])","v":0},{"$f":"IF(Table1[[#This Row],[Total Hours per Month]]=Table1[[#This Row],[Column12]],\"Match\",\"Error\")","v":"Match"},{"$f":"IF(Table1[[#This Row],[Calc 2]]=\"#NA\",\"#NA\",IF(Table1[[#This Row],[Non HZ Employee]]=Table1[[#This Row],[Max calc]],\"Non HZ Employee\", Table1[[#This Row],[Calc 2]]))","v":"#NA"}]
[496," ",496,{"$nulls":5},{"$f":"SUM(Table1[[#This Row],[Column4]]+Table1[[#This Row],[Column3]]+Table1[[#This Row],[Column2]]+Table1[[#This Row],[Column1]])","v":0},{"$nulls":5},{"$f":"SUM(Table1[[#This Row],[PO Employee]:[Other Employee]])","v":0},"N",{"$error":"#N/A"},{"$f":"IF(O513>39,Table1[[#This Row],[Calc 1]],IF(O513>1,\"Not counted as an Employee\",\"#NA\"))","v":"#NA"},{"$f":"MAX(Table1[[#This Row],[PO Employee]],Table1[[#This Row],[Other HZ Employee]],Table1[[#This Row],[Non HZ Employee]],Table1[[#This Row],[Job Site Employee]],Table1[[#This Row],[Other Employee]])","v":0},{"$f":"IF(Table1[[#This Row],[Total Hours per Month]]=Table1[[#This Row],[Column12]],\"Match\",\"Error\")","v":"Match"},{"$f":"IF(Table1[[#This Row],[Calc 2]]=\"#NA\",\"#NA\",IF(Table1[[#This Row],[Non HZ Employee]]=Table1[[#This Row],[Max calc]],\"Non HZ Employee\", Table1[[#This Row],[Calc 2]]))","v":"#NA"}]
[497," ",497,{"$nulls":5},{"$f":"SUM(Table1[[#This Row],[Column4]]+Table1[[#This Row],[Column3]]+Table1[[#This Row],[Column2]]+Table1[[#This Row],[Column1]])","v":0},{"$nulls":5},{"$f":"SUM(Table1[[#This Row],[PO Employee]:[Other Employee]])","v":0},"N",{"$error":"#N/A"},{"$f":"IF(O514>39,Table1[[#This Row],[Calc 1]],IF(O514>1,\"Not counted as an Employee\",\"#NA\"))","v":"#NA"},{"$f":"MAX(Table1[[#This Row],[PO Employee]],Table1[[#This Row],[Other HZ Employee]],Table1[[#This Row],[Non HZ Employee]],Table1[[#This Row],[Job Site Employee]],Table1[[#This Row],[Other Employee]])","v":0},{"$f":"IF(Table1[[#This Row],[Total Hours per Month]]=Table1[[#This Row],[Column12]],\"Match\",\"Error\")","v":"Match"},{"$f":"IF(Table1[[#This Row],[Calc 2]]=\"#NA\",\"#NA\",IF(Table1[[#This Row],[Non HZ Employee]]=Table1[[#This Row],[Max calc]],\"Non HZ Employee\", Table1[[#This Row],[Calc 2]]))","v":"#NA"}]
[498," ",498,{"$nulls":5},{"$f":"SUM(Table1[[#This Row],[Column4]]+Table1[[#This Row],[Column3]]+Table1[[#This Row],[Column2]]+Table1[[#This Row],[Column1]])","v":0},{"$nulls":5},{"$f":"SUM(Table1[[#This Row],[PO Employee]:[Other Employee]])","v":0},"N",{"$error":"#N/A"},{"$f":"IF(O515>39,Table1[[#This Row],[Calc 1]],IF(O515>1,\"Not counted as an Employee\",\"#NA\"))","v":"#NA"},{"$f":"MAX(Table1[[#This Row],[PO Employee]],Table1[[#This Row],[Other HZ Employee]],Table1[[#This Row],[Non HZ Employee]],Table1[[#This Row],[Job Site Employee]],Table1[[#This Row],[Other Employee]])","v":0},{"$f":"IF(Table1[[#This Row],[Total Hours per Month]]=Table1[[#This Row],[Column12]],\"Match\",\"Error\")","v":"Match"},{"$f":"IF(Table1[[#This Row],[Calc 2]]=\"#NA\",\"#NA\",IF(Table1[[#This Row],[Non HZ Employee]]=Table1[[#This Row],[Max calc]],\"Non HZ Employee\", Table1[[#This Row],[Calc 2]]))","v":"#NA"}]
[499," ",499,{"$nulls":5},{"$f":"SUM(Table1[[#This Row],[Column4]]+Table1[[#This Row],[Column3]]+Table1[[#This Row],[Column2]]+Table1[[#This Row],[Column1]])","v":0},{"$nulls":5},{"$f":"SUM(Table1[[#This Row],[PO Employee]:[Other Employee]])","v":0},"N",{"$error":"#N/A"},{"$f":"IF(O516>39,Table1[[#This Row],[Calc 1]],IF(O516>1,\"Not counted as an Employee\",\"#NA\"))","v":"#NA"},{"$f":"MAX(Table1[[#This Row],[PO Employee]],Table1[[#This Row],[Other HZ Employee]],Table1[[#This Row],[Non HZ Employee]],Table1[[#This Row],[Job Site Employee]],Table1[[#This Row],[Other Employee]])","v":0},{"$f":"IF(Table1[[#This Row],[Total Hours per Month]]=Table1[[#This Row],[Column12]],\"Match\",\"Error\")","v":"Match"},{"$f":"IF(Table1[[#This Row],[Calc 2]]=\"#NA\",\"#NA\",IF(Table1[[#This Row],[Non HZ Employee]]=Table1[[#This Row],[Max calc]],\"Non HZ Employee\", Table1[[#This Row],[Calc 2]]))","v":"#NA"}]
[500," ",500,{"$nulls":5},{"$f":"SUM(Table1[[#This Row],[Column4]]+Table1[[#This Row],[Column3]]+Table1[[#This Row],[Column2]]+Table1[[#This Row],[Column1]])","v":0},{"$nulls":5},{"$f":"SUM(Table1[[#This Row],[PO Employee]:[Other Employee]])","v":0},"N",{"$error":"#N/A"},{"$f":"IF(O517>39,Table1[[#This Row],[Calc 1]],IF(O517>1,\"Not counted as an Employee\",\"#NA\"))","v":"#NA"},{"$f":"MAX(Table1[[#This Row],[PO Employee]],Table1[[#This Row],[Other HZ Employee]],Table1[[#This Row],[Non HZ Employee]],Table1[[#This Row],[Job Site Employee]],Table1[[#This Row],[Other Employee]])","v":0},{"$f":"IF(Table1[[#This Row],[Total Hours per Month]]=Table1[[#This Row],[Column12]],\"Match\",\"Error\")","v":"Match"},{"$f":"IF(Table1[[#This Row],[Calc 2]]=\"#NA\",\"#NA\",IF(Table1[[#This Row],[Non HZ Employee]]=Table1[[#This Row],[Max calc]],\"Non HZ Employee\", Table1[[#This Row],[Calc 2]]))","v":"#NA"}]
[501," ",501,{"$nulls":5},{"$f":"SUM(Table1[[#This Row],[Column4]]+Table1[[#This Row],[Column3]]+Table1[[#This Row],[Column2]]+Table1[[#This Row],[Column1]])","v":0},{"$nulls":5},{"$f":"SUM(Table1[[#This Row],[PO Employee]:[Other Employee]])","v":0},"N",{"$error":"#N/A"},{"$f":"IF(O518>39,Table1[[#This Row],[Calc 1]],IF(O518>1,\"Not counted as an Employee\",\"#NA\"))","v":"#NA"},{"$f":"MAX(Table1[[#This Row],[PO Employee]],Table1[[#This Row],[Other HZ Employee]],Table1[[#This Row],[Non HZ Employee]],Table1[[#This Row],[Job Site Employee]],Table1[[#This Row],[Other Employee]])","v":0},{"$f":"IF(Table1[[#This Row],[Total Hours per Month]]=Table1[[#This Row],[Column12]],\"Match\",\"Error\")","v":"Match"},{"$f":"IF(Table1[[#This Row],[Calc 2]]=\"#NA\",\"#NA\",IF(Table1[[#This Row],[Non HZ Employee]]=Table1[[#This Row],[Max calc]],\"Non HZ Employee\", Table1[[#This Row],[Calc 2]]))","v":"#NA"}]
[502," ",502,{"$nulls":5},{"$f":"SUM(Table1[[#This Row],[Column4]]+Table1[[#This Row],[Column3]]+Table1[[#This Row],[Column2]]+Table1[[#This Row],[Column1]])","v":0},{"$nulls":5},{"$f":"SUM(Table1[[#This Row],[PO Employee]:[Other Employee]])","v":0},"N",{"$error":"#N/A"},{"$f":"IF(O519>39,Table1[[#This Row],[Calc 1]],IF(O519>1,\"Not counted as an Employee\",\"#NA\"))","v":"#NA"},{"$f":"MAX(Table1[[#This Row],[PO Employee]],Table1[[#This Row],[Other HZ Employee]],Table1[[#This Row],[Non HZ Employee]],Table1[[#This Row],[Job Site Employee]],Table1[[#This Row],[Other Employee]])","v":0},{"$f":"IF(Table1[[#This Row],[Total Hours per Month]]=Table1[[#This Row],[Column12]],\"Match\",\"Error\")","v":"Match"},{"$f":"IF(Table1[[#This Row],[Calc 2]]=\"#NA\",\"#NA\",IF(Table1[[#This Row],[Non HZ Employee]]=Table1[[#This Row],[Max calc]],\"Non HZ Employee\", Table1[[#This Row],[Calc 2]]))","v":"#NA"}]
[503," ",503,{"$nulls":5},{"$f":"SUM(Table1[[#This Row],[Column4]]+Table1[[#This Row],[Column3]]+Table1[[#This Row],[Column2]]+Table1[[#This Row],[Column1]])","v":0},{"$nulls":5},{"$f":"SUM(Table1[[#This Row],[PO Employee]:[Other Employee]])","v":0},"N",{"$error":"#N/A"},{"$f":"IF(O520>39,Table1[[#This Row],[Calc 1]],IF(O520>1,\"Not counted as an Employee\",\"#NA\"))","v":"#NA"},{"$f":"MAX(Table1[[#This Row],[PO Employee]],Table1[[#This Row],[Other HZ Employee]],Table1[[#This Row],[Non HZ Employee]],Table1[[#This Row],[Job Site Employee]],Table1[[#This Row],[Other Employee]])","v":0},{"$f":"IF(Table1[[#This Row],[Total Hours per Month]]=Table1[[#This Row],[Column12]],\"Match\",\"Error\")","v":"Match"},{"$f":"IF(Table1[[#This Row],[Calc 2]]=\"#NA\",\"#NA\",IF(Table1[[#This Row],[Non HZ Employee]]=Table1[[#This Row],[Max calc]],\"Non HZ Employee\", Table1[[#This Row],[Calc 2]]))","v":"#NA"}]
[504," ",504,{"$nulls":5},{"$f":"SUM(Table1[[#This Row],[Column4]]+Table1[[#This Row],[Column3]]+Table1[[#This Row],[Column2]]+Table1[[#This Row],[Column1]])","v":0},{"$nulls":5},{"$f":"SUM(Table1[[#This Row],[PO Employee]:[Other Employee]])","v":0},"N",{"$error":"#N/A"},{"$f":"IF(O521>39,Table1[[#This Row],[Calc 1]],IF(O521>1,\"Not counted as an Employee\",\"#NA\"))","v":"#NA"},{"$f":"MAX(Table1[[#This Row],[PO Employee]],Table1[[#This Row],[Other HZ Employee]],Table1[[#This Row],[Non HZ Employee]],Table1[[#This Row],[Job Site Employee]],Table1[[#This Row],[Other Employee]])","v":0},{"$f":"IF(Table1[[#This Row],[Total Hours per Month]]=Table1[[#This Row],[Column12]],\"Match\",\"Error\")","v":"Match"},{"$f":"IF(Table1[[#This Row],[Calc 2]]=\"#NA\",\"#NA\",IF(Table1[[#This Row],[Non HZ Employee]]=Table1[[#This Row],[Max calc]],\"Non HZ Employee\", Table1[[#This Row],[Calc 2]]))","v":"#NA"}]
[505," ",505,{"$nulls":5},{"$f":"SUM(Table1[[#This Row],[Column4]]+Table1[[#This Row],[Column3]]+Table1[[#This Row],[Column2]]+Table1[[#This Row],[Column1]])","v":0},{"$nulls":5},{"$f":"SUM(Table1[[#This Row],[PO Employee]:[Other Employee]])","v":0},"N",{"$error":"#N/A"},{"$f":"IF(O522>39,Table1[[#This Row],[Calc 1]],IF(O522>1,\"Not counted as an Employee\",\"#NA\"))","v":"#NA"},{"$f":"MAX(Table1[[#This Row],[PO Employee]],Table1[[#This Row],[Other HZ Employee]],Table1[[#This Row],[Non HZ Employee]],Table1[[#This Row],[Job Site Employee]],Table1[[#This Row],[Other Employee]])","v":0},{"$f":"IF(Table1[[#This Row],[Total Hours per Month]]=Table1[[#This Row],[Column12]],\"Match\",\"Error\")","v":"Match"},{"$f":"IF(Table1[[#This Row],[Calc 2]]=\"#NA\",\"#NA\",IF(Table1[[#This Row],[Non HZ Employee]]=Table1[[#This Row],[Max calc]],\"Non HZ Employee\", Table1[[#This Row],[Calc 2]]))","v":"#NA"}]
[506," ",506,{"$nulls":5},{"$f":"SUM(Table1[[#This Row],[Column4]]+Table1[[#This Row],[Column3]]+Table1[[#This Row],[Column2]]+Table1[[#This Row],[Column1]])","v":0},{"$nulls":5},{"$f":"SUM(Table1[[#This Row],[PO Employee]:[Other Employee]])","v":0},"N",{"$error":"#N/A"},{"$f":"IF(O523>39,Table1[[#This Row],[Calc 1]],IF(O523>1,\"Not counted as an Employee\",\"#NA\"))","v":"#NA"},{"$f":"MAX(Table1[[#This Row],[PO Employee]],Table1[[#This Row],[Other HZ Employee]],Table1[[#This Row],[Non HZ Employee]],Table1[[#This Row],[Job Site Employee]],Table1[[#This Row],[Other Employee]])","v":0},{"$f":"IF(Table1[[#This Row],[Total Hours per Month]]=Table1[[#This Row],[Column12]],\"Match\",\"Error\")","v":"Match"},{"$f":"IF(Table1[[#This Row],[Calc 2]]=\"#NA\",\"#NA\",IF(Table1[[#This Row],[Non HZ Employee]]=Table1[[#This Row],[Max calc]],\"Non HZ Employee\", Table1[[#This Row],[Calc 2]]))","v":"#NA"}]
[507," ",507,{"$nulls":5},{"$f":"SUM(Table1[[#This Row],[Column4]]+Table1[[#This Row],[Column3]]+Table1[[#This Row],[Column2]]+Table1[[#This Row],[Column1]])","v":0},{"$nulls":5},{"$f":"SUM(Table1[[#This Row],[PO Employee]:[Other Employee]])","v":0},"N",{"$error":"#N/A"},{"$f":"IF(O524>39,Table1[[#This Row],[Calc 1]],IF(O524>1,\"Not counted as an Employee\",\"#NA\"))","v":"#NA"},{"$f":"MAX(Table1[[#This Row],[PO Employee]],Table1[[#This Row],[Other HZ Employee]],Table1[[#This Row],[Non HZ Employee]],Table1[[#This Row],[Job Site Employee]],Table1[[#This Row],[Other Employee]])","v":0},{"$f":"IF(Table1[[#This Row],[Total Hours per Month]]=Table1[[#This Row],[Column12]],\"Match\",\"Error\")","v":"Match"},{"$f":"IF(Table1[[#This Row],[Calc 2]]=\"#NA\",\"#NA\",IF(Table1[[#This Row],[Non HZ Employee]]=Table1[[#This Row],[Max calc]],\"Non HZ Employee\", Table1[[#This Row],[Calc 2]]))","v":"#NA"}]
[508," ",508,{"$nulls":5},{"$f":"SUM(Table1[[#This Row],[Column4]]+Table1[[#This Row],[Column3]]+Table1[[#This Row],[Column2]]+Table1[[#This Row],[Column1]])","v":0},{"$nulls":5},{"$f":"SUM(Table1[[#This Row],[PO Employee]:[Other Employee]])","v":0},"N",{"$error":"#N/A"},{"$f":"IF(O525>39,Table1[[#This Row],[Calc 1]],IF(O525>1,\"Not counted as an Employee\",\"#NA\"))","v":"#NA"},{"$f":"MAX(Table1[[#This Row],[PO Employee]],Table1[[#This Row],[Other HZ Employee]],Table1[[#This Row],[Non HZ Employee]],Table1[[#This Row],[Job Site Employee]],Table1[[#This Row],[Other Employee]])","v":0},{"$f":"IF(Table1[[#This Row],[Total Hours per Month]]=Table1[[#This Row],[Column12]],\"Match\",\"Error\")","v":"Match"},{"$f":"IF(Table1[[#This Row],[Calc 2]]=\"#NA\",\"#NA\",IF(Table1[[#This Row],[Non HZ Employee]]=Table1[[#This Row],[Max calc]],\"Non HZ Employee\", Table1[[#This Row],[Calc 2]]))","v":"#NA"}]
[509," ",509,{"$nulls":5},{"$f":"SUM(Table1[[#This Row],[Column4]]+Table1[[#This Row],[Column3]]+Table1[[#This Row],[Column2]]+Table1[[#This Row],[Column1]])","v":0},{"$nulls":5},{"$f":"SUM(Table1[[#This Row],[PO Employee]:[Other Employee]])","v":0},"N",{"$error":"#N/A"},{"$f":"IF(O526>39,Table1[[#This Row],[Calc 1]],IF(O526>1,\"Not counted as an Employee\",\"#NA\"))","v":"#NA"},{"$f":"MAX(Table1[[#This Row],[PO Employee]],Table1[[#This Row],[Other HZ Employee]],Table1[[#This Row],[Non HZ Employee]],Table1[[#This Row],[Job Site Employee]],Table1[[#This Row],[Other Employee]])","v":0},{"$f":"IF(Table1[[#This Row],[Total Hours per Month]]=Table1[[#This Row],[Column12]],\"Match\",\"Error\")","v":"Match"},{"$f":"IF(Table1[[#This Row],[Calc 2]]=\"#NA\",\"#NA\",IF(Table1[[#This Row],[Non HZ Employee]]=Table1[[#This Row],[Max calc]],\"Non HZ Employee\", Table1[[#This Row],[Calc 2]]))","v":"#NA"}]
[510," ",510,{"$nulls":5},{"$f":"SUM(Table1[[#This Row],[Column4]]+Table1[[#This Row],[Column3]]+Table1[[#This Row],[Column2]]+Table1[[#This Row],[Column1]])","v":0},{"$nulls":5},{"$f":"SUM(Table1[[#This Row],[PO Employee]:[Other Employee]])","v":0},"N",{"$error":"#N/A"},{"$f":"IF(O527>39,Table1[[#This Row],[Calc 1]],IF(O527>1,\"Not counted as an Employee\",\"#NA\"))","v":"#NA"},{"$f":"MAX(Table1[[#This Row],[PO Employee]],Table1[[#This Row],[Other HZ Employee]],Table1[[#This Row],[Non HZ Employee]],Table1[[#This Row],[Job Site Employee]],Table1[[#This Row],[Other Employee]])","v":0},{"$f":"IF(Table1[[#This Row],[Total Hours per Month]]=Table1[[#This Row],[Column12]],\"Match\",\"Error\")","v":"Match"},{"$f":"IF(Table1[[#This Row],[Calc 2]]=\"#NA\",\"#NA\",IF(Table1[[#This Row],[Non HZ Employee]]=Table1[[#This Row],[Max calc]],\"Non HZ Employee\", Table1[[#This Row],[Calc 2]]))","v":"#NA"}]
[511," ",511,{"$nulls":5},{"$f":"SUM(Table1[[#This Row],[Column4]]+Table1[[#This Row],[Column3]]+Table1[[#This Row],[Column2]]+Table1[[#This Row],[Column1]])","v":0},{"$nulls":5},{"$f":"SUM(Table1[[#This Row],[PO Employee]:[Other Employee]])","v":0},"N",{"$error":"#N/A"},{"$f":"IF(O528>39,Table1[[#This Row],[Calc 1]],IF(O528>1,\"Not counted as an Employee\",\"#NA\"))","v":"#NA"},{"$f":"MAX(Table1[[#This Row],[PO Employee]],Table1[[#This Row],[Other HZ Employee]],Table1[[#This Row],[Non HZ Employee]],Table1[[#This Row],[Job Site Employee]],Table1[[#This Row],[Other Employee]])","v":0},{"$f":"IF(Table1[[#This Row],[Total Hours per Month]]=Table1[[#This Row],[Column12]],\"Match\",\"Error\")","v":"Match"},{"$f":"IF(Table1[[#This Row],[Calc 2]]=\"#NA\",\"#NA\",IF(Table1[[#This Row],[Non HZ Employee]]=Table1[[#This Row],[Max calc]],\"Non HZ Employee\", Table1[[#This Row],[Calc 2]]))","v":"#NA"}]
[512," ",512,{"$nulls":5},{"$f":"SUM(Table1[[#This Row],[Column4]]+Table1[[#This Row],[Column3]]+Table1[[#This Row],[Column2]]+Table1[[#This Row],[Column1]])","v":0},{"$nulls":5},{"$f":"SUM(Table1[[#This Row],[PO Employee]:[Other Employee]])","v":0},"N",{"$error":"#N/A"},{"$f":"IF(O529>39,Table1[[#This Row],[Calc 1]],IF(O529>1,\"Not counted as an Employee\",\"#NA\"))","v":"#NA"},{"$f":"MAX(Table1[[#This Row],[PO Employee]],Table1[[#This Row],[Other HZ Employee]],Table1[[#This Row],[Non HZ Employee]],Table1[[#This Row],[Job Site Employee]],Table1[[#This Row],[Other Employee]])","v":0},{"$f":"IF(Table1[[#This Row],[Total Hours per Month]]=Table1[[#This Row],[Column12]],\"Match\",\"Error\")","v":"Match"},{"$f":"IF(Table1[[#This Row],[Calc 2]]=\"#NA\",\"#NA\",IF(Table1[[#This Row],[Non HZ Employee]]=Table1[[#This Row],[Max calc]],\"Non HZ Employee\", Table1[[#This Row],[Calc 2]]))","v":"#NA"}]
[513," ",513,{"$nulls":5},{"$f":"SUM(Table1[[#This Row],[Column4]]+Table1[[#This Row],[Column3]]+Table1[[#This Row],[Column2]]+Table1[[#This Row],[Column1]])","v":0},{"$nulls":5},{"$f":"SUM(Table1[[#This Row],[PO Employee]:[Other Employee]])","v":0},"N",{"$f":"INDEX($J$17:$N$17,MATCH(MAX(J530:N530),J530:N530,0))","v":{"$error":"#N/A"}},{"$f":"IF(O530>39,Table1[[#This Row],[Calc 1]],IF(O530>1,\"Not counted as an Employee\",\"#NA\"))","v":"#NA"},{"$f":"MAX(Table1[[#This Row],[PO Employee]],Table1[[#This Row],[Other HZ Employee]],Table1[[#This Row],[Non HZ Employee]],Table1[[#This Row],[Job Site Employee]],Table1[[#This Row],[Other Employee]])","v":0},{"$f":"IF(Table1[[#This Row],[Total Hours per Month]]=Table1[[#This Row],[Column12]],\"Match\",\"Error\")","v":"Match"},{"$f":"IF(Table1[[#This Row],[Calc 2]]=\"#NA\",\"#NA\",IF(Table1[[#This Row],[Non HZ Employee]]=Table1[[#This Row],[Max calc]],\"Non HZ Employee\", Table1[[#This Row],[Calc 2]]))","v":"#NA"}]
[514," ",514,{"$nulls":5},{"$f":"SUM(Table1[[#This Row],[Column4]]+Table1[[#This Row],[Column3]]+Table1[[#This Row],[Column2]]+Table1[[#This Row],[Column1]])","v":0},{"$nulls":5},{"$f":"SUM(Table1[[#This Row],[PO Employee]:[Other Employee]])","v":0},{"$f":"IF(O531>=40,\"Y\",\"N\")","v":"N"},{"$error":"#N/A"},{"$f":"IF(O531>39,Table1[[#This Row],[Calc 1]],IF(O531>1,\"Not counted as an Employee\",\"#NA\"))","v":"#NA"},{"$f":"MAX(Table1[[#This Row],[PO Employee]],Table1[[#This Row],[Other HZ Employee]],Table1[[#This Row],[Non HZ Employee]],Table1[[#This Row],[Job Site Employee]],Table1[[#This Row],[Other Employee]])","v":0},{"$f":"IF(Table1[[#This Row],[Total Hours per Month]]=Table1[[#This Row],[Column12]],\"Match\",\"Error\")","v":"Match"},{"$f":"IF(Table1[[#This Row],[Calc 2]]=\"#NA\",\"#NA\",IF(Table1[[#This Row],[Non HZ Employee]]=Table1[[#This Row],[Max calc]],\"Non HZ Employee\", Table1[[#This Row],[Calc 2]]))","v":"#NA"}]
[515," ",515,{"$nulls":5},{"$f":"SUM(Table1[[#This Row],[Column4]]+Table1[[#This Row],[Column3]]+Table1[[#This Row],[Column2]]+Table1[[#This Row],[Column1]])","v":0},{"$nulls":5},{"$f":"SUM(Table1[[#This Row],[PO Employee]:[Other Employee]])","v":0},"N",{"$error":"#N/A"},{"$f":"IF(O532>39,Table1[[#This Row],[Calc 1]],IF(O532>1,\"Not counted as an Employee\",\"#NA\"))","v":"#NA"},{"$f":"MAX(Table1[[#This Row],[PO Employee]],Table1[[#This Row],[Other HZ Employee]],Table1[[#This Row],[Non HZ Employee]],Table1[[#This Row],[Job Site Employee]],Table1[[#This Row],[Other Employee]])","v":0},{"$f":"IF(Table1[[#This Row],[Total Hours per Month]]=Table1[[#This Row],[Column12]],\"Match\",\"Error\")","v":"Match"},{"$f":"IF(Table1[[#This Row],[Calc 2]]=\"#NA\",\"#NA\",IF(Table1[[#This Row],[Non HZ Employee]]=Table1[[#This Row],[Max calc]],\"Non HZ Employee\", Table1[[#This Row],[Calc 2]]))","v":"#NA"}]
[516," ",516,{"$nulls":5},{"$f":"SUM(Table1[[#This Row],[Column4]]+Table1[[#This Row],[Column3]]+Table1[[#This Row],[Column2]]+Table1[[#This Row],[Column1]])","v":0},{"$nulls":5},{"$f":"SUM(Table1[[#This Row],[PO Employee]:[Other Employee]])","v":0},"N",{"$error":"#N/A"},{"$f":"IF(O533>39,Table1[[#This Row],[Calc 1]],IF(O533>1,\"Not counted as an Employee\",\"#NA\"))","v":"#NA"},{"$f":"MAX(Table1[[#This Row],[PO Employee]],Table1[[#This Row],[Other HZ Employee]],Table1[[#This Row],[Non HZ Employee]],Table1[[#This Row],[Job Site Employee]],Table1[[#This Row],[Other Employee]])","v":0},{"$f":"IF(Table1[[#This Row],[Total Hours per Month]]=Table1[[#This Row],[Column12]],\"Match\",\"Error\")","v":"Match"},{"$f":"IF(Table1[[#This Row],[Calc 2]]=\"#NA\",\"#NA\",IF(Table1[[#This Row],[Non HZ Employee]]=Table1[[#This Row],[Max calc]],\"Non HZ Employee\", Table1[[#This Row],[Calc 2]]))","v":"#NA"}]
[517," ",517,{"$nulls":5},{"$f":"SUM(Table1[[#This Row],[Column4]]+Table1[[#This Row],[Column3]]+Table1[[#This Row],[Column2]]+Table1[[#This Row],[Column1]])","v":0},{"$nulls":5},{"$f":"SUM(Table1[[#This Row],[PO Employee]:[Other Employee]])","v":0},"N",{"$error":"#N/A"},{"$f":"IF(O534>39,Table1[[#This Row],[Calc 1]],IF(O534>1,\"Not counted as an Employee\",\"#NA\"))","v":"#NA"},{"$f":"MAX(Table1[[#This Row],[PO Employee]],Table1[[#This Row],[Other HZ Employee]],Table1[[#This Row],[Non HZ Employee]],Table1[[#This Row],[Job Site Employee]],Table1[[#This Row],[Other Employee]])","v":0},{"$f":"IF(Table1[[#This Row],[Total Hours per Month]]=Table1[[#This Row],[Column12]],\"Match\",\"Error\")","v":"Match"},{"$f":"IF(Table1[[#This Row],[Calc 2]]=\"#NA\",\"#NA\",IF(Table1[[#This Row],[Non HZ Employee]]=Table1[[#This Row],[Max calc]],\"Non HZ Employee\", Table1[[#This Row],[Calc 2]]))","v":"#NA"}]
[518," ",518,{"$nulls":5},{"$f":"SUM(Table1[[#This Row],[Column4]]+Table1[[#This Row],[Column3]]+Table1[[#This Row],[Column2]]+Table1[[#This Row],[Column1]])","v":0},{"$nulls":5},{"$f":"SUM(Table1[[#This Row],[PO Employee]:[Other Employee]])","v":0},"N",{"$error":"#N/A"},{"$f":"IF(O535>39,Table1[[#This Row],[Calc 1]],IF(O535>1,\"Not counted as an Employee\",\"#NA\"))","v":"#NA"},{"$f":"MAX(Table1[[#This Row],[PO Employee]],Table1[[#This Row],[Other HZ Employee]],Table1[[#This Row],[Non HZ Employee]],Table1[[#This Row],[Job Site Employee]],Table1[[#This Row],[Other Employee]])","v":0},{"$f":"IF(Table1[[#This Row],[Total Hours per Month]]=Table1[[#This Row],[Column12]],\"Match\",\"Error\")","v":"Match"},{"$f":"IF(Table1[[#This Row],[Calc 2]]=\"#NA\",\"#NA\",IF(Table1[[#This Row],[Non HZ Employee]]=Table1[[#This Row],[Max calc]],\"Non HZ Employee\", Table1[[#This Row],[Calc 2]]))","v":"#NA"}]
[519," ",519,{"$nulls":5},{"$f":"SUM(Table1[[#This Row],[Column4]]+Table1[[#This Row],[Column3]]+Table1[[#This Row],[Column2]]+Table1[[#This Row],[Column1]])","v":0},{"$nulls":5},{"$f":"SUM(Table1[[#This Row],[PO Employee]:[Other Employee]])","v":0},"N",{"$error":"#N/A"},{"$f":"IF(O536>39,Table1[[#This Row],[Calc 1]],IF(O536>1,\"Not counted as an Employee\",\"#NA\"))","v":"#NA"},{"$f":"MAX(Table1[[#This Row],[PO Employee]],Table1[[#This Row],[Other HZ Employee]],Table1[[#This Row],[Non HZ Employee]],Table1[[#This Row],[Job Site Employee]],Table1[[#This Row],[Other Employee]])","v":0},{"$f":"IF(Table1[[#This Row],[Total Hours per Month]]=Table1[[#This Row],[Column12]],\"Match\",\"Error\")","v":"Match"},{"$f":"IF(Table1[[#This Row],[Calc 2]]=\"#NA\",\"#NA\",IF(Table1[[#This Row],[Non HZ Employee]]=Table1[[#This Row],[Max calc]],\"Non HZ Employee\", Table1[[#This Row],[Calc 2]]))","v":"#NA"}]
[520," ",520,{"$nulls":5},{"$f":"SUM(Table1[[#This Row],[Column4]]+Table1[[#This Row],[Column3]]+Table1[[#This Row],[Column2]]+Table1[[#This Row],[Column1]])","v":0},{"$nulls":5},{"$f":"SUM(Table1[[#This Row],[PO Employee]:[Other Employee]])","v":0},"N",{"$error":"#N/A"},{"$f":"IF(O537>39,Table1[[#This Row],[Calc 1]],IF(O537>1,\"Not counted as an Employee\",\"#NA\"))","v":"#NA"},{"$f":"MAX(Table1[[#This Row],[PO Employee]],Table1[[#This Row],[Other HZ Employee]],Table1[[#This Row],[Non HZ Employee]],Table1[[#This Row],[Job Site Employee]],Table1[[#This Row],[Other Employee]])","v":0},{"$f":"IF(Table1[[#This Row],[Total Hours per Month]]=Table1[[#This Row],[Column12]],\"Match\",\"Error\")","v":"Match"},{"$f":"IF(Table1[[#This Row],[Calc 2]]=\"#NA\",\"#NA\",IF(Table1[[#This Row],[Non HZ Employee]]=Table1[[#This Row],[Max calc]],\"Non HZ Employee\", Table1[[#This Row],[Calc 2]]))","v":"#NA"}]
[521," ",521,{"$nulls":5},{"$f":"SUM(Table1[[#This Row],[Column4]]+Table1[[#This Row],[Column3]]+Table1[[#This Row],[Column2]]+Table1[[#This Row],[Column1]])","v":0},{"$nulls":5},{"$f":"SUM(Table1[[#This Row],[PO Employee]:[Other Employee]])","v":0},"N",{"$error":"#N/A"},{"$f":"IF(O538>39,Table1[[#This Row],[Calc 1]],IF(O538>1,\"Not counted as an Employee\",\"#NA\"))","v":"#NA"},{"$f":"MAX(Table1[[#This Row],[PO Employee]],Table1[[#This Row],[Other HZ Employee]],Table1[[#This Row],[Non HZ Employee]],Table1[[#This Row],[Job Site Employee]],Table1[[#This Row],[Other Employee]])","v":0},{"$f":"IF(Table1[[#This Row],[Total Hours per Month]]=Table1[[#This Row],[Column12]],\"Match\",\"Error\")","v":"Match"},{"$f":"IF(Table1[[#This Row],[Calc 2]]=\"#NA\",\"#NA\",IF(Table1[[#This Row],[Non HZ Employee]]=Table1[[#This Row],[Max calc]],\"Non HZ Employee\", Table1[[#This Row],[Calc 2]]))","v":"#NA"}]
[522," ",522,{"$nulls":5},{"$f":"SUM(Table1[[#This Row],[Column4]]+Table1[[#This Row],[Column3]]+Table1[[#This Row],[Column2]]+Table1[[#This Row],[Column1]])","v":0},{"$nulls":5},{"$f":"SUM(Table1[[#This Row],[PO Employee]:[Other Employee]])","v":0},"N",{"$error":"#N/A"},{"$f":"IF(O539>39,Table1[[#This Row],[Calc 1]],IF(O539>1,\"Not counted as an Employee\",\"#NA\"))","v":"#NA"},{"$f":"MAX(Table1[[#This Row],[PO Employee]],Table1[[#This Row],[Other HZ Employee]],Table1[[#This Row],[Non HZ Employee]],Table1[[#This Row],[Job Site Employee]],Table1[[#This Row],[Other Employee]])","v":0},{"$f":"IF(Table1[[#This Row],[Total Hours per Month]]=Table1[[#This Row],[Column12]],\"Match\",\"Error\")","v":"Match"},{"$f":"IF(Table1[[#This Row],[Calc 2]]=\"#NA\",\"#NA\",IF(Table1[[#This Row],[Non HZ Employee]]=Table1[[#This Row],[Max calc]],\"Non HZ Employee\", Table1[[#This Row],[Calc 2]]))","v":"#NA"}]
[523," ",523,{"$nulls":5},{"$f":"SUM(Table1[[#This Row],[Column4]]+Table1[[#This Row],[Column3]]+Table1[[#This Row],[Column2]]+Table1[[#This Row],[Column1]])","v":0},{"$nulls":5},{"$f":"SUM(Table1[[#This Row],[PO Employee]:[Other Employee]])","v":0},"N",{"$error":"#N/A"},{"$f":"IF(O540>39,Table1[[#This Row],[Calc 1]],IF(O540>1,\"Not counted as an Employee\",\"#NA\"))","v":"#NA"},{"$f":"MAX(Table1[[#This Row],[PO Employee]],Table1[[#This Row],[Other HZ Employee]],Table1[[#This Row],[Non HZ Employee]],Table1[[#This Row],[Job Site Employee]],Table1[[#This Row],[Other Employee]])","v":0},{"$f":"IF(Table1[[#This Row],[Total Hours per Month]]=Table1[[#This Row],[Column12]],\"Match\",\"Error\")","v":"Match"},{"$f":"IF(Table1[[#This Row],[Calc 2]]=\"#NA\",\"#NA\",IF(Table1[[#This Row],[Non HZ Employee]]=Table1[[#This Row],[Max calc]],\"Non HZ Employee\", Table1[[#This Row],[Calc 2]]))","v":"#NA"}]
[524," ",524,{"$nulls":5},{"$f":"SUM(Table1[[#This Row],[Column4]]+Table1[[#This Row],[Column3]]+Table1[[#This Row],[Column2]]+Table1[[#This Row],[Column1]])","v":0},{"$nulls":5},{"$f":"SUM(Table1[[#This Row],[PO Employee]:[Other Employee]])","v":0},"N",{"$error":"#N/A"},{"$f":"IF(O541>39,Table1[[#This Row],[Calc 1]],IF(O541>1,\"Not counted as an Employee\",\"#NA\"))","v":"#NA"},{"$f":"MAX(Table1[[#This Row],[PO Employee]],Table1[[#This Row],[Other HZ Employee]],Table1[[#This Row],[Non HZ Employee]],Table1[[#This Row],[Job Site Employee]],Table1[[#This Row],[Other Employee]])","v":0},{"$f":"IF(Table1[[#This Row],[Total Hours per Month]]=Table1[[#This Row],[Column12]],\"Match\",\"Error\")","v":"Match"},{"$f":"IF(Table1[[#This Row],[Calc 2]]=\"#NA\",\"#NA\",IF(Table1[[#This Row],[Non HZ Employee]]=Table1[[#This Row],[Max calc]],\"Non HZ Employee\", Table1[[#This Row],[Calc 2]]))","v":"#NA"}]
[525," ",525,{"$nulls":5},{"$f":"SUM(Table1[[#This Row],[Column4]]+Table1[[#This Row],[Column3]]+Table1[[#This Row],[Column2]]+Table1[[#This Row],[Column1]])","v":0},{"$nulls":5},{"$f":"SUM(Table1[[#This Row],[PO Employee]:[Other Employee]])","v":0},"N",{"$error":"#N/A"},{"$f":"IF(O542>39,Table1[[#This Row],[Calc 1]],IF(O542>1,\"Not counted as an Employee\",\"#NA\"))","v":"#NA"},{"$f":"MAX(Table1[[#This Row],[PO Employee]],Table1[[#This Row],[Other HZ Employee]],Table1[[#This Row],[Non HZ Employee]],Table1[[#This Row],[Job Site Employee]],Table1[[#This Row],[Other Employee]])","v":0},{"$f":"IF(Table1[[#This Row],[Total Hours per Month]]=Table1[[#This Row],[Column12]],\"Match\",\"Error\")","v":"Match"},{"$f":"IF(Table1[[#This Row],[Calc 2]]=\"#NA\",\"#NA\",IF(Table1[[#This Row],[Non HZ Employee]]=Table1[[#This Row],[Max calc]],\"Non HZ Employee\", Table1[[#This Row],[Calc 2]]))","v":"#NA"}]
[526," ",526,{"$nulls":5},{"$f":"SUM(Table1[[#This Row],[Column4]]+Table1[[#This Row],[Column3]]+Table1[[#This Row],[Column2]]+Table1[[#This Row],[Column1]])","v":0},{"$nulls":5},{"$f":"SUM(Table1[[#This Row],[PO Employee]:[Other Employee]])","v":0},"N",{"$error":"#N/A"},{"$f":"IF(O543>39,Table1[[#This Row],[Calc 1]],IF(O543>1,\"Not counted as an Employee\",\"#NA\"))","v":"#NA"},{"$f":"MAX(Table1[[#This Row],[PO Employee]],Table1[[#This Row],[Other HZ Employee]],Table1[[#This Row],[Non HZ Employee]],Table1[[#This Row],[Job Site Employee]],Table1[[#This Row],[Other Employee]])","v":0},{"$f":"IF(Table1[[#This Row],[Total Hours per Month]]=Table1[[#This Row],[Column12]],\"Match\",\"Error\")","v":"Match"},{"$f":"IF(Table1[[#This Row],[Calc 2]]=\"#NA\",\"#NA\",IF(Table1[[#This Row],[Non HZ Employee]]=Table1[[#This Row],[Max calc]],\"Non HZ Employee\", Table1[[#This Row],[Calc 2]]))","v":"#NA"}]
[527," ",527,{"$nulls":5},{"$f":"SUM(Table1[[#This Row],[Column4]]+Table1[[#This Row],[Column3]]+Table1[[#This Row],[Column2]]+Table1[[#This Row],[Column1]])","v":0},{"$nulls":5},{"$f":"SUM(Table1[[#This Row],[PO Employee]:[Other Employee]])","v":0},"N",{"$error":"#N/A"},{"$f":"IF(O544>39,Table1[[#This Row],[Calc 1]],IF(O544>1,\"Not counted as an Employee\",\"#NA\"))","v":"#NA"},{"$f":"MAX(Table1[[#This Row],[PO Employee]],Table1[[#This Row],[Other HZ Employee]],Table1[[#This Row],[Non HZ Employee]],Table1[[#This Row],[Job Site Employee]],Table1[[#This Row],[Other Employee]])","v":0},{"$f":"IF(Table1[[#This Row],[Total Hours per Month]]=Table1[[#This Row],[Column12]],\"Match\",\"Error\")","v":"Match"},{"$f":"IF(Table1[[#This Row],[Calc 2]]=\"#NA\",\"#NA\",IF(Table1[[#This Row],[Non HZ Employee]]=Table1[[#This Row],[Max calc]],\"Non HZ Employee\", Table1[[#This Row],[Calc 2]]))","v":"#NA"}]
[528," ",528,{"$nulls":5},{"$f":"SUM(Table1[[#This Row],[Column4]]+Table1[[#This Row],[Column3]]+Table1[[#This Row],[Column2]]+Table1[[#This Row],[Column1]])","v":0},{"$nulls":5},{"$f":"SUM(Table1[[#This Row],[PO Employee]:[Other Employee]])","v":0},"N",{"$error":"#N/A"},{"$f":"IF(O545>39,Table1[[#This Row],[Calc 1]],IF(O545>1,\"Not counted as an Employee\",\"#NA\"))","v":"#NA"},{"$f":"MAX(Table1[[#This Row],[PO Employee]],Table1[[#This Row],[Other HZ Employee]],Table1[[#This Row],[Non HZ Employee]],Table1[[#This Row],[Job Site Employee]],Table1[[#This Row],[Other Employee]])","v":0},{"$f":"IF(Table1[[#This Row],[Total Hours per Month]]=Table1[[#This Row],[Column12]],\"Match\",\"Error\")","v":"Match"},{"$f":"IF(Table1[[#This Row],[Calc 2]]=\"#NA\",\"#NA\",IF(Table1[[#This Row],[Non HZ Employee]]=Table1[[#This Row],[Max calc]],\"Non HZ Employee\", Table1[[#This Row],[Calc 2]]))","v":"#NA"}]
[529," ",529,{"$nulls":5},{"$f":"SUM(Table1[[#This Row],[Column4]]+Table1[[#This Row],[Column3]]+Table1[[#This Row],[Column2]]+Table1[[#This Row],[Column1]])","v":0},{"$nulls":5},{"$f":"SUM(Table1[[#This Row],[PO Employee]:[Other Employee]])","v":0},"N",{"$error":"#N/A"},{"$f":"IF(O546>39,Table1[[#This Row],[Calc 1]],IF(O546>1,\"Not counted as an Employee\",\"#NA\"))","v":"#NA"},{"$f":"MAX(Table1[[#This Row],[PO Employee]],Table1[[#This Row],[Other HZ Employee]],Table1[[#This Row],[Non HZ Employee]],Table1[[#This Row],[Job Site Employee]],Table1[[#This Row],[Other Employee]])","v":0},{"$f":"IF(Table1[[#This Row],[Total Hours per Month]]=Table1[[#This Row],[Column12]],\"Match\",\"Error\")","v":"Match"},{"$f":"IF(Table1[[#This Row],[Calc 2]]=\"#NA\",\"#NA\",IF(Table1[[#This Row],[Non HZ Employee]]=Table1[[#This Row],[Max calc]],\"Non HZ Employee\", Table1[[#This Row],[Calc 2]]))","v":"#NA"}]
[530," ",530,{"$nulls":5},{"$f":"SUM(Table1[[#This Row],[Column4]]+Table1[[#This Row],[Column3]]+Table1[[#This Row],[Column2]]+Table1[[#This Row],[Column1]])","v":0},{"$nulls":5},{"$f":"SUM(Table1[[#This Row],[PO Employee]:[Other Employee]])","v":0},"N",{"$error":"#N/A"},{"$f":"IF(O547>39,Table1[[#This Row],[Calc 1]],IF(O547>1,\"Not counted as an Employee\",\"#NA\"))","v":"#NA"},{"$f":"MAX(Table1[[#This Row],[PO Employee]],Table1[[#This Row],[Other HZ Employee]],Table1[[#This Row],[Non HZ Employee]],Table1[[#This Row],[Job Site Employee]],Table1[[#This Row],[Other Employee]])","v":0},{"$f":"IF(Table1[[#This Row],[Total Hours per Month]]=Table1[[#This Row],[Column12]],\"Match\",\"Error\")","v":"Match"},{"$f":"IF(Table1[[#This Row],[Calc 2]]=\"#NA\",\"#NA\",IF(Table1[[#This Row],[Non HZ Employee]]=Table1[[#This Row],[Max calc]],\"Non HZ Employee\", Table1[[#This Row],[Calc 2]]))","v":"#NA"}]
[531," ",531,{"$nulls":5},{"$f":"SUM(Table1[[#This Row],[Column4]]+Table1[[#This Row],[Column3]]+Table1[[#This Row],[Column2]]+Table1[[#This Row],[Column1]])","v":0},{"$nulls":5},{"$f":"SUM(Table1[[#This Row],[PO Employee]:[Other Employee]])","v":0},"N",{"$error":"#N/A"},{"$f":"IF(O548>39,Table1[[#This Row],[Calc 1]],IF(O548>1,\"Not counted as an Employee\",\"#NA\"))","v":"#NA"},{"$f":"MAX(Table1[[#This Row],[PO Employee]],Table1[[#This Row],[Other HZ Employee]],Table1[[#This Row],[Non HZ Employee]],Table1[[#This Row],[Job Site Employee]],Table1[[#This Row],[Other Employee]])","v":0},{"$f":"IF(Table1[[#This Row],[Total Hours per Month]]=Table1[[#This Row],[Column12]],\"Match\",\"Error\")","v":"Match"},{"$f":"IF(Table1[[#This Row],[Calc 2]]=\"#NA\",\"#NA\",IF(Table1[[#This Row],[Non HZ Employee]]=Table1[[#This Row],[Max calc]],\"Non HZ Employee\", Table1[[#This Row],[Calc 2]]))","v":"#NA"}]
[532," ",532,{"$nulls":5},{"$f":"SUM(Table1[[#This Row],[Column4]]+Table1[[#This Row],[Column3]]+Table1[[#This Row],[Column2]]+Table1[[#This Row],[Column1]])","v":0},{"$nulls":5},{"$f":"SUM(Table1[[#This Row],[PO Employee]:[Other Employee]])","v":0},"N",{"$error":"#N/A"},{"$f":"IF(O549>39,Table1[[#This Row],[Calc 1]],IF(O549>1,\"Not counted as an Employee\",\"#NA\"))","v":"#NA"},{"$f":"MAX(Table1[[#This Row],[PO Employee]],Table1[[#This Row],[Other HZ Employee]],Table1[[#This Row],[Non HZ Employee]],Table1[[#This Row],[Job Site Employee]],Table1[[#This Row],[Other Employee]])","v":0},{"$f":"IF(Table1[[#This Row],[Total Hours per Month]]=Table1[[#This Row],[Column12]],\"Match\",\"Error\")","v":"Match"},{"$f":"IF(Table1[[#This Row],[Calc 2]]=\"#NA\",\"#NA\",IF(Table1[[#This Row],[Non HZ Employee]]=Table1[[#This Row],[Max calc]],\"Non HZ Employee\", Table1[[#This Row],[Calc 2]]))","v":"#NA"}]
[533," ",533,{"$nulls":5},{"$f":"SUM(Table1[[#This Row],[Column4]]+Table1[[#This Row],[Column3]]+Table1[[#This Row],[Column2]]+Table1[[#This Row],[Column1]])","v":0},{"$nulls":5},{"$f":"SUM(Table1[[#This Row],[PO Employee]:[Other Employee]])","v":0},"N",{"$error":"#N/A"},{"$f":"IF(O550>39,Table1[[#This Row],[Calc 1]],IF(O550>1,\"Not counted as an Employee\",\"#NA\"))","v":"#NA"},{"$f":"MAX(Table1[[#This Row],[PO Employee]],Table1[[#This Row],[Other HZ Employee]],Table1[[#This Row],[Non HZ Employee]],Table1[[#This Row],[Job Site Employee]],Table1[[#This Row],[Other Employee]])","v":0},{"$f":"IF(Table1[[#This Row],[Total Hours per Month]]=Table1[[#This Row],[Column12]],\"Match\",\"Error\")","v":"Match"},{"$f":"IF(Table1[[#This Row],[Calc 2]]=\"#NA\",\"#NA\",IF(Table1[[#This Row],[Non HZ Employee]]=Table1[[#This Row],[Max calc]],\"Non HZ Employee\", Table1[[#This Row],[Calc 2]]))","v":"#NA"}]
[534," ",534,{"$nulls":5},{"$f":"SUM(Table1[[#This Row],[Column4]]+Table1[[#This Row],[Column3]]+Table1[[#This Row],[Column2]]+Table1[[#This Row],[Column1]])","v":0},{"$nulls":5},{"$f":"SUM(Table1[[#This Row],[PO Employee]:[Other Employee]])","v":0},"N",{"$error":"#N/A"},{"$f":"IF(O551>39,Table1[[#This Row],[Calc 1]],IF(O551>1,\"Not counted as an Employee\",\"#NA\"))","v":"#NA"},{"$f":"MAX(Table1[[#This Row],[PO Employee]],Table1[[#This Row],[Other HZ Employee]],Table1[[#This Row],[Non HZ Employee]],Table1[[#This Row],[Job Site Employee]],Table1[[#This Row],[Other Employee]])","v":0},{"$f":"IF(Table1[[#This Row],[Total Hours per Month]]=Table1[[#This Row],[Column12]],\"Match\",\"Error\")","v":"Match"},{"$f":"IF(Table1[[#This Row],[Calc 2]]=\"#NA\",\"#NA\",IF(Table1[[#This Row],[Non HZ Employee]]=Table1[[#This Row],[Max calc]],\"Non HZ Employee\", Table1[[#This Row],[Calc 2]]))","v":"#NA"}]
[535," ",535,{"$nulls":5},{"$f":"SUM(Table1[[#This Row],[Column4]]+Table1[[#This Row],[Column3]]+Table1[[#This Row],[Column2]]+Table1[[#This Row],[Column1]])","v":0},{"$nulls":5},{"$f":"SUM(Table1[[#This Row],[PO Employee]:[Other Employee]])","v":0},"N",{"$error":"#N/A"},{"$f":"IF(O552>39,Table1[[#This Row],[Calc 1]],IF(O552>1,\"Not counted as an Employee\",\"#NA\"))","v":"#NA"},{"$f":"MAX(Table1[[#This Row],[PO Employee]],Table1[[#This Row],[Other HZ Employee]],Table1[[#This Row],[Non HZ Employee]],Table1[[#This Row],[Job Site Employee]],Table1[[#This Row],[Other Employee]])","v":0},{"$f":"IF(Table1[[#This Row],[Total Hours per Month]]=Table1[[#This Row],[Column12]],\"Match\",\"Error\")","v":"Match"},{"$f":"IF(Table1[[#This Row],[Calc 2]]=\"#NA\",\"#NA\",IF(Table1[[#This Row],[Non HZ Employee]]=Table1[[#This Row],[Max calc]],\"Non HZ Employee\", Table1[[#This Row],[Calc 2]]))","v":"#NA"}]
[536," ",536,{"$nulls":5},{"$f":"SUM(Table1[[#This Row],[Column4]]+Table1[[#This Row],[Column3]]+Table1[[#This Row],[Column2]]+Table1[[#This Row],[Column1]])","v":0},{"$nulls":5},{"$f":"SUM(Table1[[#This Row],[PO Employee]:[Other Employee]])","v":0},"N",{"$error":"#N/A"},{"$f":"IF(O553>39,Table1[[#This Row],[Calc 1]],IF(O553>1,\"Not counted as an Employee\",\"#NA\"))","v":"#NA"},{"$f":"MAX(Table1[[#This Row],[PO Employee]],Table1[[#This Row],[Other HZ Employee]],Table1[[#This Row],[Non HZ Employee]],Table1[[#This Row],[Job Site Employee]],Table1[[#This Row],[Other Employee]])","v":0},{"$f":"IF(Table1[[#This Row],[Total Hours per Month]]=Table1[[#This Row],[Column12]],\"Match\",\"Error\")","v":"Match"},{"$f":"IF(Table1[[#This Row],[Calc 2]]=\"#NA\",\"#NA\",IF(Table1[[#This Row],[Non HZ Employee]]=Table1[[#This Row],[Max calc]],\"Non HZ Employee\", Table1[[#This Row],[Calc 2]]))","v":"#NA"}]
[537,null,537,{"$nulls":5},{"$f":"SUM(Table1[[#This Row],[Column4]]+Table1[[#This Row],[Column3]]+Table1[[#This Row],[Column2]]+Table1[[#This Row],[Column1]])","v":0},{"$nulls":5},{"$f":"SUM(Table1[[#This Row],[PO Employee]:[Other Employee]])","v":0},"N",{"$error":"#N/A"},{"$f":"IF(O554>39,Table1[[#This Row],[Calc 1]],IF(O554>1,\"Not counted as an Employee\",\"#NA\"))","v":"#NA"},{"$f":"MAX(Table1[[#This Row],[PO Employee]],Table1[[#This Row],[Other HZ Employee]],Table1[[#This Row],[Non HZ Employee]],Table1[[#This Row],[Job Site Employee]],Table1[[#This Row],[Other Employee]])","v":0},{"$f":"IF(Table1[[#This Row],[Total Hours per Month]]=Table1[[#This Row],[Column12]],\"Match\",\"Error\")","v":"Match"},{"$f":"IF(Table1[[#This Row],[Calc 2]]=\"#NA\",\"#NA\",IF(Table1[[#This Row],[Non HZ Employee]]=Table1[[#This Row],[Max calc]],\"Non HZ Employee\", Table1[[#This Row],[Calc 2]]))","v":"#NA"}]
[538,null,538,{"$nulls":5},{"$f":"SUM(Table1[[#This Row],[Column4]]+Table1[[#This Row],[Column3]]+Table1[[#This Row],[Column2]]+Table1[[#This Row],[Column1]])","v":0},{"$nulls":5},{"$f":"SUM(Table1[[#This Row],[PO Employee]:[Other Employee]])","v":0},"N",{"$error":"#N/A"},{"$f":"IF(O555>39,Table1[[#This Row],[Calc 1]],IF(O555>1,\"Not counted as an Employee\",\"#NA\"))","v":"#NA"},{"$f":"MAX(Table1[[#This Row],[PO Employee]],Table1[[#This Row],[Other HZ Employee]],Table1[[#This Row],[Non HZ Employee]],Table1[[#This Row],[Job Site Employee]],Table1[[#This Row],[Other Employee]])","v":0},{"$f":"IF(Table1[[#This Row],[Total Hours per Month]]=Table1[[#This Row],[Column12]],\"Match\",\"Error\")","v":"Match"},{"$f":"IF(Table1[[#This Row],[Calc 2]]=\"#NA\",\"#NA\",IF(Table1[[#This Row],[Non HZ Employee]]=Table1[[#This Row],[Max calc]],\"Non HZ Employee\", Table1[[#This Row],[Calc 2]]))","v":"#NA"}]
[539,null,539,{"$nulls":5},{"$f":"SUM(Table1[[#This Row],[Column4]]+Table1[[#This Row],[Column3]]+Table1[[#This Row],[Column2]]+Table1[[#This Row],[Column1]])","v":0},{"$nulls":5},{"$f":"SUM(Table1[[#This Row],[PO Employee]:[Other Employee]])","v":0},"N",{"$error":"#N/A"},{"$f":"IF(O556>39,Table1[[#This Row],[Calc 1]],IF(O556>1,\"Not counted as an Employee\",\"#NA\"))","v":"#NA"},{"$f":"MAX(Table1[[#This Row],[PO Employee]],Table1[[#This Row],[Other HZ Employee]],Table1[[#This Row],[Non HZ Employee]],Table1[[#This Row],[Job Site Employee]],Table1[[#This Row],[Other Employee]])","v":0},{"$f":"IF(Table1[[#This Row],[Total Hours per Month]]=Table1[[#This Row],[Column12]],\"Match\",\"Error\")","v":"Match"},{"$f":"IF(Table1[[#This Row],[Calc 2]]=\"#NA\",\"#NA\",IF(Table1[[#This Row],[Non HZ Employee]]=Table1[[#This Row],[Max calc]],\"Non HZ Employee\", Table1[[#This Row],[Calc 2]]))","v":"#NA"}]
[540,null,540,{"$nulls":5},{"$f":"SUM(Table1[[#This Row],[Column4]]+Table1[[#This Row],[Column3]]+Table1[[#This Row],[Column2]]+Table1[[#This Row],[Column1]])","v":0},{"$nulls":5},{"$f":"SUM(Table1[[#This Row],[PO Employee]:[Other Employee]])","v":0},"N",{"$error":"#N/A"},{"$f":"IF(O557>39,Table1[[#This Row],[Calc 1]],IF(O557>1,\"Not counted as an Employee\",\"#NA\"))","v":"#NA"},{"$f":"MAX(Table1[[#This Row],[PO Employee]],Table1[[#This Row],[Other HZ Employee]],Table1[[#This Row],[Non HZ Employee]],Table1[[#This Row],[Job Site Employee]],Table1[[#This Row],[Other Employee]])","v":0},{"$f":"IF(Table1[[#This Row],[Total Hours per Month]]=Table1[[#This Row],[Column12]],\"Match\",\"Error\")","v":"Match"},{"$f":"IF(Table1[[#This Row],[Calc 2]]=\"#NA\",\"#NA\",IF(Table1[[#This Row],[Non HZ Employee]]=Table1[[#This Row],[Max calc]],\"Non HZ Employee\", Table1[[#This Row],[Calc 2]]))","v":"#NA"}]
[541,null,541,{"$nulls":5},{"$f":"SUM(Table1[[#This Row],[Column4]]+Table1[[#This Row],[Column3]]+Table1[[#This Row],[Column2]]+Table1[[#This Row],[Column1]])","v":0},{"$nulls":5},{"$f":"SUM(Table1[[#This Row],[PO Employee]:[Other Employee]])","v":0},"N",{"$error":"#N/A"},{"$f":"IF(O558>39,Table1[[#This Row],[Calc 1]],IF(O558>1,\"Not counted as an Employee\",\"#NA\"))","v":"#NA"},{"$f":"MAX(Table1[[#This Row],[PO Employee]],Table1[[#This Row],[Other HZ Employee]],Table1[[#This Row],[Non HZ Employee]],Table1[[#This Row],[Job Site Employee]],Table1[[#This Row],[Other Employee]])","v":0},{"$f":"IF(Table1[[#This Row],[Total Hours per Month]]=Table1[[#This Row],[Column12]],\"Match\",\"Error\")","v":"Match"},{"$f":"IF(Table1[[#This Row],[Calc 2]]=\"#NA\",\"#NA\",IF(Table1[[#This Row],[Non HZ Employee]]=Table1[[#This Row],[Max calc]],\"Non HZ Employee\", Table1[[#This Row],[Calc 2]]))","v":"#NA"}]
[542,null,542,{"$nulls":5},{"$f":"SUM(Table1[[#This Row],[Column4]]+Table1[[#This Row],[Column3]]+Table1[[#This Row],[Column2]]+Table1[[#This Row],[Column1]])","v":0},{"$nulls":5},{"$f":"SUM(Table1[[#This Row],[PO Employee]:[Other Employee]])","v":0},"N",{"$error":"#N/A"},{"$f":"IF(O559>39,Table1[[#This Row],[Calc 1]],IF(O559>1,\"Not counted as an Employee\",\"#NA\"))","v":"#NA"},{"$f":"MAX(Table1[[#This Row],[PO Employee]],Table1[[#This Row],[Other HZ Employee]],Table1[[#This Row],[Non HZ Employee]],Table1[[#This Row],[Job Site Employee]],Table1[[#This Row],[Other Employee]])","v":0},{"$f":"IF(Table1[[#This Row],[Total Hours per Month]]=Table1[[#This Row],[Column12]],\"Match\",\"Error\")","v":"Match"},{"$f":"IF(Table1[[#This Row],[Calc 2]]=\"#NA\",\"#NA\",IF(Table1[[#This Row],[Non HZ Employee]]=Table1[[#This Row],[Max calc]],\"Non HZ Employee\", Table1[[#This Row],[Calc 2]]))","v":"#NA"}]
[543,null,543,{"$nulls":5},{"$f":"SUM(Table1[[#This Row],[Column4]]+Table1[[#This Row],[Column3]]+Table1[[#This Row],[Column2]]+Table1[[#This Row],[Column1]])","v":0},{"$nulls":5},{"$f":"SUM(Table1[[#This Row],[PO Employee]:[Other Employee]])","v":0},"N",{"$error":"#N/A"},{"$f":"IF(O560>39,Table1[[#This Row],[Calc 1]],IF(O560>1,\"Not counted as an Employee\",\"#NA\"))","v":"#NA"},{"$f":"MAX(Table1[[#This Row],[PO Employee]],Table1[[#This Row],[Other HZ Employee]],Table1[[#This Row],[Non HZ Employee]],Table1[[#This Row],[Job Site Employee]],Table1[[#This Row],[Other Employee]])","v":0},{"$f":"IF(Table1[[#This Row],[Total Hours per Month]]=Table1[[#This Row],[Column12]],\"Match\",\"Error\")","v":"Match"},{"$f":"IF(Table1[[#This Row],[Calc 2]]=\"#NA\",\"#NA\",IF(Table1[[#This Row],[Non HZ Employee]]=Table1[[#This Row],[Max calc]],\"Non HZ Employee\", Table1[[#This Row],[Calc 2]]))","v":"#NA"}]
[544,null,544,{"$nulls":5},{"$f":"SUM(Table1[[#This Row],[Column4]]+Table1[[#This Row],[Column3]]+Table1[[#This Row],[Column2]]+Table1[[#This Row],[Column1]])","v":0},{"$nulls":5},{"$f":"SUM(Table1[[#This Row],[PO Employee]:[Other Employee]])","v":0},"N",{"$error":"#N/A"},{"$f":"IF(O561>39,Table1[[#This Row],[Calc 1]],IF(O561>1,\"Not counted as an Employee\",\"#NA\"))","v":"#NA"},{"$f":"MAX(Table1[[#This Row],[PO Employee]],Table1[[#This Row],[Other HZ Employee]],Table1[[#This Row],[Non HZ Employee]],Table1[[#This Row],[Job Site Employee]],Table1[[#This Row],[Other Employee]])","v":0},{"$f":"IF(Table1[[#This Row],[Total Hours per Month]]=Table1[[#This Row],[Column12]],\"Match\",\"Error\")","v":"Match"},{"$f":"IF(Table1[[#This Row],[Calc 2]]=\"#NA\",\"#NA\",IF(Table1[[#This Row],[Non HZ Employee]]=Table1[[#This Row],[Max calc]],\"Non HZ Employee\", Table1[[#This Row],[Calc 2]]))","v":"#NA"}]
[545,null,545,{"$nulls":5},{"$f":"SUM(Table1[[#This Row],[Column4]]+Table1[[#This Row],[Column3]]+Table1[[#This Row],[Column2]]+Table1[[#This Row],[Column1]])","v":0},{"$nulls":5},{"$f":"SUM(Table1[[#This Row],[PO Employee]:[Other Employee]])","v":0},"N",{"$error":"#N/A"},{"$f":"IF(O562>39,Table1[[#This Row],[Calc 1]],IF(O562>1,\"Not counted as an Employee\",\"#NA\"))","v":"#NA"},{"$f":"MAX(Table1[[#This Row],[PO Employee]],Table1[[#This Row],[Other HZ Employee]],Table1[[#This Row],[Non HZ Employee]],Table1[[#This Row],[Job Site Employee]],Table1[[#This Row],[Other Employee]])","v":0},{"$f":"IF(Table1[[#This Row],[Total Hours per Month]]=Table1[[#This Row],[Column12]],\"Match\",\"Error\")","v":"Match"},{"$f":"IF(Table1[[#This Row],[Calc 2]]=\"#NA\",\"#NA\",IF(Table1[[#This Row],[Non HZ Employee]]=Table1[[#This Row],[Max calc]],\"Non HZ Employee\", Table1[[#This Row],[Calc 2]]))","v":"#NA"}]
[546,null,546,{"$nulls":5},{"$f":"SUM(Table1[[#This Row],[Column4]]+Table1[[#This Row],[Column3]]+Table1[[#This Row],[Column2]]+Table1[[#This Row],[Column1]])","v":0},{"$nulls":5},{"$f":"SUM(Table1[[#This Row],[PO Employee]:[Other Employee]])","v":0},"N",{"$error":"#N/A"},{"$f":"IF(O563>39,Table1[[#This Row],[Calc 1]],IF(O563>1,\"Not counted as an Employee\",\"#NA\"))","v":"#NA"},{"$f":"MAX(Table1[[#This Row],[PO Employee]],Table1[[#This Row],[Other HZ Employee]],Table1[[#This Row],[Non HZ Employee]],Table1[[#This Row],[Job Site Employee]],Table1[[#This Row],[Other Employee]])","v":0},{"$f":"IF(Table1[[#This Row],[Total Hours per Month]]=Table1[[#This Row],[Column12]],\"Match\",\"Error\")","v":"Match"},{"$f":"IF(Table1[[#This Row],[Calc 2]]=\"#NA\",\"#NA\",IF(Table1[[#This Row],[Non HZ Employee]]=Table1[[#This Row],[Max calc]],\"Non HZ Employee\", Table1[[#This Row],[Calc 2]]))","v":"#NA"}]
[547,null,547,{"$nulls":5},{"$f":"SUM(Table1[[#This Row],[Column4]]+Table1[[#This Row],[Column3]]+Table1[[#This Row],[Column2]]+Table1[[#This Row],[Column1]])","v":0},{"$nulls":5},{"$f":"SUM(Table1[[#This Row],[PO Employee]:[Other Employee]])","v":0},"N",{"$error":"#N/A"},{"$f":"IF(O564>39,Table1[[#This Row],[Calc 1]],IF(O564>1,\"Not counted as an Employee\",\"#NA\"))","v":"#NA"},{"$f":"MAX(Table1[[#This Row],[PO Employee]],Table1[[#This Row],[Other HZ Employee]],Table1[[#This Row],[Non HZ Employee]],Table1[[#This Row],[Job Site Employee]],Table1[[#This Row],[Other Employee]])","v":0},{"$f":"IF(Table1[[#This Row],[Total Hours per Month]]=Table1[[#This Row],[Column12]],\"Match\",\"Error\")","v":"Match"},{"$f":"IF(Table1[[#This Row],[Calc 2]]=\"#NA\",\"#NA\",IF(Table1[[#This Row],[Non HZ Employee]]=Table1[[#This Row],[Max calc]],\"Non HZ Employee\", Table1[[#This Row],[Calc 2]]))","v":"#NA"}]
[548,null,548,{"$nulls":5},{"$f":"SUM(Table1[[#This Row],[Column4]]+Table1[[#This Row],[Column3]]+Table1[[#This Row],[Column2]]+Table1[[#This Row],[Column1]])","v":0},{"$nulls":5},{"$f":"SUM(Table1[[#This Row],[PO Employee]:[Other Employee]])","v":0},"N",{"$error":"#N/A"},{"$f":"IF(O565>39,Table1[[#This Row],[Calc 1]],IF(O565>1,\"Not counted as an Employee\",\"#NA\"))","v":"#NA"},{"$f":"MAX(Table1[[#This Row],[PO Employee]],Table1[[#This Row],[Other HZ Employee]],Table1[[#This Row],[Non HZ Employee]],Table1[[#This Row],[Job Site Employee]],Table1[[#This Row],[Other Employee]])","v":0},{"$f":"IF(Table1[[#This Row],[Total Hours per Month]]=Table1[[#This Row],[Column12]],\"Match\",\"Error\")","v":"Match"},{"$f":"IF(Table1[[#This Row],[Calc 2]]=\"#NA\",\"#NA\",IF(Table1[[#This Row],[Non HZ Employee]]=Table1[[#This Row],[Max calc]],\"Non HZ Employee\", Table1[[#This Row],[Calc 2]]))","v":"#NA"}]
[549,null,549,{"$nulls":5},{"$f":"SUM(Table1[[#This Row],[Column4]]+Table1[[#This Row],[Column3]]+Table1[[#This Row],[Column2]]+Table1[[#This Row],[Column1]])","v":0},{"$nulls":5},{"$f":"SUM(Table1[[#This Row],[PO Employee]:[Other Employee]])","v":0},"N",{"$error":"#N/A"},{"$f":"IF(O566>39,Table1[[#This Row],[Calc 1]],IF(O566>1,\"Not counted as an Employee\",\"#NA\"))","v":"#NA"},{"$f":"MAX(Table1[[#This Row],[PO Employee]],Table1[[#This Row],[Other HZ Employee]],Table1[[#This Row],[Non HZ Employee]],Table1[[#This Row],[Job Site Employee]],Table1[[#This Row],[Other Employee]])","v":0},{"$f":"IF(Table1[[#This Row],[Total Hours per Month]]=Table1[[#This Row],[Column12]],\"Match\",\"Error\")","v":"Match"},{"$f":"IF(Table1[[#This Row],[Calc 2]]=\"#NA\",\"#NA\",IF(Table1[[#This Row],[Non HZ Employee]]=Table1[[#This Row],[Max calc]],\"Non HZ Employee\", Table1[[#This Row],[Calc 2]]))","v":"#NA"}]
[550,null,550,{"$nulls":5},{"$f":"SUM(Table1[[#This Row],[Column4]]+Table1[[#This Row],[Column3]]+Table1[[#This Row],[Column2]]+Table1[[#This Row],[Column1]])","v":0},{"$nulls":5},{"$f":"SUM(Table1[[#This Row],[PO Employee]:[Other Employee]])","v":0},"N",{"$error":"#N/A"},{"$f":"IF(O567>39,Table1[[#This Row],[Calc 1]],IF(O567>1,\"Not counted as an Employee\",\"#NA\"))","v":"#NA"},{"$f":"MAX(Table1[[#This Row],[PO Employee]],Table1[[#This Row],[Other HZ Employee]],Table1[[#This Row],[Non HZ Employee]],Table1[[#This Row],[Job Site Employee]],Table1[[#This Row],[Other Employee]])","v":0},{"$f":"IF(Table1[[#This Row],[Total Hours per Month]]=Table1[[#This Row],[Column12]],\"Match\",\"Error\")","v":"Match"},{"$f":"IF(Table1[[#This Row],[Calc 2]]=\"#NA\",\"#NA\",IF(Table1[[#This Row],[Non HZ Employee]]=Table1[[#This Row],[Max calc]],\"Non HZ Employee\", Table1[[#This Row],[Calc 2]]))","v":"#NA"}]
[551,null,551,{"$nulls":5},{"$f":"SUM(Table1[[#This Row],[Column4]]+Table1[[#This Row],[Column3]]+Table1[[#This Row],[Column2]]+Table1[[#This Row],[Column1]])","v":0},{"$nulls":5},{"$f":"SUM(Table1[[#This Row],[PO Employee]:[Other Employee]])","v":0},"N",{"$error":"#N/A"},{"$f":"IF(O568>39,Table1[[#This Row],[Calc 1]],IF(O568>1,\"Not counted as an Employee\",\"#NA\"))","v":"#NA"},{"$f":"MAX(Table1[[#This Row],[PO Employee]],Table1[[#This Row],[Other HZ Employee]],Table1[[#This Row],[Non HZ Employee]],Table1[[#This Row],[Job Site Employee]],Table1[[#This Row],[Other Employee]])","v":0},{"$f":"IF(Table1[[#This Row],[Total Hours per Month]]=Table1[[#This Row],[Column12]],\"Match\",\"Error\")","v":"Match"},{"$f":"IF(Table1[[#This Row],[Calc 2]]=\"#NA\",\"#NA\",IF(Table1[[#This Row],[Non HZ Employee]]=Table1[[#This Row],[Max calc]],\"Non HZ Employee\", Table1[[#This Row],[Calc 2]]))","v":"#NA"}]
[552,null,552,{"$nulls":5},{"$f":"SUM(Table1[[#This Row],[Column4]]+Table1[[#This Row],[Column3]]+Table1[[#This Row],[Column2]]+Table1[[#This Row],[Column1]])","v":0},{"$nulls":5},{"$f":"SUM(Table1[[#This Row],[PO Employee]:[Other Employee]])","v":0},"N",{"$error":"#N/A"},{"$f":"IF(O569>39,Table1[[#This Row],[Calc 1]],IF(O569>1,\"Not counted as an Employee\",\"#NA\"))","v":"#NA"},{"$f":"MAX(Table1[[#This Row],[PO Employee]],Table1[[#This Row],[Other HZ Employee]],Table1[[#This Row],[Non HZ Employee]],Table1[[#This Row],[Job Site Employee]],Table1[[#This Row],[Other Employee]])","v":0},{"$f":"IF(Table1[[#This Row],[Total Hours per Month]]=Table1[[#This Row],[Column12]],\"Match\",\"Error\")","v":"Match"},{"$f":"IF(Table1[[#This Row],[Calc 2]]=\"#NA\",\"#NA\",IF(Table1[[#This Row],[Non HZ Employee]]=Table1[[#This Row],[Max calc]],\"Non HZ Employee\", Table1[[#This Row],[Calc 2]]))","v":"#NA"}]
[553,null,553,{"$nulls":5},{"$f":"SUM(Table1[[#This Row],[Column4]]+Table1[[#This Row],[Column3]]+Table1[[#This Row],[Column2]]+Table1[[#This Row],[Column1]])","v":0},{"$nulls":5},{"$f":"SUM(Table1[[#This Row],[PO Employee]:[Other Employee]])","v":0},"N",{"$error":"#N/A"},{"$f":"IF(O570>39,Table1[[#This Row],[Calc 1]],IF(O570>1,\"Not counted as an Employee\",\"#NA\"))","v":"#NA"},{"$f":"MAX(Table1[[#This Row],[PO Employee]],Table1[[#This Row],[Other HZ Employee]],Table1[[#This Row],[Non HZ Employee]],Table1[[#This Row],[Job Site Employee]],Table1[[#This Row],[Other Employee]])","v":0},{"$f":"IF(Table1[[#This Row],[Total Hours per Month]]=Table1[[#This Row],[Column12]],\"Match\",\"Error\")","v":"Match"},{"$f":"IF(Table1[[#This Row],[Calc 2]]=\"#NA\",\"#NA\",IF(Table1[[#This Row],[Non HZ Employee]]=Table1[[#This Row],[Max calc]],\"Non HZ Employee\", Table1[[#This Row],[Calc 2]]))","v":"#NA"}]
[554,null,554,{"$nulls":5},{"$f":"SUM(Table1[[#This Row],[Column4]]+Table1[[#This Row],[Column3]]+Table1[[#This Row],[Column2]]+Table1[[#This Row],[Column1]])","v":0},{"$nulls":5},{"$f":"SUM(Table1[[#This Row],[PO Employee]:[Other Employee]])","v":0},"N",{"$error":"#N/A"},{"$f":"IF(O571>39,Table1[[#This Row],[Calc 1]],IF(O571>1,\"Not counted as an Employee\",\"#NA\"))","v":"#NA"},{"$f":"MAX(Table1[[#This Row],[PO Employee]],Table1[[#This Row],[Other HZ Employee]],Table1[[#This Row],[Non HZ Employee]],Table1[[#This Row],[Job Site Employee]],Table1[[#This Row],[Other Employee]])","v":0},{"$f":"IF(Table1[[#This Row],[Total Hours per Month]]=Table1[[#This Row],[Column12]],\"Match\",\"Error\")","v":"Match"},{"$f":"IF(Table1[[#This Row],[Calc 2]]=\"#NA\",\"#NA\",IF(Table1[[#This Row],[Non HZ Employee]]=Table1[[#This Row],[Max calc]],\"Non HZ Employee\", Table1[[#This Row],[Calc 2]]))","v":"#NA"}]
[555,null,555,{"$nulls":5},{"$f":"SUM(Table1[[#This Row],[Column4]]+Table1[[#This Row],[Column3]]+Table1[[#This Row],[Column2]]+Table1[[#This Row],[Column1]])","v":0},{"$nulls":5},{"$f":"SUM(Table1[[#This Row],[PO Employee]:[Other Employee]])","v":0},"N",{"$error":"#N/A"},{"$f":"IF(O572>39,Table1[[#This Row],[Calc 1]],IF(O572>1,\"Not counted as an Employee\",\"#NA\"))","v":"#NA"},{"$f":"MAX(Table1[[#This Row],[PO Employee]],Table1[[#This Row],[Other HZ Employee]],Table1[[#This Row],[Non HZ Employee]],Table1[[#This Row],[Job Site Employee]],Table1[[#This Row],[Other Employee]])","v":0},{"$f":"IF(Table1[[#This Row],[Total Hours per Month]]=Table1[[#This Row],[Column12]],\"Match\",\"Error\")","v":"Match"},{"$f":"IF(Table1[[#This Row],[Calc 2]]=\"#NA\",\"#NA\",IF(Table1[[#This Row],[Non HZ Employee]]=Table1[[#This Row],[Max calc]],\"Non HZ Employee\", Table1[[#This Row],[Calc 2]]))","v":"#NA"}]
[556,null,556,{"$nulls":5},{"$f":"SUM(Table1[[#This Row],[Column4]]+Table1[[#This Row],[Column3]]+Table1[[#This Row],[Column2]]+Table1[[#This Row],[Column1]])","v":0},{"$nulls":5},{"$f":"SUM(Table1[[#This Row],[PO Employee]:[Other Employee]])","v":0},"N",{"$error":"#N/A"},{"$f":"IF(O573>39,Table1[[#This Row],[Calc 1]],IF(O573>1,\"Not counted as an Employee\",\"#NA\"))","v":"#NA"},{"$f":"MAX(Table1[[#This Row],[PO Employee]],Table1[[#This Row],[Other HZ Employee]],Table1[[#This Row],[Non HZ Employee]],Table1[[#This Row],[Job Site Employee]],Table1[[#This Row],[Other Employee]])","v":0},{"$f":"IF(Table1[[#This Row],[Total Hours per Month]]=Table1[[#This Row],[Column12]],\"Match\",\"Error\")","v":"Match"},{"$f":"IF(Table1[[#This Row],[Calc 2]]=\"#NA\",\"#NA\",IF(Table1[[#This Row],[Non HZ Employee]]=Table1[[#This Row],[Max calc]],\"Non HZ Employee\", Table1[[#This Row],[Calc 2]]))","v":"#NA"}]
[557,null,557,{"$nulls":5},{"$f":"SUM(Table1[[#This Row],[Column4]]+Table1[[#This Row],[Column3]]+Table1[[#This Row],[Column2]]+Table1[[#This Row],[Column1]])","v":0},{"$nulls":5},{"$f":"SUM(Table1[[#This Row],[PO Employee]:[Other Employee]])","v":0},"N",{"$error":"#N/A"},{"$f":"IF(O574>39,Table1[[#This Row],[Calc 1]],IF(O574>1,\"Not counted as an Employee\",\"#NA\"))","v":"#NA"},{"$f":"MAX(Table1[[#This Row],[PO Employee]],Table1[[#This Row],[Other HZ Employee]],Table1[[#This Row],[Non HZ Employee]],Table1[[#This Row],[Job Site Employee]],Table1[[#This Row],[Other Employee]])","v":0},{"$f":"IF(Table1[[#This Row],[Total Hours per Month]]=Table1[[#This Row],[Column12]],\"Match\",\"Error\")","v":"Match"},{"$f":"IF(Table1[[#This Row],[Calc 2]]=\"#NA\",\"#NA\",IF(Table1[[#This Row],[Non HZ Employee]]=Table1[[#This Row],[Max calc]],\"Non HZ Employee\", Table1[[#This Row],[Calc 2]]))","v":"#NA"}]
[558,null,558,{"$nulls":5},{"$f":"SUM(Table1[[#This Row],[Column4]]+Table1[[#This Row],[Column3]]+Table1[[#This Row],[Column2]]+Table1[[#This Row],[Column1]])","v":0},{"$nulls":5},{"$f":"SUM(Table1[[#This Row],[PO Employee]:[Other Employee]])","v":0},"N",{"$error":"#N/A"},{"$f":"IF(O575>39,Table1[[#This Row],[Calc 1]],IF(O575>1,\"Not counted as an Employee\",\"#NA\"))","v":"#NA"},{"$f":"MAX(Table1[[#This Row],[PO Employee]],Table1[[#This Row],[Other HZ Employee]],Table1[[#This Row],[Non HZ Employee]],Table1[[#This Row],[Job Site Employee]],Table1[[#This Row],[Other Employee]])","v":0},{"$f":"IF(Table1[[#This Row],[Total Hours per Month]]=Table1[[#This Row],[Column12]],\"Match\",\"Error\")","v":"Match"},{"$f":"IF(Table1[[#This Row],[Calc 2]]=\"#NA\",\"#NA\",IF(Table1[[#This Row],[Non HZ Employee]]=Table1[[#This Row],[Max calc]],\"Non HZ Employee\", Table1[[#This Row],[Calc 2]]))","v":"#NA"}]
[559,null,559,{"$nulls":5},{"$f":"SUM(Table1[[#This Row],[Column4]]+Table1[[#This Row],[Column3]]+Table1[[#This Row],[Column2]]+Table1[[#This Row],[Column1]])","v":0},{"$nulls":5},{"$f":"SUM(Table1[[#This Row],[PO Employee]:[Other Employee]])","v":0},"N",{"$error":"#N/A"},{"$f":"IF(O576>39,Table1[[#This Row],[Calc 1]],IF(O576>1,\"Not counted as an Employee\",\"#NA\"))","v":"#NA"},{"$f":"MAX(Table1[[#This Row],[PO Employee]],Table1[[#This Row],[Other HZ Employee]],Table1[[#This Row],[Non HZ Employee]],Table1[[#This Row],[Job Site Employee]],Table1[[#This Row],[Other Employee]])","v":0},{"$f":"IF(Table1[[#This Row],[Total Hours per Month]]=Table1[[#This Row],[Column12]],\"Match\",\"Error\")","v":"Match"},{"$f":"IF(Table1[[#This Row],[Calc 2]]=\"#NA\",\"#NA\",IF(Table1[[#This Row],[Non HZ Employee]]=Table1[[#This Row],[Max calc]],\"Non HZ Employee\", Table1[[#This Row],[Calc 2]]))","v":"#NA"}]
[560,null,560,{"$nulls":5},{"$f":"SUM(Table1[[#This Row],[Column4]]+Table1[[#This Row],[Column3]]+Table1[[#This Row],[Column2]]+Table1[[#This Row],[Column1]])","v":0},{"$nulls":5},{"$f":"SUM(Table1[[#This Row],[PO Employee]:[Other Employee]])","v":0},"N",{"$error":"#N/A"},{"$f":"IF(O577>39,Table1[[#This Row],[Calc 1]],IF(O577>1,\"Not counted as an Employee\",\"#NA\"))","v":"#NA"},{"$f":"MAX(Table1[[#This Row],[PO Employee]],Table1[[#This Row],[Other HZ Employee]],Table1[[#This Row],[Non HZ Employee]],Table1[[#This Row],[Job Site Employee]],Table1[[#This Row],[Other Employee]])","v":0},{"$f":"IF(Table1[[#This Row],[Total Hours per Month]]=Table1[[#This Row],[Column12]],\"Match\",\"Error\")","v":"Match"},{"$f":"IF(Table1[[#This Row],[Calc 2]]=\"#NA\",\"#NA\",IF(Table1[[#This Row],[Non HZ Employee]]=Table1[[#This Row],[Max calc]],\"Non HZ Employee\", Table1[[#This Row],[Calc 2]]))","v":"#NA"}]
[561,null,561,{"$nulls":5},{"$f":"SUM(Table1[[#This Row],[Column4]]+Table1[[#This Row],[Column3]]+Table1[[#This Row],[Column2]]+Table1[[#This Row],[Column1]])","v":0},{"$nulls":5},{"$f":"SUM(Table1[[#This Row],[PO Employee]:[Other Employee]])","v":0},"N",{"$error":"#N/A"},{"$f":"IF(O578>39,Table1[[#This Row],[Calc 1]],IF(O578>1,\"Not counted as an Employee\",\"#NA\"))","v":"#NA"},{"$f":"MAX(Table1[[#This Row],[PO Employee]],Table1[[#This Row],[Other HZ Employee]],Table1[[#This Row],[Non HZ Employee]],Table1[[#This Row],[Job Site Employee]],Table1[[#This Row],[Other Employee]])","v":0},{"$f":"IF(Table1[[#This Row],[Total Hours per Month]]=Table1[[#This Row],[Column12]],\"Match\",\"Error\")","v":"Match"},{"$f":"IF(Table1[[#This Row],[Calc 2]]=\"#NA\",\"#NA\",IF(Table1[[#This Row],[Non HZ Employee]]=Table1[[#This Row],[Max calc]],\"Non HZ Employee\", Table1[[#This Row],[Calc 2]]))","v":"#NA"}]
[562,null,562,{"$nulls":5},{"$f":"SUM(Table1[[#This Row],[Column4]]+Table1[[#This Row],[Column3]]+Table1[[#This Row],[Column2]]+Table1[[#This Row],[Column1]])","v":0},{"$nulls":5},{"$f":"SUM(Table1[[#This Row],[PO Employee]:[Other Employee]])","v":0},"N",{"$error":"#N/A"},{"$f":"IF(O579>39,Table1[[#This Row],[Calc 1]],IF(O579>1,\"Not counted as an Employee\",\"#NA\"))","v":"#NA"},{"$f":"MAX(Table1[[#This Row],[PO Employee]],Table1[[#This Row],[Other HZ Employee]],Table1[[#This Row],[Non HZ Employee]],Table1[[#This Row],[Job Site Employee]],Table1[[#This Row],[Other Employee]])","v":0},{"$f":"IF(Table1[[#This Row],[Total Hours per Month]]=Table1[[#This Row],[Column12]],\"Match\",\"Error\")","v":"Match"},{"$f":"IF(Table1[[#This Row],[Calc 2]]=\"#NA\",\"#NA\",IF(Table1[[#This Row],[Non HZ Employee]]=Table1[[#This Row],[Max calc]],\"Non HZ Employee\", Table1[[#This Row],[Calc 2]]))","v":"#NA"}]
[563,null,563,{"$nulls":5},{"$f":"SUM(Table1[[#This Row],[Column4]]+Table1[[#This Row],[Column3]]+Table1[[#This Row],[Column2]]+Table1[[#This Row],[Column1]])","v":0},{"$nulls":5},{"$f":"SUM(Table1[[#This Row],[PO Employee]:[Other Employee]])","v":0},"N",{"$error":"#N/A"},{"$f":"IF(O580>39,Table1[[#This Row],[Calc 1]],IF(O580>1,\"Not counted as an Employee\",\"#NA\"))","v":"#NA"},{"$f":"MAX(Table1[[#This Row],[PO Employee]],Table1[[#This Row],[Other HZ Employee]],Table1[[#This Row],[Non HZ Employee]],Table1[[#This Row],[Job Site Employee]],Table1[[#This Row],[Other Employee]])","v":0},{"$f":"IF(Table1[[#This Row],[Total Hours per Month]]=Table1[[#This Row],[Column12]],\"Match\",\"Error\")","v":"Match"},{"$f":"IF(Table1[[#This Row],[Calc 2]]=\"#NA\",\"#NA\",IF(Table1[[#This Row],[Non HZ Employee]]=Table1[[#This Row],[Max calc]],\"Non HZ Employee\", Table1[[#This Row],[Calc 2]]))","v":"#NA"}]
[564,null,564,{"$nulls":5},{"$f":"SUM(Table1[[#This Row],[Column4]]+Table1[[#This Row],[Column3]]+Table1[[#This Row],[Column2]]+Table1[[#This Row],[Column1]])","v":0},{"$nulls":5},{"$f":"SUM(Table1[[#This Row],[PO Employee]:[Other Employee]])","v":0},"N",{"$error":"#N/A"},{"$f":"IF(O581>39,Table1[[#This Row],[Calc 1]],IF(O581>1,\"Not counted as an Employee\",\"#NA\"))","v":"#NA"},{"$f":"MAX(Table1[[#This Row],[PO Employee]],Table1[[#This Row],[Other HZ Employee]],Table1[[#This Row],[Non HZ Employee]],Table1[[#This Row],[Job Site Employee]],Table1[[#This Row],[Other Employee]])","v":0},{"$f":"IF(Table1[[#This Row],[Total Hours per Month]]=Table1[[#This Row],[Column12]],\"Match\",\"Error\")","v":"Match"},{"$f":"IF(Table1[[#This Row],[Calc 2]]=\"#NA\",\"#NA\",IF(Table1[[#This Row],[Non HZ Employee]]=Table1[[#This Row],[Max calc]],\"Non HZ Employee\", Table1[[#This Row],[Calc 2]]))","v":"#NA"}]
[565,null,565,{"$nulls":5},{"$f":"SUM(Table1[[#This Row],[Column4]]+Table1[[#This Row],[Column3]]+Table1[[#This Row],[Column2]]+Table1[[#This Row],[Column1]])","v":0},{"$nulls":5},{"$f":"SUM(Table1[[#This Row],[PO Employee]:[Other Employee]])","v":0},"N",{"$error":"#N/A"},{"$f":"IF(O582>39,Table1[[#This Row],[Calc 1]],IF(O582>1,\"Not counted as an Employee\",\"#NA\"))","v":"#NA"},{"$f":"MAX(Table1[[#This Row],[PO Employee]],Table1[[#This Row],[Other HZ Employee]],Table1[[#This Row],[Non HZ Employee]],Table1[[#This Row],[Job Site Employee]],Table1[[#This Row],[Other Employee]])","v":0},{"$f":"IF(Table1[[#This Row],[Total Hours per Month]]=Table1[[#This Row],[Column12]],\"Match\",\"Error\")","v":"Match"},{"$f":"IF(Table1[[#This Row],[Calc 2]]=\"#NA\",\"#NA\",IF(Table1[[#This Row],[Non HZ Employee]]=Table1[[#This Row],[Max calc]],\"Non HZ Employee\", Table1[[#This Row],[Calc 2]]))","v":"#NA"}]
[566,null,566,{"$nulls":5},{"$f":"SUM(Table1[[#This Row],[Column4]]+Table1[[#This Row],[Column3]]+Table1[[#This Row],[Column2]]+Table1[[#This Row],[Column1]])","v":0},{"$nulls":5},{"$f":"SUM(Table1[[#This Row],[PO Employee]:[Other Employee]])","v":0},"N",{"$error":"#N/A"},{"$f":"IF(O583>39,Table1[[#This Row],[Calc 1]],IF(O583>1,\"Not counted as an Employee\",\"#NA\"))","v":"#NA"},{"$f":"MAX(Table1[[#This Row],[PO Employee]],Table1[[#This Row],[Other HZ Employee]],Table1[[#This Row],[Non HZ Employee]],Table1[[#This Row],[Job Site Employee]],Table1[[#This Row],[Other Employee]])","v":0},{"$f":"IF(Table1[[#This Row],[Total Hours per Month]]=Table1[[#This Row],[Column12]],\"Match\",\"Error\")","v":"Match"},{"$f":"IF(Table1[[#This Row],[Calc 2]]=\"#NA\",\"#NA\",IF(Table1[[#This Row],[Non HZ Employee]]=Table1[[#This Row],[Max calc]],\"Non HZ Employee\", Table1[[#This Row],[Calc 2]]))","v":"#NA"}]
[567,null,567,{"$nulls":5},{"$f":"SUM(Table1[[#This Row],[Column4]]+Table1[[#This Row],[Column3]]+Table1[[#This Row],[Column2]]+Table1[[#This Row],[Column1]])","v":0},{"$nulls":5},{"$f":"SUM(Table1[[#This Row],[PO Employee]:[Other Employee]])","v":0},"N",{"$error":"#N/A"},{"$f":"IF(O584>39,Table1[[#This Row],[Calc 1]],IF(O584>1,\"Not counted as an Employee\",\"#NA\"))","v":"#NA"},{"$f":"MAX(Table1[[#This Row],[PO Employee]],Table1[[#This Row],[Other HZ Employee]],Table1[[#This Row],[Non HZ Employee]],Table1[[#This Row],[Job Site Employee]],Table1[[#This Row],[Other Employee]])","v":0},{"$f":"IF(Table1[[#This Row],[Total Hours per Month]]=Table1[[#This Row],[Column12]],\"Match\",\"Error\")","v":"Match"},{"$f":"IF(Table1[[#This Row],[Calc 2]]=\"#NA\",\"#NA\",IF(Table1[[#This Row],[Non HZ Employee]]=Table1[[#This Row],[Max calc]],\"Non HZ Employee\", Table1[[#This Row],[Calc 2]]))","v":"#NA"}]
[568,null,568,{"$nulls":5},{"$f":"SUM(Table1[[#This Row],[Column4]]+Table1[[#This Row],[Column3]]+Table1[[#This Row],[Column2]]+Table1[[#This Row],[Column1]])","v":0},{"$nulls":5},{"$f":"SUM(Table1[[#This Row],[PO Employee]:[Other Employee]])","v":0},"N",{"$error":"#N/A"},{"$f":"IF(O585>39,Table1[[#This Row],[Calc 1]],IF(O585>1,\"Not counted as an Employee\",\"#NA\"))","v":"#NA"},{"$f":"MAX(Table1[[#This Row],[PO Employee]],Table1[[#This Row],[Other HZ Employee]],Table1[[#This Row],[Non HZ Employee]],Table1[[#This Row],[Job Site Employee]],Table1[[#This Row],[Other Employee]])","v":0},{"$f":"IF(Table1[[#This Row],[Total Hours per Month]]=Table1[[#This Row],[Column12]],\"Match\",\"Error\")","v":"Match"},{"$f":"IF(Table1[[#This Row],[Calc 2]]=\"#NA\",\"#NA\",IF(Table1[[#This Row],[Non HZ Employee]]=Table1[[#This Row],[Max calc]],\"Non HZ Employee\", Table1[[#This Row],[Calc 2]]))","v":"#NA"}]
[569,null,569,{"$nulls":5},{"$f":"SUM(Table1[[#This Row],[Column4]]+Table1[[#This Row],[Column3]]+Table1[[#This Row],[Column2]]+Table1[[#This Row],[Column1]])","v":0},{"$nulls":5},{"$f":"SUM(Table1[[#This Row],[PO Employee]:[Other Employee]])","v":0},"N",{"$error":"#N/A"},{"$f":"IF(O586>39,Table1[[#This Row],[Calc 1]],IF(O586>1,\"Not counted as an Employee\",\"#NA\"))","v":"#NA"},{"$f":"MAX(Table1[[#This Row],[PO Employee]],Table1[[#This Row],[Other HZ Employee]],Table1[[#This Row],[Non HZ Employee]],Table1[[#This Row],[Job Site Employee]],Table1[[#This Row],[Other Employee]])","v":0},{"$f":"IF(Table1[[#This Row],[Total Hours per Month]]=Table1[[#This Row],[Column12]],\"Match\",\"Error\")","v":"Match"},{"$f":"IF(Table1[[#This Row],[Calc 2]]=\"#NA\",\"#NA\",IF(Table1[[#This Row],[Non HZ Employee]]=Table1[[#This Row],[Max calc]],\"Non HZ Employee\", Table1[[#This Row],[Calc 2]]))","v":"#NA"}]
[570,null,570,{"$nulls":5},{"$f":"SUM(Table1[[#This Row],[Column4]]+Table1[[#This Row],[Column3]]+Table1[[#This Row],[Column2]]+Table1[[#This Row],[Column1]])","v":0},{"$nulls":5},{"$f":"SUM(Table1[[#This Row],[PO Employee]:[Other Employee]])","v":0},"N",{"$error":"#N/A"},{"$f":"IF(O587>39,Table1[[#This Row],[Calc 1]],IF(O587>1,\"Not counted as an Employee\",\"#NA\"))","v":"#NA"},{"$f":"MAX(Table1[[#This Row],[PO Employee]],Table1[[#This Row],[Other HZ Employee]],Table1[[#This Row],[Non HZ Employee]],Table1[[#This Row],[Job Site Employee]],Table1[[#This Row],[Other Employee]])","v":0},{"$f":"IF(Table1[[#This Row],[Total Hours per Month]]=Table1[[#This Row],[Column12]],\"Match\",\"Error\")","v":"Match"},{"$f":"IF(Table1[[#This Row],[Calc 2]]=\"#NA\",\"#NA\",IF(Table1[[#This Row],[Non HZ Employee]]=Table1[[#This Row],[Max calc]],\"Non HZ Employee\", Table1[[#This Row],[Calc 2]]))","v":"#NA"}]
[571,null,571,{"$nulls":5},{"$f":"SUM(Table1[[#This Row],[Column4]]+Table1[[#This Row],[Column3]]+Table1[[#This Row],[Column2]]+Table1[[#This Row],[Column1]])","v":0},{"$nulls":5},{"$f":"SUM(Table1[[#This Row],[PO Employee]:[Other Employee]])","v":0},"N",{"$error":"#N/A"},{"$f":"IF(O588>39,Table1[[#This Row],[Calc 1]],IF(O588>1,\"Not counted as an Employee\",\"#NA\"))","v":"#NA"},{"$f":"MAX(Table1[[#This Row],[PO Employee]],Table1[[#This Row],[Other HZ Employee]],Table1[[#This Row],[Non HZ Employee]],Table1[[#This Row],[Job Site Employee]],Table1[[#This Row],[Other Employee]])","v":0},{"$f":"IF(Table1[[#This Row],[Total Hours per Month]]=Table1[[#This Row],[Column12]],\"Match\",\"Error\")","v":"Match"},{"$f":"IF(Table1[[#This Row],[Calc 2]]=\"#NA\",\"#NA\",IF(Table1[[#This Row],[Non HZ Employee]]=Table1[[#This Row],[Max calc]],\"Non HZ Employee\", Table1[[#This Row],[Calc 2]]))","v":"#NA"}]
[572,null,572,{"$nulls":5},{"$f":"SUM(Table1[[#This Row],[Column4]]+Table1[[#This Row],[Column3]]+Table1[[#This Row],[Column2]]+Table1[[#This Row],[Column1]])","v":0},{"$nulls":5},{"$f":"SUM(Table1[[#This Row],[PO Employee]:[Other Employee]])","v":0},"N",{"$error":"#N/A"},{"$f":"IF(O589>39,Table1[[#This Row],[Calc 1]],IF(O589>1,\"Not counted as an Employee\",\"#NA\"))","v":"#NA"},{"$f":"MAX(Table1[[#This Row],[PO Employee]],Table1[[#This Row],[Other HZ Employee]],Table1[[#This Row],[Non HZ Employee]],Table1[[#This Row],[Job Site Employee]],Table1[[#This Row],[Other Employee]])","v":0},{"$f":"IF(Table1[[#This Row],[Total Hours per Month]]=Table1[[#This Row],[Column12]],\"Match\",\"Error\")","v":"Match"},{"$f":"IF(Table1[[#This Row],[Calc 2]]=\"#NA\",\"#NA\",IF(Table1[[#This Row],[Non HZ Employee]]=Table1[[#This Row],[Max calc]],\"Non HZ Employee\", Table1[[#This Row],[Calc 2]]))","v":"#NA"}]
[573,null,573,{"$nulls":5},{"$f":"SUM(Table1[[#This Row],[Column4]]+Table1[[#This Row],[Column3]]+Table1[[#This Row],[Column2]]+Table1[[#This Row],[Column1]])","v":0},{"$nulls":5},{"$f":"SUM(Table1[[#This Row],[PO Employee]:[Other Employee]])","v":0},"N",{"$error":"#N/A"},{"$f":"IF(O590>39,Table1[[#This Row],[Calc 1]],IF(O590>1,\"Not counted as an Employee\",\"#NA\"))","v":"#NA"},{"$f":"MAX(Table1[[#This Row],[PO Employee]],Table1[[#This Row],[Other HZ Employee]],Table1[[#This Row],[Non HZ Employee]],Table1[[#This Row],[Job Site Employee]],Table1[[#This Row],[Other Employee]])","v":0},{"$f":"IF(Table1[[#This Row],[Total Hours per Month]]=Table1[[#This Row],[Column12]],\"Match\",\"Error\")","v":"Match"},{"$f":"IF(Table1[[#This Row],[Calc 2]]=\"#NA\",\"#NA\",IF(Table1[[#This Row],[Non HZ Employee]]=Table1[[#This Row],[Max calc]],\"Non HZ Employee\", Table1[[#This Row],[Calc 2]]))","v":"#NA"}]
[574,null,574,{"$nulls":5},{"$f":"SUM(Table1[[#This Row],[Column4]]+Table1[[#This Row],[Column3]]+Table1[[#This Row],[Column2]]+Table1[[#This Row],[Column1]])","v":0},{"$nulls":5},{"$f":"SUM(Table1[[#This Row],[PO Employee]:[Other Employee]])","v":0},"N",{"$error":"#N/A"},{"$f":"IF(O591>39,Table1[[#This Row],[Calc 1]],IF(O591>1,\"Not counted as an Employee\",\"#NA\"))","v":"#NA"},{"$f":"MAX(Table1[[#This Row],[PO Employee]],Table1[[#This Row],[Other HZ Employee]],Table1[[#This Row],[Non HZ Employee]],Table1[[#This Row],[Job Site Employee]],Table1[[#This Row],[Other Employee]])","v":0},{"$f":"IF(Table1[[#This Row],[Total Hours per Month]]=Table1[[#This Row],[Column12]],\"Match\",\"Error\")","v":"Match"},{"$f":"IF(Table1[[#This Row],[Calc 2]]=\"#NA\",\"#NA\",IF(Table1[[#This Row],[Non HZ Employee]]=Table1[[#This Row],[Max calc]],\"Non HZ Employee\", Table1[[#This Row],[Calc 2]]))","v":"#NA"}]
[575,null,575,{"$nulls":5},{"$f":"SUM(Table1[[#This Row],[Column4]]+Table1[[#This Row],[Column3]]+Table1[[#This Row],[Column2]]+Table1[[#This Row],[Column1]])","v":0},{"$nulls":5},{"$f":"SUM(Table1[[#This Row],[PO Employee]:[Other Employee]])","v":0},"N",{"$error":"#N/A"},{"$f":"IF(O592>39,Table1[[#This Row],[Calc 1]],IF(O592>1,\"Not counted as an Employee\",\"#NA\"))","v":"#NA"},{"$f":"MAX(Table1[[#This Row],[PO Employee]],Table1[[#This Row],[Other HZ Employee]],Table1[[#This Row],[Non HZ Employee]],Table1[[#This Row],[Job Site Employee]],Table1[[#This Row],[Other Employee]])","v":0},{"$f":"IF(Table1[[#This Row],[Total Hours per Month]]=Table1[[#This Row],[Column12]],\"Match\",\"Error\")","v":"Match"},{"$f":"IF(Table1[[#This Row],[Calc 2]]=\"#NA\",\"#NA\",IF(Table1[[#This Row],[Non HZ Employee]]=Table1[[#This Row],[Max calc]],\"Non HZ Employee\", Table1[[#This Row],[Calc 2]]))","v":"#NA"}]
[576,null,576,{"$nulls":5},{"$f":"SUM(Table1[[#This Row],[Column4]]+Table1[[#This Row],[Column3]]+Table1[[#This Row],[Column2]]+Table1[[#This Row],[Column1]])","v":0},{"$nulls":5},{"$f":"SUM(Table1[[#This Row],[PO Employee]:[Other Employee]])","v":0},"N",{"$error":"#N/A"},{"$f":"IF(O593>39,Table1[[#This Row],[Calc 1]],IF(O593>1,\"Not counted as an Employee\",\"#NA\"))","v":"#NA"},{"$f":"MAX(Table1[[#This Row],[PO Employee]],Table1[[#This Row],[Other HZ Employee]],Table1[[#This Row],[Non HZ Employee]],Table1[[#This Row],[Job Site Employee]],Table1[[#This Row],[Other Employee]])","v":0},{"$f":"IF(Table1[[#This Row],[Total Hours per Month]]=Table1[[#This Row],[Column12]],\"Match\",\"Error\")","v":"Match"},{"$f":"IF(Table1[[#This Row],[Calc 2]]=\"#NA\",\"#NA\",IF(Table1[[#This Row],[Non HZ Employee]]=Table1[[#This Row],[Max calc]],\"Non HZ Employee\", Table1[[#This Row],[Calc 2]]))","v":"#NA"}]
[577,null,577,{"$nulls":5},{"$f":"SUM(Table1[[#This Row],[Column4]]+Table1[[#This Row],[Column3]]+Table1[[#This Row],[Column2]]+Table1[[#This Row],[Column1]])","v":0},{"$nulls":5},{"$f":"SUM(Table1[[#This Row],[PO Employee]:[Other Employee]])","v":0},"N",{"$f":"INDEX($J$17:$N$17,MATCH(MAX(J594:N594),J594:N594,0))","v":{"$error":"#N/A"}},{"$f":"IF(O594>39,Table1[[#This Row],[Calc 1]],IF(O594>1,\"Not counted as an Employee\",\"#NA\"))","v":"#NA"},{"$f":"MAX(Table1[[#This Row],[PO Employee]],Table1[[#This Row],[Other HZ Employee]],Table1[[#This Row],[Non HZ Employee]],Table1[[#This Row],[Job Site Employee]],Table1[[#This Row],[Other Employee]])","v":0},{"$f":"IF(Table1[[#This Row],[Total Hours per Month]]=Table1[[#This Row],[Column12]],\"Match\",\"Error\")","v":"Match"},{"$f":"IF(Table1[[#This Row],[Calc 2]]=\"#NA\",\"#NA\",IF(Table1[[#This Row],[Non HZ Employee]]=Table1[[#This Row],[Max calc]],\"Non HZ Employee\", Table1[[#This Row],[Calc 2]]))","v":"#NA"}]
[578,null,578,{"$nulls":5},{"$f":"SUM(Table1[[#This Row],[Column4]]+Table1[[#This Row],[Column3]]+Table1[[#This Row],[Column2]]+Table1[[#This Row],[Column1]])","v":0},{"$nulls":5},{"$f":"SUM(Table1[[#This Row],[PO Employee]:[Other Employee]])","v":0},{"$f":"IF(O595>=40,\"Y\",\"N\")","v":"N"},{"$error":"#N/A"},{"$f":"IF(O595>39,Table1[[#This Row],[Calc 1]],IF(O595>1,\"Not counted as an Employee\",\"#NA\"))","v":"#NA"},{"$f":"MAX(Table1[[#This Row],[PO Employee]],Table1[[#This Row],[Other HZ Employee]],Table1[[#This Row],[Non HZ Employee]],Table1[[#This Row],[Job Site Employee]],Table1[[#This Row],[Other Employee]])","v":0},{"$f":"IF(Table1[[#This Row],[Total Hours per Month]]=Table1[[#This Row],[Column12]],\"Match\",\"Error\")","v":"Match"},{"$f":"IF(Table1[[#This Row],[Calc 2]]=\"#NA\",\"#NA\",IF(Table1[[#This Row],[Non HZ Employee]]=Table1[[#This Row],[Max calc]],\"Non HZ Employee\", Table1[[#This Row],[Calc 2]]))","v":"#NA"}]
[579,null,579,{"$nulls":5},{"$f":"SUM(Table1[[#This Row],[Column4]]+Table1[[#This Row],[Column3]]+Table1[[#This Row],[Column2]]+Table1[[#This Row],[Column1]])","v":0},{"$nulls":5},{"$f":"SUM(Table1[[#This Row],[PO Employee]:[Other Employee]])","v":0},"N",{"$error":"#N/A"},{"$f":"IF(O596>39,Table1[[#This Row],[Calc 1]],IF(O596>1,\"Not counted as an Employee\",\"#NA\"))","v":"#NA"},{"$f":"MAX(Table1[[#This Row],[PO Employee]],Table1[[#This Row],[Other HZ Employee]],Table1[[#This Row],[Non HZ Employee]],Table1[[#This Row],[Job Site Employee]],Table1[[#This Row],[Other Employee]])","v":0},{"$f":"IF(Table1[[#This Row],[Total Hours per Month]]=Table1[[#This Row],[Column12]],\"Match\",\"Error\")","v":"Match"},{"$f":"IF(Table1[[#This Row],[Calc 2]]=\"#NA\",\"#NA\",IF(Table1[[#This Row],[Non HZ Employee]]=Table1[[#This Row],[Max calc]],\"Non HZ Employee\", Table1[[#This Row],[Calc 2]]))","v":"#NA"}]
[580,null,580,{"$nulls":5},{"$f":"SUM(Table1[[#This Row],[Column4]]+Table1[[#This Row],[Column3]]+Table1[[#This Row],[Column2]]+Table1[[#This Row],[Column1]])","v":0},{"$nulls":5},{"$f":"SUM(Table1[[#This Row],[PO Employee]:[Other Employee]])","v":0},"N",{"$error":"#N/A"},{"$f":"IF(O597>39,Table1[[#This Row],[Calc 1]],IF(O597>1,\"Not counted as an Employee\",\"#NA\"))","v":"#NA"},{"$f":"MAX(Table1[[#This Row],[PO Employee]],Table1[[#This Row],[Other HZ Employee]],Table1[[#This Row],[Non HZ Employee]],Table1[[#This Row],[Job Site Employee]],Table1[[#This Row],[Other Employee]])","v":0},{"$f":"IF(Table1[[#This Row],[Total Hours per Month]]=Table1[[#This Row],[Column12]],\"Match\",\"Error\")","v":"Match"},{"$f":"IF(Table1[[#This Row],[Calc 2]]=\"#NA\",\"#NA\",IF(Table1[[#This Row],[Non HZ Employee]]=Table1[[#This Row],[Max calc]],\"Non HZ Employee\", Table1[[#This Row],[Calc 2]]))","v":"#NA"}]
[581,null,581,{"$nulls":5},{"$f":"SUM(Table1[[#This Row],[Column4]]+Table1[[#This Row],[Column3]]+Table1[[#This Row],[Column2]]+Table1[[#This Row],[Column1]])","v":0},{"$nulls":5},{"$f":"SUM(Table1[[#This Row],[PO Employee]:[Other Employee]])","v":0},"N",{"$error":"#N/A"},{"$f":"IF(O598>39,Table1[[#This Row],[Calc 1]],IF(O598>1,\"Not counted as an Employee\",\"#NA\"))","v":"#NA"},{"$f":"MAX(Table1[[#This Row],[PO Employee]],Table1[[#This Row],[Other HZ Employee]],Table1[[#This Row],[Non HZ Employee]],Table1[[#This Row],[Job Site Employee]],Table1[[#This Row],[Other Employee]])","v":0},{"$f":"IF(Table1[[#This Row],[Total Hours per Month]]=Table1[[#This Row],[Column12]],\"Match\",\"Error\")","v":"Match"},{"$f":"IF(Table1[[#This Row],[Calc 2]]=\"#NA\",\"#NA\",IF(Table1[[#This Row],[Non HZ Employee]]=Table1[[#This Row],[Max calc]],\"Non HZ Employee\", Table1[[#This Row],[Calc 2]]))","v":"#NA"}]
[582,null,582,{"$nulls":5},{"$f":"SUM(Table1[[#This Row],[Column4]]+Table1[[#This Row],[Column3]]+Table1[[#This Row],[Column2]]+Table1[[#This Row],[Column1]])","v":0},{"$nulls":5},{"$f":"SUM(Table1[[#This Row],[PO Employee]:[Other Employee]])","v":0},"N",{"$error":"#N/A"},{"$f":"IF(O599>39,Table1[[#This Row],[Calc 1]],IF(O599>1,\"Not counted as an Employee\",\"#NA\"))","v":"#NA"},{"$f":"MAX(Table1[[#This Row],[PO Employee]],Table1[[#This Row],[Other HZ Employee]],Table1[[#This Row],[Non HZ Employee]],Table1[[#This Row],[Job Site Employee]],Table1[[#This Row],[Other Employee]])","v":0},{"$f":"IF(Table1[[#This Row],[Total Hours per Month]]=Table1[[#This Row],[Column12]],\"Match\",\"Error\")","v":"Match"},{"$f":"IF(Table1[[#This Row],[Calc 2]]=\"#NA\",\"#NA\",IF(Table1[[#This Row],[Non HZ Employee]]=Table1[[#This Row],[Max calc]],\"Non HZ Employee\", Table1[[#This Row],[Calc 2]]))","v":"#NA"}]
[583,null,583,{"$nulls":5},{"$f":"SUM(Table1[[#This Row],[Column4]]+Table1[[#This Row],[Column3]]+Table1[[#This Row],[Column2]]+Table1[[#This Row],[Column1]])","v":0},{"$nulls":5},{"$f":"SUM(Table1[[#This Row],[PO Employee]:[Other Employee]])","v":0},"N",{"$error":"#N/A"},{"$f":"IF(O600>39,Table1[[#This Row],[Calc 1]],IF(O600>1,\"Not counted as an Employee\",\"#NA\"))","v":"#NA"},{"$f":"MAX(Table1[[#This Row],[PO Employee]],Table1[[#This Row],[Other HZ Employee]],Table1[[#This Row],[Non HZ Employee]],Table1[[#This Row],[Job Site Employee]],Table1[[#This Row],[Other Employee]])","v":0},{"$f":"IF(Table1[[#This Row],[Total Hours per Month]]=Table1[[#This Row],[Column12]],\"Match\",\"Error\")","v":"Match"},{"$f":"IF(Table1[[#This Row],[Calc 2]]=\"#NA\",\"#NA\",IF(Table1[[#This Row],[Non HZ Employee]]=Table1[[#This Row],[Max calc]],\"Non HZ Employee\", Table1[[#This Row],[Calc 2]]))","v":"#NA"}]
[584,null,584,{"$nulls":5},{"$f":"SUM(Table1[[#This Row],[Column4]]+Table1[[#This Row],[Column3]]+Table1[[#This Row],[Column2]]+Table1[[#This Row],[Column1]])","v":0},{"$nulls":5},{"$f":"SUM(Table1[[#This Row],[PO Employee]:[Other Employee]])","v":0},"N",{"$error":"#N/A"},{"$f":"IF(O601>39,Table1[[#This Row],[Calc 1]],IF(O601>1,\"Not counted as an Employee\",\"#NA\"))","v":"#NA"},{"$f":"MAX(Table1[[#This Row],[PO Employee]],Table1[[#This Row],[Other HZ Employee]],Table1[[#This Row],[Non HZ Employee]],Table1[[#This Row],[Job Site Employee]],Table1[[#This Row],[Other Employee]])","v":0},{"$f":"IF(Table1[[#This Row],[Total Hours per Month]]=Table1[[#This Row],[Column12]],\"Match\",\"Error\")","v":"Match"},{"$f":"IF(Table1[[#This Row],[Calc 2]]=\"#NA\",\"#NA\",IF(Table1[[#This Row],[Non HZ Employee]]=Table1[[#This Row],[Max calc]],\"Non HZ Employee\", Table1[[#This Row],[Calc 2]]))","v":"#NA"}]
[585,null,585,{"$nulls":5},{"$f":"SUM(Table1[[#This Row],[Column4]]+Table1[[#This Row],[Column3]]+Table1[[#This Row],[Column2]]+Table1[[#This Row],[Column1]])","v":0},{"$nulls":5},{"$f":"SUM(Table1[[#This Row],[PO Employee]:[Other Employee]])","v":0},"N",{"$error":"#N/A"},{"$f":"IF(O602>39,Table1[[#This Row],[Calc 1]],IF(O602>1,\"Not counted as an Employee\",\"#NA\"))","v":"#NA"},{"$f":"MAX(Table1[[#This Row],[PO Employee]],Table1[[#This Row],[Other HZ Employee]],Table1[[#This Row],[Non HZ Employee]],Table1[[#This Row],[Job Site Employee]],Table1[[#This Row],[Other Employee]])","v":0},{"$f":"IF(Table1[[#This Row],[Total Hours per Month]]=Table1[[#This Row],[Column12]],\"Match\",\"Error\")","v":"Match"},{"$f":"IF(Table1[[#This Row],[Calc 2]]=\"#NA\",\"#NA\",IF(Table1[[#This Row],[Non HZ Employee]]=Table1[[#This Row],[Max calc]],\"Non HZ Employee\", Table1[[#This Row],[Calc 2]]))","v":"#NA"}]
[586,null,586,{"$nulls":5},{"$f":"SUM(Table1[[#This Row],[Column4]]+Table1[[#This Row],[Column3]]+Table1[[#This Row],[Column2]]+Table1[[#This Row],[Column1]])","v":0},{"$nulls":5},{"$f":"SUM(Table1[[#This Row],[PO Employee]:[Other Employee]])","v":0},"N",{"$error":"#N/A"},{"$f":"IF(O603>39,Table1[[#This Row],[Calc 1]],IF(O603>1,\"Not counted as an Employee\",\"#NA\"))","v":"#NA"},{"$f":"MAX(Table1[[#This Row],[PO Employee]],Table1[[#This Row],[Other HZ Employee]],Table1[[#This Row],[Non HZ Employee]],Table1[[#This Row],[Job Site Employee]],Table1[[#This Row],[Other Employee]])","v":0},{"$f":"IF(Table1[[#This Row],[Total Hours per Month]]=Table1[[#This Row],[Column12]],\"Match\",\"Error\")","v":"Match"},{"$f":"IF(Table1[[#This Row],[Calc 2]]=\"#NA\",\"#NA\",IF(Table1[[#This Row],[Non HZ Employee]]=Table1[[#This Row],[Max calc]],\"Non HZ Employee\", Table1[[#This Row],[Calc 2]]))","v":"#NA"}]
[587,null,587,{"$nulls":5},{"$f":"SUM(Table1[[#This Row],[Column4]]+Table1[[#This Row],[Column3]]+Table1[[#This Row],[Column2]]+Table1[[#This Row],[Column1]])","v":0},{"$nulls":5},{"$f":"SUM(Table1[[#This Row],[PO Employee]:[Other Employee]])","v":0},"N",{"$error":"#N/A"},{"$f":"IF(O604>39,Table1[[#This Row],[Calc 1]],IF(O604>1,\"Not counted as an Employee\",\"#NA\"))","v":"#NA"},{"$f":"MAX(Table1[[#This Row],[PO Employee]],Table1[[#This Row],[Other HZ Employee]],Table1[[#This Row],[Non HZ Employee]],Table1[[#This Row],[Job Site Employee]],Table1[[#This Row],[Other Employee]])","v":0},{"$f":"IF(Table1[[#This Row],[Total Hours per Month]]=Table1[[#This Row],[Column12]],\"Match\",\"Error\")","v":"Match"},{"$f":"IF(Table1[[#This Row],[Calc 2]]=\"#NA\",\"#NA\",IF(Table1[[#This Row],[Non HZ Employee]]=Table1[[#This Row],[Max calc]],\"Non HZ Employee\", Table1[[#This Row],[Calc 2]]))","v":"#NA"}]
[588,null,588,{"$nulls":5},{"$f":"SUM(Table1[[#This Row],[Column4]]+Table1[[#This Row],[Column3]]+Table1[[#This Row],[Column2]]+Table1[[#This Row],[Column1]])","v":0},{"$nulls":5},{"$f":"SUM(Table1[[#This Row],[PO Employee]:[Other Employee]])","v":0},"N",{"$error":"#N/A"},{"$f":"IF(O605>39,Table1[[#This Row],[Calc 1]],IF(O605>1,\"Not counted as an Employee\",\"#NA\"))","v":"#NA"},{"$f":"MAX(Table1[[#This Row],[PO Employee]],Table1[[#This Row],[Other HZ Employee]],Table1[[#This Row],[Non HZ Employee]],Table1[[#This Row],[Job Site Employee]],Table1[[#This Row],[Other Employee]])","v":0},{"$f":"IF(Table1[[#This Row],[Total Hours per Month]]=Table1[[#This Row],[Column12]],\"Match\",\"Error\")","v":"Match"},{"$f":"IF(Table1[[#This Row],[Calc 2]]=\"#NA\",\"#NA\",IF(Table1[[#This Row],[Non HZ Employee]]=Table1[[#This Row],[Max calc]],\"Non HZ Employee\", Table1[[#This Row],[Calc 2]]))","v":"#NA"}]
[589,null,589,{"$nulls":5},{"$f":"SUM(Table1[[#This Row],[Column4]]+Table1[[#This Row],[Column3]]+Table1[[#This Row],[Column2]]+Table1[[#This Row],[Column1]])","v":0},{"$nulls":5},{"$f":"SUM(Table1[[#This Row],[PO Employee]:[Other Employee]])","v":0},"N",{"$error":"#N/A"},{"$f":"IF(O606>39,Table1[[#This Row],[Calc 1]],IF(O606>1,\"Not counted as an Employee\",\"#NA\"))","v":"#NA"},{"$f":"MAX(Table1[[#This Row],[PO Employee]],Table1[[#This Row],[Other HZ Employee]],Table1[[#This Row],[Non HZ Employee]],Table1[[#This Row],[Job Site Employee]],Table1[[#This Row],[Other Employee]])","v":0},{"$f":"IF(Table1[[#This Row],[Total Hours per Month]]=Table1[[#This Row],[Column12]],\"Match\",\"Error\")","v":"Match"},{"$f":"IF(Table1[[#This Row],[Calc 2]]=\"#NA\",\"#NA\",IF(Table1[[#This Row],[Non HZ Employee]]=Table1[[#This Row],[Max calc]],\"Non HZ Employee\", Table1[[#This Row],[Calc 2]]))","v":"#NA"}]
[590,null,590,{"$nulls":5},{"$f":"SUM(Table1[[#This Row],[Column4]]+Table1[[#This Row],[Column3]]+Table1[[#This Row],[Column2]]+Table1[[#This Row],[Column1]])","v":0},{"$nulls":5},{"$f":"SUM(Table1[[#This Row],[PO Employee]:[Other Employee]])","v":0},"N",{"$error":"#N/A"},{"$f":"IF(O607>39,Table1[[#This Row],[Calc 1]],IF(O607>1,\"Not counted as an Employee\",\"#NA\"))","v":"#NA"},{"$f":"MAX(Table1[[#This Row],[PO Employee]],Table1[[#This Row],[Other HZ Employee]],Table1[[#This Row],[Non HZ Employee]],Table1[[#This Row],[Job Site Employee]],Table1[[#This Row],[Other Employee]])","v":0},{"$f":"IF(Table1[[#This Row],[Total Hours per Month]]=Table1[[#This Row],[Column12]],\"Match\",\"Error\")","v":"Match"},{"$f":"IF(Table1[[#This Row],[Calc 2]]=\"#NA\",\"#NA\",IF(Table1[[#This Row],[Non HZ Employee]]=Table1[[#This Row],[Max calc]],\"Non HZ Employee\", Table1[[#This Row],[Calc 2]]))","v":"#NA"}]
[591,null,591,{"$nulls":5},{"$f":"SUM(Table1[[#This Row],[Column4]]+Table1[[#This Row],[Column3]]+Table1[[#This Row],[Column2]]+Table1[[#This Row],[Column1]])","v":0},{"$nulls":5},{"$f":"SUM(Table1[[#This Row],[PO Employee]:[Other Employee]])","v":0},"N",{"$error":"#N/A"},{"$f":"IF(O608>39,Table1[[#This Row],[Calc 1]],IF(O608>1,\"Not counted as an Employee\",\"#NA\"))","v":"#NA"},{"$f":"MAX(Table1[[#This Row],[PO Employee]],Table1[[#This Row],[Other HZ Employee]],Table1[[#This Row],[Non HZ Employee]],Table1[[#This Row],[Job Site Employee]],Table1[[#This Row],[Other Employee]])","v":0},{"$f":"IF(Table1[[#This Row],[Total Hours per Month]]=Table1[[#This Row],[Column12]],\"Match\",\"Error\")","v":"Match"},{"$f":"IF(Table1[[#This Row],[Calc 2]]=\"#NA\",\"#NA\",IF(Table1[[#This Row],[Non HZ Employee]]=Table1[[#This Row],[Max calc]],\"Non HZ Employee\", Table1[[#This Row],[Calc 2]]))","v":"#NA"}]
[592,null,592,{"$nulls":5},{"$f":"SUM(Table1[[#This Row],[Column4]]+Table1[[#This Row],[Column3]]+Table1[[#This Row],[Column2]]+Table1[[#This Row],[Column1]])","v":0},{"$nulls":5},{"$f":"SUM(Table1[[#This Row],[PO Employee]:[Other Employee]])","v":0},"N",{"$error":"#N/A"},{"$f":"IF(O609>39,Table1[[#This Row],[Calc 1]],IF(O609>1,\"Not counted as an Employee\",\"#NA\"))","v":"#NA"},{"$f":"MAX(Table1[[#This Row],[PO Employee]],Table1[[#This Row],[Other HZ Employee]],Table1[[#This Row],[Non HZ Employee]],Table1[[#This Row],[Job Site Employee]],Table1[[#This Row],[Other Employee]])","v":0},{"$f":"IF(Table1[[#This Row],[Total Hours per Month]]=Table1[[#This Row],[Column12]],\"Match\",\"Error\")","v":"Match"},{"$f":"IF(Table1[[#This Row],[Calc 2]]=\"#NA\",\"#NA\",IF(Table1[[#This Row],[Non HZ Employee]]=Table1[[#This Row],[Max calc]],\"Non HZ Employee\", Table1[[#This Row],[Calc 2]]))","v":"#NA"}]
[593,null,593,{"$nulls":5},{"$f":"SUM(Table1[[#This Row],[Column4]]+Table1[[#This Row],[Column3]]+Table1[[#This Row],[Column2]]+Table1[[#This Row],[Column1]])","v":0},{"$nulls":5},{"$f":"SUM(Table1[[#This Row],[PO Employee]:[Other Employee]])","v":0},"N",{"$error":"#N/A"},{"$f":"IF(O610>39,Table1[[#This Row],[Calc 1]],IF(O610>1,\"Not counted as an Employee\",\"#NA\"))","v":"#NA"},{"$f":"MAX(Table1[[#This Row],[PO Employee]],Table1[[#This Row],[Other HZ Employee]],Table1[[#This Row],[Non HZ Employee]],Table1[[#This Row],[Job Site Employee]],Table1[[#This Row],[Other Employee]])","v":0},{"$f":"IF(Table1[[#This Row],[Total Hours per Month]]=Table1[[#This Row],[Column12]],\"Match\",\"Error\")","v":"Match"},{"$f":"IF(Table1[[#This Row],[Calc 2]]=\"#NA\",\"#NA\",IF(Table1[[#This Row],[Non HZ Employee]]=Table1[[#This Row],[Max calc]],\"Non HZ Employee\", Table1[[#This Row],[Calc 2]]))","v":"#NA"}]
[594,null,594,{"$nulls":5},{"$f":"SUM(Table1[[#This Row],[Column4]]+Table1[[#This Row],[Column3]]+Table1[[#This Row],[Column2]]+Table1[[#This Row],[Column1]])","v":0},{"$nulls":5},{"$f":"SUM(Table1[[#This Row],[PO Employee]:[Other Employee]])","v":0},"N",{"$error":"#N/A"},{"$f":"IF(O611>39,Table1[[#This Row],[Calc 1]],IF(O611>1,\"Not counted as an Employee\",\"#NA\"))","v":"#NA"},{"$f":"MAX(Table1[[#This Row],[PO Employee]],Table1[[#This Row],[Other HZ Employee]],Table1[[#This Row],[Non HZ Employee]],Table1[[#This Row],[Job Site Employee]],Table1[[#This Row],[Other Employee]])","v":0},{"$f":"IF(Table1[[#This Row],[Total Hours per Month]]=Table1[[#This Row],[Column12]],\"Match\",\"Error\")","v":"Match"},{"$f":"IF(Table1[[#This Row],[Calc 2]]=\"#NA\",\"#NA\",IF(Table1[[#This Row],[Non HZ Employee]]=Table1[[#This Row],[Max calc]],\"Non HZ Employee\", Table1[[#This Row],[Calc 2]]))","v":"#NA"}]
[595,null,595,{"$nulls":5},{"$f":"SUM(Table1[[#This Row],[Column4]]+Table1[[#This Row],[Column3]]+Table1[[#This Row],[Column2]]+Table1[[#This Row],[Column1]])","v":0},{"$nulls":5},{"$f":"SUM(Table1[[#This Row],[PO Employee]:[Other Employee]])","v":0},"N",{"$error":"#N/A"},{"$f":"IF(O612>39,Table1[[#This Row],[Calc 1]],IF(O612>1,\"Not counted as an Employee\",\"#NA\"))","v":"#NA"},{"$f":"MAX(Table1[[#This Row],[PO Employee]],Table1[[#This Row],[Other HZ Employee]],Table1[[#This Row],[Non HZ Employee]],Table1[[#This Row],[Job Site Employee]],Table1[[#This Row],[Other Employee]])","v":0},{"$f":"IF(Table1[[#This Row],[Total Hours per Month]]=Table1[[#This Row],[Column12]],\"Match\",\"Error\")","v":"Match"},{"$f":"IF(Table1[[#This Row],[Calc 2]]=\"#NA\",\"#NA\",IF(Table1[[#This Row],[Non HZ Employee]]=Table1[[#This Row],[Max calc]],\"Non HZ Employee\", Table1[[#This Row],[Calc 2]]))","v":"#NA"}]
[596,null,596,{"$nulls":5},{"$f":"SUM(Table1[[#This Row],[Column4]]+Table1[[#This Row],[Column3]]+Table1[[#This Row],[Column2]]+Table1[[#This Row],[Column1]])","v":0},{"$nulls":5},{"$f":"SUM(Table1[[#This Row],[PO Employee]:[Other Employee]])","v":0},"N",{"$error":"#N/A"},{"$f":"IF(O613>39,Table1[[#This Row],[Calc 1]],IF(O613>1,\"Not counted as an Employee\",\"#NA\"))","v":"#NA"},{"$f":"MAX(Table1[[#This Row],[PO Employee]],Table1[[#This Row],[Other HZ Employee]],Table1[[#This Row],[Non HZ Employee]],Table1[[#This Row],[Job Site Employee]],Table1[[#This Row],[Other Employee]])","v":0},{"$f":"IF(Table1[[#This Row],[Total Hours per Month]]=Table1[[#This Row],[Column12]],\"Match\",\"Error\")","v":"Match"},{"$f":"IF(Table1[[#This Row],[Calc 2]]=\"#NA\",\"#NA\",IF(Table1[[#This Row],[Non HZ Employee]]=Table1[[#This Row],[Max calc]],\"Non HZ Employee\", Table1[[#This Row],[Calc 2]]))","v":"#NA"}]
[597,null,597,{"$nulls":5},{"$f":"SUM(Table1[[#This Row],[Column4]]+Table1[[#This Row],[Column3]]+Table1[[#This Row],[Column2]]+Table1[[#This Row],[Column1]])","v":0},{"$nulls":5},{"$f":"SUM(Table1[[#This Row],[PO Employee]:[Other Employee]])","v":0},"N",{"$error":"#N/A"},{"$f":"IF(O614>39,Table1[[#This Row],[Calc 1]],IF(O614>1,\"Not counted as an Employee\",\"#NA\"))","v":"#NA"},{"$f":"MAX(Table1[[#This Row],[PO Employee]],Table1[[#This Row],[Other HZ Employee]],Table1[[#This Row],[Non HZ Employee]],Table1[[#This Row],[Job Site Employee]],Table1[[#This Row],[Other Employee]])","v":0},{"$f":"IF(Table1[[#This Row],[Total Hours per Month]]=Table1[[#This Row],[Column12]],\"Match\",\"Error\")","v":"Match"},{"$f":"IF(Table1[[#This Row],[Calc 2]]=\"#NA\",\"#NA\",IF(Table1[[#This Row],[Non HZ Employee]]=Table1[[#This Row],[Max calc]],\"Non HZ Employee\", Table1[[#This Row],[Calc 2]]))","v":"#NA"}]
[598,null,598,{"$nulls":5},{"$f":"SUM(Table1[[#This Row],[Column4]]+Table1[[#This Row],[Column3]]+Table1[[#This Row],[Column2]]+Table1[[#This Row],[Column1]])","v":0},{"$nulls":5},{"$f":"SUM(Table1[[#This Row],[PO Employee]:[Other Employee]])","v":0},"N",{"$error":"#N/A"},{"$f":"IF(O615>39,Table1[[#This Row],[Calc 1]],IF(O615>1,\"Not counted as an Employee\",\"#NA\"))","v":"#NA"},{"$f":"MAX(Table1[[#This Row],[PO Employee]],Table1[[#This Row],[Other HZ Employee]],Table1[[#This Row],[Non HZ Employee]],Table1[[#This Row],[Job Site Employee]],Table1[[#This Row],[Other Employee]])","v":0},{"$f":"IF(Table1[[#This Row],[Total Hours per Month]]=Table1[[#This Row],[Column12]],\"Match\",\"Error\")","v":"Match"},{"$f":"IF(Table1[[#This Row],[Calc 2]]=\"#NA\",\"#NA\",IF(Table1[[#This Row],[Non HZ Employee]]=Table1[[#This Row],[Max calc]],\"Non HZ Employee\", Table1[[#This Row],[Calc 2]]))","v":"#NA"}]
[599,null,599,{"$nulls":5},{"$f":"SUM(Table1[[#This Row],[Column4]]+Table1[[#This Row],[Column3]]+Table1[[#This Row],[Column2]]+Table1[[#This Row],[Column1]])","v":0},{"$nulls":5},{"$f":"SUM(Table1[[#This Row],[PO Employee]:[Other Employee]])","v":0},"N",{"$error":"#N/A"},{"$f":"IF(O616>39,Table1[[#This Row],[Calc 1]],IF(O616>1,\"Not counted as an Employee\",\"#NA\"))","v":"#NA"},{"$f":"MAX(Table1[[#This Row],[PO Employee]],Table1[[#This Row],[Other HZ Employee]],Table1[[#This Row],[Non HZ Employee]],Table1[[#This Row],[Job Site Employee]],Table1[[#This Row],[Other Employee]])","v":0},{"$f":"IF(Table1[[#This Row],[Total Hours per Month]]=Table1[[#This Row],[Column12]],\"Match\",\"Error\")","v":"Match"},{"$f":"IF(Table1[[#This Row],[Calc 2]]=\"#NA\",\"#NA\",IF(Table1[[#This Row],[Non HZ Employee]]=Table1[[#This Row],[Max calc]],\"Non HZ Employee\", Table1[[#This Row],[Calc 2]]))","v":"#NA"}]
[600,null,600,{"$nulls":5},{"$f":"SUM(Table1[[#This Row],[Column4]]+Table1[[#This Row],[Column3]]+Table1[[#This Row],[Column2]]+Table1[[#This Row],[Column1]])","v":0},{"$nulls":5},{"$f":"SUM(Table1[[#This Row],[PO Employee]:[Other Employee]])","v":0},"N",{"$error":"#N/A"},{"$f":"IF(O617>39,Table1[[#This Row],[Calc 1]],IF(O617>1,\"Not counted as an Employee\",\"#NA\"))","v":"#NA"},{"$f":"MAX(Table1[[#This Row],[PO Employee]],Table1[[#This Row],[Other HZ Employee]],Table1[[#This Row],[Non HZ Employee]],Table1[[#This Row],[Job Site Employee]],Table1[[#This Row],[Other Employee]])","v":0},{"$f":"IF(Table1[[#This Row],[Total Hours per Month]]=Table1[[#This Row],[Column12]],\"Match\",\"Error\")","v":"Match"},{"$f":"IF(Table1[[#This Row],[Calc 2]]=\"#NA\",\"#NA\",IF(Table1[[#This Row],[Non HZ Employee]]=Table1[[#This Row],[Max calc]],\"Non HZ Employee\", Table1[[#This Row],[Calc 2]]))","v":"#NA"}]
[601,null,601,{"$nulls":5},{"$f":"SUM(Table1[[#This Row],[Column4]]+Table1[[#This Row],[Column3]]+Table1[[#This Row],[Column2]]+Table1[[#This Row],[Column1]])","v":0},{"$nulls":5},{"$f":"SUM(Table1[[#This Row],[PO Employee]:[Other Employee]])","v":0},"N",{"$error":"#N/A"},{"$f":"IF(O618>39,Table1[[#This Row],[Calc 1]],IF(O618>1,\"Not counted as an Employee\",\"#NA\"))","v":"#NA"},{"$f":"MAX(Table1[[#This Row],[PO Employee]],Table1[[#This Row],[Other HZ Employee]],Table1[[#This Row],[Non HZ Employee]],Table1[[#This Row],[Job Site Employee]],Table1[[#This Row],[Other Employee]])","v":0},{"$f":"IF(Table1[[#This Row],[Total Hours per Month]]=Table1[[#This Row],[Column12]],\"Match\",\"Error\")","v":"Match"},{"$f":"IF(Table1[[#This Row],[Calc 2]]=\"#NA\",\"#NA\",IF(Table1[[#This Row],[Non HZ Employee]]=Table1[[#This Row],[Max calc]],\"Non HZ Employee\", Table1[[#This Row],[Calc 2]]))","v":"#NA"}]
[602,null,602,{"$nulls":5},{"$f":"SUM(Table1[[#This Row],[Column4]]+Table1[[#This Row],[Column3]]+Table1[[#This Row],[Column2]]+Table1[[#This Row],[Column1]])","v":0},{"$nulls":5},{"$f":"SUM(Table1[[#This Row],[PO Employee]:[Other Employee]])","v":0},"N",{"$error":"#N/A"},{"$f":"IF(O619>39,Table1[[#This Row],[Calc 1]],IF(O619>1,\"Not counted as an Employee\",\"#NA\"))","v":"#NA"},{"$f":"MAX(Table1[[#This Row],[PO Employee]],Table1[[#This Row],[Other HZ Employee]],Table1[[#This Row],[Non HZ Employee]],Table1[[#This Row],[Job Site Employee]],Table1[[#This Row],[Other Employee]])","v":0},{"$f":"IF(Table1[[#This Row],[Total Hours per Month]]=Table1[[#This Row],[Column12]],\"Match\",\"Error\")","v":"Match"},{"$f":"IF(Table1[[#This Row],[Calc 2]]=\"#NA\",\"#NA\",IF(Table1[[#This Row],[Non HZ Employee]]=Table1[[#This Row],[Max calc]],\"Non HZ Employee\", Table1[[#This Row],[Calc 2]]))","v":"#NA"}]
[603,null,603,{"$nulls":5},{"$f":"SUM(Table1[[#This Row],[Column4]]+Table1[[#This Row],[Column3]]+Table1[[#This Row],[Column2]]+Table1[[#This Row],[Column1]])","v":0},{"$nulls":5},{"$f":"SUM(Table1[[#This Row],[PO Employee]:[Other Employee]])","v":0},"N",{"$error":"#N/A"},{"$f":"IF(O620>39,Table1[[#This Row],[Calc 1]],IF(O620>1,\"Not counted as an Employee\",\"#NA\"))","v":"#NA"},{"$f":"MAX(Table1[[#This Row],[PO Employee]],Table1[[#This Row],[Other HZ Employee]],Table1[[#This Row],[Non HZ Employee]],Table1[[#This Row],[Job Site Employee]],Table1[[#This Row],[Other Employee]])","v":0},{"$f":"IF(Table1[[#This Row],[Total Hours per Month]]=Table1[[#This Row],[Column12]],\"Match\",\"Error\")","v":"Match"},{"$f":"IF(Table1[[#This Row],[Calc 2]]=\"#NA\",\"#NA\",IF(Table1[[#This Row],[Non HZ Employee]]=Table1[[#This Row],[Max calc]],\"Non HZ Employee\", Table1[[#This Row],[Calc 2]]))","v":"#NA"}]
[604,null,604,{"$nulls":5},{"$f":"SUM(Table1[[#This Row],[Column4]]+Table1[[#This Row],[Column3]]+Table1[[#This Row],[Column2]]+Table1[[#This Row],[Column1]])","v":0},{"$nulls":5},{"$f":"SUM(Table1[[#This Row],[PO Employee]:[Other Employee]])","v":0},"N",{"$error":"#N/A"},{"$f":"IF(O621>39,Table1[[#This Row],[Calc 1]],IF(O621>1,\"Not counted as an Employee\",\"#NA\"))","v":"#NA"},{"$f":"MAX(Table1[[#This Row],[PO Employee]],Table1[[#This Row],[Other HZ Employee]],Table1[[#This Row],[Non HZ Employee]],Table1[[#This Row],[Job Site Employee]],Table1[[#This Row],[Other Employee]])","v":0},{"$f":"IF(Table1[[#This Row],[Total Hours per Month]]=Table1[[#This Row],[Column12]],\"Match\",\"Error\")","v":"Match"},{"$f":"IF(Table1[[#This Row],[Calc 2]]=\"#NA\",\"#NA\",IF(Table1[[#This Row],[Non HZ Employee]]=Table1[[#This Row],[Max calc]],\"Non HZ Employee\", Table1[[#This Row],[Calc 2]]))","v":"#NA"}]
[605,null,605,{"$nulls":5},{"$f":"SUM(Table1[[#This Row],[Column4]]+Table1[[#This Row],[Column3]]+Table1[[#This Row],[Column2]]+Table1[[#This Row],[Column1]])","v":0},{"$nulls":5},{"$f":"SUM(Table1[[#This Row],[PO Employee]:[Other Employee]])","v":0},"N",{"$error":"#N/A"},{"$f":"IF(O622>39,Table1[[#This Row],[Calc 1]],IF(O622>1,\"Not counted as an Employee\",\"#NA\"))","v":"#NA"},{"$f":"MAX(Table1[[#This Row],[PO Employee]],Table1[[#This Row],[Other HZ Employee]],Table1[[#This Row],[Non HZ Employee]],Table1[[#This Row],[Job Site Employee]],Table1[[#This Row],[Other Employee]])","v":0},{"$f":"IF(Table1[[#This Row],[Total Hours per Month]]=Table1[[#This Row],[Column12]],\"Match\",\"Error\")","v":"Match"},{"$f":"IF(Table1[[#This Row],[Calc 2]]=\"#NA\",\"#NA\",IF(Table1[[#This Row],[Non HZ Employee]]=Table1[[#This Row],[Max calc]],\"Non HZ Employee\", Table1[[#This Row],[Calc 2]]))","v":"#NA"}]
[606,null,606,{"$nulls":5},{"$f":"SUM(Table1[[#This Row],[Column4]]+Table1[[#This Row],[Column3]]+Table1[[#This Row],[Column2]]+Table1[[#This Row],[Column1]])","v":0},{"$nulls":5},{"$f":"SUM(Table1[[#This Row],[PO Employee]:[Other Employee]])","v":0},"N",{"$error":"#N/A"},{"$f":"IF(O623>39,Table1[[#This Row],[Calc 1]],IF(O623>1,\"Not counted as an Employee\",\"#NA\"))","v":"#NA"},{"$f":"MAX(Table1[[#This Row],[PO Employee]],Table1[[#This Row],[Other HZ Employee]],Table1[[#This Row],[Non HZ Employee]],Table1[[#This Row],[Job Site Employee]],Table1[[#This Row],[Other Employee]])","v":0},{"$f":"IF(Table1[[#This Row],[Total Hours per Month]]=Table1[[#This Row],[Column12]],\"Match\",\"Error\")","v":"Match"},{"$f":"IF(Table1[[#This Row],[Calc 2]]=\"#NA\",\"#NA\",IF(Table1[[#This Row],[Non HZ Employee]]=Table1[[#This Row],[Max calc]],\"Non HZ Employee\", Table1[[#This Row],[Calc 2]]))","v":"#NA"}]
[607,null,607,{"$nulls":5},{"$f":"SUM(Table1[[#This Row],[Column4]]+Table1[[#This Row],[Column3]]+Table1[[#This Row],[Column2]]+Table1[[#This Row],[Column1]])","v":0},{"$nulls":5},{"$f":"SUM(Table1[[#This Row],[PO Employee]:[Other Employee]])","v":0},"N",{"$error":"#N/A"},{"$f":"IF(O624>39,Table1[[#This Row],[Calc 1]],IF(O624>1,\"Not counted as an Employee\",\"#NA\"))","v":"#NA"},{"$f":"MAX(Table1[[#This Row],[PO Employee]],Table1[[#This Row],[Other HZ Employee]],Table1[[#This Row],[Non HZ Employee]],Table1[[#This Row],[Job Site Employee]],Table1[[#This Row],[Other Employee]])","v":0},{"$f":"IF(Table1[[#This Row],[Total Hours per Month]]=Table1[[#This Row],[Column12]],\"Match\",\"Error\")","v":"Match"},{"$f":"IF(Table1[[#This Row],[Calc 2]]=\"#NA\",\"#NA\",IF(Table1[[#This Row],[Non HZ Employee]]=Table1[[#This Row],[Max calc]],\"Non HZ Employee\", Table1[[#This Row],[Calc 2]]))","v":"#NA"}]
[608,null,608,{"$nulls":5},{"$f":"SUM(Table1[[#This Row],[Column4]]+Table1[[#This Row],[Column3]]+Table1[[#This Row],[Column2]]+Table1[[#This Row],[Column1]])","v":0},{"$nulls":5},{"$f":"SUM(Table1[[#This Row],[PO Employee]:[Other Employee]])","v":0},"N",{"$error":"#N/A"},{"$f":"IF(O625>39,Table1[[#This Row],[Calc 1]],IF(O625>1,\"Not counted as an Employee\",\"#NA\"))","v":"#NA"},{"$f":"MAX(Table1[[#This Row],[PO Employee]],Table1[[#This Row],[Other HZ Employee]],Table1[[#This Row],[Non HZ Employee]],Table1[[#This Row],[Job Site Employee]],Table1[[#This Row],[Other Employee]])","v":0},{"$f":"IF(Table1[[#This Row],[Total Hours per Month]]=Table1[[#This Row],[Column12]],\"Match\",\"Error\")","v":"Match"},{"$f":"IF(Table1[[#This Row],[Calc 2]]=\"#NA\",\"#NA\",IF(Table1[[#This Row],[Non HZ Employee]]=Table1[[#This Row],[Max calc]],\"Non HZ Employee\", Table1[[#This Row],[Calc 2]]))","v":"#NA"}]
[609,null,609,{"$nulls":5},{"$f":"SUM(Table1[[#This Row],[Column4]]+Table1[[#This Row],[Column3]]+Table1[[#This Row],[Column2]]+Table1[[#This Row],[Column1]])","v":0},{"$nulls":5},{"$f":"SUM(Table1[[#This Row],[PO Employee]:[Other Employee]])","v":0},"N",{"$error":"#N/A"},{"$f":"IF(O626>39,Table1[[#This Row],[Calc 1]],IF(O626>1,\"Not counted as an Employee\",\"#NA\"))","v":"#NA"},{"$f":"MAX(Table1[[#This Row],[PO Employee]],Table1[[#This Row],[Other HZ Employee]],Table1[[#This Row],[Non HZ Employee]],Table1[[#This Row],[Job Site Employee]],Table1[[#This Row],[Other Employee]])","v":0},{"$f":"IF(Table1[[#This Row],[Total Hours per Month]]=Table1[[#This Row],[Column12]],\"Match\",\"Error\")","v":"Match"},{"$f":"IF(Table1[[#This Row],[Calc 2]]=\"#NA\",\"#NA\",IF(Table1[[#This Row],[Non HZ Employee]]=Table1[[#This Row],[Max calc]],\"Non HZ Employee\", Table1[[#This Row],[Calc 2]]))","v":"#NA"}]
[610,null,610,{"$nulls":5},{"$f":"SUM(Table1[[#This Row],[Column4]]+Table1[[#This Row],[Column3]]+Table1[[#This Row],[Column2]]+Table1[[#This Row],[Column1]])","v":0},{"$nulls":5},{"$f":"SUM(Table1[[#This Row],[PO Employee]:[Other Employee]])","v":0},"N",{"$error":"#N/A"},{"$f":"IF(O627>39,Table1[[#This Row],[Calc 1]],IF(O627>1,\"Not counted as an Employee\",\"#NA\"))","v":"#NA"},{"$f":"MAX(Table1[[#This Row],[PO Employee]],Table1[[#This Row],[Other HZ Employee]],Table1[[#This Row],[Non HZ Employee]],Table1[[#This Row],[Job Site Employee]],Table1[[#This Row],[Other Employee]])","v":0},{"$f":"IF(Table1[[#This Row],[Total Hours per Month]]=Table1[[#This Row],[Column12]],\"Match\",\"Error\")","v":"Match"},{"$f":"IF(Table1[[#This Row],[Calc 2]]=\"#NA\",\"#NA\",IF(Table1[[#This Row],[Non HZ Employee]]=Table1[[#This Row],[Max calc]],\"Non HZ Employee\", Table1[[#This Row],[Calc 2]]))","v":"#NA"}]
[611,null,611,{"$nulls":5},{"$f":"SUM(Table1[[#This Row],[Column4]]+Table1[[#This Row],[Column3]]+Table1[[#This Row],[Column2]]+Table1[[#This Row],[Column1]])","v":0},{"$nulls":5},{"$f":"SUM(Table1[[#This Row],[PO Employee]:[Other Employee]])","v":0},"N",{"$error":"#N/A"},{"$f":"IF(O628>39,Table1[[#This Row],[Calc 1]],IF(O628>1,\"Not counted as an Employee\",\"#NA\"))","v":"#NA"},{"$f":"MAX(Table1[[#This Row],[PO Employee]],Table1[[#This Row],[Other HZ Employee]],Table1[[#This Row],[Non HZ Employee]],Table1[[#This Row],[Job Site Employee]],Table1[[#This Row],[Other Employee]])","v":0},{"$f":"IF(Table1[[#This Row],[Total Hours per Month]]=Table1[[#This Row],[Column12]],\"Match\",\"Error\")","v":"Match"},{"$f":"IF(Table1[[#This Row],[Calc 2]]=\"#NA\",\"#NA\",IF(Table1[[#This Row],[Non HZ Employee]]=Table1[[#This Row],[Max calc]],\"Non HZ Employee\", Table1[[#This Row],[Calc 2]]))","v":"#NA"}]
[612,null,612,{"$nulls":5},{"$f":"SUM(Table1[[#This Row],[Column4]]+Table1[[#This Row],[Column3]]+Table1[[#This Row],[Column2]]+Table1[[#This Row],[Column1]])","v":0},{"$nulls":5},{"$f":"SUM(Table1[[#This Row],[PO Employee]:[Other Employee]])","v":0},"N",{"$error":"#N/A"},{"$f":"IF(O629>39,Table1[[#This Row],[Calc 1]],IF(O629>1,\"Not counted as an Employee\",\"#NA\"))","v":"#NA"},{"$f":"MAX(Table1[[#This Row],[PO Employee]],Table1[[#This Row],[Other HZ Employee]],Table1[[#This Row],[Non HZ Employee]],Table1[[#This Row],[Job Site Employee]],Table1[[#This Row],[Other Employee]])","v":0},{"$f":"IF(Table1[[#This Row],[Total Hours per Month]]=Table1[[#This Row],[Column12]],\"Match\",\"Error\")","v":"Match"},{"$f":"IF(Table1[[#This Row],[Calc 2]]=\"#NA\",\"#NA\",IF(Table1[[#This Row],[Non HZ Employee]]=Table1[[#This Row],[Max calc]],\"Non HZ Employee\", Table1[[#This Row],[Calc 2]]))","v":"#NA"}]
[613,null,613,{"$nulls":5},{"$f":"SUM(Table1[[#This Row],[Column4]]+Table1[[#This Row],[Column3]]+Table1[[#This Row],[Column2]]+Table1[[#This Row],[Column1]])","v":0},{"$nulls":5},{"$f":"SUM(Table1[[#This Row],[PO Employee]:[Other Employee]])","v":0},"N",{"$error":"#N/A"},{"$f":"IF(O630>39,Table1[[#This Row],[Calc 1]],IF(O630>1,\"Not counted as an Employee\",\"#NA\"))","v":"#NA"},{"$f":"MAX(Table1[[#This Row],[PO Employee]],Table1[[#This Row],[Other HZ Employee]],Table1[[#This Row],[Non HZ Employee]],Table1[[#This Row],[Job Site Employee]],Table1[[#This Row],[Other Employee]])","v":0},{"$f":"IF(Table1[[#This Row],[Total Hours per Month]]=Table1[[#This Row],[Column12]],\"Match\",\"Error\")","v":"Match"},{"$f":"IF(Table1[[#This Row],[Calc 2]]=\"#NA\",\"#NA\",IF(Table1[[#This Row],[Non HZ Employee]]=Table1[[#This Row],[Max calc]],\"Non HZ Employee\", Table1[[#This Row],[Calc 2]]))","v":"#NA"}]
[614,null,614,{"$nulls":5},{"$f":"SUM(Table1[[#This Row],[Column4]]+Table1[[#This Row],[Column3]]+Table1[[#This Row],[Column2]]+Table1[[#This Row],[Column1]])","v":0},{"$nulls":5},{"$f":"SUM(Table1[[#This Row],[PO Employee]:[Other Employee]])","v":0},"N",{"$error":"#N/A"},{"$f":"IF(O631>39,Table1[[#This Row],[Calc 1]],IF(O631>1,\"Not counted as an Employee\",\"#NA\"))","v":"#NA"},{"$f":"MAX(Table1[[#This Row],[PO Employee]],Table1[[#This Row],[Other HZ Employee]],Table1[[#This Row],[Non HZ Employee]],Table1[[#This Row],[Job Site Employee]],Table1[[#This Row],[Other Employee]])","v":0},{"$f":"IF(Table1[[#This Row],[Total Hours per Month]]=Table1[[#This Row],[Column12]],\"Match\",\"Error\")","v":"Match"},{"$f":"IF(Table1[[#This Row],[Calc 2]]=\"#NA\",\"#NA\",IF(Table1[[#This Row],[Non HZ Employee]]=Table1[[#This Row],[Max calc]],\"Non HZ Employee\", Table1[[#This Row],[Calc 2]]))","v":"#NA"}]
[615,null,615,{"$nulls":5},{"$f":"SUM(Table1[[#This Row],[Column4]]+Table1[[#This Row],[Column3]]+Table1[[#This Row],[Column2]]+Table1[[#This Row],[Column1]])","v":0},{"$nulls":5},{"$f":"SUM(Table1[[#This Row],[PO Employee]:[Other Employee]])","v":0},"N",{"$error":"#N/A"},{"$f":"IF(O632>39,Table1[[#This Row],[Calc 1]],IF(O632>1,\"Not counted as an Employee\",\"#NA\"))","v":"#NA"},{"$f":"MAX(Table1[[#This Row],[PO Employee]],Table1[[#This Row],[Other HZ Employee]],Table1[[#This Row],[Non HZ Employee]],Table1[[#This Row],[Job Site Employee]],Table1[[#This Row],[Other Employee]])","v":0},{"$f":"IF(Table1[[#This Row],[Total Hours per Month]]=Table1[[#This Row],[Column12]],\"Match\",\"Error\")","v":"Match"},{"$f":"IF(Table1[[#This Row],[Calc 2]]=\"#NA\",\"#NA\",IF(Table1[[#This Row],[Non HZ Employee]]=Table1[[#This Row],[Max calc]],\"Non HZ Employee\", Table1[[#This Row],[Calc 2]]))","v":"#NA"}]
[616,null,616,{"$nulls":5},{"$f":"SUM(Table1[[#This Row],[Column4]]+Table1[[#This Row],[Column3]]+Table1[[#This Row],[Column2]]+Table1[[#This Row],[Column1]])","v":0},{"$nulls":5},{"$f":"SUM(Table1[[#This Row],[PO Employee]:[Other Employee]])","v":0},"N",{"$error":"#N/A"},{"$f":"IF(O633>39,Table1[[#This Row],[Calc 1]],IF(O633>1,\"Not counted as an Employee\",\"#NA\"))","v":"#NA"},{"$f":"MAX(Table1[[#This Row],[PO Employee]],Table1[[#This Row],[Other HZ Employee]],Table1[[#This Row],[Non HZ Employee]],Table1[[#This Row],[Job Site Employee]],Table1[[#This Row],[Other Employee]])","v":0},{"$f":"IF(Table1[[#This Row],[Total Hours per Month]]=Table1[[#This Row],[Column12]],\"Match\",\"Error\")","v":"Match"},{"$f":"IF(Table1[[#This Row],[Calc 2]]=\"#NA\",\"#NA\",IF(Table1[[#This Row],[Non HZ Employee]]=Table1[[#This Row],[Max calc]],\"Non HZ Employee\", Table1[[#This Row],[Calc 2]]))","v":"#NA"}]
[617,null,617,{"$nulls":5},{"$f":"SUM(Table1[[#This Row],[Column4]]+Table1[[#This Row],[Column3]]+Table1[[#This Row],[Column2]]+Table1[[#This Row],[Column1]])","v":0},{"$nulls":5},{"$f":"SUM(Table1[[#This Row],[PO Employee]:[Other Employee]])","v":0},"N",{"$error":"#N/A"},{"$f":"IF(O634>39,Table1[[#This Row],[Calc 1]],IF(O634>1,\"Not counted as an Employee\",\"#NA\"))","v":"#NA"},{"$f":"MAX(Table1[[#This Row],[PO Employee]],Table1[[#This Row],[Other HZ Employee]],Table1[[#This Row],[Non HZ Employee]],Table1[[#This Row],[Job Site Employee]],Table1[[#This Row],[Other Employee]])","v":0},{"$f":"IF(Table1[[#This Row],[Total Hours per Month]]=Table1[[#This Row],[Column12]],\"Match\",\"Error\")","v":"Match"},{"$f":"IF(Table1[[#This Row],[Calc 2]]=\"#NA\",\"#NA\",IF(Table1[[#This Row],[Non HZ Employee]]=Table1[[#This Row],[Max calc]],\"Non HZ Employee\", Table1[[#This Row],[Calc 2]]))","v":"#NA"}]
[618,null,618,{"$nulls":5},{"$f":"SUM(Table1[[#This Row],[Column4]]+Table1[[#This Row],[Column3]]+Table1[[#This Row],[Column2]]+Table1[[#This Row],[Column1]])","v":0},{"$nulls":5},{"$f":"SUM(Table1[[#This Row],[PO Employee]:[Other Employee]])","v":0},"N",{"$error":"#N/A"},{"$f":"IF(O635>39,Table1[[#This Row],[Calc 1]],IF(O635>1,\"Not counted as an Employee\",\"#NA\"))","v":"#NA"},{"$f":"MAX(Table1[[#This Row],[PO Employee]],Table1[[#This Row],[Other HZ Employee]],Table1[[#This Row],[Non HZ Employee]],Table1[[#This Row],[Job Site Employee]],Table1[[#This Row],[Other Employee]])","v":0},{"$f":"IF(Table1[[#This Row],[Total Hours per Month]]=Table1[[#This Row],[Column12]],\"Match\",\"Error\")","v":"Match"},{"$f":"IF(Table1[[#This Row],[Calc 2]]=\"#NA\",\"#NA\",IF(Table1[[#This Row],[Non HZ Employee]]=Table1[[#This Row],[Max calc]],\"Non HZ Employee\", Table1[[#This Row],[Calc 2]]))","v":"#NA"}]
[619,null,619,{"$nulls":5},{"$f":"SUM(Table1[[#This Row],[Column4]]+Table1[[#This Row],[Column3]]+Table1[[#This Row],[Column2]]+Table1[[#This Row],[Column1]])","v":0},{"$nulls":5},{"$f":"SUM(Table1[[#This Row],[PO Employee]:[Other Employee]])","v":0},"N",{"$error":"#N/A"},{"$f":"IF(O636>39,Table1[[#This Row],[Calc 1]],IF(O636>1,\"Not counted as an Employee\",\"#NA\"))","v":"#NA"},{"$f":"MAX(Table1[[#This Row],[PO Employee]],Table1[[#This Row],[Other HZ Employee]],Table1[[#This Row],[Non HZ Employee]],Table1[[#This Row],[Job Site Employee]],Table1[[#This Row],[Other Employee]])","v":0},{"$f":"IF(Table1[[#This Row],[Total Hours per Month]]=Table1[[#This Row],[Column12]],\"Match\",\"Error\")","v":"Match"},{"$f":"IF(Table1[[#This Row],[Calc 2]]=\"#NA\",\"#NA\",IF(Table1[[#This Row],[Non HZ Employee]]=Table1[[#This Row],[Max calc]],\"Non HZ Employee\", Table1[[#This Row],[Calc 2]]))","v":"#NA"}]
[620,null,620,{"$nulls":5},{"$f":"SUM(Table1[[#This Row],[Column4]]+Table1[[#This Row],[Column3]]+Table1[[#This Row],[Column2]]+Table1[[#This Row],[Column1]])","v":0},{"$nulls":5},{"$f":"SUM(Table1[[#This Row],[PO Employee]:[Other Employee]])","v":0},"N",{"$error":"#N/A"},{"$f":"IF(O637>39,Table1[[#This Row],[Calc 1]],IF(O637>1,\"Not counted as an Employee\",\"#NA\"))","v":"#NA"},{"$f":"MAX(Table1[[#This Row],[PO Employee]],Table1[[#This Row],[Other HZ Employee]],Table1[[#This Row],[Non HZ Employee]],Table1[[#This Row],[Job Site Employee]],Table1[[#This Row],[Other Employee]])","v":0},{"$f":"IF(Table1[[#This Row],[Total Hours per Month]]=Table1[[#This Row],[Column12]],\"Match\",\"Error\")","v":"Match"},{"$f":"IF(Table1[[#This Row],[Calc 2]]=\"#NA\",\"#NA\",IF(Table1[[#This Row],[Non HZ Employee]]=Table1[[#This Row],[Max calc]],\"Non HZ Employee\", Table1[[#This Row],[Calc 2]]))","v":"#NA"}]
[621,null,621,{"$nulls":5},{"$f":"SUM(Table1[[#This Row],[Column4]]+Table1[[#This Row],[Column3]]+Table1[[#This Row],[Column2]]+Table1[[#This Row],[Column1]])","v":0},{"$nulls":5},{"$f":"SUM(Table1[[#This Row],[PO Employee]:[Other Employee]])","v":0},"N",{"$error":"#N/A"},{"$f":"IF(O638>39,Table1[[#This Row],[Calc 1]],IF(O638>1,\"Not counted as an Employee\",\"#NA\"))","v":"#NA"},{"$f":"MAX(Table1[[#This Row],[PO Employee]],Table1[[#This Row],[Other HZ Employee]],Table1[[#This Row],[Non HZ Employee]],Table1[[#This Row],[Job Site Employee]],Table1[[#This Row],[Other Employee]])","v":0},{"$f":"IF(Table1[[#This Row],[Total Hours per Month]]=Table1[[#This Row],[Column12]],\"Match\",\"Error\")","v":"Match"},{"$f":"IF(Table1[[#This Row],[Calc 2]]=\"#NA\",\"#NA\",IF(Table1[[#This Row],[Non HZ Employee]]=Table1[[#This Row],[Max calc]],\"Non HZ Employee\", Table1[[#This Row],[Calc 2]]))","v":"#NA"}]
[622,null,622,{"$nulls":5},{"$f":"SUM(Table1[[#This Row],[Column4]]+Table1[[#This Row],[Column3]]+Table1[[#This Row],[Column2]]+Table1[[#This Row],[Column1]])","v":0},{"$nulls":5},{"$f":"SUM(Table1[[#This Row],[PO Employee]:[Other Employee]])","v":0},"N",{"$error":"#N/A"},{"$f":"IF(O639>39,Table1[[#This Row],[Calc 1]],IF(O639>1,\"Not counted as an Employee\",\"#NA\"))","v":"#NA"},{"$f":"MAX(Table1[[#This Row],[PO Employee]],Table1[[#This Row],[Other HZ Employee]],Table1[[#This Row],[Non HZ Employee]],Table1[[#This Row],[Job Site Employee]],Table1[[#This Row],[Other Employee]])","v":0},{"$f":"IF(Table1[[#This Row],[Total Hours per Month]]=Table1[[#This Row],[Column12]],\"Match\",\"Error\")","v":"Match"},{"$f":"IF(Table1[[#This Row],[Calc 2]]=\"#NA\",\"#NA\",IF(Table1[[#This Row],[Non HZ Employee]]=Table1[[#This Row],[Max calc]],\"Non HZ Employee\", Table1[[#This Row],[Calc 2]]))","v":"#NA"}]
[623,null,623,{"$nulls":5},{"$f":"SUM(Table1[[#This Row],[Column4]]+Table1[[#This Row],[Column3]]+Table1[[#This Row],[Column2]]+Table1[[#This Row],[Column1]])","v":0},{"$nulls":5},{"$f":"SUM(Table1[[#This Row],[PO Employee]:[Other Employee]])","v":0},"N",{"$error":"#N/A"},{"$f":"IF(O640>39,Table1[[#This Row],[Calc 1]],IF(O640>1,\"Not counted as an Employee\",\"#NA\"))","v":"#NA"},{"$f":"MAX(Table1[[#This Row],[PO Employee]],Table1[[#This Row],[Other HZ Employee]],Table1[[#This Row],[Non HZ Employee]],Table1[[#This Row],[Job Site Employee]],Table1[[#This Row],[Other Employee]])","v":0},{"$f":"IF(Table1[[#This Row],[Total Hours per Month]]=Table1[[#This Row],[Column12]],\"Match\",\"Error\")","v":"Match"},{"$f":"IF(Table1[[#This Row],[Calc 2]]=\"#NA\",\"#NA\",IF(Table1[[#This Row],[Non HZ Employee]]=Table1[[#This Row],[Max calc]],\"Non HZ Employee\", Table1[[#This Row],[Calc 2]]))","v":"#NA"}]
[624,null,624,{"$nulls":5},{"$f":"SUM(Table1[[#This Row],[Column4]]+Table1[[#This Row],[Column3]]+Table1[[#This Row],[Column2]]+Table1[[#This Row],[Column1]])","v":0},{"$nulls":5},{"$f":"SUM(Table1[[#This Row],[PO Employee]:[Other Employee]])","v":0},"N",{"$error":"#N/A"},{"$f":"IF(O641>39,Table1[[#This Row],[Calc 1]],IF(O641>1,\"Not counted as an Employee\",\"#NA\"))","v":"#NA"},{"$f":"MAX(Table1[[#This Row],[PO Employee]],Table1[[#This Row],[Other HZ Employee]],Table1[[#This Row],[Non HZ Employee]],Table1[[#This Row],[Job Site Employee]],Table1[[#This Row],[Other Employee]])","v":0},{"$f":"IF(Table1[[#This Row],[Total Hours per Month]]=Table1[[#This Row],[Column12]],\"Match\",\"Error\")","v":"Match"},{"$f":"IF(Table1[[#This Row],[Calc 2]]=\"#NA\",\"#NA\",IF(Table1[[#This Row],[Non HZ Employee]]=Table1[[#This Row],[Max calc]],\"Non HZ Employee\", Table1[[#This Row],[Calc 2]]))","v":"#NA"}]
[625,null,625,{"$nulls":5},{"$f":"SUM(Table1[[#This Row],[Column4]]+Table1[[#This Row],[Column3]]+Table1[[#This Row],[Column2]]+Table1[[#This Row],[Column1]])","v":0},{"$nulls":5},{"$f":"SUM(Table1[[#This Row],[PO Employee]:[Other Employee]])","v":0},"N",{"$error":"#N/A"},{"$f":"IF(O642>39,Table1[[#This Row],[Calc 1]],IF(O642>1,\"Not counted as an Employee\",\"#NA\"))","v":"#NA"},{"$f":"MAX(Table1[[#This Row],[PO Employee]],Table1[[#This Row],[Other HZ Employee]],Table1[[#This Row],[Non HZ Employee]],Table1[[#This Row],[Job Site Employee]],Table1[[#This Row],[Other Employee]])","v":0},{"$f":"IF(Table1[[#This Row],[Total Hours per Month]]=Table1[[#This Row],[Column12]],\"Match\",\"Error\")","v":"Match"},{"$f":"IF(Table1[[#This Row],[Calc 2]]=\"#NA\",\"#NA\",IF(Table1[[#This Row],[Non HZ Employee]]=Table1[[#This Row],[Max calc]],\"Non HZ Employee\", Table1[[#This Row],[Calc 2]]))","v":"#NA"}]
[626,null,626,{"$nulls":5},{"$f":"SUM(Table1[[#This Row],[Column4]]+Table1[[#This Row],[Column3]]+Table1[[#This Row],[Column2]]+Table1[[#This Row],[Column1]])","v":0},{"$nulls":5},{"$f":"SUM(Table1[[#This Row],[PO Employee]:[Other Employee]])","v":0},"N",{"$error":"#N/A"},{"$f":"IF(O643>39,Table1[[#This Row],[Calc 1]],IF(O643>1,\"Not counted as an Employee\",\"#NA\"))","v":"#NA"},{"$f":"MAX(Table1[[#This Row],[PO Employee]],Table1[[#This Row],[Other HZ Employee]],Table1[[#This Row],[Non HZ Employee]],Table1[[#This Row],[Job Site Employee]],Table1[[#This Row],[Other Employee]])","v":0},{"$f":"IF(Table1[[#This Row],[Total Hours per Month]]=Table1[[#This Row],[Column12]],\"Match\",\"Error\")","v":"Match"},{"$f":"IF(Table1[[#This Row],[Calc 2]]=\"#NA\",\"#NA\",IF(Table1[[#This Row],[Non HZ Employee]]=Table1[[#This Row],[Max calc]],\"Non HZ Employee\", Table1[[#This Row],[Calc 2]]))","v":"#NA"}]
[627,null,627,{"$nulls":5},{"$f":"SUM(Table1[[#This Row],[Column4]]+Table1[[#This Row],[Column3]]+Table1[[#This Row],[Column2]]+Table1[[#This Row],[Column1]])","v":0},{"$nulls":5},{"$f":"SUM(Table1[[#This Row],[PO Employee]:[Other Employee]])","v":0},"N",{"$error":"#N/A"},{"$f":"IF(O644>39,Table1[[#This Row],[Calc 1]],IF(O644>1,\"Not counted as an Employee\",\"#NA\"))","v":"#NA"},{"$f":"MAX(Table1[[#This Row],[PO Employee]],Table1[[#This Row],[Other HZ Employee]],Table1[[#This Row],[Non HZ Employee]],Table1[[#This Row],[Job Site Employee]],Table1[[#This Row],[Other Employee]])","v":0},{"$f":"IF(Table1[[#This Row],[Total Hours per Month]]=Table1[[#This Row],[Column12]],\"Match\",\"Error\")","v":"Match"},{"$f":"IF(Table1[[#This Row],[Calc 2]]=\"#NA\",\"#NA\",IF(Table1[[#This Row],[Non HZ Employee]]=Table1[[#This Row],[Max calc]],\"Non HZ Employee\", Table1[[#This Row],[Calc 2]]))","v":"#NA"}]
[628,null,628,{"$nulls":5},{"$f":"SUM(Table1[[#This Row],[Column4]]+Table1[[#This Row],[Column3]]+Table1[[#This Row],[Column2]]+Table1[[#This Row],[Column1]])","v":0},{"$nulls":5},{"$f":"SUM(Table1[[#This Row],[PO Employee]:[Other Employee]])","v":0},"N",{"$error":"#N/A"},{"$f":"IF(O645>39,Table1[[#This Row],[Calc 1]],IF(O645>1,\"Not counted as an Employee\",\"#NA\"))","v":"#NA"},{"$f":"MAX(Table1[[#This Row],[PO Employee]],Table1[[#This Row],[Other HZ Employee]],Table1[[#This Row],[Non HZ Employee]],Table1[[#This Row],[Job Site Employee]],Table1[[#This Row],[Other Employee]])","v":0},{"$f":"IF(Table1[[#This Row],[Total Hours per Month]]=Table1[[#This Row],[Column12]],\"Match\",\"Error\")","v":"Match"},{"$f":"IF(Table1[[#This Row],[Calc 2]]=\"#NA\",\"#NA\",IF(Table1[[#This Row],[Non HZ Employee]]=Table1[[#This Row],[Max calc]],\"Non HZ Employee\", Table1[[#This Row],[Calc 2]]))","v":"#NA"}]
[629,null,629,{"$nulls":5},{"$f":"SUM(Table1[[#This Row],[Column4]]+Table1[[#This Row],[Column3]]+Table1[[#This Row],[Column2]]+Table1[[#This Row],[Column1]])","v":0},{"$nulls":5},{"$f":"SUM(Table1[[#This Row],[PO Employee]:[Other Employee]])","v":0},"N",{"$error":"#N/A"},{"$f":"IF(O646>39,Table1[[#This Row],[Calc 1]],IF(O646>1,\"Not counted as an Employee\",\"#NA\"))","v":"#NA"},{"$f":"MAX(Table1[[#This Row],[PO Employee]],Table1[[#This Row],[Other HZ Employee]],Table1[[#This Row],[Non HZ Employee]],Table1[[#This Row],[Job Site Employee]],Table1[[#This Row],[Other Employee]])","v":0},{"$f":"IF(Table1[[#This Row],[Total Hours per Month]]=Table1[[#This Row],[Column12]],\"Match\",\"Error\")","v":"Match"},{"$f":"IF(Table1[[#This Row],[Calc 2]]=\"#NA\",\"#NA\",IF(Table1[[#This Row],[Non HZ Employee]]=Table1[[#This Row],[Max calc]],\"Non HZ Employee\", Table1[[#This Row],[Calc 2]]))","v":"#NA"}]
[630,null,630,{"$nulls":5},{"$f":"SUM(Table1[[#This Row],[Column4]]+Table1[[#This Row],[Column3]]+Table1[[#This Row],[Column2]]+Table1[[#This Row],[Column1]])","v":0},{"$nulls":5},{"$f":"SUM(Table1[[#This Row],[PO Employee]:[Other Employee]])","v":0},"N",{"$error":"#N/A"},{"$f":"IF(O647>39,Table1[[#This Row],[Calc 1]],IF(O647>1,\"Not counted as an Employee\",\"#NA\"))","v":"#NA"},{"$f":"MAX(Table1[[#This Row],[PO Employee]],Table1[[#This Row],[Other HZ Employee]],Table1[[#This Row],[Non HZ Employee]],Table1[[#This Row],[Job Site Employee]],Table1[[#This Row],[Other Employee]])","v":0},{"$f":"IF(Table1[[#This Row],[Total Hours per Month]]=Table1[[#This Row],[Column12]],\"Match\",\"Error\")","v":"Match"},{"$f":"IF(Table1[[#This Row],[Calc 2]]=\"#NA\",\"#NA\",IF(Table1[[#This Row],[Non HZ Employee]]=Table1[[#This Row],[Max calc]],\"Non HZ Employee\", Table1[[#This Row],[Calc 2]]))","v":"#NA"}]
[631,null,631,{"$nulls":5},{"$f":"SUM(Table1[[#This Row],[Column4]]+Table1[[#This Row],[Column3]]+Table1[[#This Row],[Column2]]+Table1[[#This Row],[Column1]])","v":0},{"$nulls":5},{"$f":"SUM(Table1[[#This Row],[PO Employee]:[Other Employee]])","v":0},"N",{"$error":"#N/A"},{"$f":"IF(O648>39,Table1[[#This Row],[Calc 1]],IF(O648>1,\"Not counted as an Employee\",\"#NA\"))","v":"#NA"},{"$f":"MAX(Table1[[#This Row],[PO Employee]],Table1[[#This Row],[Other HZ Employee]],Table1[[#This Row],[Non HZ Employee]],Table1[[#This Row],[Job Site Employee]],Table1[[#This Row],[Other Employee]])","v":0},{"$f":"IF(Table1[[#This Row],[Total Hours per Month]]=Table1[[#This Row],[Column12]],\"Match\",\"Error\")","v":"Match"},{"$f":"IF(Table1[[#This Row],[Calc 2]]=\"#NA\",\"#NA\",IF(Table1[[#This Row],[Non HZ Employee]]=Table1[[#This Row],[Max calc]],\"Non HZ Employee\", Table1[[#This Row],[Calc 2]]))","v":"#NA"}]
[632,null,632,{"$nulls":5},{"$f":"SUM(Table1[[#This Row],[Column4]]+Table1[[#This Row],[Column3]]+Table1[[#This Row],[Column2]]+Table1[[#This Row],[Column1]])","v":0},{"$nulls":5},{"$f":"SUM(Table1[[#This Row],[PO Employee]:[Other Employee]])","v":0},"N",{"$error":"#N/A"},{"$f":"IF(O649>39,Table1[[#This Row],[Calc 1]],IF(O649>1,\"Not counted as an Employee\",\"#NA\"))","v":"#NA"},{"$f":"MAX(Table1[[#This Row],[PO Employee]],Table1[[#This Row],[Other HZ Employee]],Table1[[#This Row],[Non HZ Employee]],Table1[[#This Row],[Job Site Employee]],Table1[[#This Row],[Other Employee]])","v":0},{"$f":"IF(Table1[[#This Row],[Total Hours per Month]]=Table1[[#This Row],[Column12]],\"Match\",\"Error\")","v":"Match"},{"$f":"IF(Table1[[#This Row],[Calc 2]]=\"#NA\",\"#NA\",IF(Table1[[#This Row],[Non HZ Employee]]=Table1[[#This Row],[Max calc]],\"Non HZ Employee\", Table1[[#This Row],[Calc 2]]))","v":"#NA"}]
[633,null,633,{"$nulls":5},{"$f":"SUM(Table1[[#This Row],[Column4]]+Table1[[#This Row],[Column3]]+Table1[[#This Row],[Column2]]+Table1[[#This Row],[Column1]])","v":0},{"$nulls":5},{"$f":"SUM(Table1[[#This Row],[PO Employee]:[Other Employee]])","v":0},"N",{"$error":"#N/A"},{"$f":"IF(O650>39,Table1[[#This Row],[Calc 1]],IF(O650>1,\"Not counted as an Employee\",\"#NA\"))","v":"#NA"},{"$f":"MAX(Table1[[#This Row],[PO Employee]],Table1[[#This Row],[Other HZ Employee]],Table1[[#This Row],[Non HZ Employee]],Table1[[#This Row],[Job Site Employee]],Table1[[#This Row],[Other Employee]])","v":0},{"$f":"IF(Table1[[#This Row],[Total Hours per Month]]=Table1[[#This Row],[Column12]],\"Match\",\"Error\")","v":"Match"},{"$f":"IF(Table1[[#This Row],[Calc 2]]=\"#NA\",\"#NA\",IF(Table1[[#This Row],[Non HZ Employee]]=Table1[[#This Row],[Max calc]],\"Non HZ Employee\", Table1[[#This Row],[Calc 2]]))","v":"#NA"}]
[634,null,634,{"$nulls":5},{"$f":"SUM(Table1[[#This Row],[Column4]]+Table1[[#This Row],[Column3]]+Table1[[#This Row],[Column2]]+Table1[[#This Row],[Column1]])","v":0},{"$nulls":5},{"$f":"SUM(Table1[[#This Row],[PO Employee]:[Other Employee]])","v":0},"N",{"$error":"#N/A"},{"$f":"IF(O651>39,Table1[[#This Row],[Calc 1]],IF(O651>1,\"Not counted as an Employee\",\"#NA\"))","v":"#NA"},{"$f":"MAX(Table1[[#This Row],[PO Employee]],Table1[[#This Row],[Other HZ Employee]],Table1[[#This Row],[Non HZ Employee]],Table1[[#This Row],[Job Site Employee]],Table1[[#This Row],[Other Employee]])","v":0},{"$f":"IF(Table1[[#This Row],[Total Hours per Month]]=Table1[[#This Row],[Column12]],\"Match\",\"Error\")","v":"Match"},{"$f":"IF(Table1[[#This Row],[Calc 2]]=\"#NA\",\"#NA\",IF(Table1[[#This Row],[Non HZ Employee]]=Table1[[#This Row],[Max calc]],\"Non HZ Employee\", Table1[[#This Row],[Calc 2]]))","v":"#NA"}]
[635,null,635,{"$nulls":5},{"$f":"SUM(Table1[[#This Row],[Column4]]+Table1[[#This Row],[Column3]]+Table1[[#This Row],[Column2]]+Table1[[#This Row],[Column1]])","v":0},{"$nulls":5},{"$f":"SUM(Table1[[#This Row],[PO Employee]:[Other Employee]])","v":0},"N",{"$error":"#N/A"},{"$f":"IF(O652>39,Table1[[#This Row],[Calc 1]],IF(O652>1,\"Not counted as an Employee\",\"#NA\"))","v":"#NA"},{"$f":"MAX(Table1[[#This Row],[PO Employee]],Table1[[#This Row],[Other HZ Employee]],Table1[[#This Row],[Non HZ Employee]],Table1[[#This Row],[Job Site Employee]],Table1[[#This Row],[Other Employee]])","v":0},{"$f":"IF(Table1[[#This Row],[Total Hours per Month]]=Table1[[#This Row],[Column12]],\"Match\",\"Error\")","v":"Match"},{"$f":"IF(Table1[[#This Row],[Calc 2]]=\"#NA\",\"#NA\",IF(Table1[[#This Row],[Non HZ Employee]]=Table1[[#This Row],[Max calc]],\"Non HZ Employee\", Table1[[#This Row],[Calc 2]]))","v":"#NA"}]
[636,null,636,{"$nulls":5},{"$f":"SUM(Table1[[#This Row],[Column4]]+Table1[[#This Row],[Column3]]+Table1[[#This Row],[Column2]]+Table1[[#This Row],[Column1]])","v":0},{"$nulls":5},{"$f":"SUM(Table1[[#This Row],[PO Employee]:[Other Employee]])","v":0},"N",{"$error":"#N/A"},{"$f":"IF(O653>39,Table1[[#This Row],[Calc 1]],IF(O653>1,\"Not counted as an Employee\",\"#NA\"))","v":"#NA"},{"$f":"MAX(Table1[[#This Row],[PO Employee]],Table1[[#This Row],[Other HZ Employee]],Table1[[#This Row],[Non HZ Employee]],Table1[[#This Row],[Job Site Employee]],Table1[[#This Row],[Other Employee]])","v":0},{"$f":"IF(Table1[[#This Row],[Total Hours per Month]]=Table1[[#This Row],[Column12]],\"Match\",\"Error\")","v":"Match"},{"$f":"IF(Table1[[#This Row],[Calc 2]]=\"#NA\",\"#NA\",IF(Table1[[#This Row],[Non HZ Employee]]=Table1[[#This Row],[Max calc]],\"Non HZ Employee\", Table1[[#This Row],[Calc 2]]))","v":"#NA"}]
[637,null,637,{"$nulls":5},{"$f":"SUM(Table1[[#This Row],[Column4]]+Table1[[#This Row],[Column3]]+Table1[[#This Row],[Column2]]+Table1[[#This Row],[Column1]])","v":0},{"$nulls":5},{"$f":"SUM(Table1[[#This Row],[PO Employee]:[Other Employee]])","v":0},"N",{"$error":"#N/A"},{"$f":"IF(O654>39,Table1[[#This Row],[Calc 1]],IF(O654>1,\"Not counted as an Employee\",\"#NA\"))","v":"#NA"},{"$f":"MAX(Table1[[#This Row],[PO Employee]],Table1[[#This Row],[Other HZ Employee]],Table1[[#This Row],[Non HZ Employee]],Table1[[#This Row],[Job Site Employee]],Table1[[#This Row],[Other Employee]])","v":0},{"$f":"IF(Table1[[#This Row],[Total Hours per Month]]=Table1[[#This Row],[Column12]],\"Match\",\"Error\")","v":"Match"},{"$f":"IF(Table1[[#This Row],[Calc 2]]=\"#NA\",\"#NA\",IF(Table1[[#This Row],[Non HZ Employee]]=Table1[[#This Row],[Max calc]],\"Non HZ Employee\", Table1[[#This Row],[Calc 2]]))","v":"#NA"}]
[638,null,638,{"$nulls":5},{"$f":"SUM(Table1[[#This Row],[Column4]]+Table1[[#This Row],[Column3]]+Table1[[#This Row],[Column2]]+Table1[[#This Row],[Column1]])","v":0},{"$nulls":5},{"$f":"SUM(Table1[[#This Row],[PO Employee]:[Other Employee]])","v":0},"N",{"$error":"#N/A"},{"$f":"IF(O655>39,Table1[[#This Row],[Calc 1]],IF(O655>1,\"Not counted as an Employee\",\"#NA\"))","v":"#NA"},{"$f":"MAX(Table1[[#This Row],[PO Employee]],Table1[[#This Row],[Other HZ Employee]],Table1[[#This Row],[Non HZ Employee]],Table1[[#This Row],[Job Site Employee]],Table1[[#This Row],[Other Employee]])","v":0},{"$f":"IF(Table1[[#This Row],[Total Hours per Month]]=Table1[[#This Row],[Column12]],\"Match\",\"Error\")","v":"Match"},{"$f":"IF(Table1[[#This Row],[Calc 2]]=\"#NA\",\"#NA\",IF(Table1[[#This Row],[Non HZ Employee]]=Table1[[#This Row],[Max calc]],\"Non HZ Employee\", Table1[[#This Row],[Calc 2]]))","v":"#NA"}]
[639,null,639,{"$nulls":5},{"$f":"SUM(Table1[[#This Row],[Column4]]+Table1[[#This Row],[Column3]]+Table1[[#This Row],[Column2]]+Table1[[#This Row],[Column1]])","v":0},{"$nulls":5},{"$f":"SUM(Table1[[#This Row],[PO Employee]:[Other Employee]])","v":0},"N",{"$error":"#N/A"},{"$f":"IF(O656>39,Table1[[#This Row],[Calc 1]],IF(O656>1,\"Not counted as an Employee\",\"#NA\"))","v":"#NA"},{"$f":"MAX(Table1[[#This Row],[PO Employee]],Table1[[#This Row],[Other HZ Employee]],Table1[[#This Row],[Non HZ Employee]],Table1[[#This Row],[Job Site Employee]],Table1[[#This Row],[Other Employee]])","v":0},{"$f":"IF(Table1[[#This Row],[Total Hours per Month]]=Table1[[#This Row],[Column12]],\"Match\",\"Error\")","v":"Match"},{"$f":"IF(Table1[[#This Row],[Calc 2]]=\"#NA\",\"#NA\",IF(Table1[[#This Row],[Non HZ Employee]]=Table1[[#This Row],[Max calc]],\"Non HZ Employee\", Table1[[#This Row],[Calc 2]]))","v":"#NA"}]
[640,null,640,{"$nulls":5},{"$f":"SUM(Table1[[#This Row],[Column4]]+Table1[[#This Row],[Column3]]+Table1[[#This Row],[Column2]]+Table1[[#This Row],[Column1]])","v":0},{"$nulls":5},{"$f":"SUM(Table1[[#This Row],[PO Employee]:[Other Employee]])","v":0},"N",{"$error":"#N/A"},{"$f":"IF(O657>39,Table1[[#This Row],[Calc 1]],IF(O657>1,\"Not counted as an Employee\",\"#NA\"))","v":"#NA"},{"$f":"MAX(Table1[[#This Row],[PO Employee]],Table1[[#This Row],[Other HZ Employee]],Table1[[#This Row],[Non HZ Employee]],Table1[[#This Row],[Job Site Employee]],Table1[[#This Row],[Other Employee]])","v":0},{"$f":"IF(Table1[[#This Row],[Total Hours per Month]]=Table1[[#This Row],[Column12]],\"Match\",\"Error\")","v":"Match"},{"$f":"IF(Table1[[#This Row],[Calc 2]]=\"#NA\",\"#NA\",IF(Table1[[#This Row],[Non HZ Employee]]=Table1[[#This Row],[Max calc]],\"Non HZ Employee\", Table1[[#This Row],[Calc 2]]))","v":"#NA"}]
[641,null,641,{"$nulls":5},{"$f":"SUM(Table1[[#This Row],[Column4]]+Table1[[#This Row],[Column3]]+Table1[[#This Row],[Column2]]+Table1[[#This Row],[Column1]])","v":0},{"$nulls":5},{"$f":"SUM(Table1[[#This Row],[PO Employee]:[Other Employee]])","v":0},"N",{"$f":"INDEX($J$17:$N$17,MATCH(MAX(J658:N658),J658:N658,0))","v":{"$error":"#N/A"}},{"$f":"IF(O658>39,Table1[[#This Row],[Calc 1]],IF(O658>1,\"Not counted as an Employee\",\"#NA\"))","v":"#NA"},{"$f":"MAX(Table1[[#This Row],[PO Employee]],Table1[[#This Row],[Other HZ Employee]],Table1[[#This Row],[Non HZ Employee]],Table1[[#This Row],[Job Site Employee]],Table1[[#This Row],[Other Employee]])","v":0},{"$f":"IF(Table1[[#This Row],[Total Hours per Month]]=Table1[[#This Row],[Column12]],\"Match\",\"Error\")","v":"Match"},{"$f":"IF(Table1[[#This Row],[Calc 2]]=\"#NA\",\"#NA\",IF(Table1[[#This Row],[Non HZ Employee]]=Table1[[#This Row],[Max calc]],\"Non HZ Employee\", Table1[[#This Row],[Calc 2]]))","v":"#NA"}]
[642,null,642,{"$nulls":5},{"$f":"SUM(Table1[[#This Row],[Column4]]+Table1[[#This Row],[Column3]]+Table1[[#This Row],[Column2]]+Table1[[#This Row],[Column1]])","v":0},{"$nulls":5},{"$f":"SUM(Table1[[#This Row],[PO Employee]:[Other Employee]])","v":0},{"$f":"IF(O659>=40,\"Y\",\"N\")","v":"N"},{"$error":"#N/A"},{"$f":"IF(O659>39,Table1[[#This Row],[Calc 1]],IF(O659>1,\"Not counted as an Employee\",\"#NA\"))","v":"#NA"},{"$f":"MAX(Table1[[#This Row],[PO Employee]],Table1[[#This Row],[Other HZ Employee]],Table1[[#This Row],[Non HZ Employee]],Table1[[#This Row],[Job Site Employee]],Table1[[#This Row],[Other Employee]])","v":0},{"$f":"IF(Table1[[#This Row],[Total Hours per Month]]=Table1[[#This Row],[Column12]],\"Match\",\"Error\")","v":"Match"},{"$f":"IF(Table1[[#This Row],[Calc 2]]=\"#NA\",\"#NA\",IF(Table1[[#This Row],[Non HZ Employee]]=Table1[[#This Row],[Max calc]],\"Non HZ Employee\", Table1[[#This Row],[Calc 2]]))","v":"#NA"}]
[643,null,643,{"$nulls":5},{"$f":"SUM(Table1[[#This Row],[Column4]]+Table1[[#This Row],[Column3]]+Table1[[#This Row],[Column2]]+Table1[[#This Row],[Column1]])","v":0},{"$nulls":5},{"$f":"SUM(Table1[[#This Row],[PO Employee]:[Other Employee]])","v":0},"N",{"$error":"#N/A"},{"$f":"IF(O660>39,Table1[[#This Row],[Calc 1]],IF(O660>1,\"Not counted as an Employee\",\"#NA\"))","v":"#NA"},{"$f":"MAX(Table1[[#This Row],[PO Employee]],Table1[[#This Row],[Other HZ Employee]],Table1[[#This Row],[Non HZ Employee]],Table1[[#This Row],[Job Site Employee]],Table1[[#This Row],[Other Employee]])","v":0},{"$f":"IF(Table1[[#This Row],[Total Hours per Month]]=Table1[[#This Row],[Column12]],\"Match\",\"Error\")","v":"Match"},{"$f":"IF(Table1[[#This Row],[Calc 2]]=\"#NA\",\"#NA\",IF(Table1[[#This Row],[Non HZ Employee]]=Table1[[#This Row],[Max calc]],\"Non HZ Employee\", Table1[[#This Row],[Calc 2]]))","v":"#NA"}]
[644,null,644,{"$nulls":5},{"$f":"SUM(Table1[[#This Row],[Column4]]+Table1[[#This Row],[Column3]]+Table1[[#This Row],[Column2]]+Table1[[#This Row],[Column1]])","v":0},{"$nulls":5},{"$f":"SUM(Table1[[#This Row],[PO Employee]:[Other Employee]])","v":0},"N",{"$error":"#N/A"},{"$f":"IF(O661>39,Table1[[#This Row],[Calc 1]],IF(O661>1,\"Not counted as an Employee\",\"#NA\"))","v":"#NA"},{"$f":"MAX(Table1[[#This Row],[PO Employee]],Table1[[#This Row],[Other HZ Employee]],Table1[[#This Row],[Non HZ Employee]],Table1[[#This Row],[Job Site Employee]],Table1[[#This Row],[Other Employee]])","v":0},{"$f":"IF(Table1[[#This Row],[Total Hours per Month]]=Table1[[#This Row],[Column12]],\"Match\",\"Error\")","v":"Match"},{"$f":"IF(Table1[[#This Row],[Calc 2]]=\"#NA\",\"#NA\",IF(Table1[[#This Row],[Non HZ Employee]]=Table1[[#This Row],[Max calc]],\"Non HZ Employee\", Table1[[#This Row],[Calc 2]]))","v":"#NA"}]
[645,null,645,{"$nulls":5},{"$f":"SUM(Table1[[#This Row],[Column4]]+Table1[[#This Row],[Column3]]+Table1[[#This Row],[Column2]]+Table1[[#This Row],[Column1]])","v":0},{"$nulls":5},{"$f":"SUM(Table1[[#This Row],[PO Employee]:[Other Employee]])","v":0},"N",{"$error":"#N/A"},{"$f":"IF(O662>39,Table1[[#This Row],[Calc 1]],IF(O662>1,\"Not counted as an Employee\",\"#NA\"))","v":"#NA"},{"$f":"MAX(Table1[[#This Row],[PO Employee]],Table1[[#This Row],[Other HZ Employee]],Table1[[#This Row],[Non HZ Employee]],Table1[[#This Row],[Job Site Employee]],Table1[[#This Row],[Other Employee]])","v":0},{"$f":"IF(Table1[[#This Row],[Total Hours per Month]]=Table1[[#This Row],[Column12]],\"Match\",\"Error\")","v":"Match"},{"$f":"IF(Table1[[#This Row],[Calc 2]]=\"#NA\",\"#NA\",IF(Table1[[#This Row],[Non HZ Employee]]=Table1[[#This Row],[Max calc]],\"Non HZ Employee\", Table1[[#This Row],[Calc 2]]))","v":"#NA"}]
[646,null,646,{"$nulls":5},{"$f":"SUM(Table1[[#This Row],[Column4]]+Table1[[#This Row],[Column3]]+Table1[[#This Row],[Column2]]+Table1[[#This Row],[Column1]])","v":0},{"$nulls":5},{"$f":"SUM(Table1[[#This Row],[PO Employee]:[Other Employee]])","v":0},"N",{"$error":"#N/A"},{"$f":"IF(O663>39,Table1[[#This Row],[Calc 1]],IF(O663>1,\"Not counted as an Employee\",\"#NA\"))","v":"#NA"},{"$f":"MAX(Table1[[#This Row],[PO Employee]],Table1[[#This Row],[Other HZ Employee]],Table1[[#This Row],[Non HZ Employee]],Table1[[#This Row],[Job Site Employee]],Table1[[#This Row],[Other Employee]])","v":0},{"$f":"IF(Table1[[#This Row],[Total Hours per Month]]=Table1[[#This Row],[Column12]],\"Match\",\"Error\")","v":"Match"},{"$f":"IF(Table1[[#This Row],[Calc 2]]=\"#NA\",\"#NA\",IF(Table1[[#This Row],[Non HZ Employee]]=Table1[[#This Row],[Max calc]],\"Non HZ Employee\", Table1[[#This Row],[Calc 2]]))","v":"#NA"}]
[647,null,647,{"$nulls":5},{"$f":"SUM(Table1[[#This Row],[Column4]]+Table1[[#This Row],[Column3]]+Table1[[#This Row],[Column2]]+Table1[[#This Row],[Column1]])","v":0},{"$nulls":5},{"$f":"SUM(Table1[[#This Row],[PO Employee]:[Other Employee]])","v":0},"N",{"$error":"#N/A"},{"$f":"IF(O664>39,Table1[[#This Row],[Calc 1]],IF(O664>1,\"Not counted as an Employee\",\"#NA\"))","v":"#NA"},{"$f":"MAX(Table1[[#This Row],[PO Employee]],Table1[[#This Row],[Other HZ Employee]],Table1[[#This Row],[Non HZ Employee]],Table1[[#This Row],[Job Site Employee]],Table1[[#This Row],[Other Employee]])","v":0},{"$f":"IF(Table1[[#This Row],[Total Hours per Month]]=Table1[[#This Row],[Column12]],\"Match\",\"Error\")","v":"Match"},{"$f":"IF(Table1[[#This Row],[Calc 2]]=\"#NA\",\"#NA\",IF(Table1[[#This Row],[Non HZ Employee]]=Table1[[#This Row],[Max calc]],\"Non HZ Employee\", Table1[[#This Row],[Calc 2]]))","v":"#NA"}]
[648,null,648,{"$nulls":5},{"$f":"SUM(Table1[[#This Row],[Column4]]+Table1[[#This Row],[Column3]]+Table1[[#This Row],[Column2]]+Table1[[#This Row],[Column1]])","v":0},{"$nulls":5},{"$f":"SUM(Table1[[#This Row],[PO Employee]:[Other Employee]])","v":0},"N",{"$error":"#N/A"},{"$f":"IF(O665>39,Table1[[#This Row],[Calc 1]],IF(O665>1,\"Not counted as an Employee\",\"#NA\"))","v":"#NA"},{"$f":"MAX(Table1[[#This Row],[PO Employee]],Table1[[#This Row],[Other HZ Employee]],Table1[[#This Row],[Non HZ Employee]],Table1[[#This Row],[Job Site Employee]],Table1[[#This Row],[Other Employee]])","v":0},{"$f":"IF(Table1[[#This Row],[Total Hours per Month]]=Table1[[#This Row],[Column12]],\"Match\",\"Error\")","v":"Match"},{"$f":"IF(Table1[[#This Row],[Calc 2]]=\"#NA\",\"#NA\",IF(Table1[[#This Row],[Non HZ Employee]]=Table1[[#This Row],[Max calc]],\"Non HZ Employee\", Table1[[#This Row],[Calc 2]]))","v":"#NA"}]
[649,null,649,{"$nulls":5},{"$f":"SUM(Table1[[#This Row],[Column4]]+Table1[[#This Row],[Column3]]+Table1[[#This Row],[Column2]]+Table1[[#This Row],[Column1]])","v":0},{"$nulls":5},{"$f":"SUM(Table1[[#This Row],[PO Employee]:[Other Employee]])","v":0},"N",{"$error":"#N/A"},{"$f":"IF(O666>39,Table1[[#This Row],[Calc 1]],IF(O666>1,\"Not counted as an Employee\",\"#NA\"))","v":"#NA"},{"$f":"MAX(Table1[[#This Row],[PO Employee]],Table1[[#This Row],[Other HZ Employee]],Table1[[#This Row],[Non HZ Employee]],Table1[[#This Row],[Job Site Employee]],Table1[[#This Row],[Other Employee]])","v":0},{"$f":"IF(Table1[[#This Row],[Total Hours per Month]]=Table1[[#This Row],[Column12]],\"Match\",\"Error\")","v":"Match"},{"$f":"IF(Table1[[#This Row],[Calc 2]]=\"#NA\",\"#NA\",IF(Table1[[#This Row],[Non HZ Employee]]=Table1[[#This Row],[Max calc]],\"Non HZ Employee\", Table1[[#This Row],[Calc 2]]))","v":"#NA"}]
[650,null,650,{"$nulls":5},{"$f":"SUM(Table1[[#This Row],[Column4]]+Table1[[#This Row],[Column3]]+Table1[[#This Row],[Column2]]+Table1[[#This Row],[Column1]])","v":0},{"$nulls":5},{"$f":"SUM(Table1[[#This Row],[PO Employee]:[Other Employee]])","v":0},"N",{"$error":"#N/A"},{"$f":"IF(O667>39,Table1[[#This Row],[Calc 1]],IF(O667>1,\"Not counted as an Employee\",\"#NA\"))","v":"#NA"},{"$f":"MAX(Table1[[#This Row],[PO Employee]],Table1[[#This Row],[Other HZ Employee]],Table1[[#This Row],[Non HZ Employee]],Table1[[#This Row],[Job Site Employee]],Table1[[#This Row],[Other Employee]])","v":0},{"$f":"IF(Table1[[#This Row],[Total Hours per Month]]=Table1[[#This Row],[Column12]],\"Match\",\"Error\")","v":"Match"},{"$f":"IF(Table1[[#This Row],[Calc 2]]=\"#NA\",\"#NA\",IF(Table1[[#This Row],[Non HZ Employee]]=Table1[[#This Row],[Max calc]],\"Non HZ Employee\", Table1[[#This Row],[Calc 2]]))","v":"#NA"}]
[651,null,651,{"$nulls":5},{"$f":"SUM(Table1[[#This Row],[Column4]]+Table1[[#This Row],[Column3]]+Table1[[#This Row],[Column2]]+Table1[[#This Row],[Column1]])","v":0},{"$nulls":5},{"$f":"SUM(Table1[[#This Row],[PO Employee]:[Other Employee]])","v":0},"N",{"$error":"#N/A"},{"$f":"IF(O668>39,Table1[[#This Row],[Calc 1]],IF(O668>1,\"Not counted as an Employee\",\"#NA\"))","v":"#NA"},{"$f":"MAX(Table1[[#This Row],[PO Employee]],Table1[[#This Row],[Other HZ Employee]],Table1[[#This Row],[Non HZ Employee]],Table1[[#This Row],[Job Site Employee]],Table1[[#This Row],[Other Employee]])","v":0},{"$f":"IF(Table1[[#This Row],[Total Hours per Month]]=Table1[[#This Row],[Column12]],\"Match\",\"Error\")","v":"Match"},{"$f":"IF(Table1[[#This Row],[Calc 2]]=\"#NA\",\"#NA\",IF(Table1[[#This Row],[Non HZ Employee]]=Table1[[#This Row],[Max calc]],\"Non HZ Employee\", Table1[[#This Row],[Calc 2]]))","v":"#NA"}]
[652,null,652,{"$nulls":5},{"$f":"SUM(Table1[[#This Row],[Column4]]+Table1[[#This Row],[Column3]]+Table1[[#This Row],[Column2]]+Table1[[#This Row],[Column1]])","v":0},{"$nulls":5},{"$f":"SUM(Table1[[#This Row],[PO Employee]:[Other Employee]])","v":0},"N",{"$error":"#N/A"},{"$f":"IF(O669>39,Table1[[#This Row],[Calc 1]],IF(O669>1,\"Not counted as an Employee\",\"#NA\"))","v":"#NA"},{"$f":"MAX(Table1[[#This Row],[PO Employee]],Table1[[#This Row],[Other HZ Employee]],Table1[[#This Row],[Non HZ Employee]],Table1[[#This Row],[Job Site Employee]],Table1[[#This Row],[Other Employee]])","v":0},{"$f":"IF(Table1[[#This Row],[Total Hours per Month]]=Table1[[#This Row],[Column12]],\"Match\",\"Error\")","v":"Match"},{"$f":"IF(Table1[[#This Row],[Calc 2]]=\"#NA\",\"#NA\",IF(Table1[[#This Row],[Non HZ Employee]]=Table1[[#This Row],[Max calc]],\"Non HZ Employee\", Table1[[#This Row],[Calc 2]]))","v":"#NA"}]
[653,null,653,{"$nulls":5},{"$f":"SUM(Table1[[#This Row],[Column4]]+Table1[[#This Row],[Column3]]+Table1[[#This Row],[Column2]]+Table1[[#This Row],[Column1]])","v":0},{"$nulls":5},{"$f":"SUM(Table1[[#This Row],[PO Employee]:[Other Employee]])","v":0},"N",{"$error":"#N/A"},{"$f":"IF(O670>39,Table1[[#This Row],[Calc 1]],IF(O670>1,\"Not counted as an Employee\",\"#NA\"))","v":"#NA"},{"$f":"MAX(Table1[[#This Row],[PO Employee]],Table1[[#This Row],[Other HZ Employee]],Table1[[#This Row],[Non HZ Employee]],Table1[[#This Row],[Job Site Employee]],Table1[[#This Row],[Other Employee]])","v":0},{"$f":"IF(Table1[[#This Row],[Total Hours per Month]]=Table1[[#This Row],[Column12]],\"Match\",\"Error\")","v":"Match"},{"$f":"IF(Table1[[#This Row],[Calc 2]]=\"#NA\",\"#NA\",IF(Table1[[#This Row],[Non HZ Employee]]=Table1[[#This Row],[Max calc]],\"Non HZ Employee\", Table1[[#This Row],[Calc 2]]))","v":"#NA"}]
[654,null,654,{"$nulls":5},{"$f":"SUM(Table1[[#This Row],[Column4]]+Table1[[#This Row],[Column3]]+Table1[[#This Row],[Column2]]+Table1[[#This Row],[Column1]])","v":0},{"$nulls":5},{"$f":"SUM(Table1[[#This Row],[PO Employee]:[Other Employee]])","v":0},"N",{"$error":"#N/A"},{"$f":"IF(O671>39,Table1[[#This Row],[Calc 1]],IF(O671>1,\"Not counted as an Employee\",\"#NA\"))","v":"#NA"},{"$f":"MAX(Table1[[#This Row],[PO Employee]],Table1[[#This Row],[Other HZ Employee]],Table1[[#This Row],[Non HZ Employee]],Table1[[#This Row],[Job Site Employee]],Table1[[#This Row],[Other Employee]])","v":0},{"$f":"IF(Table1[[#This Row],[Total Hours per Month]]=Table1[[#This Row],[Column12]],\"Match\",\"Error\")","v":"Match"},{"$f":"IF(Table1[[#This Row],[Calc 2]]=\"#NA\",\"#NA\",IF(Table1[[#This Row],[Non HZ Employee]]=Table1[[#This Row],[Max calc]],\"Non HZ Employee\", Table1[[#This Row],[Calc 2]]))","v":"#NA"}]
[655,null,655,{"$nulls":5},{"$f":"SUM(Table1[[#This Row],[Column4]]+Table1[[#This Row],[Column3]]+Table1[[#This Row],[Column2]]+Table1[[#This Row],[Column1]])","v":0},{"$nulls":5},{"$f":"SUM(Table1[[#This Row],[PO Employee]:[Other Employee]])","v":0},"N",{"$error":"#N/A"},{"$f":"IF(O672>39,Table1[[#This Row],[Calc 1]],IF(O672>1,\"Not counted as an Employee\",\"#NA\"))","v":"#NA"},{"$f":"MAX(Table1[[#This Row],[PO Employee]],Table1[[#This Row],[Other HZ Employee]],Table1[[#This Row],[Non HZ Employee]],Table1[[#This Row],[Job Site Employee]],Table1[[#This Row],[Other Employee]])","v":0},{"$f":"IF(Table1[[#This Row],[Total Hours per Month]]=Table1[[#This Row],[Column12]],\"Match\",\"Error\")","v":"Match"},{"$f":"IF(Table1[[#This Row],[Calc 2]]=\"#NA\",\"#NA\",IF(Table1[[#This Row],[Non HZ Employee]]=Table1[[#This Row],[Max calc]],\"Non HZ Employee\", Table1[[#This Row],[Calc 2]]))","v":"#NA"}]
[656,null,656,{"$nulls":5},{"$f":"SUM(Table1[[#This Row],[Column4]]+Table1[[#This Row],[Column3]]+Table1[[#This Row],[Column2]]+Table1[[#This Row],[Column1]])","v":0},{"$nulls":5},{"$f":"SUM(Table1[[#This Row],[PO Employee]:[Other Employee]])","v":0},"N",{"$error":"#N/A"},{"$f":"IF(O673>39,Table1[[#This Row],[Calc 1]],IF(O673>1,\"Not counted as an Employee\",\"#NA\"))","v":"#NA"},{"$f":"MAX(Table1[[#This Row],[PO Employee]],Table1[[#This Row],[Other HZ Employee]],Table1[[#This Row],[Non HZ Employee]],Table1[[#This Row],[Job Site Employee]],Table1[[#This Row],[Other Employee]])","v":0},{"$f":"IF(Table1[[#This Row],[Total Hours per Month]]=Table1[[#This Row],[Column12]],\"Match\",\"Error\")","v":"Match"},{"$f":"IF(Table1[[#This Row],[Calc 2]]=\"#NA\",\"#NA\",IF(Table1[[#This Row],[Non HZ Employee]]=Table1[[#This Row],[Max calc]],\"Non HZ Employee\", Table1[[#This Row],[Calc 2]]))","v":"#NA"}]
[657,null,657,{"$nulls":5},{"$f":"SUM(Table1[[#This Row],[Column4]]+Table1[[#This Row],[Column3]]+Table1[[#This Row],[Column2]]+Table1[[#This Row],[Column1]])","v":0},{"$nulls":5},{"$f":"SUM(Table1[[#This Row],[PO Employee]:[Other Employee]])","v":0},"N",{"$error":"#N/A"},{"$f":"IF(O674>39,Table1[[#This Row],[Calc 1]],IF(O674>1,\"Not counted as an Employee\",\"#NA\"))","v":"#NA"},{"$f":"MAX(Table1[[#This Row],[PO Employee]],Table1[[#This Row],[Other HZ Employee]],Table1[[#This Row],[Non HZ Employee]],Table1[[#This Row],[Job Site Employee]],Table1[[#This Row],[Other Employee]])","v":0},{"$f":"IF(Table1[[#This Row],[Total Hours per Month]]=Table1[[#This Row],[Column12]],\"Match\",\"Error\")","v":"Match"},{"$f":"IF(Table1[[#This Row],[Calc 2]]=\"#NA\",\"#NA\",IF(Table1[[#This Row],[Non HZ Employee]]=Table1[[#This Row],[Max calc]],\"Non HZ Employee\", Table1[[#This Row],[Calc 2]]))","v":"#NA"}]
[658,null,658,{"$nulls":5},{"$f":"SUM(Table1[[#This Row],[Column4]]+Table1[[#This Row],[Column3]]+Table1[[#This Row],[Column2]]+Table1[[#This Row],[Column1]])","v":0},{"$nulls":5},{"$f":"SUM(Table1[[#This Row],[PO Employee]:[Other Employee]])","v":0},"N",{"$error":"#N/A"},{"$f":"IF(O675>39,Table1[[#This Row],[Calc 1]],IF(O675>1,\"Not counted as an Employee\",\"#NA\"))","v":"#NA"},{"$f":"MAX(Table1[[#This Row],[PO Employee]],Table1[[#This Row],[Other HZ Employee]],Table1[[#This Row],[Non HZ Employee]],Table1[[#This Row],[Job Site Employee]],Table1[[#This Row],[Other Employee]])","v":0},{"$f":"IF(Table1[[#This Row],[Total Hours per Month]]=Table1[[#This Row],[Column12]],\"Match\",\"Error\")","v":"Match"},{"$f":"IF(Table1[[#This Row],[Calc 2]]=\"#NA\",\"#NA\",IF(Table1[[#This Row],[Non HZ Employee]]=Table1[[#This Row],[Max calc]],\"Non HZ Employee\", Table1[[#This Row],[Calc 2]]))","v":"#NA"}]
[659,null,659,{"$nulls":5},{"$f":"SUM(Table1[[#This Row],[Column4]]+Table1[[#This Row],[Column3]]+Table1[[#This Row],[Column2]]+Table1[[#This Row],[Column1]])","v":0},{"$nulls":5},{"$f":"SUM(Table1[[#This Row],[PO Employee]:[Other Employee]])","v":0},"N",{"$error":"#N/A"},{"$f":"IF(O676>39,Table1[[#This Row],[Calc 1]],IF(O676>1,\"Not counted as an Employee\",\"#NA\"))","v":"#NA"},{"$f":"MAX(Table1[[#This Row],[PO Employee]],Table1[[#This Row],[Other HZ Employee]],Table1[[#This Row],[Non HZ Employee]],Table1[[#This Row],[Job Site Employee]],Table1[[#This Row],[Other Employee]])","v":0},{"$f":"IF(Table1[[#This Row],[Total Hours per Month]]=Table1[[#This Row],[Column12]],\"Match\",\"Error\")","v":"Match"},{"$f":"IF(Table1[[#This Row],[Calc 2]]=\"#NA\",\"#NA\",IF(Table1[[#This Row],[Non HZ Employee]]=Table1[[#This Row],[Max calc]],\"Non HZ Employee\", Table1[[#This Row],[Calc 2]]))","v":"#NA"}]
[660,null,660,{"$nulls":5},{"$f":"SUM(Table1[[#This Row],[Column4]]+Table1[[#This Row],[Column3]]+Table1[[#This Row],[Column2]]+Table1[[#This Row],[Column1]])","v":0},{"$nulls":5},{"$f":"SUM(Table1[[#This Row],[PO Employee]:[Other Employee]])","v":0},"N",{"$error":"#N/A"},{"$f":"IF(O677>39,Table1[[#This Row],[Calc 1]],IF(O677>1,\"Not counted as an Employee\",\"#NA\"))","v":"#NA"},{"$f":"MAX(Table1[[#This Row],[PO Employee]],Table1[[#This Row],[Other HZ Employee]],Table1[[#This Row],[Non HZ Employee]],Table1[[#This Row],[Job Site Employee]],Table1[[#This Row],[Other Employee]])","v":0},{"$f":"IF(Table1[[#This Row],[Total Hours per Month]]=Table1[[#This Row],[Column12]],\"Match\",\"Error\")","v":"Match"},{"$f":"IF(Table1[[#This Row],[Calc 2]]=\"#NA\",\"#NA\",IF(Table1[[#This Row],[Non HZ Employee]]=Table1[[#This Row],[Max calc]],\"Non HZ Employee\", Table1[[#This Row],[Calc 2]]))","v":"#NA"}]
[661,null,661,{"$nulls":5},{"$f":"SUM(Table1[[#This Row],[Column4]]+Table1[[#This Row],[Column3]]+Table1[[#This Row],[Column2]]+Table1[[#This Row],[Column1]])","v":0},{"$nulls":5},{"$f":"SUM(Table1[[#This Row],[PO Employee]:[Other Employee]])","v":0},"N",{"$error":"#N/A"},{"$f":"IF(O678>39,Table1[[#This Row],[Calc 1]],IF(O678>1,\"Not counted as an Employee\",\"#NA\"))","v":"#NA"},{"$f":"MAX(Table1[[#This Row],[PO Employee]],Table1[[#This Row],[Other HZ Employee]],Table1[[#This Row],[Non HZ Employee]],Table1[[#This Row],[Job Site Employee]],Table1[[#This Row],[Other Employee]])","v":0},{"$f":"IF(Table1[[#This Row],[Total Hours per Month]]=Table1[[#This Row],[Column12]],\"Match\",\"Error\")","v":"Match"},{"$f":"IF(Table1[[#This Row],[Calc 2]]=\"#NA\",\"#NA\",IF(Table1[[#This Row],[Non HZ Employee]]=Table1[[#This Row],[Max calc]],\"Non HZ Employee\", Table1[[#This Row],[Calc 2]]))","v":"#NA"}]
[662,null,662,{"$nulls":5},{"$f":"SUM(Table1[[#This Row],[Column4]]+Table1[[#This Row],[Column3]]+Table1[[#This Row],[Column2]]+Table1[[#This Row],[Column1]])","v":0},{"$nulls":5},{"$f":"SUM(Table1[[#This Row],[PO Employee]:[Other Employee]])","v":0},"N",{"$error":"#N/A"},{"$f":"IF(O679>39,Table1[[#This Row],[Calc 1]],IF(O679>1,\"Not counted as an Employee\",\"#NA\"))","v":"#NA"},{"$f":"MAX(Table1[[#This Row],[PO Employee]],Table1[[#This Row],[Other HZ Employee]],Table1[[#This Row],[Non HZ Employee]],Table1[[#This Row],[Job Site Employee]],Table1[[#This Row],[Other Employee]])","v":0},{"$f":"IF(Table1[[#This Row],[Total Hours per Month]]=Table1[[#This Row],[Column12]],\"Match\",\"Error\")","v":"Match"},{"$f":"IF(Table1[[#This Row],[Calc 2]]=\"#NA\",\"#NA\",IF(Table1[[#This Row],[Non HZ Employee]]=Table1[[#This Row],[Max calc]],\"Non HZ Employee\", Table1[[#This Row],[Calc 2]]))","v":"#NA"}]
[663,null,663,{"$nulls":5},{"$f":"SUM(Table1[[#This Row],[Column4]]+Table1[[#This Row],[Column3]]+Table1[[#This Row],[Column2]]+Table1[[#This Row],[Column1]])","v":0},{"$nulls":5},{"$f":"SUM(Table1[[#This Row],[PO Employee]:[Other Employee]])","v":0},"N",{"$error":"#N/A"},{"$f":"IF(O680>39,Table1[[#This Row],[Calc 1]],IF(O680>1,\"Not counted as an Employee\",\"#NA\"))","v":"#NA"},{"$f":"MAX(Table1[[#This Row],[PO Employee]],Table1[[#This Row],[Other HZ Employee]],Table1[[#This Row],[Non HZ Employee]],Table1[[#This Row],[Job Site Employee]],Table1[[#This Row],[Other Employee]])","v":0},{"$f":"IF(Table1[[#This Row],[Total Hours per Month]]=Table1[[#This Row],[Column12]],\"Match\",\"Error\")","v":"Match"},{"$f":"IF(Table1[[#This Row],[Calc 2]]=\"#NA\",\"#NA\",IF(Table1[[#This Row],[Non HZ Employee]]=Table1[[#This Row],[Max calc]],\"Non HZ Employee\", Table1[[#This Row],[Calc 2]]))","v":"#NA"}]
[664,null,664,{"$nulls":5},{"$f":"SUM(Table1[[#This Row],[Column4]]+Table1[[#This Row],[Column3]]+Table1[[#This Row],[Column2]]+Table1[[#This Row],[Column1]])","v":0},{"$nulls":5},{"$f":"SUM(Table1[[#This Row],[PO Employee]:[Other Employee]])","v":0},"N",{"$error":"#N/A"},{"$f":"IF(O681>39,Table1[[#This Row],[Calc 1]],IF(O681>1,\"Not counted as an Employee\",\"#NA\"))","v":"#NA"},{"$f":"MAX(Table1[[#This Row],[PO Employee]],Table1[[#This Row],[Other HZ Employee]],Table1[[#This Row],[Non HZ Employee]],Table1[[#This Row],[Job Site Employee]],Table1[[#This Row],[Other Employee]])","v":0},{"$f":"IF(Table1[[#This Row],[Total Hours per Month]]=Table1[[#This Row],[Column12]],\"Match\",\"Error\")","v":"Match"},{"$f":"IF(Table1[[#This Row],[Calc 2]]=\"#NA\",\"#NA\",IF(Table1[[#This Row],[Non HZ Employee]]=Table1[[#This Row],[Max calc]],\"Non HZ Employee\", Table1[[#This Row],[Calc 2]]))","v":"#NA"}]
[665,null,665,{"$nulls":5},{"$f":"SUM(Table1[[#This Row],[Column4]]+Table1[[#This Row],[Column3]]+Table1[[#This Row],[Column2]]+Table1[[#This Row],[Column1]])","v":0},{"$nulls":5},{"$f":"SUM(Table1[[#This Row],[PO Employee]:[Other Employee]])","v":0},"N",{"$error":"#N/A"},{"$f":"IF(O682>39,Table1[[#This Row],[Calc 1]],IF(O682>1,\"Not counted as an Employee\",\"#NA\"))","v":"#NA"},{"$f":"MAX(Table1[[#This Row],[PO Employee]],Table1[[#This Row],[Other HZ Employee]],Table1[[#This Row],[Non HZ Employee]],Table1[[#This Row],[Job Site Employee]],Table1[[#This Row],[Other Employee]])","v":0},{"$f":"IF(Table1[[#This Row],[Total Hours per Month]]=Table1[[#This Row],[Column12]],\"Match\",\"Error\")","v":"Match"},{"$f":"IF(Table1[[#This Row],[Calc 2]]=\"#NA\",\"#NA\",IF(Table1[[#This Row],[Non HZ Employee]]=Table1[[#This Row],[Max calc]],\"Non HZ Employee\", Table1[[#This Row],[Calc 2]]))","v":"#NA"}]
[666,null,666,{"$nulls":5},{"$f":"SUM(Table1[[#This Row],[Column4]]+Table1[[#This Row],[Column3]]+Table1[[#This Row],[Column2]]+Table1[[#This Row],[Column1]])","v":0},{"$nulls":5},{"$f":"SUM(Table1[[#This Row],[PO Employee]:[Other Employee]])","v":0},"N",{"$error":"#N/A"},{"$f":"IF(O683>39,Table1[[#This Row],[Calc 1]],IF(O683>1,\"Not counted as an Employee\",\"#NA\"))","v":"#NA"},{"$f":"MAX(Table1[[#This Row],[PO Employee]],Table1[[#This Row],[Other HZ Employee]],Table1[[#This Row],[Non HZ Employee]],Table1[[#This Row],[Job Site Employee]],Table1[[#This Row],[Other Employee]])","v":0},{"$f":"IF(Table1[[#This Row],[Total Hours per Month]]=Table1[[#This Row],[Column12]],\"Match\",\"Error\")","v":"Match"},{"$f":"IF(Table1[[#This Row],[Calc 2]]=\"#NA\",\"#NA\",IF(Table1[[#This Row],[Non HZ Employee]]=Table1[[#This Row],[Max calc]],\"Non HZ Employee\", Table1[[#This Row],[Calc 2]]))","v":"#NA"}]
[667,null,667,{"$nulls":5},{"$f":"SUM(Table1[[#This Row],[Column4]]+Table1[[#This Row],[Column3]]+Table1[[#This Row],[Column2]]+Table1[[#This Row],[Column1]])","v":0},{"$nulls":5},{"$f":"SUM(Table1[[#This Row],[PO Employee]:[Other Employee]])","v":0},"N",{"$error":"#N/A"},{"$f":"IF(O684>39,Table1[[#This Row],[Calc 1]],IF(O684>1,\"Not counted as an Employee\",\"#NA\"))","v":"#NA"},{"$f":"MAX(Table1[[#This Row],[PO Employee]],Table1[[#This Row],[Other HZ Employee]],Table1[[#This Row],[Non HZ Employee]],Table1[[#This Row],[Job Site Employee]],Table1[[#This Row],[Other Employee]])","v":0},{"$f":"IF(Table1[[#This Row],[Total Hours per Month]]=Table1[[#This Row],[Column12]],\"Match\",\"Error\")","v":"Match"},{"$f":"IF(Table1[[#This Row],[Calc 2]]=\"#NA\",\"#NA\",IF(Table1[[#This Row],[Non HZ Employee]]=Table1[[#This Row],[Max calc]],\"Non HZ Employee\", Table1[[#This Row],[Calc 2]]))","v":"#NA"}]
[668,null,668,{"$nulls":5},{"$f":"SUM(Table1[[#This Row],[Column4]]+Table1[[#This Row],[Column3]]+Table1[[#This Row],[Column2]]+Table1[[#This Row],[Column1]])","v":0},{"$nulls":5},{"$f":"SUM(Table1[[#This Row],[PO Employee]:[Other Employee]])","v":0},"N",{"$error":"#N/A"},{"$f":"IF(O685>39,Table1[[#This Row],[Calc 1]],IF(O685>1,\"Not counted as an Employee\",\"#NA\"))","v":"#NA"},{"$f":"MAX(Table1[[#This Row],[PO Employee]],Table1[[#This Row],[Other HZ Employee]],Table1[[#This Row],[Non HZ Employee]],Table1[[#This Row],[Job Site Employee]],Table1[[#This Row],[Other Employee]])","v":0},{"$f":"IF(Table1[[#This Row],[Total Hours per Month]]=Table1[[#This Row],[Column12]],\"Match\",\"Error\")","v":"Match"},{"$f":"IF(Table1[[#This Row],[Calc 2]]=\"#NA\",\"#NA\",IF(Table1[[#This Row],[Non HZ Employee]]=Table1[[#This Row],[Max calc]],\"Non HZ Employee\", Table1[[#This Row],[Calc 2]]))","v":"#NA"}]
[669,null,669,{"$nulls":5},{"$f":"SUM(Table1[[#This Row],[Column4]]+Table1[[#This Row],[Column3]]+Table1[[#This Row],[Column2]]+Table1[[#This Row],[Column1]])","v":0},{"$nulls":5},{"$f":"SUM(Table1[[#This Row],[PO Employee]:[Other Employee]])","v":0},"N",{"$error":"#N/A"},{"$f":"IF(O686>39,Table1[[#This Row],[Calc 1]],IF(O686>1,\"Not counted as an Employee\",\"#NA\"))","v":"#NA"},{"$f":"MAX(Table1[[#This Row],[PO Employee]],Table1[[#This Row],[Other HZ Employee]],Table1[[#This Row],[Non HZ Employee]],Table1[[#This Row],[Job Site Employee]],Table1[[#This Row],[Other Employee]])","v":0},{"$f":"IF(Table1[[#This Row],[Total Hours per Month]]=Table1[[#This Row],[Column12]],\"Match\",\"Error\")","v":"Match"},{"$f":"IF(Table1[[#This Row],[Calc 2]]=\"#NA\",\"#NA\",IF(Table1[[#This Row],[Non HZ Employee]]=Table1[[#This Row],[Max calc]],\"Non HZ Employee\", Table1[[#This Row],[Calc 2]]))","v":"#NA"}]
[670,null,670,{"$nulls":5},{"$f":"SUM(Table1[[#This Row],[Column4]]+Table1[[#This Row],[Column3]]+Table1[[#This Row],[Column2]]+Table1[[#This Row],[Column1]])","v":0},{"$nulls":5},{"$f":"SUM(Table1[[#This Row],[PO Employee]:[Other Employee]])","v":0},"N",{"$error":"#N/A"},{"$f":"IF(O687>39,Table1[[#This Row],[Calc 1]],IF(O687>1,\"Not counted as an Employee\",\"#NA\"))","v":"#NA"},{"$f":"MAX(Table1[[#This Row],[PO Employee]],Table1[[#This Row],[Other HZ Employee]],Table1[[#This Row],[Non HZ Employee]],Table1[[#This Row],[Job Site Employee]],Table1[[#This Row],[Other Employee]])","v":0},{"$f":"IF(Table1[[#This Row],[Total Hours per Month]]=Table1[[#This Row],[Column12]],\"Match\",\"Error\")","v":"Match"},{"$f":"IF(Table1[[#This Row],[Calc 2]]=\"#NA\",\"#NA\",IF(Table1[[#This Row],[Non HZ Employee]]=Table1[[#This Row],[Max calc]],\"Non HZ Employee\", Table1[[#This Row],[Calc 2]]))","v":"#NA"}]
[671,null,671,{"$nulls":5},{"$f":"SUM(Table1[[#This Row],[Column4]]+Table1[[#This Row],[Column3]]+Table1[[#This Row],[Column2]]+Table1[[#This Row],[Column1]])","v":0},{"$nulls":5},{"$f":"SUM(Table1[[#This Row],[PO Employee]:[Other Employee]])","v":0},"N",{"$error":"#N/A"},{"$f":"IF(O688>39,Table1[[#This Row],[Calc 1]],IF(O688>1,\"Not counted as an Employee\",\"#NA\"))","v":"#NA"},{"$f":"MAX(Table1[[#This Row],[PO Employee]],Table1[[#This Row],[Other HZ Employee]],Table1[[#This Row],[Non HZ Employee]],Table1[[#This Row],[Job Site Employee]],Table1[[#This Row],[Other Employee]])","v":0},{"$f":"IF(Table1[[#This Row],[Total Hours per Month]]=Table1[[#This Row],[Column12]],\"Match\",\"Error\")","v":"Match"},{"$f":"IF(Table1[[#This Row],[Calc 2]]=\"#NA\",\"#NA\",IF(Table1[[#This Row],[Non HZ Employee]]=Table1[[#This Row],[Max calc]],\"Non HZ Employee\", Table1[[#This Row],[Calc 2]]))","v":"#NA"}]
[672,null,672,{"$nulls":5},{"$f":"SUM(Table1[[#This Row],[Column4]]+Table1[[#This Row],[Column3]]+Table1[[#This Row],[Column2]]+Table1[[#This Row],[Column1]])","v":0},{"$nulls":5},{"$f":"SUM(Table1[[#This Row],[PO Employee]:[Other Employee]])","v":0},"N",{"$error":"#N/A"},{"$f":"IF(O689>39,Table1[[#This Row],[Calc 1]],IF(O689>1,\"Not counted as an Employee\",\"#NA\"))","v":"#NA"},{"$f":"MAX(Table1[[#This Row],[PO Employee]],Table1[[#This Row],[Other HZ Employee]],Table1[[#This Row],[Non HZ Employee]],Table1[[#This Row],[Job Site Employee]],Table1[[#This Row],[Other Employee]])","v":0},{"$f":"IF(Table1[[#This Row],[Total Hours per Month]]=Table1[[#This Row],[Column12]],\"Match\",\"Error\")","v":"Match"},{"$f":"IF(Table1[[#This Row],[Calc 2]]=\"#NA\",\"#NA\",IF(Table1[[#This Row],[Non HZ Employee]]=Table1[[#This Row],[Max calc]],\"Non HZ Employee\", Table1[[#This Row],[Calc 2]]))","v":"#NA"}]
[673,null,673,{"$nulls":5},{"$f":"SUM(Table1[[#This Row],[Column4]]+Table1[[#This Row],[Column3]]+Table1[[#This Row],[Column2]]+Table1[[#This Row],[Column1]])","v":0},{"$nulls":5},{"$f":"SUM(Table1[[#This Row],[PO Employee]:[Other Employee]])","v":0},"N",{"$error":"#N/A"},{"$f":"IF(O690>39,Table1[[#This Row],[Calc 1]],IF(O690>1,\"Not counted as an Employee\",\"#NA\"))","v":"#NA"},{"$f":"MAX(Table1[[#This Row],[PO Employee]],Table1[[#This Row],[Other HZ Employee]],Table1[[#This Row],[Non HZ Employee]],Table1[[#This Row],[Job Site Employee]],Table1[[#This Row],[Other Employee]])","v":0},{"$f":"IF(Table1[[#This Row],[Total Hours per Month]]=Table1[[#This Row],[Column12]],\"Match\",\"Error\")","v":"Match"},{"$f":"IF(Table1[[#This Row],[Calc 2]]=\"#NA\",\"#NA\",IF(Table1[[#This Row],[Non HZ Employee]]=Table1[[#This Row],[Max calc]],\"Non HZ Employee\", Table1[[#This Row],[Calc 2]]))","v":"#NA"}]
[674,null,674,{"$nulls":5},{"$f":"SUM(Table1[[#This Row],[Column4]]+Table1[[#This Row],[Column3]]+Table1[[#This Row],[Column2]]+Table1[[#This Row],[Column1]])","v":0},{"$nulls":5},{"$f":"SUM(Table1[[#This Row],[PO Employee]:[Other Employee]])","v":0},"N",{"$error":"#N/A"},{"$f":"IF(O691>39,Table1[[#This Row],[Calc 1]],IF(O691>1,\"Not counted as an Employee\",\"#NA\"))","v":"#NA"},{"$f":"MAX(Table1[[#This Row],[PO Employee]],Table1[[#This Row],[Other HZ Employee]],Table1[[#This Row],[Non HZ Employee]],Table1[[#This Row],[Job Site Employee]],Table1[[#This Row],[Other Employee]])","v":0},{"$f":"IF(Table1[[#This Row],[Total Hours per Month]]=Table1[[#This Row],[Column12]],\"Match\",\"Error\")","v":"Match"},{"$f":"IF(Table1[[#This Row],[Calc 2]]=\"#NA\",\"#NA\",IF(Table1[[#This Row],[Non HZ Employee]]=Table1[[#This Row],[Max calc]],\"Non HZ Employee\", Table1[[#This Row],[Calc 2]]))","v":"#NA"}]
[675,null,675,{"$nulls":5},{"$f":"SUM(Table1[[#This Row],[Column4]]+Table1[[#This Row],[Column3]]+Table1[[#This Row],[Column2]]+Table1[[#This Row],[Column1]])","v":0},{"$nulls":5},{"$f":"SUM(Table1[[#This Row],[PO Employee]:[Other Employee]])","v":0},"N",{"$error":"#N/A"},{"$f":"IF(O692>39,Table1[[#This Row],[Calc 1]],IF(O692>1,\"Not counted as an Employee\",\"#NA\"))","v":"#NA"},{"$f":"MAX(Table1[[#This Row],[PO Employee]],Table1[[#This Row],[Other HZ Employee]],Table1[[#This Row],[Non HZ Employee]],Table1[[#This Row],[Job Site Employee]],Table1[[#This Row],[Other Employee]])","v":0},{"$f":"IF(Table1[[#This Row],[Total Hours per Month]]=Table1[[#This Row],[Column12]],\"Match\",\"Error\")","v":"Match"},{"$f":"IF(Table1[[#This Row],[Calc 2]]=\"#NA\",\"#NA\",IF(Table1[[#This Row],[Non HZ Employee]]=Table1[[#This Row],[Max calc]],\"Non HZ Employee\", Table1[[#This Row],[Calc 2]]))","v":"#NA"}]
[676,null,676,{"$nulls":5},{"$f":"SUM(Table1[[#This Row],[Column4]]+Table1[[#This Row],[Column3]]+Table1[[#This Row],[Column2]]+Table1[[#This Row],[Column1]])","v":0},{"$nulls":5},{"$f":"SUM(Table1[[#This Row],[PO Employee]:[Other Employee]])","v":0},"N",{"$error":"#N/A"},{"$f":"IF(O693>39,Table1[[#This Row],[Calc 1]],IF(O693>1,\"Not counted as an Employee\",\"#NA\"))","v":"#NA"},{"$f":"MAX(Table1[[#This Row],[PO Employee]],Table1[[#This Row],[Other HZ Employee]],Table1[[#This Row],[Non HZ Employee]],Table1[[#This Row],[Job Site Employee]],Table1[[#This Row],[Other Employee]])","v":0},{"$f":"IF(Table1[[#This Row],[Total Hours per Month]]=Table1[[#This Row],[Column12]],\"Match\",\"Error\")","v":"Match"},{"$f":"IF(Table1[[#This Row],[Calc 2]]=\"#NA\",\"#NA\",IF(Table1[[#This Row],[Non HZ Employee]]=Table1[[#This Row],[Max calc]],\"Non HZ Employee\", Table1[[#This Row],[Calc 2]]))","v":"#NA"}]
[677,null,677,{"$nulls":5},{"$f":"SUM(Table1[[#This Row],[Column4]]+Table1[[#This Row],[Column3]]+Table1[[#This Row],[Column2]]+Table1[[#This Row],[Column1]])","v":0},{"$nulls":5},{"$f":"SUM(Table1[[#This Row],[PO Employee]:[Other Employee]])","v":0},"N",{"$error":"#N/A"},{"$f":"IF(O694>39,Table1[[#This Row],[Calc 1]],IF(O694>1,\"Not counted as an Employee\",\"#NA\"))","v":"#NA"},{"$f":"MAX(Table1[[#This Row],[PO Employee]],Table1[[#This Row],[Other HZ Employee]],Table1[[#This Row],[Non HZ Employee]],Table1[[#This Row],[Job Site Employee]],Table1[[#This Row],[Other Employee]])","v":0},{"$f":"IF(Table1[[#This Row],[Total Hours per Month]]=Table1[[#This Row],[Column12]],\"Match\",\"Error\")","v":"Match"},{"$f":"IF(Table1[[#This Row],[Calc 2]]=\"#NA\",\"#NA\",IF(Table1[[#This Row],[Non HZ Employee]]=Table1[[#This Row],[Max calc]],\"Non HZ Employee\", Table1[[#This Row],[Calc 2]]))","v":"#NA"}]
[678,null,678,{"$nulls":5},{"$f":"SUM(Table1[[#This Row],[Column4]]+Table1[[#This Row],[Column3]]+Table1[[#This Row],[Column2]]+Table1[[#This Row],[Column1]])","v":0},{"$nulls":5},{"$f":"SUM(Table1[[#This Row],[PO Employee]:[Other Employee]])","v":0},"N",{"$error":"#N/A"},{"$f":"IF(O695>39,Table1[[#This Row],[Calc 1]],IF(O695>1,\"Not counted as an Employee\",\"#NA\"))","v":"#NA"},{"$f":"MAX(Table1[[#This Row],[PO Employee]],Table1[[#This Row],[Other HZ Employee]],Table1[[#This Row],[Non HZ Employee]],Table1[[#This Row],[Job Site Employee]],Table1[[#This Row],[Other Employee]])","v":0},{"$f":"IF(Table1[[#This Row],[Total Hours per Month]]=Table1[[#This Row],[Column12]],\"Match\",\"Error\")","v":"Match"},{"$f":"IF(Table1[[#This Row],[Calc 2]]=\"#NA\",\"#NA\",IF(Table1[[#This Row],[Non HZ Employee]]=Table1[[#This Row],[Max calc]],\"Non HZ Employee\", Table1[[#This Row],[Calc 2]]))","v":"#NA"}]
[679,null,679,{"$nulls":5},{"$f":"SUM(Table1[[#This Row],[Column4]]+Table1[[#This Row],[Column3]]+Table1[[#This Row],[Column2]]+Table1[[#This Row],[Column1]])","v":0},{"$nulls":5},{"$f":"SUM(Table1[[#This Row],[PO Employee]:[Other Employee]])","v":0},"N",{"$error":"#N/A"},{"$f":"IF(O696>39,Table1[[#This Row],[Calc 1]],IF(O696>1,\"Not counted as an Employee\",\"#NA\"))","v":"#NA"},{"$f":"MAX(Table1[[#This Row],[PO Employee]],Table1[[#This Row],[Other HZ Employee]],Table1[[#This Row],[Non HZ Employee]],Table1[[#This Row],[Job Site Employee]],Table1[[#This Row],[Other Employee]])","v":0},{"$f":"IF(Table1[[#This Row],[Total Hours per Month]]=Table1[[#This Row],[Column12]],\"Match\",\"Error\")","v":"Match"},{"$f":"IF(Table1[[#This Row],[Calc 2]]=\"#NA\",\"#NA\",IF(Table1[[#This Row],[Non HZ Employee]]=Table1[[#This Row],[Max calc]],\"Non HZ Employee\", Table1[[#This Row],[Calc 2]]))","v":"#NA"}]
[680,null,680,{"$nulls":5},{"$f":"SUM(Table1[[#This Row],[Column4]]+Table1[[#This Row],[Column3]]+Table1[[#This Row],[Column2]]+Table1[[#This Row],[Column1]])","v":0},{"$nulls":5},{"$f":"SUM(Table1[[#This Row],[PO Employee]:[Other Employee]])","v":0},"N",{"$error":"#N/A"},{"$f":"IF(O697>39,Table1[[#This Row],[Calc 1]],IF(O697>1,\"Not counted as an Employee\",\"#NA\"))","v":"#NA"},{"$f":"MAX(Table1[[#This Row],[PO Employee]],Table1[[#This Row],[Other HZ Employee]],Table1[[#This Row],[Non HZ Employee]],Table1[[#This Row],[Job Site Employee]],Table1[[#This Row],[Other Employee]])","v":0},{"$f":"IF(Table1[[#This Row],[Total Hours per Month]]=Table1[[#This Row],[Column12]],\"Match\",\"Error\")","v":"Match"},{"$f":"IF(Table1[[#This Row],[Calc 2]]=\"#NA\",\"#NA\",IF(Table1[[#This Row],[Non HZ Employee]]=Table1[[#This Row],[Max calc]],\"Non HZ Employee\", Table1[[#This Row],[Calc 2]]))","v":"#NA"}]
[681,null,681,{"$nulls":5},{"$f":"SUM(Table1[[#This Row],[Column4]]+Table1[[#This Row],[Column3]]+Table1[[#This Row],[Column2]]+Table1[[#This Row],[Column1]])","v":0},{"$nulls":5},{"$f":"SUM(Table1[[#This Row],[PO Employee]:[Other Employee]])","v":0},"N",{"$error":"#N/A"},{"$f":"IF(O698>39,Table1[[#This Row],[Calc 1]],IF(O698>1,\"Not counted as an Employee\",\"#NA\"))","v":"#NA"},{"$f":"MAX(Table1[[#This Row],[PO Employee]],Table1[[#This Row],[Other HZ Employee]],Table1[[#This Row],[Non HZ Employee]],Table1[[#This Row],[Job Site Employee]],Table1[[#This Row],[Other Employee]])","v":0},{"$f":"IF(Table1[[#This Row],[Total Hours per Month]]=Table1[[#This Row],[Column12]],\"Match\",\"Error\")","v":"Match"},{"$f":"IF(Table1[[#This Row],[Calc 2]]=\"#NA\",\"#NA\",IF(Table1[[#This Row],[Non HZ Employee]]=Table1[[#This Row],[Max calc]],\"Non HZ Employee\", Table1[[#This Row],[Calc 2]]))","v":"#NA"}]
[682,null,682,{"$nulls":5},{"$f":"SUM(Table1[[#This Row],[Column4]]+Table1[[#This Row],[Column3]]+Table1[[#This Row],[Column2]]+Table1[[#This Row],[Column1]])","v":0},{"$nulls":5},{"$f":"SUM(Table1[[#This Row],[PO Employee]:[Other Employee]])","v":0},"N",{"$error":"#N/A"},{"$f":"IF(O699>39,Table1[[#This Row],[Calc 1]],IF(O699>1,\"Not counted as an Employee\",\"#NA\"))","v":"#NA"},{"$f":"MAX(Table1[[#This Row],[PO Employee]],Table1[[#This Row],[Other HZ Employee]],Table1[[#This Row],[Non HZ Employee]],Table1[[#This Row],[Job Site Employee]],Table1[[#This Row],[Other Employee]])","v":0},{"$f":"IF(Table1[[#This Row],[Total Hours per Month]]=Table1[[#This Row],[Column12]],\"Match\",\"Error\")","v":"Match"},{"$f":"IF(Table1[[#This Row],[Calc 2]]=\"#NA\",\"#NA\",IF(Table1[[#This Row],[Non HZ Employee]]=Table1[[#This Row],[Max calc]],\"Non HZ Employee\", Table1[[#This Row],[Calc 2]]))","v":"#NA"}]
[683,null,683,{"$nulls":5},{"$f":"SUM(Table1[[#This Row],[Column4]]+Table1[[#This Row],[Column3]]+Table1[[#This Row],[Column2]]+Table1[[#This Row],[Column1]])","v":0},{"$nulls":5},{"$f":"SUM(Table1[[#This Row],[PO Employee]:[Other Employee]])","v":0},"N",{"$error":"#N/A"},{"$f":"IF(O700>39,Table1[[#This Row],[Calc 1]],IF(O700>1,\"Not counted as an Employee\",\"#NA\"))","v":"#NA"},{"$f":"MAX(Table1[[#This Row],[PO Employee]],Table1[[#This Row],[Other HZ Employee]],Table1[[#This Row],[Non HZ Employee]],Table1[[#This Row],[Job Site Employee]],Table1[[#This Row],[Other Employee]])","v":0},{"$f":"IF(Table1[[#This Row],[Total Hours per Month]]=Table1[[#This Row],[Column12]],\"Match\",\"Error\")","v":"Match"},{"$f":"IF(Table1[[#This Row],[Calc 2]]=\"#NA\",\"#NA\",IF(Table1[[#This Row],[Non HZ Employee]]=Table1[[#This Row],[Max calc]],\"Non HZ Employee\", Table1[[#This Row],[Calc 2]]))","v":"#NA"}]
[684,null,684,{"$nulls":5},{"$f":"SUM(Table1[[#This Row],[Column4]]+Table1[[#This Row],[Column3]]+Table1[[#This Row],[Column2]]+Table1[[#This Row],[Column1]])","v":0},{"$nulls":5},{"$f":"SUM(Table1[[#This Row],[PO Employee]:[Other Employee]])","v":0},"N",{"$error":"#N/A"},{"$f":"IF(O701>39,Table1[[#This Row],[Calc 1]],IF(O701>1,\"Not counted as an Employee\",\"#NA\"))","v":"#NA"},{"$f":"MAX(Table1[[#This Row],[PO Employee]],Table1[[#This Row],[Other HZ Employee]],Table1[[#This Row],[Non HZ Employee]],Table1[[#This Row],[Job Site Employee]],Table1[[#This Row],[Other Employee]])","v":0},{"$f":"IF(Table1[[#This Row],[Total Hours per Month]]=Table1[[#This Row],[Column12]],\"Match\",\"Error\")","v":"Match"},{"$f":"IF(Table1[[#This Row],[Calc 2]]=\"#NA\",\"#NA\",IF(Table1[[#This Row],[Non HZ Employee]]=Table1[[#This Row],[Max calc]],\"Non HZ Employee\", Table1[[#This Row],[Calc 2]]))","v":"#NA"}]
[685,null,685,{"$nulls":5},{"$f":"SUM(Table1[[#This Row],[Column4]]+Table1[[#This Row],[Column3]]+Table1[[#This Row],[Column2]]+Table1[[#This Row],[Column1]])","v":0},{"$nulls":5},{"$f":"SUM(Table1[[#This Row],[PO Employee]:[Other Employee]])","v":0},"N",{"$error":"#N/A"},{"$f":"IF(O702>39,Table1[[#This Row],[Calc 1]],IF(O702>1,\"Not counted as an Employee\",\"#NA\"))","v":"#NA"},{"$f":"MAX(Table1[[#This Row],[PO Employee]],Table1[[#This Row],[Other HZ Employee]],Table1[[#This Row],[Non HZ Employee]],Table1[[#This Row],[Job Site Employee]],Table1[[#This Row],[Other Employee]])","v":0},{"$f":"IF(Table1[[#This Row],[Total Hours per Month]]=Table1[[#This Row],[Column12]],\"Match\",\"Error\")","v":"Match"},{"$f":"IF(Table1[[#This Row],[Calc 2]]=\"#NA\",\"#NA\",IF(Table1[[#This Row],[Non HZ Employee]]=Table1[[#This Row],[Max calc]],\"Non HZ Employee\", Table1[[#This Row],[Calc 2]]))","v":"#NA"}]
[686,null,686,{"$nulls":5},{"$f":"SUM(Table1[[#This Row],[Column4]]+Table1[[#This Row],[Column3]]+Table1[[#This Row],[Column2]]+Table1[[#This Row],[Column1]])","v":0},{"$nulls":5},{"$f":"SUM(Table1[[#This Row],[PO Employee]:[Other Employee]])","v":0},"N",{"$error":"#N/A"},{"$f":"IF(O703>39,Table1[[#This Row],[Calc 1]],IF(O703>1,\"Not counted as an Employee\",\"#NA\"))","v":"#NA"},{"$f":"MAX(Table1[[#This Row],[PO Employee]],Table1[[#This Row],[Other HZ Employee]],Table1[[#This Row],[Non HZ Employee]],Table1[[#This Row],[Job Site Employee]],Table1[[#This Row],[Other Employee]])","v":0},{"$f":"IF(Table1[[#This Row],[Total Hours per Month]]=Table1[[#This Row],[Column12]],\"Match\",\"Error\")","v":"Match"},{"$f":"IF(Table1[[#This Row],[Calc 2]]=\"#NA\",\"#NA\",IF(Table1[[#This Row],[Non HZ Employee]]=Table1[[#This Row],[Max calc]],\"Non HZ Employee\", Table1[[#This Row],[Calc 2]]))","v":"#NA"}]
[687,null,687,{"$nulls":5},{"$f":"SUM(Table1[[#This Row],[Column4]]+Table1[[#This Row],[Column3]]+Table1[[#This Row],[Column2]]+Table1[[#This Row],[Column1]])","v":0},{"$nulls":5},{"$f":"SUM(Table1[[#This Row],[PO Employee]:[Other Employee]])","v":0},"N",{"$error":"#N/A"},{"$f":"IF(O704>39,Table1[[#This Row],[Calc 1]],IF(O704>1,\"Not counted as an Employee\",\"#NA\"))","v":"#NA"},{"$f":"MAX(Table1[[#This Row],[PO Employee]],Table1[[#This Row],[Other HZ Employee]],Table1[[#This Row],[Non HZ Employee]],Table1[[#This Row],[Job Site Employee]],Table1[[#This Row],[Other Employee]])","v":0},{"$f":"IF(Table1[[#This Row],[Total Hours per Month]]=Table1[[#This Row],[Column12]],\"Match\",\"Error\")","v":"Match"},{"$f":"IF(Table1[[#This Row],[Calc 2]]=\"#NA\",\"#NA\",IF(Table1[[#This Row],[Non HZ Employee]]=Table1[[#This Row],[Max calc]],\"Non HZ Employee\", Table1[[#This Row],[Calc 2]]))","v":"#NA"}]
[688,null,688,{"$nulls":5},{"$f":"SUM(Table1[[#This Row],[Column4]]+Table1[[#This Row],[Column3]]+Table1[[#This Row],[Column2]]+Table1[[#This Row],[Column1]])","v":0},{"$nulls":5},{"$f":"SUM(Table1[[#This Row],[PO Employee]:[Other Employee]])","v":0},"N",{"$error":"#N/A"},{"$f":"IF(O705>39,Table1[[#This Row],[Calc 1]],IF(O705>1,\"Not counted as an Employee\",\"#NA\"))","v":"#NA"},{"$f":"MAX(Table1[[#This Row],[PO Employee]],Table1[[#This Row],[Other HZ Employee]],Table1[[#This Row],[Non HZ Employee]],Table1[[#This Row],[Job Site Employee]],Table1[[#This Row],[Other Employee]])","v":0},{"$f":"IF(Table1[[#This Row],[Total Hours per Month]]=Table1[[#This Row],[Column12]],\"Match\",\"Error\")","v":"Match"},{"$f":"IF(Table1[[#This Row],[Calc 2]]=\"#NA\",\"#NA\",IF(Table1[[#This Row],[Non HZ Employee]]=Table1[[#This Row],[Max calc]],\"Non HZ Employee\", Table1[[#This Row],[Calc 2]]))","v":"#NA"}]
[689,null,689,{"$nulls":5},{"$f":"SUM(Table1[[#This Row],[Column4]]+Table1[[#This Row],[Column3]]+Table1[[#This Row],[Column2]]+Table1[[#This Row],[Column1]])","v":0},{"$nulls":5},{"$f":"SUM(Table1[[#This Row],[PO Employee]:[Other Employee]])","v":0},"N",{"$error":"#N/A"},{"$f":"IF(O706>39,Table1[[#This Row],[Calc 1]],IF(O706>1,\"Not counted as an Employee\",\"#NA\"))","v":"#NA"},{"$f":"MAX(Table1[[#This Row],[PO Employee]],Table1[[#This Row],[Other HZ Employee]],Table1[[#This Row],[Non HZ Employee]],Table1[[#This Row],[Job Site Employee]],Table1[[#This Row],[Other Employee]])","v":0},{"$f":"IF(Table1[[#This Row],[Total Hours per Month]]=Table1[[#This Row],[Column12]],\"Match\",\"Error\")","v":"Match"},{"$f":"IF(Table1[[#This Row],[Calc 2]]=\"#NA\",\"#NA\",IF(Table1[[#This Row],[Non HZ Employee]]=Table1[[#This Row],[Max calc]],\"Non HZ Employee\", Table1[[#This Row],[Calc 2]]))","v":"#NA"}]
[690,null,690,{"$nulls":5},{"$f":"SUM(Table1[[#This Row],[Column4]]+Table1[[#This Row],[Column3]]+Table1[[#This Row],[Column2]]+Table1[[#This Row],[Column1]])","v":0},{"$nulls":5},{"$f":"SUM(Table1[[#This Row],[PO Employee]:[Other Employee]])","v":0},"N",{"$error":"#N/A"},{"$f":"IF(O707>39,Table1[[#This Row],[Calc 1]],IF(O707>1,\"Not counted as an Employee\",\"#NA\"))","v":"#NA"},{"$f":"MAX(Table1[[#This Row],[PO Employee]],Table1[[#This Row],[Other HZ Employee]],Table1[[#This Row],[Non HZ Employee]],Table1[[#This Row],[Job Site Employee]],Table1[[#This Row],[Other Employee]])","v":0},{"$f":"IF(Table1[[#This Row],[Total Hours per Month]]=Table1[[#This Row],[Column12]],\"Match\",\"Error\")","v":"Match"},{"$f":"IF(Table1[[#This Row],[Calc 2]]=\"#NA\",\"#NA\",IF(Table1[[#This Row],[Non HZ Employee]]=Table1[[#This Row],[Max calc]],\"Non HZ Employee\", Table1[[#This Row],[Calc 2]]))","v":"#NA"}]
[691,null,691,{"$nulls":5},{"$f":"SUM(Table1[[#This Row],[Column4]]+Table1[[#This Row],[Column3]]+Table1[[#This Row],[Column2]]+Table1[[#This Row],[Column1]])","v":0},{"$nulls":5},{"$f":"SUM(Table1[[#This Row],[PO Employee]:[Other Employee]])","v":0},"N",{"$error":"#N/A"},{"$f":"IF(O708>39,Table1[[#This Row],[Calc 1]],IF(O708>1,\"Not counted as an Employee\",\"#NA\"))","v":"#NA"},{"$f":"MAX(Table1[[#This Row],[PO Employee]],Table1[[#This Row],[Other HZ Employee]],Table1[[#This Row],[Non HZ Employee]],Table1[[#This Row],[Job Site Employee]],Table1[[#This Row],[Other Employee]])","v":0},{"$f":"IF(Table1[[#This Row],[Total Hours per Month]]=Table1[[#This Row],[Column12]],\"Match\",\"Error\")","v":"Match"},{"$f":"IF(Table1[[#This Row],[Calc 2]]=\"#NA\",\"#NA\",IF(Table1[[#This Row],[Non HZ Employee]]=Table1[[#This Row],[Max calc]],\"Non HZ Employee\", Table1[[#This Row],[Calc 2]]))","v":"#NA"}]
[692,null,692,{"$nulls":5},{"$f":"SUM(Table1[[#This Row],[Column4]]+Table1[[#This Row],[Column3]]+Table1[[#This Row],[Column2]]+Table1[[#This Row],[Column1]])","v":0},{"$nulls":5},{"$f":"SUM(Table1[[#This Row],[PO Employee]:[Other Employee]])","v":0},"N",{"$error":"#N/A"},{"$f":"IF(O709>39,Table1[[#This Row],[Calc 1]],IF(O709>1,\"Not counted as an Employee\",\"#NA\"))","v":"#NA"},{"$f":"MAX(Table1[[#This Row],[PO Employee]],Table1[[#This Row],[Other HZ Employee]],Table1[[#This Row],[Non HZ Employee]],Table1[[#This Row],[Job Site Employee]],Table1[[#This Row],[Other Employee]])","v":0},{"$f":"IF(Table1[[#This Row],[Total Hours per Month]]=Table1[[#This Row],[Column12]],\"Match\",\"Error\")","v":"Match"},{"$f":"IF(Table1[[#This Row],[Calc 2]]=\"#NA\",\"#NA\",IF(Table1[[#This Row],[Non HZ Employee]]=Table1[[#This Row],[Max calc]],\"Non HZ Employee\", Table1[[#This Row],[Calc 2]]))","v":"#NA"}]
[693,null,693,{"$nulls":5},{"$f":"SUM(Table1[[#This Row],[Column4]]+Table1[[#This Row],[Column3]]+Table1[[#This Row],[Column2]]+Table1[[#This Row],[Column1]])","v":0},{"$nulls":5},{"$f":"SUM(Table1[[#This Row],[PO Employee]:[Other Employee]])","v":0},"N",{"$error":"#N/A"},{"$f":"IF(O710>39,Table1[[#This Row],[Calc 1]],IF(O710>1,\"Not counted as an Employee\",\"#NA\"))","v":"#NA"},{"$f":"MAX(Table1[[#This Row],[PO Employee]],Table1[[#This Row],[Other HZ Employee]],Table1[[#This Row],[Non HZ Employee]],Table1[[#This Row],[Job Site Employee]],Table1[[#This Row],[Other Employee]])","v":0},{"$f":"IF(Table1[[#This Row],[Total Hours per Month]]=Table1[[#This Row],[Column12]],\"Match\",\"Error\")","v":"Match"},{"$f":"IF(Table1[[#This Row],[Calc 2]]=\"#NA\",\"#NA\",IF(Table1[[#This Row],[Non HZ Employee]]=Table1[[#This Row],[Max calc]],\"Non HZ Employee\", Table1[[#This Row],[Calc 2]]))","v":"#NA"}]
[694,null,694,{"$nulls":5},{"$f":"SUM(Table1[[#This Row],[Column4]]+Table1[[#This Row],[Column3]]+Table1[[#This Row],[Column2]]+Table1[[#This Row],[Column1]])","v":0},{"$nulls":5},{"$f":"SUM(Table1[[#This Row],[PO Employee]:[Other Employee]])","v":0},"N",{"$error":"#N/A"},{"$f":"IF(O711>39,Table1[[#This Row],[Calc 1]],IF(O711>1,\"Not counted as an Employee\",\"#NA\"))","v":"#NA"},{"$f":"MAX(Table1[[#This Row],[PO Employee]],Table1[[#This Row],[Other HZ Employee]],Table1[[#This Row],[Non HZ Employee]],Table1[[#This Row],[Job Site Employee]],Table1[[#This Row],[Other Employee]])","v":0},{"$f":"IF(Table1[[#This Row],[Total Hours per Month]]=Table1[[#This Row],[Column12]],\"Match\",\"Error\")","v":"Match"},{"$f":"IF(Table1[[#This Row],[Calc 2]]=\"#NA\",\"#NA\",IF(Table1[[#This Row],[Non HZ Employee]]=Table1[[#This Row],[Max calc]],\"Non HZ Employee\", Table1[[#This Row],[Calc 2]]))","v":"#NA"}]
[695,null,695,{"$nulls":5},{"$f":"SUM(Table1[[#This Row],[Column4]]+Table1[[#This Row],[Column3]]+Table1[[#This Row],[Column2]]+Table1[[#This Row],[Column1]])","v":0},{"$nulls":5},{"$f":"SUM(Table1[[#This Row],[PO Employee]:[Other Employee]])","v":0},"N",{"$error":"#N/A"},{"$f":"IF(O712>39,Table1[[#This Row],[Calc 1]],IF(O712>1,\"Not counted as an Employee\",\"#NA\"))","v":"#NA"},{"$f":"MAX(Table1[[#This Row],[PO Employee]],Table1[[#This Row],[Other HZ Employee]],Table1[[#This Row],[Non HZ Employee]],Table1[[#This Row],[Job Site Employee]],Table1[[#This Row],[Other Employee]])","v":0},{"$f":"IF(Table1[[#This Row],[Total Hours per Month]]=Table1[[#This Row],[Column12]],\"Match\",\"Error\")","v":"Match"},{"$f":"IF(Table1[[#This Row],[Calc 2]]=\"#NA\",\"#NA\",IF(Table1[[#This Row],[Non HZ Employee]]=Table1[[#This Row],[Max calc]],\"Non HZ Employee\", Table1[[#This Row],[Calc 2]]))","v":"#NA"}]
[696,null,696,{"$nulls":5},{"$f":"SUM(Table1[[#This Row],[Column4]]+Table1[[#This Row],[Column3]]+Table1[[#This Row],[Column2]]+Table1[[#This Row],[Column1]])","v":0},{"$nulls":5},{"$f":"SUM(Table1[[#This Row],[PO Employee]:[Other Employee]])","v":0},"N",{"$error":"#N/A"},{"$f":"IF(O713>39,Table1[[#This Row],[Calc 1]],IF(O713>1,\"Not counted as an Employee\",\"#NA\"))","v":"#NA"},{"$f":"MAX(Table1[[#This Row],[PO Employee]],Table1[[#This Row],[Other HZ Employee]],Table1[[#This Row],[Non HZ Employee]],Table1[[#This Row],[Job Site Employee]],Table1[[#This Row],[Other Employee]])","v":0},{"$f":"IF(Table1[[#This Row],[Total Hours per Month]]=Table1[[#This Row],[Column12]],\"Match\",\"Error\")","v":"Match"},{"$f":"IF(Table1[[#This Row],[Calc 2]]=\"#NA\",\"#NA\",IF(Table1[[#This Row],[Non HZ Employee]]=Table1[[#This Row],[Max calc]],\"Non HZ Employee\", Table1[[#This Row],[Calc 2]]))","v":"#NA"}]
[697,null,697,{"$nulls":5},{"$f":"SUM(Table1[[#This Row],[Column4]]+Table1[[#This Row],[Column3]]+Table1[[#This Row],[Column2]]+Table1[[#This Row],[Column1]])","v":0},{"$nulls":5},{"$f":"SUM(Table1[[#This Row],[PO Employee]:[Other Employee]])","v":0},"N",{"$error":"#N/A"},{"$f":"IF(O714>39,Table1[[#This Row],[Calc 1]],IF(O714>1,\"Not counted as an Employee\",\"#NA\"))","v":"#NA"},{"$f":"MAX(Table1[[#This Row],[PO Employee]],Table1[[#This Row],[Other HZ Employee]],Table1[[#This Row],[Non HZ Employee]],Table1[[#This Row],[Job Site Employee]],Table1[[#This Row],[Other Employee]])","v":0},{"$f":"IF(Table1[[#This Row],[Total Hours per Month]]=Table1[[#This Row],[Column12]],\"Match\",\"Error\")","v":"Match"},{"$f":"IF(Table1[[#This Row],[Calc 2]]=\"#NA\",\"#NA\",IF(Table1[[#This Row],[Non HZ Employee]]=Table1[[#This Row],[Max calc]],\"Non HZ Employee\", Table1[[#This Row],[Calc 2]]))","v":"#NA"}]
[698,null,698,{"$nulls":5},{"$f":"SUM(Table1[[#This Row],[Column4]]+Table1[[#This Row],[Column3]]+Table1[[#This Row],[Column2]]+Table1[[#This Row],[Column1]])","v":0},{"$nulls":5},{"$f":"SUM(Table1[[#This Row],[PO Employee]:[Other Employee]])","v":0},"N",{"$error":"#N/A"},{"$f":"IF(O715>39,Table1[[#This Row],[Calc 1]],IF(O715>1,\"Not counted as an Employee\",\"#NA\"))","v":"#NA"},{"$f":"MAX(Table1[[#This Row],[PO Employee]],Table1[[#This Row],[Other HZ Employee]],Table1[[#This Row],[Non HZ Employee]],Table1[[#This Row],[Job Site Employee]],Table1[[#This Row],[Other Employee]])","v":0},{"$f":"IF(Table1[[#This Row],[Total Hours per Month]]=Table1[[#This Row],[Column12]],\"Match\",\"Error\")","v":"Match"},{"$f":"IF(Table1[[#This Row],[Calc 2]]=\"#NA\",\"#NA\",IF(Table1[[#This Row],[Non HZ Employee]]=Table1[[#This Row],[Max calc]],\"Non HZ Employee\", Table1[[#This Row],[Calc 2]]))","v":"#NA"}]
[699,null,699,{"$nulls":5},{"$f":"SUM(Table1[[#This Row],[Column4]]+Table1[[#This Row],[Column3]]+Table1[[#This Row],[Column2]]+Table1[[#This Row],[Column1]])","v":0},{"$nulls":5},{"$f":"SUM(Table1[[#This Row],[PO Employee]:[Other Employee]])","v":0},"N",{"$error":"#N/A"},{"$f":"IF(O716>39,Table1[[#This Row],[Calc 1]],IF(O716>1,\"Not counted as an Employee\",\"#NA\"))","v":"#NA"},{"$f":"MAX(Table1[[#This Row],[PO Employee]],Table1[[#This Row],[Other HZ Employee]],Table1[[#This Row],[Non HZ Employee]],Table1[[#This Row],[Job Site Employee]],Table1[[#This Row],[Other Employee]])","v":0},{"$f":"IF(Table1[[#This Row],[Total Hours per Month]]=Table1[[#This Row],[Column12]],\"Match\",\"Error\")","v":"Match"},{"$f":"IF(Table1[[#This Row],[Calc 2]]=\"#NA\",\"#NA\",IF(Table1[[#This Row],[Non HZ Employee]]=Table1[[#This Row],[Max calc]],\"Non HZ Employee\", Table1[[#This Row],[Calc 2]]))","v":"#NA"}]
[700,null,700,{"$nulls":5},{"$f":"SUM(Table1[[#This Row],[Column4]]+Table1[[#This Row],[Column3]]+Table1[[#This Row],[Column2]]+Table1[[#This Row],[Column1]])","v":0},{"$nulls":5},{"$f":"SUM(Table1[[#This Row],[PO Employee]:[Other Employee]])","v":0},"N",{"$error":"#N/A"},{"$f":"IF(O717>39,Table1[[#This Row],[Calc 1]],IF(O717>1,\"Not counted as an Employee\",\"#NA\"))","v":"#NA"},{"$f":"MAX(Table1[[#This Row],[PO Employee]],Table1[[#This Row],[Other HZ Employee]],Table1[[#This Row],[Non HZ Employee]],Table1[[#This Row],[Job Site Employee]],Table1[[#This Row],[Other Employee]])","v":0},{"$f":"IF(Table1[[#This Row],[Total Hours per Month]]=Table1[[#This Row],[Column12]],\"Match\",\"Error\")","v":"Match"},{"$f":"IF(Table1[[#This Row],[Calc 2]]=\"#NA\",\"#NA\",IF(Table1[[#This Row],[Non HZ Employee]]=Table1[[#This Row],[Max calc]],\"Non HZ Employee\", Table1[[#This Row],[Calc 2]]))","v":"#NA"}]
[701,null,701,{"$nulls":5},{"$f":"SUM(Table1[[#This Row],[Column4]]+Table1[[#This Row],[Column3]]+Table1[[#This Row],[Column2]]+Table1[[#This Row],[Column1]])","v":0},{"$nulls":5},{"$f":"SUM(Table1[[#This Row],[PO Employee]:[Other Employee]])","v":0},"N",{"$error":"#N/A"},{"$f":"IF(O718>39,Table1[[#This Row],[Calc 1]],IF(O718>1,\"Not counted as an Employee\",\"#NA\"))","v":"#NA"},{"$f":"MAX(Table1[[#This Row],[PO Employee]],Table1[[#This Row],[Other HZ Employee]],Table1[[#This Row],[Non HZ Employee]],Table1[[#This Row],[Job Site Employee]],Table1[[#This Row],[Other Employee]])","v":0},{"$f":"IF(Table1[[#This Row],[Total Hours per Month]]=Table1[[#This Row],[Column12]],\"Match\",\"Error\")","v":"Match"},{"$f":"IF(Table1[[#This Row],[Calc 2]]=\"#NA\",\"#NA\",IF(Table1[[#This Row],[Non HZ Employee]]=Table1[[#This Row],[Max calc]],\"Non HZ Employee\", Table1[[#This Row],[Calc 2]]))","v":"#NA"}]
[702,null,702,{"$nulls":5},{"$f":"SUM(Table1[[#This Row],[Column4]]+Table1[[#This Row],[Column3]]+Table1[[#This Row],[Column2]]+Table1[[#This Row],[Column1]])","v":0},{"$nulls":5},{"$f":"SUM(Table1[[#This Row],[PO Employee]:[Other Employee]])","v":0},"N",{"$error":"#N/A"},{"$f":"IF(O719>39,Table1[[#This Row],[Calc 1]],IF(O719>1,\"Not counted as an Employee\",\"#NA\"))","v":"#NA"},{"$f":"MAX(Table1[[#This Row],[PO Employee]],Table1[[#This Row],[Other HZ Employee]],Table1[[#This Row],[Non HZ Employee]],Table1[[#This Row],[Job Site Employee]],Table1[[#This Row],[Other Employee]])","v":0},{"$f":"IF(Table1[[#This Row],[Total Hours per Month]]=Table1[[#This Row],[Column12]],\"Match\",\"Error\")","v":"Match"},{"$f":"IF(Table1[[#This Row],[Calc 2]]=\"#NA\",\"#NA\",IF(Table1[[#This Row],[Non HZ Employee]]=Table1[[#This Row],[Max calc]],\"Non HZ Employee\", Table1[[#This Row],[Calc 2]]))","v":"#NA"}]
[703,null,703,{"$nulls":5},{"$f":"SUM(Table1[[#This Row],[Column4]]+Table1[[#This Row],[Column3]]+Table1[[#This Row],[Column2]]+Table1[[#This Row],[Column1]])","v":0},{"$nulls":5},{"$f":"SUM(Table1[[#This Row],[PO Employee]:[Other Employee]])","v":0},"N",{"$error":"#N/A"},{"$f":"IF(O720>39,Table1[[#This Row],[Calc 1]],IF(O720>1,\"Not counted as an Employee\",\"#NA\"))","v":"#NA"},{"$f":"MAX(Table1[[#This Row],[PO Employee]],Table1[[#This Row],[Other HZ Employee]],Table1[[#This Row],[Non HZ Employee]],Table1[[#This Row],[Job Site Employee]],Table1[[#This Row],[Other Employee]])","v":0},{"$f":"IF(Table1[[#This Row],[Total Hours per Month]]=Table1[[#This Row],[Column12]],\"Match\",\"Error\")","v":"Match"},{"$f":"IF(Table1[[#This Row],[Calc 2]]=\"#NA\",\"#NA\",IF(Table1[[#This Row],[Non HZ Employee]]=Table1[[#This Row],[Max calc]],\"Non HZ Employee\", Table1[[#This Row],[Calc 2]]))","v":"#NA"}]
[704,null,704,{"$nulls":5},{"$f":"SUM(Table1[[#This Row],[Column4]]+Table1[[#This Row],[Column3]]+Table1[[#This Row],[Column2]]+Table1[[#This Row],[Column1]])","v":0},{"$nulls":5},{"$f":"SUM(Table1[[#This Row],[PO Employee]:[Other Employee]])","v":0},"N",{"$error":"#N/A"},{"$f":"IF(O721>39,Table1[[#This Row],[Calc 1]],IF(O721>1,\"Not counted as an Employee\",\"#NA\"))","v":"#NA"},{"$f":"MAX(Table1[[#This Row],[PO Employee]],Table1[[#This Row],[Other HZ Employee]],Table1[[#This Row],[Non HZ Employee]],Table1[[#This Row],[Job Site Employee]],Table1[[#This Row],[Other Employee]])","v":0},{"$f":"IF(Table1[[#This Row],[Total Hours per Month]]=Table1[[#This Row],[Column12]],\"Match\",\"Error\")","v":"Match"},{"$f":"IF(Table1[[#This Row],[Calc 2]]=\"#NA\",\"#NA\",IF(Table1[[#This Row],[Non HZ Employee]]=Table1[[#This Row],[Max calc]],\"Non HZ Employee\", Table1[[#This Row],[Calc 2]]))","v":"#NA"}]
[705,null,705,{"$nulls":5},{"$f":"SUM(Table1[[#This Row],[Column4]]+Table1[[#This Row],[Column3]]+Table1[[#This Row],[Column2]]+Table1[[#This Row],[Column1]])","v":0},{"$nulls":5},{"$f":"SUM(Table1[[#This Row],[PO Employee]:[Other Employee]])","v":0},"N",{"$f":"INDEX($J$17:$N$17,MATCH(MAX(J722:N722),J722:N722,0))","v":{"$error":"#N/A"}},{"$f":"IF(O722>39,Table1[[#This Row],[Calc 1]],IF(O722>1,\"Not counted as an Employee\",\"#NA\"))","v":"#NA"},{"$f":"MAX(Table1[[#This Row],[PO Employee]],Table1[[#This Row],[Other HZ Employee]],Table1[[#This Row],[Non HZ Employee]],Table1[[#This Row],[Job Site Employee]],Table1[[#This Row],[Other Employee]])","v":0},{"$f":"IF(Table1[[#This Row],[Total Hours per Month]]=Table1[[#This Row],[Column12]],\"Match\",\"Error\")","v":"Match"},{"$f":"IF(Table1[[#This Row],[Calc 2]]=\"#NA\",\"#NA\",IF(Table1[[#This Row],[Non HZ Employee]]=Table1[[#This Row],[Max calc]],\"Non HZ Employee\", Table1[[#This Row],[Calc 2]]))","v":"#NA"}]
[706,null,706,{"$nulls":5},{"$f":"SUM(Table1[[#This Row],[Column4]]+Table1[[#This Row],[Column3]]+Table1[[#This Row],[Column2]]+Table1[[#This Row],[Column1]])","v":0},{"$nulls":5},{"$f":"SUM(Table1[[#This Row],[PO Employee]:[Other Employee]])","v":0},{"$f":"IF(O723>=40,\"Y\",\"N\")","v":"N"},{"$error":"#N/A"},{"$f":"IF(O723>39,Table1[[#This Row],[Calc 1]],IF(O723>1,\"Not counted as an Employee\",\"#NA\"))","v":"#NA"},{"$f":"MAX(Table1[[#This Row],[PO Employee]],Table1[[#This Row],[Other HZ Employee]],Table1[[#This Row],[Non HZ Employee]],Table1[[#This Row],[Job Site Employee]],Table1[[#This Row],[Other Employee]])","v":0},{"$f":"IF(Table1[[#This Row],[Total Hours per Month]]=Table1[[#This Row],[Column12]],\"Match\",\"Error\")","v":"Match"},{"$f":"IF(Table1[[#This Row],[Calc 2]]=\"#NA\",\"#NA\",IF(Table1[[#This Row],[Non HZ Employee]]=Table1[[#This Row],[Max calc]],\"Non HZ Employee\", Table1[[#This Row],[Calc 2]]))","v":"#NA"}]
[707,null,707,{"$nulls":5},{"$f":"SUM(Table1[[#This Row],[Column4]]+Table1[[#This Row],[Column3]]+Table1[[#This Row],[Column2]]+Table1[[#This Row],[Column1]])","v":0},{"$nulls":5},{"$f":"SUM(Table1[[#This Row],[PO Employee]:[Other Employee]])","v":0},"N",{"$error":"#N/A"},{"$f":"IF(O724>39,Table1[[#This Row],[Calc 1]],IF(O724>1,\"Not counted as an Employee\",\"#NA\"))","v":"#NA"},{"$f":"MAX(Table1[[#This Row],[PO Employee]],Table1[[#This Row],[Other HZ Employee]],Table1[[#This Row],[Non HZ Employee]],Table1[[#This Row],[Job Site Employee]],Table1[[#This Row],[Other Employee]])","v":0},{"$f":"IF(Table1[[#This Row],[Total Hours per Month]]=Table1[[#This Row],[Column12]],\"Match\",\"Error\")","v":"Match"},{"$f":"IF(Table1[[#This Row],[Calc 2]]=\"#NA\",\"#NA\",IF(Table1[[#This Row],[Non HZ Employee]]=Table1[[#This Row],[Max calc]],\"Non HZ Employee\", Table1[[#This Row],[Calc 2]]))","v":"#NA"}]
[708,null,708,{"$nulls":5},{"$f":"SUM(Table1[[#This Row],[Column4]]+Table1[[#This Row],[Column3]]+Table1[[#This Row],[Column2]]+Table1[[#This Row],[Column1]])","v":0},{"$nulls":5},{"$f":"SUM(Table1[[#This Row],[PO Employee]:[Other Employee]])","v":0},"N",{"$error":"#N/A"},{"$f":"IF(O725>39,Table1[[#This Row],[Calc 1]],IF(O725>1,\"Not counted as an Employee\",\"#NA\"))","v":"#NA"},{"$f":"MAX(Table1[[#This Row],[PO Employee]],Table1[[#This Row],[Other HZ Employee]],Table1[[#This Row],[Non HZ Employee]],Table1[[#This Row],[Job Site Employee]],Table1[[#This Row],[Other Employee]])","v":0},{"$f":"IF(Table1[[#This Row],[Total Hours per Month]]=Table1[[#This Row],[Column12]],\"Match\",\"Error\")","v":"Match"},{"$f":"IF(Table1[[#This Row],[Calc 2]]=\"#NA\",\"#NA\",IF(Table1[[#This Row],[Non HZ Employee]]=Table1[[#This Row],[Max calc]],\"Non HZ Employee\", Table1[[#This Row],[Calc 2]]))","v":"#NA"}]
[709,null,709,{"$nulls":5},{"$f":"SUM(Table1[[#This Row],[Column4]]+Table1[[#This Row],[Column3]]+Table1[[#This Row],[Column2]]+Table1[[#This Row],[Column1]])","v":0},{"$nulls":5},{"$f":"SUM(Table1[[#This Row],[PO Employee]:[Other Employee]])","v":0},"N",{"$error":"#N/A"},{"$f":"IF(O726>39,Table1[[#This Row],[Calc 1]],IF(O726>1,\"Not counted as an Employee\",\"#NA\"))","v":"#NA"},{"$f":"MAX(Table1[[#This Row],[PO Employee]],Table1[[#This Row],[Other HZ Employee]],Table1[[#This Row],[Non HZ Employee]],Table1[[#This Row],[Job Site Employee]],Table1[[#This Row],[Other Employee]])","v":0},{"$f":"IF(Table1[[#This Row],[Total Hours per Month]]=Table1[[#This Row],[Column12]],\"Match\",\"Error\")","v":"Match"},{"$f":"IF(Table1[[#This Row],[Calc 2]]=\"#NA\",\"#NA\",IF(Table1[[#This Row],[Non HZ Employee]]=Table1[[#This Row],[Max calc]],\"Non HZ Employee\", Table1[[#This Row],[Calc 2]]))","v":"#NA"}]
[710,null,710,{"$nulls":5},{"$f":"SUM(Table1[[#This Row],[Column4]]+Table1[[#This Row],[Column3]]+Table1[[#This Row],[Column2]]+Table1[[#This Row],[Column1]])","v":0},{"$nulls":5},{"$f":"SUM(Table1[[#This Row],[PO Employee]:[Other Employee]])","v":0},"N",{"$error":"#N/A"},{"$f":"IF(O727>39,Table1[[#This Row],[Calc 1]],IF(O727>1,\"Not counted as an Employee\",\"#NA\"))","v":"#NA"},{"$f":"MAX(Table1[[#This Row],[PO Employee]],Table1[[#This Row],[Other HZ Employee]],Table1[[#This Row],[Non HZ Employee]],Table1[[#This Row],[Job Site Employee]],Table1[[#This Row],[Other Employee]])","v":0},{"$f":"IF(Table1[[#This Row],[Total Hours per Month]]=Table1[[#This Row],[Column12]],\"Match\",\"Error\")","v":"Match"},{"$f":"IF(Table1[[#This Row],[Calc 2]]=\"#NA\",\"#NA\",IF(Table1[[#This Row],[Non HZ Employee]]=Table1[[#This Row],[Max calc]],\"Non HZ Employee\", Table1[[#This Row],[Calc 2]]))","v":"#NA"}]
[711,null,711,{"$nulls":5},{"$f":"SUM(Table1[[#This Row],[Column4]]+Table1[[#This Row],[Column3]]+Table1[[#This Row],[Column2]]+Table1[[#This Row],[Column1]])","v":0},{"$nulls":5},{"$f":"SUM(Table1[[#This Row],[PO Employee]:[Other Employee]])","v":0},"N",{"$error":"#N/A"},{"$f":"IF(O728>39,Table1[[#This Row],[Calc 1]],IF(O728>1,\"Not counted as an Employee\",\"#NA\"))","v":"#NA"},{"$f":"MAX(Table1[[#This Row],[PO Employee]],Table1[[#This Row],[Other HZ Employee]],Table1[[#This Row],[Non HZ Employee]],Table1[[#This Row],[Job Site Employee]],Table1[[#This Row],[Other Employee]])","v":0},{"$f":"IF(Table1[[#This Row],[Total Hours per Month]]=Table1[[#This Row],[Column12]],\"Match\",\"Error\")","v":"Match"},{"$f":"IF(Table1[[#This Row],[Calc 2]]=\"#NA\",\"#NA\",IF(Table1[[#This Row],[Non HZ Employee]]=Table1[[#This Row],[Max calc]],\"Non HZ Employee\", Table1[[#This Row],[Calc 2]]))","v":"#NA"}]
[712,null,712,{"$nulls":5},{"$f":"SUM(Table1[[#This Row],[Column4]]+Table1[[#This Row],[Column3]]+Table1[[#This Row],[Column2]]+Table1[[#This Row],[Column1]])","v":0},{"$nulls":5},{"$f":"SUM(Table1[[#This Row],[PO Employee]:[Other Employee]])","v":0},"N",{"$error":"#N/A"},{"$f":"IF(O729>39,Table1[[#This Row],[Calc 1]],IF(O729>1,\"Not counted as an Employee\",\"#NA\"))","v":"#NA"},{"$f":"MAX(Table1[[#This Row],[PO Employee]],Table1[[#This Row],[Other HZ Employee]],Table1[[#This Row],[Non HZ Employee]],Table1[[#This Row],[Job Site Employee]],Table1[[#This Row],[Other Employee]])","v":0},{"$f":"IF(Table1[[#This Row],[Total Hours per Month]]=Table1[[#This Row],[Column12]],\"Match\",\"Error\")","v":"Match"},{"$f":"IF(Table1[[#This Row],[Calc 2]]=\"#NA\",\"#NA\",IF(Table1[[#This Row],[Non HZ Employee]]=Table1[[#This Row],[Max calc]],\"Non HZ Employee\", Table1[[#This Row],[Calc 2]]))","v":"#NA"}]
[713,null,713,{"$nulls":5},{"$f":"SUM(Table1[[#This Row],[Column4]]+Table1[[#This Row],[Column3]]+Table1[[#This Row],[Column2]]+Table1[[#This Row],[Column1]])","v":0},{"$nulls":5},{"$f":"SUM(Table1[[#This Row],[PO Employee]:[Other Employee]])","v":0},"N",{"$error":"#N/A"},{"$f":"IF(O730>39,Table1[[#This Row],[Calc 1]],IF(O730>1,\"Not counted as an Employee\",\"#NA\"))","v":"#NA"},{"$f":"MAX(Table1[[#This Row],[PO Employee]],Table1[[#This Row],[Other HZ Employee]],Table1[[#This Row],[Non HZ Employee]],Table1[[#This Row],[Job Site Employee]],Table1[[#This Row],[Other Employee]])","v":0},{"$f":"IF(Table1[[#This Row],[Total Hours per Month]]=Table1[[#This Row],[Column12]],\"Match\",\"Error\")","v":"Match"},{"$f":"IF(Table1[[#This Row],[Calc 2]]=\"#NA\",\"#NA\",IF(Table1[[#This Row],[Non HZ Employee]]=Table1[[#This Row],[Max calc]],\"Non HZ Employee\", Table1[[#This Row],[Calc 2]]))","v":"#NA"}]
[714,null,714,{"$nulls":5},{"$f":"SUM(Table1[[#This Row],[Column4]]+Table1[[#This Row],[Column3]]+Table1[[#This Row],[Column2]]+Table1[[#This Row],[Column1]])","v":0},{"$nulls":5},{"$f":"SUM(Table1[[#This Row],[PO Employee]:[Other Employee]])","v":0},"N",{"$error":"#N/A"},{"$f":"IF(O731>39,Table1[[#This Row],[Calc 1]],IF(O731>1,\"Not counted as an Employee\",\"#NA\"))","v":"#NA"},{"$f":"MAX(Table1[[#This Row],[PO Employee]],Table1[[#This Row],[Other HZ Employee]],Table1[[#This Row],[Non HZ Employee]],Table1[[#This Row],[Job Site Employee]],Table1[[#This Row],[Other Employee]])","v":0},{"$f":"IF(Table1[[#This Row],[Total Hours per Month]]=Table1[[#This Row],[Column12]],\"Match\",\"Error\")","v":"Match"},{"$f":"IF(Table1[[#This Row],[Calc 2]]=\"#NA\",\"#NA\",IF(Table1[[#This Row],[Non HZ Employee]]=Table1[[#This Row],[Max calc]],\"Non HZ Employee\", Table1[[#This Row],[Calc 2]]))","v":"#NA"}]
[715,null,715,{"$nulls":5},{"$f":"SUM(Table1[[#This Row],[Column4]]+Table1[[#This Row],[Column3]]+Table1[[#This Row],[Column2]]+Table1[[#This Row],[Column1]])","v":0},{"$nulls":5},{"$f":"SUM(Table1[[#This Row],[PO Employee]:[Other Employee]])","v":0},"N",{"$error":"#N/A"},{"$f":"IF(O732>39,Table1[[#This Row],[Calc 1]],IF(O732>1,\"Not counted as an Employee\",\"#NA\"))","v":"#NA"},{"$f":"MAX(Table1[[#This Row],[PO Employee]],Table1[[#This Row],[Other HZ Employee]],Table1[[#This Row],[Non HZ Employee]],Table1[[#This Row],[Job Site Employee]],Table1[[#This Row],[Other Employee]])","v":0},{"$f":"IF(Table1[[#This Row],[Total Hours per Month]]=Table1[[#This Row],[Column12]],\"Match\",\"Error\")","v":"Match"},{"$f":"IF(Table1[[#This Row],[Calc 2]]=\"#NA\",\"#NA\",IF(Table1[[#This Row],[Non HZ Employee]]=Table1[[#This Row],[Max calc]],\"Non HZ Employee\", Table1[[#This Row],[Calc 2]]))","v":"#NA"}]
[716,null,716,{"$nulls":5},{"$f":"SUM(Table1[[#This Row],[Column4]]+Table1[[#This Row],[Column3]]+Table1[[#This Row],[Column2]]+Table1[[#This Row],[Column1]])","v":0},{"$nulls":5},{"$f":"SUM(Table1[[#This Row],[PO Employee]:[Other Employee]])","v":0},"N",{"$error":"#N/A"},{"$f":"IF(O733>39,Table1[[#This Row],[Calc 1]],IF(O733>1,\"Not counted as an Employee\",\"#NA\"))","v":"#NA"},{"$f":"MAX(Table1[[#This Row],[PO Employee]],Table1[[#This Row],[Other HZ Employee]],Table1[[#This Row],[Non HZ Employee]],Table1[[#This Row],[Job Site Employee]],Table1[[#This Row],[Other Employee]])","v":0},{"$f":"IF(Table1[[#This Row],[Total Hours per Month]]=Table1[[#This Row],[Column12]],\"Match\",\"Error\")","v":"Match"},{"$f":"IF(Table1[[#This Row],[Calc 2]]=\"#NA\",\"#NA\",IF(Table1[[#This Row],[Non HZ Employee]]=Table1[[#This Row],[Max calc]],\"Non HZ Employee\", Table1[[#This Row],[Calc 2]]))","v":"#NA"}]
[717,null,717,{"$nulls":5},{"$f":"SUM(Table1[[#This Row],[Column4]]+Table1[[#This Row],[Column3]]+Table1[[#This Row],[Column2]]+Table1[[#This Row],[Column1]])","v":0},{"$nulls":5},{"$f":"SUM(Table1[[#This Row],[PO Employee]:[Other Employee]])","v":0},"N",{"$error":"#N/A"},{"$f":"IF(O734>39,Table1[[#This Row],[Calc 1]],IF(O734>1,\"Not counted as an Employee\",\"#NA\"))","v":"#NA"},{"$f":"MAX(Table1[[#This Row],[PO Employee]],Table1[[#This Row],[Other HZ Employee]],Table1[[#This Row],[Non HZ Employee]],Table1[[#This Row],[Job Site Employee]],Table1[[#This Row],[Other Employee]])","v":0},{"$f":"IF(Table1[[#This Row],[Total Hours per Month]]=Table1[[#This Row],[Column12]],\"Match\",\"Error\")","v":"Match"},{"$f":"IF(Table1[[#This Row],[Calc 2]]=\"#NA\",\"#NA\",IF(Table1[[#This Row],[Non HZ Employee]]=Table1[[#This Row],[Max calc]],\"Non HZ Employee\", Table1[[#This Row],[Calc 2]]))","v":"#NA"}]
[718,null,718,{"$nulls":5},{"$f":"SUM(Table1[[#This Row],[Column4]]+Table1[[#This Row],[Column3]]+Table1[[#This Row],[Column2]]+Table1[[#This Row],[Column1]])","v":0},{"$nulls":5},{"$f":"SUM(Table1[[#This Row],[PO Employee]:[Other Employee]])","v":0},"N",{"$error":"#N/A"},{"$f":"IF(O735>39,Table1[[#This Row],[Calc 1]],IF(O735>1,\"Not counted as an Employee\",\"#NA\"))","v":"#NA"},{"$f":"MAX(Table1[[#This Row],[PO Employee]],Table1[[#This Row],[Other HZ Employee]],Table1[[#This Row],[Non HZ Employee]],Table1[[#This Row],[Job Site Employee]],Table1[[#This Row],[Other Employee]])","v":0},{"$f":"IF(Table1[[#This Row],[Total Hours per Month]]=Table1[[#This Row],[Column12]],\"Match\",\"Error\")","v":"Match"},{"$f":"IF(Table1[[#This Row],[Calc 2]]=\"#NA\",\"#NA\",IF(Table1[[#This Row],[Non HZ Employee]]=Table1[[#This Row],[Max calc]],\"Non HZ Employee\", Table1[[#This Row],[Calc 2]]))","v":"#NA"}]
[719,null,719,{"$nulls":5},{"$f":"SUM(Table1[[#This Row],[Column4]]+Table1[[#This Row],[Column3]]+Table1[[#This Row],[Column2]]+Table1[[#This Row],[Column1]])","v":0},{"$nulls":5},{"$f":"SUM(Table1[[#This Row],[PO Employee]:[Other Employee]])","v":0},"N",{"$error":"#N/A"},{"$f":"IF(O736>39,Table1[[#This Row],[Calc 1]],IF(O736>1,\"Not counted as an Employee\",\"#NA\"))","v":"#NA"},{"$f":"MAX(Table1[[#This Row],[PO Employee]],Table1[[#This Row],[Other HZ Employee]],Table1[[#This Row],[Non HZ Employee]],Table1[[#This Row],[Job Site Employee]],Table1[[#This Row],[Other Employee]])","v":0},{"$f":"IF(Table1[[#This Row],[Total Hours per Month]]=Table1[[#This Row],[Column12]],\"Match\",\"Error\")","v":"Match"},{"$f":"IF(Table1[[#This Row],[Calc 2]]=\"#NA\",\"#NA\",IF(Table1[[#This Row],[Non HZ Employee]]=Table1[[#This Row],[Max calc]],\"Non HZ Employee\", Table1[[#This Row],[Calc 2]]))","v":"#NA"}]
[720,null,720,{"$nulls":5},{"$f":"SUM(Table1[[#This Row],[Column4]]+Table1[[#This Row],[Column3]]+Table1[[#This Row],[Column2]]+Table1[[#This Row],[Column1]])","v":0},{"$nulls":5},{"$f":"SUM(Table1[[#This Row],[PO Employee]:[Other Employee]])","v":0},"N",{"$error":"#N/A"},{"$f":"IF(O737>39,Table1[[#This Row],[Calc 1]],IF(O737>1,\"Not counted as an Employee\",\"#NA\"))","v":"#NA"},{"$f":"MAX(Table1[[#This Row],[PO Employee]],Table1[[#This Row],[Other HZ Employee]],Table1[[#This Row],[Non HZ Employee]],Table1[[#This Row],[Job Site Employee]],Table1[[#This Row],[Other Employee]])","v":0},{"$f":"IF(Table1[[#This Row],[Total Hours per Month]]=Table1[[#This Row],[Column12]],\"Match\",\"Error\")","v":"Match"},{"$f":"IF(Table1[[#This Row],[Calc 2]]=\"#NA\",\"#NA\",IF(Table1[[#This Row],[Non HZ Employee]]=Table1[[#This Row],[Max calc]],\"Non HZ Employee\", Table1[[#This Row],[Calc 2]]))","v":"#NA"}]
[721,null,721,{"$nulls":5},{"$f":"SUM(Table1[[#This Row],[Column4]]+Table1[[#This Row],[Column3]]+Table1[[#This Row],[Column2]]+Table1[[#This Row],[Column1]])","v":0},{"$nulls":5},{"$f":"SUM(Table1[[#This Row],[PO Employee]:[Other Employee]])","v":0},"N",{"$error":"#N/A"},{"$f":"IF(O738>39,Table1[[#This Row],[Calc 1]],IF(O738>1,\"Not counted as an Employee\",\"#NA\"))","v":"#NA"},{"$f":"MAX(Table1[[#This Row],[PO Employee]],Table1[[#This Row],[Other HZ Employee]],Table1[[#This Row],[Non HZ Employee]],Table1[[#This Row],[Job Site Employee]],Table1[[#This Row],[Other Employee]])","v":0},{"$f":"IF(Table1[[#This Row],[Total Hours per Month]]=Table1[[#This Row],[Column12]],\"Match\",\"Error\")","v":"Match"},{"$f":"IF(Table1[[#This Row],[Calc 2]]=\"#NA\",\"#NA\",IF(Table1[[#This Row],[Non HZ Employee]]=Table1[[#This Row],[Max calc]],\"Non HZ Employee\", Table1[[#This Row],[Calc 2]]))","v":"#NA"}]
[722,null,722,{"$nulls":5},{"$f":"SUM(Table1[[#This Row],[Column4]]+Table1[[#This Row],[Column3]]+Table1[[#This Row],[Column2]]+Table1[[#This Row],[Column1]])","v":0},{"$nulls":5},{"$f":"SUM(Table1[[#This Row],[PO Employee]:[Other Employee]])","v":0},"N",{"$error":"#N/A"},{"$f":"IF(O739>39,Table1[[#This Row],[Calc 1]],IF(O739>1,\"Not counted as an Employee\",\"#NA\"))","v":"#NA"},{"$f":"MAX(Table1[[#This Row],[PO Employee]],Table1[[#This Row],[Other HZ Employee]],Table1[[#This Row],[Non HZ Employee]],Table1[[#This Row],[Job Site Employee]],Table1[[#This Row],[Other Employee]])","v":0},{"$f":"IF(Table1[[#This Row],[Total Hours per Month]]=Table1[[#This Row],[Column12]],\"Match\",\"Error\")","v":"Match"},{"$f":"IF(Table1[[#This Row],[Calc 2]]=\"#NA\",\"#NA\",IF(Table1[[#This Row],[Non HZ Employee]]=Table1[[#This Row],[Max calc]],\"Non HZ Employee\", Table1[[#This Row],[Calc 2]]))","v":"#NA"}]
[723,null,723,{"$nulls":5},{"$f":"SUM(Table1[[#This Row],[Column4]]+Table1[[#This Row],[Column3]]+Table1[[#This Row],[Column2]]+Table1[[#This Row],[Column1]])","v":0},{"$nulls":5},{"$f":"SUM(Table1[[#This Row],[PO Employee]:[Other Employee]])","v":0},"N",{"$error":"#N/A"},{"$f":"IF(O740>39,Table1[[#This Row],[Calc 1]],IF(O740>1,\"Not counted as an Employee\",\"#NA\"))","v":"#NA"},{"$f":"MAX(Table1[[#This Row],[PO Employee]],Table1[[#This Row],[Other HZ Employee]],Table1[[#This Row],[Non HZ Employee]],Table1[[#This Row],[Job Site Employee]],Table1[[#This Row],[Other Employee]])","v":0},{"$f":"IF(Table1[[#This Row],[Total Hours per Month]]=Table1[[#This Row],[Column12]],\"Match\",\"Error\")","v":"Match"},{"$f":"IF(Table1[[#This Row],[Calc 2]]=\"#NA\",\"#NA\",IF(Table1[[#This Row],[Non HZ Employee]]=Table1[[#This Row],[Max calc]],\"Non HZ Employee\", Table1[[#This Row],[Calc 2]]))","v":"#NA"}]
[724,null,724,{"$nulls":5},{"$f":"SUM(Table1[[#This Row],[Column4]]+Table1[[#This Row],[Column3]]+Table1[[#This Row],[Column2]]+Table1[[#This Row],[Column1]])","v":0},{"$nulls":5},{"$f":"SUM(Table1[[#This Row],[PO Employee]:[Other Employee]])","v":0},"N",{"$error":"#N/A"},{"$f":"IF(O741>39,Table1[[#This Row],[Calc 1]],IF(O741>1,\"Not counted as an Employee\",\"#NA\"))","v":"#NA"},{"$f":"MAX(Table1[[#This Row],[PO Employee]],Table1[[#This Row],[Other HZ Employee]],Table1[[#This Row],[Non HZ Employee]],Table1[[#This Row],[Job Site Employee]],Table1[[#This Row],[Other Employee]])","v":0},{"$f":"IF(Table1[[#This Row],[Total Hours per Month]]=Table1[[#This Row],[Column12]],\"Match\",\"Error\")","v":"Match"},{"$f":"IF(Table1[[#This Row],[Calc 2]]=\"#NA\",\"#NA\",IF(Table1[[#This Row],[Non HZ Employee]]=Table1[[#This Row],[Max calc]],\"Non HZ Employee\", Table1[[#This Row],[Calc 2]]))","v":"#NA"}]
[725,null,725,{"$nulls":5},{"$f":"SUM(Table1[[#This Row],[Column4]]+Table1[[#This Row],[Column3]]+Table1[[#This Row],[Column2]]+Table1[[#This Row],[Column1]])","v":0},{"$nulls":5},{"$f":"SUM(Table1[[#This Row],[PO Employee]:[Other Employee]])","v":0},"N",{"$error":"#N/A"},{"$f":"IF(O742>39,Table1[[#This Row],[Calc 1]],IF(O742>1,\"Not counted as an Employee\",\"#NA\"))","v":"#NA"},{"$f":"MAX(Table1[[#This Row],[PO Employee]],Table1[[#This Row],[Other HZ Employee]],Table1[[#This Row],[Non HZ Employee]],Table1[[#This Row],[Job Site Employee]],Table1[[#This Row],[Other Employee]])","v":0},{"$f":"IF(Table1[[#This Row],[Total Hours per Month]]=Table1[[#This Row],[Column12]],\"Match\",\"Error\")","v":"Match"},{"$f":"IF(Table1[[#This Row],[Calc 2]]=\"#NA\",\"#NA\",IF(Table1[[#This Row],[Non HZ Employee]]=Table1[[#This Row],[Max calc]],\"Non HZ Employee\", Table1[[#This Row],[Calc 2]]))","v":"#NA"}]
[726,null,726,{"$nulls":5},{"$f":"SUM(Table1[[#This Row],[Column4]]+Table1[[#This Row],[Column3]]+Table1[[#This Row],[Column2]]+Table1[[#This Row],[Column1]])","v":0},{"$nulls":5},{"$f":"SUM(Table1[[#This Row],[PO Employee]:[Other Employee]])","v":0},"N",{"$error":"#N/A"},{"$f":"IF(O743>39,Table1[[#This Row],[Calc 1]],IF(O743>1,\"Not counted as an Employee\",\"#NA\"))","v":"#NA"},{"$f":"MAX(Table1[[#This Row],[PO Employee]],Table1[[#This Row],[Other HZ Employee]],Table1[[#This Row],[Non HZ Employee]],Table1[[#This Row],[Job Site Employee]],Table1[[#This Row],[Other Employee]])","v":0},{"$f":"IF(Table1[[#This Row],[Total Hours per Month]]=Table1[[#This Row],[Column12]],\"Match\",\"Error\")","v":"Match"},{"$f":"IF(Table1[[#This Row],[Calc 2]]=\"#NA\",\"#NA\",IF(Table1[[#This Row],[Non HZ Employee]]=Table1[[#This Row],[Max calc]],\"Non HZ Employee\", Table1[[#This Row],[Calc 2]]))","v":"#NA"}]
[727,null,727,{"$nulls":5},{"$f":"SUM(Table1[[#This Row],[Column4]]+Table1[[#This Row],[Column3]]+Table1[[#This Row],[Column2]]+Table1[[#This Row],[Column1]])","v":0},{"$nulls":5},{"$f":"SUM(Table1[[#This Row],[PO Employee]:[Other Employee]])","v":0},"N",{"$error":"#N/A"},{"$f":"IF(O744>39,Table1[[#This Row],[Calc 1]],IF(O744>1,\"Not counted as an Employee\",\"#NA\"))","v":"#NA"},{"$f":"MAX(Table1[[#This Row],[PO Employee]],Table1[[#This Row],[Other HZ Employee]],Table1[[#This Row],[Non HZ Employee]],Table1[[#This Row],[Job Site Employee]],Table1[[#This Row],[Other Employee]])","v":0},{"$f":"IF(Table1[[#This Row],[Total Hours per Month]]=Table1[[#This Row],[Column12]],\"Match\",\"Error\")","v":"Match"},{"$f":"IF(Table1[[#This Row],[Calc 2]]=\"#NA\",\"#NA\",IF(Table1[[#This Row],[Non HZ Employee]]=Table1[[#This Row],[Max calc]],\"Non HZ Employee\", Table1[[#This Row],[Calc 2]]))","v":"#NA"}]
[728,null,728,{"$nulls":5},{"$f":"SUM(Table1[[#This Row],[Column4]]+Table1[[#This Row],[Column3]]+Table1[[#This Row],[Column2]]+Table1[[#This Row],[Column1]])","v":0},{"$nulls":5},{"$f":"SUM(Table1[[#This Row],[PO Employee]:[Other Employee]])","v":0},"N",{"$error":"#N/A"},{"$f":"IF(O745>39,Table1[[#This Row],[Calc 1]],IF(O745>1,\"Not counted as an Employee\",\"#NA\"))","v":"#NA"},{"$f":"MAX(Table1[[#This Row],[PO Employee]],Table1[[#This Row],[Other HZ Employee]],Table1[[#This Row],[Non HZ Employee]],Table1[[#This Row],[Job Site Employee]],Table1[[#This Row],[Other Employee]])","v":0},{"$f":"IF(Table1[[#This Row],[Total Hours per Month]]=Table1[[#This Row],[Column12]],\"Match\",\"Error\")","v":"Match"},{"$f":"IF(Table1[[#This Row],[Calc 2]]=\"#NA\",\"#NA\",IF(Table1[[#This Row],[Non HZ Employee]]=Table1[[#This Row],[Max calc]],\"Non HZ Employee\", Table1[[#This Row],[Calc 2]]))","v":"#NA"}]
[729,null,729,{"$nulls":5},{"$f":"SUM(Table1[[#This Row],[Column4]]+Table1[[#This Row],[Column3]]+Table1[[#This Row],[Column2]]+Table1[[#This Row],[Column1]])","v":0},{"$nulls":5},{"$f":"SUM(Table1[[#This Row],[PO Employee]:[Other Employee]])","v":0},"N",{"$error":"#N/A"},{"$f":"IF(O746>39,Table1[[#This Row],[Calc 1]],IF(O746>1,\"Not counted as an Employee\",\"#NA\"))","v":"#NA"},{"$f":"MAX(Table1[[#This Row],[PO Employee]],Table1[[#This Row],[Other HZ Employee]],Table1[[#This Row],[Non HZ Employee]],Table1[[#This Row],[Job Site Employee]],Table1[[#This Row],[Other Employee]])","v":0},{"$f":"IF(Table1[[#This Row],[Total Hours per Month]]=Table1[[#This Row],[Column12]],\"Match\",\"Error\")","v":"Match"},{"$f":"IF(Table1[[#This Row],[Calc 2]]=\"#NA\",\"#NA\",IF(Table1[[#This Row],[Non HZ Employee]]=Table1[[#This Row],[Max calc]],\"Non HZ Employee\", Table1[[#This Row],[Calc 2]]))","v":"#NA"}]
[730,null,730,{"$nulls":5},{"$f":"SUM(Table1[[#This Row],[Column4]]+Table1[[#This Row],[Column3]]+Table1[[#This Row],[Column2]]+Table1[[#This Row],[Column1]])","v":0},{"$nulls":5},{"$f":"SUM(Table1[[#This Row],[PO Employee]:[Other Employee]])","v":0},"N",{"$error":"#N/A"},{"$f":"IF(O747>39,Table1[[#This Row],[Calc 1]],IF(O747>1,\"Not counted as an Employee\",\"#NA\"))","v":"#NA"},{"$f":"MAX(Table1[[#This Row],[PO Employee]],Table1[[#This Row],[Other HZ Employee]],Table1[[#This Row],[Non HZ Employee]],Table1[[#This Row],[Job Site Employee]],Table1[[#This Row],[Other Employee]])","v":0},{"$f":"IF(Table1[[#This Row],[Total Hours per Month]]=Table1[[#This Row],[Column12]],\"Match\",\"Error\")","v":"Match"},{"$f":"IF(Table1[[#This Row],[Calc 2]]=\"#NA\",\"#NA\",IF(Table1[[#This Row],[Non HZ Employee]]=Table1[[#This Row],[Max calc]],\"Non HZ Employee\", Table1[[#This Row],[Calc 2]]))","v":"#NA"}]
[731,null,731,{"$nulls":5},{"$f":"SUM(Table1[[#This Row],[Column4]]+Table1[[#This Row],[Column3]]+Table1[[#This Row],[Column2]]+Table1[[#This Row],[Column1]])","v":0},{"$nulls":5},{"$f":"SUM(Table1[[#This Row],[PO Employee]:[Other Employee]])","v":0},"N",{"$error":"#N/A"},{"$f":"IF(O748>39,Table1[[#This Row],[Calc 1]],IF(O748>1,\"Not counted as an Employee\",\"#NA\"))","v":"#NA"},{"$f":"MAX(Table1[[#This Row],[PO Employee]],Table1[[#This Row],[Other HZ Employee]],Table1[[#This Row],[Non HZ Employee]],Table1[[#This Row],[Job Site Employee]],Table1[[#This Row],[Other Employee]])","v":0},{"$f":"IF(Table1[[#This Row],[Total Hours per Month]]=Table1[[#This Row],[Column12]],\"Match\",\"Error\")","v":"Match"},{"$f":"IF(Table1[[#This Row],[Calc 2]]=\"#NA\",\"#NA\",IF(Table1[[#This Row],[Non HZ Employee]]=Table1[[#This Row],[Max calc]],\"Non HZ Employee\", Table1[[#This Row],[Calc 2]]))","v":"#NA"}]
[732,null,732,{"$nulls":5},{"$f":"SUM(Table1[[#This Row],[Column4]]+Table1[[#This Row],[Column3]]+Table1[[#This Row],[Column2]]+Table1[[#This Row],[Column1]])","v":0},{"$nulls":5},{"$f":"SUM(Table1[[#This Row],[PO Employee]:[Other Employee]])","v":0},"N",{"$error":"#N/A"},{"$f":"IF(O749>39,Table1[[#This Row],[Calc 1]],IF(O749>1,\"Not counted as an Employee\",\"#NA\"))","v":"#NA"},{"$f":"MAX(Table1[[#This Row],[PO Employee]],Table1[[#This Row],[Other HZ Employee]],Table1[[#This Row],[Non HZ Employee]],Table1[[#This Row],[Job Site Employee]],Table1[[#This Row],[Other Employee]])","v":0},{"$f":"IF(Table1[[#This Row],[Total Hours per Month]]=Table1[[#This Row],[Column12]],\"Match\",\"Error\")","v":"Match"},{"$f":"IF(Table1[[#This Row],[Calc 2]]=\"#NA\",\"#NA\",IF(Table1[[#This Row],[Non HZ Employee]]=Table1[[#This Row],[Max calc]],\"Non HZ Employee\", Table1[[#This Row],[Calc 2]]))","v":"#NA"}]
[733,null,733,{"$nulls":5},{"$f":"SUM(Table1[[#This Row],[Column4]]+Table1[[#This Row],[Column3]]+Table1[[#This Row],[Column2]]+Table1[[#This Row],[Column1]])","v":0},{"$nulls":5},{"$f":"SUM(Table1[[#This Row],[PO Employee]:[Other Employee]])","v":0},"N",{"$error":"#N/A"},{"$f":"IF(O750>39,Table1[[#This Row],[Calc 1]],IF(O750>1,\"Not counted as an Employee\",\"#NA\"))","v":"#NA"},{"$f":"MAX(Table1[[#This Row],[PO Employee]],Table1[[#This Row],[Other HZ Employee]],Table1[[#This Row],[Non HZ Employee]],Table1[[#This Row],[Job Site Employee]],Table1[[#This Row],[Other Employee]])","v":0},{"$f":"IF(Table1[[#This Row],[Total Hours per Month]]=Table1[[#This Row],[Column12]],\"Match\",\"Error\")","v":"Match"},{"$f":"IF(Table1[[#This Row],[Calc 2]]=\"#NA\",\"#NA\",IF(Table1[[#This Row],[Non HZ Employee]]=Table1[[#This Row],[Max calc]],\"Non HZ Employee\", Table1[[#This Row],[Calc 2]]))","v":"#NA"}]
[734,null,734,{"$nulls":5},{"$f":"SUM(Table1[[#This Row],[Column4]]+Table1[[#This Row],[Column3]]+Table1[[#This Row],[Column2]]+Table1[[#This Row],[Column1]])","v":0},{"$nulls":5},{"$f":"SUM(Table1[[#This Row],[PO Employee]:[Other Employee]])","v":0},"N",{"$error":"#N/A"},{"$f":"IF(O751>39,Table1[[#This Row],[Calc 1]],IF(O751>1,\"Not counted as an Employee\",\"#NA\"))","v":"#NA"},{"$f":"MAX(Table1[[#This Row],[PO Employee]],Table1[[#This Row],[Other HZ Employee]],Table1[[#This Row],[Non HZ Employee]],Table1[[#This Row],[Job Site Employee]],Table1[[#This Row],[Other Employee]])","v":0},{"$f":"IF(Table1[[#This Row],[Total Hours per Month]]=Table1[[#This Row],[Column12]],\"Match\",\"Error\")","v":"Match"},{"$f":"IF(Table1[[#This Row],[Calc 2]]=\"#NA\",\"#NA\",IF(Table1[[#This Row],[Non HZ Employee]]=Table1[[#This Row],[Max calc]],\"Non HZ Employee\", Table1[[#This Row],[Calc 2]]))","v":"#NA"}]
[735,null,735,{"$nulls":5},{"$f":"SUM(Table1[[#This Row],[Column4]]+Table1[[#This Row],[Column3]]+Table1[[#This Row],[Column2]]+Table1[[#This Row],[Column1]])","v":0},{"$nulls":5},{"$f":"SUM(Table1[[#This Row],[PO Employee]:[Other Employee]])","v":0},"N",{"$error":"#N/A"},{"$f":"IF(O752>39,Table1[[#This Row],[Calc 1]],IF(O752>1,\"Not counted as an Employee\",\"#NA\"))","v":"#NA"},{"$f":"MAX(Table1[[#This Row],[PO Employee]],Table1[[#This Row],[Other HZ Employee]],Table1[[#This Row],[Non HZ Employee]],Table1[[#This Row],[Job Site Employee]],Table1[[#This Row],[Other Employee]])","v":0},{"$f":"IF(Table1[[#This Row],[Total Hours per Month]]=Table1[[#This Row],[Column12]],\"Match\",\"Error\")","v":"Match"},{"$f":"IF(Table1[[#This Row],[Calc 2]]=\"#NA\",\"#NA\",IF(Table1[[#This Row],[Non HZ Employee]]=Table1[[#This Row],[Max calc]],\"Non HZ Employee\", Table1[[#This Row],[Calc 2]]))","v":"#NA"}]
[736,null,736,{"$nulls":5},{"$f":"SUM(Table1[[#This Row],[Column4]]+Table1[[#This Row],[Column3]]+Table1[[#This Row],[Column2]]+Table1[[#This Row],[Column1]])","v":0},{"$nulls":5},{"$f":"SUM(Table1[[#This Row],[PO Employee]:[Other Employee]])","v":0},"N",{"$error":"#N/A"},{"$f":"IF(O753>39,Table1[[#This Row],[Calc 1]],IF(O753>1,\"Not counted as an Employee\",\"#NA\"))","v":"#NA"},{"$f":"MAX(Table1[[#This Row],[PO Employee]],Table1[[#This Row],[Other HZ Employee]],Table1[[#This Row],[Non HZ Employee]],Table1[[#This Row],[Job Site Employee]],Table1[[#This Row],[Other Employee]])","v":0},{"$f":"IF(Table1[[#This Row],[Total Hours per Month]]=Table1[[#This Row],[Column12]],\"Match\",\"Error\")","v":"Match"},{"$f":"IF(Table1[[#This Row],[Calc 2]]=\"#NA\",\"#NA\",IF(Table1[[#This Row],[Non HZ Employee]]=Table1[[#This Row],[Max calc]],\"Non HZ Employee\", Table1[[#This Row],[Calc 2]]))","v":"#NA"}]
[737,null,737,{"$nulls":5},{"$f":"SUM(Table1[[#This Row],[Column4]]+Table1[[#This Row],[Column3]]+Table1[[#This Row],[Column2]]+Table1[[#This Row],[Column1]])","v":0},{"$nulls":5},{"$f":"SUM(Table1[[#This Row],[PO Employee]:[Other Employee]])","v":0},"N",{"$error":"#N/A"},{"$f":"IF(O754>39,Table1[[#This Row],[Calc 1]],IF(O754>1,\"Not counted as an Employee\",\"#NA\"))","v":"#NA"},{"$f":"MAX(Table1[[#This Row],[PO Employee]],Table1[[#This Row],[Other HZ Employee]],Table1[[#This Row],[Non HZ Employee]],Table1[[#This Row],[Job Site Employee]],Table1[[#This Row],[Other Employee]])","v":0},{"$f":"IF(Table1[[#This Row],[Total Hours per Month]]=Table1[[#This Row],[Column12]],\"Match\",\"Error\")","v":"Match"},{"$f":"IF(Table1[[#This Row],[Calc 2]]=\"#NA\",\"#NA\",IF(Table1[[#This Row],[Non HZ Employee]]=Table1[[#This Row],[Max calc]],\"Non HZ Employee\", Table1[[#This Row],[Calc 2]]))","v":"#NA"}]
[738,null,738,{"$nulls":5},{"$f":"SUM(Table1[[#This Row],[Column4]]+Table1[[#This Row],[Column3]]+Table1[[#This Row],[Column2]]+Table1[[#This Row],[Column1]])","v":0},{"$nulls":5},{"$f":"SUM(Table1[[#This Row],[PO Employee]:[Other Employee]])","v":0},"N",{"$error":"#N/A"},{"$f":"IF(O755>39,Table1[[#This Row],[Calc 1]],IF(O755>1,\"Not counted as an Employee\",\"#NA\"))","v":"#NA"},{"$f":"MAX(Table1[[#This Row],[PO Employee]],Table1[[#This Row],[Other HZ Employee]],Table1[[#This Row],[Non HZ Employee]],Table1[[#This Row],[Job Site Employee]],Table1[[#This Row],[Other Employee]])","v":0},{"$f":"IF(Table1[[#This Row],[Total Hours per Month]]=Table1[[#This Row],[Column12]],\"Match\",\"Error\")","v":"Match"},{"$f":"IF(Table1[[#This Row],[Calc 2]]=\"#NA\",\"#NA\",IF(Table1[[#This Row],[Non HZ Employee]]=Table1[[#This Row],[Max calc]],\"Non HZ Employee\", Table1[[#This Row],[Calc 2]]))","v":"#NA"}]
[739,null,739,{"$nulls":5},{"$f":"SUM(Table1[[#This Row],[Column4]]+Table1[[#This Row],[Column3]]+Table1[[#This Row],[Column2]]+Table1[[#This Row],[Column1]])","v":0},{"$nulls":5},{"$f":"SUM(Table1[[#This Row],[PO Employee]:[Other Employee]])","v":0},"N",{"$error":"#N/A"},{"$f":"IF(O756>39,Table1[[#This Row],[Calc 1]],IF(O756>1,\"Not counted as an Employee\",\"#NA\"))","v":"#NA"},{"$f":"MAX(Table1[[#This Row],[PO Employee]],Table1[[#This Row],[Other HZ Employee]],Table1[[#This Row],[Non HZ Employee]],Table1[[#This Row],[Job Site Employee]],Table1[[#This Row],[Other Employee]])","v":0},{"$f":"IF(Table1[[#This Row],[Total Hours per Month]]=Table1[[#This Row],[Column12]],\"Match\",\"Error\")","v":"Match"},{"$f":"IF(Table1[[#This Row],[Calc 2]]=\"#NA\",\"#NA\",IF(Table1[[#This Row],[Non HZ Employee]]=Table1[[#This Row],[Max calc]],\"Non HZ Employee\", Table1[[#This Row],[Calc 2]]))","v":"#NA"}]
[740,null,740,{"$nulls":5},{"$f":"SUM(Table1[[#This Row],[Column4]]+Table1[[#This Row],[Column3]]+Table1[[#This Row],[Column2]]+Table1[[#This Row],[Column1]])","v":0},{"$nulls":5},{"$f":"SUM(Table1[[#This Row],[PO Employee]:[Other Employee]])","v":0},"N",{"$error":"#N/A"},{"$f":"IF(O757>39,Table1[[#This Row],[Calc 1]],IF(O757>1,\"Not counted as an Employee\",\"#NA\"))","v":"#NA"},{"$f":"MAX(Table1[[#This Row],[PO Employee]],Table1[[#This Row],[Other HZ Employee]],Table1[[#This Row],[Non HZ Employee]],Table1[[#This Row],[Job Site Employee]],Table1[[#This Row],[Other Employee]])","v":0},{"$f":"IF(Table1[[#This Row],[Total Hours per Month]]=Table1[[#This Row],[Column12]],\"Match\",\"Error\")","v":"Match"},{"$f":"IF(Table1[[#This Row],[Calc 2]]=\"#NA\",\"#NA\",IF(Table1[[#This Row],[Non HZ Employee]]=Table1[[#This Row],[Max calc]],\"Non HZ Employee\", Table1[[#This Row],[Calc 2]]))","v":"#NA"}]
[741,null,741,{"$nulls":5},{"$f":"SUM(Table1[[#This Row],[Column4]]+Table1[[#This Row],[Column3]]+Table1[[#This Row],[Column2]]+Table1[[#This Row],[Column1]])","v":0},{"$nulls":5},{"$f":"SUM(Table1[[#This Row],[PO Employee]:[Other Employee]])","v":0},"N",{"$error":"#N/A"},{"$f":"IF(O758>39,Table1[[#This Row],[Calc 1]],IF(O758>1,\"Not counted as an Employee\",\"#NA\"))","v":"#NA"},{"$f":"MAX(Table1[[#This Row],[PO Employee]],Table1[[#This Row],[Other HZ Employee]],Table1[[#This Row],[Non HZ Employee]],Table1[[#This Row],[Job Site Employee]],Table1[[#This Row],[Other Employee]])","v":0},{"$f":"IF(Table1[[#This Row],[Total Hours per Month]]=Table1[[#This Row],[Column12]],\"Match\",\"Error\")","v":"Match"},{"$f":"IF(Table1[[#This Row],[Calc 2]]=\"#NA\",\"#NA\",IF(Table1[[#This Row],[Non HZ Employee]]=Table1[[#This Row],[Max calc]],\"Non HZ Employee\", Table1[[#This Row],[Calc 2]]))","v":"#NA"}]
[742,null,742,{"$nulls":5},{"$f":"SUM(Table1[[#This Row],[Column4]]+Table1[[#This Row],[Column3]]+Table1[[#This Row],[Column2]]+Table1[[#This Row],[Column1]])","v":0},{"$nulls":5},{"$f":"SUM(Table1[[#This Row],[PO Employee]:[Other Employee]])","v":0},"N",{"$error":"#N/A"},{"$f":"IF(O759>39,Table1[[#This Row],[Calc 1]],IF(O759>1,\"Not counted as an Employee\",\"#NA\"))","v":"#NA"},{"$f":"MAX(Table1[[#This Row],[PO Employee]],Table1[[#This Row],[Other HZ Employee]],Table1[[#This Row],[Non HZ Employee]],Table1[[#This Row],[Job Site Employee]],Table1[[#This Row],[Other Employee]])","v":0},{"$f":"IF(Table1[[#This Row],[Total Hours per Month]]=Table1[[#This Row],[Column12]],\"Match\",\"Error\")","v":"Match"},{"$f":"IF(Table1[[#This Row],[Calc 2]]=\"#NA\",\"#NA\",IF(Table1[[#This Row],[Non HZ Employee]]=Table1[[#This Row],[Max calc]],\"Non HZ Employee\", Table1[[#This Row],[Calc 2]]))","v":"#NA"}]
[743,null,743,{"$nulls":5},{"$f":"SUM(Table1[[#This Row],[Column4]]+Table1[[#This Row],[Column3]]+Table1[[#This Row],[Column2]]+Table1[[#This Row],[Column1]])","v":0},{"$nulls":5},{"$f":"SUM(Table1[[#This Row],[PO Employee]:[Other Employee]])","v":0},"N",{"$error":"#N/A"},{"$f":"IF(O760>39,Table1[[#This Row],[Calc 1]],IF(O760>1,\"Not counted as an Employee\",\"#NA\"))","v":"#NA"},{"$f":"MAX(Table1[[#This Row],[PO Employee]],Table1[[#This Row],[Other HZ Employee]],Table1[[#This Row],[Non HZ Employee]],Table1[[#This Row],[Job Site Employee]],Table1[[#This Row],[Other Employee]])","v":0},{"$f":"IF(Table1[[#This Row],[Total Hours per Month]]=Table1[[#This Row],[Column12]],\"Match\",\"Error\")","v":"Match"},{"$f":"IF(Table1[[#This Row],[Calc 2]]=\"#NA\",\"#NA\",IF(Table1[[#This Row],[Non HZ Employee]]=Table1[[#This Row],[Max calc]],\"Non HZ Employee\", Table1[[#This Row],[Calc 2]]))","v":"#NA"}]
[744,null,744,{"$nulls":5},{"$f":"SUM(Table1[[#This Row],[Column4]]+Table1[[#This Row],[Column3]]+Table1[[#This Row],[Column2]]+Table1[[#This Row],[Column1]])","v":0},{"$nulls":5},{"$f":"SUM(Table1[[#This Row],[PO Employee]:[Other Employee]])","v":0},"N",{"$error":"#N/A"},{"$f":"IF(O761>39,Table1[[#This Row],[Calc 1]],IF(O761>1,\"Not counted as an Employee\",\"#NA\"))","v":"#NA"},{"$f":"MAX(Table1[[#This Row],[PO Employee]],Table1[[#This Row],[Other HZ Employee]],Table1[[#This Row],[Non HZ Employee]],Table1[[#This Row],[Job Site Employee]],Table1[[#This Row],[Other Employee]])","v":0},{"$f":"IF(Table1[[#This Row],[Total Hours per Month]]=Table1[[#This Row],[Column12]],\"Match\",\"Error\")","v":"Match"},{"$f":"IF(Table1[[#This Row],[Calc 2]]=\"#NA\",\"#NA\",IF(Table1[[#This Row],[Non HZ Employee]]=Table1[[#This Row],[Max calc]],\"Non HZ Employee\", Table1[[#This Row],[Calc 2]]))","v":"#NA"}]
[745,null,745,{"$nulls":5},{"$f":"SUM(Table1[[#This Row],[Column4]]+Table1[[#This Row],[Column3]]+Table1[[#This Row],[Column2]]+Table1[[#This Row],[Column1]])","v":0},{"$nulls":5},{"$f":"SUM(Table1[[#This Row],[PO Employee]:[Other Employee]])","v":0},"N",{"$error":"#N/A"},{"$f":"IF(O762>39,Table1[[#This Row],[Calc 1]],IF(O762>1,\"Not counted as an Employee\",\"#NA\"))","v":"#NA"},{"$f":"MAX(Table1[[#This Row],[PO Employee]],Table1[[#This Row],[Other HZ Employee]],Table1[[#This Row],[Non HZ Employee]],Table1[[#This Row],[Job Site Employee]],Table1[[#This Row],[Other Employee]])","v":0},{"$f":"IF(Table1[[#This Row],[Total Hours per Month]]=Table1[[#This Row],[Column12]],\"Match\",\"Error\")","v":"Match"},{"$f":"IF(Table1[[#This Row],[Calc 2]]=\"#NA\",\"#NA\",IF(Table1[[#This Row],[Non HZ Employee]]=Table1[[#This Row],[Max calc]],\"Non HZ Employee\", Table1[[#This Row],[Calc 2]]))","v":"#NA"}]
[746,null,746,{"$nulls":5},{"$f":"SUM(Table1[[#This Row],[Column4]]+Table1[[#This Row],[Column3]]+Table1[[#This Row],[Column2]]+Table1[[#This Row],[Column1]])","v":0},{"$nulls":5},{"$f":"SUM(Table1[[#This Row],[PO Employee]:[Other Employee]])","v":0},"N",{"$error":"#N/A"},{"$f":"IF(O763>39,Table1[[#This Row],[Calc 1]],IF(O763>1,\"Not counted as an Employee\",\"#NA\"))","v":"#NA"},{"$f":"MAX(Table1[[#This Row],[PO Employee]],Table1[[#This Row],[Other HZ Employee]],Table1[[#This Row],[Non HZ Employee]],Table1[[#This Row],[Job Site Employee]],Table1[[#This Row],[Other Employee]])","v":0},{"$f":"IF(Table1[[#This Row],[Total Hours per Month]]=Table1[[#This Row],[Column12]],\"Match\",\"Error\")","v":"Match"},{"$f":"IF(Table1[[#This Row],[Calc 2]]=\"#NA\",\"#NA\",IF(Table1[[#This Row],[Non HZ Employee]]=Table1[[#This Row],[Max calc]],\"Non HZ Employee\", Table1[[#This Row],[Calc 2]]))","v":"#NA"}]
[747,null,747,{"$nulls":5},{"$f":"SUM(Table1[[#This Row],[Column4]]+Table1[[#This Row],[Column3]]+Table1[[#This Row],[Column2]]+Table1[[#This Row],[Column1]])","v":0},{"$nulls":5},{"$f":"SUM(Table1[[#This Row],[PO Employee]:[Other Employee]])","v":0},"N",{"$error":"#N/A"},{"$f":"IF(O764>39,Table1[[#This Row],[Calc 1]],IF(O764>1,\"Not counted as an Employee\",\"#NA\"))","v":"#NA"},{"$f":"MAX(Table1[[#This Row],[PO Employee]],Table1[[#This Row],[Other HZ Employee]],Table1[[#This Row],[Non HZ Employee]],Table1[[#This Row],[Job Site Employee]],Table1[[#This Row],[Other Employee]])","v":0},{"$f":"IF(Table1[[#This Row],[Total Hours per Month]]=Table1[[#This Row],[Column12]],\"Match\",\"Error\")","v":"Match"},{"$f":"IF(Table1[[#This Row],[Calc 2]]=\"#NA\",\"#NA\",IF(Table1[[#This Row],[Non HZ Employee]]=Table1[[#This Row],[Max calc]],\"Non HZ Employee\", Table1[[#This Row],[Calc 2]]))","v":"#NA"}]
[748,null,748,{"$nulls":5},{"$f":"SUM(Table1[[#This Row],[Column4]]+Table1[[#This Row],[Column3]]+Table1[[#This Row],[Column2]]+Table1[[#This Row],[Column1]])","v":0},{"$nulls":5},{"$f":"SUM(Table1[[#This Row],[PO Employee]:[Other Employee]])","v":0},"N",{"$error":"#N/A"},{"$f":"IF(O765>39,Table1[[#This Row],[Calc 1]],IF(O765>1,\"Not counted as an Employee\",\"#NA\"))","v":"#NA"},{"$f":"MAX(Table1[[#This Row],[PO Employee]],Table1[[#This Row],[Other HZ Employee]],Table1[[#This Row],[Non HZ Employee]],Table1[[#This Row],[Job Site Employee]],Table1[[#This Row],[Other Employee]])","v":0},{"$f":"IF(Table1[[#This Row],[Total Hours per Month]]=Table1[[#This Row],[Column12]],\"Match\",\"Error\")","v":"Match"},{"$f":"IF(Table1[[#This Row],[Calc 2]]=\"#NA\",\"#NA\",IF(Table1[[#This Row],[Non HZ Employee]]=Table1[[#This Row],[Max calc]],\"Non HZ Employee\", Table1[[#This Row],[Calc 2]]))","v":"#NA"}]
[749,null,749,{"$nulls":5},{"$f":"SUM(Table1[[#This Row],[Column4]]+Table1[[#This Row],[Column3]]+Table1[[#This Row],[Column2]]+Table1[[#This Row],[Column1]])","v":0},{"$nulls":5},{"$f":"SUM(Table1[[#This Row],[PO Employee]:[Other Employee]])","v":0},"N",{"$error":"#N/A"},{"$f":"IF(O766>39,Table1[[#This Row],[Calc 1]],IF(O766>1,\"Not counted as an Employee\",\"#NA\"))","v":"#NA"},{"$f":"MAX(Table1[[#This Row],[PO Employee]],Table1[[#This Row],[Other HZ Employee]],Table1[[#This Row],[Non HZ Employee]],Table1[[#This Row],[Job Site Employee]],Table1[[#This Row],[Other Employee]])","v":0},{"$f":"IF(Table1[[#This Row],[Total Hours per Month]]=Table1[[#This Row],[Column12]],\"Match\",\"Error\")","v":"Match"},{"$f":"IF(Table1[[#This Row],[Calc 2]]=\"#NA\",\"#NA\",IF(Table1[[#This Row],[Non HZ Employee]]=Table1[[#This Row],[Max calc]],\"Non HZ Employee\", Table1[[#This Row],[Calc 2]]))","v":"#NA"}]
[750,null,750,{"$nulls":5},{"$f":"SUM(Table1[[#This Row],[Column4]]+Table1[[#This Row],[Column3]]+Table1[[#This Row],[Column2]]+Table1[[#This Row],[Column1]])","v":0},{"$nulls":5},{"$f":"SUM(Table1[[#This Row],[PO Employee]:[Other Employee]])","v":0},"N",{"$error":"#N/A"},{"$f":"IF(O767>39,Table1[[#This Row],[Calc 1]],IF(O767>1,\"Not counted as an Employee\",\"#NA\"))","v":"#NA"},{"$f":"MAX(Table1[[#This Row],[PO Employee]],Table1[[#This Row],[Other HZ Employee]],Table1[[#This Row],[Non HZ Employee]],Table1[[#This Row],[Job Site Employee]],Table1[[#This Row],[Other Employee]])","v":0},{"$f":"IF(Table1[[#This Row],[Total Hours per Month]]=Table1[[#This Row],[Column12]],\"Match\",\"Error\")","v":"Match"},{"$f":"IF(Table1[[#This Row],[Calc 2]]=\"#NA\",\"#NA\",IF(Table1[[#This Row],[Non HZ Employee]]=Table1[[#This Row],[Max calc]],\"Non HZ Employee\", Table1[[#This Row],[Calc 2]]))","v":"#NA"}]
[751,null,751,{"$nulls":5},{"$f":"SUM(Table1[[#This Row],[Column4]]+Table1[[#This Row],[Column3]]+Table1[[#This Row],[Column2]]+Table1[[#This Row],[Column1]])","v":0},{"$nulls":5},{"$f":"SUM(Table1[[#This Row],[PO Employee]:[Other Employee]])","v":0},"N",{"$error":"#N/A"},{"$f":"IF(O768>39,Table1[[#This Row],[Calc 1]],IF(O768>1,\"Not counted as an Employee\",\"#NA\"))","v":"#NA"},{"$f":"MAX(Table1[[#This Row],[PO Employee]],Table1[[#This Row],[Other HZ Employee]],Table1[[#This Row],[Non HZ Employee]],Table1[[#This Row],[Job Site Employee]],Table1[[#This Row],[Other Employee]])","v":0},{"$f":"IF(Table1[[#This Row],[Total Hours per Month]]=Table1[[#This Row],[Column12]],\"Match\",\"Error\")","v":"Match"},{"$f":"IF(Table1[[#This Row],[Calc 2]]=\"#NA\",\"#NA\",IF(Table1[[#This Row],[Non HZ Employee]]=Table1[[#This Row],[Max calc]],\"Non HZ Employee\", Table1[[#This Row],[Calc 2]]))","v":"#NA"}]
[752,null,752,{"$nulls":5},{"$f":"SUM(Table1[[#This Row],[Column4]]+Table1[[#This Row],[Column3]]+Table1[[#This Row],[Column2]]+Table1[[#This Row],[Column1]])","v":0},{"$nulls":5},{"$f":"SUM(Table1[[#This Row],[PO Employee]:[Other Employee]])","v":0},"N",{"$error":"#N/A"},{"$f":"IF(O769>39,Table1[[#This Row],[Calc 1]],IF(O769>1,\"Not counted as an Employee\",\"#NA\"))","v":"#NA"},{"$f":"MAX(Table1[[#This Row],[PO Employee]],Table1[[#This Row],[Other HZ Employee]],Table1[[#This Row],[Non HZ Employee]],Table1[[#This Row],[Job Site Employee]],Table1[[#This Row],[Other Employee]])","v":0},{"$f":"IF(Table1[[#This Row],[Total Hours per Month]]=Table1[[#This Row],[Column12]],\"Match\",\"Error\")","v":"Match"},{"$f":"IF(Table1[[#This Row],[Calc 2]]=\"#NA\",\"#NA\",IF(Table1[[#This Row],[Non HZ Employee]]=Table1[[#This Row],[Max calc]],\"Non HZ Employee\", Table1[[#This Row],[Calc 2]]))","v":"#NA"}]
[753,null,753,{"$nulls":5},{"$f":"SUM(Table1[[#This Row],[Column4]]+Table1[[#This Row],[Column3]]+Table1[[#This Row],[Column2]]+Table1[[#This Row],[Column1]])","v":0},{"$nulls":5},{"$f":"SUM(Table1[[#This Row],[PO Employee]:[Other Employee]])","v":0},"N",{"$error":"#N/A"},{"$f":"IF(O770>39,Table1[[#This Row],[Calc 1]],IF(O770>1,\"Not counted as an Employee\",\"#NA\"))","v":"#NA"},{"$f":"MAX(Table1[[#This Row],[PO Employee]],Table1[[#This Row],[Other HZ Employee]],Table1[[#This Row],[Non HZ Employee]],Table1[[#This Row],[Job Site Employee]],Table1[[#This Row],[Other Employee]])","v":0},{"$f":"IF(Table1[[#This Row],[Total Hours per Month]]=Table1[[#This Row],[Column12]],\"Match\",\"Error\")","v":"Match"},{"$f":"IF(Table1[[#This Row],[Calc 2]]=\"#NA\",\"#NA\",IF(Table1[[#This Row],[Non HZ Employee]]=Table1[[#This Row],[Max calc]],\"Non HZ Employee\", Table1[[#This Row],[Calc 2]]))","v":"#NA"}]
[754,null,754,{"$nulls":5},{"$f":"SUM(Table1[[#This Row],[Column4]]+Table1[[#This Row],[Column3]]+Table1[[#This Row],[Column2]]+Table1[[#This Row],[Column1]])","v":0},{"$nulls":5},{"$f":"SUM(Table1[[#This Row],[PO Employee]:[Other Employee]])","v":0},"N",{"$error":"#N/A"},{"$f":"IF(O771>39,Table1[[#This Row],[Calc 1]],IF(O771>1,\"Not counted as an Employee\",\"#NA\"))","v":"#NA"},{"$f":"MAX(Table1[[#This Row],[PO Employee]],Table1[[#This Row],[Other HZ Employee]],Table1[[#This Row],[Non HZ Employee]],Table1[[#This Row],[Job Site Employee]],Table1[[#This Row],[Other Employee]])","v":0},{"$f":"IF(Table1[[#This Row],[Total Hours per Month]]=Table1[[#This Row],[Column12]],\"Match\",\"Error\")","v":"Match"},{"$f":"IF(Table1[[#This Row],[Calc 2]]=\"#NA\",\"#NA\",IF(Table1[[#This Row],[Non HZ Employee]]=Table1[[#This Row],[Max calc]],\"Non HZ Employee\", Table1[[#This Row],[Calc 2]]))","v":"#NA"}]
[755,null,755,{"$nulls":5},{"$f":"SUM(Table1[[#This Row],[Column4]]+Table1[[#This Row],[Column3]]+Table1[[#This Row],[Column2]]+Table1[[#This Row],[Column1]])","v":0},{"$nulls":5},{"$f":"SUM(Table1[[#This Row],[PO Employee]:[Other Employee]])","v":0},"N",{"$error":"#N/A"},{"$f":"IF(O772>39,Table1[[#This Row],[Calc 1]],IF(O772>1,\"Not counted as an Employee\",\"#NA\"))","v":"#NA"},{"$f":"MAX(Table1[[#This Row],[PO Employee]],Table1[[#This Row],[Other HZ Employee]],Table1[[#This Row],[Non HZ Employee]],Table1[[#This Row],[Job Site Employee]],Table1[[#This Row],[Other Employee]])","v":0},{"$f":"IF(Table1[[#This Row],[Total Hours per Month]]=Table1[[#This Row],[Column12]],\"Match\",\"Error\")","v":"Match"},{"$f":"IF(Table1[[#This Row],[Calc 2]]=\"#NA\",\"#NA\",IF(Table1[[#This Row],[Non HZ Employee]]=Table1[[#This Row],[Max calc]],\"Non HZ Employee\", Table1[[#This Row],[Calc 2]]))","v":"#NA"}]
[756,null,756,{"$nulls":5},{"$f":"SUM(Table1[[#This Row],[Column4]]+Table1[[#This Row],[Column3]]+Table1[[#This Row],[Column2]]+Table1[[#This Row],[Column1]])","v":0},{"$nulls":5},{"$f":"SUM(Table1[[#This Row],[PO Employee]:[Other Employee]])","v":0},"N",{"$error":"#N/A"},{"$f":"IF(O773>39,Table1[[#This Row],[Calc 1]],IF(O773>1,\"Not counted as an Employee\",\"#NA\"))","v":"#NA"},{"$f":"MAX(Table1[[#This Row],[PO Employee]],Table1[[#This Row],[Other HZ Employee]],Table1[[#This Row],[Non HZ Employee]],Table1[[#This Row],[Job Site Employee]],Table1[[#This Row],[Other Employee]])","v":0},{"$f":"IF(Table1[[#This Row],[Total Hours per Month]]=Table1[[#This Row],[Column12]],\"Match\",\"Error\")","v":"Match"},{"$f":"IF(Table1[[#This Row],[Calc 2]]=\"#NA\",\"#NA\",IF(Table1[[#This Row],[Non HZ Employee]]=Table1[[#This Row],[Max calc]],\"Non HZ Employee\", Table1[[#This Row],[Calc 2]]))","v":"#NA"}]
[757,null,757,{"$nulls":5},{"$f":"SUM(Table1[[#This Row],[Column4]]+Table1[[#This Row],[Column3]]+Table1[[#This Row],[Column2]]+Table1[[#This Row],[Column1]])","v":0},{"$nulls":5},{"$f":"SUM(Table1[[#This Row],[PO Employee]:[Other Employee]])","v":0},"N",{"$error":"#N/A"},{"$f":"IF(O774>39,Table1[[#This Row],[Calc 1]],IF(O774>1,\"Not counted as an Employee\",\"#NA\"))","v":"#NA"},{"$f":"MAX(Table1[[#This Row],[PO Employee]],Table1[[#This Row],[Other HZ Employee]],Table1[[#This Row],[Non HZ Employee]],Table1[[#This Row],[Job Site Employee]],Table1[[#This Row],[Other Employee]])","v":0},{"$f":"IF(Table1[[#This Row],[Total Hours per Month]]=Table1[[#This Row],[Column12]],\"Match\",\"Error\")","v":"Match"},{"$f":"IF(Table1[[#This Row],[Calc 2]]=\"#NA\",\"#NA\",IF(Table1[[#This Row],[Non HZ Employee]]=Table1[[#This Row],[Max calc]],\"Non HZ Employee\", Table1[[#This Row],[Calc 2]]))","v":"#NA"}]
[758,null,758,{"$nulls":5},{"$f":"SUM(Table1[[#This Row],[Column4]]+Table1[[#This Row],[Column3]]+Table1[[#This Row],[Column2]]+Table1[[#This Row],[Column1]])","v":0},{"$nulls":5},{"$f":"SUM(Table1[[#This Row],[PO Employee]:[Other Employee]])","v":0},"N",{"$error":"#N/A"},{"$f":"IF(O775>39,Table1[[#This Row],[Calc 1]],IF(O775>1,\"Not counted as an Employee\",\"#NA\"))","v":"#NA"},{"$f":"MAX(Table1[[#This Row],[PO Employee]],Table1[[#This Row],[Other HZ Employee]],Table1[[#This Row],[Non HZ Employee]],Table1[[#This Row],[Job Site Employee]],Table1[[#This Row],[Other Employee]])","v":0},{"$f":"IF(Table1[[#This Row],[Total Hours per Month]]=Table1[[#This Row],[Column12]],\"Match\",\"Error\")","v":"Match"},{"$f":"IF(Table1[[#This Row],[Calc 2]]=\"#NA\",\"#NA\",IF(Table1[[#This Row],[Non HZ Employee]]=Table1[[#This Row],[Max calc]],\"Non HZ Employee\", Table1[[#This Row],[Calc 2]]))","v":"#NA"}]
[759,null,759,{"$nulls":5},{"$f":"SUM(Table1[[#This Row],[Column4]]+Table1[[#This Row],[Column3]]+Table1[[#This Row],[Column2]]+Table1[[#This Row],[Column1]])","v":0},{"$nulls":5},{"$f":"SUM(Table1[[#This Row],[PO Employee]:[Other Employee]])","v":0},"N",{"$error":"#N/A"},{"$f":"IF(O776>39,Table1[[#This Row],[Calc 1]],IF(O776>1,\"Not counted as an Employee\",\"#NA\"))","v":"#NA"},{"$f":"MAX(Table1[[#This Row],[PO Employee]],Table1[[#This Row],[Other HZ Employee]],Table1[[#This Row],[Non HZ Employee]],Table1[[#This Row],[Job Site Employee]],Table1[[#This Row],[Other Employee]])","v":0},{"$f":"IF(Table1[[#This Row],[Total Hours per Month]]=Table1[[#This Row],[Column12]],\"Match\",\"Error\")","v":"Match"},{"$f":"IF(Table1[[#This Row],[Calc 2]]=\"#NA\",\"#NA\",IF(Table1[[#This Row],[Non HZ Employee]]=Table1[[#This Row],[Max calc]],\"Non HZ Employee\", Table1[[#This Row],[Calc 2]]))","v":"#NA"}]
[760,null,760,{"$nulls":5},{"$f":"SUM(Table1[[#This Row],[Column4]]+Table1[[#This Row],[Column3]]+Table1[[#This Row],[Column2]]+Table1[[#This Row],[Column1]])","v":0},{"$nulls":5},{"$f":"SUM(Table1[[#This Row],[PO Employee]:[Other Employee]])","v":0},"N",{"$error":"#N/A"},{"$f":"IF(O777>39,Table1[[#This Row],[Calc 1]],IF(O777>1,\"Not counted as an Employee\",\"#NA\"))","v":"#NA"},{"$f":"MAX(Table1[[#This Row],[PO Employee]],Table1[[#This Row],[Other HZ Employee]],Table1[[#This Row],[Non HZ Employee]],Table1[[#This Row],[Job Site Employee]],Table1[[#This Row],[Other Employee]])","v":0},{"$f":"IF(Table1[[#This Row],[Total Hours per Month]]=Table1[[#This Row],[Column12]],\"Match\",\"Error\")","v":"Match"},{"$f":"IF(Table1[[#This Row],[Calc 2]]=\"#NA\",\"#NA\",IF(Table1[[#This Row],[Non HZ Employee]]=Table1[[#This Row],[Max calc]],\"Non HZ Employee\", Table1[[#This Row],[Calc 2]]))","v":"#NA"}]
[761,null,761,{"$nulls":5},{"$f":"SUM(Table1[[#This Row],[Column4]]+Table1[[#This Row],[Column3]]+Table1[[#This Row],[Column2]]+Table1[[#This Row],[Column1]])","v":0},{"$nulls":5},{"$f":"SUM(Table1[[#This Row],[PO Employee]:[Other Employee]])","v":0},"N",{"$error":"#N/A"},{"$f":"IF(O778>39,Table1[[#This Row],[Calc 1]],IF(O778>1,\"Not counted as an Employee\",\"#NA\"))","v":"#NA"},{"$f":"MAX(Table1[[#This Row],[PO Employee]],Table1[[#This Row],[Other HZ Employee]],Table1[[#This Row],[Non HZ Employee]],Table1[[#This Row],[Job Site Employee]],Table1[[#This Row],[Other Employee]])","v":0},{"$f":"IF(Table1[[#This Row],[Total Hours per Month]]=Table1[[#This Row],[Column12]],\"Match\",\"Error\")","v":"Match"},{"$f":"IF(Table1[[#This Row],[Calc 2]]=\"#NA\",\"#NA\",IF(Table1[[#This Row],[Non HZ Employee]]=Table1[[#This Row],[Max calc]],\"Non HZ Employee\", Table1[[#This Row],[Calc 2]]))","v":"#NA"}]
[762,null,762,{"$nulls":5},{"$f":"SUM(Table1[[#This Row],[Column4]]+Table1[[#This Row],[Column3]]+Table1[[#This Row],[Column2]]+Table1[[#This Row],[Column1]])","v":0},{"$nulls":5},{"$f":"SUM(Table1[[#This Row],[PO Employee]:[Other Employee]])","v":0},"N",{"$error":"#N/A"},{"$f":"IF(O779>39,Table1[[#This Row],[Calc 1]],IF(O779>1,\"Not counted as an Employee\",\"#NA\"))","v":"#NA"},{"$f":"MAX(Table1[[#This Row],[PO Employee]],Table1[[#This Row],[Other HZ Employee]],Table1[[#This Row],[Non HZ Employee]],Table1[[#This Row],[Job Site Employee]],Table1[[#This Row],[Other Employee]])","v":0},{"$f":"IF(Table1[[#This Row],[Total Hours per Month]]=Table1[[#This Row],[Column12]],\"Match\",\"Error\")","v":"Match"},{"$f":"IF(Table1[[#This Row],[Calc 2]]=\"#NA\",\"#NA\",IF(Table1[[#This Row],[Non HZ Employee]]=Table1[[#This Row],[Max calc]],\"Non HZ Employee\", Table1[[#This Row],[Calc 2]]))","v":"#NA"}]
[763,null,763,{"$nulls":5},{"$f":"SUM(Table1[[#This Row],[Column4]]+Table1[[#This Row],[Column3]]+Table1[[#This Row],[Column2]]+Table1[[#This Row],[Column1]])","v":0},{"$nulls":5},{"$f":"SUM(Table1[[#This Row],[PO Employee]:[Other Employee]])","v":0},"N",{"$error":"#N/A"},{"$f":"IF(O780>39,Table1[[#This Row],[Calc 1]],IF(O780>1,\"Not counted as an Employee\",\"#NA\"))","v":"#NA"},{"$f":"MAX(Table1[[#This Row],[PO Employee]],Table1[[#This Row],[Other HZ Employee]],Table1[[#This Row],[Non HZ Employee]],Table1[[#This Row],[Job Site Employee]],Table1[[#This Row],[Other Employee]])","v":0},{"$f":"IF(Table1[[#This Row],[Total Hours per Month]]=Table1[[#This Row],[Column12]],\"Match\",\"Error\")","v":"Match"},{"$f":"IF(Table1[[#This Row],[Calc 2]]=\"#NA\",\"#NA\",IF(Table1[[#This Row],[Non HZ Employee]]=Table1[[#This Row],[Max calc]],\"Non HZ Employee\", Table1[[#This Row],[Calc 2]]))","v":"#NA"}]
[764,null,764,{"$nulls":5},{"$f":"SUM(Table1[[#This Row],[Column4]]+Table1[[#This Row],[Column3]]+Table1[[#This Row],[Column2]]+Table1[[#This Row],[Column1]])","v":0},{"$nulls":5},{"$f":"SUM(Table1[[#This Row],[PO Employee]:[Other Employee]])","v":0},"N",{"$error":"#N/A"},{"$f":"IF(O781>39,Table1[[#This Row],[Calc 1]],IF(O781>1,\"Not counted as an Employee\",\"#NA\"))","v":"#NA"},{"$f":"MAX(Table1[[#This Row],[PO Employee]],Table1[[#This Row],[Other HZ Employee]],Table1[[#This Row],[Non HZ Employee]],Table1[[#This Row],[Job Site Employee]],Table1[[#This Row],[Other Employee]])","v":0},{"$f":"IF(Table1[[#This Row],[Total Hours per Month]]=Table1[[#This Row],[Column12]],\"Match\",\"Error\")","v":"Match"},{"$f":"IF(Table1[[#This Row],[Calc 2]]=\"#NA\",\"#NA\",IF(Table1[[#This Row],[Non HZ Employee]]=Table1[[#This Row],[Max calc]],\"Non HZ Employee\", Table1[[#This Row],[Calc 2]]))","v":"#NA"}]
[765,null,765,{"$nulls":5},{"$f":"SUM(Table1[[#This Row],[Column4]]+Table1[[#This Row],[Column3]]+Table1[[#This Row],[Column2]]+Table1[[#This Row],[Column1]])","v":0},{"$nulls":5},{"$f":"SUM(Table1[[#This Row],[PO Employee]:[Other Employee]])","v":0},"N",{"$error":"#N/A"},{"$f":"IF(O782>39,Table1[[#This Row],[Calc 1]],IF(O782>1,\"Not counted as an Employee\",\"#NA\"))","v":"#NA"},{"$f":"MAX(Table1[[#This Row],[PO Employee]],Table1[[#This Row],[Other HZ Employee]],Table1[[#This Row],[Non HZ Employee]],Table1[[#This Row],[Job Site Employee]],Table1[[#This Row],[Other Employee]])","v":0},{"$f":"IF(Table1[[#This Row],[Total Hours per Month]]=Table1[[#This Row],[Column12]],\"Match\",\"Error\")","v":"Match"},{"$f":"IF(Table1[[#This Row],[Calc 2]]=\"#NA\",\"#NA\",IF(Table1[[#This Row],[Non HZ Employee]]=Table1[[#This Row],[Max calc]],\"Non HZ Employee\", Table1[[#This Row],[Calc 2]]))","v":"#NA"}]
[766,null,766,{"$nulls":5},{"$f":"SUM(Table1[[#This Row],[Column4]]+Table1[[#This Row],[Column3]]+Table1[[#This Row],[Column2]]+Table1[[#This Row],[Column1]])","v":0},{"$nulls":5},{"$f":"SUM(Table1[[#This Row],[PO Employee]:[Other Employee]])","v":0},"N",{"$error":"#N/A"},{"$f":"IF(O783>39,Table1[[#This Row],[Calc 1]],IF(O783>1,\"Not counted as an Employee\",\"#NA\"))","v":"#NA"},{"$f":"MAX(Table1[[#This Row],[PO Employee]],Table1[[#This Row],[Other HZ Employee]],Table1[[#This Row],[Non HZ Employee]],Table1[[#This Row],[Job Site Employee]],Table1[[#This Row],[Other Employee]])","v":0},{"$f":"IF(Table1[[#This Row],[Total Hours per Month]]=Table1[[#This Row],[Column12]],\"Match\",\"Error\")","v":"Match"},{"$f":"IF(Table1[[#This Row],[Calc 2]]=\"#NA\",\"#NA\",IF(Table1[[#This Row],[Non HZ Employee]]=Table1[[#This Row],[Max calc]],\"Non HZ Employee\", Table1[[#This Row],[Calc 2]]))","v":"#NA"}]
[767,null,767,{"$nulls":5},{"$f":"SUM(Table1[[#This Row],[Column4]]+Table1[[#This Row],[Column3]]+Table1[[#This Row],[Column2]]+Table1[[#This Row],[Column1]])","v":0},{"$nulls":5},{"$f":"SUM(Table1[[#This Row],[PO Employee]:[Other Employee]])","v":0},"N",{"$error":"#N/A"},{"$f":"IF(O784>39,Table1[[#This Row],[Calc 1]],IF(O784>1,\"Not counted as an Employee\",\"#NA\"))","v":"#NA"},{"$f":"MAX(Table1[[#This Row],[PO Employee]],Table1[[#This Row],[Other HZ Employee]],Table1[[#This Row],[Non HZ Employee]],Table1[[#This Row],[Job Site Employee]],Table1[[#This Row],[Other Employee]])","v":0},{"$f":"IF(Table1[[#This Row],[Total Hours per Month]]=Table1[[#This Row],[Column12]],\"Match\",\"Error\")","v":"Match"},{"$f":"IF(Table1[[#This Row],[Calc 2]]=\"#NA\",\"#NA\",IF(Table1[[#This Row],[Non HZ Employee]]=Table1[[#This Row],[Max calc]],\"Non HZ Employee\", Table1[[#This Row],[Calc 2]]))","v":"#NA"}]
[768,null,768,{"$nulls":5},{"$f":"SUM(Table1[[#This Row],[Column4]]+Table1[[#This Row],[Column3]]+Table1[[#This Row],[Column2]]+Table1[[#This Row],[Column1]])","v":0},{"$nulls":5},{"$f":"SUM(Table1[[#This Row],[PO Employee]:[Other Employee]])","v":0},"N",{"$error":"#N/A"},{"$f":"IF(O785>39,Table1[[#This Row],[Calc 1]],IF(O785>1,\"Not counted as an Employee\",\"#NA\"))","v":"#NA"},{"$f":"MAX(Table1[[#This Row],[PO Employee]],Table1[[#This Row],[Other HZ Employee]],Table1[[#This Row],[Non HZ Employee]],Table1[[#This Row],[Job Site Employee]],Table1[[#This Row],[Other Employee]])","v":0},{"$f":"IF(Table1[[#This Row],[Total Hours per Month]]=Table1[[#This Row],[Column12]],\"Match\",\"Error\")","v":"Match"},{"$f":"IF(Table1[[#This Row],[Calc 2]]=\"#NA\",\"#NA\",IF(Table1[[#This Row],[Non HZ Employee]]=Table1[[#This Row],[Max calc]],\"Non HZ Employee\", Table1[[#This Row],[Calc 2]]))","v":"#NA"}]
[769,null,769,{"$nulls":5},{"$f":"SUM(Table1[[#This Row],[Column4]]+Table1[[#This Row],[Column3]]+Table1[[#This Row],[Column2]]+Table1[[#This Row],[Column1]])","v":0},{"$nulls":5},{"$f":"SUM(Table1[[#This Row],[PO Employee]:[Other Employee]])","v":0},"N",{"$f":"INDEX($J$17:$N$17,MATCH(MAX(J786:N786),J786:N786,0))","v":{"$error":"#N/A"}},{"$f":"IF(O786>39,Table1[[#This Row],[Calc 1]],IF(O786>1,\"Not counted as an Employee\",\"#NA\"))","v":"#NA"},{"$f":"MAX(Table1[[#This Row],[PO Employee]],Table1[[#This Row],[Other HZ Employee]],Table1[[#This Row],[Non HZ Employee]],Table1[[#This Row],[Job Site Employee]],Table1[[#This Row],[Other Employee]])","v":0},{"$f":"IF(Table1[[#This Row],[Total Hours per Month]]=Table1[[#This Row],[Column12]],\"Match\",\"Error\")","v":"Match"},{"$f":"IF(Table1[[#This Row],[Calc 2]]=\"#NA\",\"#NA\",IF(Table1[[#This Row],[Non HZ Employee]]=Table1[[#This Row],[Max calc]],\"Non HZ Employee\", Table1[[#This Row],[Calc 2]]))","v":"#NA"}]
[770,null,770,{"$nulls":5},{"$f":"SUM(Table1[[#This Row],[Column4]]+Table1[[#This Row],[Column3]]+Table1[[#This Row],[Column2]]+Table1[[#This Row],[Column1]])","v":0},{"$nulls":5},{"$f":"SUM(Table1[[#This Row],[PO Employee]:[Other Employee]])","v":0},{"$f":"IF(O787>=40,\"Y\",\"N\")","v":"N"},{"$error":"#N/A"},{"$f":"IF(O787>39,Table1[[#This Row],[Calc 1]],IF(O787>1,\"Not counted as an Employee\",\"#NA\"))","v":"#NA"},{"$f":"MAX(Table1[[#This Row],[PO Employee]],Table1[[#This Row],[Other HZ Employee]],Table1[[#This Row],[Non HZ Employee]],Table1[[#This Row],[Job Site Employee]],Table1[[#This Row],[Other Employee]])","v":0},{"$f":"IF(Table1[[#This Row],[Total Hours per Month]]=Table1[[#This Row],[Column12]],\"Match\",\"Error\")","v":"Match"},{"$f":"IF(Table1[[#This Row],[Calc 2]]=\"#NA\",\"#NA\",IF(Table1[[#This Row],[Non HZ Employee]]=Table1[[#This Row],[Max calc]],\"Non HZ Employee\", Table1[[#This Row],[Calc 2]]))","v":"#NA"}]
[771,null,771,{"$nulls":5},{"$f":"SUM(Table1[[#This Row],[Column4]]+Table1[[#This Row],[Column3]]+Table1[[#This Row],[Column2]]+Table1[[#This Row],[Column1]])","v":0},{"$nulls":5},{"$f":"SUM(Table1[[#This Row],[PO Employee]:[Other Employee]])","v":0},"N",{"$error":"#N/A"},{"$f":"IF(O788>39,Table1[[#This Row],[Calc 1]],IF(O788>1,\"Not counted as an Employee\",\"#NA\"))","v":"#NA"},{"$f":"MAX(Table1[[#This Row],[PO Employee]],Table1[[#This Row],[Other HZ Employee]],Table1[[#This Row],[Non HZ Employee]],Table1[[#This Row],[Job Site Employee]],Table1[[#This Row],[Other Employee]])","v":0},{"$f":"IF(Table1[[#This Row],[Total Hours per Month]]=Table1[[#This Row],[Column12]],\"Match\",\"Error\")","v":"Match"},{"$f":"IF(Table1[[#This Row],[Calc 2]]=\"#NA\",\"#NA\",IF(Table1[[#This Row],[Non HZ Employee]]=Table1[[#This Row],[Max calc]],\"Non HZ Employee\", Table1[[#This Row],[Calc 2]]))","v":"#NA"}]
[772,null,772,{"$nulls":5},{"$f":"SUM(Table1[[#This Row],[Column4]]+Table1[[#This Row],[Column3]]+Table1[[#This Row],[Column2]]+Table1[[#This Row],[Column1]])","v":0},{"$nulls":5},{"$f":"SUM(Table1[[#This Row],[PO Employee]:[Other Employee]])","v":0},"N",{"$error":"#N/A"},{"$f":"IF(O789>39,Table1[[#This Row],[Calc 1]],IF(O789>1,\"Not counted as an Employee\",\"#NA\"))","v":"#NA"},{"$f":"MAX(Table1[[#This Row],[PO Employee]],Table1[[#This Row],[Other HZ Employee]],Table1[[#This Row],[Non HZ Employee]],Table1[[#This Row],[Job Site Employee]],Table1[[#This Row],[Other Employee]])","v":0},{"$f":"IF(Table1[[#This Row],[Total Hours per Month]]=Table1[[#This Row],[Column12]],\"Match\",\"Error\")","v":"Match"},{"$f":"IF(Table1[[#This Row],[Calc 2]]=\"#NA\",\"#NA\",IF(Table1[[#This Row],[Non HZ Employee]]=Table1[[#This Row],[Max calc]],\"Non HZ Employee\", Table1[[#This Row],[Calc 2]]))","v":"#NA"}]
[773,null,773,{"$nulls":5},{"$f":"SUM(Table1[[#This Row],[Column4]]+Table1[[#This Row],[Column3]]+Table1[[#This Row],[Column2]]+Table1[[#This Row],[Column1]])","v":0},{"$nulls":5},{"$f":"SUM(Table1[[#This Row],[PO Employee]:[Other Employee]])","v":0},"N",{"$error":"#N/A"},{"$f":"IF(O790>39,Table1[[#This Row],[Calc 1]],IF(O790>1,\"Not counted as an Employee\",\"#NA\"))","v":"#NA"},{"$f":"MAX(Table1[[#This Row],[PO Employee]],Table1[[#This Row],[Other HZ Employee]],Table1[[#This Row],[Non HZ Employee]],Table1[[#This Row],[Job Site Employee]],Table1[[#This Row],[Other Employee]])","v":0},{"$f":"IF(Table1[[#This Row],[Total Hours per Month]]=Table1[[#This Row],[Column12]],\"Match\",\"Error\")","v":"Match"},{"$f":"IF(Table1[[#This Row],[Calc 2]]=\"#NA\",\"#NA\",IF(Table1[[#This Row],[Non HZ Employee]]=Table1[[#This Row],[Max calc]],\"Non HZ Employee\", Table1[[#This Row],[Calc 2]]))","v":"#NA"}]
[774,null,774,{"$nulls":5},{"$f":"SUM(Table1[[#This Row],[Column4]]+Table1[[#This Row],[Column3]]+Table1[[#This Row],[Column2]]+Table1[[#This Row],[Column1]])","v":0},{"$nulls":5},{"$f":"SUM(Table1[[#This Row],[PO Employee]:[Other Employee]])","v":0},"N",{"$error":"#N/A"},{"$f":"IF(O791>39,Table1[[#This Row],[Calc 1]],IF(O791>1,\"Not counted as an Employee\",\"#NA\"))","v":"#NA"},{"$f":"MAX(Table1[[#This Row],[PO Employee]],Table1[[#This Row],[Other HZ Employee]],Table1[[#This Row],[Non HZ Employee]],Table1[[#This Row],[Job Site Employee]],Table1[[#This Row],[Other Employee]])","v":0},{"$f":"IF(Table1[[#This Row],[Total Hours per Month]]=Table1[[#This Row],[Column12]],\"Match\",\"Error\")","v":"Match"},{"$f":"IF(Table1[[#This Row],[Calc 2]]=\"#NA\",\"#NA\",IF(Table1[[#This Row],[Non HZ Employee]]=Table1[[#This Row],[Max calc]],\"Non HZ Employee\", Table1[[#This Row],[Calc 2]]))","v":"#NA"}]
[775,null,775,{"$nulls":5},{"$f":"SUM(Table1[[#This Row],[Column4]]+Table1[[#This Row],[Column3]]+Table1[[#This Row],[Column2]]+Table1[[#This Row],[Column1]])","v":0},{"$nulls":5},{"$f":"SUM(Table1[[#This Row],[PO Employee]:[Other Employee]])","v":0},"N",{"$error":"#N/A"},{"$f":"IF(O792>39,Table1[[#This Row],[Calc 1]],IF(O792>1,\"Not counted as an Employee\",\"#NA\"))","v":"#NA"},{"$f":"MAX(Table1[[#This Row],[PO Employee]],Table1[[#This Row],[Other HZ Employee]],Table1[[#This Row],[Non HZ Employee]],Table1[[#This Row],[Job Site Employee]],Table1[[#This Row],[Other Employee]])","v":0},{"$f":"IF(Table1[[#This Row],[Total Hours per Month]]=Table1[[#This Row],[Column12]],\"Match\",\"Error\")","v":"Match"},{"$f":"IF(Table1[[#This Row],[Calc 2]]=\"#NA\",\"#NA\",IF(Table1[[#This Row],[Non HZ Employee]]=Table1[[#This Row],[Max calc]],\"Non HZ Employee\", Table1[[#This Row],[Calc 2]]))","v":"#NA"}]
[776,null,776,{"$nulls":5},{"$f":"SUM(Table1[[#This Row],[Column4]]+Table1[[#This Row],[Column3]]+Table1[[#This Row],[Column2]]+Table1[[#This Row],[Column1]])","v":0},{"$nulls":5},{"$f":"SUM(Table1[[#This Row],[PO Employee]:[Other Employee]])","v":0},"N",{"$error":"#N/A"},{"$f":"IF(O793>39,Table1[[#This Row],[Calc 1]],IF(O793>1,\"Not counted as an Employee\",\"#NA\"))","v":"#NA"},{"$f":"MAX(Table1[[#This Row],[PO Employee]],Table1[[#This Row],[Other HZ Employee]],Table1[[#This Row],[Non HZ Employee]],Table1[[#This Row],[Job Site Employee]],Table1[[#This Row],[Other Employee]])","v":0},{"$f":"IF(Table1[[#This Row],[Total Hours per Month]]=Table1[[#This Row],[Column12]],\"Match\",\"Error\")","v":"Match"},{"$f":"IF(Table1[[#This Row],[Calc 2]]=\"#NA\",\"#NA\",IF(Table1[[#This Row],[Non HZ Employee]]=Table1[[#This Row],[Max calc]],\"Non HZ Employee\", Table1[[#This Row],[Calc 2]]))","v":"#NA"}]
[777,null,777,{"$nulls":5},{"$f":"SUM(Table1[[#This Row],[Column4]]+Table1[[#This Row],[Column3]]+Table1[[#This Row],[Column2]]+Table1[[#This Row],[Column1]])","v":0},{"$nulls":5},{"$f":"SUM(Table1[[#This Row],[PO Employee]:[Other Employee]])","v":0},"N",{"$error":"#N/A"},{"$f":"IF(O794>39,Table1[[#This Row],[Calc 1]],IF(O794>1,\"Not counted as an Employee\",\"#NA\"))","v":"#NA"},{"$f":"MAX(Table1[[#This Row],[PO Employee]],Table1[[#This Row],[Other HZ Employee]],Table1[[#This Row],[Non HZ Employee]],Table1[[#This Row],[Job Site Employee]],Table1[[#This Row],[Other Employee]])","v":0},{"$f":"IF(Table1[[#This Row],[Total Hours per Month]]=Table1[[#This Row],[Column12]],\"Match\",\"Error\")","v":"Match"},{"$f":"IF(Table1[[#This Row],[Calc 2]]=\"#NA\",\"#NA\",IF(Table1[[#This Row],[Non HZ Employee]]=Table1[[#This Row],[Max calc]],\"Non HZ Employee\", Table1[[#This Row],[Calc 2]]))","v":"#NA"}]
[778,null,778,{"$nulls":5},{"$f":"SUM(Table1[[#This Row],[Column4]]+Table1[[#This Row],[Column3]]+Table1[[#This Row],[Column2]]+Table1[[#This Row],[Column1]])","v":0},{"$nulls":5},{"$f":"SUM(Table1[[#This Row],[PO Employee]:[Other Employee]])","v":0},"N",{"$error":"#N/A"},{"$f":"IF(O795>39,Table1[[#This Row],[Calc 1]],IF(O795>1,\"Not counted as an Employee\",\"#NA\"))","v":"#NA"},{"$f":"MAX(Table1[[#This Row],[PO Employee]],Table1[[#This Row],[Other HZ Employee]],Table1[[#This Row],[Non HZ Employee]],Table1[[#This Row],[Job Site Employee]],Table1[[#This Row],[Other Employee]])","v":0},{"$f":"IF(Table1[[#This Row],[Total Hours per Month]]=Table1[[#This Row],[Column12]],\"Match\",\"Error\")","v":"Match"},{"$f":"IF(Table1[[#This Row],[Calc 2]]=\"#NA\",\"#NA\",IF(Table1[[#This Row],[Non HZ Employee]]=Table1[[#This Row],[Max calc]],\"Non HZ Employee\", Table1[[#This Row],[Calc 2]]))","v":"#NA"}]
[779,null,779,{"$nulls":5},{"$f":"SUM(Table1[[#This Row],[Column4]]+Table1[[#This Row],[Column3]]+Table1[[#This Row],[Column2]]+Table1[[#This Row],[Column1]])","v":0},{"$nulls":5},{"$f":"SUM(Table1[[#This Row],[PO Employee]:[Other Employee]])","v":0},"N",{"$error":"#N/A"},{"$f":"IF(O796>39,Table1[[#This Row],[Calc 1]],IF(O796>1,\"Not counted as an Employee\",\"#NA\"))","v":"#NA"},{"$f":"MAX(Table1[[#This Row],[PO Employee]],Table1[[#This Row],[Other HZ Employee]],Table1[[#This Row],[Non HZ Employee]],Table1[[#This Row],[Job Site Employee]],Table1[[#This Row],[Other Employee]])","v":0},{"$f":"IF(Table1[[#This Row],[Total Hours per Month]]=Table1[[#This Row],[Column12]],\"Match\",\"Error\")","v":"Match"},{"$f":"IF(Table1[[#This Row],[Calc 2]]=\"#NA\",\"#NA\",IF(Table1[[#This Row],[Non HZ Employee]]=Table1[[#This Row],[Max calc]],\"Non HZ Employee\", Table1[[#This Row],[Calc 2]]))","v":"#NA"}]
[780,null,780,{"$nulls":5},{"$f":"SUM(Table1[[#This Row],[Column4]]+Table1[[#This Row],[Column3]]+Table1[[#This Row],[Column2]]+Table1[[#This Row],[Column1]])","v":0},{"$nulls":5},{"$f":"SUM(Table1[[#This Row],[PO Employee]:[Other Employee]])","v":0},"N",{"$error":"#N/A"},{"$f":"IF(O797>39,Table1[[#This Row],[Calc 1]],IF(O797>1,\"Not counted as an Employee\",\"#NA\"))","v":"#NA"},{"$f":"MAX(Table1[[#This Row],[PO Employee]],Table1[[#This Row],[Other HZ Employee]],Table1[[#This Row],[Non HZ Employee]],Table1[[#This Row],[Job Site Employee]],Table1[[#This Row],[Other Employee]])","v":0},{"$f":"IF(Table1[[#This Row],[Total Hours per Month]]=Table1[[#This Row],[Column12]],\"Match\",\"Error\")","v":"Match"},{"$f":"IF(Table1[[#This Row],[Calc 2]]=\"#NA\",\"#NA\",IF(Table1[[#This Row],[Non HZ Employee]]=Table1[[#This Row],[Max calc]],\"Non HZ Employee\", Table1[[#This Row],[Calc 2]]))","v":"#NA"}]
[781,null,781,{"$nulls":5},{"$f":"SUM(Table1[[#This Row],[Column4]]+Table1[[#This Row],[Column3]]+Table1[[#This Row],[Column2]]+Table1[[#This Row],[Column1]])","v":0},{"$nulls":5},{"$f":"SUM(Table1[[#This Row],[PO Employee]:[Other Employee]])","v":0},"N",{"$error":"#N/A"},{"$f":"IF(O798>39,Table1[[#This Row],[Calc 1]],IF(O798>1,\"Not counted as an Employee\",\"#NA\"))","v":"#NA"},{"$f":"MAX(Table1[[#This Row],[PO Employee]],Table1[[#This Row],[Other HZ Employee]],Table1[[#This Row],[Non HZ Employee]],Table1[[#This Row],[Job Site Employee]],Table1[[#This Row],[Other Employee]])","v":0},{"$f":"IF(Table1[[#This Row],[Total Hours per Month]]=Table1[[#This Row],[Column12]],\"Match\",\"Error\")","v":"Match"},{"$f":"IF(Table1[[#This Row],[Calc 2]]=\"#NA\",\"#NA\",IF(Table1[[#This Row],[Non HZ Employee]]=Table1[[#This Row],[Max calc]],\"Non HZ Employee\", Table1[[#This Row],[Calc 2]]))","v":"#NA"}]
[782,null,782,{"$nulls":5},{"$f":"SUM(Table1[[#This Row],[Column4]]+Table1[[#This Row],[Column3]]+Table1[[#This Row],[Column2]]+Table1[[#This Row],[Column1]])","v":0},{"$nulls":5},{"$f":"SUM(Table1[[#This Row],[PO Employee]:[Other Employee]])","v":0},"N",{"$error":"#N/A"},{"$f":"IF(O799>39,Table1[[#This Row],[Calc 1]],IF(O799>1,\"Not counted as an Employee\",\"#NA\"))","v":"#NA"},{"$f":"MAX(Table1[[#This Row],[PO Employee]],Table1[[#This Row],[Other HZ Employee]],Table1[[#This Row],[Non HZ Employee]],Table1[[#This Row],[Job Site Employee]],Table1[[#This Row],[Other Employee]])","v":0},{"$f":"IF(Table1[[#This Row],[Total Hours per Month]]=Table1[[#This Row],[Column12]],\"Match\",\"Error\")","v":"Match"},{"$f":"IF(Table1[[#This Row],[Calc 2]]=\"#NA\",\"#NA\",IF(Table1[[#This Row],[Non HZ Employee]]=Table1[[#This Row],[Max calc]],\"Non HZ Employee\", Table1[[#This Row],[Calc 2]]))","v":"#NA"}]
[783,null,783,{"$nulls":5},{"$f":"SUM(Table1[[#This Row],[Column4]]+Table1[[#This Row],[Column3]]+Table1[[#This Row],[Column2]]+Table1[[#This Row],[Column1]])","v":0},{"$nulls":5},{"$f":"SUM(Table1[[#This Row],[PO Employee]:[Other Employee]])","v":0},"N",{"$error":"#N/A"},{"$f":"IF(O800>39,Table1[[#This Row],[Calc 1]],IF(O800>1,\"Not counted as an Employee\",\"#NA\"))","v":"#NA"},{"$f":"MAX(Table1[[#This Row],[PO Employee]],Table1[[#This Row],[Other HZ Employee]],Table1[[#This Row],[Non HZ Employee]],Table1[[#This Row],[Job Site Employee]],Table1[[#This Row],[Other Employee]])","v":0},{"$f":"IF(Table1[[#This Row],[Total Hours per Month]]=Table1[[#This Row],[Column12]],\"Match\",\"Error\")","v":"Match"},{"$f":"IF(Table1[[#This Row],[Calc 2]]=\"#NA\",\"#NA\",IF(Table1[[#This Row],[Non HZ Employee]]=Table1[[#This Row],[Max calc]],\"Non HZ Employee\", Table1[[#This Row],[Calc 2]]))","v":"#NA"}]
[784,null,784,{"$nulls":5},{"$f":"SUM(Table1[[#This Row],[Column4]]+Table1[[#This Row],[Column3]]+Table1[[#This Row],[Column2]]+Table1[[#This Row],[Column1]])","v":0},{"$nulls":5},{"$f":"SUM(Table1[[#This Row],[PO Employee]:[Other Employee]])","v":0},"N",{"$error":"#N/A"},{"$f":"IF(O801>39,Table1[[#This Row],[Calc 1]],IF(O801>1,\"Not counted as an Employee\",\"#NA\"))","v":"#NA"},{"$f":"MAX(Table1[[#This Row],[PO Employee]],Table1[[#This Row],[Other HZ Employee]],Table1[[#This Row],[Non HZ Employee]],Table1[[#This Row],[Job Site Employee]],Table1[[#This Row],[Other Employee]])","v":0},{"$f":"IF(Table1[[#This Row],[Total Hours per Month]]=Table1[[#This Row],[Column12]],\"Match\",\"Error\")","v":"Match"},{"$f":"IF(Table1[[#This Row],[Calc 2]]=\"#NA\",\"#NA\",IF(Table1[[#This Row],[Non HZ Employee]]=Table1[[#This Row],[Max calc]],\"Non HZ Employee\", Table1[[#This Row],[Calc 2]]))","v":"#NA"}]
[785,null,785,{"$nulls":5},{"$f":"SUM(Table1[[#This Row],[Column4]]+Table1[[#This Row],[Column3]]+Table1[[#This Row],[Column2]]+Table1[[#This Row],[Column1]])","v":0},{"$nulls":5},{"$f":"SUM(Table1[[#This Row],[PO Employee]:[Other Employee]])","v":0},"N",{"$error":"#N/A"},{"$f":"IF(O802>39,Table1[[#This Row],[Calc 1]],IF(O802>1,\"Not counted as an Employee\",\"#NA\"))","v":"#NA"},{"$f":"MAX(Table1[[#This Row],[PO Employee]],Table1[[#This Row],[Other HZ Employee]],Table1[[#This Row],[Non HZ Employee]],Table1[[#This Row],[Job Site Employee]],Table1[[#This Row],[Other Employee]])","v":0},{"$f":"IF(Table1[[#This Row],[Total Hours per Month]]=Table1[[#This Row],[Column12]],\"Match\",\"Error\")","v":"Match"},{"$f":"IF(Table1[[#This Row],[Calc 2]]=\"#NA\",\"#NA\",IF(Table1[[#This Row],[Non HZ Employee]]=Table1[[#This Row],[Max calc]],\"Non HZ Employee\", Table1[[#This Row],[Calc 2]]))","v":"#NA"}]
[786,null,786,{"$nulls":5},{"$f":"SUM(Table1[[#This Row],[Column4]]+Table1[[#This Row],[Column3]]+Table1[[#This Row],[Column2]]+Table1[[#This Row],[Column1]])","v":0},{"$nulls":5},{"$f":"SUM(Table1[[#This Row],[PO Employee]:[Other Employee]])","v":0},"N",{"$error":"#N/A"},{"$f":"IF(O803>39,Table1[[#This Row],[Calc 1]],IF(O803>1,\"Not counted as an Employee\",\"#NA\"))","v":"#NA"},{"$f":"MAX(Table1[[#This Row],[PO Employee]],Table1[[#This Row],[Other HZ Employee]],Table1[[#This Row],[Non HZ Employee]],Table1[[#This Row],[Job Site Employee]],Table1[[#This Row],[Other Employee]])","v":0},{"$f":"IF(Table1[[#This Row],[Total Hours per Month]]=Table1[[#This Row],[Column12]],\"Match\",\"Error\")","v":"Match"},{"$f":"IF(Table1[[#This Row],[Calc 2]]=\"#NA\",\"#NA\",IF(Table1[[#This Row],[Non HZ Employee]]=Table1[[#This Row],[Max calc]],\"Non HZ Employee\", Table1[[#This Row],[Calc 2]]))","v":"#NA"}]
[787,null,787,{"$nulls":5},{"$f":"SUM(Table1[[#This Row],[Column4]]+Table1[[#This Row],[Column3]]+Table1[[#This Row],[Column2]]+Table1[[#This Row],[Column1]])","v":0},{"$nulls":5},{"$f":"SUM(Table1[[#This Row],[PO Employee]:[Other Employee]])","v":0},"N",{"$error":"#N/A"},{"$f":"IF(O804>39,Table1[[#This Row],[Calc 1]],IF(O804>1,\"Not counted as an Employee\",\"#NA\"))","v":"#NA"},{"$f":"MAX(Table1[[#This Row],[PO Employee]],Table1[[#This Row],[Other HZ Employee]],Table1[[#This Row],[Non HZ Employee]],Table1[[#This Row],[Job Site Employee]],Table1[[#This Row],[Other Employee]])","v":0},{"$f":"IF(Table1[[#This Row],[Total Hours per Month]]=Table1[[#This Row],[Column12]],\"Match\",\"Error\")","v":"Match"},{"$f":"IF(Table1[[#This Row],[Calc 2]]=\"#NA\",\"#NA\",IF(Table1[[#This Row],[Non HZ Employee]]=Table1[[#This Row],[Max calc]],\"Non HZ Employee\", Table1[[#This Row],[Calc 2]]))","v":"#NA"}]
[788,null,788,{"$nulls":5},{"$f":"SUM(Table1[[#This Row],[Column4]]+Table1[[#This Row],[Column3]]+Table1[[#This Row],[Column2]]+Table1[[#This Row],[Column1]])","v":0},{"$nulls":5},{"$f":"SUM(Table1[[#This Row],[PO Employee]:[Other Employee]])","v":0},"N",{"$error":"#N/A"},{"$f":"IF(O805>39,Table1[[#This Row],[Calc 1]],IF(O805>1,\"Not counted as an Employee\",\"#NA\"))","v":"#NA"},{"$f":"MAX(Table1[[#This Row],[PO Employee]],Table1[[#This Row],[Other HZ Employee]],Table1[[#This Row],[Non HZ Employee]],Table1[[#This Row],[Job Site Employee]],Table1[[#This Row],[Other Employee]])","v":0},{"$f":"IF(Table1[[#This Row],[Total Hours per Month]]=Table1[[#This Row],[Column12]],\"Match\",\"Error\")","v":"Match"},{"$f":"IF(Table1[[#This Row],[Calc 2]]=\"#NA\",\"#NA\",IF(Table1[[#This Row],[Non HZ Employee]]=Table1[[#This Row],[Max calc]],\"Non HZ Employee\", Table1[[#This Row],[Calc 2]]))","v":"#NA"}]
[789,null,789,{"$nulls":5},{"$f":"SUM(Table1[[#This Row],[Column4]]+Table1[[#This Row],[Column3]]+Table1[[#This Row],[Column2]]+Table1[[#This Row],[Column1]])","v":0},{"$nulls":5},{"$f":"SUM(Table1[[#This Row],[PO Employee]:[Other Employee]])","v":0},"N",{"$error":"#N/A"},{"$f":"IF(O806>39,Table1[[#This Row],[Calc 1]],IF(O806>1,\"Not counted as an Employee\",\"#NA\"))","v":"#NA"},{"$f":"MAX(Table1[[#This Row],[PO Employee]],Table1[[#This Row],[Other HZ Employee]],Table1[[#This Row],[Non HZ Employee]],Table1[[#This Row],[Job Site Employee]],Table1[[#This Row],[Other Employee]])","v":0},{"$f":"IF(Table1[[#This Row],[Total Hours per Month]]=Table1[[#This Row],[Column12]],\"Match\",\"Error\")","v":"Match"},{"$f":"IF(Table1[[#This Row],[Calc 2]]=\"#NA\",\"#NA\",IF(Table1[[#This Row],[Non HZ Employee]]=Table1[[#This Row],[Max calc]],\"Non HZ Employee\", Table1[[#This Row],[Calc 2]]))","v":"#NA"}]
[790,null,790,{"$nulls":5},{"$f":"SUM(Table1[[#This Row],[Column4]]+Table1[[#This Row],[Column3]]+Table1[[#This Row],[Column2]]+Table1[[#This Row],[Column1]])","v":0},{"$nulls":5},{"$f":"SUM(Table1[[#This Row],[PO Employee]:[Other Employee]])","v":0},"N",{"$error":"#N/A"},{"$f":"IF(O807>39,Table1[[#This Row],[Calc 1]],IF(O807>1,\"Not counted as an Employee\",\"#NA\"))","v":"#NA"},{"$f":"MAX(Table1[[#This Row],[PO Employee]],Table1[[#This Row],[Other HZ Employee]],Table1[[#This Row],[Non HZ Employee]],Table1[[#This Row],[Job Site Employee]],Table1[[#This Row],[Other Employee]])","v":0},{"$f":"IF(Table1[[#This Row],[Total Hours per Month]]=Table1[[#This Row],[Column12]],\"Match\",\"Error\")","v":"Match"},{"$f":"IF(Table1[[#This Row],[Calc 2]]=\"#NA\",\"#NA\",IF(Table1[[#This Row],[Non HZ Employee]]=Table1[[#This Row],[Max calc]],\"Non HZ Employee\", Table1[[#This Row],[Calc 2]]))","v":"#NA"}]
[791,null,791,{"$nulls":5},{"$f":"SUM(Table1[[#This Row],[Column4]]+Table1[[#This Row],[Column3]]+Table1[[#This Row],[Column2]]+Table1[[#This Row],[Column1]])","v":0},{"$nulls":5},{"$f":"SUM(Table1[[#This Row],[PO Employee]:[Other Employee]])","v":0},"N",{"$error":"#N/A"},{"$f":"IF(O808>39,Table1[[#This Row],[Calc 1]],IF(O808>1,\"Not counted as an Employee\",\"#NA\"))","v":"#NA"},{"$f":"MAX(Table1[[#This Row],[PO Employee]],Table1[[#This Row],[Other HZ Employee]],Table1[[#This Row],[Non HZ Employee]],Table1[[#This Row],[Job Site Employee]],Table1[[#This Row],[Other Employee]])","v":0},{"$f":"IF(Table1[[#This Row],[Total Hours per Month]]=Table1[[#This Row],[Column12]],\"Match\",\"Error\")","v":"Match"},{"$f":"IF(Table1[[#This Row],[Calc 2]]=\"#NA\",\"#NA\",IF(Table1[[#This Row],[Non HZ Employee]]=Table1[[#This Row],[Max calc]],\"Non HZ Employee\", Table1[[#This Row],[Calc 2]]))","v":"#NA"}]
[792,null,792,{"$nulls":5},{"$f":"SUM(Table1[[#This Row],[Column4]]+Table1[[#This Row],[Column3]]+Table1[[#This Row],[Column2]]+Table1[[#This Row],[Column1]])","v":0},{"$nulls":5},{"$f":"SUM(Table1[[#This Row],[PO Employee]:[Other Employee]])","v":0},"N",{"$error":"#N/A"},{"$f":"IF(O809>39,Table1[[#This Row],[Calc 1]],IF(O809>1,\"Not counted as an Employee\",\"#NA\"))","v":"#NA"},{"$f":"MAX(Table1[[#This Row],[PO Employee]],Table1[[#This Row],[Other HZ Employee]],Table1[[#This Row],[Non HZ Employee]],Table1[[#This Row],[Job Site Employee]],Table1[[#This Row],[Other Employee]])","v":0},{"$f":"IF(Table1[[#This Row],[Total Hours per Month]]=Table1[[#This Row],[Column12]],\"Match\",\"Error\")","v":"Match"},{"$f":"IF(Table1[[#This Row],[Calc 2]]=\"#NA\",\"#NA\",IF(Table1[[#This Row],[Non HZ Employee]]=Table1[[#This Row],[Max calc]],\"Non HZ Employee\", Table1[[#This Row],[Calc 2]]))","v":"#NA"}]
[793,null,793,{"$nulls":5},{"$f":"SUM(Table1[[#This Row],[Column4]]+Table1[[#This Row],[Column3]]+Table1[[#This Row],[Column2]]+Table1[[#This Row],[Column1]])","v":0},{"$nulls":5},{"$f":"SUM(Table1[[#This Row],[PO Employee]:[Other Employee]])","v":0},"N",{"$error":"#N/A"},{"$f":"IF(O810>39,Table1[[#This Row],[Calc 1]],IF(O810>1,\"Not counted as an Employee\",\"#NA\"))","v":"#NA"},{"$f":"MAX(Table1[[#This Row],[PO Employee]],Table1[[#This Row],[Other HZ Employee]],Table1[[#This Row],[Non HZ Employee]],Table1[[#This Row],[Job Site Employee]],Table1[[#This Row],[Other Employee]])","v":0},{"$f":"IF(Table1[[#This Row],[Total Hours per Month]]=Table1[[#This Row],[Column12]],\"Match\",\"Error\")","v":"Match"},{"$f":"IF(Table1[[#This Row],[Calc 2]]=\"#NA\",\"#NA\",IF(Table1[[#This Row],[Non HZ Employee]]=Table1[[#This Row],[Max calc]],\"Non HZ Employee\", Table1[[#This Row],[Calc 2]]))","v":"#NA"}]
[794,null,794,{"$nulls":5},{"$f":"SUM(Table1[[#This Row],[Column4]]+Table1[[#This Row],[Column3]]+Table1[[#This Row],[Column2]]+Table1[[#This Row],[Column1]])","v":0},{"$nulls":5},{"$f":"SUM(Table1[[#This Row],[PO Employee]:[Other Employee]])","v":0},"N",{"$error":"#N/A"},{"$f":"IF(O811>39,Table1[[#This Row],[Calc 1]],IF(O811>1,\"Not counted as an Employee\",\"#NA\"))","v":"#NA"},{"$f":"MAX(Table1[[#This Row],[PO Employee]],Table1[[#This Row],[Other HZ Employee]],Table1[[#This Row],[Non HZ Employee]],Table1[[#This Row],[Job Site Employee]],Table1[[#This Row],[Other Employee]])","v":0},{"$f":"IF(Table1[[#This Row],[Total Hours per Month]]=Table1[[#This Row],[Column12]],\"Match\",\"Error\")","v":"Match"},{"$f":"IF(Table1[[#This Row],[Calc 2]]=\"#NA\",\"#NA\",IF(Table1[[#This Row],[Non HZ Employee]]=Table1[[#This Row],[Max calc]],\"Non HZ Employee\", Table1[[#This Row],[Calc 2]]))","v":"#NA"}]
[795,null,795,{"$nulls":5},{"$f":"SUM(Table1[[#This Row],[Column4]]+Table1[[#This Row],[Column3]]+Table1[[#This Row],[Column2]]+Table1[[#This Row],[Column1]])","v":0},{"$nulls":5},{"$f":"SUM(Table1[[#This Row],[PO Employee]:[Other Employee]])","v":0},"N",{"$error":"#N/A"},{"$f":"IF(O812>39,Table1[[#This Row],[Calc 1]],IF(O812>1,\"Not counted as an Employee\",\"#NA\"))","v":"#NA"},{"$f":"MAX(Table1[[#This Row],[PO Employee]],Table1[[#This Row],[Other HZ Employee]],Table1[[#This Row],[Non HZ Employee]],Table1[[#This Row],[Job Site Employee]],Table1[[#This Row],[Other Employee]])","v":0},{"$f":"IF(Table1[[#This Row],[Total Hours per Month]]=Table1[[#This Row],[Column12]],\"Match\",\"Error\")","v":"Match"},{"$f":"IF(Table1[[#This Row],[Calc 2]]=\"#NA\",\"#NA\",IF(Table1[[#This Row],[Non HZ Employee]]=Table1[[#This Row],[Max calc]],\"Non HZ Employee\", Table1[[#This Row],[Calc 2]]))","v":"#NA"}]
[796,null,796,{"$nulls":5},{"$f":"SUM(Table1[[#This Row],[Column4]]+Table1[[#This Row],[Column3]]+Table1[[#This Row],[Column2]]+Table1[[#This Row],[Column1]])","v":0},{"$nulls":5},{"$f":"SUM(Table1[[#This Row],[PO Employee]:[Other Employee]])","v":0},"N",{"$error":"#N/A"},{"$f":"IF(O813>39,Table1[[#This Row],[Calc 1]],IF(O813>1,\"Not counted as an Employee\",\"#NA\"))","v":"#NA"},{"$f":"MAX(Table1[[#This Row],[PO Employee]],Table1[[#This Row],[Other HZ Employee]],Table1[[#This Row],[Non HZ Employee]],Table1[[#This Row],[Job Site Employee]],Table1[[#This Row],[Other Employee]])","v":0},{"$f":"IF(Table1[[#This Row],[Total Hours per Month]]=Table1[[#This Row],[Column12]],\"Match\",\"Error\")","v":"Match"},{"$f":"IF(Table1[[#This Row],[Calc 2]]=\"#NA\",\"#NA\",IF(Table1[[#This Row],[Non HZ Employee]]=Table1[[#This Row],[Max calc]],\"Non HZ Employee\", Table1[[#This Row],[Calc 2]]))","v":"#NA"}]
[797,null,797,{"$nulls":5},{"$f":"SUM(Table1[[#This Row],[Column4]]+Table1[[#This Row],[Column3]]+Table1[[#This Row],[Column2]]+Table1[[#This Row],[Column1]])","v":0},{"$nulls":5},{"$f":"SUM(Table1[[#This Row],[PO Employee]:[Other Employee]])","v":0},"N",{"$error":"#N/A"},{"$f":"IF(O814>39,Table1[[#This Row],[Calc 1]],IF(O814>1,\"Not counted as an Employee\",\"#NA\"))","v":"#NA"},{"$f":"MAX(Table1[[#This Row],[PO Employee]],Table1[[#This Row],[Other HZ Employee]],Table1[[#This Row],[Non HZ Employee]],Table1[[#This Row],[Job Site Employee]],Table1[[#This Row],[Other Employee]])","v":0},{"$f":"IF(Table1[[#This Row],[Total Hours per Month]]=Table1[[#This Row],[Column12]],\"Match\",\"Error\")","v":"Match"},{"$f":"IF(Table1[[#This Row],[Calc 2]]=\"#NA\",\"#NA\",IF(Table1[[#This Row],[Non HZ Employee]]=Table1[[#This Row],[Max calc]],\"Non HZ Employee\", Table1[[#This Row],[Calc 2]]))","v":"#NA"}]
[798,null,798,{"$nulls":5},{"$f":"SUM(Table1[[#This Row],[Column4]]+Table1[[#This Row],[Column3]]+Table1[[#This Row],[Column2]]+Table1[[#This Row],[Column1]])","v":0},{"$nulls":5},{"$f":"SUM(Table1[[#This Row],[PO Employee]:[Other Employee]])","v":0},"N",{"$error":"#N/A"},{"$f":"IF(O815>39,Table1[[#This Row],[Calc 1]],IF(O815>1,\"Not counted as an Employee\",\"#NA\"))","v":"#NA"},{"$f":"MAX(Table1[[#This Row],[PO Employee]],Table1[[#This Row],[Other HZ Employee]],Table1[[#This Row],[Non HZ Employee]],Table1[[#This Row],[Job Site Employee]],Table1[[#This Row],[Other Employee]])","v":0},{"$f":"IF(Table1[[#This Row],[Total Hours per Month]]=Table1[[#This Row],[Column12]],\"Match\",\"Error\")","v":"Match"},{"$f":"IF(Table1[[#This Row],[Calc 2]]=\"#NA\",\"#NA\",IF(Table1[[#This Row],[Non HZ Employee]]=Table1[[#This Row],[Max calc]],\"Non HZ Employee\", Table1[[#This Row],[Calc 2]]))","v":"#NA"}]
[799,null,799,{"$nulls":5},{"$f":"SUM(Table1[[#This Row],[Column4]]+Table1[[#This Row],[Column3]]+Table1[[#This Row],[Column2]]+Table1[[#This Row],[Column1]])","v":0},{"$nulls":5},{"$f":"SUM(Table1[[#This Row],[PO Employee]:[Other Employee]])","v":0},"N",{"$error":"#N/A"},{"$f":"IF(O816>39,Table1[[#This Row],[Calc 1]],IF(O816>1,\"Not counted as an Employee\",\"#NA\"))","v":"#NA"},{"$f":"MAX(Table1[[#This Row],[PO Employee]],Table1[[#This Row],[Other HZ Employee]],Table1[[#This Row],[Non HZ Employee]],Table1[[#This Row],[Job Site Employee]],Table1[[#This Row],[Other Employee]])","v":0},{"$f":"IF(Table1[[#This Row],[Total Hours per Month]]=Table1[[#This Row],[Column12]],\"Match\",\"Error\")","v":"Match"},{"$f":"IF(Table1[[#This Row],[Calc 2]]=\"#NA\",\"#NA\",IF(Table1[[#This Row],[Non HZ Employee]]=Table1[[#This Row],[Max calc]],\"Non HZ Employee\", Table1[[#This Row],[Calc 2]]))","v":"#NA"}]
[800,null,800,{"$nulls":5},{"$f":"SUM(Table1[[#This Row],[Column4]]+Table1[[#This Row],[Column3]]+Table1[[#This Row],[Column2]]+Table1[[#This Row],[Column1]])","v":0},{"$nulls":5},{"$f":"SUM(Table1[[#This Row],[PO Employee]:[Other Employee]])","v":0},"N",{"$error":"#N/A"},{"$f":"IF(O817>39,Table1[[#This Row],[Calc 1]],IF(O817>1,\"Not counted as an Employee\",\"#NA\"))","v":"#NA"},{"$f":"MAX(Table1[[#This Row],[PO Employee]],Table1[[#This Row],[Other HZ Employee]],Table1[[#This Row],[Non HZ Employee]],Table1[[#This Row],[Job Site Employee]],Table1[[#This Row],[Other Employee]])","v":0},{"$f":"IF(Table1[[#This Row],[Total Hours per Month]]=Table1[[#This Row],[Column12]],\"Match\",\"Error\")","v":"Match"},{"$f":"IF(Table1[[#This Row],[Calc 2]]=\"#NA\",\"#NA\",IF(Table1[[#This Row],[Non HZ Employee]]=Table1[[#This Row],[Max calc]],\"Non HZ Employee\", Table1[[#This Row],[Calc 2]]))","v":"#NA"}]
[801,null,801,{"$nulls":5},{"$f":"SUM(Table1[[#This Row],[Column4]]+Table1[[#This Row],[Column3]]+Table1[[#This Row],[Column2]]+Table1[[#This Row],[Column1]])","v":0},{"$nulls":5},{"$f":"SUM(Table1[[#This Row],[PO Employee]:[Other Employee]])","v":0},"N",{"$error":"#N/A"},{"$f":"IF(O818>39,Table1[[#This Row],[Calc 1]],IF(O818>1,\"Not counted as an Employee\",\"#NA\"))","v":"#NA"},{"$f":"MAX(Table1[[#This Row],[PO Employee]],Table1[[#This Row],[Other HZ Employee]],Table1[[#This Row],[Non HZ Employee]],Table1[[#This Row],[Job Site Employee]],Table1[[#This Row],[Other Employee]])","v":0},{"$f":"IF(Table1[[#This Row],[Total Hours per Month]]=Table1[[#This Row],[Column12]],\"Match\",\"Error\")","v":"Match"},{"$f":"IF(Table1[[#This Row],[Calc 2]]=\"#NA\",\"#NA\",IF(Table1[[#This Row],[Non HZ Employee]]=Table1[[#This Row],[Max calc]],\"Non HZ Employee\", Table1[[#This Row],[Calc 2]]))","v":"#NA"}]
[802,null,802,{"$nulls":5},{"$f":"SUM(Table1[[#This Row],[Column4]]+Table1[[#This Row],[Column3]]+Table1[[#This Row],[Column2]]+Table1[[#This Row],[Column1]])","v":0},{"$nulls":5},{"$f":"SUM(Table1[[#This Row],[PO Employee]:[Other Employee]])","v":0},"N",{"$error":"#N/A"},{"$f":"IF(O819>39,Table1[[#This Row],[Calc 1]],IF(O819>1,\"Not counted as an Employee\",\"#NA\"))","v":"#NA"},{"$f":"MAX(Table1[[#This Row],[PO Employee]],Table1[[#This Row],[Other HZ Employee]],Table1[[#This Row],[Non HZ Employee]],Table1[[#This Row],[Job Site Employee]],Table1[[#This Row],[Other Employee]])","v":0},{"$f":"IF(Table1[[#This Row],[Total Hours per Month]]=Table1[[#This Row],[Column12]],\"Match\",\"Error\")","v":"Match"},{"$f":"IF(Table1[[#This Row],[Calc 2]]=\"#NA\",\"#NA\",IF(Table1[[#This Row],[Non HZ Employee]]=Table1[[#This Row],[Max calc]],\"Non HZ Employee\", Table1[[#This Row],[Calc 2]]))","v":"#NA"}]
[803,null,803,{"$nulls":5},{"$f":"SUM(Table1[[#This Row],[Column4]]+Table1[[#This Row],[Column3]]+Table1[[#This Row],[Column2]]+Table1[[#This Row],[Column1]])","v":0},{"$nulls":5},{"$f":"SUM(Table1[[#This Row],[PO Employee]:[Other Employee]])","v":0},"N",{"$error":"#N/A"},{"$f":"IF(O820>39,Table1[[#This Row],[Calc 1]],IF(O820>1,\"Not counted as an Employee\",\"#NA\"))","v":"#NA"},{"$f":"MAX(Table1[[#This Row],[PO Employee]],Table1[[#This Row],[Other HZ Employee]],Table1[[#This Row],[Non HZ Employee]],Table1[[#This Row],[Job Site Employee]],Table1[[#This Row],[Other Employee]])","v":0},{"$f":"IF(Table1[[#This Row],[Total Hours per Month]]=Table1[[#This Row],[Column12]],\"Match\",\"Error\")","v":"Match"},{"$f":"IF(Table1[[#This Row],[Calc 2]]=\"#NA\",\"#NA\",IF(Table1[[#This Row],[Non HZ Employee]]=Table1[[#This Row],[Max calc]],\"Non HZ Employee\", Table1[[#This Row],[Calc 2]]))","v":"#NA"}]
[804,null,804,{"$nulls":5},{"$f":"SUM(Table1[[#This Row],[Column4]]+Table1[[#This Row],[Column3]]+Table1[[#This Row],[Column2]]+Table1[[#This Row],[Column1]])","v":0},{"$nulls":5},{"$f":"SUM(Table1[[#This Row],[PO Employee]:[Other Employee]])","v":0},"N",{"$error":"#N/A"},{"$f":"IF(O821>39,Table1[[#This Row],[Calc 1]],IF(O821>1,\"Not counted as an Employee\",\"#NA\"))","v":"#NA"},{"$f":"MAX(Table1[[#This Row],[PO Employee]],Table1[[#This Row],[Other HZ Employee]],Table1[[#This Row],[Non HZ Employee]],Table1[[#This Row],[Job Site Employee]],Table1[[#This Row],[Other Employee]])","v":0},{"$f":"IF(Table1[[#This Row],[Total Hours per Month]]=Table1[[#This Row],[Column12]],\"Match\",\"Error\")","v":"Match"},{"$f":"IF(Table1[[#This Row],[Calc 2]]=\"#NA\",\"#NA\",IF(Table1[[#This Row],[Non HZ Employee]]=Table1[[#This Row],[Max calc]],\"Non HZ Employee\", Table1[[#This Row],[Calc 2]]))","v":"#NA"}]
[805,null,805,{"$nulls":5},{"$f":"SUM(Table1[[#This Row],[Column4]]+Table1[[#This Row],[Column3]]+Table1[[#This Row],[Column2]]+Table1[[#This Row],[Column1]])","v":0},{"$nulls":5},{"$f":"SUM(Table1[[#This Row],[PO Employee]:[Other Employee]])","v":0},"N",{"$error":"#N/A"},{"$f":"IF(O822>39,Table1[[#This Row],[Calc 1]],IF(O822>1,\"Not counted as an Employee\",\"#NA\"))","v":"#NA"},{"$f":"MAX(Table1[[#This Row],[PO Employee]],Table1[[#This Row],[Other HZ Employee]],Table1[[#This Row],[Non HZ Employee]],Table1[[#This Row],[Job Site Employee]],Table1[[#This Row],[Other Employee]])","v":0},{"$f":"IF(Table1[[#This Row],[Total Hours per Month]]=Table1[[#This Row],[Column12]],\"Match\",\"Error\")","v":"Match"},{"$f":"IF(Table1[[#This Row],[Calc 2]]=\"#NA\",\"#NA\",IF(Table1[[#This Row],[Non HZ Employee]]=Table1[[#This Row],[Max calc]],\"Non HZ Employee\", Table1[[#This Row],[Calc 2]]))","v":"#NA"}]
[806,null,806,{"$nulls":5},{"$f":"SUM(Table1[[#This Row],[Column4]]+Table1[[#This Row],[Column3]]+Table1[[#This Row],[Column2]]+Table1[[#This Row],[Column1]])","v":0},{"$nulls":5},{"$f":"SUM(Table1[[#This Row],[PO Employee]:[Other Employee]])","v":0},"N",{"$error":"#N/A"},{"$f":"IF(O823>39,Table1[[#This Row],[Calc 1]],IF(O823>1,\"Not counted as an Employee\",\"#NA\"))","v":"#NA"},{"$f":"MAX(Table1[[#This Row],[PO Employee]],Table1[[#This Row],[Other HZ Employee]],Table1[[#This Row],[Non HZ Employee]],Table1[[#This Row],[Job Site Employee]],Table1[[#This Row],[Other Employee]])","v":0},{"$f":"IF(Table1[[#This Row],[Total Hours per Month]]=Table1[[#This Row],[Column12]],\"Match\",\"Error\")","v":"Match"},{"$f":"IF(Table1[[#This Row],[Calc 2]]=\"#NA\",\"#NA\",IF(Table1[[#This Row],[Non HZ Employee]]=Table1[[#This Row],[Max calc]],\"Non HZ Employee\", Table1[[#This Row],[Calc 2]]))","v":"#NA"}]
[807,null,807,{"$nulls":5},{"$f":"SUM(Table1[[#This Row],[Column4]]+Table1[[#This Row],[Column3]]+Table1[[#This Row],[Column2]]+Table1[[#This Row],[Column1]])","v":0},{"$nulls":5},{"$f":"SUM(Table1[[#This Row],[PO Employee]:[Other Employee]])","v":0},"N",{"$error":"#N/A"},{"$f":"IF(O824>39,Table1[[#This Row],[Calc 1]],IF(O824>1,\"Not counted as an Employee\",\"#NA\"))","v":"#NA"},{"$f":"MAX(Table1[[#This Row],[PO Employee]],Table1[[#This Row],[Other HZ Employee]],Table1[[#This Row],[Non HZ Employee]],Table1[[#This Row],[Job Site Employee]],Table1[[#This Row],[Other Employee]])","v":0},{"$f":"IF(Table1[[#This Row],[Total Hours per Month]]=Table1[[#This Row],[Column12]],\"Match\",\"Error\")","v":"Match"},{"$f":"IF(Table1[[#This Row],[Calc 2]]=\"#NA\",\"#NA\",IF(Table1[[#This Row],[Non HZ Employee]]=Table1[[#This Row],[Max calc]],\"Non HZ Employee\", Table1[[#This Row],[Calc 2]]))","v":"#NA"}]
[808,null,808,{"$nulls":5},{"$f":"SUM(Table1[[#This Row],[Column4]]+Table1[[#This Row],[Column3]]+Table1[[#This Row],[Column2]]+Table1[[#This Row],[Column1]])","v":0},{"$nulls":5},{"$f":"SUM(Table1[[#This Row],[PO Employee]:[Other Employee]])","v":0},"N",{"$error":"#N/A"},{"$f":"IF(O825>39,Table1[[#This Row],[Calc 1]],IF(O825>1,\"Not counted as an Employee\",\"#NA\"))","v":"#NA"},{"$f":"MAX(Table1[[#This Row],[PO Employee]],Table1[[#This Row],[Other HZ Employee]],Table1[[#This Row],[Non HZ Employee]],Table1[[#This Row],[Job Site Employee]],Table1[[#This Row],[Other Employee]])","v":0},{"$f":"IF(Table1[[#This Row],[Total Hours per Month]]=Table1[[#This Row],[Column12]],\"Match\",\"Error\")","v":"Match"},{"$f":"IF(Table1[[#This Row],[Calc 2]]=\"#NA\",\"#NA\",IF(Table1[[#This Row],[Non HZ Employee]]=Table1[[#This Row],[Max calc]],\"Non HZ Employee\", Table1[[#This Row],[Calc 2]]))","v":"#NA"}]
[809,null,809,{"$nulls":5},{"$f":"SUM(Table1[[#This Row],[Column4]]+Table1[[#This Row],[Column3]]+Table1[[#This Row],[Column2]]+Table1[[#This Row],[Column1]])","v":0},{"$nulls":5},{"$f":"SUM(Table1[[#This Row],[PO Employee]:[Other Employee]])","v":0},"N",{"$error":"#N/A"},{"$f":"IF(O826>39,Table1[[#This Row],[Calc 1]],IF(O826>1,\"Not counted as an Employee\",\"#NA\"))","v":"#NA"},{"$f":"MAX(Table1[[#This Row],[PO Employee]],Table1[[#This Row],[Other HZ Employee]],Table1[[#This Row],[Non HZ Employee]],Table1[[#This Row],[Job Site Employee]],Table1[[#This Row],[Other Employee]])","v":0},{"$f":"IF(Table1[[#This Row],[Total Hours per Month]]=Table1[[#This Row],[Column12]],\"Match\",\"Error\")","v":"Match"},{"$f":"IF(Table1[[#This Row],[Calc 2]]=\"#NA\",\"#NA\",IF(Table1[[#This Row],[Non HZ Employee]]=Table1[[#This Row],[Max calc]],\"Non HZ Employee\", Table1[[#This Row],[Calc 2]]))","v":"#NA"}]
[810,null,810,{"$nulls":5},{"$f":"SUM(Table1[[#This Row],[Column4]]+Table1[[#This Row],[Column3]]+Table1[[#This Row],[Column2]]+Table1[[#This Row],[Column1]])","v":0},{"$nulls":5},{"$f":"SUM(Table1[[#This Row],[PO Employee]:[Other Employee]])","v":0},"N",{"$error":"#N/A"},{"$f":"IF(O827>39,Table1[[#This Row],[Calc 1]],IF(O827>1,\"Not counted as an Employee\",\"#NA\"))","v":"#NA"},{"$f":"MAX(Table1[[#This Row],[PO Employee]],Table1[[#This Row],[Other HZ Employee]],Table1[[#This Row],[Non HZ Employee]],Table1[[#This Row],[Job Site Employee]],Table1[[#This Row],[Other Employee]])","v":0},{"$f":"IF(Table1[[#This Row],[Total Hours per Month]]=Table1[[#This Row],[Column12]],\"Match\",\"Error\")","v":"Match"},{"$f":"IF(Table1[[#This Row],[Calc 2]]=\"#NA\",\"#NA\",IF(Table1[[#This Row],[Non HZ Employee]]=Table1[[#This Row],[Max calc]],\"Non HZ Employee\", Table1[[#This Row],[Calc 2]]))","v":"#NA"}]
[811,null,811,{"$nulls":5},{"$f":"SUM(Table1[[#This Row],[Column4]]+Table1[[#This Row],[Column3]]+Table1[[#This Row],[Column2]]+Table1[[#This Row],[Column1]])","v":0},{"$nulls":5},{"$f":"SUM(Table1[[#This Row],[PO Employee]:[Other Employee]])","v":0},"N",{"$error":"#N/A"},{"$f":"IF(O828>39,Table1[[#This Row],[Calc 1]],IF(O828>1,\"Not counted as an Employee\",\"#NA\"))","v":"#NA"},{"$f":"MAX(Table1[[#This Row],[PO Employee]],Table1[[#This Row],[Other HZ Employee]],Table1[[#This Row],[Non HZ Employee]],Table1[[#This Row],[Job Site Employee]],Table1[[#This Row],[Other Employee]])","v":0},{"$f":"IF(Table1[[#This Row],[Total Hours per Month]]=Table1[[#This Row],[Column12]],\"Match\",\"Error\")","v":"Match"},{"$f":"IF(Table1[[#This Row],[Calc 2]]=\"#NA\",\"#NA\",IF(Table1[[#This Row],[Non HZ Employee]]=Table1[[#This Row],[Max calc]],\"Non HZ Employee\", Table1[[#This Row],[Calc 2]]))","v":"#NA"}]
[812,null,812,{"$nulls":5},{"$f":"SUM(Table1[[#This Row],[Column4]]+Table1[[#This Row],[Column3]]+Table1[[#This Row],[Column2]]+Table1[[#This Row],[Column1]])","v":0},{"$nulls":5},{"$f":"SUM(Table1[[#This Row],[PO Employee]:[Other Employee]])","v":0},"N",{"$error":"#N/A"},{"$f":"IF(O829>39,Table1[[#This Row],[Calc 1]],IF(O829>1,\"Not counted as an Employee\",\"#NA\"))","v":"#NA"},{"$f":"MAX(Table1[[#This Row],[PO Employee]],Table1[[#This Row],[Other HZ Employee]],Table1[[#This Row],[Non HZ Employee]],Table1[[#This Row],[Job Site Employee]],Table1[[#This Row],[Other Employee]])","v":0},{"$f":"IF(Table1[[#This Row],[Total Hours per Month]]=Table1[[#This Row],[Column12]],\"Match\",\"Error\")","v":"Match"},{"$f":"IF(Table1[[#This Row],[Calc 2]]=\"#NA\",\"#NA\",IF(Table1[[#This Row],[Non HZ Employee]]=Table1[[#This Row],[Max calc]],\"Non HZ Employee\", Table1[[#This Row],[Calc 2]]))","v":"#NA"}]
[813,null,813,{"$nulls":5},{"$f":"SUM(Table1[[#This Row],[Column4]]+Table1[[#This Row],[Column3]]+Table1[[#This Row],[Column2]]+Table1[[#This Row],[Column1]])","v":0},{"$nulls":5},{"$f":"SUM(Table1[[#This Row],[PO Employee]:[Other Employee]])","v":0},"N",{"$error":"#N/A"},{"$f":"IF(O830>39,Table1[[#This Row],[Calc 1]],IF(O830>1,\"Not counted as an Employee\",\"#NA\"))","v":"#NA"},{"$f":"MAX(Table1[[#This Row],[PO Employee]],Table1[[#This Row],[Other HZ Employee]],Table1[[#This Row],[Non HZ Employee]],Table1[[#This Row],[Job Site Employee]],Table1[[#This Row],[Other Employee]])","v":0},{"$f":"IF(Table1[[#This Row],[Total Hours per Month]]=Table1[[#This Row],[Column12]],\"Match\",\"Error\")","v":"Match"},{"$f":"IF(Table1[[#This Row],[Calc 2]]=\"#NA\",\"#NA\",IF(Table1[[#This Row],[Non HZ Employee]]=Table1[[#This Row],[Max calc]],\"Non HZ Employee\", Table1[[#This Row],[Calc 2]]))","v":"#NA"}]
[814,null,814,{"$nulls":5},{"$f":"SUM(Table1[[#This Row],[Column4]]+Table1[[#This Row],[Column3]]+Table1[[#This Row],[Column2]]+Table1[[#This Row],[Column1]])","v":0},{"$nulls":5},{"$f":"SUM(Table1[[#This Row],[PO Employee]:[Other Employee]])","v":0},"N",{"$error":"#N/A"},{"$f":"IF(O831>39,Table1[[#This Row],[Calc 1]],IF(O831>1,\"Not counted as an Employee\",\"#NA\"))","v":"#NA"},{"$f":"MAX(Table1[[#This Row],[PO Employee]],Table1[[#This Row],[Other HZ Employee]],Table1[[#This Row],[Non HZ Employee]],Table1[[#This Row],[Job Site Employee]],Table1[[#This Row],[Other Employee]])","v":0},{"$f":"IF(Table1[[#This Row],[Total Hours per Month]]=Table1[[#This Row],[Column12]],\"Match\",\"Error\")","v":"Match"},{"$f":"IF(Table1[[#This Row],[Calc 2]]=\"#NA\",\"#NA\",IF(Table1[[#This Row],[Non HZ Employee]]=Table1[[#This Row],[Max calc]],\"Non HZ Employee\", Table1[[#This Row],[Calc 2]]))","v":"#NA"}]
[815,null,815,{"$nulls":5},{"$f":"SUM(Table1[[#This Row],[Column4]]+Table1[[#This Row],[Column3]]+Table1[[#This Row],[Column2]]+Table1[[#This Row],[Column1]])","v":0},{"$nulls":5},{"$f":"SUM(Table1[[#This Row],[PO Employee]:[Other Employee]])","v":0},"N",{"$error":"#N/A"},{"$f":"IF(O832>39,Table1[[#This Row],[Calc 1]],IF(O832>1,\"Not counted as an Employee\",\"#NA\"))","v":"#NA"},{"$f":"MAX(Table1[[#This Row],[PO Employee]],Table1[[#This Row],[Other HZ Employee]],Table1[[#This Row],[Non HZ Employee]],Table1[[#This Row],[Job Site Employee]],Table1[[#This Row],[Other Employee]])","v":0},{"$f":"IF(Table1[[#This Row],[Total Hours per Month]]=Table1[[#This Row],[Column12]],\"Match\",\"Error\")","v":"Match"},{"$f":"IF(Table1[[#This Row],[Calc 2]]=\"#NA\",\"#NA\",IF(Table1[[#This Row],[Non HZ Employee]]=Table1[[#This Row],[Max calc]],\"Non HZ Employee\", Table1[[#This Row],[Calc 2]]))","v":"#NA"}]
[816,null,816,{"$nulls":5},{"$f":"SUM(Table1[[#This Row],[Column4]]+Table1[[#This Row],[Column3]]+Table1[[#This Row],[Column2]]+Table1[[#This Row],[Column1]])","v":0},{"$nulls":5},{"$f":"SUM(Table1[[#This Row],[PO Employee]:[Other Employee]])","v":0},"N",{"$error":"#N/A"},{"$f":"IF(O833>39,Table1[[#This Row],[Calc 1]],IF(O833>1,\"Not counted as an Employee\",\"#NA\"))","v":"#NA"},{"$f":"MAX(Table1[[#This Row],[PO Employee]],Table1[[#This Row],[Other HZ Employee]],Table1[[#This Row],[Non HZ Employee]],Table1[[#This Row],[Job Site Employee]],Table1[[#This Row],[Other Employee]])","v":0},{"$f":"IF(Table1[[#This Row],[Total Hours per Month]]=Table1[[#This Row],[Column12]],\"Match\",\"Error\")","v":"Match"},{"$f":"IF(Table1[[#This Row],[Calc 2]]=\"#NA\",\"#NA\",IF(Table1[[#This Row],[Non HZ Employee]]=Table1[[#This Row],[Max calc]],\"Non HZ Employee\", Table1[[#This Row],[Calc 2]]))","v":"#NA"}]
[817,null,817,{"$nulls":5},{"$f":"SUM(Table1[[#This Row],[Column4]]+Table1[[#This Row],[Column3]]+Table1[[#This Row],[Column2]]+Table1[[#This Row],[Column1]])","v":0},{"$nulls":5},{"$f":"SUM(Table1[[#This Row],[PO Employee]:[Other Employee]])","v":0},"N",{"$error":"#N/A"},{"$f":"IF(O834>39,Table1[[#This Row],[Calc 1]],IF(O834>1,\"Not counted as an Employee\",\"#NA\"))","v":"#NA"},{"$f":"MAX(Table1[[#This Row],[PO Employee]],Table1[[#This Row],[Other HZ Employee]],Table1[[#This Row],[Non HZ Employee]],Table1[[#This Row],[Job Site Employee]],Table1[[#This Row],[Other Employee]])","v":0},{"$f":"IF(Table1[[#This Row],[Total Hours per Month]]=Table1[[#This Row],[Column12]],\"Match\",\"Error\")","v":"Match"},{"$f":"IF(Table1[[#This Row],[Calc 2]]=\"#NA\",\"#NA\",IF(Table1[[#This Row],[Non HZ Employee]]=Table1[[#This Row],[Max calc]],\"Non HZ Employee\", Table1[[#This Row],[Calc 2]]))","v":"#NA"}]
[818,null,818,{"$nulls":5},{"$f":"SUM(Table1[[#This Row],[Column4]]+Table1[[#This Row],[Column3]]+Table1[[#This Row],[Column2]]+Table1[[#This Row],[Column1]])","v":0},{"$nulls":5},{"$f":"SUM(Table1[[#This Row],[PO Employee]:[Other Employee]])","v":0},"N",{"$error":"#N/A"},{"$f":"IF(O835>39,Table1[[#This Row],[Calc 1]],IF(O835>1,\"Not counted as an Employee\",\"#NA\"))","v":"#NA"},{"$f":"MAX(Table1[[#This Row],[PO Employee]],Table1[[#This Row],[Other HZ Employee]],Table1[[#This Row],[Non HZ Employee]],Table1[[#This Row],[Job Site Employee]],Table1[[#This Row],[Other Employee]])","v":0},{"$f":"IF(Table1[[#This Row],[Total Hours per Month]]=Table1[[#This Row],[Column12]],\"Match\",\"Error\")","v":"Match"},{"$f":"IF(Table1[[#This Row],[Calc 2]]=\"#NA\",\"#NA\",IF(Table1[[#This Row],[Non HZ Employee]]=Table1[[#This Row],[Max calc]],\"Non HZ Employee\", Table1[[#This Row],[Calc 2]]))","v":"#NA"}]
[819,null,819,{"$nulls":5},{"$f":"SUM(Table1[[#This Row],[Column4]]+Table1[[#This Row],[Column3]]+Table1[[#This Row],[Column2]]+Table1[[#This Row],[Column1]])","v":0},{"$nulls":5},{"$f":"SUM(Table1[[#This Row],[PO Employee]:[Other Employee]])","v":0},"N",{"$error":"#N/A"},{"$f":"IF(O836>39,Table1[[#This Row],[Calc 1]],IF(O836>1,\"Not counted as an Employee\",\"#NA\"))","v":"#NA"},{"$f":"MAX(Table1[[#This Row],[PO Employee]],Table1[[#This Row],[Other HZ Employee]],Table1[[#This Row],[Non HZ Employee]],Table1[[#This Row],[Job Site Employee]],Table1[[#This Row],[Other Employee]])","v":0},{"$f":"IF(Table1[[#This Row],[Total Hours per Month]]=Table1[[#This Row],[Column12]],\"Match\",\"Error\")","v":"Match"},{"$f":"IF(Table1[[#This Row],[Calc 2]]=\"#NA\",\"#NA\",IF(Table1[[#This Row],[Non HZ Employee]]=Table1[[#This Row],[Max calc]],\"Non HZ Employee\", Table1[[#This Row],[Calc 2]]))","v":"#NA"}]
[820,null,820,{"$nulls":5},{"$f":"SUM(Table1[[#This Row],[Column4]]+Table1[[#This Row],[Column3]]+Table1[[#This Row],[Column2]]+Table1[[#This Row],[Column1]])","v":0},{"$nulls":5},{"$f":"SUM(Table1[[#This Row],[PO Employee]:[Other Employee]])","v":0},"N",{"$error":"#N/A"},{"$f":"IF(O837>39,Table1[[#This Row],[Calc 1]],IF(O837>1,\"Not counted as an Employee\",\"#NA\"))","v":"#NA"},{"$f":"MAX(Table1[[#This Row],[PO Employee]],Table1[[#This Row],[Other HZ Employee]],Table1[[#This Row],[Non HZ Employee]],Table1[[#This Row],[Job Site Employee]],Table1[[#This Row],[Other Employee]])","v":0},{"$f":"IF(Table1[[#This Row],[Total Hours per Month]]=Table1[[#This Row],[Column12]],\"Match\",\"Error\")","v":"Match"},{"$f":"IF(Table1[[#This Row],[Calc 2]]=\"#NA\",\"#NA\",IF(Table1[[#This Row],[Non HZ Employee]]=Table1[[#This Row],[Max calc]],\"Non HZ Employee\", Table1[[#This Row],[Calc 2]]))","v":"#NA"}]
[821,null,821,{"$nulls":5},{"$f":"SUM(Table1[[#This Row],[Column4]]+Table1[[#This Row],[Column3]]+Table1[[#This Row],[Column2]]+Table1[[#This Row],[Column1]])","v":0},{"$nulls":5},{"$f":"SUM(Table1[[#This Row],[PO Employee]:[Other Employee]])","v":0},"N",{"$error":"#N/A"},{"$f":"IF(O838>39,Table1[[#This Row],[Calc 1]],IF(O838>1,\"Not counted as an Employee\",\"#NA\"))","v":"#NA"},{"$f":"MAX(Table1[[#This Row],[PO Employee]],Table1[[#This Row],[Other HZ Employee]],Table1[[#This Row],[Non HZ Employee]],Table1[[#This Row],[Job Site Employee]],Table1[[#This Row],[Other Employee]])","v":0},{"$f":"IF(Table1[[#This Row],[Total Hours per Month]]=Table1[[#This Row],[Column12]],\"Match\",\"Error\")","v":"Match"},{"$f":"IF(Table1[[#This Row],[Calc 2]]=\"#NA\",\"#NA\",IF(Table1[[#This Row],[Non HZ Employee]]=Table1[[#This Row],[Max calc]],\"Non HZ Employee\", Table1[[#This Row],[Calc 2]]))","v":"#NA"}]
[822,null,822,{"$nulls":5},{"$f":"SUM(Table1[[#This Row],[Column4]]+Table1[[#This Row],[Column3]]+Table1[[#This Row],[Column2]]+Table1[[#This Row],[Column1]])","v":0},{"$nulls":5},{"$f":"SUM(Table1[[#This Row],[PO Employee]:[Other Employee]])","v":0},"N",{"$error":"#N/A"},{"$f":"IF(O839>39,Table1[[#This Row],[Calc 1]],IF(O839>1,\"Not counted as an Employee\",\"#NA\"))","v":"#NA"},{"$f":"MAX(Table1[[#This Row],[PO Employee]],Table1[[#This Row],[Other HZ Employee]],Table1[[#This Row],[Non HZ Employee]],Table1[[#This Row],[Job Site Employee]],Table1[[#This Row],[Other Employee]])","v":0},{"$f":"IF(Table1[[#This Row],[Total Hours per Month]]=Table1[[#This Row],[Column12]],\"Match\",\"Error\")","v":"Match"},{"$f":"IF(Table1[[#This Row],[Calc 2]]=\"#NA\",\"#NA\",IF(Table1[[#This Row],[Non HZ Employee]]=Table1[[#This Row],[Max calc]],\"Non HZ Employee\", Table1[[#This Row],[Calc 2]]))","v":"#NA"}]
[823,null,823,{"$nulls":5},{"$f":"SUM(Table1[[#This Row],[Column4]]+Table1[[#This Row],[Column3]]+Table1[[#This Row],[Column2]]+Table1[[#This Row],[Column1]])","v":0},{"$nulls":5},{"$f":"SUM(Table1[[#This Row],[PO Employee]:[Other Employee]])","v":0},"N",{"$error":"#N/A"},{"$f":"IF(O840>39,Table1[[#This Row],[Calc 1]],IF(O840>1,\"Not counted as an Employee\",\"#NA\"))","v":"#NA"},{"$f":"MAX(Table1[[#This Row],[PO Employee]],Table1[[#This Row],[Other HZ Employee]],Table1[[#This Row],[Non HZ Employee]],Table1[[#This Row],[Job Site Employee]],Table1[[#This Row],[Other Employee]])","v":0},{"$f":"IF(Table1[[#This Row],[Total Hours per Month]]=Table1[[#This Row],[Column12]],\"Match\",\"Error\")","v":"Match"},{"$f":"IF(Table1[[#This Row],[Calc 2]]=\"#NA\",\"#NA\",IF(Table1[[#This Row],[Non HZ Employee]]=Table1[[#This Row],[Max calc]],\"Non HZ Employee\", Table1[[#This Row],[Calc 2]]))","v":"#NA"}]
[824,null,824,{"$nulls":5},{"$f":"SUM(Table1[[#This Row],[Column4]]+Table1[[#This Row],[Column3]]+Table1[[#This Row],[Column2]]+Table1[[#This Row],[Column1]])","v":0},{"$nulls":5},{"$f":"SUM(Table1[[#This Row],[PO Employee]:[Other Employee]])","v":0},"N",{"$error":"#N/A"},{"$f":"IF(O841>39,Table1[[#This Row],[Calc 1]],IF(O841>1,\"Not counted as an Employee\",\"#NA\"))","v":"#NA"},{"$f":"MAX(Table1[[#This Row],[PO Employee]],Table1[[#This Row],[Other HZ Employee]],Table1[[#This Row],[Non HZ Employee]],Table1[[#This Row],[Job Site Employee]],Table1[[#This Row],[Other Employee]])","v":0},{"$f":"IF(Table1[[#This Row],[Total Hours per Month]]=Table1[[#This Row],[Column12]],\"Match\",\"Error\")","v":"Match"},{"$f":"IF(Table1[[#This Row],[Calc 2]]=\"#NA\",\"#NA\",IF(Table1[[#This Row],[Non HZ Employee]]=Table1[[#This Row],[Max calc]],\"Non HZ Employee\", Table1[[#This Row],[Calc 2]]))","v":"#NA"}]
[825,null,825,{"$nulls":5},{"$f":"SUM(Table1[[#This Row],[Column4]]+Table1[[#This Row],[Column3]]+Table1[[#This Row],[Column2]]+Table1[[#This Row],[Column1]])","v":0},{"$nulls":5},{"$f":"SUM(Table1[[#This Row],[PO Employee]:[Other Employee]])","v":0},"N",{"$error":"#N/A"},{"$f":"IF(O842>39,Table1[[#This Row],[Calc 1]],IF(O842>1,\"Not counted as an Employee\",\"#NA\"))","v":"#NA"},{"$f":"MAX(Table1[[#This Row],[PO Employee]],Table1[[#This Row],[Other HZ Employee]],Table1[[#This Row],[Non HZ Employee]],Table1[[#This Row],[Job Site Employee]],Table1[[#This Row],[Other Employee]])","v":0},{"$f":"IF(Table1[[#This Row],[Total Hours per Month]]=Table1[[#This Row],[Column12]],\"Match\",\"Error\")","v":"Match"},{"$f":"IF(Table1[[#This Row],[Calc 2]]=\"#NA\",\"#NA\",IF(Table1[[#This Row],[Non HZ Employee]]=Table1[[#This Row],[Max calc]],\"Non HZ Employee\", Table1[[#This Row],[Calc 2]]))","v":"#NA"}]
[826,null,826,{"$nulls":5},{"$f":"SUM(Table1[[#This Row],[Column4]]+Table1[[#This Row],[Column3]]+Table1[[#This Row],[Column2]]+Table1[[#This Row],[Column1]])","v":0},{"$nulls":5},{"$f":"SUM(Table1[[#This Row],[PO Employee]:[Other Employee]])","v":0},"N",{"$error":"#N/A"},{"$f":"IF(O843>39,Table1[[#This Row],[Calc 1]],IF(O843>1,\"Not counted as an Employee\",\"#NA\"))","v":"#NA"},{"$f":"MAX(Table1[[#This Row],[PO Employee]],Table1[[#This Row],[Other HZ Employee]],Table1[[#This Row],[Non HZ Employee]],Table1[[#This Row],[Job Site Employee]],Table1[[#This Row],[Other Employee]])","v":0},{"$f":"IF(Table1[[#This Row],[Total Hours per Month]]=Table1[[#This Row],[Column12]],\"Match\",\"Error\")","v":"Match"},{"$f":"IF(Table1[[#This Row],[Calc 2]]=\"#NA\",\"#NA\",IF(Table1[[#This Row],[Non HZ Employee]]=Table1[[#This Row],[Max calc]],\"Non HZ Employee\", Table1[[#This Row],[Calc 2]]))","v":"#NA"}]
[827,null,827,{"$nulls":5},{"$f":"SUM(Table1[[#This Row],[Column4]]+Table1[[#This Row],[Column3]]+Table1[[#This Row],[Column2]]+Table1[[#This Row],[Column1]])","v":0},{"$nulls":5},{"$f":"SUM(Table1[[#This Row],[PO Employee]:[Other Employee]])","v":0},"N",{"$error":"#N/A"},{"$f":"IF(O844>39,Table1[[#This Row],[Calc 1]],IF(O844>1,\"Not counted as an Employee\",\"#NA\"))","v":"#NA"},{"$f":"MAX(Table1[[#This Row],[PO Employee]],Table1[[#This Row],[Other HZ Employee]],Table1[[#This Row],[Non HZ Employee]],Table1[[#This Row],[Job Site Employee]],Table1[[#This Row],[Other Employee]])","v":0},{"$f":"IF(Table1[[#This Row],[Total Hours per Month]]=Table1[[#This Row],[Column12]],\"Match\",\"Error\")","v":"Match"},{"$f":"IF(Table1[[#This Row],[Calc 2]]=\"#NA\",\"#NA\",IF(Table1[[#This Row],[Non HZ Employee]]=Table1[[#This Row],[Max calc]],\"Non HZ Employee\", Table1[[#This Row],[Calc 2]]))","v":"#NA"}]
[828,null,828,{"$nulls":5},{"$f":"SUM(Table1[[#This Row],[Column4]]+Table1[[#This Row],[Column3]]+Table1[[#This Row],[Column2]]+Table1[[#This Row],[Column1]])","v":0},{"$nulls":5},{"$f":"SUM(Table1[[#This Row],[PO Employee]:[Other Employee]])","v":0},"N",{"$error":"#N/A"},{"$f":"IF(O845>39,Table1[[#This Row],[Calc 1]],IF(O845>1,\"Not counted as an Employee\",\"#NA\"))","v":"#NA"},{"$f":"MAX(Table1[[#This Row],[PO Employee]],Table1[[#This Row],[Other HZ Employee]],Table1[[#This Row],[Non HZ Employee]],Table1[[#This Row],[Job Site Employee]],Table1[[#This Row],[Other Employee]])","v":0},{"$f":"IF(Table1[[#This Row],[Total Hours per Month]]=Table1[[#This Row],[Column12]],\"Match\",\"Error\")","v":"Match"},{"$f":"IF(Table1[[#This Row],[Calc 2]]=\"#NA\",\"#NA\",IF(Table1[[#This Row],[Non HZ Employee]]=Table1[[#This Row],[Max calc]],\"Non HZ Employee\", Table1[[#This Row],[Calc 2]]))","v":"#NA"}]
[829,null,829,{"$nulls":5},{"$f":"SUM(Table1[[#This Row],[Column4]]+Table1[[#This Row],[Column3]]+Table1[[#This Row],[Column2]]+Table1[[#This Row],[Column1]])","v":0},{"$nulls":5},{"$f":"SUM(Table1[[#This Row],[PO Employee]:[Other Employee]])","v":0},"N",{"$error":"#N/A"},{"$f":"IF(O846>39,Table1[[#This Row],[Calc 1]],IF(O846>1,\"Not counted as an Employee\",\"#NA\"))","v":"#NA"},{"$f":"MAX(Table1[[#This Row],[PO Employee]],Table1[[#This Row],[Other HZ Employee]],Table1[[#This Row],[Non HZ Employee]],Table1[[#This Row],[Job Site Employee]],Table1[[#This Row],[Other Employee]])","v":0},{"$f":"IF(Table1[[#This Row],[Total Hours per Month]]=Table1[[#This Row],[Column12]],\"Match\",\"Error\")","v":"Match"},{"$f":"IF(Table1[[#This Row],[Calc 2]]=\"#NA\",\"#NA\",IF(Table1[[#This Row],[Non HZ Employee]]=Table1[[#This Row],[Max calc]],\"Non HZ Employee\", Table1[[#This Row],[Calc 2]]))","v":"#NA"}]
[830,null,830,{"$nulls":5},{"$f":"SUM(Table1[[#This Row],[Column4]]+Table1[[#This Row],[Column3]]+Table1[[#This Row],[Column2]]+Table1[[#This Row],[Column1]])","v":0},{"$nulls":5},{"$f":"SUM(Table1[[#This Row],[PO Employee]:[Other Employee]])","v":0},"N",{"$error":"#N/A"},{"$f":"IF(O847>39,Table1[[#This Row],[Calc 1]],IF(O847>1,\"Not counted as an Employee\",\"#NA\"))","v":"#NA"},{"$f":"MAX(Table1[[#This Row],[PO Employee]],Table1[[#This Row],[Other HZ Employee]],Table1[[#This Row],[Non HZ Employee]],Table1[[#This Row],[Job Site Employee]],Table1[[#This Row],[Other Employee]])","v":0},{"$f":"IF(Table1[[#This Row],[Total Hours per Month]]=Table1[[#This Row],[Column12]],\"Match\",\"Error\")","v":"Match"},{"$f":"IF(Table1[[#This Row],[Calc 2]]=\"#NA\",\"#NA\",IF(Table1[[#This Row],[Non HZ Employee]]=Table1[[#This Row],[Max calc]],\"Non HZ Employee\", Table1[[#This Row],[Calc 2]]))","v":"#NA"}]
[831,null,831,{"$nulls":5},{"$f":"SUM(Table1[[#This Row],[Column4]]+Table1[[#This Row],[Column3]]+Table1[[#This Row],[Column2]]+Table1[[#This Row],[Column1]])","v":0},{"$nulls":5},{"$f":"SUM(Table1[[#This Row],[PO Employee]:[Other Employee]])","v":0},"N",{"$error":"#N/A"},{"$f":"IF(O848>39,Table1[[#This Row],[Calc 1]],IF(O848>1,\"Not counted as an Employee\",\"#NA\"))","v":"#NA"},{"$f":"MAX(Table1[[#This Row],[PO Employee]],Table1[[#This Row],[Other HZ Employee]],Table1[[#This Row],[Non HZ Employee]],Table1[[#This Row],[Job Site Employee]],Table1[[#This Row],[Other Employee]])","v":0},{"$f":"IF(Table1[[#This Row],[Total Hours per Month]]=Table1[[#This Row],[Column12]],\"Match\",\"Error\")","v":"Match"},{"$f":"IF(Table1[[#This Row],[Calc 2]]=\"#NA\",\"#NA\",IF(Table1[[#This Row],[Non HZ Employee]]=Table1[[#This Row],[Max calc]],\"Non HZ Employee\", Table1[[#This Row],[Calc 2]]))","v":"#NA"}]
[832,null,832,{"$nulls":5},{"$f":"SUM(Table1[[#This Row],[Column4]]+Table1[[#This Row],[Column3]]+Table1[[#This Row],[Column2]]+Table1[[#This Row],[Column1]])","v":0},{"$nulls":5},{"$f":"SUM(Table1[[#This Row],[PO Employee]:[Other Employee]])","v":0},"N",{"$error":"#N/A"},{"$f":"IF(O849>39,Table1[[#This Row],[Calc 1]],IF(O849>1,\"Not counted as an Employee\",\"#NA\"))","v":"#NA"},{"$f":"MAX(Table1[[#This Row],[PO Employee]],Table1[[#This Row],[Other HZ Employee]],Table1[[#This Row],[Non HZ Employee]],Table1[[#This Row],[Job Site Employee]],Table1[[#This Row],[Other Employee]])","v":0},{"$f":"IF(Table1[[#This Row],[Total Hours per Month]]=Table1[[#This Row],[Column12]],\"Match\",\"Error\")","v":"Match"},{"$f":"IF(Table1[[#This Row],[Calc 2]]=\"#NA\",\"#NA\",IF(Table1[[#This Row],[Non HZ Employee]]=Table1[[#This Row],[Max calc]],\"Non HZ Employee\", Table1[[#This Row],[Calc 2]]))","v":"#NA"}]
[833,null,833,{"$nulls":5},{"$f":"SUM(Table1[[#This Row],[Column4]]+Table1[[#This Row],[Column3]]+Table1[[#This Row],[Column2]]+Table1[[#This Row],[Column1]])","v":0},{"$nulls":5},{"$f":"SUM(Table1[[#This Row],[PO Employee]:[Other Employee]])","v":0},"N",{"$f":"INDEX($J$17:$N$17,MATCH(MAX(J850:N850),J850:N850,0))","v":{"$error":"#N/A"}},{"$f":"IF(O850>39,Table1[[#This Row],[Calc 1]],IF(O850>1,\"Not counted as an Employee\",\"#NA\"))","v":"#NA"},{"$f":"MAX(Table1[[#This Row],[PO Employee]],Table1[[#This Row],[Other HZ Employee]],Table1[[#This Row],[Non HZ Employee]],Table1[[#This Row],[Job Site Employee]],Table1[[#This Row],[Other Employee]])","v":0},{"$f":"IF(Table1[[#This Row],[Total Hours per Month]]=Table1[[#This Row],[Column12]],\"Match\",\"Error\")","v":"Match"},{"$f":"IF(Table1[[#This Row],[Calc 2]]=\"#NA\",\"#NA\",IF(Table1[[#This Row],[Non HZ Employee]]=Table1[[#This Row],[Max calc]],\"Non HZ Employee\", Table1[[#This Row],[Calc 2]]))","v":"#NA"}]
[834,null,834,{"$nulls":5},{"$f":"SUM(Table1[[#This Row],[Column4]]+Table1[[#This Row],[Column3]]+Table1[[#This Row],[Column2]]+Table1[[#This Row],[Column1]])","v":0},{"$nulls":5},{"$f":"SUM(Table1[[#This Row],[PO Employee]:[Other Employee]])","v":0},{"$f":"IF(O851>=40,\"Y\",\"N\")","v":"N"},{"$error":"#N/A"},{"$f":"IF(O851>39,Table1[[#This Row],[Calc 1]],IF(O851>1,\"Not counted as an Employee\",\"#NA\"))","v":"#NA"},{"$f":"MAX(Table1[[#This Row],[PO Employee]],Table1[[#This Row],[Other HZ Employee]],Table1[[#This Row],[Non HZ Employee]],Table1[[#This Row],[Job Site Employee]],Table1[[#This Row],[Other Employee]])","v":0},{"$f":"IF(Table1[[#This Row],[Total Hours per Month]]=Table1[[#This Row],[Column12]],\"Match\",\"Error\")","v":"Match"},{"$f":"IF(Table1[[#This Row],[Calc 2]]=\"#NA\",\"#NA\",IF(Table1[[#This Row],[Non HZ Employee]]=Table1[[#This Row],[Max calc]],\"Non HZ Employee\", Table1[[#This Row],[Calc 2]]))","v":"#NA"}]
[835,null,835,{"$nulls":5},{"$f":"SUM(Table1[[#This Row],[Column4]]+Table1[[#This Row],[Column3]]+Table1[[#This Row],[Column2]]+Table1[[#This Row],[Column1]])","v":0},{"$nulls":5},{"$f":"SUM(Table1[[#This Row],[PO Employee]:[Other Employee]])","v":0},"N",{"$error":"#N/A"},{"$f":"IF(O852>39,Table1[[#This Row],[Calc 1]],IF(O852>1,\"Not counted as an Employee\",\"#NA\"))","v":"#NA"},{"$f":"MAX(Table1[[#This Row],[PO Employee]],Table1[[#This Row],[Other HZ Employee]],Table1[[#This Row],[Non HZ Employee]],Table1[[#This Row],[Job Site Employee]],Table1[[#This Row],[Other Employee]])","v":0},{"$f":"IF(Table1[[#This Row],[Total Hours per Month]]=Table1[[#This Row],[Column12]],\"Match\",\"Error\")","v":"Match"},{"$f":"IF(Table1[[#This Row],[Calc 2]]=\"#NA\",\"#NA\",IF(Table1[[#This Row],[Non HZ Employee]]=Table1[[#This Row],[Max calc]],\"Non HZ Employee\", Table1[[#This Row],[Calc 2]]))","v":"#NA"}]
[836,null,836,{"$nulls":5},{"$f":"SUM(Table1[[#This Row],[Column4]]+Table1[[#This Row],[Column3]]+Table1[[#This Row],[Column2]]+Table1[[#This Row],[Column1]])","v":0},{"$nulls":5},{"$f":"SUM(Table1[[#This Row],[PO Employee]:[Other Employee]])","v":0},"N",{"$error":"#N/A"},{"$f":"IF(O853>39,Table1[[#This Row],[Calc 1]],IF(O853>1,\"Not counted as an Employee\",\"#NA\"))","v":"#NA"},{"$f":"MAX(Table1[[#This Row],[PO Employee]],Table1[[#This Row],[Other HZ Employee]],Table1[[#This Row],[Non HZ Employee]],Table1[[#This Row],[Job Site Employee]],Table1[[#This Row],[Other Employee]])","v":0},{"$f":"IF(Table1[[#This Row],[Total Hours per Month]]=Table1[[#This Row],[Column12]],\"Match\",\"Error\")","v":"Match"},{"$f":"IF(Table1[[#This Row],[Calc 2]]=\"#NA\",\"#NA\",IF(Table1[[#This Row],[Non HZ Employee]]=Table1[[#This Row],[Max calc]],\"Non HZ Employee\", Table1[[#This Row],[Calc 2]]))","v":"#NA"}]
[837,null,837,{"$nulls":5},{"$f":"SUM(Table1[[#This Row],[Column4]]+Table1[[#This Row],[Column3]]+Table1[[#This Row],[Column2]]+Table1[[#This Row],[Column1]])","v":0},{"$nulls":5},{"$f":"SUM(Table1[[#This Row],[PO Employee]:[Other Employee]])","v":0},"N",{"$error":"#N/A"},{"$f":"IF(O854>39,Table1[[#This Row],[Calc 1]],IF(O854>1,\"Not counted as an Employee\",\"#NA\"))","v":"#NA"},{"$f":"MAX(Table1[[#This Row],[PO Employee]],Table1[[#This Row],[Other HZ Employee]],Table1[[#This Row],[Non HZ Employee]],Table1[[#This Row],[Job Site Employee]],Table1[[#This Row],[Other Employee]])","v":0},{"$f":"IF(Table1[[#This Row],[Total Hours per Month]]=Table1[[#This Row],[Column12]],\"Match\",\"Error\")","v":"Match"},{"$f":"IF(Table1[[#This Row],[Calc 2]]=\"#NA\",\"#NA\",IF(Table1[[#This Row],[Non HZ Employee]]=Table1[[#This Row],[Max calc]],\"Non HZ Employee\", Table1[[#This Row],[Calc 2]]))","v":"#NA"}]
[838,null,838,{"$nulls":5},{"$f":"SUM(Table1[[#This Row],[Column4]]+Table1[[#This Row],[Column3]]+Table1[[#This Row],[Column2]]+Table1[[#This Row],[Column1]])","v":0},{"$nulls":5},{"$f":"SUM(Table1[[#This Row],[PO Employee]:[Other Employee]])","v":0},"N",{"$error":"#N/A"},{"$f":"IF(O855>39,Table1[[#This Row],[Calc 1]],IF(O855>1,\"Not counted as an Employee\",\"#NA\"))","v":"#NA"},{"$f":"MAX(Table1[[#This Row],[PO Employee]],Table1[[#This Row],[Other HZ Employee]],Table1[[#This Row],[Non HZ Employee]],Table1[[#This Row],[Job Site Employee]],Table1[[#This Row],[Other Employee]])","v":0},{"$f":"IF(Table1[[#This Row],[Total Hours per Month]]=Table1[[#This Row],[Column12]],\"Match\",\"Error\")","v":"Match"},{"$f":"IF(Table1[[#This Row],[Calc 2]]=\"#NA\",\"#NA\",IF(Table1[[#This Row],[Non HZ Employee]]=Table1[[#This Row],[Max calc]],\"Non HZ Employee\", Table1[[#This Row],[Calc 2]]))","v":"#NA"}]
[839,null,839,{"$nulls":5},{"$f":"SUM(Table1[[#This Row],[Column4]]+Table1[[#This Row],[Column3]]+Table1[[#This Row],[Column2]]+Table1[[#This Row],[Column1]])","v":0},{"$nulls":5},{"$f":"SUM(Table1[[#This Row],[PO Employee]:[Other Employee]])","v":0},"N",{"$error":"#N/A"},{"$f":"IF(O856>39,Table1[[#This Row],[Calc 1]],IF(O856>1,\"Not counted as an Employee\",\"#NA\"))","v":"#NA"},{"$f":"MAX(Table1[[#This Row],[PO Employee]],Table1[[#This Row],[Other HZ Employee]],Table1[[#This Row],[Non HZ Employee]],Table1[[#This Row],[Job Site Employee]],Table1[[#This Row],[Other Employee]])","v":0},{"$f":"IF(Table1[[#This Row],[Total Hours per Month]]=Table1[[#This Row],[Column12]],\"Match\",\"Error\")","v":"Match"},{"$f":"IF(Table1[[#This Row],[Calc 2]]=\"#NA\",\"#NA\",IF(Table1[[#This Row],[Non HZ Employee]]=Table1[[#This Row],[Max calc]],\"Non HZ Employee\", Table1[[#This Row],[Calc 2]]))","v":"#NA"}]
[840,null,840,{"$nulls":5},{"$f":"SUM(Table1[[#This Row],[Column4]]+Table1[[#This Row],[Column3]]+Table1[[#This Row],[Column2]]+Table1[[#This Row],[Column1]])","v":0},{"$nulls":5},{"$f":"SUM(Table1[[#This Row],[PO Employee]:[Other Employee]])","v":0},"N",{"$error":"#N/A"},{"$f":"IF(O857>39,Table1[[#This Row],[Calc 1]],IF(O857>1,\"Not counted as an Employee\",\"#NA\"))","v":"#NA"},{"$f":"MAX(Table1[[#This Row],[PO Employee]],Table1[[#This Row],[Other HZ Employee]],Table1[[#This Row],[Non HZ Employee]],Table1[[#This Row],[Job Site Employee]],Table1[[#This Row],[Other Employee]])","v":0},{"$f":"IF(Table1[[#This Row],[Total Hours per Month]]=Table1[[#This Row],[Column12]],\"Match\",\"Error\")","v":"Match"},{"$f":"IF(Table1[[#This Row],[Calc 2]]=\"#NA\",\"#NA\",IF(Table1[[#This Row],[Non HZ Employee]]=Table1[[#This Row],[Max calc]],\"Non HZ Employee\", Table1[[#This Row],[Calc 2]]))","v":"#NA"}]
[841,null,841,{"$nulls":5},{"$f":"SUM(Table1[[#This Row],[Column4]]+Table1[[#This Row],[Column3]]+Table1[[#This Row],[Column2]]+Table1[[#This Row],[Column1]])","v":0},{"$nulls":5},{"$f":"SUM(Table1[[#This Row],[PO Employee]:[Other Employee]])","v":0},"N",{"$error":"#N/A"},{"$f":"IF(O858>39,Table1[[#This Row],[Calc 1]],IF(O858>1,\"Not counted as an Employee\",\"#NA\"))","v":"#NA"},{"$f":"MAX(Table1[[#This Row],[PO Employee]],Table1[[#This Row],[Other HZ Employee]],Table1[[#This Row],[Non HZ Employee]],Table1[[#This Row],[Job Site Employee]],Table1[[#This Row],[Other Employee]])","v":0},{"$f":"IF(Table1[[#This Row],[Total Hours per Month]]=Table1[[#This Row],[Column12]],\"Match\",\"Error\")","v":"Match"},{"$f":"IF(Table1[[#This Row],[Calc 2]]=\"#NA\",\"#NA\",IF(Table1[[#This Row],[Non HZ Employee]]=Table1[[#This Row],[Max calc]],\"Non HZ Employee\", Table1[[#This Row],[Calc 2]]))","v":"#NA"}]
[842,null,842,{"$nulls":5},{"$f":"SUM(Table1[[#This Row],[Column4]]+Table1[[#This Row],[Column3]]+Table1[[#This Row],[Column2]]+Table1[[#This Row],[Column1]])","v":0},{"$nulls":5},{"$f":"SUM(Table1[[#This Row],[PO Employee]:[Other Employee]])","v":0},"N",{"$error":"#N/A"},{"$f":"IF(O859>39,Table1[[#This Row],[Calc 1]],IF(O859>1,\"Not counted as an Employee\",\"#NA\"))","v":"#NA"},{"$f":"MAX(Table1[[#This Row],[PO Employee]],Table1[[#This Row],[Other HZ Employee]],Table1[[#This Row],[Non HZ Employee]],Table1[[#This Row],[Job Site Employee]],Table1[[#This Row],[Other Employee]])","v":0},{"$f":"IF(Table1[[#This Row],[Total Hours per Month]]=Table1[[#This Row],[Column12]],\"Match\",\"Error\")","v":"Match"},{"$f":"IF(Table1[[#This Row],[Calc 2]]=\"#NA\",\"#NA\",IF(Table1[[#This Row],[Non HZ Employee]]=Table1[[#This Row],[Max calc]],\"Non HZ Employee\", Table1[[#This Row],[Calc 2]]))","v":"#NA"}]
[843,null,843,{"$nulls":5},{"$f":"SUM(Table1[[#This Row],[Column4]]+Table1[[#This Row],[Column3]]+Table1[[#This Row],[Column2]]+Table1[[#This Row],[Column1]])","v":0},{"$nulls":5},{"$f":"SUM(Table1[[#This Row],[PO Employee]:[Other Employee]])","v":0},"N",{"$error":"#N/A"},{"$f":"IF(O860>39,Table1[[#This Row],[Calc 1]],IF(O860>1,\"Not counted as an Employee\",\"#NA\"))","v":"#NA"},{"$f":"MAX(Table1[[#This Row],[PO Employee]],Table1[[#This Row],[Other HZ Employee]],Table1[[#This Row],[Non HZ Employee]],Table1[[#This Row],[Job Site Employee]],Table1[[#This Row],[Other Employee]])","v":0},{"$f":"IF(Table1[[#This Row],[Total Hours per Month]]=Table1[[#This Row],[Column12]],\"Match\",\"Error\")","v":"Match"},{"$f":"IF(Table1[[#This Row],[Calc 2]]=\"#NA\",\"#NA\",IF(Table1[[#This Row],[Non HZ Employee]]=Table1[[#This Row],[Max calc]],\"Non HZ Employee\", Table1[[#This Row],[Calc 2]]))","v":"#NA"}]
[844,null,844,{"$nulls":5},{"$f":"SUM(Table1[[#This Row],[Column4]]+Table1[[#This Row],[Column3]]+Table1[[#This Row],[Column2]]+Table1[[#This Row],[Column1]])","v":0},{"$nulls":5},{"$f":"SUM(Table1[[#This Row],[PO Employee]:[Other Employee]])","v":0},"N",{"$error":"#N/A"},{"$f":"IF(O861>39,Table1[[#This Row],[Calc 1]],IF(O861>1,\"Not counted as an Employee\",\"#NA\"))","v":"#NA"},{"$f":"MAX(Table1[[#This Row],[PO Employee]],Table1[[#This Row],[Other HZ Employee]],Table1[[#This Row],[Non HZ Employee]],Table1[[#This Row],[Job Site Employee]],Table1[[#This Row],[Other Employee]])","v":0},{"$f":"IF(Table1[[#This Row],[Total Hours per Month]]=Table1[[#This Row],[Column12]],\"Match\",\"Error\")","v":"Match"},{"$f":"IF(Table1[[#This Row],[Calc 2]]=\"#NA\",\"#NA\",IF(Table1[[#This Row],[Non HZ Employee]]=Table1[[#This Row],[Max calc]],\"Non HZ Employee\", Table1[[#This Row],[Calc 2]]))","v":"#NA"}]
[845,null,845,{"$nulls":5},{"$f":"SUM(Table1[[#This Row],[Column4]]+Table1[[#This Row],[Column3]]+Table1[[#This Row],[Column2]]+Table1[[#This Row],[Column1]])","v":0},{"$nulls":5},{"$f":"SUM(Table1[[#This Row],[PO Employee]:[Other Employee]])","v":0},"N",{"$error":"#N/A"},{"$f":"IF(O862>39,Table1[[#This Row],[Calc 1]],IF(O862>1,\"Not counted as an Employee\",\"#NA\"))","v":"#NA"},{"$f":"MAX(Table1[[#This Row],[PO Employee]],Table1[[#This Row],[Other HZ Employee]],Table1[[#This Row],[Non HZ Employee]],Table1[[#This Row],[Job Site Employee]],Table1[[#This Row],[Other Employee]])","v":0},{"$f":"IF(Table1[[#This Row],[Total Hours per Month]]=Table1[[#This Row],[Column12]],\"Match\",\"Error\")","v":"Match"},{"$f":"IF(Table1[[#This Row],[Calc 2]]=\"#NA\",\"#NA\",IF(Table1[[#This Row],[Non HZ Employee]]=Table1[[#This Row],[Max calc]],\"Non HZ Employee\", Table1[[#This Row],[Calc 2]]))","v":"#NA"}]
[846,null,846,{"$nulls":5},{"$f":"SUM(Table1[[#This Row],[Column4]]+Table1[[#This Row],[Column3]]+Table1[[#This Row],[Column2]]+Table1[[#This Row],[Column1]])","v":0},{"$nulls":5},{"$f":"SUM(Table1[[#This Row],[PO Employee]:[Other Employee]])","v":0},"N",{"$error":"#N/A"},{"$f":"IF(O863>39,Table1[[#This Row],[Calc 1]],IF(O863>1,\"Not counted as an Employee\",\"#NA\"))","v":"#NA"},{"$f":"MAX(Table1[[#This Row],[PO Employee]],Table1[[#This Row],[Other HZ Employee]],Table1[[#This Row],[Non HZ Employee]],Table1[[#This Row],[Job Site Employee]],Table1[[#This Row],[Other Employee]])","v":0},{"$f":"IF(Table1[[#This Row],[Total Hours per Month]]=Table1[[#This Row],[Column12]],\"Match\",\"Error\")","v":"Match"},{"$f":"IF(Table1[[#This Row],[Calc 2]]=\"#NA\",\"#NA\",IF(Table1[[#This Row],[Non HZ Employee]]=Table1[[#This Row],[Max calc]],\"Non HZ Employee\", Table1[[#This Row],[Calc 2]]))","v":"#NA"}]
[847,null,847,{"$nulls":5},{"$f":"SUM(Table1[[#This Row],[Column4]]+Table1[[#This Row],[Column3]]+Table1[[#This Row],[Column2]]+Table1[[#This Row],[Column1]])","v":0},{"$nulls":5},{"$f":"SUM(Table1[[#This Row],[PO Employee]:[Other Employee]])","v":0},"N",{"$error":"#N/A"},{"$f":"IF(O864>39,Table1[[#This Row],[Calc 1]],IF(O864>1,\"Not counted as an Employee\",\"#NA\"))","v":"#NA"},{"$f":"MAX(Table1[[#This Row],[PO Employee]],Table1[[#This Row],[Other HZ Employee]],Table1[[#This Row],[Non HZ Employee]],Table1[[#This Row],[Job Site Employee]],Table1[[#This Row],[Other Employee]])","v":0},{"$f":"IF(Table1[[#This Row],[Total Hours per Month]]=Table1[[#This Row],[Column12]],\"Match\",\"Error\")","v":"Match"},{"$f":"IF(Table1[[#This Row],[Calc 2]]=\"#NA\",\"#NA\",IF(Table1[[#This Row],[Non HZ Employee]]=Table1[[#This Row],[Max calc]],\"Non HZ Employee\", Table1[[#This Row],[Calc 2]]))","v":"#NA"}]
[848,null,848,{"$nulls":5},{"$f":"SUM(Table1[[#This Row],[Column4]]+Table1[[#This Row],[Column3]]+Table1[[#This Row],[Column2]]+Table1[[#This Row],[Column1]])","v":0},{"$nulls":5},{"$f":"SUM(Table1[[#This Row],[PO Employee]:[Other Employee]])","v":0},"N",{"$error":"#N/A"},{"$f":"IF(O865>39,Table1[[#This Row],[Calc 1]],IF(O865>1,\"Not counted as an Employee\",\"#NA\"))","v":"#NA"},{"$f":"MAX(Table1[[#This Row],[PO Employee]],Table1[[#This Row],[Other HZ Employee]],Table1[[#This Row],[Non HZ Employee]],Table1[[#This Row],[Job Site Employee]],Table1[[#This Row],[Other Employee]])","v":0},{"$f":"IF(Table1[[#This Row],[Total Hours per Month]]=Table1[[#This Row],[Column12]],\"Match\",\"Error\")","v":"Match"},{"$f":"IF(Table1[[#This Row],[Calc 2]]=\"#NA\",\"#NA\",IF(Table1[[#This Row],[Non HZ Employee]]=Table1[[#This Row],[Max calc]],\"Non HZ Employee\", Table1[[#This Row],[Calc 2]]))","v":"#NA"}]
[849,null,849,{"$nulls":5},{"$f":"SUM(Table1[[#This Row],[Column4]]+Table1[[#This Row],[Column3]]+Table1[[#This Row],[Column2]]+Table1[[#This Row],[Column1]])","v":0},{"$nulls":5},{"$f":"SUM(Table1[[#This Row],[PO Employee]:[Other Employee]])","v":0},"N",{"$error":"#N/A"},{"$f":"IF(O866>39,Table1[[#This Row],[Calc 1]],IF(O866>1,\"Not counted as an Employee\",\"#NA\"))","v":"#NA"},{"$f":"MAX(Table1[[#This Row],[PO Employee]],Table1[[#This Row],[Other HZ Employee]],Table1[[#This Row],[Non HZ Employee]],Table1[[#This Row],[Job Site Employee]],Table1[[#This Row],[Other Employee]])","v":0},{"$f":"IF(Table1[[#This Row],[Total Hours per Month]]=Table1[[#This Row],[Column12]],\"Match\",\"Error\")","v":"Match"},{"$f":"IF(Table1[[#This Row],[Calc 2]]=\"#NA\",\"#NA\",IF(Table1[[#This Row],[Non HZ Employee]]=Table1[[#This Row],[Max calc]],\"Non HZ Employee\", Table1[[#This Row],[Calc 2]]))","v":"#NA"}]
[850,null,850,{"$nulls":5},{"$f":"SUM(Table1[[#This Row],[Column4]]+Table1[[#This Row],[Column3]]+Table1[[#This Row],[Column2]]+Table1[[#This Row],[Column1]])","v":0},{"$nulls":5},{"$f":"SUM(Table1[[#This Row],[PO Employee]:[Other Employee]])","v":0},"N",{"$error":"#N/A"},{"$f":"IF(O867>39,Table1[[#This Row],[Calc 1]],IF(O867>1,\"Not counted as an Employee\",\"#NA\"))","v":"#NA"},{"$f":"MAX(Table1[[#This Row],[PO Employee]],Table1[[#This Row],[Other HZ Employee]],Table1[[#This Row],[Non HZ Employee]],Table1[[#This Row],[Job Site Employee]],Table1[[#This Row],[Other Employee]])","v":0},{"$f":"IF(Table1[[#This Row],[Total Hours per Month]]=Table1[[#This Row],[Column12]],\"Match\",\"Error\")","v":"Match"},{"$f":"IF(Table1[[#This Row],[Calc 2]]=\"#NA\",\"#NA\",IF(Table1[[#This Row],[Non HZ Employee]]=Table1[[#This Row],[Max calc]],\"Non HZ Employee\", Table1[[#This Row],[Calc 2]]))","v":"#NA"}]
[851,null,851,{"$nulls":5},{"$f":"SUM(Table1[[#This Row],[Column4]]+Table1[[#This Row],[Column3]]+Table1[[#This Row],[Column2]]+Table1[[#This Row],[Column1]])","v":0},{"$nulls":5},{"$f":"SUM(Table1[[#This Row],[PO Employee]:[Other Employee]])","v":0},"N",{"$error":"#N/A"},{"$f":"IF(O868>39,Table1[[#This Row],[Calc 1]],IF(O868>1,\"Not counted as an Employee\",\"#NA\"))","v":"#NA"},{"$f":"MAX(Table1[[#This Row],[PO Employee]],Table1[[#This Row],[Other HZ Employee]],Table1[[#This Row],[Non HZ Employee]],Table1[[#This Row],[Job Site Employee]],Table1[[#This Row],[Other Employee]])","v":0},{"$f":"IF(Table1[[#This Row],[Total Hours per Month]]=Table1[[#This Row],[Column12]],\"Match\",\"Error\")","v":"Match"},{"$f":"IF(Table1[[#This Row],[Calc 2]]=\"#NA\",\"#NA\",IF(Table1[[#This Row],[Non HZ Employee]]=Table1[[#This Row],[Max calc]],\"Non HZ Employee\", Table1[[#This Row],[Calc 2]]))","v":"#NA"}]
[852,null,852,{"$nulls":5},{"$f":"SUM(Table1[[#This Row],[Column4]]+Table1[[#This Row],[Column3]]+Table1[[#This Row],[Column2]]+Table1[[#This Row],[Column1]])","v":0},{"$nulls":5},{"$f":"SUM(Table1[[#This Row],[PO Employee]:[Other Employee]])","v":0},"N",{"$error":"#N/A"},{"$f":"IF(O869>39,Table1[[#This Row],[Calc 1]],IF(O869>1,\"Not counted as an Employee\",\"#NA\"))","v":"#NA"},{"$f":"MAX(Table1[[#This Row],[PO Employee]],Table1[[#This Row],[Other HZ Employee]],Table1[[#This Row],[Non HZ Employee]],Table1[[#This Row],[Job Site Employee]],Table1[[#This Row],[Other Employee]])","v":0},{"$f":"IF(Table1[[#This Row],[Total Hours per Month]]=Table1[[#This Row],[Column12]],\"Match\",\"Error\")","v":"Match"},{"$f":"IF(Table1[[#This Row],[Calc 2]]=\"#NA\",\"#NA\",IF(Table1[[#This Row],[Non HZ Employee]]=Table1[[#This Row],[Max calc]],\"Non HZ Employee\", Table1[[#This Row],[Calc 2]]))","v":"#NA"}]
[853,null,853,{"$nulls":5},{"$f":"SUM(Table1[[#This Row],[Column4]]+Table1[[#This Row],[Column3]]+Table1[[#This Row],[Column2]]+Table1[[#This Row],[Column1]])","v":0},{"$nulls":5},{"$f":"SUM(Table1[[#This Row],[PO Employee]:[Other Employee]])","v":0},"N",{"$error":"#N/A"},{"$f":"IF(O870>39,Table1[[#This Row],[Calc 1]],IF(O870>1,\"Not counted as an Employee\",\"#NA\"))","v":"#NA"},{"$f":"MAX(Table1[[#This Row],[PO Employee]],Table1[[#This Row],[Other HZ Employee]],Table1[[#This Row],[Non HZ Employee]],Table1[[#This Row],[Job Site Employee]],Table1[[#This Row],[Other Employee]])","v":0},{"$f":"IF(Table1[[#This Row],[Total Hours per Month]]=Table1[[#This Row],[Column12]],\"Match\",\"Error\")","v":"Match"},{"$f":"IF(Table1[[#This Row],[Calc 2]]=\"#NA\",\"#NA\",IF(Table1[[#This Row],[Non HZ Employee]]=Table1[[#This Row],[Max calc]],\"Non HZ Employee\", Table1[[#This Row],[Calc 2]]))","v":"#NA"}]
[854,null,854,{"$nulls":5},{"$f":"SUM(Table1[[#This Row],[Column4]]+Table1[[#This Row],[Column3]]+Table1[[#This Row],[Column2]]+Table1[[#This Row],[Column1]])","v":0},{"$nulls":5},{"$f":"SUM(Table1[[#This Row],[PO Employee]:[Other Employee]])","v":0},"N",{"$error":"#N/A"},{"$f":"IF(O871>39,Table1[[#This Row],[Calc 1]],IF(O871>1,\"Not counted as an Employee\",\"#NA\"))","v":"#NA"},{"$f":"MAX(Table1[[#This Row],[PO Employee]],Table1[[#This Row],[Other HZ Employee]],Table1[[#This Row],[Non HZ Employee]],Table1[[#This Row],[Job Site Employee]],Table1[[#This Row],[Other Employee]])","v":0},{"$f":"IF(Table1[[#This Row],[Total Hours per Month]]=Table1[[#This Row],[Column12]],\"Match\",\"Error\")","v":"Match"},{"$f":"IF(Table1[[#This Row],[Calc 2]]=\"#NA\",\"#NA\",IF(Table1[[#This Row],[Non HZ Employee]]=Table1[[#This Row],[Max calc]],\"Non HZ Employee\", Table1[[#This Row],[Calc 2]]))","v":"#NA"}]
[855,null,855,{"$nulls":5},{"$f":"SUM(Table1[[#This Row],[Column4]]+Table1[[#This Row],[Column3]]+Table1[[#This Row],[Column2]]+Table1[[#This Row],[Column1]])","v":0},{"$nulls":5},{"$f":"SUM(Table1[[#This Row],[PO Employee]:[Other Employee]])","v":0},"N",{"$error":"#N/A"},{"$f":"IF(O872>39,Table1[[#This Row],[Calc 1]],IF(O872>1,\"Not counted as an Employee\",\"#NA\"))","v":"#NA"},{"$f":"MAX(Table1[[#This Row],[PO Employee]],Table1[[#This Row],[Other HZ Employee]],Table1[[#This Row],[Non HZ Employee]],Table1[[#This Row],[Job Site Employee]],Table1[[#This Row],[Other Employee]])","v":0},{"$f":"IF(Table1[[#This Row],[Total Hours per Month]]=Table1[[#This Row],[Column12]],\"Match\",\"Error\")","v":"Match"},{"$f":"IF(Table1[[#This Row],[Calc 2]]=\"#NA\",\"#NA\",IF(Table1[[#This Row],[Non HZ Employee]]=Table1[[#This Row],[Max calc]],\"Non HZ Employee\", Table1[[#This Row],[Calc 2]]))","v":"#NA"}]
[856,null,856,{"$nulls":5},{"$f":"SUM(Table1[[#This Row],[Column4]]+Table1[[#This Row],[Column3]]+Table1[[#This Row],[Column2]]+Table1[[#This Row],[Column1]])","v":0},{"$nulls":5},{"$f":"SUM(Table1[[#This Row],[PO Employee]:[Other Employee]])","v":0},"N",{"$error":"#N/A"},{"$f":"IF(O873>39,Table1[[#This Row],[Calc 1]],IF(O873>1,\"Not counted as an Employee\",\"#NA\"))","v":"#NA"},{"$f":"MAX(Table1[[#This Row],[PO Employee]],Table1[[#This Row],[Other HZ Employee]],Table1[[#This Row],[Non HZ Employee]],Table1[[#This Row],[Job Site Employee]],Table1[[#This Row],[Other Employee]])","v":0},{"$f":"IF(Table1[[#This Row],[Total Hours per Month]]=Table1[[#This Row],[Column12]],\"Match\",\"Error\")","v":"Match"},{"$f":"IF(Table1[[#This Row],[Calc 2]]=\"#NA\",\"#NA\",IF(Table1[[#This Row],[Non HZ Employee]]=Table1[[#This Row],[Max calc]],\"Non HZ Employee\", Table1[[#This Row],[Calc 2]]))","v":"#NA"}]
[857,null,857,{"$nulls":5},{"$f":"SUM(Table1[[#This Row],[Column4]]+Table1[[#This Row],[Column3]]+Table1[[#This Row],[Column2]]+Table1[[#This Row],[Column1]])","v":0},{"$nulls":5},{"$f":"SUM(Table1[[#This Row],[PO Employee]:[Other Employee]])","v":0},"N",{"$error":"#N/A"},{"$f":"IF(O874>39,Table1[[#This Row],[Calc 1]],IF(O874>1,\"Not counted as an Employee\",\"#NA\"))","v":"#NA"},{"$f":"MAX(Table1[[#This Row],[PO Employee]],Table1[[#This Row],[Other HZ Employee]],Table1[[#This Row],[Non HZ Employee]],Table1[[#This Row],[Job Site Employee]],Table1[[#This Row],[Other Employee]])","v":0},{"$f":"IF(Table1[[#This Row],[Total Hours per Month]]=Table1[[#This Row],[Column12]],\"Match\",\"Error\")","v":"Match"},{"$f":"IF(Table1[[#This Row],[Calc 2]]=\"#NA\",\"#NA\",IF(Table1[[#This Row],[Non HZ Employee]]=Table1[[#This Row],[Max calc]],\"Non HZ Employee\", Table1[[#This Row],[Calc 2]]))","v":"#NA"}]
[858,null,858,{"$nulls":5},{"$f":"SUM(Table1[[#This Row],[Column4]]+Table1[[#This Row],[Column3]]+Table1[[#This Row],[Column2]]+Table1[[#This Row],[Column1]])","v":0},{"$nulls":5},{"$f":"SUM(Table1[[#This Row],[PO Employee]:[Other Employee]])","v":0},"N",{"$error":"#N/A"},{"$f":"IF(O875>39,Table1[[#This Row],[Calc 1]],IF(O875>1,\"Not counted as an Employee\",\"#NA\"))","v":"#NA"},{"$f":"MAX(Table1[[#This Row],[PO Employee]],Table1[[#This Row],[Other HZ Employee]],Table1[[#This Row],[Non HZ Employee]],Table1[[#This Row],[Job Site Employee]],Table1[[#This Row],[Other Employee]])","v":0},{"$f":"IF(Table1[[#This Row],[Total Hours per Month]]=Table1[[#This Row],[Column12]],\"Match\",\"Error\")","v":"Match"},{"$f":"IF(Table1[[#This Row],[Calc 2]]=\"#NA\",\"#NA\",IF(Table1[[#This Row],[Non HZ Employee]]=Table1[[#This Row],[Max calc]],\"Non HZ Employee\", Table1[[#This Row],[Calc 2]]))","v":"#NA"}]
[859,null,859,{"$nulls":5},{"$f":"SUM(Table1[[#This Row],[Column4]]+Table1[[#This Row],[Column3]]+Table1[[#This Row],[Column2]]+Table1[[#This Row],[Column1]])","v":0},{"$nulls":5},{"$f":"SUM(Table1[[#This Row],[PO Employee]:[Other Employee]])","v":0},"N",{"$error":"#N/A"},{"$f":"IF(O876>39,Table1[[#This Row],[Calc 1]],IF(O876>1,\"Not counted as an Employee\",\"#NA\"))","v":"#NA"},{"$f":"MAX(Table1[[#This Row],[PO Employee]],Table1[[#This Row],[Other HZ Employee]],Table1[[#This Row],[Non HZ Employee]],Table1[[#This Row],[Job Site Employee]],Table1[[#This Row],[Other Employee]])","v":0},{"$f":"IF(Table1[[#This Row],[Total Hours per Month]]=Table1[[#This Row],[Column12]],\"Match\",\"Error\")","v":"Match"},{"$f":"IF(Table1[[#This Row],[Calc 2]]=\"#NA\",\"#NA\",IF(Table1[[#This Row],[Non HZ Employee]]=Table1[[#This Row],[Max calc]],\"Non HZ Employee\", Table1[[#This Row],[Calc 2]]))","v":"#NA"}]
[860,null,860,{"$nulls":5},{"$f":"SUM(Table1[[#This Row],[Column4]]+Table1[[#This Row],[Column3]]+Table1[[#This Row],[Column2]]+Table1[[#This Row],[Column1]])","v":0},{"$nulls":5},{"$f":"SUM(Table1[[#This Row],[PO Employee]:[Other Employee]])","v":0},"N",{"$error":"#N/A"},{"$f":"IF(O877>39,Table1[[#This Row],[Calc 1]],IF(O877>1,\"Not counted as an Employee\",\"#NA\"))","v":"#NA"},{"$f":"MAX(Table1[[#This Row],[PO Employee]],Table1[[#This Row],[Other HZ Employee]],Table1[[#This Row],[Non HZ Employee]],Table1[[#This Row],[Job Site Employee]],Table1[[#This Row],[Other Employee]])","v":0},{"$f":"IF(Table1[[#This Row],[Total Hours per Month]]=Table1[[#This Row],[Column12]],\"Match\",\"Error\")","v":"Match"},{"$f":"IF(Table1[[#This Row],[Calc 2]]=\"#NA\",\"#NA\",IF(Table1[[#This Row],[Non HZ Employee]]=Table1[[#This Row],[Max calc]],\"Non HZ Employee\", Table1[[#This Row],[Calc 2]]))","v":"#NA"}]
[861,null,861,{"$nulls":5},{"$f":"SUM(Table1[[#This Row],[Column4]]+Table1[[#This Row],[Column3]]+Table1[[#This Row],[Column2]]+Table1[[#This Row],[Column1]])","v":0},{"$nulls":5},{"$f":"SUM(Table1[[#This Row],[PO Employee]:[Other Employee]])","v":0},"N",{"$error":"#N/A"},{"$f":"IF(O878>39,Table1[[#This Row],[Calc 1]],IF(O878>1,\"Not counted as an Employee\",\"#NA\"))","v":"#NA"},{"$f":"MAX(Table1[[#This Row],[PO Employee]],Table1[[#This Row],[Other HZ Employee]],Table1[[#This Row],[Non HZ Employee]],Table1[[#This Row],[Job Site Employee]],Table1[[#This Row],[Other Employee]])","v":0},{"$f":"IF(Table1[[#This Row],[Total Hours per Month]]=Table1[[#This Row],[Column12]],\"Match\",\"Error\")","v":"Match"},{"$f":"IF(Table1[[#This Row],[Calc 2]]=\"#NA\",\"#NA\",IF(Table1[[#This Row],[Non HZ Employee]]=Table1[[#This Row],[Max calc]],\"Non HZ Employee\", Table1[[#This Row],[Calc 2]]))","v":"#NA"}]
[862,null,862,{"$nulls":5},{"$f":"SUM(Table1[[#This Row],[Column4]]+Table1[[#This Row],[Column3]]+Table1[[#This Row],[Column2]]+Table1[[#This Row],[Column1]])","v":0},{"$nulls":5},{"$f":"SUM(Table1[[#This Row],[PO Employee]:[Other Employee]])","v":0},"N",{"$error":"#N/A"},{"$f":"IF(O879>39,Table1[[#This Row],[Calc 1]],IF(O879>1,\"Not counted as an Employee\",\"#NA\"))","v":"#NA"},{"$f":"MAX(Table1[[#This Row],[PO Employee]],Table1[[#This Row],[Other HZ Employee]],Table1[[#This Row],[Non HZ Employee]],Table1[[#This Row],[Job Site Employee]],Table1[[#This Row],[Other Employee]])","v":0},{"$f":"IF(Table1[[#This Row],[Total Hours per Month]]=Table1[[#This Row],[Column12]],\"Match\",\"Error\")","v":"Match"},{"$f":"IF(Table1[[#This Row],[Calc 2]]=\"#NA\",\"#NA\",IF(Table1[[#This Row],[Non HZ Employee]]=Table1[[#This Row],[Max calc]],\"Non HZ Employee\", Table1[[#This Row],[Calc 2]]))","v":"#NA"}]
[863,null,863,{"$nulls":5},{"$f":"SUM(Table1[[#This Row],[Column4]]+Table1[[#This Row],[Column3]]+Table1[[#This Row],[Column2]]+Table1[[#This Row],[Column1]])","v":0},{"$nulls":5},{"$f":"SUM(Table1[[#This Row],[PO Employee]:[Other Employee]])","v":0},"N",{"$error":"#N/A"},{"$f":"IF(O880>39,Table1[[#This Row],[Calc 1]],IF(O880>1,\"Not counted as an Employee\",\"#NA\"))","v":"#NA"},{"$f":"MAX(Table1[[#This Row],[PO Employee]],Table1[[#This Row],[Other HZ Employee]],Table1[[#This Row],[Non HZ Employee]],Table1[[#This Row],[Job Site Employee]],Table1[[#This Row],[Other Employee]])","v":0},{"$f":"IF(Table1[[#This Row],[Total Hours per Month]]=Table1[[#This Row],[Column12]],\"Match\",\"Error\")","v":"Match"},{"$f":"IF(Table1[[#This Row],[Calc 2]]=\"#NA\",\"#NA\",IF(Table1[[#This Row],[Non HZ Employee]]=Table1[[#This Row],[Max calc]],\"Non HZ Employee\", Table1[[#This Row],[Calc 2]]))","v":"#NA"}]
[864,null,864,{"$nulls":5},{"$f":"SUM(Table1[[#This Row],[Column4]]+Table1[[#This Row],[Column3]]+Table1[[#This Row],[Column2]]+Table1[[#This Row],[Column1]])","v":0},{"$nulls":5},{"$f":"SUM(Table1[[#This Row],[PO Employee]:[Other Employee]])","v":0},"N",{"$error":"#N/A"},{"$f":"IF(O881>39,Table1[[#This Row],[Calc 1]],IF(O881>1,\"Not counted as an Employee\",\"#NA\"))","v":"#NA"},{"$f":"MAX(Table1[[#This Row],[PO Employee]],Table1[[#This Row],[Other HZ Employee]],Table1[[#This Row],[Non HZ Employee]],Table1[[#This Row],[Job Site Employee]],Table1[[#This Row],[Other Employee]])","v":0},{"$f":"IF(Table1[[#This Row],[Total Hours per Month]]=Table1[[#This Row],[Column12]],\"Match\",\"Error\")","v":"Match"},{"$f":"IF(Table1[[#This Row],[Calc 2]]=\"#NA\",\"#NA\",IF(Table1[[#This Row],[Non HZ Employee]]=Table1[[#This Row],[Max calc]],\"Non HZ Employee\", Table1[[#This Row],[Calc 2]]))","v":"#NA"}]
[865,null,865,{"$nulls":5},{"$f":"SUM(Table1[[#This Row],[Column4]]+Table1[[#This Row],[Column3]]+Table1[[#This Row],[Column2]]+Table1[[#This Row],[Column1]])","v":0},{"$nulls":5},{"$f":"SUM(Table1[[#This Row],[PO Employee]:[Other Employee]])","v":0},"N",{"$error":"#N/A"},{"$f":"IF(O882>39,Table1[[#This Row],[Calc 1]],IF(O882>1,\"Not counted as an Employee\",\"#NA\"))","v":"#NA"},{"$f":"MAX(Table1[[#This Row],[PO Employee]],Table1[[#This Row],[Other HZ Employee]],Table1[[#This Row],[Non HZ Employee]],Table1[[#This Row],[Job Site Employee]],Table1[[#This Row],[Other Employee]])","v":0},{"$f":"IF(Table1[[#This Row],[Total Hours per Month]]=Table1[[#This Row],[Column12]],\"Match\",\"Error\")","v":"Match"},{"$f":"IF(Table1[[#This Row],[Calc 2]]=\"#NA\",\"#NA\",IF(Table1[[#This Row],[Non HZ Employee]]=Table1[[#This Row],[Max calc]],\"Non HZ Employee\", Table1[[#This Row],[Calc 2]]))","v":"#NA"}]
[866,null,866,{"$nulls":5},{"$f":"SUM(Table1[[#This Row],[Column4]]+Table1[[#This Row],[Column3]]+Table1[[#This Row],[Column2]]+Table1[[#This Row],[Column1]])","v":0},{"$nulls":5},{"$f":"SUM(Table1[[#This Row],[PO Employee]:[Other Employee]])","v":0},"N",{"$error":"#N/A"},{"$f":"IF(O883>39,Table1[[#This Row],[Calc 1]],IF(O883>1,\"Not counted as an Employee\",\"#NA\"))","v":"#NA"},{"$f":"MAX(Table1[[#This Row],[PO Employee]],Table1[[#This Row],[Other HZ Employee]],Table1[[#This Row],[Non HZ Employee]],Table1[[#This Row],[Job Site Employee]],Table1[[#This Row],[Other Employee]])","v":0},{"$f":"IF(Table1[[#This Row],[Total Hours per Month]]=Table1[[#This Row],[Column12]],\"Match\",\"Error\")","v":"Match"},{"$f":"IF(Table1[[#This Row],[Calc 2]]=\"#NA\",\"#NA\",IF(Table1[[#This Row],[Non HZ Employee]]=Table1[[#This Row],[Max calc]],\"Non HZ Employee\", Table1[[#This Row],[Calc 2]]))","v":"#NA"}]
[867,null,867,{"$nulls":5},{"$f":"SUM(Table1[[#This Row],[Column4]]+Table1[[#This Row],[Column3]]+Table1[[#This Row],[Column2]]+Table1[[#This Row],[Column1]])","v":0},{"$nulls":5},{"$f":"SUM(Table1[[#This Row],[PO Employee]:[Other Employee]])","v":0},"N",{"$error":"#N/A"},{"$f":"IF(O884>39,Table1[[#This Row],[Calc 1]],IF(O884>1,\"Not counted as an Employee\",\"#NA\"))","v":"#NA"},{"$f":"MAX(Table1[[#This Row],[PO Employee]],Table1[[#This Row],[Other HZ Employee]],Table1[[#This Row],[Non HZ Employee]],Table1[[#This Row],[Job Site Employee]],Table1[[#This Row],[Other Employee]])","v":0},{"$f":"IF(Table1[[#This Row],[Total Hours per Month]]=Table1[[#This Row],[Column12]],\"Match\",\"Error\")","v":"Match"},{"$f":"IF(Table1[[#This Row],[Calc 2]]=\"#NA\",\"#NA\",IF(Table1[[#This Row],[Non HZ Employee]]=Table1[[#This Row],[Max calc]],\"Non HZ Employee\", Table1[[#This Row],[Calc 2]]))","v":"#NA"}]
[868,null,868,{"$nulls":5},{"$f":"SUM(Table1[[#This Row],[Column4]]+Table1[[#This Row],[Column3]]+Table1[[#This Row],[Column2]]+Table1[[#This Row],[Column1]])","v":0},{"$nulls":5},{"$f":"SUM(Table1[[#This Row],[PO Employee]:[Other Employee]])","v":0},"N",{"$error":"#N/A"},{"$f":"IF(O885>39,Table1[[#This Row],[Calc 1]],IF(O885>1,\"Not counted as an Employee\",\"#NA\"))","v":"#NA"},{"$f":"MAX(Table1[[#This Row],[PO Employee]],Table1[[#This Row],[Other HZ Employee]],Table1[[#This Row],[Non HZ Employee]],Table1[[#This Row],[Job Site Employee]],Table1[[#This Row],[Other Employee]])","v":0},{"$f":"IF(Table1[[#This Row],[Total Hours per Month]]=Table1[[#This Row],[Column12]],\"Match\",\"Error\")","v":"Match"},{"$f":"IF(Table1[[#This Row],[Calc 2]]=\"#NA\",\"#NA\",IF(Table1[[#This Row],[Non HZ Employee]]=Table1[[#This Row],[Max calc]],\"Non HZ Employee\", Table1[[#This Row],[Calc 2]]))","v":"#NA"}]
[869,null,869,{"$nulls":5},{"$f":"SUM(Table1[[#This Row],[Column4]]+Table1[[#This Row],[Column3]]+Table1[[#This Row],[Column2]]+Table1[[#This Row],[Column1]])","v":0},{"$nulls":5},{"$f":"SUM(Table1[[#This Row],[PO Employee]:[Other Employee]])","v":0},"N",{"$error":"#N/A"},{"$f":"IF(O886>39,Table1[[#This Row],[Calc 1]],IF(O886>1,\"Not counted as an Employee\",\"#NA\"))","v":"#NA"},{"$f":"MAX(Table1[[#This Row],[PO Employee]],Table1[[#This Row],[Other HZ Employee]],Table1[[#This Row],[Non HZ Employee]],Table1[[#This Row],[Job Site Employee]],Table1[[#This Row],[Other Employee]])","v":0},{"$f":"IF(Table1[[#This Row],[Total Hours per Month]]=Table1[[#This Row],[Column12]],\"Match\",\"Error\")","v":"Match"},{"$f":"IF(Table1[[#This Row],[Calc 2]]=\"#NA\",\"#NA\",IF(Table1[[#This Row],[Non HZ Employee]]=Table1[[#This Row],[Max calc]],\"Non HZ Employee\", Table1[[#This Row],[Calc 2]]))","v":"#NA"}]
[870,null,870,{"$nulls":5},{"$f":"SUM(Table1[[#This Row],[Column4]]+Table1[[#This Row],[Column3]]+Table1[[#This Row],[Column2]]+Table1[[#This Row],[Column1]])","v":0},{"$nulls":5},{"$f":"SUM(Table1[[#This Row],[PO Employee]:[Other Employee]])","v":0},"N",{"$error":"#N/A"},{"$f":"IF(O887>39,Table1[[#This Row],[Calc 1]],IF(O887>1,\"Not counted as an Employee\",\"#NA\"))","v":"#NA"},{"$f":"MAX(Table1[[#This Row],[PO Employee]],Table1[[#This Row],[Other HZ Employee]],Table1[[#This Row],[Non HZ Employee]],Table1[[#This Row],[Job Site Employee]],Table1[[#This Row],[Other Employee]])","v":0},{"$f":"IF(Table1[[#This Row],[Total Hours per Month]]=Table1[[#This Row],[Column12]],\"Match\",\"Error\")","v":"Match"},{"$f":"IF(Table1[[#This Row],[Calc 2]]=\"#NA\",\"#NA\",IF(Table1[[#This Row],[Non HZ Employee]]=Table1[[#This Row],[Max calc]],\"Non HZ Employee\", Table1[[#This Row],[Calc 2]]))","v":"#NA"}]
[871,null,871,{"$nulls":5},{"$f":"SUM(Table1[[#This Row],[Column4]]+Table1[[#This Row],[Column3]]+Table1[[#This Row],[Column2]]+Table1[[#This Row],[Column1]])","v":0},{"$nulls":5},{"$f":"SUM(Table1[[#This Row],[PO Employee]:[Other Employee]])","v":0},"N",{"$error":"#N/A"},{"$f":"IF(O888>39,Table1[[#This Row],[Calc 1]],IF(O888>1,\"Not counted as an Employee\",\"#NA\"))","v":"#NA"},{"$f":"MAX(Table1[[#This Row],[PO Employee]],Table1[[#This Row],[Other HZ Employee]],Table1[[#This Row],[Non HZ Employee]],Table1[[#This Row],[Job Site Employee]],Table1[[#This Row],[Other Employee]])","v":0},{"$f":"IF(Table1[[#This Row],[Total Hours per Month]]=Table1[[#This Row],[Column12]],\"Match\",\"Error\")","v":"Match"},{"$f":"IF(Table1[[#This Row],[Calc 2]]=\"#NA\",\"#NA\",IF(Table1[[#This Row],[Non HZ Employee]]=Table1[[#This Row],[Max calc]],\"Non HZ Employee\", Table1[[#This Row],[Calc 2]]))","v":"#NA"}]
[872,null,872,{"$nulls":5},{"$f":"SUM(Table1[[#This Row],[Column4]]+Table1[[#This Row],[Column3]]+Table1[[#This Row],[Column2]]+Table1[[#This Row],[Column1]])","v":0},{"$nulls":5},{"$f":"SUM(Table1[[#This Row],[PO Employee]:[Other Employee]])","v":0},"N",{"$error":"#N/A"},{"$f":"IF(O889>39,Table1[[#This Row],[Calc 1]],IF(O889>1,\"Not counted as an Employee\",\"#NA\"))","v":"#NA"},{"$f":"MAX(Table1[[#This Row],[PO Employee]],Table1[[#This Row],[Other HZ Employee]],Table1[[#This Row],[Non HZ Employee]],Table1[[#This Row],[Job Site Employee]],Table1[[#This Row],[Other Employee]])","v":0},{"$f":"IF(Table1[[#This Row],[Total Hours per Month]]=Table1[[#This Row],[Column12]],\"Match\",\"Error\")","v":"Match"},{"$f":"IF(Table1[[#This Row],[Calc 2]]=\"#NA\",\"#NA\",IF(Table1[[#This Row],[Non HZ Employee]]=Table1[[#This Row],[Max calc]],\"Non HZ Employee\", Table1[[#This Row],[Calc 2]]))","v":"#NA"}]
[873,null,873,{"$nulls":5},{"$f":"SUM(Table1[[#This Row],[Column4]]+Table1[[#This Row],[Column3]]+Table1[[#This Row],[Column2]]+Table1[[#This Row],[Column1]])","v":0},{"$nulls":5},{"$f":"SUM(Table1[[#This Row],[PO Employee]:[Other Employee]])","v":0},"N",{"$error":"#N/A"},{"$f":"IF(O890>39,Table1[[#This Row],[Calc 1]],IF(O890>1,\"Not counted as an Employee\",\"#NA\"))","v":"#NA"},{"$f":"MAX(Table1[[#This Row],[PO Employee]],Table1[[#This Row],[Other HZ Employee]],Table1[[#This Row],[Non HZ Employee]],Table1[[#This Row],[Job Site Employee]],Table1[[#This Row],[Other Employee]])","v":0},{"$f":"IF(Table1[[#This Row],[Total Hours per Month]]=Table1[[#This Row],[Column12]],\"Match\",\"Error\")","v":"Match"},{"$f":"IF(Table1[[#This Row],[Calc 2]]=\"#NA\",\"#NA\",IF(Table1[[#This Row],[Non HZ Employee]]=Table1[[#This Row],[Max calc]],\"Non HZ Employee\", Table1[[#This Row],[Calc 2]]))","v":"#NA"}]
[874,null,874,{"$nulls":5},{"$f":"SUM(Table1[[#This Row],[Column4]]+Table1[[#This Row],[Column3]]+Table1[[#This Row],[Column2]]+Table1[[#This Row],[Column1]])","v":0},{"$nulls":5},{"$f":"SUM(Table1[[#This Row],[PO Employee]:[Other Employee]])","v":0},"N",{"$error":"#N/A"},{"$f":"IF(O891>39,Table1[[#This Row],[Calc 1]],IF(O891>1,\"Not counted as an Employee\",\"#NA\"))","v":"#NA"},{"$f":"MAX(Table1[[#This Row],[PO Employee]],Table1[[#This Row],[Other HZ Employee]],Table1[[#This Row],[Non HZ Employee]],Table1[[#This Row],[Job Site Employee]],Table1[[#This Row],[Other Employee]])","v":0},{"$f":"IF(Table1[[#This Row],[Total Hours per Month]]=Table1[[#This Row],[Column12]],\"Match\",\"Error\")","v":"Match"},{"$f":"IF(Table1[[#This Row],[Calc 2]]=\"#NA\",\"#NA\",IF(Table1[[#This Row],[Non HZ Employee]]=Table1[[#This Row],[Max calc]],\"Non HZ Employee\", Table1[[#This Row],[Calc 2]]))","v":"#NA"}]
[875,null,875,{"$nulls":5},{"$f":"SUM(Table1[[#This Row],[Column4]]+Table1[[#This Row],[Column3]]+Table1[[#This Row],[Column2]]+Table1[[#This Row],[Column1]])","v":0},{"$nulls":5},{"$f":"SUM(Table1[[#This Row],[PO Employee]:[Other Employee]])","v":0},"N",{"$error":"#N/A"},{"$f":"IF(O892>39,Table1[[#This Row],[Calc 1]],IF(O892>1,\"Not counted as an Employee\",\"#NA\"))","v":"#NA"},{"$f":"MAX(Table1[[#This Row],[PO Employee]],Table1[[#This Row],[Other HZ Employee]],Table1[[#This Row],[Non HZ Employee]],Table1[[#This Row],[Job Site Employee]],Table1[[#This Row],[Other Employee]])","v":0},{"$f":"IF(Table1[[#This Row],[Total Hours per Month]]=Table1[[#This Row],[Column12]],\"Match\",\"Error\")","v":"Match"},{"$f":"IF(Table1[[#This Row],[Calc 2]]=\"#NA\",\"#NA\",IF(Table1[[#This Row],[Non HZ Employee]]=Table1[[#This Row],[Max calc]],\"Non HZ Employee\", Table1[[#This Row],[Calc 2]]))","v":"#NA"}]
[876,null,876,{"$nulls":5},{"$f":"SUM(Table1[[#This Row],[Column4]]+Table1[[#This Row],[Column3]]+Table1[[#This Row],[Column2]]+Table1[[#This Row],[Column1]])","v":0},{"$nulls":5},{"$f":"SUM(Table1[[#This Row],[PO Employee]:[Other Employee]])","v":0},"N",{"$error":"#N/A"},{"$f":"IF(O893>39,Table1[[#This Row],[Calc 1]],IF(O893>1,\"Not counted as an Employee\",\"#NA\"))","v":"#NA"},{"$f":"MAX(Table1[[#This Row],[PO Employee]],Table1[[#This Row],[Other HZ Employee]],Table1[[#This Row],[Non HZ Employee]],Table1[[#This Row],[Job Site Employee]],Table1[[#This Row],[Other Employee]])","v":0},{"$f":"IF(Table1[[#This Row],[Total Hours per Month]]=Table1[[#This Row],[Column12]],\"Match\",\"Error\")","v":"Match"},{"$f":"IF(Table1[[#This Row],[Calc 2]]=\"#NA\",\"#NA\",IF(Table1[[#This Row],[Non HZ Employee]]=Table1[[#This Row],[Max calc]],\"Non HZ Employee\", Table1[[#This Row],[Calc 2]]))","v":"#NA"}]
[877,null,877,{"$nulls":5},{"$f":"SUM(Table1[[#This Row],[Column4]]+Table1[[#This Row],[Column3]]+Table1[[#This Row],[Column2]]+Table1[[#This Row],[Column1]])","v":0},{"$nulls":5},{"$f":"SUM(Table1[[#This Row],[PO Employee]:[Other Employee]])","v":0},"N",{"$error":"#N/A"},{"$f":"IF(O894>39,Table1[[#This Row],[Calc 1]],IF(O894>1,\"Not counted as an Employee\",\"#NA\"))","v":"#NA"},{"$f":"MAX(Table1[[#This Row],[PO Employee]],Table1[[#This Row],[Other HZ Employee]],Table1[[#This Row],[Non HZ Employee]],Table1[[#This Row],[Job Site Employee]],Table1[[#This Row],[Other Employee]])","v":0},{"$f":"IF(Table1[[#This Row],[Total Hours per Month]]=Table1[[#This Row],[Column12]],\"Match\",\"Error\")","v":"Match"},{"$f":"IF(Table1[[#This Row],[Calc 2]]=\"#NA\",\"#NA\",IF(Table1[[#This Row],[Non HZ Employee]]=Table1[[#This Row],[Max calc]],\"Non HZ Employee\", Table1[[#This Row],[Calc 2]]))","v":"#NA"}]
[878,null,878,{"$nulls":5},{"$f":"SUM(Table1[[#This Row],[Column4]]+Table1[[#This Row],[Column3]]+Table1[[#This Row],[Column2]]+Table1[[#This Row],[Column1]])","v":0},{"$nulls":5},{"$f":"SUM(Table1[[#This Row],[PO Employee]:[Other Employee]])","v":0},"N",{"$error":"#N/A"},{"$f":"IF(O895>39,Table1[[#This Row],[Calc 1]],IF(O895>1,\"Not counted as an Employee\",\"#NA\"))","v":"#NA"},{"$f":"MAX(Table1[[#This Row],[PO Employee]],Table1[[#This Row],[Other HZ Employee]],Table1[[#This Row],[Non HZ Employee]],Table1[[#This Row],[Job Site Employee]],Table1[[#This Row],[Other Employee]])","v":0},{"$f":"IF(Table1[[#This Row],[Total Hours per Month]]=Table1[[#This Row],[Column12]],\"Match\",\"Error\")","v":"Match"},{"$f":"IF(Table1[[#This Row],[Calc 2]]=\"#NA\",\"#NA\",IF(Table1[[#This Row],[Non HZ Employee]]=Table1[[#This Row],[Max calc]],\"Non HZ Employee\", Table1[[#This Row],[Calc 2]]))","v":"#NA"}]
[879,null,879,{"$nulls":5},{"$f":"SUM(Table1[[#This Row],[Column4]]+Table1[[#This Row],[Column3]]+Table1[[#This Row],[Column2]]+Table1[[#This Row],[Column1]])","v":0},{"$nulls":5},{"$f":"SUM(Table1[[#This Row],[PO Employee]:[Other Employee]])","v":0},"N",{"$error":"#N/A"},{"$f":"IF(O896>39,Table1[[#This Row],[Calc 1]],IF(O896>1,\"Not counted as an Employee\",\"#NA\"))","v":"#NA"},{"$f":"MAX(Table1[[#This Row],[PO Employee]],Table1[[#This Row],[Other HZ Employee]],Table1[[#This Row],[Non HZ Employee]],Table1[[#This Row],[Job Site Employee]],Table1[[#This Row],[Other Employee]])","v":0},{"$f":"IF(Table1[[#This Row],[Total Hours per Month]]=Table1[[#This Row],[Column12]],\"Match\",\"Error\")","v":"Match"},{"$f":"IF(Table1[[#This Row],[Calc 2]]=\"#NA\",\"#NA\",IF(Table1[[#This Row],[Non HZ Employee]]=Table1[[#This Row],[Max calc]],\"Non HZ Employee\", Table1[[#This Row],[Calc 2]]))","v":"#NA"}]
[880,null,880,{"$nulls":5},{"$f":"SUM(Table1[[#This Row],[Column4]]+Table1[[#This Row],[Column3]]+Table1[[#This Row],[Column2]]+Table1[[#This Row],[Column1]])","v":0},{"$nulls":5},{"$f":"SUM(Table1[[#This Row],[PO Employee]:[Other Employee]])","v":0},"N",{"$error":"#N/A"},{"$f":"IF(O897>39,Table1[[#This Row],[Calc 1]],IF(O897>1,\"Not counted as an Employee\",\"#NA\"))","v":"#NA"},{"$f":"MAX(Table1[[#This Row],[PO Employee]],Table1[[#This Row],[Other HZ Employee]],Table1[[#This Row],[Non HZ Employee]],Table1[[#This Row],[Job Site Employee]],Table1[[#This Row],[Other Employee]])","v":0},{"$f":"IF(Table1[[#This Row],[Total Hours per Month]]=Table1[[#This Row],[Column12]],\"Match\",\"Error\")","v":"Match"},{"$f":"IF(Table1[[#This Row],[Calc 2]]=\"#NA\",\"#NA\",IF(Table1[[#This Row],[Non HZ Employee]]=Table1[[#This Row],[Max calc]],\"Non HZ Employee\", Table1[[#This Row],[Calc 2]]))","v":"#NA"}]
[881,null,881,{"$nulls":5},{"$f":"SUM(Table1[[#This Row],[Column4]]+Table1[[#This Row],[Column3]]+Table1[[#This Row],[Column2]]+Table1[[#This Row],[Column1]])","v":0},{"$nulls":5},{"$f":"SUM(Table1[[#This Row],[PO Employee]:[Other Employee]])","v":0},"N",{"$error":"#N/A"},{"$f":"IF(O898>39,Table1[[#This Row],[Calc 1]],IF(O898>1,\"Not counted as an Employee\",\"#NA\"))","v":"#NA"},{"$f":"MAX(Table1[[#This Row],[PO Employee]],Table1[[#This Row],[Other HZ Employee]],Table1[[#This Row],[Non HZ Employee]],Table1[[#This Row],[Job Site Employee]],Table1[[#This Row],[Other Employee]])","v":0},{"$f":"IF(Table1[[#This Row],[Total Hours per Month]]=Table1[[#This Row],[Column12]],\"Match\",\"Error\")","v":"Match"},{"$f":"IF(Table1[[#This Row],[Calc 2]]=\"#NA\",\"#NA\",IF(Table1[[#This Row],[Non HZ Employee]]=Table1[[#This Row],[Max calc]],\"Non HZ Employee\", Table1[[#This Row],[Calc 2]]))","v":"#NA"}]
[882,null,882,{"$nulls":5},{"$f":"SUM(Table1[[#This Row],[Column4]]+Table1[[#This Row],[Column3]]+Table1[[#This Row],[Column2]]+Table1[[#This Row],[Column1]])","v":0},{"$nulls":5},{"$f":"SUM(Table1[[#This Row],[PO Employee]:[Other Employee]])","v":0},"N",{"$error":"#N/A"},{"$f":"IF(O899>39,Table1[[#This Row],[Calc 1]],IF(O899>1,\"Not counted as an Employee\",\"#NA\"))","v":"#NA"},{"$f":"MAX(Table1[[#This Row],[PO Employee]],Table1[[#This Row],[Other HZ Employee]],Table1[[#This Row],[Non HZ Employee]],Table1[[#This Row],[Job Site Employee]],Table1[[#This Row],[Other Employee]])","v":0},{"$f":"IF(Table1[[#This Row],[Total Hours per Month]]=Table1[[#This Row],[Column12]],\"Match\",\"Error\")","v":"Match"},{"$f":"IF(Table1[[#This Row],[Calc 2]]=\"#NA\",\"#NA\",IF(Table1[[#This Row],[Non HZ Employee]]=Table1[[#This Row],[Max calc]],\"Non HZ Employee\", Table1[[#This Row],[Calc 2]]))","v":"#NA"}]
[883,null,883,{"$nulls":5},{"$f":"SUM(Table1[[#This Row],[Column4]]+Table1[[#This Row],[Column3]]+Table1[[#This Row],[Column2]]+Table1[[#This Row],[Column1]])","v":0},{"$nulls":5},{"$f":"SUM(Table1[[#This Row],[PO Employee]:[Other Employee]])","v":0},"N",{"$error":"#N/A"},{"$f":"IF(O900>39,Table1[[#This Row],[Calc 1]],IF(O900>1,\"Not counted as an Employee\",\"#NA\"))","v":"#NA"},{"$f":"MAX(Table1[[#This Row],[PO Employee]],Table1[[#This Row],[Other HZ Employee]],Table1[[#This Row],[Non HZ Employee]],Table1[[#This Row],[Job Site Employee]],Table1[[#This Row],[Other Employee]])","v":0},{"$f":"IF(Table1[[#This Row],[Total Hours per Month]]=Table1[[#This Row],[Column12]],\"Match\",\"Error\")","v":"Match"},{"$f":"IF(Table1[[#This Row],[Calc 2]]=\"#NA\",\"#NA\",IF(Table1[[#This Row],[Non HZ Employee]]=Table1[[#This Row],[Max calc]],\"Non HZ Employee\", Table1[[#This Row],[Calc 2]]))","v":"#NA"}]
[884,null,884,{"$nulls":5},{"$f":"SUM(Table1[[#This Row],[Column4]]+Table1[[#This Row],[Column3]]+Table1[[#This Row],[Column2]]+Table1[[#This Row],[Column1]])","v":0},{"$nulls":5},{"$f":"SUM(Table1[[#This Row],[PO Employee]:[Other Employee]])","v":0},"N",{"$error":"#N/A"},{"$f":"IF(O901>39,Table1[[#This Row],[Calc 1]],IF(O901>1,\"Not counted as an Employee\",\"#NA\"))","v":"#NA"},{"$f":"MAX(Table1[[#This Row],[PO Employee]],Table1[[#This Row],[Other HZ Employee]],Table1[[#This Row],[Non HZ Employee]],Table1[[#This Row],[Job Site Employee]],Table1[[#This Row],[Other Employee]])","v":0},{"$f":"IF(Table1[[#This Row],[Total Hours per Month]]=Table1[[#This Row],[Column12]],\"Match\",\"Error\")","v":"Match"},{"$f":"IF(Table1[[#This Row],[Calc 2]]=\"#NA\",\"#NA\",IF(Table1[[#This Row],[Non HZ Employee]]=Table1[[#This Row],[Max calc]],\"Non HZ Employee\", Table1[[#This Row],[Calc 2]]))","v":"#NA"}]
[885,null,885,{"$nulls":5},{"$f":"SUM(Table1[[#This Row],[Column4]]+Table1[[#This Row],[Column3]]+Table1[[#This Row],[Column2]]+Table1[[#This Row],[Column1]])","v":0},{"$nulls":5},{"$f":"SUM(Table1[[#This Row],[PO Employee]:[Other Employee]])","v":0},"N",{"$error":"#N/A"},{"$f":"IF(O902>39,Table1[[#This Row],[Calc 1]],IF(O902>1,\"Not counted as an Employee\",\"#NA\"))","v":"#NA"},{"$f":"MAX(Table1[[#This Row],[PO Employee]],Table1[[#This Row],[Other HZ Employee]],Table1[[#This Row],[Non HZ Employee]],Table1[[#This Row],[Job Site Employee]],Table1[[#This Row],[Other Employee]])","v":0},{"$f":"IF(Table1[[#This Row],[Total Hours per Month]]=Table1[[#This Row],[Column12]],\"Match\",\"Error\")","v":"Match"},{"$f":"IF(Table1[[#This Row],[Calc 2]]=\"#NA\",\"#NA\",IF(Table1[[#This Row],[Non HZ Employee]]=Table1[[#This Row],[Max calc]],\"Non HZ Employee\", Table1[[#This Row],[Calc 2]]))","v":"#NA"}]
[886,null,886,{"$nulls":5},{"$f":"SUM(Table1[[#This Row],[Column4]]+Table1[[#This Row],[Column3]]+Table1[[#This Row],[Column2]]+Table1[[#This Row],[Column1]])","v":0},{"$nulls":5},{"$f":"SUM(Table1[[#This Row],[PO Employee]:[Other Employee]])","v":0},"N",{"$error":"#N/A"},{"$f":"IF(O903>39,Table1[[#This Row],[Calc 1]],IF(O903>1,\"Not counted as an Employee\",\"#NA\"))","v":"#NA"},{"$f":"MAX(Table1[[#This Row],[PO Employee]],Table1[[#This Row],[Other HZ Employee]],Table1[[#This Row],[Non HZ Employee]],Table1[[#This Row],[Job Site Employee]],Table1[[#This Row],[Other Employee]])","v":0},{"$f":"IF(Table1[[#This Row],[Total Hours per Month]]=Table1[[#This Row],[Column12]],\"Match\",\"Error\")","v":"Match"},{"$f":"IF(Table1[[#This Row],[Calc 2]]=\"#NA\",\"#NA\",IF(Table1[[#This Row],[Non HZ Employee]]=Table1[[#This Row],[Max calc]],\"Non HZ Employee\", Table1[[#This Row],[Calc 2]]))","v":"#NA"}]
[887,null,887,{"$nulls":5},{"$f":"SUM(Table1[[#This Row],[Column4]]+Table1[[#This Row],[Column3]]+Table1[[#This Row],[Column2]]+Table1[[#This Row],[Column1]])","v":0},{"$nulls":5},{"$f":"SUM(Table1[[#This Row],[PO Employee]:[Other Employee]])","v":0},"N",{"$error":"#N/A"},{"$f":"IF(O904>39,Table1[[#This Row],[Calc 1]],IF(O904>1,\"Not counted as an Employee\",\"#NA\"))","v":"#NA"},{"$f":"MAX(Table1[[#This Row],[PO Employee]],Table1[[#This Row],[Other HZ Employee]],Table1[[#This Row],[Non HZ Employee]],Table1[[#This Row],[Job Site Employee]],Table1[[#This Row],[Other Employee]])","v":0},{"$f":"IF(Table1[[#This Row],[Total Hours per Month]]=Table1[[#This Row],[Column12]],\"Match\",\"Error\")","v":"Match"},{"$f":"IF(Table1[[#This Row],[Calc 2]]=\"#NA\",\"#NA\",IF(Table1[[#This Row],[Non HZ Employee]]=Table1[[#This Row],[Max calc]],\"Non HZ Employee\", Table1[[#This Row],[Calc 2]]))","v":"#NA"}]
[888,null,888,{"$nulls":5},{"$f":"SUM(Table1[[#This Row],[Column4]]+Table1[[#This Row],[Column3]]+Table1[[#This Row],[Column2]]+Table1[[#This Row],[Column1]])","v":0},{"$nulls":5},{"$f":"SUM(Table1[[#This Row],[PO Employee]:[Other Employee]])","v":0},"N",{"$error":"#N/A"},{"$f":"IF(O905>39,Table1[[#This Row],[Calc 1]],IF(O905>1,\"Not counted as an Employee\",\"#NA\"))","v":"#NA"},{"$f":"MAX(Table1[[#This Row],[PO Employee]],Table1[[#This Row],[Other HZ Employee]],Table1[[#This Row],[Non HZ Employee]],Table1[[#This Row],[Job Site Employee]],Table1[[#This Row],[Other Employee]])","v":0},{"$f":"IF(Table1[[#This Row],[Total Hours per Month]]=Table1[[#This Row],[Column12]],\"Match\",\"Error\")","v":"Match"},{"$f":"IF(Table1[[#This Row],[Calc 2]]=\"#NA\",\"#NA\",IF(Table1[[#This Row],[Non HZ Employee]]=Table1[[#This Row],[Max calc]],\"Non HZ Employee\", Table1[[#This Row],[Calc 2]]))","v":"#NA"}]
[889,null,889,{"$nulls":5},{"$f":"SUM(Table1[[#This Row],[Column4]]+Table1[[#This Row],[Column3]]+Table1[[#This Row],[Column2]]+Table1[[#This Row],[Column1]])","v":0},{"$nulls":5},{"$f":"SUM(Table1[[#This Row],[PO Employee]:[Other Employee]])","v":0},"N",{"$error":"#N/A"},{"$f":"IF(O906>39,Table1[[#This Row],[Calc 1]],IF(O906>1,\"Not counted as an Employee\",\"#NA\"))","v":"#NA"},{"$f":"MAX(Table1[[#This Row],[PO Employee]],Table1[[#This Row],[Other HZ Employee]],Table1[[#This Row],[Non HZ Employee]],Table1[[#This Row],[Job Site Employee]],Table1[[#This Row],[Other Employee]])","v":0},{"$f":"IF(Table1[[#This Row],[Total Hours per Month]]=Table1[[#This Row],[Column12]],\"Match\",\"Error\")","v":"Match"},{"$f":"IF(Table1[[#This Row],[Calc 2]]=\"#NA\",\"#NA\",IF(Table1[[#This Row],[Non HZ Employee]]=Table1[[#This Row],[Max calc]],\"Non HZ Employee\", Table1[[#This Row],[Calc 2]]))","v":"#NA"}]
[890,null,890,{"$nulls":5},{"$f":"SUM(Table1[[#This Row],[Column4]]+Table1[[#This Row],[Column3]]+Table1[[#This Row],[Column2]]+Table1[[#This Row],[Column1]])","v":0},{"$nulls":5},{"$f":"SUM(Table1[[#This Row],[PO Employee]:[Other Employee]])","v":0},"N",{"$error":"#N/A"},{"$f":"IF(O907>39,Table1[[#This Row],[Calc 1]],IF(O907>1,\"Not counted as an Employee\",\"#NA\"))","v":"#NA"},{"$f":"MAX(Table1[[#This Row],[PO Employee]],Table1[[#This Row],[Other HZ Employee]],Table1[[#This Row],[Non HZ Employee]],Table1[[#This Row],[Job Site Employee]],Table1[[#This Row],[Other Employee]])","v":0},{"$f":"IF(Table1[[#This Row],[Total Hours per Month]]=Table1[[#This Row],[Column12]],\"Match\",\"Error\")","v":"Match"},{"$f":"IF(Table1[[#This Row],[Calc 2]]=\"#NA\",\"#NA\",IF(Table1[[#This Row],[Non HZ Employee]]=Table1[[#This Row],[Max calc]],\"Non HZ Employee\", Table1[[#This Row],[Calc 2]]))","v":"#NA"}]
[891,null,891,{"$nulls":5},{"$f":"SUM(Table1[[#This Row],[Column4]]+Table1[[#This Row],[Column3]]+Table1[[#This Row],[Column2]]+Table1[[#This Row],[Column1]])","v":0},{"$nulls":5},{"$f":"SUM(Table1[[#This Row],[PO Employee]:[Other Employee]])","v":0},"N",{"$error":"#N/A"},{"$f":"IF(O908>39,Table1[[#This Row],[Calc 1]],IF(O908>1,\"Not counted as an Employee\",\"#NA\"))","v":"#NA"},{"$f":"MAX(Table1[[#This Row],[PO Employee]],Table1[[#This Row],[Other HZ Employee]],Table1[[#This Row],[Non HZ Employee]],Table1[[#This Row],[Job Site Employee]],Table1[[#This Row],[Other Employee]])","v":0},{"$f":"IF(Table1[[#This Row],[Total Hours per Month]]=Table1[[#This Row],[Column12]],\"Match\",\"Error\")","v":"Match"},{"$f":"IF(Table1[[#This Row],[Calc 2]]=\"#NA\",\"#NA\",IF(Table1[[#This Row],[Non HZ Employee]]=Table1[[#This Row],[Max calc]],\"Non HZ Employee\", Table1[[#This Row],[Calc 2]]))","v":"#NA"}]
[892,null,892,{"$nulls":5},{"$f":"SUM(Table1[[#This Row],[Column4]]+Table1[[#This Row],[Column3]]+Table1[[#This Row],[Column2]]+Table1[[#This Row],[Column1]])","v":0},{"$nulls":5},{"$f":"SUM(Table1[[#This Row],[PO Employee]:[Other Employee]])","v":0},"N",{"$error":"#N/A"},{"$f":"IF(O909>39,Table1[[#This Row],[Calc 1]],IF(O909>1,\"Not counted as an Employee\",\"#NA\"))","v":"#NA"},{"$f":"MAX(Table1[[#This Row],[PO Employee]],Table1[[#This Row],[Other HZ Employee]],Table1[[#This Row],[Non HZ Employee]],Table1[[#This Row],[Job Site Employee]],Table1[[#This Row],[Other Employee]])","v":0},{"$f":"IF(Table1[[#This Row],[Total Hours per Month]]=Table1[[#This Row],[Column12]],\"Match\",\"Error\")","v":"Match"},{"$f":"IF(Table1[[#This Row],[Calc 2]]=\"#NA\",\"#NA\",IF(Table1[[#This Row],[Non HZ Employee]]=Table1[[#This Row],[Max calc]],\"Non HZ Employee\", Table1[[#This Row],[Calc 2]]))","v":"#NA"}]
[893,null,893,{"$nulls":5},{"$f":"SUM(Table1[[#This Row],[Column4]]+Table1[[#This Row],[Column3]]+Table1[[#This Row],[Column2]]+Table1[[#This Row],[Column1]])","v":0},{"$nulls":5},{"$f":"SUM(Table1[[#This Row],[PO Employee]:[Other Employee]])","v":0},"N",{"$error":"#N/A"},{"$f":"IF(O910>39,Table1[[#This Row],[Calc 1]],IF(O910>1,\"Not counted as an Employee\",\"#NA\"))","v":"#NA"},{"$f":"MAX(Table1[[#This Row],[PO Employee]],Table1[[#This Row],[Other HZ Employee]],Table1[[#This Row],[Non HZ Employee]],Table1[[#This Row],[Job Site Employee]],Table1[[#This Row],[Other Employee]])","v":0},{"$f":"IF(Table1[[#This Row],[Total Hours per Month]]=Table1[[#This Row],[Column12]],\"Match\",\"Error\")","v":"Match"},{"$f":"IF(Table1[[#This Row],[Calc 2]]=\"#NA\",\"#NA\",IF(Table1[[#This Row],[Non HZ Employee]]=Table1[[#This Row],[Max calc]],\"Non HZ Employee\", Table1[[#This Row],[Calc 2]]))","v":"#NA"}]
[894,null,894,{"$nulls":5},{"$f":"SUM(Table1[[#This Row],[Column4]]+Table1[[#This Row],[Column3]]+Table1[[#This Row],[Column2]]+Table1[[#This Row],[Column1]])","v":0},{"$nulls":5},{"$f":"SUM(Table1[[#This Row],[PO Employee]:[Other Employee]])","v":0},"N",{"$error":"#N/A"},{"$f":"IF(O911>39,Table1[[#This Row],[Calc 1]],IF(O911>1,\"Not counted as an Employee\",\"#NA\"))","v":"#NA"},{"$f":"MAX(Table1[[#This Row],[PO Employee]],Table1[[#This Row],[Other HZ Employee]],Table1[[#This Row],[Non HZ Employee]],Table1[[#This Row],[Job Site Employee]],Table1[[#This Row],[Other Employee]])","v":0},{"$f":"IF(Table1[[#This Row],[Total Hours per Month]]=Table1[[#This Row],[Column12]],\"Match\",\"Error\")","v":"Match"},{"$f":"IF(Table1[[#This Row],[Calc 2]]=\"#NA\",\"#NA\",IF(Table1[[#This Row],[Non HZ Employee]]=Table1[[#This Row],[Max calc]],\"Non HZ Employee\", Table1[[#This Row],[Calc 2]]))","v":"#NA"}]
[895,null,895,{"$nulls":5},{"$f":"SUM(Table1[[#This Row],[Column4]]+Table1[[#This Row],[Column3]]+Table1[[#This Row],[Column2]]+Table1[[#This Row],[Column1]])","v":0},{"$nulls":5},{"$f":"SUM(Table1[[#This Row],[PO Employee]:[Other Employee]])","v":0},"N",{"$error":"#N/A"},{"$f":"IF(O912>39,Table1[[#This Row],[Calc 1]],IF(O912>1,\"Not counted as an Employee\",\"#NA\"))","v":"#NA"},{"$f":"MAX(Table1[[#This Row],[PO Employee]],Table1[[#This Row],[Other HZ Employee]],Table1[[#This Row],[Non HZ Employee]],Table1[[#This Row],[Job Site Employee]],Table1[[#This Row],[Other Employee]])","v":0},{"$f":"IF(Table1[[#This Row],[Total Hours per Month]]=Table1[[#This Row],[Column12]],\"Match\",\"Error\")","v":"Match"},{"$f":"IF(Table1[[#This Row],[Calc 2]]=\"#NA\",\"#NA\",IF(Table1[[#This Row],[Non HZ Employee]]=Table1[[#This Row],[Max calc]],\"Non HZ Employee\", Table1[[#This Row],[Calc 2]]))","v":"#NA"}]
[896,null,896,{"$nulls":5},{"$f":"SUM(Table1[[#This Row],[Column4]]+Table1[[#This Row],[Column3]]+Table1[[#This Row],[Column2]]+Table1[[#This Row],[Column1]])","v":0},{"$nulls":5},{"$f":"SUM(Table1[[#This Row],[PO Employee]:[Other Employee]])","v":0},"N",{"$error":"#N/A"},{"$f":"IF(O913>39,Table1[[#This Row],[Calc 1]],IF(O913>1,\"Not counted as an Employee\",\"#NA\"))","v":"#NA"},{"$f":"MAX(Table1[[#This Row],[PO Employee]],Table1[[#This Row],[Other HZ Employee]],Table1[[#This Row],[Non HZ Employee]],Table1[[#This Row],[Job Site Employee]],Table1[[#This Row],[Other Employee]])","v":0},{"$f":"IF(Table1[[#This Row],[Total Hours per Month]]=Table1[[#This Row],[Column12]],\"Match\",\"Error\")","v":"Match"},{"$f":"IF(Table1[[#This Row],[Calc 2]]=\"#NA\",\"#NA\",IF(Table1[[#This Row],[Non HZ Employee]]=Table1[[#This Row],[Max calc]],\"Non HZ Employee\", Table1[[#This Row],[Calc 2]]))","v":"#NA"}]
[897,null,897,{"$nulls":5},{"$f":"SUM(Table1[[#This Row],[Column4]]+Table1[[#This Row],[Column3]]+Table1[[#This Row],[Column2]]+Table1[[#This Row],[Column1]])","v":0},{"$nulls":5},{"$f":"SUM(Table1[[#This Row],[PO Employee]:[Other Employee]])","v":0},"N",{"$f":"INDEX($J$17:$N$17,MATCH(MAX(J914:N914),J914:N914,0))","v":{"$error":"#N/A"}},{"$f":"IF(O914>39,Table1[[#This Row],[Calc 1]],IF(O914>1,\"Not counted as an Employee\",\"#NA\"))","v":"#NA"},{"$f":"MAX(Table1[[#This Row],[PO Employee]],Table1[[#This Row],[Other HZ Employee]],Table1[[#This Row],[Non HZ Employee]],Table1[[#This Row],[Job Site Employee]],Table1[[#This Row],[Other Employee]])","v":0},{"$f":"IF(Table1[[#This Row],[Total Hours per Month]]=Table1[[#This Row],[Column12]],\"Match\",\"Error\")","v":"Match"},{"$f":"IF(Table1[[#This Row],[Calc 2]]=\"#NA\",\"#NA\",IF(Table1[[#This Row],[Non HZ Employee]]=Table1[[#This Row],[Max calc]],\"Non HZ Employee\", Table1[[#This Row],[Calc 2]]))","v":"#NA"}]
[898,null,898,{"$nulls":5},{"$f":"SUM(Table1[[#This Row],[Column4]]+Table1[[#This Row],[Column3]]+Table1[[#This Row],[Column2]]+Table1[[#This Row],[Column1]])","v":0},{"$nulls":5},{"$f":"SUM(Table1[[#This Row],[PO Employee]:[Other Employee]])","v":0},{"$f":"IF(O915>=40,\"Y\",\"N\")","v":"N"},{"$error":"#N/A"},{"$f":"IF(O915>39,Table1[[#This Row],[Calc 1]],IF(O915>1,\"Not counted as an Employee\",\"#NA\"))","v":"#NA"},{"$f":"MAX(Table1[[#This Row],[PO Employee]],Table1[[#This Row],[Other HZ Employee]],Table1[[#This Row],[Non HZ Employee]],Table1[[#This Row],[Job Site Employee]],Table1[[#This Row],[Other Employee]])","v":0},{"$f":"IF(Table1[[#This Row],[Total Hours per Month]]=Table1[[#This Row],[Column12]],\"Match\",\"Error\")","v":"Match"},{"$f":"IF(Table1[[#This Row],[Calc 2]]=\"#NA\",\"#NA\",IF(Table1[[#This Row],[Non HZ Employee]]=Table1[[#This Row],[Max calc]],\"Non HZ Employee\", Table1[[#This Row],[Calc 2]]))","v":"#NA"}]
[899,null,899,{"$nulls":5},{"$f":"SUM(Table1[[#This Row],[Column4]]+Table1[[#This Row],[Column3]]+Table1[[#This Row],[Column2]]+Table1[[#This Row],[Column1]])","v":0},{"$nulls":5},{"$f":"SUM(Table1[[#This Row],[PO Employee]:[Other Employee]])","v":0},"N",{"$error":"#N/A"},{"$f":"IF(O916>39,Table1[[#This Row],[Calc 1]],IF(O916>1,\"Not counted as an Employee\",\"#NA\"))","v":"#NA"},{"$f":"MAX(Table1[[#This Row],[PO Employee]],Table1[[#This Row],[Other HZ Employee]],Table1[[#This Row],[Non HZ Employee]],Table1[[#This Row],[Job Site Employee]],Table1[[#This Row],[Other Employee]])","v":0},{"$f":"IF(Table1[[#This Row],[Total Hours per Month]]=Table1[[#This Row],[Column12]],\"Match\",\"Error\")","v":"Match"},{"$f":"IF(Table1[[#This Row],[Calc 2]]=\"#NA\",\"#NA\",IF(Table1[[#This Row],[Non HZ Employee]]=Table1[[#This Row],[Max calc]],\"Non HZ Employee\", Table1[[#This Row],[Calc 2]]))","v":"#NA"}]
[900,null,900,{"$nulls":5},{"$f":"SUM(Table1[[#This Row],[Column4]]+Table1[[#This Row],[Column3]]+Table1[[#This Row],[Column2]]+Table1[[#This Row],[Column1]])","v":0},{"$nulls":5},{"$f":"SUM(Table1[[#This Row],[PO Employee]:[Other Employee]])","v":0},"N",{"$error":"#N/A"},{"$f":"IF(O917>39,Table1[[#This Row],[Calc 1]],IF(O917>1,\"Not counted as an Employee\",\"#NA\"))","v":"#NA"},{"$f":"MAX(Table1[[#This Row],[PO Employee]],Table1[[#This Row],[Other HZ Employee]],Table1[[#This Row],[Non HZ Employee]],Table1[[#This Row],[Job Site Employee]],Table1[[#This Row],[Other Employee]])","v":0},{"$f":"IF(Table1[[#This Row],[Total Hours per Month]]=Table1[[#This Row],[Column12]],\"Match\",\"Error\")","v":"Match"},{"$f":"IF(Table1[[#This Row],[Calc 2]]=\"#NA\",\"#NA\",IF(Table1[[#This Row],[Non HZ Employee]]=Table1[[#This Row],[Max calc]],\"Non HZ Employee\", Table1[[#This Row],[Calc 2]]))","v":"#NA"}]
[901,null,901,{"$nulls":5},{"$f":"SUM(Table1[[#This Row],[Column4]]+Table1[[#This Row],[Column3]]+Table1[[#This Row],[Column2]]+Table1[[#This Row],[Column1]])","v":0},{"$nulls":5},{"$f":"SUM(Table1[[#This Row],[PO Employee]:[Other Employee]])","v":0},"N",{"$error":"#N/A"},{"$f":"IF(O918>39,Table1[[#This Row],[Calc 1]],IF(O918>1,\"Not counted as an Employee\",\"#NA\"))","v":"#NA"},{"$f":"MAX(Table1[[#This Row],[PO Employee]],Table1[[#This Row],[Other HZ Employee]],Table1[[#This Row],[Non HZ Employee]],Table1[[#This Row],[Job Site Employee]],Table1[[#This Row],[Other Employee]])","v":0},{"$f":"IF(Table1[[#This Row],[Total Hours per Month]]=Table1[[#This Row],[Column12]],\"Match\",\"Error\")","v":"Match"},{"$f":"IF(Table1[[#This Row],[Calc 2]]=\"#NA\",\"#NA\",IF(Table1[[#This Row],[Non HZ Employee]]=Table1[[#This Row],[Max calc]],\"Non HZ Employee\", Table1[[#This Row],[Calc 2]]))","v":"#NA"}]
[902,null,902,{"$nulls":5},{"$f":"SUM(Table1[[#This Row],[Column4]]+Table1[[#This Row],[Column3]]+Table1[[#This Row],[Column2]]+Table1[[#This Row],[Column1]])","v":0},{"$nulls":5},{"$f":"SUM(Table1[[#This Row],[PO Employee]:[Other Employee]])","v":0},"N",{"$error":"#N/A"},{"$f":"IF(O919>39,Table1[[#This Row],[Calc 1]],IF(O919>1,\"Not counted as an Employee\",\"#NA\"))","v":"#NA"},{"$f":"MAX(Table1[[#This Row],[PO Employee]],Table1[[#This Row],[Other HZ Employee]],Table1[[#This Row],[Non HZ Employee]],Table1[[#This Row],[Job Site Employee]],Table1[[#This Row],[Other Employee]])","v":0},{"$f":"IF(Table1[[#This Row],[Total Hours per Month]]=Table1[[#This Row],[Column12]],\"Match\",\"Error\")","v":"Match"},{"$f":"IF(Table1[[#This Row],[Calc 2]]=\"#NA\",\"#NA\",IF(Table1[[#This Row],[Non HZ Employee]]=Table1[[#This Row],[Max calc]],\"Non HZ Employee\", Table1[[#This Row],[Calc 2]]))","v":"#NA"}]
[903,null,903,{"$nulls":5},{"$f":"SUM(Table1[[#This Row],[Column4]]+Table1[[#This Row],[Column3]]+Table1[[#This Row],[Column2]]+Table1[[#This Row],[Column1]])","v":0},{"$nulls":5},{"$f":"SUM(Table1[[#This Row],[PO Employee]:[Other Employee]])","v":0},"N",{"$error":"#N/A"},{"$f":"IF(O920>39,Table1[[#This Row],[Calc 1]],IF(O920>1,\"Not counted as an Employee\",\"#NA\"))","v":"#NA"},{"$f":"MAX(Table1[[#This Row],[PO Employee]],Table1[[#This Row],[Other HZ Employee]],Table1[[#This Row],[Non HZ Employee]],Table1[[#This Row],[Job Site Employee]],Table1[[#This Row],[Other Employee]])","v":0},{"$f":"IF(Table1[[#This Row],[Total Hours per Month]]=Table1[[#This Row],[Column12]],\"Match\",\"Error\")","v":"Match"},{"$f":"IF(Table1[[#This Row],[Calc 2]]=\"#NA\",\"#NA\",IF(Table1[[#This Row],[Non HZ Employee]]=Table1[[#This Row],[Max calc]],\"Non HZ Employee\", Table1[[#This Row],[Calc 2]]))","v":"#NA"}]
[904,null,904,{"$nulls":5},{"$f":"SUM(Table1[[#This Row],[Column4]]+Table1[[#This Row],[Column3]]+Table1[[#This Row],[Column2]]+Table1[[#This Row],[Column1]])","v":0},{"$nulls":5},{"$f":"SUM(Table1[[#This Row],[PO Employee]:[Other Employee]])","v":0},"N",{"$error":"#N/A"},{"$f":"IF(O921>39,Table1[[#This Row],[Calc 1]],IF(O921>1,\"Not counted as an Employee\",\"#NA\"))","v":"#NA"},{"$f":"MAX(Table1[[#This Row],[PO Employee]],Table1[[#This Row],[Other HZ Employee]],Table1[[#This Row],[Non HZ Employee]],Table1[[#This Row],[Job Site Employee]],Table1[[#This Row],[Other Employee]])","v":0},{"$f":"IF(Table1[[#This Row],[Total Hours per Month]]=Table1[[#This Row],[Column12]],\"Match\",\"Error\")","v":"Match"},{"$f":"IF(Table1[[#This Row],[Calc 2]]=\"#NA\",\"#NA\",IF(Table1[[#This Row],[Non HZ Employee]]=Table1[[#This Row],[Max calc]],\"Non HZ Employee\", Table1[[#This Row],[Calc 2]]))","v":"#NA"}]
[905,null,905,{"$nulls":5},{"$f":"SUM(Table1[[#This Row],[Column4]]+Table1[[#This Row],[Column3]]+Table1[[#This Row],[Column2]]+Table1[[#This Row],[Column1]])","v":0},{"$nulls":5},{"$f":"SUM(Table1[[#This Row],[PO Employee]:[Other Employee]])","v":0},"N",{"$error":"#N/A"},{"$f":"IF(O922>39,Table1[[#This Row],[Calc 1]],IF(O922>1,\"Not counted as an Employee\",\"#NA\"))","v":"#NA"},{"$f":"MAX(Table1[[#This Row],[PO Employee]],Table1[[#This Row],[Other HZ Employee]],Table1[[#This Row],[Non HZ Employee]],Table1[[#This Row],[Job Site Employee]],Table1[[#This Row],[Other Employee]])","v":0},{"$f":"IF(Table1[[#This Row],[Total Hours per Month]]=Table1[[#This Row],[Column12]],\"Match\",\"Error\")","v":"Match"},{"$f":"IF(Table1[[#This Row],[Calc 2]]=\"#NA\",\"#NA\",IF(Table1[[#This Row],[Non HZ Employee]]=Table1[[#This Row],[Max calc]],\"Non HZ Employee\", Table1[[#This Row],[Calc 2]]))","v":"#NA"}]
[906,null,906,{"$nulls":5},{"$f":"SUM(Table1[[#This Row],[Column4]]+Table1[[#This Row],[Column3]]+Table1[[#This Row],[Column2]]+Table1[[#This Row],[Column1]])","v":0},{"$nulls":5},{"$f":"SUM(Table1[[#This Row],[PO Employee]:[Other Employee]])","v":0},"N",{"$error":"#N/A"},{"$f":"IF(O923>39,Table1[[#This Row],[Calc 1]],IF(O923>1,\"Not counted as an Employee\",\"#NA\"))","v":"#NA"},{"$f":"MAX(Table1[[#This Row],[PO Employee]],Table1[[#This Row],[Other HZ Employee]],Table1[[#This Row],[Non HZ Employee]],Table1[[#This Row],[Job Site Employee]],Table1[[#This Row],[Other Employee]])","v":0},{"$f":"IF(Table1[[#This Row],[Total Hours per Month]]=Table1[[#This Row],[Column12]],\"Match\",\"Error\")","v":"Match"},{"$f":"IF(Table1[[#This Row],[Calc 2]]=\"#NA\",\"#NA\",IF(Table1[[#This Row],[Non HZ Employee]]=Table1[[#This Row],[Max calc]],\"Non HZ Employee\", Table1[[#This Row],[Calc 2]]))","v":"#NA"}]
[907,null,907,{"$nulls":5},{"$f":"SUM(Table1[[#This Row],[Column4]]+Table1[[#This Row],[Column3]]+Table1[[#This Row],[Column2]]+Table1[[#This Row],[Column1]])","v":0},{"$nulls":5},{"$f":"SUM(Table1[[#This Row],[PO Employee]:[Other Employee]])","v":0},"N",{"$error":"#N/A"},{"$f":"IF(O924>39,Table1[[#This Row],[Calc 1]],IF(O924>1,\"Not counted as an Employee\",\"#NA\"))","v":"#NA"},{"$f":"MAX(Table1[[#This Row],[PO Employee]],Table1[[#This Row],[Other HZ Employee]],Table1[[#This Row],[Non HZ Employee]],Table1[[#This Row],[Job Site Employee]],Table1[[#This Row],[Other Employee]])","v":0},{"$f":"IF(Table1[[#This Row],[Total Hours per Month]]=Table1[[#This Row],[Column12]],\"Match\",\"Error\")","v":"Match"},{"$f":"IF(Table1[[#This Row],[Calc 2]]=\"#NA\",\"#NA\",IF(Table1[[#This Row],[Non HZ Employee]]=Table1[[#This Row],[Max calc]],\"Non HZ Employee\", Table1[[#This Row],[Calc 2]]))","v":"#NA"}]
[908,null,908,{"$nulls":5},{"$f":"SUM(Table1[[#This Row],[Column4]]+Table1[[#This Row],[Column3]]+Table1[[#This Row],[Column2]]+Table1[[#This Row],[Column1]])","v":0},{"$nulls":5},{"$f":"SUM(Table1[[#This Row],[PO Employee]:[Other Employee]])","v":0},"N",{"$error":"#N/A"},{"$f":"IF(O925>39,Table1[[#This Row],[Calc 1]],IF(O925>1,\"Not counted as an Employee\",\"#NA\"))","v":"#NA"},{"$f":"MAX(Table1[[#This Row],[PO Employee]],Table1[[#This Row],[Other HZ Employee]],Table1[[#This Row],[Non HZ Employee]],Table1[[#This Row],[Job Site Employee]],Table1[[#This Row],[Other Employee]])","v":0},{"$f":"IF(Table1[[#This Row],[Total Hours per Month]]=Table1[[#This Row],[Column12]],\"Match\",\"Error\")","v":"Match"},{"$f":"IF(Table1[[#This Row],[Calc 2]]=\"#NA\",\"#NA\",IF(Table1[[#This Row],[Non HZ Employee]]=Table1[[#This Row],[Max calc]],\"Non HZ Employee\", Table1[[#This Row],[Calc 2]]))","v":"#NA"}]
[909,null,909,{"$nulls":5},{"$f":"SUM(Table1[[#This Row],[Column4]]+Table1[[#This Row],[Column3]]+Table1[[#This Row],[Column2]]+Table1[[#This Row],[Column1]])","v":0},{"$nulls":5},{"$f":"SUM(Table1[[#This Row],[PO Employee]:[Other Employee]])","v":0},"N",{"$error":"#N/A"},{"$f":"IF(O926>39,Table1[[#This Row],[Calc 1]],IF(O926>1,\"Not counted as an Employee\",\"#NA\"))","v":"#NA"},{"$f":"MAX(Table1[[#This Row],[PO Employee]],Table1[[#This Row],[Other HZ Employee]],Table1[[#This Row],[Non HZ Employee]],Table1[[#This Row],[Job Site Employee]],Table1[[#This Row],[Other Employee]])","v":0},{"$f":"IF(Table1[[#This Row],[Total Hours per Month]]=Table1[[#This Row],[Column12]],\"Match\",\"Error\")","v":"Match"},{"$f":"IF(Table1[[#This Row],[Calc 2]]=\"#NA\",\"#NA\",IF(Table1[[#This Row],[Non HZ Employee]]=Table1[[#This Row],[Max calc]],\"Non HZ Employee\", Table1[[#This Row],[Calc 2]]))","v":"#NA"}]
[910,null,910,{"$nulls":5},{"$f":"SUM(Table1[[#This Row],[Column4]]+Table1[[#This Row],[Column3]]+Table1[[#This Row],[Column2]]+Table1[[#This Row],[Column1]])","v":0},{"$nulls":5},{"$f":"SUM(Table1[[#This Row],[PO Employee]:[Other Employee]])","v":0},"N",{"$error":"#N/A"},{"$f":"IF(O927>39,Table1[[#This Row],[Calc 1]],IF(O927>1,\"Not counted as an Employee\",\"#NA\"))","v":"#NA"},{"$f":"MAX(Table1[[#This Row],[PO Employee]],Table1[[#This Row],[Other HZ Employee]],Table1[[#This Row],[Non HZ Employee]],Table1[[#This Row],[Job Site Employee]],Table1[[#This Row],[Other Employee]])","v":0},{"$f":"IF(Table1[[#This Row],[Total Hours per Month]]=Table1[[#This Row],[Column12]],\"Match\",\"Error\")","v":"Match"},{"$f":"IF(Table1[[#This Row],[Calc 2]]=\"#NA\",\"#NA\",IF(Table1[[#This Row],[Non HZ Employee]]=Table1[[#This Row],[Max calc]],\"Non HZ Employee\", Table1[[#This Row],[Calc 2]]))","v":"#NA"}]
[911,null,911,{"$nulls":5},{"$f":"SUM(Table1[[#This Row],[Column4]]+Table1[[#This Row],[Column3]]+Table1[[#This Row],[Column2]]+Table1[[#This Row],[Column1]])","v":0},{"$nulls":5},{"$f":"SUM(Table1[[#This Row],[PO Employee]:[Other Employee]])","v":0},"N",{"$error":"#N/A"},{"$f":"IF(O928>39,Table1[[#This Row],[Calc 1]],IF(O928>1,\"Not counted as an Employee\",\"#NA\"))","v":"#NA"},{"$f":"MAX(Table1[[#This Row],[PO Employee]],Table1[[#This Row],[Other HZ Employee]],Table1[[#This Row],[Non HZ Employee]],Table1[[#This Row],[Job Site Employee]],Table1[[#This Row],[Other Employee]])","v":0},{"$f":"IF(Table1[[#This Row],[Total Hours per Month]]=Table1[[#This Row],[Column12]],\"Match\",\"Error\")","v":"Match"},{"$f":"IF(Table1[[#This Row],[Calc 2]]=\"#NA\",\"#NA\",IF(Table1[[#This Row],[Non HZ Employee]]=Table1[[#This Row],[Max calc]],\"Non HZ Employee\", Table1[[#This Row],[Calc 2]]))","v":"#NA"}]
[912,null,912,{"$nulls":5},{"$f":"SUM(Table1[[#This Row],[Column4]]+Table1[[#This Row],[Column3]]+Table1[[#This Row],[Column2]]+Table1[[#This Row],[Column1]])","v":0},{"$nulls":5},{"$f":"SUM(Table1[[#This Row],[PO Employee]:[Other Employee]])","v":0},"N",{"$error":"#N/A"},{"$f":"IF(O929>39,Table1[[#This Row],[Calc 1]],IF(O929>1,\"Not counted as an Employee\",\"#NA\"))","v":"#NA"},{"$f":"MAX(Table1[[#This Row],[PO Employee]],Table1[[#This Row],[Other HZ Employee]],Table1[[#This Row],[Non HZ Employee]],Table1[[#This Row],[Job Site Employee]],Table1[[#This Row],[Other Employee]])","v":0},{"$f":"IF(Table1[[#This Row],[Total Hours per Month]]=Table1[[#This Row],[Column12]],\"Match\",\"Error\")","v":"Match"},{"$f":"IF(Table1[[#This Row],[Calc 2]]=\"#NA\",\"#NA\",IF(Table1[[#This Row],[Non HZ Employee]]=Table1[[#This Row],[Max calc]],\"Non HZ Employee\", Table1[[#This Row],[Calc 2]]))","v":"#NA"}]
[913,null,913,{"$nulls":5},{"$f":"SUM(Table1[[#This Row],[Column4]]+Table1[[#This Row],[Column3]]+Table1[[#This Row],[Column2]]+Table1[[#This Row],[Column1]])","v":0},{"$nulls":5},{"$f":"SUM(Table1[[#This Row],[PO Employee]:[Other Employee]])","v":0},"N",{"$error":"#N/A"},{"$f":"IF(O930>39,Table1[[#This Row],[Calc 1]],IF(O930>1,\"Not counted as an Employee\",\"#NA\"))","v":"#NA"},{"$f":"MAX(Table1[[#This Row],[PO Employee]],Table1[[#This Row],[Other HZ Employee]],Table1[[#This Row],[Non HZ Employee]],Table1[[#This Row],[Job Site Employee]],Table1[[#This Row],[Other Employee]])","v":0},{"$f":"IF(Table1[[#This Row],[Total Hours per Month]]=Table1[[#This Row],[Column12]],\"Match\",\"Error\")","v":"Match"},{"$f":"IF(Table1[[#This Row],[Calc 2]]=\"#NA\",\"#NA\",IF(Table1[[#This Row],[Non HZ Employee]]=Table1[[#This Row],[Max calc]],\"Non HZ Employee\", Table1[[#This Row],[Calc 2]]))","v":"#NA"}]
[914,null,914,{"$nulls":5},{"$f":"SUM(Table1[[#This Row],[Column4]]+Table1[[#This Row],[Column3]]+Table1[[#This Row],[Column2]]+Table1[[#This Row],[Column1]])","v":0},{"$nulls":5},{"$f":"SUM(Table1[[#This Row],[PO Employee]:[Other Employee]])","v":0},"N",{"$error":"#N/A"},{"$f":"IF(O931>39,Table1[[#This Row],[Calc 1]],IF(O931>1,\"Not counted as an Employee\",\"#NA\"))","v":"#NA"},{"$f":"MAX(Table1[[#This Row],[PO Employee]],Table1[[#This Row],[Other HZ Employee]],Table1[[#This Row],[Non HZ Employee]],Table1[[#This Row],[Job Site Employee]],Table1[[#This Row],[Other Employee]])","v":0},{"$f":"IF(Table1[[#This Row],[Total Hours per Month]]=Table1[[#This Row],[Column12]],\"Match\",\"Error\")","v":"Match"},{"$f":"IF(Table1[[#This Row],[Calc 2]]=\"#NA\",\"#NA\",IF(Table1[[#This Row],[Non HZ Employee]]=Table1[[#This Row],[Max calc]],\"Non HZ Employee\", Table1[[#This Row],[Calc 2]]))","v":"#NA"}]
[915,null,915,{"$nulls":5},{"$f":"SUM(Table1[[#This Row],[Column4]]+Table1[[#This Row],[Column3]]+Table1[[#This Row],[Column2]]+Table1[[#This Row],[Column1]])","v":0},{"$nulls":5},{"$f":"SUM(Table1[[#This Row],[PO Employee]:[Other Employee]])","v":0},"N",{"$error":"#N/A"},{"$f":"IF(O932>39,Table1[[#This Row],[Calc 1]],IF(O932>1,\"Not counted as an Employee\",\"#NA\"))","v":"#NA"},{"$f":"MAX(Table1[[#This Row],[PO Employee]],Table1[[#This Row],[Other HZ Employee]],Table1[[#This Row],[Non HZ Employee]],Table1[[#This Row],[Job Site Employee]],Table1[[#This Row],[Other Employee]])","v":0},{"$f":"IF(Table1[[#This Row],[Total Hours per Month]]=Table1[[#This Row],[Column12]],\"Match\",\"Error\")","v":"Match"},{"$f":"IF(Table1[[#This Row],[Calc 2]]=\"#NA\",\"#NA\",IF(Table1[[#This Row],[Non HZ Employee]]=Table1[[#This Row],[Max calc]],\"Non HZ Employee\", Table1[[#This Row],[Calc 2]]))","v":"#NA"}]
[916,null,916,{"$nulls":5},{"$f":"SUM(Table1[[#This Row],[Column4]]+Table1[[#This Row],[Column3]]+Table1[[#This Row],[Column2]]+Table1[[#This Row],[Column1]])","v":0},{"$nulls":5},{"$f":"SUM(Table1[[#This Row],[PO Employee]:[Other Employee]])","v":0},"N",{"$error":"#N/A"},{"$f":"IF(O933>39,Table1[[#This Row],[Calc 1]],IF(O933>1,\"Not counted as an Employee\",\"#NA\"))","v":"#NA"},{"$f":"MAX(Table1[[#This Row],[PO Employee]],Table1[[#This Row],[Other HZ Employee]],Table1[[#This Row],[Non HZ Employee]],Table1[[#This Row],[Job Site Employee]],Table1[[#This Row],[Other Employee]])","v":0},{"$f":"IF(Table1[[#This Row],[Total Hours per Month]]=Table1[[#This Row],[Column12]],\"Match\",\"Error\")","v":"Match"},{"$f":"IF(Table1[[#This Row],[Calc 2]]=\"#NA\",\"#NA\",IF(Table1[[#This Row],[Non HZ Employee]]=Table1[[#This Row],[Max calc]],\"Non HZ Employee\", Table1[[#This Row],[Calc 2]]))","v":"#NA"}]
[917,null,917,{"$nulls":5},{"$f":"SUM(Table1[[#This Row],[Column4]]+Table1[[#This Row],[Column3]]+Table1[[#This Row],[Column2]]+Table1[[#This Row],[Column1]])","v":0},{"$nulls":5},{"$f":"SUM(Table1[[#This Row],[PO Employee]:[Other Employee]])","v":0},"N",{"$error":"#N/A"},{"$f":"IF(O934>39,Table1[[#This Row],[Calc 1]],IF(O934>1,\"Not counted as an Employee\",\"#NA\"))","v":"#NA"},{"$f":"MAX(Table1[[#This Row],[PO Employee]],Table1[[#This Row],[Other HZ Employee]],Table1[[#This Row],[Non HZ Employee]],Table1[[#This Row],[Job Site Employee]],Table1[[#This Row],[Other Employee]])","v":0},{"$f":"IF(Table1[[#This Row],[Total Hours per Month]]=Table1[[#This Row],[Column12]],\"Match\",\"Error\")","v":"Match"},{"$f":"IF(Table1[[#This Row],[Calc 2]]=\"#NA\",\"#NA\",IF(Table1[[#This Row],[Non HZ Employee]]=Table1[[#This Row],[Max calc]],\"Non HZ Employee\", Table1[[#This Row],[Calc 2]]))","v":"#NA"}]
[918,null,918,{"$nulls":5},{"$f":"SUM(Table1[[#This Row],[Column4]]+Table1[[#This Row],[Column3]]+Table1[[#This Row],[Column2]]+Table1[[#This Row],[Column1]])","v":0},{"$nulls":5},{"$f":"SUM(Table1[[#This Row],[PO Employee]:[Other Employee]])","v":0},"N",{"$error":"#N/A"},{"$f":"IF(O935>39,Table1[[#This Row],[Calc 1]],IF(O935>1,\"Not counted as an Employee\",\"#NA\"))","v":"#NA"},{"$f":"MAX(Table1[[#This Row],[PO Employee]],Table1[[#This Row],[Other HZ Employee]],Table1[[#This Row],[Non HZ Employee]],Table1[[#This Row],[Job Site Employee]],Table1[[#This Row],[Other Employee]])","v":0},{"$f":"IF(Table1[[#This Row],[Total Hours per Month]]=Table1[[#This Row],[Column12]],\"Match\",\"Error\")","v":"Match"},{"$f":"IF(Table1[[#This Row],[Calc 2]]=\"#NA\",\"#NA\",IF(Table1[[#This Row],[Non HZ Employee]]=Table1[[#This Row],[Max calc]],\"Non HZ Employee\", Table1[[#This Row],[Calc 2]]))","v":"#NA"}]
[919,null,919,{"$nulls":5},{"$f":"SUM(Table1[[#This Row],[Column4]]+Table1[[#This Row],[Column3]]+Table1[[#This Row],[Column2]]+Table1[[#This Row],[Column1]])","v":0},{"$nulls":5},{"$f":"SUM(Table1[[#This Row],[PO Employee]:[Other Employee]])","v":0},"N",{"$error":"#N/A"},{"$f":"IF(O936>39,Table1[[#This Row],[Calc 1]],IF(O936>1,\"Not counted as an Employee\",\"#NA\"))","v":"#NA"},{"$f":"MAX(Table1[[#This Row],[PO Employee]],Table1[[#This Row],[Other HZ Employee]],Table1[[#This Row],[Non HZ Employee]],Table1[[#This Row],[Job Site Employee]],Table1[[#This Row],[Other Employee]])","v":0},{"$f":"IF(Table1[[#This Row],[Total Hours per Month]]=Table1[[#This Row],[Column12]],\"Match\",\"Error\")","v":"Match"},{"$f":"IF(Table1[[#This Row],[Calc 2]]=\"#NA\",\"#NA\",IF(Table1[[#This Row],[Non HZ Employee]]=Table1[[#This Row],[Max calc]],\"Non HZ Employee\", Table1[[#This Row],[Calc 2]]))","v":"#NA"}]
[920,null,920,{"$nulls":5},{"$f":"SUM(Table1[[#This Row],[Column4]]+Table1[[#This Row],[Column3]]+Table1[[#This Row],[Column2]]+Table1[[#This Row],[Column1]])","v":0},{"$nulls":5},{"$f":"SUM(Table1[[#This Row],[PO Employee]:[Other Employee]])","v":0},"N",{"$error":"#N/A"},{"$f":"IF(O937>39,Table1[[#This Row],[Calc 1]],IF(O937>1,\"Not counted as an Employee\",\"#NA\"))","v":"#NA"},{"$f":"MAX(Table1[[#This Row],[PO Employee]],Table1[[#This Row],[Other HZ Employee]],Table1[[#This Row],[Non HZ Employee]],Table1[[#This Row],[Job Site Employee]],Table1[[#This Row],[Other Employee]])","v":0},{"$f":"IF(Table1[[#This Row],[Total Hours per Month]]=Table1[[#This Row],[Column12]],\"Match\",\"Error\")","v":"Match"},{"$f":"IF(Table1[[#This Row],[Calc 2]]=\"#NA\",\"#NA\",IF(Table1[[#This Row],[Non HZ Employee]]=Table1[[#This Row],[Max calc]],\"Non HZ Employee\", Table1[[#This Row],[Calc 2]]))","v":"#NA"}]
[921,null,921,{"$nulls":5},{"$f":"SUM(Table1[[#This Row],[Column4]]+Table1[[#This Row],[Column3]]+Table1[[#This Row],[Column2]]+Table1[[#This Row],[Column1]])","v":0},{"$nulls":5},{"$f":"SUM(Table1[[#This Row],[PO Employee]:[Other Employee]])","v":0},"N",{"$error":"#N/A"},{"$f":"IF(O938>39,Table1[[#This Row],[Calc 1]],IF(O938>1,\"Not counted as an Employee\",\"#NA\"))","v":"#NA"},{"$f":"MAX(Table1[[#This Row],[PO Employee]],Table1[[#This Row],[Other HZ Employee]],Table1[[#This Row],[Non HZ Employee]],Table1[[#This Row],[Job Site Employee]],Table1[[#This Row],[Other Employee]])","v":0},{"$f":"IF(Table1[[#This Row],[Total Hours per Month]]=Table1[[#This Row],[Column12]],\"Match\",\"Error\")","v":"Match"},{"$f":"IF(Table1[[#This Row],[Calc 2]]=\"#NA\",\"#NA\",IF(Table1[[#This Row],[Non HZ Employee]]=Table1[[#This Row],[Max calc]],\"Non HZ Employee\", Table1[[#This Row],[Calc 2]]))","v":"#NA"}]
[922,null,922,{"$nulls":5},{"$f":"SUM(Table1[[#This Row],[Column4]]+Table1[[#This Row],[Column3]]+Table1[[#This Row],[Column2]]+Table1[[#This Row],[Column1]])","v":0},{"$nulls":5},{"$f":"SUM(Table1[[#This Row],[PO Employee]:[Other Employee]])","v":0},"N",{"$error":"#N/A"},{"$f":"IF(O939>39,Table1[[#This Row],[Calc 1]],IF(O939>1,\"Not counted as an Employee\",\"#NA\"))","v":"#NA"},{"$f":"MAX(Table1[[#This Row],[PO Employee]],Table1[[#This Row],[Other HZ Employee]],Table1[[#This Row],[Non HZ Employee]],Table1[[#This Row],[Job Site Employee]],Table1[[#This Row],[Other Employee]])","v":0},{"$f":"IF(Table1[[#This Row],[Total Hours per Month]]=Table1[[#This Row],[Column12]],\"Match\",\"Error\")","v":"Match"},{"$f":"IF(Table1[[#This Row],[Calc 2]]=\"#NA\",\"#NA\",IF(Table1[[#This Row],[Non HZ Employee]]=Table1[[#This Row],[Max calc]],\"Non HZ Employee\", Table1[[#This Row],[Calc 2]]))","v":"#NA"}]
[923,null,923,{"$nulls":5},{"$f":"SUM(Table1[[#This Row],[Column4]]+Table1[[#This Row],[Column3]]+Table1[[#This Row],[Column2]]+Table1[[#This Row],[Column1]])","v":0},{"$nulls":5},{"$f":"SUM(Table1[[#This Row],[PO Employee]:[Other Employee]])","v":0},"N",{"$error":"#N/A"},{"$f":"IF(O940>39,Table1[[#This Row],[Calc 1]],IF(O940>1,\"Not counted as an Employee\",\"#NA\"))","v":"#NA"},{"$f":"MAX(Table1[[#This Row],[PO Employee]],Table1[[#This Row],[Other HZ Employee]],Table1[[#This Row],[Non HZ Employee]],Table1[[#This Row],[Job Site Employee]],Table1[[#This Row],[Other Employee]])","v":0},{"$f":"IF(Table1[[#This Row],[Total Hours per Month]]=Table1[[#This Row],[Column12]],\"Match\",\"Error\")","v":"Match"},{"$f":"IF(Table1[[#This Row],[Calc 2]]=\"#NA\",\"#NA\",IF(Table1[[#This Row],[Non HZ Employee]]=Table1[[#This Row],[Max calc]],\"Non HZ Employee\", Table1[[#This Row],[Calc 2]]))","v":"#NA"}]
[924,null,924,{"$nulls":5},{"$f":"SUM(Table1[[#This Row],[Column4]]+Table1[[#This Row],[Column3]]+Table1[[#This Row],[Column2]]+Table1[[#This Row],[Column1]])","v":0},{"$nulls":5},{"$f":"SUM(Table1[[#This Row],[PO Employee]:[Other Employee]])","v":0},"N",{"$error":"#N/A"},{"$f":"IF(O941>39,Table1[[#This Row],[Calc 1]],IF(O941>1,\"Not counted as an Employee\",\"#NA\"))","v":"#NA"},{"$f":"MAX(Table1[[#This Row],[PO Employee]],Table1[[#This Row],[Other HZ Employee]],Table1[[#This Row],[Non HZ Employee]],Table1[[#This Row],[Job Site Employee]],Table1[[#This Row],[Other Employee]])","v":0},{"$f":"IF(Table1[[#This Row],[Total Hours per Month]]=Table1[[#This Row],[Column12]],\"Match\",\"Error\")","v":"Match"},{"$f":"IF(Table1[[#This Row],[Calc 2]]=\"#NA\",\"#NA\",IF(Table1[[#This Row],[Non HZ Employee]]=Table1[[#This Row],[Max calc]],\"Non HZ Employee\", Table1[[#This Row],[Calc 2]]))","v":"#NA"}]
[925,null,925,{"$nulls":5},{"$f":"SUM(Table1[[#This Row],[Column4]]+Table1[[#This Row],[Column3]]+Table1[[#This Row],[Column2]]+Table1[[#This Row],[Column1]])","v":0},{"$nulls":5},{"$f":"SUM(Table1[[#This Row],[PO Employee]:[Other Employee]])","v":0},"N",{"$error":"#N/A"},{"$f":"IF(O942>39,Table1[[#This Row],[Calc 1]],IF(O942>1,\"Not counted as an Employee\",\"#NA\"))","v":"#NA"},{"$f":"MAX(Table1[[#This Row],[PO Employee]],Table1[[#This Row],[Other HZ Employee]],Table1[[#This Row],[Non HZ Employee]],Table1[[#This Row],[Job Site Employee]],Table1[[#This Row],[Other Employee]])","v":0},{"$f":"IF(Table1[[#This Row],[Total Hours per Month]]=Table1[[#This Row],[Column12]],\"Match\",\"Error\")","v":"Match"},{"$f":"IF(Table1[[#This Row],[Calc 2]]=\"#NA\",\"#NA\",IF(Table1[[#This Row],[Non HZ Employee]]=Table1[[#This Row],[Max calc]],\"Non HZ Employee\", Table1[[#This Row],[Calc 2]]))","v":"#NA"}]
[926,null,926,{"$nulls":5},{"$f":"SUM(Table1[[#This Row],[Column4]]+Table1[[#This Row],[Column3]]+Table1[[#This Row],[Column2]]+Table1[[#This Row],[Column1]])","v":0},{"$nulls":5},{"$f":"SUM(Table1[[#This Row],[PO Employee]:[Other Employee]])","v":0},"N",{"$error":"#N/A"},{"$f":"IF(O943>39,Table1[[#This Row],[Calc 1]],IF(O943>1,\"Not counted as an Employee\",\"#NA\"))","v":"#NA"},{"$f":"MAX(Table1[[#This Row],[PO Employee]],Table1[[#This Row],[Other HZ Employee]],Table1[[#This Row],[Non HZ Employee]],Table1[[#This Row],[Job Site Employee]],Table1[[#This Row],[Other Employee]])","v":0},{"$f":"IF(Table1[[#This Row],[Total Hours per Month]]=Table1[[#This Row],[Column12]],\"Match\",\"Error\")","v":"Match"},{"$f":"IF(Table1[[#This Row],[Calc 2]]=\"#NA\",\"#NA\",IF(Table1[[#This Row],[Non HZ Employee]]=Table1[[#This Row],[Max calc]],\"Non HZ Employee\", Table1[[#This Row],[Calc 2]]))","v":"#NA"}]
[927,null,927,{"$nulls":5},{"$f":"SUM(Table1[[#This Row],[Column4]]+Table1[[#This Row],[Column3]]+Table1[[#This Row],[Column2]]+Table1[[#This Row],[Column1]])","v":0},{"$nulls":5},{"$f":"SUM(Table1[[#This Row],[PO Employee]:[Other Employee]])","v":0},"N",{"$error":"#N/A"},{"$f":"IF(O944>39,Table1[[#This Row],[Calc 1]],IF(O944>1,\"Not counted as an Employee\",\"#NA\"))","v":"#NA"},{"$f":"MAX(Table1[[#This Row],[PO Employee]],Table1[[#This Row],[Other HZ Employee]],Table1[[#This Row],[Non HZ Employee]],Table1[[#This Row],[Job Site Employee]],Table1[[#This Row],[Other Employee]])","v":0},{"$f":"IF(Table1[[#This Row],[Total Hours per Month]]=Table1[[#This Row],[Column12]],\"Match\",\"Error\")","v":"Match"},{"$f":"IF(Table1[[#This Row],[Calc 2]]=\"#NA\",\"#NA\",IF(Table1[[#This Row],[Non HZ Employee]]=Table1[[#This Row],[Max calc]],\"Non HZ Employee\", Table1[[#This Row],[Calc 2]]))","v":"#NA"}]
[928,null,928,{"$nulls":5},{"$f":"SUM(Table1[[#This Row],[Column4]]+Table1[[#This Row],[Column3]]+Table1[[#This Row],[Column2]]+Table1[[#This Row],[Column1]])","v":0},{"$nulls":5},{"$f":"SUM(Table1[[#This Row],[PO Employee]:[Other Employee]])","v":0},"N",{"$error":"#N/A"},{"$f":"IF(O945>39,Table1[[#This Row],[Calc 1]],IF(O945>1,\"Not counted as an Employee\",\"#NA\"))","v":"#NA"},{"$f":"MAX(Table1[[#This Row],[PO Employee]],Table1[[#This Row],[Other HZ Employee]],Table1[[#This Row],[Non HZ Employee]],Table1[[#This Row],[Job Site Employee]],Table1[[#This Row],[Other Employee]])","v":0},{"$f":"IF(Table1[[#This Row],[Total Hours per Month]]=Table1[[#This Row],[Column12]],\"Match\",\"Error\")","v":"Match"},{"$f":"IF(Table1[[#This Row],[Calc 2]]=\"#NA\",\"#NA\",IF(Table1[[#This Row],[Non HZ Employee]]=Table1[[#This Row],[Max calc]],\"Non HZ Employee\", Table1[[#This Row],[Calc 2]]))","v":"#NA"}]
[929,null,929,{"$nulls":5},{"$f":"SUM(Table1[[#This Row],[Column4]]+Table1[[#This Row],[Column3]]+Table1[[#This Row],[Column2]]+Table1[[#This Row],[Column1]])","v":0},{"$nulls":5},{"$f":"SUM(Table1[[#This Row],[PO Employee]:[Other Employee]])","v":0},"N",{"$error":"#N/A"},{"$f":"IF(O946>39,Table1[[#This Row],[Calc 1]],IF(O946>1,\"Not counted as an Employee\",\"#NA\"))","v":"#NA"},{"$f":"MAX(Table1[[#This Row],[PO Employee]],Table1[[#This Row],[Other HZ Employee]],Table1[[#This Row],[Non HZ Employee]],Table1[[#This Row],[Job Site Employee]],Table1[[#This Row],[Other Employee]])","v":0},{"$f":"IF(Table1[[#This Row],[Total Hours per Month]]=Table1[[#This Row],[Column12]],\"Match\",\"Error\")","v":"Match"},{"$f":"IF(Table1[[#This Row],[Calc 2]]=\"#NA\",\"#NA\",IF(Table1[[#This Row],[Non HZ Employee]]=Table1[[#This Row],[Max calc]],\"Non HZ Employee\", Table1[[#This Row],[Calc 2]]))","v":"#NA"}]
[930,null,930,{"$nulls":5},{"$f":"SUM(Table1[[#This Row],[Column4]]+Table1[[#This Row],[Column3]]+Table1[[#This Row],[Column2]]+Table1[[#This Row],[Column1]])","v":0},{"$nulls":5},{"$f":"SUM(Table1[[#This Row],[PO Employee]:[Other Employee]])","v":0},"N",{"$error":"#N/A"},{"$f":"IF(O947>39,Table1[[#This Row],[Calc 1]],IF(O947>1,\"Not counted as an Employee\",\"#NA\"))","v":"#NA"},{"$f":"MAX(Table1[[#This Row],[PO Employee]],Table1[[#This Row],[Other HZ Employee]],Table1[[#This Row],[Non HZ Employee]],Table1[[#This Row],[Job Site Employee]],Table1[[#This Row],[Other Employee]])","v":0},{"$f":"IF(Table1[[#This Row],[Total Hours per Month]]=Table1[[#This Row],[Column12]],\"Match\",\"Error\")","v":"Match"},{"$f":"IF(Table1[[#This Row],[Calc 2]]=\"#NA\",\"#NA\",IF(Table1[[#This Row],[Non HZ Employee]]=Table1[[#This Row],[Max calc]],\"Non HZ Employee\", Table1[[#This Row],[Calc 2]]))","v":"#NA"}]
[931,null,931,{"$nulls":5},{"$f":"SUM(Table1[[#This Row],[Column4]]+Table1[[#This Row],[Column3]]+Table1[[#This Row],[Column2]]+Table1[[#This Row],[Column1]])","v":0},{"$nulls":5},{"$f":"SUM(Table1[[#This Row],[PO Employee]:[Other Employee]])","v":0},"N",{"$error":"#N/A"},{"$f":"IF(O948>39,Table1[[#This Row],[Calc 1]],IF(O948>1,\"Not counted as an Employee\",\"#NA\"))","v":"#NA"},{"$f":"MAX(Table1[[#This Row],[PO Employee]],Table1[[#This Row],[Other HZ Employee]],Table1[[#This Row],[Non HZ Employee]],Table1[[#This Row],[Job Site Employee]],Table1[[#This Row],[Other Employee]])","v":0},{"$f":"IF(Table1[[#This Row],[Total Hours per Month]]=Table1[[#This Row],[Column12]],\"Match\",\"Error\")","v":"Match"},{"$f":"IF(Table1[[#This Row],[Calc 2]]=\"#NA\",\"#NA\",IF(Table1[[#This Row],[Non HZ Employee]]=Table1[[#This Row],[Max calc]],\"Non HZ Employee\", Table1[[#This Row],[Calc 2]]))","v":"#NA"}]
[932,null,932,{"$nulls":5},{"$f":"SUM(Table1[[#This Row],[Column4]]+Table1[[#This Row],[Column3]]+Table1[[#This Row],[Column2]]+Table1[[#This Row],[Column1]])","v":0},{"$nulls":5},{"$f":"SUM(Table1[[#This Row],[PO Employee]:[Other Employee]])","v":0},"N",{"$error":"#N/A"},{"$f":"IF(O949>39,Table1[[#This Row],[Calc 1]],IF(O949>1,\"Not counted as an Employee\",\"#NA\"))","v":"#NA"},{"$f":"MAX(Table1[[#This Row],[PO Employee]],Table1[[#This Row],[Other HZ Employee]],Table1[[#This Row],[Non HZ Employee]],Table1[[#This Row],[Job Site Employee]],Table1[[#This Row],[Other Employee]])","v":0},{"$f":"IF(Table1[[#This Row],[Total Hours per Month]]=Table1[[#This Row],[Column12]],\"Match\",\"Error\")","v":"Match"},{"$f":"IF(Table1[[#This Row],[Calc 2]]=\"#NA\",\"#NA\",IF(Table1[[#This Row],[Non HZ Employee]]=Table1[[#This Row],[Max calc]],\"Non HZ Employee\", Table1[[#This Row],[Calc 2]]))","v":"#NA"}]
[933,null,933,{"$nulls":5},{"$f":"SUM(Table1[[#This Row],[Column4]]+Table1[[#This Row],[Column3]]+Table1[[#This Row],[Column2]]+Table1[[#This Row],[Column1]])","v":0},{"$nulls":5},{"$f":"SUM(Table1[[#This Row],[PO Employee]:[Other Employee]])","v":0},"N",{"$error":"#N/A"},{"$f":"IF(O950>39,Table1[[#This Row],[Calc 1]],IF(O950>1,\"Not counted as an Employee\",\"#NA\"))","v":"#NA"},{"$f":"MAX(Table1[[#This Row],[PO Employee]],Table1[[#This Row],[Other HZ Employee]],Table1[[#This Row],[Non HZ Employee]],Table1[[#This Row],[Job Site Employee]],Table1[[#This Row],[Other Employee]])","v":0},{"$f":"IF(Table1[[#This Row],[Total Hours per Month]]=Table1[[#This Row],[Column12]],\"Match\",\"Error\")","v":"Match"},{"$f":"IF(Table1[[#This Row],[Calc 2]]=\"#NA\",\"#NA\",IF(Table1[[#This Row],[Non HZ Employee]]=Table1[[#This Row],[Max calc]],\"Non HZ Employee\", Table1[[#This Row],[Calc 2]]))","v":"#NA"}]
[934,null,934,{"$nulls":5},{"$f":"SUM(Table1[[#This Row],[Column4]]+Table1[[#This Row],[Column3]]+Table1[[#This Row],[Column2]]+Table1[[#This Row],[Column1]])","v":0},{"$nulls":5},{"$f":"SUM(Table1[[#This Row],[PO Employee]:[Other Employee]])","v":0},"N",{"$error":"#N/A"},{"$f":"IF(O951>39,Table1[[#This Row],[Calc 1]],IF(O951>1,\"Not counted as an Employee\",\"#NA\"))","v":"#NA"},{"$f":"MAX(Table1[[#This Row],[PO Employee]],Table1[[#This Row],[Other HZ Employee]],Table1[[#This Row],[Non HZ Employee]],Table1[[#This Row],[Job Site Employee]],Table1[[#This Row],[Other Employee]])","v":0},{"$f":"IF(Table1[[#This Row],[Total Hours per Month]]=Table1[[#This Row],[Column12]],\"Match\",\"Error\")","v":"Match"},{"$f":"IF(Table1[[#This Row],[Calc 2]]=\"#NA\",\"#NA\",IF(Table1[[#This Row],[Non HZ Employee]]=Table1[[#This Row],[Max calc]],\"Non HZ Employee\", Table1[[#This Row],[Calc 2]]))","v":"#NA"}]
[935,null,935,{"$nulls":5},{"$f":"SUM(Table1[[#This Row],[Column4]]+Table1[[#This Row],[Column3]]+Table1[[#This Row],[Column2]]+Table1[[#This Row],[Column1]])","v":0},{"$nulls":5},{"$f":"SUM(Table1[[#This Row],[PO Employee]:[Other Employee]])","v":0},"N",{"$error":"#N/A"},{"$f":"IF(O952>39,Table1[[#This Row],[Calc 1]],IF(O952>1,\"Not counted as an Employee\",\"#NA\"))","v":"#NA"},{"$f":"MAX(Table1[[#This Row],[PO Employee]],Table1[[#This Row],[Other HZ Employee]],Table1[[#This Row],[Non HZ Employee]],Table1[[#This Row],[Job Site Employee]],Table1[[#This Row],[Other Employee]])","v":0},{"$f":"IF(Table1[[#This Row],[Total Hours per Month]]=Table1[[#This Row],[Column12]],\"Match\",\"Error\")","v":"Match"},{"$f":"IF(Table1[[#This Row],[Calc 2]]=\"#NA\",\"#NA\",IF(Table1[[#This Row],[Non HZ Employee]]=Table1[[#This Row],[Max calc]],\"Non HZ Employee\", Table1[[#This Row],[Calc 2]]))","v":"#NA"}]
[936,null,936,{"$nulls":5},{"$f":"SUM(Table1[[#This Row],[Column4]]+Table1[[#This Row],[Column3]]+Table1[[#This Row],[Column2]]+Table1[[#This Row],[Column1]])","v":0},{"$nulls":5},{"$f":"SUM(Table1[[#This Row],[PO Employee]:[Other Employee]])","v":0},"N",{"$error":"#N/A"},{"$f":"IF(O953>39,Table1[[#This Row],[Calc 1]],IF(O953>1,\"Not counted as an Employee\",\"#NA\"))","v":"#NA"},{"$f":"MAX(Table1[[#This Row],[PO Employee]],Table1[[#This Row],[Other HZ Employee]],Table1[[#This Row],[Non HZ Employee]],Table1[[#This Row],[Job Site Employee]],Table1[[#This Row],[Other Employee]])","v":0},{"$f":"IF(Table1[[#This Row],[Total Hours per Month]]=Table1[[#This Row],[Column12]],\"Match\",\"Error\")","v":"Match"},{"$f":"IF(Table1[[#This Row],[Calc 2]]=\"#NA\",\"#NA\",IF(Table1[[#This Row],[Non HZ Employee]]=Table1[[#This Row],[Max calc]],\"Non HZ Employee\", Table1[[#This Row],[Calc 2]]))","v":"#NA"}]
[937,null,937,{"$nulls":5},{"$f":"SUM(Table1[[#This Row],[Column4]]+Table1[[#This Row],[Column3]]+Table1[[#This Row],[Column2]]+Table1[[#This Row],[Column1]])","v":0},{"$nulls":5},{"$f":"SUM(Table1[[#This Row],[PO Employee]:[Other Employee]])","v":0},"N",{"$error":"#N/A"},{"$f":"IF(O954>39,Table1[[#This Row],[Calc 1]],IF(O954>1,\"Not counted as an Employee\",\"#NA\"))","v":"#NA"},{"$f":"MAX(Table1[[#This Row],[PO Employee]],Table1[[#This Row],[Other HZ Employee]],Table1[[#This Row],[Non HZ Employee]],Table1[[#This Row],[Job Site Employee]],Table1[[#This Row],[Other Employee]])","v":0},{"$f":"IF(Table1[[#This Row],[Total Hours per Month]]=Table1[[#This Row],[Column12]],\"Match\",\"Error\")","v":"Match"},{"$f":"IF(Table1[[#This Row],[Calc 2]]=\"#NA\",\"#NA\",IF(Table1[[#This Row],[Non HZ Employee]]=Table1[[#This Row],[Max calc]],\"Non HZ Employee\", Table1[[#This Row],[Calc 2]]))","v":"#NA"}]
[938,null,938,{"$nulls":5},{"$f":"SUM(Table1[[#This Row],[Column4]]+Table1[[#This Row],[Column3]]+Table1[[#This Row],[Column2]]+Table1[[#This Row],[Column1]])","v":0},{"$nulls":5},{"$f":"SUM(Table1[[#This Row],[PO Employee]:[Other Employee]])","v":0},"N",{"$error":"#N/A"},{"$f":"IF(O955>39,Table1[[#This Row],[Calc 1]],IF(O955>1,\"Not counted as an Employee\",\"#NA\"))","v":"#NA"},{"$f":"MAX(Table1[[#This Row],[PO Employee]],Table1[[#This Row],[Other HZ Employee]],Table1[[#This Row],[Non HZ Employee]],Table1[[#This Row],[Job Site Employee]],Table1[[#This Row],[Other Employee]])","v":0},{"$f":"IF(Table1[[#This Row],[Total Hours per Month]]=Table1[[#This Row],[Column12]],\"Match\",\"Error\")","v":"Match"},{"$f":"IF(Table1[[#This Row],[Calc 2]]=\"#NA\",\"#NA\",IF(Table1[[#This Row],[Non HZ Employee]]=Table1[[#This Row],[Max calc]],\"Non HZ Employee\", Table1[[#This Row],[Calc 2]]))","v":"#NA"}]
[939,null,939,{"$nulls":5},{"$f":"SUM(Table1[[#This Row],[Column4]]+Table1[[#This Row],[Column3]]+Table1[[#This Row],[Column2]]+Table1[[#This Row],[Column1]])","v":0},{"$nulls":5},{"$f":"SUM(Table1[[#This Row],[PO Employee]:[Other Employee]])","v":0},"N",{"$error":"#N/A"},{"$f":"IF(O956>39,Table1[[#This Row],[Calc 1]],IF(O956>1,\"Not counted as an Employee\",\"#NA\"))","v":"#NA"},{"$f":"MAX(Table1[[#This Row],[PO Employee]],Table1[[#This Row],[Other HZ Employee]],Table1[[#This Row],[Non HZ Employee]],Table1[[#This Row],[Job Site Employee]],Table1[[#This Row],[Other Employee]])","v":0},{"$f":"IF(Table1[[#This Row],[Total Hours per Month]]=Table1[[#This Row],[Column12]],\"Match\",\"Error\")","v":"Match"},{"$f":"IF(Table1[[#This Row],[Calc 2]]=\"#NA\",\"#NA\",IF(Table1[[#This Row],[Non HZ Employee]]=Table1[[#This Row],[Max calc]],\"Non HZ Employee\", Table1[[#This Row],[Calc 2]]))","v":"#NA"}]
[940,null,940,{"$nulls":5},{"$f":"SUM(Table1[[#This Row],[Column4]]+Table1[[#This Row],[Column3]]+Table1[[#This Row],[Column2]]+Table1[[#This Row],[Column1]])","v":0},{"$nulls":5},{"$f":"SUM(Table1[[#This Row],[PO Employee]:[Other Employee]])","v":0},"N",{"$error":"#N/A"},{"$f":"IF(O957>39,Table1[[#This Row],[Calc 1]],IF(O957>1,\"Not counted as an Employee\",\"#NA\"))","v":"#NA"},{"$f":"MAX(Table1[[#This Row],[PO Employee]],Table1[[#This Row],[Other HZ Employee]],Table1[[#This Row],[Non HZ Employee]],Table1[[#This Row],[Job Site Employee]],Table1[[#This Row],[Other Employee]])","v":0},{"$f":"IF(Table1[[#This Row],[Total Hours per Month]]=Table1[[#This Row],[Column12]],\"Match\",\"Error\")","v":"Match"},{"$f":"IF(Table1[[#This Row],[Calc 2]]=\"#NA\",\"#NA\",IF(Table1[[#This Row],[Non HZ Employee]]=Table1[[#This Row],[Max calc]],\"Non HZ Employee\", Table1[[#This Row],[Calc 2]]))","v":"#NA"}]
[941,null,941,{"$nulls":5},{"$f":"SUM(Table1[[#This Row],[Column4]]+Table1[[#This Row],[Column3]]+Table1[[#This Row],[Column2]]+Table1[[#This Row],[Column1]])","v":0},{"$nulls":5},{"$f":"SUM(Table1[[#This Row],[PO Employee]:[Other Employee]])","v":0},"N",{"$error":"#N/A"},{"$f":"IF(O958>39,Table1[[#This Row],[Calc 1]],IF(O958>1,\"Not counted as an Employee\",\"#NA\"))","v":"#NA"},{"$f":"MAX(Table1[[#This Row],[PO Employee]],Table1[[#This Row],[Other HZ Employee]],Table1[[#This Row],[Non HZ Employee]],Table1[[#This Row],[Job Site Employee]],Table1[[#This Row],[Other Employee]])","v":0},{"$f":"IF(Table1[[#This Row],[Total Hours per Month]]=Table1[[#This Row],[Column12]],\"Match\",\"Error\")","v":"Match"},{"$f":"IF(Table1[[#This Row],[Calc 2]]=\"#NA\",\"#NA\",IF(Table1[[#This Row],[Non HZ Employee]]=Table1[[#This Row],[Max calc]],\"Non HZ Employee\", Table1[[#This Row],[Calc 2]]))","v":"#NA"}]
[942,null,942,{"$nulls":5},{"$f":"SUM(Table1[[#This Row],[Column4]]+Table1[[#This Row],[Column3]]+Table1[[#This Row],[Column2]]+Table1[[#This Row],[Column1]])","v":0},{"$nulls":5},{"$f":"SUM(Table1[[#This Row],[PO Employee]:[Other Employee]])","v":0},"N",{"$error":"#N/A"},{"$f":"IF(O959>39,Table1[[#This Row],[Calc 1]],IF(O959>1,\"Not counted as an Employee\",\"#NA\"))","v":"#NA"},{"$f":"MAX(Table1[[#This Row],[PO Employee]],Table1[[#This Row],[Other HZ Employee]],Table1[[#This Row],[Non HZ Employee]],Table1[[#This Row],[Job Site Employee]],Table1[[#This Row],[Other Employee]])","v":0},{"$f":"IF(Table1[[#This Row],[Total Hours per Month]]=Table1[[#This Row],[Column12]],\"Match\",\"Error\")","v":"Match"},{"$f":"IF(Table1[[#This Row],[Calc 2]]=\"#NA\",\"#NA\",IF(Table1[[#This Row],[Non HZ Employee]]=Table1[[#This Row],[Max calc]],\"Non HZ Employee\", Table1[[#This Row],[Calc 2]]))","v":"#NA"}]
[943,null,943,{"$nulls":5},{"$f":"SUM(Table1[[#This Row],[Column4]]+Table1[[#This Row],[Column3]]+Table1[[#This Row],[Column2]]+Table1[[#This Row],[Column1]])","v":0},{"$nulls":5},{"$f":"SUM(Table1[[#This Row],[PO Employee]:[Other Employee]])","v":0},"N",{"$error":"#N/A"},{"$f":"IF(O960>39,Table1[[#This Row],[Calc 1]],IF(O960>1,\"Not counted as an Employee\",\"#NA\"))","v":"#NA"},{"$f":"MAX(Table1[[#This Row],[PO Employee]],Table1[[#This Row],[Other HZ Employee]],Table1[[#This Row],[Non HZ Employee]],Table1[[#This Row],[Job Site Employee]],Table1[[#This Row],[Other Employee]])","v":0},{"$f":"IF(Table1[[#This Row],[Total Hours per Month]]=Table1[[#This Row],[Column12]],\"Match\",\"Error\")","v":"Match"},{"$f":"IF(Table1[[#This Row],[Calc 2]]=\"#NA\",\"#NA\",IF(Table1[[#This Row],[Non HZ Employee]]=Table1[[#This Row],[Max calc]],\"Non HZ Employee\", Table1[[#This Row],[Calc 2]]))","v":"#NA"}]
[944,null,944,{"$nulls":5},{"$f":"SUM(Table1[[#This Row],[Column4]]+Table1[[#This Row],[Column3]]+Table1[[#This Row],[Column2]]+Table1[[#This Row],[Column1]])","v":0},{"$nulls":5},{"$f":"SUM(Table1[[#This Row],[PO Employee]:[Other Employee]])","v":0},"N",{"$error":"#N/A"},{"$f":"IF(O961>39,Table1[[#This Row],[Calc 1]],IF(O961>1,\"Not counted as an Employee\",\"#NA\"))","v":"#NA"},{"$f":"MAX(Table1[[#This Row],[PO Employee]],Table1[[#This Row],[Other HZ Employee]],Table1[[#This Row],[Non HZ Employee]],Table1[[#This Row],[Job Site Employee]],Table1[[#This Row],[Other Employee]])","v":0},{"$f":"IF(Table1[[#This Row],[Total Hours per Month]]=Table1[[#This Row],[Column12]],\"Match\",\"Error\")","v":"Match"},{"$f":"IF(Table1[[#This Row],[Calc 2]]=\"#NA\",\"#NA\",IF(Table1[[#This Row],[Non HZ Employee]]=Table1[[#This Row],[Max calc]],\"Non HZ Employee\", Table1[[#This Row],[Calc 2]]))","v":"#NA"}]
[945,null,945,{"$nulls":5},{"$f":"SUM(Table1[[#This Row],[Column4]]+Table1[[#This Row],[Column3]]+Table1[[#This Row],[Column2]]+Table1[[#This Row],[Column1]])","v":0},{"$nulls":5},{"$f":"SUM(Table1[[#This Row],[PO Employee]:[Other Employee]])","v":0},"N",{"$error":"#N/A"},{"$f":"IF(O962>39,Table1[[#This Row],[Calc 1]],IF(O962>1,\"Not counted as an Employee\",\"#NA\"))","v":"#NA"},{"$f":"MAX(Table1[[#This Row],[PO Employee]],Table1[[#This Row],[Other HZ Employee]],Table1[[#This Row],[Non HZ Employee]],Table1[[#This Row],[Job Site Employee]],Table1[[#This Row],[Other Employee]])","v":0},{"$f":"IF(Table1[[#This Row],[Total Hours per Month]]=Table1[[#This Row],[Column12]],\"Match\",\"Error\")","v":"Match"},{"$f":"IF(Table1[[#This Row],[Calc 2]]=\"#NA\",\"#NA\",IF(Table1[[#This Row],[Non HZ Employee]]=Table1[[#This Row],[Max calc]],\"Non HZ Employee\", Table1[[#This Row],[Calc 2]]))","v":"#NA"}]
[946,null,946,{"$nulls":5},{"$f":"SUM(Table1[[#This Row],[Column4]]+Table1[[#This Row],[Column3]]+Table1[[#This Row],[Column2]]+Table1[[#This Row],[Column1]])","v":0},{"$nulls":5},{"$f":"SUM(Table1[[#This Row],[PO Employee]:[Other Employee]])","v":0},"N",{"$error":"#N/A"},{"$f":"IF(O963>39,Table1[[#This Row],[Calc 1]],IF(O963>1,\"Not counted as an Employee\",\"#NA\"))","v":"#NA"},{"$f":"MAX(Table1[[#This Row],[PO Employee]],Table1[[#This Row],[Other HZ Employee]],Table1[[#This Row],[Non HZ Employee]],Table1[[#This Row],[Job Site Employee]],Table1[[#This Row],[Other Employee]])","v":0},{"$f":"IF(Table1[[#This Row],[Total Hours per Month]]=Table1[[#This Row],[Column12]],\"Match\",\"Error\")","v":"Match"},{"$f":"IF(Table1[[#This Row],[Calc 2]]=\"#NA\",\"#NA\",IF(Table1[[#This Row],[Non HZ Employee]]=Table1[[#This Row],[Max calc]],\"Non HZ Employee\", Table1[[#This Row],[Calc 2]]))","v":"#NA"}]
[947,null,947,{"$nulls":5},{"$f":"SUM(Table1[[#This Row],[Column4]]+Table1[[#This Row],[Column3]]+Table1[[#This Row],[Column2]]+Table1[[#This Row],[Column1]])","v":0},{"$nulls":5},{"$f":"SUM(Table1[[#This Row],[PO Employee]:[Other Employee]])","v":0},"N",{"$error":"#N/A"},{"$f":"IF(O964>39,Table1[[#This Row],[Calc 1]],IF(O964>1,\"Not counted as an Employee\",\"#NA\"))","v":"#NA"},{"$f":"MAX(Table1[[#This Row],[PO Employee]],Table1[[#This Row],[Other HZ Employee]],Table1[[#This Row],[Non HZ Employee]],Table1[[#This Row],[Job Site Employee]],Table1[[#This Row],[Other Employee]])","v":0},{"$f":"IF(Table1[[#This Row],[Total Hours per Month]]=Table1[[#This Row],[Column12]],\"Match\",\"Error\")","v":"Match"},{"$f":"IF(Table1[[#This Row],[Calc 2]]=\"#NA\",\"#NA\",IF(Table1[[#This Row],[Non HZ Employee]]=Table1[[#This Row],[Max calc]],\"Non HZ Employee\", Table1[[#This Row],[Calc 2]]))","v":"#NA"}]
[948,null,948,{"$nulls":5},{"$f":"SUM(Table1[[#This Row],[Column4]]+Table1[[#This Row],[Column3]]+Table1[[#This Row],[Column2]]+Table1[[#This Row],[Column1]])","v":0},{"$nulls":5},{"$f":"SUM(Table1[[#This Row],[PO Employee]:[Other Employee]])","v":0},"N",{"$error":"#N/A"},{"$f":"IF(O965>39,Table1[[#This Row],[Calc 1]],IF(O965>1,\"Not counted as an Employee\",\"#NA\"))","v":"#NA"},{"$f":"MAX(Table1[[#This Row],[PO Employee]],Table1[[#This Row],[Other HZ Employee]],Table1[[#This Row],[Non HZ Employee]],Table1[[#This Row],[Job Site Employee]],Table1[[#This Row],[Other Employee]])","v":0},{"$f":"IF(Table1[[#This Row],[Total Hours per Month]]=Table1[[#This Row],[Column12]],\"Match\",\"Error\")","v":"Match"},{"$f":"IF(Table1[[#This Row],[Calc 2]]=\"#NA\",\"#NA\",IF(Table1[[#This Row],[Non HZ Employee]]=Table1[[#This Row],[Max calc]],\"Non HZ Employee\", Table1[[#This Row],[Calc 2]]))","v":"#NA"}]
[949,null,949,{"$nulls":5},{"$f":"SUM(Table1[[#This Row],[Column4]]+Table1[[#This Row],[Column3]]+Table1[[#This Row],[Column2]]+Table1[[#This Row],[Column1]])","v":0},{"$nulls":5},{"$f":"SUM(Table1[[#This Row],[PO Employee]:[Other Employee]])","v":0},"N",{"$error":"#N/A"},{"$f":"IF(O966>39,Table1[[#This Row],[Calc 1]],IF(O966>1,\"Not counted as an Employee\",\"#NA\"))","v":"#NA"},{"$f":"MAX(Table1[[#This Row],[PO Employee]],Table1[[#This Row],[Other HZ Employee]],Table1[[#This Row],[Non HZ Employee]],Table1[[#This Row],[Job Site Employee]],Table1[[#This Row],[Other Employee]])","v":0},{"$f":"IF(Table1[[#This Row],[Total Hours per Month]]=Table1[[#This Row],[Column12]],\"Match\",\"Error\")","v":"Match"},{"$f":"IF(Table1[[#This Row],[Calc 2]]=\"#NA\",\"#NA\",IF(Table1[[#This Row],[Non HZ Employee]]=Table1[[#This Row],[Max calc]],\"Non HZ Employee\", Table1[[#This Row],[Calc 2]]))","v":"#NA"}]
[950,null,950,{"$nulls":5},{"$f":"SUM(Table1[[#This Row],[Column4]]+Table1[[#This Row],[Column3]]+Table1[[#This Row],[Column2]]+Table1[[#This Row],[Column1]])","v":0},{"$nulls":5},{"$f":"SUM(Table1[[#This Row],[PO Employee]:[Other Employee]])","v":0},"N",{"$error":"#N/A"},{"$f":"IF(O967>39,Table1[[#This Row],[Calc 1]],IF(O967>1,\"Not counted as an Employee\",\"#NA\"))","v":"#NA"},{"$f":"MAX(Table1[[#This Row],[PO Employee]],Table1[[#This Row],[Other HZ Employee]],Table1[[#This Row],[Non HZ Employee]],Table1[[#This Row],[Job Site Employee]],Table1[[#This Row],[Other Employee]])","v":0},{"$f":"IF(Table1[[#This Row],[Total Hours per Month]]=Table1[[#This Row],[Column12]],\"Match\",\"Error\")","v":"Match"},{"$f":"IF(Table1[[#This Row],[Calc 2]]=\"#NA\",\"#NA\",IF(Table1[[#This Row],[Non HZ Employee]]=Table1[[#This Row],[Max calc]],\"Non HZ Employee\", Table1[[#This Row],[Calc 2]]))","v":"#NA"}]
[951,null,951,{"$nulls":5},{"$f":"SUM(Table1[[#This Row],[Column4]]+Table1[[#This Row],[Column3]]+Table1[[#This Row],[Column2]]+Table1[[#This Row],[Column1]])","v":0},{"$nulls":5},{"$f":"SUM(Table1[[#This Row],[PO Employee]:[Other Employee]])","v":0},"N",{"$error":"#N/A"},{"$f":"IF(O968>39,Table1[[#This Row],[Calc 1]],IF(O968>1,\"Not counted as an Employee\",\"#NA\"))","v":"#NA"},{"$f":"MAX(Table1[[#This Row],[PO Employee]],Table1[[#This Row],[Other HZ Employee]],Table1[[#This Row],[Non HZ Employee]],Table1[[#This Row],[Job Site Employee]],Table1[[#This Row],[Other Employee]])","v":0},{"$f":"IF(Table1[[#This Row],[Total Hours per Month]]=Table1[[#This Row],[Column12]],\"Match\",\"Error\")","v":"Match"},{"$f":"IF(Table1[[#This Row],[Calc 2]]=\"#NA\",\"#NA\",IF(Table1[[#This Row],[Non HZ Employee]]=Table1[[#This Row],[Max calc]],\"Non HZ Employee\", Table1[[#This Row],[Calc 2]]))","v":"#NA"}]
[952,null,952,{"$nulls":5},{"$f":"SUM(Table1[[#This Row],[Column4]]+Table1[[#This Row],[Column3]]+Table1[[#This Row],[Column2]]+Table1[[#This Row],[Column1]])","v":0},{"$nulls":5},{"$f":"SUM(Table1[[#This Row],[PO Employee]:[Other Employee]])","v":0},"N",{"$error":"#N/A"},{"$f":"IF(O969>39,Table1[[#This Row],[Calc 1]],IF(O969>1,\"Not counted as an Employee\",\"#NA\"))","v":"#NA"},{"$f":"MAX(Table1[[#This Row],[PO Employee]],Table1[[#This Row],[Other HZ Employee]],Table1[[#This Row],[Non HZ Employee]],Table1[[#This Row],[Job Site Employee]],Table1[[#This Row],[Other Employee]])","v":0},{"$f":"IF(Table1[[#This Row],[Total Hours per Month]]=Table1[[#This Row],[Column12]],\"Match\",\"Error\")","v":"Match"},{"$f":"IF(Table1[[#This Row],[Calc 2]]=\"#NA\",\"#NA\",IF(Table1[[#This Row],[Non HZ Employee]]=Table1[[#This Row],[Max calc]],\"Non HZ Employee\", Table1[[#This Row],[Calc 2]]))","v":"#NA"}]
[953,null,953,{"$nulls":5},{"$f":"SUM(Table1[[#This Row],[Column4]]+Table1[[#This Row],[Column3]]+Table1[[#This Row],[Column2]]+Table1[[#This Row],[Column1]])","v":0},{"$nulls":5},{"$f":"SUM(Table1[[#This Row],[PO Employee]:[Other Employee]])","v":0},"N",{"$error":"#N/A"},{"$f":"IF(O970>39,Table1[[#This Row],[Calc 1]],IF(O970>1,\"Not counted as an Employee\",\"#NA\"))","v":"#NA"},{"$f":"MAX(Table1[[#This Row],[PO Employee]],Table1[[#This Row],[Other HZ Employee]],Table1[[#This Row],[Non HZ Employee]],Table1[[#This Row],[Job Site Employee]],Table1[[#This Row],[Other Employee]])","v":0},{"$f":"IF(Table1[[#This Row],[Total Hours per Month]]=Table1[[#This Row],[Column12]],\"Match\",\"Error\")","v":"Match"},{"$f":"IF(Table1[[#This Row],[Calc 2]]=\"#NA\",\"#NA\",IF(Table1[[#This Row],[Non HZ Employee]]=Table1[[#This Row],[Max calc]],\"Non HZ Employee\", Table1[[#This Row],[Calc 2]]))","v":"#NA"}]
[954,null,954,{"$nulls":5},{"$f":"SUM(Table1[[#This Row],[Column4]]+Table1[[#This Row],[Column3]]+Table1[[#This Row],[Column2]]+Table1[[#This Row],[Column1]])","v":0},{"$nulls":5},{"$f":"SUM(Table1[[#This Row],[PO Employee]:[Other Employee]])","v":0},"N",{"$error":"#N/A"},{"$f":"IF(O971>39,Table1[[#This Row],[Calc 1]],IF(O971>1,\"Not counted as an Employee\",\"#NA\"))","v":"#NA"},{"$f":"MAX(Table1[[#This Row],[PO Employee]],Table1[[#This Row],[Other HZ Employee]],Table1[[#This Row],[Non HZ Employee]],Table1[[#This Row],[Job Site Employee]],Table1[[#This Row],[Other Employee]])","v":0},{"$f":"IF(Table1[[#This Row],[Total Hours per Month]]=Table1[[#This Row],[Column12]],\"Match\",\"Error\")","v":"Match"},{"$f":"IF(Table1[[#This Row],[Calc 2]]=\"#NA\",\"#NA\",IF(Table1[[#This Row],[Non HZ Employee]]=Table1[[#This Row],[Max calc]],\"Non HZ Employee\", Table1[[#This Row],[Calc 2]]))","v":"#NA"}]
[955,null,955,{"$nulls":5},{"$f":"SUM(Table1[[#This Row],[Column4]]+Table1[[#This Row],[Column3]]+Table1[[#This Row],[Column2]]+Table1[[#This Row],[Column1]])","v":0},{"$nulls":5},{"$f":"SUM(Table1[[#This Row],[PO Employee]:[Other Employee]])","v":0},"N",{"$error":"#N/A"},{"$f":"IF(O972>39,Table1[[#This Row],[Calc 1]],IF(O972>1,\"Not counted as an Employee\",\"#NA\"))","v":"#NA"},{"$f":"MAX(Table1[[#This Row],[PO Employee]],Table1[[#This Row],[Other HZ Employee]],Table1[[#This Row],[Non HZ Employee]],Table1[[#This Row],[Job Site Employee]],Table1[[#This Row],[Other Employee]])","v":0},{"$f":"IF(Table1[[#This Row],[Total Hours per Month]]=Table1[[#This Row],[Column12]],\"Match\",\"Error\")","v":"Match"},{"$f":"IF(Table1[[#This Row],[Calc 2]]=\"#NA\",\"#NA\",IF(Table1[[#This Row],[Non HZ Employee]]=Table1[[#This Row],[Max calc]],\"Non HZ Employee\", Table1[[#This Row],[Calc 2]]))","v":"#NA"}]
[956,null,956,{"$nulls":5},{"$f":"SUM(Table1[[#This Row],[Column4]]+Table1[[#This Row],[Column3]]+Table1[[#This Row],[Column2]]+Table1[[#This Row],[Column1]])","v":0},{"$nulls":5},{"$f":"SUM(Table1[[#This Row],[PO Employee]:[Other Employee]])","v":0},"N",{"$error":"#N/A"},{"$f":"IF(O973>39,Table1[[#This Row],[Calc 1]],IF(O973>1,\"Not counted as an Employee\",\"#NA\"))","v":"#NA"},{"$f":"MAX(Table1[[#This Row],[PO Employee]],Table1[[#This Row],[Other HZ Employee]],Table1[[#This Row],[Non HZ Employee]],Table1[[#This Row],[Job Site Employee]],Table1[[#This Row],[Other Employee]])","v":0},{"$f":"IF(Table1[[#This Row],[Total Hours per Month]]=Table1[[#This Row],[Column12]],\"Match\",\"Error\")","v":"Match"},{"$f":"IF(Table1[[#This Row],[Calc 2]]=\"#NA\",\"#NA\",IF(Table1[[#This Row],[Non HZ Employee]]=Table1[[#This Row],[Max calc]],\"Non HZ Employee\", Table1[[#This Row],[Calc 2]]))","v":"#NA"}]
[957,null,957,{"$nulls":5},{"$f":"SUM(Table1[[#This Row],[Column4]]+Table1[[#This Row],[Column3]]+Table1[[#This Row],[Column2]]+Table1[[#This Row],[Column1]])","v":0},{"$nulls":5},{"$f":"SUM(Table1[[#This Row],[PO Employee]:[Other Employee]])","v":0},"N",{"$error":"#N/A"},{"$f":"IF(O974>39,Table1[[#This Row],[Calc 1]],IF(O974>1,\"Not counted as an Employee\",\"#NA\"))","v":"#NA"},{"$f":"MAX(Table1[[#This Row],[PO Employee]],Table1[[#This Row],[Other HZ Employee]],Table1[[#This Row],[Non HZ Employee]],Table1[[#This Row],[Job Site Employee]],Table1[[#This Row],[Other Employee]])","v":0},{"$f":"IF(Table1[[#This Row],[Total Hours per Month]]=Table1[[#This Row],[Column12]],\"Match\",\"Error\")","v":"Match"},{"$f":"IF(Table1[[#This Row],[Calc 2]]=\"#NA\",\"#NA\",IF(Table1[[#This Row],[Non HZ Employee]]=Table1[[#This Row],[Max calc]],\"Non HZ Employee\", Table1[[#This Row],[Calc 2]]))","v":"#NA"}]
[958,null,958,{"$nulls":5},{"$f":"SUM(Table1[[#This Row],[Column4]]+Table1[[#This Row],[Column3]]+Table1[[#This Row],[Column2]]+Table1[[#This Row],[Column1]])","v":0},{"$nulls":5},{"$f":"SUM(Table1[[#This Row],[PO Employee]:[Other Employee]])","v":0},"N",{"$error":"#N/A"},{"$f":"IF(O975>39,Table1[[#This Row],[Calc 1]],IF(O975>1,\"Not counted as an Employee\",\"#NA\"))","v":"#NA"},{"$f":"MAX(Table1[[#This Row],[PO Employee]],Table1[[#This Row],[Other HZ Employee]],Table1[[#This Row],[Non HZ Employee]],Table1[[#This Row],[Job Site Employee]],Table1[[#This Row],[Other Employee]])","v":0},{"$f":"IF(Table1[[#This Row],[Total Hours per Month]]=Table1[[#This Row],[Column12]],\"Match\",\"Error\")","v":"Match"},{"$f":"IF(Table1[[#This Row],[Calc 2]]=\"#NA\",\"#NA\",IF(Table1[[#This Row],[Non HZ Employee]]=Table1[[#This Row],[Max calc]],\"Non HZ Employee\", Table1[[#This Row],[Calc 2]]))","v":"#NA"}]
[959,null,959,{"$nulls":5},{"$f":"SUM(Table1[[#This Row],[Column4]]+Table1[[#This Row],[Column3]]+Table1[[#This Row],[Column2]]+Table1[[#This Row],[Column1]])","v":0},{"$nulls":5},{"$f":"SUM(Table1[[#This Row],[PO Employee]:[Other Employee]])","v":0},"N",{"$error":"#N/A"},{"$f":"IF(O976>39,Table1[[#This Row],[Calc 1]],IF(O976>1,\"Not counted as an Employee\",\"#NA\"))","v":"#NA"},{"$f":"MAX(Table1[[#This Row],[PO Employee]],Table1[[#This Row],[Other HZ Employee]],Table1[[#This Row],[Non HZ Employee]],Table1[[#This Row],[Job Site Employee]],Table1[[#This Row],[Other Employee]])","v":0},{"$f":"IF(Table1[[#This Row],[Total Hours per Month]]=Table1[[#This Row],[Column12]],\"Match\",\"Error\")","v":"Match"},{"$f":"IF(Table1[[#This Row],[Calc 2]]=\"#NA\",\"#NA\",IF(Table1[[#This Row],[Non HZ Employee]]=Table1[[#This Row],[Max calc]],\"Non HZ Employee\", Table1[[#This Row],[Calc 2]]))","v":"#NA"}]
[960,null,960,{"$nulls":5},{"$f":"SUM(Table1[[#This Row],[Column4]]+Table1[[#This Row],[Column3]]+Table1[[#This Row],[Column2]]+Table1[[#This Row],[Column1]])","v":0},{"$nulls":5},{"$f":"SUM(Table1[[#This Row],[PO Employee]:[Other Employee]])","v":0},"N",{"$error":"#N/A"},{"$f":"IF(O977>39,Table1[[#This Row],[Calc 1]],IF(O977>1,\"Not counted as an Employee\",\"#NA\"))","v":"#NA"},{"$f":"MAX(Table1[[#This Row],[PO Employee]],Table1[[#This Row],[Other HZ Employee]],Table1[[#This Row],[Non HZ Employee]],Table1[[#This Row],[Job Site Employee]],Table1[[#This Row],[Other Employee]])","v":0},{"$f":"IF(Table1[[#This Row],[Total Hours per Month]]=Table1[[#This Row],[Column12]],\"Match\",\"Error\")","v":"Match"},{"$f":"IF(Table1[[#This Row],[Calc 2]]=\"#NA\",\"#NA\",IF(Table1[[#This Row],[Non HZ Employee]]=Table1[[#This Row],[Max calc]],\"Non HZ Employee\", Table1[[#This Row],[Calc 2]]))","v":"#NA"}]
[961,null,961,{"$nulls":5},{"$f":"SUM(Table1[[#This Row],[Column4]]+Table1[[#This Row],[Column3]]+Table1[[#This Row],[Column2]]+Table1[[#This Row],[Column1]])","v":0},{"$nulls":5},{"$f":"SUM(Table1[[#This Row],[PO Employee]:[Other Employee]])","v":0},"N",{"$f":"INDEX($J$17:$N$17,MATCH(MAX(J978:N978),J978:N978,0))","v":{"$error":"#N/A"}},{"$f":"IF(O978>39,Table1[[#This Row],[Calc 1]],IF(O978>1,\"Not counted as an Employee\",\"#NA\"))","v":"#NA"},{"$f":"MAX(Table1[[#This Row],[PO Employee]],Table1[[#This Row],[Other HZ Employee]],Table1[[#This Row],[Non HZ Employee]],Table1[[#This Row],[Job Site Employee]],Table1[[#This Row],[Other Employee]])","v":0},{"$f":"IF(Table1[[#This Row],[Total Hours per Month]]=Table1[[#This Row],[Column12]],\"Match\",\"Error\")","v":"Match"},{"$f":"IF(Table1[[#This Row],[Calc 2]]=\"#NA\",\"#NA\",IF(Table1[[#This Row],[Non HZ Employee]]=Table1[[#This Row],[Max calc]],\"Non HZ Employee\", Table1[[#This Row],[Calc 2]]))","v":"#NA"}]
[962,null,962,{"$nulls":5},{"$f":"SUM(Table1[[#This Row],[Column4]]+Table1[[#This Row],[Column3]]+Table1[[#This Row],[Column2]]+Table1[[#This Row],[Column1]])","v":0},{"$nulls":5},{"$f":"SUM(Table1[[#This Row],[PO Employee]:[Other Employee]])","v":0},{"$f":"IF(O979>=40,\"Y\",\"N\")","v":"N"},{"$error":"#N/A"},{"$f":"IF(O979>39,Table1[[#This Row],[Calc 1]],IF(O979>1,\"Not counted as an Employee\",\"#NA\"))","v":"#NA"},{"$f":"MAX(Table1[[#This Row],[PO Employee]],Table1[[#This Row],[Other HZ Employee]],Table1[[#This Row],[Non HZ Employee]],Table1[[#This Row],[Job Site Employee]],Table1[[#This Row],[Other Employee]])","v":0},{"$f":"IF(Table1[[#This Row],[Total Hours per Month]]=Table1[[#This Row],[Column12]],\"Match\",\"Error\")","v":"Match"},{"$f":"IF(Table1[[#This Row],[Calc 2]]=\"#NA\",\"#NA\",IF(Table1[[#This Row],[Non HZ Employee]]=Table1[[#This Row],[Max calc]],\"Non HZ Employee\", Table1[[#This Row],[Calc 2]]))","v":"#NA"}]
[963,null,963,{"$nulls":5},{"$f":"SUM(Table1[[#This Row],[Column4]]+Table1[[#This Row],[Column3]]+Table1[[#This Row],[Column2]]+Table1[[#This Row],[Column1]])","v":0},{"$nulls":5},{"$f":"SUM(Table1[[#This Row],[PO Employee]:[Other Employee]])","v":0},"N",{"$error":"#N/A"},{"$f":"IF(O980>39,Table1[[#This Row],[Calc 1]],IF(O980>1,\"Not counted as an Employee\",\"#NA\"))","v":"#NA"},{"$f":"MAX(Table1[[#This Row],[PO Employee]],Table1[[#This Row],[Other HZ Employee]],Table1[[#This Row],[Non HZ Employee]],Table1[[#This Row],[Job Site Employee]],Table1[[#This Row],[Other Employee]])","v":0},{"$f":"IF(Table1[[#This Row],[Total Hours per Month]]=Table1[[#This Row],[Column12]],\"Match\",\"Error\")","v":"Match"},{"$f":"IF(Table1[[#This Row],[Calc 2]]=\"#NA\",\"#NA\",IF(Table1[[#This Row],[Non HZ Employee]]=Table1[[#This Row],[Max calc]],\"Non HZ Employee\", Table1[[#This Row],[Calc 2]]))","v":"#NA"}]
[964,null,964,{"$nulls":5},{"$f":"SUM(Table1[[#This Row],[Column4]]+Table1[[#This Row],[Column3]]+Table1[[#This Row],[Column2]]+Table1[[#This Row],[Column1]])","v":0},{"$nulls":5},{"$f":"SUM(Table1[[#This Row],[PO Employee]:[Other Employee]])","v":0},"N",{"$error":"#N/A"},{"$f":"IF(O981>39,Table1[[#This Row],[Calc 1]],IF(O981>1,\"Not counted as an Employee\",\"#NA\"))","v":"#NA"},{"$f":"MAX(Table1[[#This Row],[PO Employee]],Table1[[#This Row],[Other HZ Employee]],Table1[[#This Row],[Non HZ Employee]],Table1[[#This Row],[Job Site Employee]],Table1[[#This Row],[Other Employee]])","v":0},{"$f":"IF(Table1[[#This Row],[Total Hours per Month]]=Table1[[#This Row],[Column12]],\"Match\",\"Error\")","v":"Match"},{"$f":"IF(Table1[[#This Row],[Calc 2]]=\"#NA\",\"#NA\",IF(Table1[[#This Row],[Non HZ Employee]]=Table1[[#This Row],[Max calc]],\"Non HZ Employee\", Table1[[#This Row],[Calc 2]]))","v":"#NA"}]
[965,null,965,{"$nulls":5},{"$f":"SUM(Table1[[#This Row],[Column4]]+Table1[[#This Row],[Column3]]+Table1[[#This Row],[Column2]]+Table1[[#This Row],[Column1]])","v":0},{"$nulls":5},{"$f":"SUM(Table1[[#This Row],[PO Employee]:[Other Employee]])","v":0},"N",{"$error":"#N/A"},{"$f":"IF(O982>39,Table1[[#This Row],[Calc 1]],IF(O982>1,\"Not counted as an Employee\",\"#NA\"))","v":"#NA"},{"$f":"MAX(Table1[[#This Row],[PO Employee]],Table1[[#This Row],[Other HZ Employee]],Table1[[#This Row],[Non HZ Employee]],Table1[[#This Row],[Job Site Employee]],Table1[[#This Row],[Other Employee]])","v":0},{"$f":"IF(Table1[[#This Row],[Total Hours per Month]]=Table1[[#This Row],[Column12]],\"Match\",\"Error\")","v":"Match"},{"$f":"IF(Table1[[#This Row],[Calc 2]]=\"#NA\",\"#NA\",IF(Table1[[#This Row],[Non HZ Employee]]=Table1[[#This Row],[Max calc]],\"Non HZ Employee\", Table1[[#This Row],[Calc 2]]))","v":"#NA"}]
[966,null,966,{"$nulls":5},{"$f":"SUM(Table1[[#This Row],[Column4]]+Table1[[#This Row],[Column3]]+Table1[[#This Row],[Column2]]+Table1[[#This Row],[Column1]])","v":0},{"$nulls":5},{"$f":"SUM(Table1[[#This Row],[PO Employee]:[Other Employee]])","v":0},"N",{"$error":"#N/A"},{"$f":"IF(O983>39,Table1[[#This Row],[Calc 1]],IF(O983>1,\"Not counted as an Employee\",\"#NA\"))","v":"#NA"},{"$f":"MAX(Table1[[#This Row],[PO Employee]],Table1[[#This Row],[Other HZ Employee]],Table1[[#This Row],[Non HZ Employee]],Table1[[#This Row],[Job Site Employee]],Table1[[#This Row],[Other Employee]])","v":0},{"$f":"IF(Table1[[#This Row],[Total Hours per Month]]=Table1[[#This Row],[Column12]],\"Match\",\"Error\")","v":"Match"},{"$f":"IF(Table1[[#This Row],[Calc 2]]=\"#NA\",\"#NA\",IF(Table1[[#This Row],[Non HZ Employee]]=Table1[[#This Row],[Max calc]],\"Non HZ Employee\", Table1[[#This Row],[Calc 2]]))","v":"#NA"}]
[967,null,967,{"$nulls":5},{"$f":"SUM(Table1[[#This Row],[Column4]]+Table1[[#This Row],[Column3]]+Table1[[#This Row],[Column2]]+Table1[[#This Row],[Column1]])","v":0},{"$nulls":5},{"$f":"SUM(Table1[[#This Row],[PO Employee]:[Other Employee]])","v":0},"N",{"$error":"#N/A"},{"$f":"IF(O984>39,Table1[[#This Row],[Calc 1]],IF(O984>1,\"Not counted as an Employee\",\"#NA\"))","v":"#NA"},{"$f":"MAX(Table1[[#This Row],[PO Employee]],Table1[[#This Row],[Other HZ Employee]],Table1[[#This Row],[Non HZ Employee]],Table1[[#This Row],[Job Site Employee]],Table1[[#This Row],[Other Employee]])","v":0},{"$f":"IF(Table1[[#This Row],[Total Hours per Month]]=Table1[[#This Row],[Column12]],\"Match\",\"Error\")","v":"Match"},{"$f":"IF(Table1[[#This Row],[Calc 2]]=\"#NA\",\"#NA\",IF(Table1[[#This Row],[Non HZ Employee]]=Table1[[#This Row],[Max calc]],\"Non HZ Employee\", Table1[[#This Row],[Calc 2]]))","v":"#NA"}]
[968,null,968,{"$nulls":5},{"$f":"SUM(Table1[[#This Row],[Column4]]+Table1[[#This Row],[Column3]]+Table1[[#This Row],[Column2]]+Table1[[#This Row],[Column1]])","v":0},{"$nulls":5},{"$f":"SUM(Table1[[#This Row],[PO Employee]:[Other Employee]])","v":0},"N",{"$error":"#N/A"},{"$f":"IF(O985>39,Table1[[#This Row],[Calc 1]],IF(O985>1,\"Not counted as an Employee\",\"#NA\"))","v":"#NA"},{"$f":"MAX(Table1[[#This Row],[PO Employee]],Table1[[#This Row],[Other HZ Employee]],Table1[[#This Row],[Non HZ Employee]],Table1[[#This Row],[Job Site Employee]],Table1[[#This Row],[Other Employee]])","v":0},{"$f":"IF(Table1[[#This Row],[Total Hours per Month]]=Table1[[#This Row],[Column12]],\"Match\",\"Error\")","v":"Match"},{"$f":"IF(Table1[[#This Row],[Calc 2]]=\"#NA\",\"#NA\",IF(Table1[[#This Row],[Non HZ Employee]]=Table1[[#This Row],[Max calc]],\"Non HZ Employee\", Table1[[#This Row],[Calc 2]]))","v":"#NA"}]
[969,null,969,{"$nulls":5},{"$f":"SUM(Table1[[#This Row],[Column4]]+Table1[[#This Row],[Column3]]+Table1[[#This Row],[Column2]]+Table1[[#This Row],[Column1]])","v":0},{"$nulls":5},{"$f":"SUM(Table1[[#This Row],[PO Employee]:[Other Employee]])","v":0},"N",{"$error":"#N/A"},{"$f":"IF(O986>39,Table1[[#This Row],[Calc 1]],IF(O986>1,\"Not counted as an Employee\",\"#NA\"))","v":"#NA"},{"$f":"MAX(Table1[[#This Row],[PO Employee]],Table1[[#This Row],[Other HZ Employee]],Table1[[#This Row],[Non HZ Employee]],Table1[[#This Row],[Job Site Employee]],Table1[[#This Row],[Other Employee]])","v":0},{"$f":"IF(Table1[[#This Row],[Total Hours per Month]]=Table1[[#This Row],[Column12]],\"Match\",\"Error\")","v":"Match"},{"$f":"IF(Table1[[#This Row],[Calc 2]]=\"#NA\",\"#NA\",IF(Table1[[#This Row],[Non HZ Employee]]=Table1[[#This Row],[Max calc]],\"Non HZ Employee\", Table1[[#This Row],[Calc 2]]))","v":"#NA"}]
[970,null,970,{"$nulls":5},{"$f":"SUM(Table1[[#This Row],[Column4]]+Table1[[#This Row],[Column3]]+Table1[[#This Row],[Column2]]+Table1[[#This Row],[Column1]])","v":0},{"$nulls":5},{"$f":"SUM(Table1[[#This Row],[PO Employee]:[Other Employee]])","v":0},"N",{"$error":"#N/A"},{"$f":"IF(O987>39,Table1[[#This Row],[Calc 1]],IF(O987>1,\"Not counted as an Employee\",\"#NA\"))","v":"#NA"},{"$f":"MAX(Table1[[#This Row],[PO Employee]],Table1[[#This Row],[Other HZ Employee]],Table1[[#This Row],[Non HZ Employee]],Table1[[#This Row],[Job Site Employee]],Table1[[#This Row],[Other Employee]])","v":0},{"$f":"IF(Table1[[#This Row],[Total Hours per Month]]=Table1[[#This Row],[Column12]],\"Match\",\"Error\")","v":"Match"},{"$f":"IF(Table1[[#This Row],[Calc 2]]=\"#NA\",\"#NA\",IF(Table1[[#This Row],[Non HZ Employee]]=Table1[[#This Row],[Max calc]],\"Non HZ Employee\", Table1[[#This Row],[Calc 2]]))","v":"#NA"}]
[971,null,971,{"$nulls":5},{"$f":"SUM(Table1[[#This Row],[Column4]]+Table1[[#This Row],[Column3]]+Table1[[#This Row],[Column2]]+Table1[[#This Row],[Column1]])","v":0},{"$nulls":5},{"$f":"SUM(Table1[[#This Row],[PO Employee]:[Other Employee]])","v":0},"N",{"$error":"#N/A"},{"$f":"IF(O988>39,Table1[[#This Row],[Calc 1]],IF(O988>1,\"Not counted as an Employee\",\"#NA\"))","v":"#NA"},{"$f":"MAX(Table1[[#This Row],[PO Employee]],Table1[[#This Row],[Other HZ Employee]],Table1[[#This Row],[Non HZ Employee]],Table1[[#This Row],[Job Site Employee]],Table1[[#This Row],[Other Employee]])","v":0},{"$f":"IF(Table1[[#This Row],[Total Hours per Month]]=Table1[[#This Row],[Column12]],\"Match\",\"Error\")","v":"Match"},{"$f":"IF(Table1[[#This Row],[Calc 2]]=\"#NA\",\"#NA\",IF(Table1[[#This Row],[Non HZ Employee]]=Table1[[#This Row],[Max calc]],\"Non HZ Employee\", Table1[[#This Row],[Calc 2]]))","v":"#NA"}]
[972,null,972,{"$nulls":5},{"$f":"SUM(Table1[[#This Row],[Column4]]+Table1[[#This Row],[Column3]]+Table1[[#This Row],[Column2]]+Table1[[#This Row],[Column1]])","v":0},{"$nulls":5},{"$f":"SUM(Table1[[#This Row],[PO Employee]:[Other Employee]])","v":0},"N",{"$error":"#N/A"},{"$f":"IF(O989>39,Table1[[#This Row],[Calc 1]],IF(O989>1,\"Not counted as an Employee\",\"#NA\"))","v":"#NA"},{"$f":"MAX(Table1[[#This Row],[PO Employee]],Table1[[#This Row],[Other HZ Employee]],Table1[[#This Row],[Non HZ Employee]],Table1[[#This Row],[Job Site Employee]],Table1[[#This Row],[Other Employee]])","v":0},{"$f":"IF(Table1[[#This Row],[Total Hours per Month]]=Table1[[#This Row],[Column12]],\"Match\",\"Error\")","v":"Match"},{"$f":"IF(Table1[[#This Row],[Calc 2]]=\"#NA\",\"#NA\",IF(Table1[[#This Row],[Non HZ Employee]]=Table1[[#This Row],[Max calc]],\"Non HZ Employee\", Table1[[#This Row],[Calc 2]]))","v":"#NA"}]
[973,null,973,{"$nulls":5},{"$f":"SUM(Table1[[#This Row],[Column4]]+Table1[[#This Row],[Column3]]+Table1[[#This Row],[Column2]]+Table1[[#This Row],[Column1]])","v":0},{"$nulls":5},{"$f":"SUM(Table1[[#This Row],[PO Employee]:[Other Employee]])","v":0},"N",{"$error":"#N/A"},{"$f":"IF(O990>39,Table1[[#This Row],[Calc 1]],IF(O990>1,\"Not counted as an Employee\",\"#NA\"))","v":"#NA"},{"$f":"MAX(Table1[[#This Row],[PO Employee]],Table1[[#This Row],[Other HZ Employee]],Table1[[#This Row],[Non HZ Employee]],Table1[[#This Row],[Job Site Employee]],Table1[[#This Row],[Other Employee]])","v":0},{"$f":"IF(Table1[[#This Row],[Total Hours per Month]]=Table1[[#This Row],[Column12]],\"Match\",\"Error\")","v":"Match"},{"$f":"IF(Table1[[#This Row],[Calc 2]]=\"#NA\",\"#NA\",IF(Table1[[#This Row],[Non HZ Employee]]=Table1[[#This Row],[Max calc]],\"Non HZ Employee\", Table1[[#This Row],[Calc 2]]))","v":"#NA"}]
[974,null,974,{"$nulls":5},{"$f":"SUM(Table1[[#This Row],[Column4]]+Table1[[#This Row],[Column3]]+Table1[[#This Row],[Column2]]+Table1[[#This Row],[Column1]])","v":0},{"$nulls":5},{"$f":"SUM(Table1[[#This Row],[PO Employee]:[Other Employee]])","v":0},"N",{"$error":"#N/A"},{"$f":"IF(O991>39,Table1[[#This Row],[Calc 1]],IF(O991>1,\"Not counted as an Employee\",\"#NA\"))","v":"#NA"},{"$f":"MAX(Table1[[#This Row],[PO Employee]],Table1[[#This Row],[Other HZ Employee]],Table1[[#This Row],[Non HZ Employee]],Table1[[#This Row],[Job Site Employee]],Table1[[#This Row],[Other Employee]])","v":0},{"$f":"IF(Table1[[#This Row],[Total Hours per Month]]=Table1[[#This Row],[Column12]],\"Match\",\"Error\")","v":"Match"},{"$f":"IF(Table1[[#This Row],[Calc 2]]=\"#NA\",\"#NA\",IF(Table1[[#This Row],[Non HZ Employee]]=Table1[[#This Row],[Max calc]],\"Non HZ Employee\", Table1[[#This Row],[Calc 2]]))","v":"#NA"}]
[975,null,975,{"$nulls":5},{"$f":"SUM(Table1[[#This Row],[Column4]]+Table1[[#This Row],[Column3]]+Table1[[#This Row],[Column2]]+Table1[[#This Row],[Column1]])","v":0},{"$nulls":5},{"$f":"SUM(Table1[[#This Row],[PO Employee]:[Other Employee]])","v":0},"N",{"$error":"#N/A"},{"$f":"IF(O992>39,Table1[[#This Row],[Calc 1]],IF(O992>1,\"Not counted as an Employee\",\"#NA\"))","v":"#NA"},{"$f":"MAX(Table1[[#This Row],[PO Employee]],Table1[[#This Row],[Other HZ Employee]],Table1[[#This Row],[Non HZ Employee]],Table1[[#This Row],[Job Site Employee]],Table1[[#This Row],[Other Employee]])","v":0},{"$f":"IF(Table1[[#This Row],[Total Hours per Month]]=Table1[[#This Row],[Column12]],\"Match\",\"Error\")","v":"Match"},{"$f":"IF(Table1[[#This Row],[Calc 2]]=\"#NA\",\"#NA\",IF(Table1[[#This Row],[Non HZ Employee]]=Table1[[#This Row],[Max calc]],\"Non HZ Employee\", Table1[[#This Row],[Calc 2]]))","v":"#NA"}]
[976,null,976,{"$nulls":5},{"$f":"SUM(Table1[[#This Row],[Column4]]+Table1[[#This Row],[Column3]]+Table1[[#This Row],[Column2]]+Table1[[#This Row],[Column1]])","v":0},{"$nulls":5},{"$f":"SUM(Table1[[#This Row],[PO Employee]:[Other Employee]])","v":0},"N",{"$error":"#N/A"},{"$f":"IF(O993>39,Table1[[#This Row],[Calc 1]],IF(O993>1,\"Not counted as an Employee\",\"#NA\"))","v":"#NA"},{"$f":"MAX(Table1[[#This Row],[PO Employee]],Table1[[#This Row],[Other HZ Employee]],Table1[[#This Row],[Non HZ Employee]],Table1[[#This Row],[Job Site Employee]],Table1[[#This Row],[Other Employee]])","v":0},{"$f":"IF(Table1[[#This Row],[Total Hours per Month]]=Table1[[#This Row],[Column12]],\"Match\",\"Error\")","v":"Match"},{"$f":"IF(Table1[[#This Row],[Calc 2]]=\"#NA\",\"#NA\",IF(Table1[[#This Row],[Non HZ Employee]]=Table1[[#This Row],[Max calc]],\"Non HZ Employee\", Table1[[#This Row],[Calc 2]]))","v":"#NA"}]
[977,null,977,{"$nulls":5},{"$f":"SUM(Table1[[#This Row],[Column4]]+Table1[[#This Row],[Column3]]+Table1[[#This Row],[Column2]]+Table1[[#This Row],[Column1]])","v":0},{"$nulls":5},{"$f":"SUM(Table1[[#This Row],[PO Employee]:[Other Employee]])","v":0},"N",{"$error":"#N/A"},{"$f":"IF(O994>39,Table1[[#This Row],[Calc 1]],IF(O994>1,\"Not counted as an Employee\",\"#NA\"))","v":"#NA"},{"$f":"MAX(Table1[[#This Row],[PO Employee]],Table1[[#This Row],[Other HZ Employee]],Table1[[#This Row],[Non HZ Employee]],Table1[[#This Row],[Job Site Employee]],Table1[[#This Row],[Other Employee]])","v":0},{"$f":"IF(Table1[[#This Row],[Total Hours per Month]]=Table1[[#This Row],[Column12]],\"Match\",\"Error\")","v":"Match"},{"$f":"IF(Table1[[#This Row],[Calc 2]]=\"#NA\",\"#NA\",IF(Table1[[#This Row],[Non HZ Employee]]=Table1[[#This Row],[Max calc]],\"Non HZ Employee\", Table1[[#This Row],[Calc 2]]))","v":"#NA"}]
[978,null,978,{"$nulls":5},{"$f":"SUM(Table1[[#This Row],[Column4]]+Table1[[#This Row],[Column3]]+Table1[[#This Row],[Column2]]+Table1[[#This Row],[Column1]])","v":0},{"$nulls":5},{"$f":"SUM(Table1[[#This Row],[PO Employee]:[Other Employee]])","v":0},"N",{"$error":"#N/A"},{"$f":"IF(O995>39,Table1[[#This Row],[Calc 1]],IF(O995>1,\"Not counted as an Employee\",\"#NA\"))","v":"#NA"},{"$f":"MAX(Table1[[#This Row],[PO Employee]],Table1[[#This Row],[Other HZ Employee]],Table1[[#This Row],[Non HZ Employee]],Table1[[#This Row],[Job Site Employee]],Table1[[#This Row],[Other Employee]])","v":0},{"$f":"IF(Table1[[#This Row],[Total Hours per Month]]=Table1[[#This Row],[Column12]],\"Match\",\"Error\")","v":"Match"},{"$f":"IF(Table1[[#This Row],[Calc 2]]=\"#NA\",\"#NA\",IF(Table1[[#This Row],[Non HZ Employee]]=Table1[[#This Row],[Max calc]],\"Non HZ Employee\", Table1[[#This Row],[Calc 2]]))","v":"#NA"}]
[979,null,979,{"$nulls":5},{"$f":"SUM(Table1[[#This Row],[Column4]]+Table1[[#This Row],[Column3]]+Table1[[#This Row],[Column2]]+Table1[[#This Row],[Column1]])","v":0},{"$nulls":5},{"$f":"SUM(Table1[[#This Row],[PO Employee]:[Other Employee]])","v":0},"N",{"$error":"#N/A"},{"$f":"IF(O996>39,Table1[[#This Row],[Calc 1]],IF(O996>1,\"Not counted as an Employee\",\"#NA\"))","v":"#NA"},{"$f":"MAX(Table1[[#This Row],[PO Employee]],Table1[[#This Row],[Other HZ Employee]],Table1[[#This Row],[Non HZ Employee]],Table1[[#This Row],[Job Site Employee]],Table1[[#This Row],[Other Employee]])","v":0},{"$f":"IF(Table1[[#This Row],[Total Hours per Month]]=Table1[[#This Row],[Column12]],\"Match\",\"Error\")","v":"Match"},{"$f":"IF(Table1[[#This Row],[Calc 2]]=\"#NA\",\"#NA\",IF(Table1[[#This Row],[Non HZ Employee]]=Table1[[#This Row],[Max calc]],\"Non HZ Employee\", Table1[[#This Row],[Calc 2]]))","v":"#NA"}]
[980,null,980,{"$nulls":5},{"$f":"SUM(Table1[[#This Row],[Column4]]+Table1[[#This Row],[Column3]]+Table1[[#This Row],[Column2]]+Table1[[#This Row],[Column1]])","v":0},{"$nulls":5},{"$f":"SUM(Table1[[#This Row],[PO Employee]:[Other Employee]])","v":0},"N",{"$error":"#N/A"},{"$f":"IF(O997>39,Table1[[#This Row],[Calc 1]],IF(O997>1,\"Not counted as an Employee\",\"#NA\"))","v":"#NA"},{"$f":"MAX(Table1[[#This Row],[PO Employee]],Table1[[#This Row],[Other HZ Employee]],Table1[[#This Row],[Non HZ Employee]],Table1[[#This Row],[Job Site Employee]],Table1[[#This Row],[Other Employee]])","v":0},{"$f":"IF(Table1[[#This Row],[Total Hours per Month]]=Table1[[#This Row],[Column12]],\"Match\",\"Error\")","v":"Match"},{"$f":"IF(Table1[[#This Row],[Calc 2]]=\"#NA\",\"#NA\",IF(Table1[[#This Row],[Non HZ Employee]]=Table1[[#This Row],[Max calc]],\"Non HZ Employee\", Table1[[#This Row],[Calc 2]]))","v":"#NA"}]
[981,null,981,{"$nulls":5},{"$f":"SUM(Table1[[#This Row],[Column4]]+Table1[[#This Row],[Column3]]+Table1[[#This Row],[Column2]]+Table1[[#This Row],[Column1]])","v":0},{"$nulls":5},{"$f":"SUM(Table1[[#This Row],[PO Employee]:[Other Employee]])","v":0},"N",{"$error":"#N/A"},{"$f":"IF(O998>39,Table1[[#This Row],[Calc 1]],IF(O998>1,\"Not counted as an Employee\",\"#NA\"))","v":"#NA"},{"$f":"MAX(Table1[[#This Row],[PO Employee]],Table1[[#This Row],[Other HZ Employee]],Table1[[#This Row],[Non HZ Employee]],Table1[[#This Row],[Job Site Employee]],Table1[[#This Row],[Other Employee]])","v":0},{"$f":"IF(Table1[[#This Row],[Total Hours per Month]]=Table1[[#This Row],[Column12]],\"Match\",\"Error\")","v":"Match"},{"$f":"IF(Table1[[#This Row],[Calc 2]]=\"#NA\",\"#NA\",IF(Table1[[#This Row],[Non HZ Employee]]=Table1[[#This Row],[Max calc]],\"Non HZ Employee\", Table1[[#This Row],[Calc 2]]))","v":"#NA"}]
[982,null,982,{"$nulls":5},{"$f":"SUM(Table1[[#This Row],[Column4]]+Table1[[#This Row],[Column3]]+Table1[[#This Row],[Column2]]+Table1[[#This Row],[Column1]])","v":0},{"$nulls":5},{"$f":"SUM(Table1[[#This Row],[PO Employee]:[Other Employee]])","v":0},"N",{"$error":"#N/A"},{"$f":"IF(O999>39,Table1[[#This Row],[Calc 1]],IF(O999>1,\"Not counted as an Employee\",\"#NA\"))","v":"#NA"},{"$f":"MAX(Table1[[#This Row],[PO Employee]],Table1[[#This Row],[Other HZ Employee]],Table1[[#This Row],[Non HZ Employee]],Table1[[#This Row],[Job Site Employee]],Table1[[#This Row],[Other Employee]])","v":0},{"$f":"IF(Table1[[#This Row],[Total Hours per Month]]=Table1[[#This Row],[Column12]],\"Match\",\"Error\")","v":"Match"},{"$f":"IF(Table1[[#This Row],[Calc 2]]=\"#NA\",\"#NA\",IF(Table1[[#This Row],[Non HZ Employee]]=Table1[[#This Row],[Max calc]],\"Non HZ Employee\", Table1[[#This Row],[Calc 2]]))","v":"#NA"}]
[983,null,983,{"$nulls":5},{"$f":"SUM(Table1[[#This Row],[Column4]]+Table1[[#This Row],[Column3]]+Table1[[#This Row],[Column2]]+Table1[[#This Row],[Column1]])","v":0},{"$nulls":5},{"$f":"SUM(Table1[[#This Row],[PO Employee]:[Other Employee]])","v":0},"N",{"$error":"#N/A"},{"$f":"IF(O1000>39,Table1[[#This Row],[Calc 1]],IF(O1000>1,\"Not counted as an Employee\",\"#NA\"))","v":"#NA"},{"$f":"MAX(Table1[[#This Row],[PO Employee]],Table1[[#This Row],[Other HZ Employee]],Table1[[#This Row],[Non HZ Employee]],Table1[[#This Row],[Job Site Employee]],Table1[[#This Row],[Other Employee]])","v":0},{"$f":"IF(Table1[[#This Row],[Total Hours per Month]]=Table1[[#This Row],[Column12]],\"Match\",\"Error\")","v":"Match"},{"$f":"IF(Table1[[#This Row],[Calc 2]]=\"#NA\",\"#NA\",IF(Table1[[#This Row],[Non HZ Employee]]=Table1[[#This Row],[Max calc]],\"Non HZ Employee\", Table1[[#This Row],[Calc 2]]))","v":"#NA"}]
[984,null,984,{"$nulls":5},{"$f":"SUM(Table1[[#This Row],[Column4]]+Table1[[#This Row],[Column3]]+Table1[[#This Row],[Column2]]+Table1[[#This Row],[Column1]])","v":0},{"$nulls":5},{"$f":"SUM(Table1[[#This Row],[PO Employee]:[Other Employee]])","v":0},"N",{"$error":"#N/A"},{"$f":"IF(O1001>39,Table1[[#This Row],[Calc 1]],IF(O1001>1,\"Not counted as an Employee\",\"#NA\"))","v":"#NA"},{"$f":"MAX(Table1[[#This Row],[PO Employee]],Table1[[#This Row],[Other HZ Employee]],Table1[[#This Row],[Non HZ Employee]],Table1[[#This Row],[Job Site Employee]],Table1[[#This Row],[Other Employee]])","v":0},{"$f":"IF(Table1[[#This Row],[Total Hours per Month]]=Table1[[#This Row],[Column12]],\"Match\",\"Error\")","v":"Match"},{"$f":"IF(Table1[[#This Row],[Calc 2]]=\"#NA\",\"#NA\",IF(Table1[[#This Row],[Non HZ Employee]]=Table1[[#This Row],[Max calc]],\"Non HZ Employee\", Table1[[#This Row],[Calc 2]]))","v":"#NA"}]
[985,null,985,{"$nulls":5},{"$f":"SUM(Table1[[#This Row],[Column4]]+Table1[[#This Row],[Column3]]+Table1[[#This Row],[Column2]]+Table1[[#This Row],[Column1]])","v":0},{"$nulls":5},{"$f":"SUM(Table1[[#This Row],[PO Employee]:[Other Employee]])","v":0},"N",{"$error":"#N/A"},{"$f":"IF(O1002>39,Table1[[#This Row],[Calc 1]],IF(O1002>1,\"Not counted as an Employee\",\"#NA\"))","v":"#NA"},{"$f":"MAX(Table1[[#This Row],[PO Employee]],Table1[[#This Row],[Other HZ Employee]],Table1[[#This Row],[Non HZ Employee]],Table1[[#This Row],[Job Site Employee]],Table1[[#This Row],[Other Employee]])","v":0},{"$f":"IF(Table1[[#This Row],[Total Hours per Month]]=Table1[[#This Row],[Column12]],\"Match\",\"Error\")","v":"Match"},{"$f":"IF(Table1[[#This Row],[Calc 2]]=\"#NA\",\"#NA\",IF(Table1[[#This Row],[Non HZ Employee]]=Table1[[#This Row],[Max calc]],\"Non HZ Employee\", Table1[[#This Row],[Calc 2]]))","v":"#NA"}]
[986,null,986,{"$nulls":5},{"$f":"SUM(Table1[[#This Row],[Column4]]+Table1[[#This Row],[Column3]]+Table1[[#This Row],[Column2]]+Table1[[#This Row],[Column1]])","v":0},{"$nulls":5},{"$f":"SUM(Table1[[#This Row],[PO Employee]:[Other Employee]])","v":0},"N",{"$error":"#N/A"},{"$f":"IF(O1003>39,Table1[[#This Row],[Calc 1]],IF(O1003>1,\"Not counted as an Employee\",\"#NA\"))","v":"#NA"},{"$f":"MAX(Table1[[#This Row],[PO Employee]],Table1[[#This Row],[Other HZ Employee]],Table1[[#This Row],[Non HZ Employee]],Table1[[#This Row],[Job Site Employee]],Table1[[#This Row],[Other Employee]])","v":0},{"$f":"IF(Table1[[#This Row],[Total Hours per Month]]=Table1[[#This Row],[Column12]],\"Match\",\"Error\")","v":"Match"},{"$f":"IF(Table1[[#This Row],[Calc 2]]=\"#NA\",\"#NA\",IF(Table1[[#This Row],[Non HZ Employee]]=Table1[[#This Row],[Max calc]],\"Non HZ Employee\", Table1[[#This Row],[Calc 2]]))","v":"#NA"}]
[987,null,987,{"$nulls":5},{"$f":"SUM(Table1[[#This Row],[Column4]]+Table1[[#This Row],[Column3]]+Table1[[#This Row],[Column2]]+Table1[[#This Row],[Column1]])","v":0},{"$nulls":5},{"$f":"SUM(Table1[[#This Row],[PO Employee]:[Other Employee]])","v":0},"N",{"$error":"#N/A"},{"$f":"IF(O1004>39,Table1[[#This Row],[Calc 1]],IF(O1004>1,\"Not counted as an Employee\",\"#NA\"))","v":"#NA"},{"$f":"MAX(Table1[[#This Row],[PO Employee]],Table1[[#This Row],[Other HZ Employee]],Table1[[#This Row],[Non HZ Employee]],Table1[[#This Row],[Job Site Employee]],Table1[[#This Row],[Other Employee]])","v":0},{"$f":"IF(Table1[[#This Row],[Total Hours per Month]]=Table1[[#This Row],[Column12]],\"Match\",\"Error\")","v":"Match"},{"$f":"IF(Table1[[#This Row],[Calc 2]]=\"#NA\",\"#NA\",IF(Table1[[#This Row],[Non HZ Employee]]=Table1[[#This Row],[Max calc]],\"Non HZ Employee\", Table1[[#This Row],[Calc 2]]))","v":"#NA"}]
[988,null,988,{"$nulls":5},{"$f":"SUM(Table1[[#This Row],[Column4]]+Table1[[#This Row],[Column3]]+Table1[[#This Row],[Column2]]+Table1[[#This Row],[Column1]])","v":0},{"$nulls":5},{"$f":"SUM(Table1[[#This Row],[PO Employee]:[Other Employee]])","v":0},"N",{"$error":"#N/A"},{"$f":"IF(O1005>39,Table1[[#This Row],[Calc 1]],IF(O1005>1,\"Not counted as an Employee\",\"#NA\"))","v":"#NA"},{"$f":"MAX(Table1[[#This Row],[PO Employee]],Table1[[#This Row],[Other HZ Employee]],Table1[[#This Row],[Non HZ Employee]],Table1[[#This Row],[Job Site Employee]],Table1[[#This Row],[Other Employee]])","v":0},{"$f":"IF(Table1[[#This Row],[Total Hours per Month]]=Table1[[#This Row],[Column12]],\"Match\",\"Error\")","v":"Match"},{"$f":"IF(Table1[[#This Row],[Calc 2]]=\"#NA\",\"#NA\",IF(Table1[[#This Row],[Non HZ Employee]]=Table1[[#This Row],[Max calc]],\"Non HZ Employee\", Table1[[#This Row],[Calc 2]]))","v":"#NA"}]
[989,null,989,{"$nulls":5},{"$f":"SUM(Table1[[#This Row],[Column4]]+Table1[[#This Row],[Column3]]+Table1[[#This Row],[Column2]]+Table1[[#This Row],[Column1]])","v":0},{"$nulls":5},{"$f":"SUM(Table1[[#This Row],[PO Employee]:[Other Employee]])","v":0},"N",{"$error":"#N/A"},{"$f":"IF(O1006>39,Table1[[#This Row],[Calc 1]],IF(O1006>1,\"Not counted as an Employee\",\"#NA\"))","v":"#NA"},{"$f":"MAX(Table1[[#This Row],[PO Employee]],Table1[[#This Row],[Other HZ Employee]],Table1[[#This Row],[Non HZ Employee]],Table1[[#This Row],[Job Site Employee]],Table1[[#This Row],[Other Employee]])","v":0},{"$f":"IF(Table1[[#This Row],[Total Hours per Month]]=Table1[[#This Row],[Column12]],\"Match\",\"Error\")","v":"Match"},{"$f":"IF(Table1[[#This Row],[Calc 2]]=\"#NA\",\"#NA\",IF(Table1[[#This Row],[Non HZ Employee]]=Table1[[#This Row],[Max calc]],\"Non HZ Employee\", Table1[[#This Row],[Calc 2]]))","v":"#NA"}]
[990,null,990,{"$nulls":5},{"$f":"SUM(Table1[[#This Row],[Column4]]+Table1[[#This Row],[Column3]]+Table1[[#This Row],[Column2]]+Table1[[#This Row],[Column1]])","v":0},{"$nulls":5},{"$f":"SUM(Table1[[#This Row],[PO Employee]:[Other Employee]])","v":0},"N",{"$error":"#N/A"},{"$f":"IF(O1007>39,Table1[[#This Row],[Calc 1]],IF(O1007>1,\"Not counted as an Employee\",\"#NA\"))","v":"#NA"},{"$f":"MAX(Table1[[#This Row],[PO Employee]],Table1[[#This Row],[Other HZ Employee]],Table1[[#This Row],[Non HZ Employee]],Table1[[#This Row],[Job Site Employee]],Table1[[#This Row],[Other Employee]])","v":0},{"$f":"IF(Table1[[#This Row],[Total Hours per Month]]=Table1[[#This Row],[Column12]],\"Match\",\"Error\")","v":"Match"},{"$f":"IF(Table1[[#This Row],[Calc 2]]=\"#NA\",\"#NA\",IF(Table1[[#This Row],[Non HZ Employee]]=Table1[[#This Row],[Max calc]],\"Non HZ Employee\", Table1[[#This Row],[Calc 2]]))","v":"#NA"}]
[991,null,991,{"$nulls":5},{"$f":"SUM(Table1[[#This Row],[Column4]]+Table1[[#This Row],[Column3]]+Table1[[#This Row],[Column2]]+Table1[[#This Row],[Column1]])","v":0},{"$nulls":5},{"$f":"SUM(Table1[[#This Row],[PO Employee]:[Other Employee]])","v":0},"N",{"$error":"#N/A"},{"$f":"IF(O1008>39,Table1[[#This Row],[Calc 1]],IF(O1008>1,\"Not counted as an Employee\",\"#NA\"))","v":"#NA"},{"$f":"MAX(Table1[[#This Row],[PO Employee]],Table1[[#This Row],[Other HZ Employee]],Table1[[#This Row],[Non HZ Employee]],Table1[[#This Row],[Job Site Employee]],Table1[[#This Row],[Other Employee]])","v":0},{"$f":"IF(Table1[[#This Row],[Total Hours per Month]]=Table1[[#This Row],[Column12]],\"Match\",\"Error\")","v":"Match"},{"$f":"IF(Table1[[#This Row],[Calc 2]]=\"#NA\",\"#NA\",IF(Table1[[#This Row],[Non HZ Employee]]=Table1[[#This Row],[Max calc]],\"Non HZ Employee\", Table1[[#This Row],[Calc 2]]))","v":"#NA"}]
[992,null,992,{"$nulls":5},{"$f":"SUM(Table1[[#This Row],[Column4]]+Table1[[#This Row],[Column3]]+Table1[[#This Row],[Column2]]+Table1[[#This Row],[Column1]])","v":0},{"$nulls":5},{"$f":"SUM(Table1[[#This Row],[PO Employee]:[Other Employee]])","v":0},"N",{"$error":"#N/A"},{"$f":"IF(O1009>39,Table1[[#This Row],[Calc 1]],IF(O1009>1,\"Not counted as an Employee\",\"#NA\"))","v":"#NA"},{"$f":"MAX(Table1[[#This Row],[PO Employee]],Table1[[#This Row],[Other HZ Employee]],Table1[[#This Row],[Non HZ Employee]],Table1[[#This Row],[Job Site Employee]],Table1[[#This Row],[Other Employee]])","v":0},{"$f":"IF(Table1[[#This Row],[Total Hours per Month]]=Table1[[#This Row],[Column12]],\"Match\",\"Error\")","v":"Match"},{"$f":"IF(Table1[[#This Row],[Calc 2]]=\"#NA\",\"#NA\",IF(Table1[[#This Row],[Non HZ Employee]]=Table1[[#This Row],[Max calc]],\"Non HZ Employee\", Table1[[#This Row],[Calc 2]]))","v":"#NA"}]
[993,null,993,{"$nulls":5},{"$f":"SUM(Table1[[#This Row],[Column4]]+Table1[[#This Row],[Column3]]+Table1[[#This Row],[Column2]]+Table1[[#This Row],[Column1]])","v":0},{"$nulls":5},{"$f":"SUM(Table1[[#This Row],[PO Employee]:[Other Employee]])","v":0},"N",{"$error":"#N/A"},{"$f":"IF(O1010>39,Table1[[#This Row],[Calc 1]],IF(O1010>1,\"Not counted as an Employee\",\"#NA\"))","v":"#NA"},{"$f":"MAX(Table1[[#This Row],[PO Employee]],Table1[[#This Row],[Other HZ Employee]],Table1[[#This Row],[Non HZ Employee]],Table1[[#This Row],[Job Site Employee]],Table1[[#This Row],[Other Employee]])","v":0},{"$f":"IF(Table1[[#This Row],[Total Hours per Month]]=Table1[[#This Row],[Column12]],\"Match\",\"Error\")","v":"Match"},{"$f":"IF(Table1[[#This Row],[Calc 2]]=\"#NA\",\"#NA\",IF(Table1[[#This Row],[Non HZ Employee]]=Table1[[#This Row],[Max calc]],\"Non HZ Employee\", Table1[[#This Row],[Calc 2]]))","v":"#NA"}]
[994,null,994,{"$nulls":5},{"$f":"SUM(Table1[[#This Row],[Column4]]+Table1[[#This Row],[Column3]]+Table1[[#This Row],[Column2]]+Table1[[#This Row],[Column1]])","v":0},{"$nulls":5},{"$f":"SUM(Table1[[#This Row],[PO Employee]:[Other Employee]])","v":0},"N",{"$error":"#N/A"},{"$f":"IF(O1011>39,Table1[[#This Row],[Calc 1]],IF(O1011>1,\"Not counted as an Employee\",\"#NA\"))","v":"#NA"},{"$f":"MAX(Table1[[#This Row],[PO Employee]],Table1[[#This Row],[Other HZ Employee]],Table1[[#This Row],[Non HZ Employee]],Table1[[#This Row],[Job Site Employee]],Table1[[#This Row],[Other Employee]])","v":0},{"$f":"IF(Table1[[#This Row],[Total Hours per Month]]=Table1[[#This Row],[Column12]],\"Match\",\"Error\")","v":"Match"},{"$f":"IF(Table1[[#This Row],[Calc 2]]=\"#NA\",\"#NA\",IF(Table1[[#This Row],[Non HZ Employee]]=Table1[[#This Row],[Max calc]],\"Non HZ Employee\", Table1[[#This Row],[Calc 2]]))","v":"#NA"}]
[995,null,995,{"$nulls":5},{"$f":"SUM(Table1[[#This Row],[Column4]]+Table1[[#This Row],[Column3]]+Table1[[#This Row],[Column2]]+Table1[[#This Row],[Column1]])","v":0},{"$nulls":5},{"$f":"SUM(Table1[[#This Row],[PO Employee]:[Other Employee]])","v":0},"N",{"$error":"#N/A"},{"$f":"IF(O1012>39,Table1[[#This Row],[Calc 1]],IF(O1012>1,\"Not counted as an Employee\",\"#NA\"))","v":"#NA"},{"$f":"MAX(Table1[[#This Row],[PO Employee]],Table1[[#This Row],[Other HZ Employee]],Table1[[#This Row],[Non HZ Employee]],Table1[[#This Row],[Job Site Employee]],Table1[[#This Row],[Other Employee]])","v":0},{"$f":"IF(Table1[[#This Row],[Total Hours per Month]]=Table1[[#This Row],[Column12]],\"Match\",\"Error\")","v":"Match"},{"$f":"IF(Table1[[#This Row],[Calc 2]]=\"#NA\",\"#NA\",IF(Table1[[#This Row],[Non HZ Employee]]=Table1[[#This Row],[Max calc]],\"Non HZ Employee\", Table1[[#This Row],[Calc 2]]))","v":"#NA"}]
[996,null,996,{"$nulls":5},{"$f":"SUM(Table1[[#This Row],[Column4]]+Table1[[#This Row],[Column3]]+Table1[[#This Row],[Column2]]+Table1[[#This Row],[Column1]])","v":0},{"$nulls":5},{"$f":"SUM(Table1[[#This Row],[PO Employee]:[Other Employee]])","v":0},"N",{"$error":"#N/A"},{"$f":"IF(O1013>39,Table1[[#This Row],[Calc 1]],IF(O1013>1,\"Not counted as an Employee\",\"#NA\"))","v":"#NA"},{"$f":"MAX(Table1[[#This Row],[PO Employee]],Table1[[#This Row],[Other HZ Employee]],Table1[[#This Row],[Non HZ Employee]],Table1[[#This Row],[Job Site Employee]],Table1[[#This Row],[Other Employee]])","v":0},{"$f":"IF(Table1[[#This Row],[Total Hours per Month]]=Table1[[#This Row],[Column12]],\"Match\",\"Error\")","v":"Match"},{"$f":"IF(Table1[[#This Row],[Calc 2]]=\"#NA\",\"#NA\",IF(Table1[[#This Row],[Non HZ Employee]]=Table1[[#This Row],[Max calc]],\"Non HZ Employee\", Table1[[#This Row],[Calc 2]]))","v":"#NA"}]
[997,null,997,{"$nulls":5},{"$f":"SUM(Table1[[#This Row],[Column4]]+Table1[[#This Row],[Column3]]+Table1[[#This Row],[Column2]]+Table1[[#This Row],[Column1]])","v":0},{"$nulls":5},{"$f":"SUM(Table1[[#This Row],[PO Employee]:[Other Employee]])","v":0},"N",{"$error":"#N/A"},{"$f":"IF(O1014>39,Table1[[#This Row],[Calc 1]],IF(O1014>1,\"Not counted as an Employee\",\"#NA\"))","v":"#NA"},{"$f":"MAX(Table1[[#This Row],[PO Employee]],Table1[[#This Row],[Other HZ Employee]],Table1[[#This Row],[Non HZ Employee]],Table1[[#This Row],[Job Site Employee]],Table1[[#This Row],[Other Employee]])","v":0},{"$f":"IF(Table1[[#This Row],[Total Hours per Month]]=Table1[[#This Row],[Column12]],\"Match\",\"Error\")","v":"Match"},{"$f":"IF(Table1[[#This Row],[Calc 2]]=\"#NA\",\"#NA\",IF(Table1[[#This Row],[Non HZ Employee]]=Table1[[#This Row],[Max calc]],\"Non HZ Employee\", Table1[[#This Row],[Calc 2]]))","v":"#NA"}]
[998,null,998,{"$nulls":5},{"$f":"SUM(Table1[[#This Row],[Column4]]+Table1[[#This Row],[Column3]]+Table1[[#This Row],[Column2]]+Table1[[#This Row],[Column1]])","v":0},{"$nulls":5},{"$f":"SUM(Table1[[#This Row],[PO Employee]:[Other Employee]])","v":0},"N",{"$error":"#N/A"},{"$f":"IF(O1015>39,Table1[[#This Row],[Calc 1]],IF(O1015>1,\"Not counted as an Employee\",\"#NA\"))","v":"#NA"},{"$f":"MAX(Table1[[#This Row],[PO Employee]],Table1[[#This Row],[Other HZ Employee]],Table1[[#This Row],[Non HZ Employee]],Table1[[#This Row],[Job Site Employee]],Table1[[#This Row],[Other Employee]])","v":0},{"$f":"IF(Table1[[#This Row],[Total Hours per Month]]=Table1[[#This Row],[Column12]],\"Match\",\"Error\")","v":"Match"},{"$f":"IF(Table1[[#This Row],[Calc 2]]=\"#NA\",\"#NA\",IF(Table1[[#This Row],[Non HZ Employee]]=Table1[[#This Row],[Max calc]],\"Non HZ Employee\", Table1[[#This Row],[Calc 2]]))","v":"#NA"}]
[999,null,999,{"$nulls":5},{"$f":"SUM(Table1[[#This Row],[Column4]]+Table1[[#This Row],[Column3]]+Table1[[#This Row],[Column2]]+Table1[[#This Row],[Column1]])","v":0},{"$nulls":5},{"$f":"SUM(Table1[[#This Row],[PO Employee]:[Other Employee]])","v":0},"N",{"$error":"#N/A"},{"$f":"IF(O1016>39,Table1[[#This Row],[Calc 1]],IF(O1016>1,\"Not counted as an Employee\",\"#NA\"))","v":"#NA"},{"$f":"MAX(Table1[[#This Row],[PO Employee]],Table1[[#This Row],[Other HZ Employee]],Table1[[#This Row],[Non HZ Employee]],Table1[[#This Row],[Job Site Employee]],Table1[[#This Row],[Other Employee]])","v":0},{"$f":"IF(Table1[[#This Row],[Total Hours per Month]]=Table1[[#This Row],[Column12]],\"Match\",\"Error\")","v":"Match"},{"$f":"IF(Table1[[#This Row],[Calc 2]]=\"#NA\",\"#NA\",IF(Table1[[#This Row],[Non HZ Employee]]=Table1[[#This Row],[Max calc]],\"Non HZ Employee\", Table1[[#This Row],[Calc 2]]))","v":"#NA"}]
[1000,null,1000,{"$nulls":5},{"$f":"SUM(Table1[[#This Row],[Column4]]+Table1[[#This Row],[Column3]]+Table1[[#This Row],[Column2]]+Table1[[#This Row],[Column1]])","v":0},{"$nulls":5},{"$f":"SUM(Table1[[#This Row],[PO Employee]:[Other Employee]])","v":0},"N",{"$error":"#N/A"},{"$f":"IF(O1017>39,Table1[[#This Row],[Calc 1]],IF(O1017>1,\"Not counted as an Employee\",\"#NA\"))","v":"#NA"},{"$f":"MAX(Table1[[#This Row],[PO Employee]],Table1[[#This Row],[Other HZ Employee]],Table1[[#This Row],[Non HZ Employee]],Table1[[#This Row],[Job Site Employee]],Table1[[#This Row],[Other Employee]])","v":0},{"$f":"IF(Table1[[#This Row],[Total Hours per Month]]=Table1[[#This Row],[Column12]],\"Match\",\"Error\")","v":"Match"},{"$f":"IF(Table1[[#This Row],[Calc 2]]=\"#NA\",\"#NA\",IF(Table1[[#This Row],[Non HZ Employee]]=Table1[[#This Row],[Max calc]],\"Non HZ Employee\", Table1[[#This Row],[Calc 2]]))","v":"#NA"}]
[1001,null,1001,{"$nulls":5},{"$f":"SUM(Table1[[#This Row],[Column4]]+Table1[[#This Row],[Column3]]+Table1[[#This Row],[Column2]]+Table1[[#This Row],[Column1]])","v":0},{"$nulls":5},{"$f":"SUM(Table1[[#This Row],[PO Employee]:[Other Employee]])","v":0},"N",{"$error":"#N/A"},{"$f":"IF(O1018>39,Table1[[#This Row],[Calc 1]],IF(O1018>1,\"Not counted as an Employee\",\"#NA\"))","v":"#NA"},{"$f":"MAX(Table1[[#This Row],[PO Employee]],Table1[[#This Row],[Other HZ Employee]],Table1[[#This Row],[Non HZ Employee]],Table1[[#This Row],[Job Site Employee]],Table1[[#This Row],[Other Employee]])","v":0},{"$f":"IF(Table1[[#This Row],[Total Hours per Month]]=Table1[[#This Row],[Column12]],\"Match\",\"Error\")","v":"Match"},{"$f":"IF(Table1[[#This Row],[Calc 2]]=\"#NA\",\"#NA\",IF(Table1[[#This Row],[Non HZ Employee]]=Table1[[#This Row],[Max calc]],\"Non HZ Employee\", Table1[[#This Row],[Calc 2]]))","v":"#NA"}]
[1002,null,1002,{"$nulls":5},{"$f":"SUM(Table1[[#This Row],[Column4]]+Table1[[#This Row],[Column3]]+Table1[[#This Row],[Column2]]+Table1[[#This Row],[Column1]])","v":0},{"$nulls":5},{"$f":"SUM(Table1[[#This Row],[PO Employee]:[Other Employee]])","v":0},"N",{"$error":"#N/A"},{"$f":"IF(O1019>39,Table1[[#This Row],[Calc 1]],IF(O1019>1,\"Not counted as an Employee\",\"#NA\"))","v":"#NA"},{"$f":"MAX(Table1[[#This Row],[PO Employee]],Table1[[#This Row],[Other HZ Employee]],Table1[[#This Row],[Non HZ Employee]],Table1[[#This Row],[Job Site Employee]],Table1[[#This Row],[Other Employee]])","v":0},{"$f":"IF(Table1[[#This Row],[Total Hours per Month]]=Table1[[#This Row],[Column12]],\"Match\",\"Error\")","v":"Match"},{"$f":"IF(Table1[[#This Row],[Calc 2]]=\"#NA\",\"#NA\",IF(Table1[[#This Row],[Non HZ Employee]]=Table1[[#This Row],[Max calc]],\"Non HZ Employee\", Table1[[#This Row],[Calc 2]]))","v":"#NA"}]
[1003,null,1003,{"$nulls":5},{"$f":"SUM(Table1[[#This Row],[Column4]]+Table1[[#This Row],[Column3]]+Table1[[#This Row],[Column2]]+Table1[[#This Row],[Column1]])","v":0},{"$nulls":5},{"$f":"SUM(Table1[[#This Row],[PO Employee]:[Other Employee]])","v":0},"N",{"$error":"#N/A"},{"$f":"IF(O1020>39,Table1[[#This Row],[Calc 1]],IF(O1020>1,\"Not counted as an Employee\",\"#NA\"))","v":"#NA"},{"$f":"MAX(Table1[[#This Row],[PO Employee]],Table1[[#This Row],[Other HZ Employee]],Table1[[#This Row],[Non HZ Employee]],Table1[[#This Row],[Job Site Employee]],Table1[[#This Row],[Other Employee]])","v":0},{"$f":"IF(Table1[[#This Row],[Total Hours per Month]]=Table1[[#This Row],[Column12]],\"Match\",\"Error\")","v":"Match"},{"$f":"IF(Table1[[#This Row],[Calc 2]]=\"#NA\",\"#NA\",IF(Table1[[#This Row],[Non HZ Employee]]=Table1[[#This Row],[Max calc]],\"Non HZ Employee\", Table1[[#This Row],[Calc 2]]))","v":"#NA"}]
[1004,null,1004,{"$nulls":5},{"$f":"SUM(Table1[[#This Row],[Column4]]+Table1[[#This Row],[Column3]]+Table1[[#This Row],[Column2]]+Table1[[#This Row],[Column1]])","v":0},{"$nulls":5},{"$f":"SUM(Table1[[#This Row],[PO Employee]:[Other Employee]])","v":0},"N",{"$error":"#N/A"},{"$f":"IF(O1021>39,Table1[[#This Row],[Calc 1]],IF(O1021>1,\"Not counted as an Employee\",\"#NA\"))","v":"#NA"},{"$f":"MAX(Table1[[#This Row],[PO Employee]],Table1[[#This Row],[Other HZ Employee]],Table1[[#This Row],[Non HZ Employee]],Table1[[#This Row],[Job Site Employee]],Table1[[#This Row],[Other Employee]])","v":0},{"$f":"IF(Table1[[#This Row],[Total Hours per Month]]=Table1[[#This Row],[Column12]],\"Match\",\"Error\")","v":"Match"},{"$f":"IF(Table1[[#This Row],[Calc 2]]=\"#NA\",\"#NA\",IF(Table1[[#This Row],[Non HZ Employee]]=Table1[[#This Row],[Max calc]],\"Non HZ Employee\", Table1[[#This Row],[Calc 2]]))","v":"#NA"}]
[1005,null,1005,{"$nulls":5},{"$f":"SUM(Table1[[#This Row],[Column4]]+Table1[[#This Row],[Column3]]+Table1[[#This Row],[Column2]]+Table1[[#This Row],[Column1]])","v":0},{"$nulls":5},{"$f":"SUM(Table1[[#This Row],[PO Employee]:[Other Employee]])","v":0},"N",{"$error":"#N/A"},{"$f":"IF(O1022>39,Table1[[#This Row],[Calc 1]],IF(O1022>1,\"Not counted as an Employee\",\"#NA\"))","v":"#NA"},{"$f":"MAX(Table1[[#This Row],[PO Employee]],Table1[[#This Row],[Other HZ Employee]],Table1[[#This Row],[Non HZ Employee]],Table1[[#This Row],[Job Site Employee]],Table1[[#This Row],[Other Employee]])","v":0},{"$f":"IF(Table1[[#This Row],[Total Hours per Month]]=Table1[[#This Row],[Column12]],\"Match\",\"Error\")","v":"Match"},{"$f":"IF(Table1[[#This Row],[Calc 2]]=\"#NA\",\"#NA\",IF(Table1[[#This Row],[Non HZ Employee]]=Table1[[#This Row],[Max calc]],\"Non HZ Employee\", Table1[[#This Row],[Calc 2]]))","v":"#NA"}]
[1006,null,1006,{"$nulls":5},{"$f":"SUM(Table1[[#This Row],[Column4]]+Table1[[#This Row],[Column3]]+Table1[[#This Row],[Column2]]+Table1[[#This Row],[Column1]])","v":0},{"$nulls":5},{"$f":"SUM(Table1[[#This Row],[PO Employee]:[Other Employee]])","v":0},"N",{"$error":"#N/A"},{"$f":"IF(O1023>39,Table1[[#This Row],[Calc 1]],IF(O1023>1,\"Not counted as an Employee\",\"#NA\"))","v":"#NA"},{"$f":"MAX(Table1[[#This Row],[PO Employee]],Table1[[#This Row],[Other HZ Employee]],Table1[[#This Row],[Non HZ Employee]],Table1[[#This Row],[Job Site Employee]],Table1[[#This Row],[Other Employee]])","v":0},{"$f":"IF(Table1[[#This Row],[Total Hours per Month]]=Table1[[#This Row],[Column12]],\"Match\",\"Error\")","v":"Match"},{"$f":"IF(Table1[[#This Row],[Calc 2]]=\"#NA\",\"#NA\",IF(Table1[[#This Row],[Non HZ Employee]]=Table1[[#This Row],[Max calc]],\"Non HZ Employee\", Table1[[#This Row],[Calc 2]]))","v":"#NA"}]
[1007,null,1007,{"$nulls":5},{"$f":"SUM(Table1[[#This Row],[Column4]]+Table1[[#This Row],[Column3]]+Table1[[#This Row],[Column2]]+Table1[[#This Row],[Column1]])","v":0},{"$nulls":5},{"$f":"SUM(Table1[[#This Row],[PO Employee]:[Other Employee]])","v":0},"N",{"$error":"#N/A"},{"$f":"IF(O1024>39,Table1[[#This Row],[Calc 1]],IF(O1024>1,\"Not counted as an Employee\",\"#NA\"))","v":"#NA"},{"$f":"MAX(Table1[[#This Row],[PO Employee]],Table1[[#This Row],[Other HZ Employee]],Table1[[#This Row],[Non HZ Employee]],Table1[[#This Row],[Job Site Employee]],Table1[[#This Row],[Other Employee]])","v":0},{"$f":"IF(Table1[[#This Row],[Total Hours per Month]]=Table1[[#This Row],[Column12]],\"Match\",\"Error\")","v":"Match"},{"$f":"IF(Table1[[#This Row],[Calc 2]]=\"#NA\",\"#NA\",IF(Table1[[#This Row],[Non HZ Employee]]=Table1[[#This Row],[Max calc]],\"Non HZ Employee\", Table1[[#This Row],[Calc 2]]))","v":"#NA"}]
[1008,null,1008,{"$nulls":5},{"$f":"SUM(Table1[[#This Row],[Column4]]+Table1[[#This Row],[Column3]]+Table1[[#This Row],[Column2]]+Table1[[#This Row],[Column1]])","v":0},{"$nulls":5},{"$f":"SUM(Table1[[#This Row],[PO Employee]:[Other Employee]])","v":0},"N",{"$error":"#N/A"},{"$f":"IF(O1025>39,Table1[[#This Row],[Calc 1]],IF(O1025>1,\"Not counted as an Employee\",\"#NA\"))","v":"#NA"},{"$f":"MAX(Table1[[#This Row],[PO Employee]],Table1[[#This Row],[Other HZ Employee]],Table1[[#This Row],[Non HZ Employee]],Table1[[#This Row],[Job Site Employee]],Table1[[#This Row],[Other Employee]])","v":0},{"$f":"IF(Table1[[#This Row],[Total Hours per Month]]=Table1[[#This Row],[Column12]],\"Match\",\"Error\")","v":"Match"},{"$f":"IF(Table1[[#This Row],[Calc 2]]=\"#NA\",\"#NA\",IF(Table1[[#This Row],[Non HZ Employee]]=Table1[[#This Row],[Max calc]],\"Non HZ Employee\", Table1[[#This Row],[Calc 2]]))","v":"#NA"}]
[1009,null,1009,{"$nulls":5},{"$f":"SUM(Table1[[#This Row],[Column4]]+Table1[[#This Row],[Column3]]+Table1[[#This Row],[Column2]]+Table1[[#This Row],[Column1]])","v":0},{"$nulls":5},{"$f":"SUM(Table1[[#This Row],[PO Employee]:[Other Employee]])","v":0},"N",{"$error":"#N/A"},{"$f":"IF(O1026>39,Table1[[#This Row],[Calc 1]],IF(O1026>1,\"Not counted as an Employee\",\"#NA\"))","v":"#NA"},{"$f":"MAX(Table1[[#This Row],[PO Employee]],Table1[[#This Row],[Other HZ Employee]],Table1[[#This Row],[Non HZ Employee]],Table1[[#This Row],[Job Site Employee]],Table1[[#This Row],[Other Employee]])","v":0},{"$f":"IF(Table1[[#This Row],[Total Hours per Month]]=Table1[[#This Row],[Column12]],\"Match\",\"Error\")","v":"Match"},{"$f":"IF(Table1[[#This Row],[Calc 2]]=\"#NA\",\"#NA\",IF(Table1[[#This Row],[Non HZ Employee]]=Table1[[#This Row],[Max calc]],\"Non HZ Employee\", Table1[[#This Row],[Calc 2]]))","v":"#NA"}]
[1010,null,1010,{"$nulls":5},{"$f":"SUM(Table1[[#This Row],[Column4]]+Table1[[#This Row],[Column3]]+Table1[[#This Row],[Column2]]+Table1[[#This Row],[Column1]])","v":0},{"$nulls":5},{"$f":"SUM(Table1[[#This Row],[PO Employee]:[Other Employee]])","v":0},"N",{"$error":"#N/A"},{"$f":"IF(O1027>39,Table1[[#This Row],[Calc 1]],IF(O1027>1,\"Not counted as an Employee\",\"#NA\"))","v":"#NA"},{"$f":"MAX(Table1[[#This Row],[PO Employee]],Table1[[#This Row],[Other HZ Employee]],Table1[[#This Row],[Non HZ Employee]],Table1[[#This Row],[Job Site Employee]],Table1[[#This Row],[Other Employee]])","v":0},{"$f":"IF(Table1[[#This Row],[Total Hours per Month]]=Table1[[#This Row],[Column12]],\"Match\",\"Error\")","v":"Match"},{"$f":"IF(Table1[[#This Row],[Calc 2]]=\"#NA\",\"#NA\",IF(Table1[[#This Row],[Non HZ Employee]]=Table1[[#This Row],[Max calc]],\"Non HZ Employee\", Table1[[#This Row],[Calc 2]]))","v":"#NA"}]
[1011,null,1011,{"$nulls":5},{"$f":"SUM(Table1[[#This Row],[Column4]]+Table1[[#This Row],[Column3]]+Table1[[#This Row],[Column2]]+Table1[[#This Row],[Column1]])","v":0},{"$nulls":5},{"$f":"SUM(Table1[[#This Row],[PO Employee]:[Other Employee]])","v":0},"N",{"$error":"#N/A"},{"$f":"IF(O1028>39,Table1[[#This Row],[Calc 1]],IF(O1028>1,\"Not counted as an Employee\",\"#NA\"))","v":"#NA"},{"$f":"MAX(Table1[[#This Row],[PO Employee]],Table1[[#This Row],[Other HZ Employee]],Table1[[#This Row],[Non HZ Employee]],Table1[[#This Row],[Job Site Employee]],Table1[[#This Row],[Other Employee]])","v":0},{"$f":"IF(Table1[[#This Row],[Total Hours per Month]]=Table1[[#This Row],[Column12]],\"Match\",\"Error\")","v":"Match"},{"$f":"IF(Table1[[#This Row],[Calc 2]]=\"#NA\",\"#NA\",IF(Table1[[#This Row],[Non HZ Employee]]=Table1[[#This Row],[Max calc]],\"Non HZ Employee\", Table1[[#This Row],[Calc 2]]))","v":"#NA"}]
[1012,null,1012,{"$nulls":5},{"$f":"SUM(Table1[[#This Row],[Column4]]+Table1[[#This Row],[Column3]]+Table1[[#This Row],[Column2]]+Table1[[#This Row],[Column1]])","v":0},{"$nulls":5},{"$f":"SUM(Table1[[#This Row],[PO Employee]:[Other Employee]])","v":0},"N",{"$error":"#N/A"},{"$f":"IF(O1029>39,Table1[[#This Row],[Calc 1]],IF(O1029>1,\"Not counted as an Employee\",\"#NA\"))","v":"#NA"},{"$f":"MAX(Table1[[#This Row],[PO Employee]],Table1[[#This Row],[Other HZ Employee]],Table1[[#This Row],[Non HZ Employee]],Table1[[#This Row],[Job Site Employee]],Table1[[#This Row],[Other Employee]])","v":0},{"$f":"IF(Table1[[#This Row],[Total Hours per Month]]=Table1[[#This Row],[Column12]],\"Match\",\"Error\")","v":"Match"},{"$f":"IF(Table1[[#This Row],[Calc 2]]=\"#NA\",\"#NA\",IF(Table1[[#This Row],[Non HZ Employee]]=Table1[[#This Row],[Max calc]],\"Non HZ Employee\", Table1[[#This Row],[Calc 2]]))","v":"#NA"}]
[1013,null,1013,{"$nulls":5},{"$f":"SUM(Table1[[#This Row],[Column4]]+Table1[[#This Row],[Column3]]+Table1[[#This Row],[Column2]]+Table1[[#This Row],[Column1]])","v":0},{"$nulls":5},{"$f":"SUM(Table1[[#This Row],[PO Employee]:[Other Employee]])","v":0},"N",{"$error":"#N/A"},{"$f":"IF(O1030>39,Table1[[#This Row],[Calc 1]],IF(O1030>1,\"Not counted as an Employee\",\"#NA\"))","v":"#NA"},{"$f":"MAX(Table1[[#This Row],[PO Employee]],Table1[[#This Row],[Other HZ Employee]],Table1[[#This Row],[Non HZ Employee]],Table1[[#This Row],[Job Site Employee]],Table1[[#This Row],[Other Employee]])","v":0},{"$f":"IF(Table1[[#This Row],[Total Hours per Month]]=Table1[[#This Row],[Column12]],\"Match\",\"Error\")","v":"Match"},{"$f":"IF(Table1[[#This Row],[Calc 2]]=\"#NA\",\"#NA\",IF(Table1[[#This Row],[Non HZ Employee]]=Table1[[#This Row],[Max calc]],\"Non HZ Employee\", Table1[[#This Row],[Calc 2]]))","v":"#NA"}]
[1014,null,1014,{"$nulls":5},{"$f":"SUM(Table1[[#This Row],[Column4]]+Table1[[#This Row],[Column3]]+Table1[[#This Row],[Column2]]+Table1[[#This Row],[Column1]])","v":0},{"$nulls":5},{"$f":"SUM(Table1[[#This Row],[PO Employee]:[Other Employee]])","v":0},"N",{"$error":"#N/A"},{"$f":"IF(O1031>39,Table1[[#This Row],[Calc 1]],IF(O1031>1,\"Not counted as an Employee\",\"#NA\"))","v":"#NA"},{"$f":"MAX(Table1[[#This Row],[PO Employee]],Table1[[#This Row],[Other HZ Employee]],Table1[[#This Row],[Non HZ Employee]],Table1[[#This Row],[Job Site Employee]],Table1[[#This Row],[Other Employee]])","v":0},{"$f":"IF(Table1[[#This Row],[Total Hours per Month]]=Table1[[#This Row],[Column12]],\"Match\",\"Error\")","v":"Match"},{"$f":"IF(Table1[[#This Row],[Calc 2]]=\"#NA\",\"#NA\",IF(Table1[[#This Row],[Non HZ Employee]]=Table1[[#This Row],[Max calc]],\"Non HZ Employee\", Table1[[#This Row],[Calc 2]]))","v":"#NA"}]
[1015,null,1015,{"$nulls":5},{"$f":"SUM(Table1[[#This Row],[Column4]]+Table1[[#This Row],[Column3]]+Table1[[#This Row],[Column2]]+Table1[[#This Row],[Column1]])","v":0},{"$nulls":5},{"$f":"SUM(Table1[[#This Row],[PO Employee]:[Other Employee]])","v":0},"N",{"$error":"#N/A"},{"$f":"IF(O1032>39,Table1[[#This Row],[Calc 1]],IF(O1032>1,\"Not counted as an Employee\",\"#NA\"))","v":"#NA"},{"$f":"MAX(Table1[[#This Row],[PO Employee]],Table1[[#This Row],[Other HZ Employee]],Table1[[#This Row],[Non HZ Employee]],Table1[[#This Row],[Job Site Employee]],Table1[[#This Row],[Other Employee]])","v":0},{"$f":"IF(Table1[[#This Row],[Total Hours per Month]]=Table1[[#This Row],[Column12]],\"Match\",\"Error\")","v":"Match"},{"$f":"IF(Table1[[#This Row],[Calc 2]]=\"#NA\",\"#NA\",IF(Table1[[#This Row],[Non HZ Employee]]=Table1[[#This Row],[Max calc]],\"Non HZ Employee\", Table1[[#This Row],[Calc 2]]))","v":"#NA"}]
[1016,null,1016,{"$nulls":5},{"$f":"SUM(Table1[[#This Row],[Column4]]+Table1[[#This Row],[Column3]]+Table1[[#This Row],[Column2]]+Table1[[#This Row],[Column1]])","v":0},{"$nulls":5},{"$f":"SUM(Table1[[#This Row],[PO Employee]:[Other Employee]])","v":0},"N",{"$error":"#N/A"},{"$f":"IF(O1033>39,Table1[[#This Row],[Calc 1]],IF(O1033>1,\"Not counted as an Employee\",\"#NA\"))","v":"#NA"},{"$f":"MAX(Table1[[#This Row],[PO Employee]],Table1[[#This Row],[Other HZ Employee]],Table1[[#This Row],[Non HZ Employee]],Table1[[#This Row],[Job Site Employee]],Table1[[#This Row],[Other Employee]])","v":0},{"$f":"IF(Table1[[#This Row],[Total Hours per Month]]=Table1[[#This Row],[Column12]],\"Match\",\"Error\")","v":"Match"},{"$f":"IF(Table1[[#This Row],[Calc 2]]=\"#NA\",\"#NA\",IF(Table1[[#This Row],[Non HZ Employee]]=Table1[[#This Row],[Max calc]],\"Non HZ Employee\", Table1[[#This Row],[Calc 2]]))","v":"#NA"}]
[1017,null,1017,{"$nulls":5},{"$f":"SUM(Table1[[#This Row],[Column4]]+Table1[[#This Row],[Column3]]+Table1[[#This Row],[Column2]]+Table1[[#This Row],[Column1]])","v":0},{"$nulls":5},{"$f":"SUM(Table1[[#This Row],[PO Employee]:[Other Employee]])","v":0},"N",{"$error":"#N/A"},{"$f":"IF(O1034>39,Table1[[#This Row],[Calc 1]],IF(O1034>1,\"Not counted as an Employee\",\"#NA\"))","v":"#NA"},{"$f":"MAX(Table1[[#This Row],[PO Employee]],Table1[[#This Row],[Other HZ Employee]],Table1[[#This Row],[Non HZ Employee]],Table1[[#This Row],[Job Site Employee]],Table1[[#This Row],[Other Employee]])","v":0},{"$f":"IF(Table1[[#This Row],[Total Hours per Month]]=Table1[[#This Row],[Column12]],\"Match\",\"Error\")","v":"Match"},{"$f":"IF(Table1[[#This Row],[Calc 2]]=\"#NA\",\"#NA\",IF(Table1[[#This Row],[Non HZ Employee]]=Table1[[#This Row],[Max calc]],\"Non HZ Employee\", Table1[[#This Row],[Calc 2]]))","v":"#NA"}]
[1018,null,1018,{"$nulls":5},{"$f":"SUM(Table1[[#This Row],[Column4]]+Table1[[#This Row],[Column3]]+Table1[[#This Row],[Column2]]+Table1[[#This Row],[Column1]])","v":0},{"$nulls":5},{"$f":"SUM(Table1[[#This Row],[PO Employee]:[Other Employee]])","v":0},"N",{"$error":"#N/A"},{"$f":"IF(O1035>39,Table1[[#This Row],[Calc 1]],IF(O1035>1,\"Not counted as an Employee\",\"#NA\"))","v":"#NA"},{"$f":"MAX(Table1[[#This Row],[PO Employee]],Table1[[#This Row],[Other HZ Employee]],Table1[[#This Row],[Non HZ Employee]],Table1[[#This Row],[Job Site Employee]],Table1[[#This Row],[Other Employee]])","v":0},{"$f":"IF(Table1[[#This Row],[Total Hours per Month]]=Table1[[#This Row],[Column12]],\"Match\",\"Error\")","v":"Match"},{"$f":"IF(Table1[[#This Row],[Calc 2]]=\"#NA\",\"#NA\",IF(Table1[[#This Row],[Non HZ Employee]]=Table1[[#This Row],[Max calc]],\"Non HZ Employee\", Table1[[#This Row],[Calc 2]]))","v":"#NA"}]
[1019,null,1019,{"$nulls":5},{"$f":"SUM(Table1[[#This Row],[Column4]]+Table1[[#This Row],[Column3]]+Table1[[#This Row],[Column2]]+Table1[[#This Row],[Column1]])","v":0},{"$nulls":5},{"$f":"SUM(Table1[[#This Row],[PO Employee]:[Other Employee]])","v":0},"N",{"$error":"#N/A"},{"$f":"IF(O1036>39,Table1[[#This Row],[Calc 1]],IF(O1036>1,\"Not counted as an Employee\",\"#NA\"))","v":"#NA"},{"$f":"MAX(Table1[[#This Row],[PO Employee]],Table1[[#This Row],[Other HZ Employee]],Table1[[#This Row],[Non HZ Employee]],Table1[[#This Row],[Job Site Employee]],Table1[[#This Row],[Other Employee]])","v":0},{"$f":"IF(Table1[[#This Row],[Total Hours per Month]]=Table1[[#This Row],[Column12]],\"Match\",\"Error\")","v":"Match"},{"$f":"IF(Table1[[#This Row],[Calc 2]]=\"#NA\",\"#NA\",IF(Table1[[#This Row],[Non HZ Employee]]=Table1[[#This Row],[Max calc]],\"Non HZ Employee\", Table1[[#This Row],[Calc 2]]))","v":"#NA"}]
[1020,null,1020,{"$nulls":5},{"$f":"SUM(Table1[[#This Row],[Column4]]+Table1[[#This Row],[Column3]]+Table1[[#This Row],[Column2]]+Table1[[#This Row],[Column1]])","v":0},{"$nulls":5},{"$f":"SUM(Table1[[#This Row],[PO Employee]:[Other Employee]])","v":0},"N",{"$error":"#N/A"},{"$f":"IF(O1037>39,Table1[[#This Row],[Calc 1]],IF(O1037>1,\"Not counted as an Employee\",\"#NA\"))","v":"#NA"},{"$f":"MAX(Table1[[#This Row],[PO Employee]],Table1[[#This Row],[Other HZ Employee]],Table1[[#This Row],[Non HZ Employee]],Table1[[#This Row],[Job Site Employee]],Table1[[#This Row],[Other Employee]])","v":0},{"$f":"IF(Table1[[#This Row],[Total Hours per Month]]=Table1[[#This Row],[Column12]],\"Match\",\"Error\")","v":"Match"},{"$f":"IF(Table1[[#This Row],[Calc 2]]=\"#NA\",\"#NA\",IF(Table1[[#This Row],[Non HZ Employee]]=Table1[[#This Row],[Max calc]],\"Non HZ Employee\", Table1[[#This Row],[Calc 2]]))","v":"#NA"}]
[1021,null,1021,{"$nulls":5},{"$f":"SUM(Table1[[#This Row],[Column4]]+Table1[[#This Row],[Column3]]+Table1[[#This Row],[Column2]]+Table1[[#This Row],[Column1]])","v":0},{"$nulls":5},{"$f":"SUM(Table1[[#This Row],[PO Employee]:[Other Employee]])","v":0},"N",{"$error":"#N/A"},{"$f":"IF(O1038>39,Table1[[#This Row],[Calc 1]],IF(O1038>1,\"Not counted as an Employee\",\"#NA\"))","v":"#NA"},{"$f":"MAX(Table1[[#This Row],[PO Employee]],Table1[[#This Row],[Other HZ Employee]],Table1[[#This Row],[Non HZ Employee]],Table1[[#This Row],[Job Site Employee]],Table1[[#This Row],[Other Employee]])","v":0},{"$f":"IF(Table1[[#This Row],[Total Hours per Month]]=Table1[[#This Row],[Column12]],\"Match\",\"Error\")","v":"Match"},{"$f":"IF(Table1[[#This Row],[Calc 2]]=\"#NA\",\"#NA\",IF(Table1[[#This Row],[Non HZ Employee]]=Table1[[#This Row],[Max calc]],\"Non HZ Employee\", Table1[[#This Row],[Calc 2]]))","v":"#NA"}]
[1022,null,1022,{"$nulls":5},{"$f":"SUM(Table1[[#This Row],[Column4]]+Table1[[#This Row],[Column3]]+Table1[[#This Row],[Column2]]+Table1[[#This Row],[Column1]])","v":0},{"$nulls":5},{"$f":"SUM(Table1[[#This Row],[PO Employee]:[Other Employee]])","v":0},"N",{"$error":"#N/A"},{"$f":"IF(O1039>39,Table1[[#This Row],[Calc 1]],IF(O1039>1,\"Not counted as an Employee\",\"#NA\"))","v":"#NA"},{"$f":"MAX(Table1[[#This Row],[PO Employee]],Table1[[#This Row],[Other HZ Employee]],Table1[[#This Row],[Non HZ Employee]],Table1[[#This Row],[Job Site Employee]],Table1[[#This Row],[Other Employee]])","v":0},{"$f":"IF(Table1[[#This Row],[Total Hours per Month]]=Table1[[#This Row],[Column12]],\"Match\",\"Error\")","v":"Match"},{"$f":"IF(Table1[[#This Row],[Calc 2]]=\"#NA\",\"#NA\",IF(Table1[[#This Row],[Non HZ Employee]]=Table1[[#This Row],[Max calc]],\"Non HZ Employee\", Table1[[#This Row],[Calc 2]]))","v":"#NA"}]
[1023,null,1023,{"$nulls":5},{"$f":"SUM(Table1[[#This Row],[Column4]]+Table1[[#This Row],[Column3]]+Table1[[#This Row],[Column2]]+Table1[[#This Row],[Column1]])","v":0},{"$nulls":5},{"$f":"SUM(Table1[[#This Row],[PO Employee]:[Other Employee]])","v":0},"N",{"$error":"#N/A"},{"$f":"IF(O1040>39,Table1[[#This Row],[Calc 1]],IF(O1040>1,\"Not counted as an Employee\",\"#NA\"))","v":"#NA"},{"$f":"MAX(Table1[[#This Row],[PO Employee]],Table1[[#This Row],[Other HZ Employee]],Table1[[#This Row],[Non HZ Employee]],Table1[[#This Row],[Job Site Employee]],Table1[[#This Row],[Other Employee]])","v":0},{"$f":"IF(Table1[[#This Row],[Total Hours per Month]]=Table1[[#This Row],[Column12]],\"Match\",\"Error\")","v":"Match"},{"$f":"IF(Table1[[#This Row],[Calc 2]]=\"#NA\",\"#NA\",IF(Table1[[#This Row],[Non HZ Employee]]=Table1[[#This Row],[Max calc]],\"Non HZ Employee\", Table1[[#This Row],[Calc 2]]))","v":"#NA"}]
[1024,null,1024,{"$nulls":5},{"$f":"SUM(Table1[[#This Row],[Column4]]+Table1[[#This Row],[Column3]]+Table1[[#This Row],[Column2]]+Table1[[#This Row],[Column1]])","v":0},{"$nulls":5},{"$f":"SUM(Table1[[#This Row],[PO Employee]:[Other Employee]])","v":0},"N",{"$error":"#N/A"},{"$f":"IF(O1041>39,Table1[[#This Row],[Calc 1]],IF(O1041>1,\"Not counted as an Employee\",\"#NA\"))","v":"#NA"},{"$f":"MAX(Table1[[#This Row],[PO Employee]],Table1[[#This Row],[Other HZ Employee]],Table1[[#This Row],[Non HZ Employee]],Table1[[#This Row],[Job Site Employee]],Table1[[#This Row],[Other Employee]])","v":0},{"$f":"IF(Table1[[#This Row],[Total Hours per Month]]=Table1[[#This Row],[Column12]],\"Match\",\"Error\")","v":"Match"},{"$f":"IF(Table1[[#This Row],[Calc 2]]=\"#NA\",\"#NA\",IF(Table1[[#This Row],[Non HZ Employee]]=Table1[[#This Row],[Max calc]],\"Non HZ Employee\", Table1[[#This Row],[Calc 2]]))","v":"#NA"}]
[1025,null,1025,{"$nulls":5},{"$f":"SUM(Table1[[#This Row],[Column4]]+Table1[[#This Row],[Column3]]+Table1[[#This Row],[Column2]]+Table1[[#This Row],[Column1]])","v":0},{"$nulls":5},{"$f":"SUM(Table1[[#This Row],[PO Employee]:[Other Employee]])","v":0},"N",{"$f":"INDEX($J$17:$N$17,MATCH(MAX(J1042:N1042),J1042:N1042,0))","v":{"$error":"#N/A"}},{"$f":"IF(O1042>39,Table1[[#This Row],[Calc 1]],IF(O1042>1,\"Not counted as an Employee\",\"#NA\"))","v":"#NA"},{"$f":"MAX(Table1[[#This Row],[PO Employee]],Table1[[#This Row],[Other HZ Employee]],Table1[[#This Row],[Non HZ Employee]],Table1[[#This Row],[Job Site Employee]],Table1[[#This Row],[Other Employee]])","v":0},{"$f":"IF(Table1[[#This Row],[Total Hours per Month]]=Table1[[#This Row],[Column12]],\"Match\",\"Error\")","v":"Match"},{"$f":"IF(Table1[[#This Row],[Calc 2]]=\"#NA\",\"#NA\",IF(Table1[[#This Row],[Non HZ Employee]]=Table1[[#This Row],[Max calc]],\"Non HZ Employee\", Table1[[#This Row],[Calc 2]]))","v":"#NA"}]
[1026,null,1026,{"$nulls":5},{"$f":"SUM(Table1[[#This Row],[Column4]]+Table1[[#This Row],[Column3]]+Table1[[#This Row],[Column2]]+Table1[[#This Row],[Column1]])","v":0},{"$nulls":5},{"$f":"SUM(Table1[[#This Row],[PO Employee]:[Other Employee]])","v":0},{"$f":"IF(O1043>=40,\"Y\",\"N\")","v":"N"},{"$error":"#N/A"},{"$f":"IF(O1043>39,Table1[[#This Row],[Calc 1]],IF(O1043>1,\"Not counted as an Employee\",\"#NA\"))","v":"#NA"},{"$f":"MAX(Table1[[#This Row],[PO Employee]],Table1[[#This Row],[Other HZ Employee]],Table1[[#This Row],[Non HZ Employee]],Table1[[#This Row],[Job Site Employee]],Table1[[#This Row],[Other Employee]])","v":0},{"$f":"IF(Table1[[#This Row],[Total Hours per Month]]=Table1[[#This Row],[Column12]],\"Match\",\"Error\")","v":"Match"},{"$f":"IF(Table1[[#This Row],[Calc 2]]=\"#NA\",\"#NA\",IF(Table1[[#This Row],[Non HZ Employee]]=Table1[[#This Row],[Max calc]],\"Non HZ Employee\", Table1[[#This Row],[Calc 2]]))","v":"#NA"}]
[1027,null,1027,{"$nulls":5},{"$f":"SUM(Table1[[#This Row],[Column4]]+Table1[[#This Row],[Column3]]+Table1[[#This Row],[Column2]]+Table1[[#This Row],[Column1]])","v":0},{"$nulls":5},{"$f":"SUM(Table1[[#This Row],[PO Employee]:[Other Employee]])","v":0},"N",{"$error":"#N/A"},{"$f":"IF(O1044>39,Table1[[#This Row],[Calc 1]],IF(O1044>1,\"Not counted as an Employee\",\"#NA\"))","v":"#NA"},{"$f":"MAX(Table1[[#This Row],[PO Employee]],Table1[[#This Row],[Other HZ Employee]],Table1[[#This Row],[Non HZ Employee]],Table1[[#This Row],[Job Site Employee]],Table1[[#This Row],[Other Employee]])","v":0},{"$f":"IF(Table1[[#This Row],[Total Hours per Month]]=Table1[[#This Row],[Column12]],\"Match\",\"Error\")","v":"Match"},{"$f":"IF(Table1[[#This Row],[Calc 2]]=\"#NA\",\"#NA\",IF(Table1[[#This Row],[Non HZ Employee]]=Table1[[#This Row],[Max calc]],\"Non HZ Employee\", Table1[[#This Row],[Calc 2]]))","v":"#NA"}]
[1028,null,1028,{"$nulls":5},{"$f":"SUM(Table1[[#This Row],[Column4]]+Table1[[#This Row],[Column3]]+Table1[[#This Row],[Column2]]+Table1[[#This Row],[Column1]])","v":0},{"$nulls":5},{"$f":"SUM(Table1[[#This Row],[PO Employee]:[Other Employee]])","v":0},"N",{"$error":"#N/A"},{"$f":"IF(O1045>39,Table1[[#This Row],[Calc 1]],IF(O1045>1,\"Not counted as an Employee\",\"#NA\"))","v":"#NA"},{"$f":"MAX(Table1[[#This Row],[PO Employee]],Table1[[#This Row],[Other HZ Employee]],Table1[[#This Row],[Non HZ Employee]],Table1[[#This Row],[Job Site Employee]],Table1[[#This Row],[Other Employee]])","v":0},{"$f":"IF(Table1[[#This Row],[Total Hours per Month]]=Table1[[#This Row],[Column12]],\"Match\",\"Error\")","v":"Match"},{"$f":"IF(Table1[[#This Row],[Calc 2]]=\"#NA\",\"#NA\",IF(Table1[[#This Row],[Non HZ Employee]]=Table1[[#This Row],[Max calc]],\"Non HZ Employee\", Table1[[#This Row],[Calc 2]]))","v":"#NA"}]
[1029,null,1029,{"$nulls":5},{"$f":"SUM(Table1[[#This Row],[Column4]]+Table1[[#This Row],[Column3]]+Table1[[#This Row],[Column2]]+Table1[[#This Row],[Column1]])","v":0},{"$nulls":5},{"$f":"SUM(Table1[[#This Row],[PO Employee]:[Other Employee]])","v":0},"N",{"$error":"#N/A"},{"$f":"IF(O1046>39,Table1[[#This Row],[Calc 1]],IF(O1046>1,\"Not counted as an Employee\",\"#NA\"))","v":"#NA"},{"$f":"MAX(Table1[[#This Row],[PO Employee]],Table1[[#This Row],[Other HZ Employee]],Table1[[#This Row],[Non HZ Employee]],Table1[[#This Row],[Job Site Employee]],Table1[[#This Row],[Other Employee]])","v":0},{"$f":"IF(Table1[[#This Row],[Total Hours per Month]]=Table1[[#This Row],[Column12]],\"Match\",\"Error\")","v":"Match"},{"$f":"IF(Table1[[#This Row],[Calc 2]]=\"#NA\",\"#NA\",IF(Table1[[#This Row],[Non HZ Employee]]=Table1[[#This Row],[Max calc]],\"Non HZ Employee\", Table1[[#This Row],[Calc 2]]))","v":"#NA"}]
[1030,null,1030,{"$nulls":5},{"$f":"SUM(Table1[[#This Row],[Column4]]+Table1[[#This Row],[Column3]]+Table1[[#This Row],[Column2]]+Table1[[#This Row],[Column1]])","v":0},{"$nulls":5},{"$f":"SUM(Table1[[#This Row],[PO Employee]:[Other Employee]])","v":0},"N",{"$error":"#N/A"},{"$f":"IF(O1047>39,Table1[[#This Row],[Calc 1]],IF(O1047>1,\"Not counted as an Employee\",\"#NA\"))","v":"#NA"},{"$f":"MAX(Table1[[#This Row],[PO Employee]],Table1[[#This Row],[Other HZ Employee]],Table1[[#This Row],[Non HZ Employee]],Table1[[#This Row],[Job Site Employee]],Table1[[#This Row],[Other Employee]])","v":0},{"$f":"IF(Table1[[#This Row],[Total Hours per Month]]=Table1[[#This Row],[Column12]],\"Match\",\"Error\")","v":"Match"},{"$f":"IF(Table1[[#This Row],[Calc 2]]=\"#NA\",\"#NA\",IF(Table1[[#This Row],[Non HZ Employee]]=Table1[[#This Row],[Max calc]],\"Non HZ Employee\", Table1[[#This Row],[Calc 2]]))","v":"#NA"}]
[1031,null,1031,{"$nulls":5},{"$f":"SUM(Table1[[#This Row],[Column4]]+Table1[[#This Row],[Column3]]+Table1[[#This Row],[Column2]]+Table1[[#This Row],[Column1]])","v":0},{"$nulls":5},{"$f":"SUM(Table1[[#This Row],[PO Employee]:[Other Employee]])","v":0},"N",{"$error":"#N/A"},{"$f":"IF(O1048>39,Table1[[#This Row],[Calc 1]],IF(O1048>1,\"Not counted as an Employee\",\"#NA\"))","v":"#NA"},{"$f":"MAX(Table1[[#This Row],[PO Employee]],Table1[[#This Row],[Other HZ Employee]],Table1[[#This Row],[Non HZ Employee]],Table1[[#This Row],[Job Site Employee]],Table1[[#This Row],[Other Employee]])","v":0},{"$f":"IF(Table1[[#This Row],[Total Hours per Month]]=Table1[[#This Row],[Column12]],\"Match\",\"Error\")","v":"Match"},{"$f":"IF(Table1[[#This Row],[Calc 2]]=\"#NA\",\"#NA\",IF(Table1[[#This Row],[Non HZ Employee]]=Table1[[#This Row],[Max calc]],\"Non HZ Employee\", Table1[[#This Row],[Calc 2]]))","v":"#NA"}]
[1032,null,1032,{"$nulls":5},{"$f":"SUM(Table1[[#This Row],[Column4]]+Table1[[#This Row],[Column3]]+Table1[[#This Row],[Column2]]+Table1[[#This Row],[Column1]])","v":0},{"$nulls":5},{"$f":"SUM(Table1[[#This Row],[PO Employee]:[Other Employee]])","v":0},"N",{"$error":"#N/A"},{"$f":"IF(O1049>39,Table1[[#This Row],[Calc 1]],IF(O1049>1,\"Not counted as an Employee\",\"#NA\"))","v":"#NA"},{"$f":"MAX(Table1[[#This Row],[PO Employee]],Table1[[#This Row],[Other HZ Employee]],Table1[[#This Row],[Non HZ Employee]],Table1[[#This Row],[Job Site Employee]],Table1[[#This Row],[Other Employee]])","v":0},{"$f":"IF(Table1[[#This Row],[Total Hours per Month]]=Table1[[#This Row],[Column12]],\"Match\",\"Error\")","v":"Match"},{"$f":"IF(Table1[[#This Row],[Calc 2]]=\"#NA\",\"#NA\",IF(Table1[[#This Row],[Non HZ Employee]]=Table1[[#This Row],[Max calc]],\"Non HZ Employee\", Table1[[#This Row],[Calc 2]]))","v":"#NA"}]
[1033,null,1033,{"$nulls":5},{"$f":"SUM(Table1[[#This Row],[Column4]]+Table1[[#This Row],[Column3]]+Table1[[#This Row],[Column2]]+Table1[[#This Row],[Column1]])","v":0},{"$nulls":5},{"$f":"SUM(Table1[[#This Row],[PO Employee]:[Other Employee]])","v":0},"N",{"$error":"#N/A"},{"$f":"IF(O1050>39,Table1[[#This Row],[Calc 1]],IF(O1050>1,\"Not counted as an Employee\",\"#NA\"))","v":"#NA"},{"$f":"MAX(Table1[[#This Row],[PO Employee]],Table1[[#This Row],[Other HZ Employee]],Table1[[#This Row],[Non HZ Employee]],Table1[[#This Row],[Job Site Employee]],Table1[[#This Row],[Other Employee]])","v":0},{"$f":"IF(Table1[[#This Row],[Total Hours per Month]]=Table1[[#This Row],[Column12]],\"Match\",\"Error\")","v":"Match"},{"$f":"IF(Table1[[#This Row],[Calc 2]]=\"#NA\",\"#NA\",IF(Table1[[#This Row],[Non HZ Employee]]=Table1[[#This Row],[Max calc]],\"Non HZ Employee\", Table1[[#This Row],[Calc 2]]))","v":"#NA"}]
[1034,null,1034,{"$nulls":5},{"$f":"SUM(Table1[[#This Row],[Column4]]+Table1[[#This Row],[Column3]]+Table1[[#This Row],[Column2]]+Table1[[#This Row],[Column1]])","v":0},{"$nulls":5},{"$f":"SUM(Table1[[#This Row],[PO Employee]:[Other Employee]])","v":0},"N",{"$error":"#N/A"},{"$f":"IF(O1051>39,Table1[[#This Row],[Calc 1]],IF(O1051>1,\"Not counted as an Employee\",\"#NA\"))","v":"#NA"},{"$f":"MAX(Table1[[#This Row],[PO Employee]],Table1[[#This Row],[Other HZ Employee]],Table1[[#This Row],[Non HZ Employee]],Table1[[#This Row],[Job Site Employee]],Table1[[#This Row],[Other Employee]])","v":0},{"$f":"IF(Table1[[#This Row],[Total Hours per Month]]=Table1[[#This Row],[Column12]],\"Match\",\"Error\")","v":"Match"},{"$f":"IF(Table1[[#This Row],[Calc 2]]=\"#NA\",\"#NA\",IF(Table1[[#This Row],[Non HZ Employee]]=Table1[[#This Row],[Max calc]],\"Non HZ Employee\", Table1[[#This Row],[Calc 2]]))","v":"#NA"}]
[1035,null,1035,{"$nulls":5},{"$f":"SUM(Table1[[#This Row],[Column4]]+Table1[[#This Row],[Column3]]+Table1[[#This Row],[Column2]]+Table1[[#This Row],[Column1]])","v":0},{"$nulls":5},{"$f":"SUM(Table1[[#This Row],[PO Employee]:[Other Employee]])","v":0},"N",{"$error":"#N/A"},{"$f":"IF(O1052>39,Table1[[#This Row],[Calc 1]],IF(O1052>1,\"Not counted as an Employee\",\"#NA\"))","v":"#NA"},{"$f":"MAX(Table1[[#This Row],[PO Employee]],Table1[[#This Row],[Other HZ Employee]],Table1[[#This Row],[Non HZ Employee]],Table1[[#This Row],[Job Site Employee]],Table1[[#This Row],[Other Employee]])","v":0},{"$f":"IF(Table1[[#This Row],[Total Hours per Month]]=Table1[[#This Row],[Column12]],\"Match\",\"Error\")","v":"Match"},{"$f":"IF(Table1[[#This Row],[Calc 2]]=\"#NA\",\"#NA\",IF(Table1[[#This Row],[Non HZ Employee]]=Table1[[#This Row],[Max calc]],\"Non HZ Employee\", Table1[[#This Row],[Calc 2]]))","v":"#NA"}]
[1036,null,1036,{"$nulls":5},{"$f":"SUM(Table1[[#This Row],[Column4]]+Table1[[#This Row],[Column3]]+Table1[[#This Row],[Column2]]+Table1[[#This Row],[Column1]])","v":0},{"$nulls":5},{"$f":"SUM(Table1[[#This Row],[PO Employee]:[Other Employee]])","v":0},"N",{"$error":"#N/A"},{"$f":"IF(O1053>39,Table1[[#This Row],[Calc 1]],IF(O1053>1,\"Not counted as an Employee\",\"#NA\"))","v":"#NA"},{"$f":"MAX(Table1[[#This Row],[PO Employee]],Table1[[#This Row],[Other HZ Employee]],Table1[[#This Row],[Non HZ Employee]],Table1[[#This Row],[Job Site Employee]],Table1[[#This Row],[Other Employee]])","v":0},{"$f":"IF(Table1[[#This Row],[Total Hours per Month]]=Table1[[#This Row],[Column12]],\"Match\",\"Error\")","v":"Match"},{"$f":"IF(Table1[[#This Row],[Calc 2]]=\"#NA\",\"#NA\",IF(Table1[[#This Row],[Non HZ Employee]]=Table1[[#This Row],[Max calc]],\"Non HZ Employee\", Table1[[#This Row],[Calc 2]]))","v":"#NA"}]
[1037,null,1037,{"$nulls":5},{"$f":"SUM(Table1[[#This Row],[Column4]]+Table1[[#This Row],[Column3]]+Table1[[#This Row],[Column2]]+Table1[[#This Row],[Column1]])","v":0},{"$nulls":5},{"$f":"SUM(Table1[[#This Row],[PO Employee]:[Other Employee]])","v":0},"N",{"$error":"#N/A"},{"$f":"IF(O1054>39,Table1[[#This Row],[Calc 1]],IF(O1054>1,\"Not counted as an Employee\",\"#NA\"))","v":"#NA"},{"$f":"MAX(Table1[[#This Row],[PO Employee]],Table1[[#This Row],[Other HZ Employee]],Table1[[#This Row],[Non HZ Employee]],Table1[[#This Row],[Job Site Employee]],Table1[[#This Row],[Other Employee]])","v":0},{"$f":"IF(Table1[[#This Row],[Total Hours per Month]]=Table1[[#This Row],[Column12]],\"Match\",\"Error\")","v":"Match"},{"$f":"IF(Table1[[#This Row],[Calc 2]]=\"#NA\",\"#NA\",IF(Table1[[#This Row],[Non HZ Employee]]=Table1[[#This Row],[Max calc]],\"Non HZ Employee\", Table1[[#This Row],[Calc 2]]))","v":"#NA"}]
[1038,null,1038,{"$nulls":5},{"$f":"SUM(Table1[[#This Row],[Column4]]+Table1[[#This Row],[Column3]]+Table1[[#This Row],[Column2]]+Table1[[#This Row],[Column1]])","v":0},{"$nulls":5},{"$f":"SUM(Table1[[#This Row],[PO Employee]:[Other Employee]])","v":0},"N",{"$error":"#N/A"},{"$f":"IF(O1055>39,Table1[[#This Row],[Calc 1]],IF(O1055>1,\"Not counted as an Employee\",\"#NA\"))","v":"#NA"},{"$f":"MAX(Table1[[#This Row],[PO Employee]],Table1[[#This Row],[Other HZ Employee]],Table1[[#This Row],[Non HZ Employee]],Table1[[#This Row],[Job Site Employee]],Table1[[#This Row],[Other Employee]])","v":0},{"$f":"IF(Table1[[#This Row],[Total Hours per Month]]=Table1[[#This Row],[Column12]],\"Match\",\"Error\")","v":"Match"},{"$f":"IF(Table1[[#This Row],[Calc 2]]=\"#NA\",\"#NA\",IF(Table1[[#This Row],[Non HZ Employee]]=Table1[[#This Row],[Max calc]],\"Non HZ Employee\", Table1[[#This Row],[Calc 2]]))","v":"#NA"}]
[1039,null,1039,{"$nulls":5},{"$f":"SUM(Table1[[#This Row],[Column4]]+Table1[[#This Row],[Column3]]+Table1[[#This Row],[Column2]]+Table1[[#This Row],[Column1]])","v":0},{"$nulls":5},{"$f":"SUM(Table1[[#This Row],[PO Employee]:[Other Employee]])","v":0},"N",{"$error":"#N/A"},{"$f":"IF(O1056>39,Table1[[#This Row],[Calc 1]],IF(O1056>1,\"Not counted as an Employee\",\"#NA\"))","v":"#NA"},{"$f":"MAX(Table1[[#This Row],[PO Employee]],Table1[[#This Row],[Other HZ Employee]],Table1[[#This Row],[Non HZ Employee]],Table1[[#This Row],[Job Site Employee]],Table1[[#This Row],[Other Employee]])","v":0},{"$f":"IF(Table1[[#This Row],[Total Hours per Month]]=Table1[[#This Row],[Column12]],\"Match\",\"Error\")","v":"Match"},{"$f":"IF(Table1[[#This Row],[Calc 2]]=\"#NA\",\"#NA\",IF(Table1[[#This Row],[Non HZ Employee]]=Table1[[#This Row],[Max calc]],\"Non HZ Employee\", Table1[[#This Row],[Calc 2]]))","v":"#NA"}]
[1040,null,1040,{"$nulls":5},{"$f":"SUM(Table1[[#This Row],[Column4]]+Table1[[#This Row],[Column3]]+Table1[[#This Row],[Column2]]+Table1[[#This Row],[Column1]])","v":0},{"$nulls":5},{"$f":"SUM(Table1[[#This Row],[PO Employee]:[Other Employee]])","v":0},"N",{"$error":"#N/A"},{"$f":"IF(O1057>39,Table1[[#This Row],[Calc 1]],IF(O1057>1,\"Not counted as an Employee\",\"#NA\"))","v":"#NA"},{"$f":"MAX(Table1[[#This Row],[PO Employee]],Table1[[#This Row],[Other HZ Employee]],Table1[[#This Row],[Non HZ Employee]],Table1[[#This Row],[Job Site Employee]],Table1[[#This Row],[Other Employee]])","v":0},{"$f":"IF(Table1[[#This Row],[Total Hours per Month]]=Table1[[#This Row],[Column12]],\"Match\",\"Error\")","v":"Match"},{"$f":"IF(Table1[[#This Row],[Calc 2]]=\"#NA\",\"#NA\",IF(Table1[[#This Row],[Non HZ Employee]]=Table1[[#This Row],[Max calc]],\"Non HZ Employee\", Table1[[#This Row],[Calc 2]]))","v":"#NA"}]
[1041,null,1041,{"$nulls":5},{"$f":"SUM(Table1[[#This Row],[Column4]]+Table1[[#This Row],[Column3]]+Table1[[#This Row],[Column2]]+Table1[[#This Row],[Column1]])","v":0},{"$nulls":5},{"$f":"SUM(Table1[[#This Row],[PO Employee]:[Other Employee]])","v":0},"N",{"$error":"#N/A"},{"$f":"IF(O1058>39,Table1[[#This Row],[Calc 1]],IF(O1058>1,\"Not counted as an Employee\",\"#NA\"))","v":"#NA"},{"$f":"MAX(Table1[[#This Row],[PO Employee]],Table1[[#This Row],[Other HZ Employee]],Table1[[#This Row],[Non HZ Employee]],Table1[[#This Row],[Job Site Employee]],Table1[[#This Row],[Other Employee]])","v":0},{"$f":"IF(Table1[[#This Row],[Total Hours per Month]]=Table1[[#This Row],[Column12]],\"Match\",\"Error\")","v":"Match"},{"$f":"IF(Table1[[#This Row],[Calc 2]]=\"#NA\",\"#NA\",IF(Table1[[#This Row],[Non HZ Employee]]=Table1[[#This Row],[Max calc]],\"Non HZ Employee\", Table1[[#This Row],[Calc 2]]))","v":"#NA"}]
[1042,null,1042,{"$nulls":5},{"$f":"SUM(Table1[[#This Row],[Column4]]+Table1[[#This Row],[Column3]]+Table1[[#This Row],[Column2]]+Table1[[#This Row],[Column1]])","v":0},{"$nulls":5},{"$f":"SUM(Table1[[#This Row],[PO Employee]:[Other Employee]])","v":0},"N",{"$error":"#N/A"},{"$f":"IF(O1059>39,Table1[[#This Row],[Calc 1]],IF(O1059>1,\"Not counted as an Employee\",\"#NA\"))","v":"#NA"},{"$f":"MAX(Table1[[#This Row],[PO Employee]],Table1[[#This Row],[Other HZ Employee]],Table1[[#This Row],[Non HZ Employee]],Table1[[#This Row],[Job Site Employee]],Table1[[#This Row],[Other Employee]])","v":0},{"$f":"IF(Table1[[#This Row],[Total Hours per Month]]=Table1[[#This Row],[Column12]],\"Match\",\"Error\")","v":"Match"},{"$f":"IF(Table1[[#This Row],[Calc 2]]=\"#NA\",\"#NA\",IF(Table1[[#This Row],[Non HZ Employee]]=Table1[[#This Row],[Max calc]],\"Non HZ Employee\", Table1[[#This Row],[Calc 2]]))","v":"#NA"}]
[1043,null,1043,{"$nulls":5},{"$f":"SUM(Table1[[#This Row],[Column4]]+Table1[[#This Row],[Column3]]+Table1[[#This Row],[Column2]]+Table1[[#This Row],[Column1]])","v":0},{"$nulls":5},{"$f":"SUM(Table1[[#This Row],[PO Employee]:[Other Employee]])","v":0},"N",{"$error":"#N/A"},{"$f":"IF(O1060>39,Table1[[#This Row],[Calc 1]],IF(O1060>1,\"Not counted as an Employee\",\"#NA\"))","v":"#NA"},{"$f":"MAX(Table1[[#This Row],[PO Employee]],Table1[[#This Row],[Other HZ Employee]],Table1[[#This Row],[Non HZ Employee]],Table1[[#This Row],[Job Site Employee]],Table1[[#This Row],[Other Employee]])","v":0},{"$f":"IF(Table1[[#This Row],[Total Hours per Month]]=Table1[[#This Row],[Column12]],\"Match\",\"Error\")","v":"Match"},{"$f":"IF(Table1[[#This Row],[Calc 2]]=\"#NA\",\"#NA\",IF(Table1[[#This Row],[Non HZ Employee]]=Table1[[#This Row],[Max calc]],\"Non HZ Employee\", Table1[[#This Row],[Calc 2]]))","v":"#NA"}]
[1044,null,1044,{"$nulls":5},{"$f":"SUM(Table1[[#This Row],[Column4]]+Table1[[#This Row],[Column3]]+Table1[[#This Row],[Column2]]+Table1[[#This Row],[Column1]])","v":0},{"$nulls":5},{"$f":"SUM(Table1[[#This Row],[PO Employee]:[Other Employee]])","v":0},"N",{"$error":"#N/A"},{"$f":"IF(O1061>39,Table1[[#This Row],[Calc 1]],IF(O1061>1,\"Not counted as an Employee\",\"#NA\"))","v":"#NA"},{"$f":"MAX(Table1[[#This Row],[PO Employee]],Table1[[#This Row],[Other HZ Employee]],Table1[[#This Row],[Non HZ Employee]],Table1[[#This Row],[Job Site Employee]],Table1[[#This Row],[Other Employee]])","v":0},{"$f":"IF(Table1[[#This Row],[Total Hours per Month]]=Table1[[#This Row],[Column12]],\"Match\",\"Error\")","v":"Match"},{"$f":"IF(Table1[[#This Row],[Calc 2]]=\"#NA\",\"#NA\",IF(Table1[[#This Row],[Non HZ Employee]]=Table1[[#This Row],[Max calc]],\"Non HZ Employee\", Table1[[#This Row],[Calc 2]]))","v":"#NA"}]
[1045,null,1045,{"$nulls":5},{"$f":"SUM(Table1[[#This Row],[Column4]]+Table1[[#This Row],[Column3]]+Table1[[#This Row],[Column2]]+Table1[[#This Row],[Column1]])","v":0},{"$nulls":5},{"$f":"SUM(Table1[[#This Row],[PO Employee]:[Other Employee]])","v":0},"N",{"$error":"#N/A"},{"$f":"IF(O1062>39,Table1[[#This Row],[Calc 1]],IF(O1062>1,\"Not counted as an Employee\",\"#NA\"))","v":"#NA"},{"$f":"MAX(Table1[[#This Row],[PO Employee]],Table1[[#This Row],[Other HZ Employee]],Table1[[#This Row],[Non HZ Employee]],Table1[[#This Row],[Job Site Employee]],Table1[[#This Row],[Other Employee]])","v":0},{"$f":"IF(Table1[[#This Row],[Total Hours per Month]]=Table1[[#This Row],[Column12]],\"Match\",\"Error\")","v":"Match"},{"$f":"IF(Table1[[#This Row],[Calc 2]]=\"#NA\",\"#NA\",IF(Table1[[#This Row],[Non HZ Employee]]=Table1[[#This Row],[Max calc]],\"Non HZ Employee\", Table1[[#This Row],[Calc 2]]))","v":"#NA"}]
[1046,null,1046,{"$nulls":5},{"$f":"SUM(Table1[[#This Row],[Column4]]+Table1[[#This Row],[Column3]]+Table1[[#This Row],[Column2]]+Table1[[#This Row],[Column1]])","v":0},{"$nulls":5},{"$f":"SUM(Table1[[#This Row],[PO Employee]:[Other Employee]])","v":0},"N",{"$error":"#N/A"},{"$f":"IF(O1063>39,Table1[[#This Row],[Calc 1]],IF(O1063>1,\"Not counted as an Employee\",\"#NA\"))","v":"#NA"},{"$f":"MAX(Table1[[#This Row],[PO Employee]],Table1[[#This Row],[Other HZ Employee]],Table1[[#This Row],[Non HZ Employee]],Table1[[#This Row],[Job Site Employee]],Table1[[#This Row],[Other Employee]])","v":0},{"$f":"IF(Table1[[#This Row],[Total Hours per Month]]=Table1[[#This Row],[Column12]],\"Match\",\"Error\")","v":"Match"},{"$f":"IF(Table1[[#This Row],[Calc 2]]=\"#NA\",\"#NA\",IF(Table1[[#This Row],[Non HZ Employee]]=Table1[[#This Row],[Max calc]],\"Non HZ Employee\", Table1[[#This Row],[Calc 2]]))","v":"#NA"}]
[1047,null,1047,{"$nulls":5},{"$f":"SUM(Table1[[#This Row],[Column4]]+Table1[[#This Row],[Column3]]+Table1[[#This Row],[Column2]]+Table1[[#This Row],[Column1]])","v":0},{"$nulls":5},{"$f":"SUM(Table1[[#This Row],[PO Employee]:[Other Employee]])","v":0},"N",{"$error":"#N/A"},{"$f":"IF(O1064>39,Table1[[#This Row],[Calc 1]],IF(O1064>1,\"Not counted as an Employee\",\"#NA\"))","v":"#NA"},{"$f":"MAX(Table1[[#This Row],[PO Employee]],Table1[[#This Row],[Other HZ Employee]],Table1[[#This Row],[Non HZ Employee]],Table1[[#This Row],[Job Site Employee]],Table1[[#This Row],[Other Employee]])","v":0},{"$f":"IF(Table1[[#This Row],[Total Hours per Month]]=Table1[[#This Row],[Column12]],\"Match\",\"Error\")","v":"Match"},{"$f":"IF(Table1[[#This Row],[Calc 2]]=\"#NA\",\"#NA\",IF(Table1[[#This Row],[Non HZ Employee]]=Table1[[#This Row],[Max calc]],\"Non HZ Employee\", Table1[[#This Row],[Calc 2]]))","v":"#NA"}]
[1048,null,1048,{"$nulls":5},{"$f":"SUM(Table1[[#This Row],[Column4]]+Table1[[#This Row],[Column3]]+Table1[[#This Row],[Column2]]+Table1[[#This Row],[Column1]])","v":0},{"$nulls":5},{"$f":"SUM(Table1[[#This Row],[PO Employee]:[Other Employee]])","v":0},"N",{"$error":"#N/A"},{"$f":"IF(O1065>39,Table1[[#This Row],[Calc 1]],IF(O1065>1,\"Not counted as an Employee\",\"#NA\"))","v":"#NA"},{"$f":"MAX(Table1[[#This Row],[PO Employee]],Table1[[#This Row],[Other HZ Employee]],Table1[[#This Row],[Non HZ Employee]],Table1[[#This Row],[Job Site Employee]],Table1[[#This Row],[Other Employee]])","v":0},{"$f":"IF(Table1[[#This Row],[Total Hours per Month]]=Table1[[#This Row],[Column12]],\"Match\",\"Error\")","v":"Match"},{"$f":"IF(Table1[[#This Row],[Calc 2]]=\"#NA\",\"#NA\",IF(Table1[[#This Row],[Non HZ Employee]]=Table1[[#This Row],[Max calc]],\"Non HZ Employee\", Table1[[#This Row],[Calc 2]]))","v":"#NA"}]
[1049,null,1049,{"$nulls":5},{"$f":"SUM(Table1[[#This Row],[Column4]]+Table1[[#This Row],[Column3]]+Table1[[#This Row],[Column2]]+Table1[[#This Row],[Column1]])","v":0},{"$nulls":5},{"$f":"SUM(Table1[[#This Row],[PO Employee]:[Other Employee]])","v":0},"N",{"$error":"#N/A"},{"$f":"IF(O1066>39,Table1[[#This Row],[Calc 1]],IF(O1066>1,\"Not counted as an Employee\",\"#NA\"))","v":"#NA"},{"$f":"MAX(Table1[[#This Row],[PO Employee]],Table1[[#This Row],[Other HZ Employee]],Table1[[#This Row],[Non HZ Employee]],Table1[[#This Row],[Job Site Employee]],Table1[[#This Row],[Other Employee]])","v":0},{"$f":"IF(Table1[[#This Row],[Total Hours per Month]]=Table1[[#This Row],[Column12]],\"Match\",\"Error\")","v":"Match"},{"$f":"IF(Table1[[#This Row],[Calc 2]]=\"#NA\",\"#NA\",IF(Table1[[#This Row],[Non HZ Employee]]=Table1[[#This Row],[Max calc]],\"Non HZ Employee\", Table1[[#This Row],[Calc 2]]))","v":"#NA"}]
[1050,null,1050,{"$nulls":5},{"$f":"SUM(Table1[[#This Row],[Column4]]+Table1[[#This Row],[Column3]]+Table1[[#This Row],[Column2]]+Table1[[#This Row],[Column1]])","v":0},{"$nulls":5},{"$f":"SUM(Table1[[#This Row],[PO Employee]:[Other Employee]])","v":0},"N",{"$error":"#N/A"},{"$f":"IF(O1067>39,Table1[[#This Row],[Calc 1]],IF(O1067>1,\"Not counted as an Employee\",\"#NA\"))","v":"#NA"},{"$f":"MAX(Table1[[#This Row],[PO Employee]],Table1[[#This Row],[Other HZ Employee]],Table1[[#This Row],[Non HZ Employee]],Table1[[#This Row],[Job Site Employee]],Table1[[#This Row],[Other Employee]])","v":0},{"$f":"IF(Table1[[#This Row],[Total Hours per Month]]=Table1[[#This Row],[Column12]],\"Match\",\"Error\")","v":"Match"},{"$f":"IF(Table1[[#This Row],[Calc 2]]=\"#NA\",\"#NA\",IF(Table1[[#This Row],[Non HZ Employee]]=Table1[[#This Row],[Max calc]],\"Non HZ Employee\", Table1[[#This Row],[Calc 2]]))","v":"#NA"}]
[1051,null,1051,{"$nulls":5},{"$f":"SUM(Table1[[#This Row],[Column4]]+Table1[[#This Row],[Column3]]+Table1[[#This Row],[Column2]]+Table1[[#This Row],[Column1]])","v":0},{"$nulls":5},{"$f":"SUM(Table1[[#This Row],[PO Employee]:[Other Employee]])","v":0},"N",{"$error":"#N/A"},{"$f":"IF(O1068>39,Table1[[#This Row],[Calc 1]],IF(O1068>1,\"Not counted as an Employee\",\"#NA\"))","v":"#NA"},{"$f":"MAX(Table1[[#This Row],[PO Employee]],Table1[[#This Row],[Other HZ Employee]],Table1[[#This Row],[Non HZ Employee]],Table1[[#This Row],[Job Site Employee]],Table1[[#This Row],[Other Employee]])","v":0},{"$f":"IF(Table1[[#This Row],[Total Hours per Month]]=Table1[[#This Row],[Column12]],\"Match\",\"Error\")","v":"Match"},{"$f":"IF(Table1[[#This Row],[Calc 2]]=\"#NA\",\"#NA\",IF(Table1[[#This Row],[Non HZ Employee]]=Table1[[#This Row],[Max calc]],\"Non HZ Employee\", Table1[[#This Row],[Calc 2]]))","v":"#NA"}]
[1052,null,1052,{"$nulls":5},{"$f":"SUM(Table1[[#This Row],[Column4]]+Table1[[#This Row],[Column3]]+Table1[[#This Row],[Column2]]+Table1[[#This Row],[Column1]])","v":0},{"$nulls":5},{"$f":"SUM(Table1[[#This Row],[PO Employee]:[Other Employee]])","v":0},"N",{"$error":"#N/A"},{"$f":"IF(O1069>39,Table1[[#This Row],[Calc 1]],IF(O1069>1,\"Not counted as an Employee\",\"#NA\"))","v":"#NA"},{"$f":"MAX(Table1[[#This Row],[PO Employee]],Table1[[#This Row],[Other HZ Employee]],Table1[[#This Row],[Non HZ Employee]],Table1[[#This Row],[Job Site Employee]],Table1[[#This Row],[Other Employee]])","v":0},{"$f":"IF(Table1[[#This Row],[Total Hours per Month]]=Table1[[#This Row],[Column12]],\"Match\",\"Error\")","v":"Match"},{"$f":"IF(Table1[[#This Row],[Calc 2]]=\"#NA\",\"#NA\",IF(Table1[[#This Row],[Non HZ Employee]]=Table1[[#This Row],[Max calc]],\"Non HZ Employee\", Table1[[#This Row],[Calc 2]]))","v":"#NA"}]
[1053,null,1053,{"$nulls":5},{"$f":"SUM(Table1[[#This Row],[Column4]]+Table1[[#This Row],[Column3]]+Table1[[#This Row],[Column2]]+Table1[[#This Row],[Column1]])","v":0},{"$nulls":5},{"$f":"SUM(Table1[[#This Row],[PO Employee]:[Other Employee]])","v":0},"N",{"$error":"#N/A"},{"$f":"IF(O1070>39,Table1[[#This Row],[Calc 1]],IF(O1070>1,\"Not counted as an Employee\",\"#NA\"))","v":"#NA"},{"$f":"MAX(Table1[[#This Row],[PO Employee]],Table1[[#This Row],[Other HZ Employee]],Table1[[#This Row],[Non HZ Employee]],Table1[[#This Row],[Job Site Employee]],Table1[[#This Row],[Other Employee]])","v":0},{"$f":"IF(Table1[[#This Row],[Total Hours per Month]]=Table1[[#This Row],[Column12]],\"Match\",\"Error\")","v":"Match"},{"$f":"IF(Table1[[#This Row],[Calc 2]]=\"#NA\",\"#NA\",IF(Table1[[#This Row],[Non HZ Employee]]=Table1[[#This Row],[Max calc]],\"Non HZ Employee\", Table1[[#This Row],[Calc 2]]))","v":"#NA"}]
[1054,null,1054,{"$nulls":5},{"$f":"SUM(Table1[[#This Row],[Column4]]+Table1[[#This Row],[Column3]]+Table1[[#This Row],[Column2]]+Table1[[#This Row],[Column1]])","v":0},{"$nulls":5},{"$f":"SUM(Table1[[#This Row],[PO Employee]:[Other Employee]])","v":0},"N",{"$error":"#N/A"},{"$f":"IF(O1071>39,Table1[[#This Row],[Calc 1]],IF(O1071>1,\"Not counted as an Employee\",\"#NA\"))","v":"#NA"},{"$f":"MAX(Table1[[#This Row],[PO Employee]],Table1[[#This Row],[Other HZ Employee]],Table1[[#This Row],[Non HZ Employee]],Table1[[#This Row],[Job Site Employee]],Table1[[#This Row],[Other Employee]])","v":0},{"$f":"IF(Table1[[#This Row],[Total Hours per Month]]=Table1[[#This Row],[Column12]],\"Match\",\"Error\")","v":"Match"},{"$f":"IF(Table1[[#This Row],[Calc 2]]=\"#NA\",\"#NA\",IF(Table1[[#This Row],[Non HZ Employee]]=Table1[[#This Row],[Max calc]],\"Non HZ Employee\", Table1[[#This Row],[Calc 2]]))","v":"#NA"}]
[1055,null,1055,{"$nulls":5},{"$f":"SUM(Table1[[#This Row],[Column4]]+Table1[[#This Row],[Column3]]+Table1[[#This Row],[Column2]]+Table1[[#This Row],[Column1]])","v":0},{"$nulls":5},{"$f":"SUM(Table1[[#This Row],[PO Employee]:[Other Employee]])","v":0},"N",{"$error":"#N/A"},{"$f":"IF(O1072>39,Table1[[#This Row],[Calc 1]],IF(O1072>1,\"Not counted as an Employee\",\"#NA\"))","v":"#NA"},{"$f":"MAX(Table1[[#This Row],[PO Employee]],Table1[[#This Row],[Other HZ Employee]],Table1[[#This Row],[Non HZ Employee]],Table1[[#This Row],[Job Site Employee]],Table1[[#This Row],[Other Employee]])","v":0},{"$f":"IF(Table1[[#This Row],[Total Hours per Month]]=Table1[[#This Row],[Column12]],\"Match\",\"Error\")","v":"Match"},{"$f":"IF(Table1[[#This Row],[Calc 2]]=\"#NA\",\"#NA\",IF(Table1[[#This Row],[Non HZ Employee]]=Table1[[#This Row],[Max calc]],\"Non HZ Employee\", Table1[[#This Row],[Calc 2]]))","v":"#NA"}]
[1056,null,1056,{"$nulls":5},{"$f":"SUM(Table1[[#This Row],[Column4]]+Table1[[#This Row],[Column3]]+Table1[[#This Row],[Column2]]+Table1[[#This Row],[Column1]])","v":0},{"$nulls":5},{"$f":"SUM(Table1[[#This Row],[PO Employee]:[Other Employee]])","v":0},"N",{"$error":"#N/A"},{"$f":"IF(O1073>39,Table1[[#This Row],[Calc 1]],IF(O1073>1,\"Not counted as an Employee\",\"#NA\"))","v":"#NA"},{"$f":"MAX(Table1[[#This Row],[PO Employee]],Table1[[#This Row],[Other HZ Employee]],Table1[[#This Row],[Non HZ Employee]],Table1[[#This Row],[Job Site Employee]],Table1[[#This Row],[Other Employee]])","v":0},{"$f":"IF(Table1[[#This Row],[Total Hours per Month]]=Table1[[#This Row],[Column12]],\"Match\",\"Error\")","v":"Match"},{"$f":"IF(Table1[[#This Row],[Calc 2]]=\"#NA\",\"#NA\",IF(Table1[[#This Row],[Non HZ Employee]]=Table1[[#This Row],[Max calc]],\"Non HZ Employee\", Table1[[#This Row],[Calc 2]]))","v":"#NA"}]
[1057,null,1057,{"$nulls":5},{"$f":"SUM(Table1[[#This Row],[Column4]]+Table1[[#This Row],[Column3]]+Table1[[#This Row],[Column2]]+Table1[[#This Row],[Column1]])","v":0},{"$nulls":5},{"$f":"SUM(Table1[[#This Row],[PO Employee]:[Other Employee]])","v":0},"N",{"$error":"#N/A"},{"$f":"IF(O1074>39,Table1[[#This Row],[Calc 1]],IF(O1074>1,\"Not counted as an Employee\",\"#NA\"))","v":"#NA"},{"$f":"MAX(Table1[[#This Row],[PO Employee]],Table1[[#This Row],[Other HZ Employee]],Table1[[#This Row],[Non HZ Employee]],Table1[[#This Row],[Job Site Employee]],Table1[[#This Row],[Other Employee]])","v":0},{"$f":"IF(Table1[[#This Row],[Total Hours per Month]]=Table1[[#This Row],[Column12]],\"Match\",\"Error\")","v":"Match"},{"$f":"IF(Table1[[#This Row],[Calc 2]]=\"#NA\",\"#NA\",IF(Table1[[#This Row],[Non HZ Employee]]=Table1[[#This Row],[Max calc]],\"Non HZ Employee\", Table1[[#This Row],[Calc 2]]))","v":"#NA"}]
[1058,null,1058,{"$nulls":5},{"$f":"SUM(Table1[[#This Row],[Column4]]+Table1[[#This Row],[Column3]]+Table1[[#This Row],[Column2]]+Table1[[#This Row],[Column1]])","v":0},{"$nulls":5},{"$f":"SUM(Table1[[#This Row],[PO Employee]:[Other Employee]])","v":0},"N",{"$error":"#N/A"},{"$f":"IF(O1075>39,Table1[[#This Row],[Calc 1]],IF(O1075>1,\"Not counted as an Employee\",\"#NA\"))","v":"#NA"},{"$f":"MAX(Table1[[#This Row],[PO Employee]],Table1[[#This Row],[Other HZ Employee]],Table1[[#This Row],[Non HZ Employee]],Table1[[#This Row],[Job Site Employee]],Table1[[#This Row],[Other Employee]])","v":0},{"$f":"IF(Table1[[#This Row],[Total Hours per Month]]=Table1[[#This Row],[Column12]],\"Match\",\"Error\")","v":"Match"},{"$f":"IF(Table1[[#This Row],[Calc 2]]=\"#NA\",\"#NA\",IF(Table1[[#This Row],[Non HZ Employee]]=Table1[[#This Row],[Max calc]],\"Non HZ Employee\", Table1[[#This Row],[Calc 2]]))","v":"#NA"}]
[1059,null,1059,{"$nulls":5},{"$f":"SUM(Table1[[#This Row],[Column4]]+Table1[[#This Row],[Column3]]+Table1[[#This Row],[Column2]]+Table1[[#This Row],[Column1]])","v":0},{"$nulls":5},{"$f":"SUM(Table1[[#This Row],[PO Employee]:[Other Employee]])","v":0},"N",{"$error":"#N/A"},{"$f":"IF(O1076>39,Table1[[#This Row],[Calc 1]],IF(O1076>1,\"Not counted as an Employee\",\"#NA\"))","v":"#NA"},{"$f":"MAX(Table1[[#This Row],[PO Employee]],Table1[[#This Row],[Other HZ Employee]],Table1[[#This Row],[Non HZ Employee]],Table1[[#This Row],[Job Site Employee]],Table1[[#This Row],[Other Employee]])","v":0},{"$f":"IF(Table1[[#This Row],[Total Hours per Month]]=Table1[[#This Row],[Column12]],\"Match\",\"Error\")","v":"Match"},{"$f":"IF(Table1[[#This Row],[Calc 2]]=\"#NA\",\"#NA\",IF(Table1[[#This Row],[Non HZ Employee]]=Table1[[#This Row],[Max calc]],\"Non HZ Employee\", Table1[[#This Row],[Calc 2]]))","v":"#NA"}]
[1060,null,1060,{"$nulls":5},{"$f":"SUM(Table1[[#This Row],[Column4]]+Table1[[#This Row],[Column3]]+Table1[[#This Row],[Column2]]+Table1[[#This Row],[Column1]])","v":0},{"$nulls":5},{"$f":"SUM(Table1[[#This Row],[PO Employee]:[Other Employee]])","v":0},"N",{"$error":"#N/A"},{"$f":"IF(O1077>39,Table1[[#This Row],[Calc 1]],IF(O1077>1,\"Not counted as an Employee\",\"#NA\"))","v":"#NA"},{"$f":"MAX(Table1[[#This Row],[PO Employee]],Table1[[#This Row],[Other HZ Employee]],Table1[[#This Row],[Non HZ Employee]],Table1[[#This Row],[Job Site Employee]],Table1[[#This Row],[Other Employee]])","v":0},{"$f":"IF(Table1[[#This Row],[Total Hours per Month]]=Table1[[#This Row],[Column12]],\"Match\",\"Error\")","v":"Match"},{"$f":"IF(Table1[[#This Row],[Calc 2]]=\"#NA\",\"#NA\",IF(Table1[[#This Row],[Non HZ Employee]]=Table1[[#This Row],[Max calc]],\"Non HZ Employee\", Table1[[#This Row],[Calc 2]]))","v":"#NA"}]
[1061,null,1061,{"$nulls":5},{"$f":"SUM(Table1[[#This Row],[Column4]]+Table1[[#This Row],[Column3]]+Table1[[#This Row],[Column2]]+Table1[[#This Row],[Column1]])","v":0},{"$nulls":5},{"$f":"SUM(Table1[[#This Row],[PO Employee]:[Other Employee]])","v":0},"N",{"$error":"#N/A"},{"$f":"IF(O1078>39,Table1[[#This Row],[Calc 1]],IF(O1078>1,\"Not counted as an Employee\",\"#NA\"))","v":"#NA"},{"$f":"MAX(Table1[[#This Row],[PO Employee]],Table1[[#This Row],[Other HZ Employee]],Table1[[#This Row],[Non HZ Employee]],Table1[[#This Row],[Job Site Employee]],Table1[[#This Row],[Other Employee]])","v":0},{"$f":"IF(Table1[[#This Row],[Total Hours per Month]]=Table1[[#This Row],[Column12]],\"Match\",\"Error\")","v":"Match"},{"$f":"IF(Table1[[#This Row],[Calc 2]]=\"#NA\",\"#NA\",IF(Table1[[#This Row],[Non HZ Employee]]=Table1[[#This Row],[Max calc]],\"Non HZ Employee\", Table1[[#This Row],[Calc 2]]))","v":"#NA"}]
[1062,null,1062,{"$nulls":5},{"$f":"SUM(Table1[[#This Row],[Column4]]+Table1[[#This Row],[Column3]]+Table1[[#This Row],[Column2]]+Table1[[#This Row],[Column1]])","v":0},{"$nulls":5},{"$f":"SUM(Table1[[#This Row],[PO Employee]:[Other Employee]])","v":0},"N",{"$error":"#N/A"},{"$f":"IF(O1079>39,Table1[[#This Row],[Calc 1]],IF(O1079>1,\"Not counted as an Employee\",\"#NA\"))","v":"#NA"},{"$f":"MAX(Table1[[#This Row],[PO Employee]],Table1[[#This Row],[Other HZ Employee]],Table1[[#This Row],[Non HZ Employee]],Table1[[#This Row],[Job Site Employee]],Table1[[#This Row],[Other Employee]])","v":0},{"$f":"IF(Table1[[#This Row],[Total Hours per Month]]=Table1[[#This Row],[Column12]],\"Match\",\"Error\")","v":"Match"},{"$f":"IF(Table1[[#This Row],[Calc 2]]=\"#NA\",\"#NA\",IF(Table1[[#This Row],[Non HZ Employee]]=Table1[[#This Row],[Max calc]],\"Non HZ Employee\", Table1[[#This Row],[Calc 2]]))","v":"#NA"}]
[1063,null,1063,{"$nulls":5},{"$f":"SUM(Table1[[#This Row],[Column4]]+Table1[[#This Row],[Column3]]+Table1[[#This Row],[Column2]]+Table1[[#This Row],[Column1]])","v":0},{"$nulls":5},{"$f":"SUM(Table1[[#This Row],[PO Employee]:[Other Employee]])","v":0},"N",{"$error":"#N/A"},{"$f":"IF(O1080>39,Table1[[#This Row],[Calc 1]],IF(O1080>1,\"Not counted as an Employee\",\"#NA\"))","v":"#NA"},{"$f":"MAX(Table1[[#This Row],[PO Employee]],Table1[[#This Row],[Other HZ Employee]],Table1[[#This Row],[Non HZ Employee]],Table1[[#This Row],[Job Site Employee]],Table1[[#This Row],[Other Employee]])","v":0},{"$f":"IF(Table1[[#This Row],[Total Hours per Month]]=Table1[[#This Row],[Column12]],\"Match\",\"Error\")","v":"Match"},{"$f":"IF(Table1[[#This Row],[Calc 2]]=\"#NA\",\"#NA\",IF(Table1[[#This Row],[Non HZ Employee]]=Table1[[#This Row],[Max calc]],\"Non HZ Employee\", Table1[[#This Row],[Calc 2]]))","v":"#NA"}]
[1064,null,1064,{"$nulls":5},{"$f":"SUM(Table1[[#This Row],[Column4]]+Table1[[#This Row],[Column3]]+Table1[[#This Row],[Column2]]+Table1[[#This Row],[Column1]])","v":0},{"$nulls":5},{"$f":"SUM(Table1[[#This Row],[PO Employee]:[Other Employee]])","v":0},"N",{"$error":"#N/A"},{"$f":"IF(O1081>39,Table1[[#This Row],[Calc 1]],IF(O1081>1,\"Not counted as an Employee\",\"#NA\"))","v":"#NA"},{"$f":"MAX(Table1[[#This Row],[PO Employee]],Table1[[#This Row],[Other HZ Employee]],Table1[[#This Row],[Non HZ Employee]],Table1[[#This Row],[Job Site Employee]],Table1[[#This Row],[Other Employee]])","v":0},{"$f":"IF(Table1[[#This Row],[Total Hours per Month]]=Table1[[#This Row],[Column12]],\"Match\",\"Error\")","v":"Match"},{"$f":"IF(Table1[[#This Row],[Calc 2]]=\"#NA\",\"#NA\",IF(Table1[[#This Row],[Non HZ Employee]]=Table1[[#This Row],[Max calc]],\"Non HZ Employee\", Table1[[#This Row],[Calc 2]]))","v":"#NA"}]
[1065,null,1065,{"$nulls":5},{"$f":"SUM(Table1[[#This Row],[Column4]]+Table1[[#This Row],[Column3]]+Table1[[#This Row],[Column2]]+Table1[[#This Row],[Column1]])","v":0},{"$nulls":5},{"$f":"SUM(Table1[[#This Row],[PO Employee]:[Other Employee]])","v":0},"N",{"$error":"#N/A"},{"$f":"IF(O1082>39,Table1[[#This Row],[Calc 1]],IF(O1082>1,\"Not counted as an Employee\",\"#NA\"))","v":"#NA"},{"$f":"MAX(Table1[[#This Row],[PO Employee]],Table1[[#This Row],[Other HZ Employee]],Table1[[#This Row],[Non HZ Employee]],Table1[[#This Row],[Job Site Employee]],Table1[[#This Row],[Other Employee]])","v":0},{"$f":"IF(Table1[[#This Row],[Total Hours per Month]]=Table1[[#This Row],[Column12]],\"Match\",\"Error\")","v":"Match"},{"$f":"IF(Table1[[#This Row],[Calc 2]]=\"#NA\",\"#NA\",IF(Table1[[#This Row],[Non HZ Employee]]=Table1[[#This Row],[Max calc]],\"Non HZ Employee\", Table1[[#This Row],[Calc 2]]))","v":"#NA"}]
[1066,null,1066,{"$nulls":5},{"$f":"SUM(Table1[[#This Row],[Column4]]+Table1[[#This Row],[Column3]]+Table1[[#This Row],[Column2]]+Table1[[#This Row],[Column1]])","v":0},{"$nulls":5},{"$f":"SUM(Table1[[#This Row],[PO Employee]:[Other Employee]])","v":0},"N",{"$error":"#N/A"},{"$f":"IF(O1083>39,Table1[[#This Row],[Calc 1]],IF(O1083>1,\"Not counted as an Employee\",\"#NA\"))","v":"#NA"},{"$f":"MAX(Table1[[#This Row],[PO Employee]],Table1[[#This Row],[Other HZ Employee]],Table1[[#This Row],[Non HZ Employee]],Table1[[#This Row],[Job Site Employee]],Table1[[#This Row],[Other Employee]])","v":0},{"$f":"IF(Table1[[#This Row],[Total Hours per Month]]=Table1[[#This Row],[Column12]],\"Match\",\"Error\")","v":"Match"},{"$f":"IF(Table1[[#This Row],[Calc 2]]=\"#NA\",\"#NA\",IF(Table1[[#This Row],[Non HZ Employee]]=Table1[[#This Row],[Max calc]],\"Non HZ Employee\", Table1[[#This Row],[Calc 2]]))","v":"#NA"}]
[1067,null,1067,{"$nulls":5},{"$f":"SUM(Table1[[#This Row],[Column4]]+Table1[[#This Row],[Column3]]+Table1[[#This Row],[Column2]]+Table1[[#This Row],[Column1]])","v":0},{"$nulls":5},{"$f":"SUM(Table1[[#This Row],[PO Employee]:[Other Employee]])","v":0},"N",{"$error":"#N/A"},{"$f":"IF(O1084>39,Table1[[#This Row],[Calc 1]],IF(O1084>1,\"Not counted as an Employee\",\"#NA\"))","v":"#NA"},{"$f":"MAX(Table1[[#This Row],[PO Employee]],Table1[[#This Row],[Other HZ Employee]],Table1[[#This Row],[Non HZ Employee]],Table1[[#This Row],[Job Site Employee]],Table1[[#This Row],[Other Employee]])","v":0},{"$f":"IF(Table1[[#This Row],[Total Hours per Month]]=Table1[[#This Row],[Column12]],\"Match\",\"Error\")","v":"Match"},{"$f":"IF(Table1[[#This Row],[Calc 2]]=\"#NA\",\"#NA\",IF(Table1[[#This Row],[Non HZ Employee]]=Table1[[#This Row],[Max calc]],\"Non HZ Employee\", Table1[[#This Row],[Calc 2]]))","v":"#NA"}]
[1068,null,1068,{"$nulls":5},{"$f":"SUM(Table1[[#This Row],[Column4]]+Table1[[#This Row],[Column3]]+Table1[[#This Row],[Column2]]+Table1[[#This Row],[Column1]])","v":0},{"$nulls":5},{"$f":"SUM(Table1[[#This Row],[PO Employee]:[Other Employee]])","v":0},"N",{"$error":"#N/A"},{"$f":"IF(O1085>39,Table1[[#This Row],[Calc 1]],IF(O1085>1,\"Not counted as an Employee\",\"#NA\"))","v":"#NA"},{"$f":"MAX(Table1[[#This Row],[PO Employee]],Table1[[#This Row],[Other HZ Employee]],Table1[[#This Row],[Non HZ Employee]],Table1[[#This Row],[Job Site Employee]],Table1[[#This Row],[Other Employee]])","v":0},{"$f":"IF(Table1[[#This Row],[Total Hours per Month]]=Table1[[#This Row],[Column12]],\"Match\",\"Error\")","v":"Match"},{"$f":"IF(Table1[[#This Row],[Calc 2]]=\"#NA\",\"#NA\",IF(Table1[[#This Row],[Non HZ Employee]]=Table1[[#This Row],[Max calc]],\"Non HZ Employee\", Table1[[#This Row],[Calc 2]]))","v":"#NA"}]
[1069,null,1069,{"$nulls":5},{"$f":"SUM(Table1[[#This Row],[Column4]]+Table1[[#This Row],[Column3]]+Table1[[#This Row],[Column2]]+Table1[[#This Row],[Column1]])","v":0},{"$nulls":5},{"$f":"SUM(Table1[[#This Row],[PO Employee]:[Other Employee]])","v":0},"N",{"$error":"#N/A"},{"$f":"IF(O1086>39,Table1[[#This Row],[Calc 1]],IF(O1086>1,\"Not counted as an Employee\",\"#NA\"))","v":"#NA"},{"$f":"MAX(Table1[[#This Row],[PO Employee]],Table1[[#This Row],[Other HZ Employee]],Table1[[#This Row],[Non HZ Employee]],Table1[[#This Row],[Job Site Employee]],Table1[[#This Row],[Other Employee]])","v":0},{"$f":"IF(Table1[[#This Row],[Total Hours per Month]]=Table1[[#This Row],[Column12]],\"Match\",\"Error\")","v":"Match"},{"$f":"IF(Table1[[#This Row],[Calc 2]]=\"#NA\",\"#NA\",IF(Table1[[#This Row],[Non HZ Employee]]=Table1[[#This Row],[Max calc]],\"Non HZ Employee\", Table1[[#This Row],[Calc 2]]))","v":"#NA"}]
[1070,null,1070,{"$nulls":5},{"$f":"SUM(Table1[[#This Row],[Column4]]+Table1[[#This Row],[Column3]]+Table1[[#This Row],[Column2]]+Table1[[#This Row],[Column1]])","v":0},{"$nulls":5},{"$f":"SUM(Table1[[#This Row],[PO Employee]:[Other Employee]])","v":0},"N",{"$error":"#N/A"},{"$f":"IF(O1087>39,Table1[[#This Row],[Calc 1]],IF(O1087>1,\"Not counted as an Employee\",\"#NA\"))","v":"#NA"},{"$f":"MAX(Table1[[#This Row],[PO Employee]],Table1[[#This Row],[Other HZ Employee]],Table1[[#This Row],[Non HZ Employee]],Table1[[#This Row],[Job Site Employee]],Table1[[#This Row],[Other Employee]])","v":0},{"$f":"IF(Table1[[#This Row],[Total Hours per Month]]=Table1[[#This Row],[Column12]],\"Match\",\"Error\")","v":"Match"},{"$f":"IF(Table1[[#This Row],[Calc 2]]=\"#NA\",\"#NA\",IF(Table1[[#This Row],[Non HZ Employee]]=Table1[[#This Row],[Max calc]],\"Non HZ Employee\", Table1[[#This Row],[Calc 2]]))","v":"#NA"}]
[1071,null,1071,{"$nulls":5},{"$f":"SUM(Table1[[#This Row],[Column4]]+Table1[[#This Row],[Column3]]+Table1[[#This Row],[Column2]]+Table1[[#This Row],[Column1]])","v":0},{"$nulls":5},{"$f":"SUM(Table1[[#This Row],[PO Employee]:[Other Employee]])","v":0},"N",{"$error":"#N/A"},{"$f":"IF(O1088>39,Table1[[#This Row],[Calc 1]],IF(O1088>1,\"Not counted as an Employee\",\"#NA\"))","v":"#NA"},{"$f":"MAX(Table1[[#This Row],[PO Employee]],Table1[[#This Row],[Other HZ Employee]],Table1[[#This Row],[Non HZ Employee]],Table1[[#This Row],[Job Site Employee]],Table1[[#This Row],[Other Employee]])","v":0},{"$f":"IF(Table1[[#This Row],[Total Hours per Month]]=Table1[[#This Row],[Column12]],\"Match\",\"Error\")","v":"Match"},{"$f":"IF(Table1[[#This Row],[Calc 2]]=\"#NA\",\"#NA\",IF(Table1[[#This Row],[Non HZ Employee]]=Table1[[#This Row],[Max calc]],\"Non HZ Employee\", Table1[[#This Row],[Calc 2]]))","v":"#NA"}]
[1072,null,1072,{"$nulls":5},{"$f":"SUM(Table1[[#This Row],[Column4]]+Table1[[#This Row],[Column3]]+Table1[[#This Row],[Column2]]+Table1[[#This Row],[Column1]])","v":0},{"$nulls":5},{"$f":"SUM(Table1[[#This Row],[PO Employee]:[Other Employee]])","v":0},"N",{"$error":"#N/A"},{"$f":"IF(O1089>39,Table1[[#This Row],[Calc 1]],IF(O1089>1,\"Not counted as an Employee\",\"#NA\"))","v":"#NA"},{"$f":"MAX(Table1[[#This Row],[PO Employee]],Table1[[#This Row],[Other HZ Employee]],Table1[[#This Row],[Non HZ Employee]],Table1[[#This Row],[Job Site Employee]],Table1[[#This Row],[Other Employee]])","v":0},{"$f":"IF(Table1[[#This Row],[Total Hours per Month]]=Table1[[#This Row],[Column12]],\"Match\",\"Error\")","v":"Match"},{"$f":"IF(Table1[[#This Row],[Calc 2]]=\"#NA\",\"#NA\",IF(Table1[[#This Row],[Non HZ Employee]]=Table1[[#This Row],[Max calc]],\"Non HZ Employee\", Table1[[#This Row],[Calc 2]]))","v":"#NA"}]
[1073,null,1073,{"$nulls":5},{"$f":"SUM(Table1[[#This Row],[Column4]]+Table1[[#This Row],[Column3]]+Table1[[#This Row],[Column2]]+Table1[[#This Row],[Column1]])","v":0},{"$nulls":5},{"$f":"SUM(Table1[[#This Row],[PO Employee]:[Other Employee]])","v":0},"N",{"$error":"#N/A"},{"$f":"IF(O1090>39,Table1[[#This Row],[Calc 1]],IF(O1090>1,\"Not counted as an Employee\",\"#NA\"))","v":"#NA"},{"$f":"MAX(Table1[[#This Row],[PO Employee]],Table1[[#This Row],[Other HZ Employee]],Table1[[#This Row],[Non HZ Employee]],Table1[[#This Row],[Job Site Employee]],Table1[[#This Row],[Other Employee]])","v":0},{"$f":"IF(Table1[[#This Row],[Total Hours per Month]]=Table1[[#This Row],[Column12]],\"Match\",\"Error\")","v":"Match"},{"$f":"IF(Table1[[#This Row],[Calc 2]]=\"#NA\",\"#NA\",IF(Table1[[#This Row],[Non HZ Employee]]=Table1[[#This Row],[Max calc]],\"Non HZ Employee\", Table1[[#This Row],[Calc 2]]))","v":"#NA"}]
[1074,null,1074,{"$nulls":5},{"$f":"SUM(Table1[[#This Row],[Column4]]+Table1[[#This Row],[Column3]]+Table1[[#This Row],[Column2]]+Table1[[#This Row],[Column1]])","v":0},{"$nulls":5},{"$f":"SUM(Table1[[#This Row],[PO Employee]:[Other Employee]])","v":0},"N",{"$error":"#N/A"},{"$f":"IF(O1091>39,Table1[[#This Row],[Calc 1]],IF(O1091>1,\"Not counted as an Employee\",\"#NA\"))","v":"#NA"},{"$f":"MAX(Table1[[#This Row],[PO Employee]],Table1[[#This Row],[Other HZ Employee]],Table1[[#This Row],[Non HZ Employee]],Table1[[#This Row],[Job Site Employee]],Table1[[#This Row],[Other Employee]])","v":0},{"$f":"IF(Table1[[#This Row],[Total Hours per Month]]=Table1[[#This Row],[Column12]],\"Match\",\"Error\")","v":"Match"},{"$f":"IF(Table1[[#This Row],[Calc 2]]=\"#NA\",\"#NA\",IF(Table1[[#This Row],[Non HZ Employee]]=Table1[[#This Row],[Max calc]],\"Non HZ Employee\", Table1[[#This Row],[Calc 2]]))","v":"#NA"}]
[1075,null,1075,{"$nulls":5},{"$f":"SUM(Table1[[#This Row],[Column4]]+Table1[[#This Row],[Column3]]+Table1[[#This Row],[Column2]]+Table1[[#This Row],[Column1]])","v":0},{"$nulls":5},{"$f":"SUM(Table1[[#This Row],[PO Employee]:[Other Employee]])","v":0},"N",{"$error":"#N/A"},{"$f":"IF(O1092>39,Table1[[#This Row],[Calc 1]],IF(O1092>1,\"Not counted as an Employee\",\"#NA\"))","v":"#NA"},{"$f":"MAX(Table1[[#This Row],[PO Employee]],Table1[[#This Row],[Other HZ Employee]],Table1[[#This Row],[Non HZ Employee]],Table1[[#This Row],[Job Site Employee]],Table1[[#This Row],[Other Employee]])","v":0},{"$f":"IF(Table1[[#This Row],[Total Hours per Month]]=Table1[[#This Row],[Column12]],\"Match\",\"Error\")","v":"Match"},{"$f":"IF(Table1[[#This Row],[Calc 2]]=\"#NA\",\"#NA\",IF(Table1[[#This Row],[Non HZ Employee]]=Table1[[#This Row],[Max calc]],\"Non HZ Employee\", Table1[[#This Row],[Calc 2]]))","v":"#NA"}]
[1076,null,1076,{"$nulls":5},{"$f":"SUM(Table1[[#This Row],[Column4]]+Table1[[#This Row],[Column3]]+Table1[[#This Row],[Column2]]+Table1[[#This Row],[Column1]])","v":0},{"$nulls":5},{"$f":"SUM(Table1[[#This Row],[PO Employee]:[Other Employee]])","v":0},"N",{"$error":"#N/A"},{"$f":"IF(O1093>39,Table1[[#This Row],[Calc 1]],IF(O1093>1,\"Not counted as an Employee\",\"#NA\"))","v":"#NA"},{"$f":"MAX(Table1[[#This Row],[PO Employee]],Table1[[#This Row],[Other HZ Employee]],Table1[[#This Row],[Non HZ Employee]],Table1[[#This Row],[Job Site Employee]],Table1[[#This Row],[Other Employee]])","v":0},{"$f":"IF(Table1[[#This Row],[Total Hours per Month]]=Table1[[#This Row],[Column12]],\"Match\",\"Error\")","v":"Match"},{"$f":"IF(Table1[[#This Row],[Calc 2]]=\"#NA\",\"#NA\",IF(Table1[[#This Row],[Non HZ Employee]]=Table1[[#This Row],[Max calc]],\"Non HZ Employee\", Table1[[#This Row],[Calc 2]]))","v":"#NA"}]
[1077,null,1077,{"$nulls":5},{"$f":"SUM(Table1[[#This Row],[Column4]]+Table1[[#This Row],[Column3]]+Table1[[#This Row],[Column2]]+Table1[[#This Row],[Column1]])","v":0},{"$nulls":5},{"$f":"SUM(Table1[[#This Row],[PO Employee]:[Other Employee]])","v":0},"N",{"$error":"#N/A"},{"$f":"IF(O1094>39,Table1[[#This Row],[Calc 1]],IF(O1094>1,\"Not counted as an Employee\",\"#NA\"))","v":"#NA"},{"$f":"MAX(Table1[[#This Row],[PO Employee]],Table1[[#This Row],[Other HZ Employee]],Table1[[#This Row],[Non HZ Employee]],Table1[[#This Row],[Job Site Employee]],Table1[[#This Row],[Other Employee]])","v":0},{"$f":"IF(Table1[[#This Row],[Total Hours per Month]]=Table1[[#This Row],[Column12]],\"Match\",\"Error\")","v":"Match"},{"$f":"IF(Table1[[#This Row],[Calc 2]]=\"#NA\",\"#NA\",IF(Table1[[#This Row],[Non HZ Employee]]=Table1[[#This Row],[Max calc]],\"Non HZ Employee\", Table1[[#This Row],[Calc 2]]))","v":"#NA"}]
[1078,null,1078,{"$nulls":5},{"$f":"SUM(Table1[[#This Row],[Column4]]+Table1[[#This Row],[Column3]]+Table1[[#This Row],[Column2]]+Table1[[#This Row],[Column1]])","v":0},{"$nulls":5},{"$f":"SUM(Table1[[#This Row],[PO Employee]:[Other Employee]])","v":0},"N",{"$error":"#N/A"},{"$f":"IF(O1095>39,Table1[[#This Row],[Calc 1]],IF(O1095>1,\"Not counted as an Employee\",\"#NA\"))","v":"#NA"},{"$f":"MAX(Table1[[#This Row],[PO Employee]],Table1[[#This Row],[Other HZ Employee]],Table1[[#This Row],[Non HZ Employee]],Table1[[#This Row],[Job Site Employee]],Table1[[#This Row],[Other Employee]])","v":0},{"$f":"IF(Table1[[#This Row],[Total Hours per Month]]=Table1[[#This Row],[Column12]],\"Match\",\"Error\")","v":"Match"},{"$f":"IF(Table1[[#This Row],[Calc 2]]=\"#NA\",\"#NA\",IF(Table1[[#This Row],[Non HZ Employee]]=Table1[[#This Row],[Max calc]],\"Non HZ Employee\", Table1[[#This Row],[Calc 2]]))","v":"#NA"}]
[1079,null,1079,{"$nulls":5},{"$f":"SUM(Table1[[#This Row],[Column4]]+Table1[[#This Row],[Column3]]+Table1[[#This Row],[Column2]]+Table1[[#This Row],[Column1]])","v":0},{"$nulls":5},{"$f":"SUM(Table1[[#This Row],[PO Employee]:[Other Employee]])","v":0},"N",{"$error":"#N/A"},{"$f":"IF(O1096>39,Table1[[#This Row],[Calc 1]],IF(O1096>1,\"Not counted as an Employee\",\"#NA\"))","v":"#NA"},{"$f":"MAX(Table1[[#This Row],[PO Employee]],Table1[[#This Row],[Other HZ Employee]],Table1[[#This Row],[Non HZ Employee]],Table1[[#This Row],[Job Site Employee]],Table1[[#This Row],[Other Employee]])","v":0},{"$f":"IF(Table1[[#This Row],[Total Hours per Month]]=Table1[[#This Row],[Column12]],\"Match\",\"Error\")","v":"Match"},{"$f":"IF(Table1[[#This Row],[Calc 2]]=\"#NA\",\"#NA\",IF(Table1[[#This Row],[Non HZ Employee]]=Table1[[#This Row],[Max calc]],\"Non HZ Employee\", Table1[[#This Row],[Calc 2]]))","v":"#NA"}]
[1080,null,1080,{"$nulls":5},{"$f":"SUM(Table1[[#This Row],[Column4]]+Table1[[#This Row],[Column3]]+Table1[[#This Row],[Column2]]+Table1[[#This Row],[Column1]])","v":0},{"$nulls":5},{"$f":"SUM(Table1[[#This Row],[PO Employee]:[Other Employee]])","v":0},"N",{"$error":"#N/A"},{"$f":"IF(O1097>39,Table1[[#This Row],[Calc 1]],IF(O1097>1,\"Not counted as an Employee\",\"#NA\"))","v":"#NA"},{"$f":"MAX(Table1[[#This Row],[PO Employee]],Table1[[#This Row],[Other HZ Employee]],Table1[[#This Row],[Non HZ Employee]],Table1[[#This Row],[Job Site Employee]],Table1[[#This Row],[Other Employee]])","v":0},{"$f":"IF(Table1[[#This Row],[Total Hours per Month]]=Table1[[#This Row],[Column12]],\"Match\",\"Error\")","v":"Match"},{"$f":"IF(Table1[[#This Row],[Calc 2]]=\"#NA\",\"#NA\",IF(Table1[[#This Row],[Non HZ Employee]]=Table1[[#This Row],[Max calc]],\"Non HZ Employee\", Table1[[#This Row],[Calc 2]]))","v":"#NA"}]
[1081,null,1081,{"$nulls":5},{"$f":"SUM(Table1[[#This Row],[Column4]]+Table1[[#This Row],[Column3]]+Table1[[#This Row],[Column2]]+Table1[[#This Row],[Column1]])","v":0},{"$nulls":5},{"$f":"SUM(Table1[[#This Row],[PO Employee]:[Other Employee]])","v":0},"N",{"$error":"#N/A"},{"$f":"IF(O1098>39,Table1[[#This Row],[Calc 1]],IF(O1098>1,\"Not counted as an Employee\",\"#NA\"))","v":"#NA"},{"$f":"MAX(Table1[[#This Row],[PO Employee]],Table1[[#This Row],[Other HZ Employee]],Table1[[#This Row],[Non HZ Employee]],Table1[[#This Row],[Job Site Employee]],Table1[[#This Row],[Other Employee]])","v":0},{"$f":"IF(Table1[[#This Row],[Total Hours per Month]]=Table1[[#This Row],[Column12]],\"Match\",\"Error\")","v":"Match"},{"$f":"IF(Table1[[#This Row],[Calc 2]]=\"#NA\",\"#NA\",IF(Table1[[#This Row],[Non HZ Employee]]=Table1[[#This Row],[Max calc]],\"Non HZ Employee\", Table1[[#This Row],[Calc 2]]))","v":"#NA"}]
[1082,null,1082,{"$nulls":5},{"$f":"SUM(Table1[[#This Row],[Column4]]+Table1[[#This Row],[Column3]]+Table1[[#This Row],[Column2]]+Table1[[#This Row],[Column1]])","v":0},{"$nulls":5},{"$f":"SUM(Table1[[#This Row],[PO Employee]:[Other Employee]])","v":0},"N",{"$error":"#N/A"},{"$f":"IF(O1099>39,Table1[[#This Row],[Calc 1]],IF(O1099>1,\"Not counted as an Employee\",\"#NA\"))","v":"#NA"},{"$f":"MAX(Table1[[#This Row],[PO Employee]],Table1[[#This Row],[Other HZ Employee]],Table1[[#This Row],[Non HZ Employee]],Table1[[#This Row],[Job Site Employee]],Table1[[#This Row],[Other Employee]])","v":0},{"$f":"IF(Table1[[#This Row],[Total Hours per Month]]=Table1[[#This Row],[Column12]],\"Match\",\"Error\")","v":"Match"},{"$f":"IF(Table1[[#This Row],[Calc 2]]=\"#NA\",\"#NA\",IF(Table1[[#This Row],[Non HZ Employee]]=Table1[[#This Row],[Max calc]],\"Non HZ Employee\", Table1[[#This Row],[Calc 2]]))","v":"#NA"}]
[1083,null,1083,{"$nulls":5},{"$f":"SUM(Table1[[#This Row],[Column4]]+Table1[[#This Row],[Column3]]+Table1[[#This Row],[Column2]]+Table1[[#This Row],[Column1]])","v":0},{"$nulls":5},{"$f":"SUM(Table1[[#This Row],[PO Employee]:[Other Employee]])","v":0},"N",{"$error":"#N/A"},{"$f":"IF(O1100>39,Table1[[#This Row],[Calc 1]],IF(O1100>1,\"Not counted as an Employee\",\"#NA\"))","v":"#NA"},{"$f":"MAX(Table1[[#This Row],[PO Employee]],Table1[[#This Row],[Other HZ Employee]],Table1[[#This Row],[Non HZ Employee]],Table1[[#This Row],[Job Site Employee]],Table1[[#This Row],[Other Employee]])","v":0},{"$f":"IF(Table1[[#This Row],[Total Hours per Month]]=Table1[[#This Row],[Column12]],\"Match\",\"Error\")","v":"Match"},{"$f":"IF(Table1[[#This Row],[Calc 2]]=\"#NA\",\"#NA\",IF(Table1[[#This Row],[Non HZ Employee]]=Table1[[#This Row],[Max calc]],\"Non HZ Employee\", Table1[[#This Row],[Calc 2]]))","v":"#NA"}]
[1084,null,1084,{"$nulls":5},{"$f":"SUM(Table1[[#This Row],[Column4]]+Table1[[#This Row],[Column3]]+Table1[[#This Row],[Column2]]+Table1[[#This Row],[Column1]])","v":0},{"$nulls":5},{"$f":"SUM(Table1[[#This Row],[PO Employee]:[Other Employee]])","v":0},"N",{"$error":"#N/A"},{"$f":"IF(O1101>39,Table1[[#This Row],[Calc 1]],IF(O1101>1,\"Not counted as an Employee\",\"#NA\"))","v":"#NA"},{"$f":"MAX(Table1[[#This Row],[PO Employee]],Table1[[#This Row],[Other HZ Employee]],Table1[[#This Row],[Non HZ Employee]],Table1[[#This Row],[Job Site Employee]],Table1[[#This Row],[Other Employee]])","v":0},{"$f":"IF(Table1[[#This Row],[Total Hours per Month]]=Table1[[#This Row],[Column12]],\"Match\",\"Error\")","v":"Match"},{"$f":"IF(Table1[[#This Row],[Calc 2]]=\"#NA\",\"#NA\",IF(Table1[[#This Row],[Non HZ Employee]]=Table1[[#This Row],[Max calc]],\"Non HZ Employee\", Table1[[#This Row],[Calc 2]]))","v":"#NA"}]
[1085,null,1085,{"$nulls":5},{"$f":"SUM(Table1[[#This Row],[Column4]]+Table1[[#This Row],[Column3]]+Table1[[#This Row],[Column2]]+Table1[[#This Row],[Column1]])","v":0},{"$nulls":5},{"$f":"SUM(Table1[[#This Row],[PO Employee]:[Other Employee]])","v":0},"N",{"$error":"#N/A"},{"$f":"IF(O1102>39,Table1[[#This Row],[Calc 1]],IF(O1102>1,\"Not counted as an Employee\",\"#NA\"))","v":"#NA"},{"$f":"MAX(Table1[[#This Row],[PO Employee]],Table1[[#This Row],[Other HZ Employee]],Table1[[#This Row],[Non HZ Employee]],Table1[[#This Row],[Job Site Employee]],Table1[[#This Row],[Other Employee]])","v":0},{"$f":"IF(Table1[[#This Row],[Total Hours per Month]]=Table1[[#This Row],[Column12]],\"Match\",\"Error\")","v":"Match"},{"$f":"IF(Table1[[#This Row],[Calc 2]]=\"#NA\",\"#NA\",IF(Table1[[#This Row],[Non HZ Employee]]=Table1[[#This Row],[Max calc]],\"Non HZ Employee\", Table1[[#This Row],[Calc 2]]))","v":"#NA"}]
[1086,null,1086,{"$nulls":5},{"$f":"SUM(Table1[[#This Row],[Column4]]+Table1[[#This Row],[Column3]]+Table1[[#This Row],[Column2]]+Table1[[#This Row],[Column1]])","v":0},{"$nulls":5},{"$f":"SUM(Table1[[#This Row],[PO Employee]:[Other Employee]])","v":0},"N",{"$error":"#N/A"},{"$f":"IF(O1103>39,Table1[[#This Row],[Calc 1]],IF(O1103>1,\"Not counted as an Employee\",\"#NA\"))","v":"#NA"},{"$f":"MAX(Table1[[#This Row],[PO Employee]],Table1[[#This Row],[Other HZ Employee]],Table1[[#This Row],[Non HZ Employee]],Table1[[#This Row],[Job Site Employee]],Table1[[#This Row],[Other Employee]])","v":0},{"$f":"IF(Table1[[#This Row],[Total Hours per Month]]=Table1[[#This Row],[Column12]],\"Match\",\"Error\")","v":"Match"},{"$f":"IF(Table1[[#This Row],[Calc 2]]=\"#NA\",\"#NA\",IF(Table1[[#This Row],[Non HZ Employee]]=Table1[[#This Row],[Max calc]],\"Non HZ Employee\", Table1[[#This Row],[Calc 2]]))","v":"#NA"}]
[1087,null,1087,{"$nulls":5},{"$f":"SUM(Table1[[#This Row],[Column4]]+Table1[[#This Row],[Column3]]+Table1[[#This Row],[Column2]]+Table1[[#This Row],[Column1]])","v":0},{"$nulls":5},{"$f":"SUM(Table1[[#This Row],[PO Employee]:[Other Employee]])","v":0},"N",{"$error":"#N/A"},{"$f":"IF(O1104>39,Table1[[#This Row],[Calc 1]],IF(O1104>1,\"Not counted as an Employee\",\"#NA\"))","v":"#NA"},{"$f":"MAX(Table1[[#This Row],[PO Employee]],Table1[[#This Row],[Other HZ Employee]],Table1[[#This Row],[Non HZ Employee]],Table1[[#This Row],[Job Site Employee]],Table1[[#This Row],[Other Employee]])","v":0},{"$f":"IF(Table1[[#This Row],[Total Hours per Month]]=Table1[[#This Row],[Column12]],\"Match\",\"Error\")","v":"Match"},{"$f":"IF(Table1[[#This Row],[Calc 2]]=\"#NA\",\"#NA\",IF(Table1[[#This Row],[Non HZ Employee]]=Table1[[#This Row],[Max calc]],\"Non HZ Employee\", Table1[[#This Row],[Calc 2]]))","v":"#NA"}]
[1088,null,1088,{"$nulls":5},{"$f":"SUM(Table1[[#This Row],[Column4]]+Table1[[#This Row],[Column3]]+Table1[[#This Row],[Column2]]+Table1[[#This Row],[Column1]])","v":0},{"$nulls":5},{"$f":"SUM(Table1[[#This Row],[PO Employee]:[Other Employee]])","v":0},"N",{"$error":"#N/A"},{"$f":"IF(O1105>39,Table1[[#This Row],[Calc 1]],IF(O1105>1,\"Not counted as an Employee\",\"#NA\"))","v":"#NA"},{"$f":"MAX(Table1[[#This Row],[PO Employee]],Table1[[#This Row],[Other HZ Employee]],Table1[[#This Row],[Non HZ Employee]],Table1[[#This Row],[Job Site Employee]],Table1[[#This Row],[Other Employee]])","v":0},{"$f":"IF(Table1[[#This Row],[Total Hours per Month]]=Table1[[#This Row],[Column12]],\"Match\",\"Error\")","v":"Match"},{"$f":"IF(Table1[[#This Row],[Calc 2]]=\"#NA\",\"#NA\",IF(Table1[[#This Row],[Non HZ Employee]]=Table1[[#This Row],[Max calc]],\"Non HZ Employee\", Table1[[#This Row],[Calc 2]]))","v":"#NA"}]
[1089,null,1089,{"$nulls":5},{"$f":"SUM(Table1[[#This Row],[Column4]]+Table1[[#This Row],[Column3]]+Table1[[#This Row],[Column2]]+Table1[[#This Row],[Column1]])","v":0},{"$nulls":5},{"$f":"SUM(Table1[[#This Row],[PO Employee]:[Other Employee]])","v":0},"N",{"$f":"INDEX($J$17:$N$17,MATCH(MAX(J1106:N1106),J1106:N1106,0))","v":{"$error":"#N/A"}},{"$f":"IF(O1106>39,Table1[[#This Row],[Calc 1]],IF(O1106>1,\"Not counted as an Employee\",\"#NA\"))","v":"#NA"},{"$f":"MAX(Table1[[#This Row],[PO Employee]],Table1[[#This Row],[Other HZ Employee]],Table1[[#This Row],[Non HZ Employee]],Table1[[#This Row],[Job Site Employee]],Table1[[#This Row],[Other Employee]])","v":0},{"$f":"IF(Table1[[#This Row],[Total Hours per Month]]=Table1[[#This Row],[Column12]],\"Match\",\"Error\")","v":"Match"},{"$f":"IF(Table1[[#This Row],[Calc 2]]=\"#NA\",\"#NA\",IF(Table1[[#This Row],[Non HZ Employee]]=Table1[[#This Row],[Max calc]],\"Non HZ Employee\", Table1[[#This Row],[Calc 2]]))","v":"#NA"}]
[1090,null,1090,{"$nulls":5},{"$f":"SUM(Table1[[#This Row],[Column4]]+Table1[[#This Row],[Column3]]+Table1[[#This Row],[Column2]]+Table1[[#This Row],[Column1]])","v":0},{"$nulls":5},{"$f":"SUM(Table1[[#This Row],[PO Employee]:[Other Employee]])","v":0},{"$f":"IF(O1107>=40,\"Y\",\"N\")","v":"N"},{"$error":"#N/A"},{"$f":"IF(O1107>39,Table1[[#This Row],[Calc 1]],IF(O1107>1,\"Not counted as an Employee\",\"#NA\"))","v":"#NA"},{"$f":"MAX(Table1[[#This Row],[PO Employee]],Table1[[#This Row],[Other HZ Employee]],Table1[[#This Row],[Non HZ Employee]],Table1[[#This Row],[Job Site Employee]],Table1[[#This Row],[Other Employee]])","v":0},{"$f":"IF(Table1[[#This Row],[Total Hours per Month]]=Table1[[#This Row],[Column12]],\"Match\",\"Error\")","v":"Match"},{"$f":"IF(Table1[[#This Row],[Calc 2]]=\"#NA\",\"#NA\",IF(Table1[[#This Row],[Non HZ Employee]]=Table1[[#This Row],[Max calc]],\"Non HZ Employee\", Table1[[#This Row],[Calc 2]]))","v":"#NA"}]
[1091,null,1091,{"$nulls":5},{"$f":"SUM(Table1[[#This Row],[Column4]]+Table1[[#This Row],[Column3]]+Table1[[#This Row],[Column2]]+Table1[[#This Row],[Column1]])","v":0},{"$nulls":5},{"$f":"SUM(Table1[[#This Row],[PO Employee]:[Other Employee]])","v":0},"N",{"$error":"#N/A"},{"$f":"IF(O1108>39,Table1[[#This Row],[Calc 1]],IF(O1108>1,\"Not counted as an Employee\",\"#NA\"))","v":"#NA"},{"$f":"MAX(Table1[[#This Row],[PO Employee]],Table1[[#This Row],[Other HZ Employee]],Table1[[#This Row],[Non HZ Employee]],Table1[[#This Row],[Job Site Employee]],Table1[[#This Row],[Other Employee]])","v":0},{"$f":"IF(Table1[[#This Row],[Total Hours per Month]]=Table1[[#This Row],[Column12]],\"Match\",\"Error\")","v":"Match"},{"$f":"IF(Table1[[#This Row],[Calc 2]]=\"#NA\",\"#NA\",IF(Table1[[#This Row],[Non HZ Employee]]=Table1[[#This Row],[Max calc]],\"Non HZ Employee\", Table1[[#This Row],[Calc 2]]))","v":"#NA"}]
[1092,null,1092,{"$nulls":5},{"$f":"SUM(Table1[[#This Row],[Column4]]+Table1[[#This Row],[Column3]]+Table1[[#This Row],[Column2]]+Table1[[#This Row],[Column1]])","v":0},{"$nulls":5},{"$f":"SUM(Table1[[#This Row],[PO Employee]:[Other Employee]])","v":0},"N",{"$error":"#N/A"},{"$f":"IF(O1109>39,Table1[[#This Row],[Calc 1]],IF(O1109>1,\"Not counted as an Employee\",\"#NA\"))","v":"#NA"},{"$f":"MAX(Table1[[#This Row],[PO Employee]],Table1[[#This Row],[Other HZ Employee]],Table1[[#This Row],[Non HZ Employee]],Table1[[#This Row],[Job Site Employee]],Table1[[#This Row],[Other Employee]])","v":0},{"$f":"IF(Table1[[#This Row],[Total Hours per Month]]=Table1[[#This Row],[Column12]],\"Match\",\"Error\")","v":"Match"},{"$f":"IF(Table1[[#This Row],[Calc 2]]=\"#NA\",\"#NA\",IF(Table1[[#This Row],[Non HZ Employee]]=Table1[[#This Row],[Max calc]],\"Non HZ Employee\", Table1[[#This Row],[Calc 2]]))","v":"#NA"}]
[1093,null,1093,{"$nulls":5},{"$f":"SUM(Table1[[#This Row],[Column4]]+Table1[[#This Row],[Column3]]+Table1[[#This Row],[Column2]]+Table1[[#This Row],[Column1]])","v":0},{"$nulls":5},{"$f":"SUM(Table1[[#This Row],[PO Employee]:[Other Employee]])","v":0},"N",{"$error":"#N/A"},{"$f":"IF(O1110>39,Table1[[#This Row],[Calc 1]],IF(O1110>1,\"Not counted as an Employee\",\"#NA\"))","v":"#NA"},{"$f":"MAX(Table1[[#This Row],[PO Employee]],Table1[[#This Row],[Other HZ Employee]],Table1[[#This Row],[Non HZ Employee]],Table1[[#This Row],[Job Site Employee]],Table1[[#This Row],[Other Employee]])","v":0},{"$f":"IF(Table1[[#This Row],[Total Hours per Month]]=Table1[[#This Row],[Column12]],\"Match\",\"Error\")","v":"Match"},{"$f":"IF(Table1[[#This Row],[Calc 2]]=\"#NA\",\"#NA\",IF(Table1[[#This Row],[Non HZ Employee]]=Table1[[#This Row],[Max calc]],\"Non HZ Employee\", Table1[[#This Row],[Calc 2]]))","v":"#NA"}]
[1094,null,1094,{"$nulls":5},{"$f":"SUM(Table1[[#This Row],[Column4]]+Table1[[#This Row],[Column3]]+Table1[[#This Row],[Column2]]+Table1[[#This Row],[Column1]])","v":0},{"$nulls":5},{"$f":"SUM(Table1[[#This Row],[PO Employee]:[Other Employee]])","v":0},"N",{"$error":"#N/A"},{"$f":"IF(O1111>39,Table1[[#This Row],[Calc 1]],IF(O1111>1,\"Not counted as an Employee\",\"#NA\"))","v":"#NA"},{"$f":"MAX(Table1[[#This Row],[PO Employee]],Table1[[#This Row],[Other HZ Employee]],Table1[[#This Row],[Non HZ Employee]],Table1[[#This Row],[Job Site Employee]],Table1[[#This Row],[Other Employee]])","v":0},{"$f":"IF(Table1[[#This Row],[Total Hours per Month]]=Table1[[#This Row],[Column12]],\"Match\",\"Error\")","v":"Match"},{"$f":"IF(Table1[[#This Row],[Calc 2]]=\"#NA\",\"#NA\",IF(Table1[[#This Row],[Non HZ Employee]]=Table1[[#This Row],[Max calc]],\"Non HZ Employee\", Table1[[#This Row],[Calc 2]]))","v":"#NA"}]
[1095,null,1095,{"$nulls":5},{"$f":"SUM(Table1[[#This Row],[Column4]]+Table1[[#This Row],[Column3]]+Table1[[#This Row],[Column2]]+Table1[[#This Row],[Column1]])","v":0},{"$nulls":5},{"$f":"SUM(Table1[[#This Row],[PO Employee]:[Other Employee]])","v":0},"N",{"$error":"#N/A"},{"$f":"IF(O1112>39,Table1[[#This Row],[Calc 1]],IF(O1112>1,\"Not counted as an Employee\",\"#NA\"))","v":"#NA"},{"$f":"MAX(Table1[[#This Row],[PO Employee]],Table1[[#This Row],[Other HZ Employee]],Table1[[#This Row],[Non HZ Employee]],Table1[[#This Row],[Job Site Employee]],Table1[[#This Row],[Other Employee]])","v":0},{"$f":"IF(Table1[[#This Row],[Total Hours per Month]]=Table1[[#This Row],[Column12]],\"Match\",\"Error\")","v":"Match"},{"$f":"IF(Table1[[#This Row],[Calc 2]]=\"#NA\",\"#NA\",IF(Table1[[#This Row],[Non HZ Employee]]=Table1[[#This Row],[Max calc]],\"Non HZ Employee\", Table1[[#This Row],[Calc 2]]))","v":"#NA"}]
[1096,null,1096,{"$nulls":5},{"$f":"SUM(Table1[[#This Row],[Column4]]+Table1[[#This Row],[Column3]]+Table1[[#This Row],[Column2]]+Table1[[#This Row],[Column1]])","v":0},{"$nulls":5},{"$f":"SUM(Table1[[#This Row],[PO Employee]:[Other Employee]])","v":0},"N",{"$error":"#N/A"},{"$f":"IF(O1113>39,Table1[[#This Row],[Calc 1]],IF(O1113>1,\"Not counted as an Employee\",\"#NA\"))","v":"#NA"},{"$f":"MAX(Table1[[#This Row],[PO Employee]],Table1[[#This Row],[Other HZ Employee]],Table1[[#This Row],[Non HZ Employee]],Table1[[#This Row],[Job Site Employee]],Table1[[#This Row],[Other Employee]])","v":0},{"$f":"IF(Table1[[#This Row],[Total Hours per Month]]=Table1[[#This Row],[Column12]],\"Match\",\"Error\")","v":"Match"},{"$f":"IF(Table1[[#This Row],[Calc 2]]=\"#NA\",\"#NA\",IF(Table1[[#This Row],[Non HZ Employee]]=Table1[[#This Row],[Max calc]],\"Non HZ Employee\", Table1[[#This Row],[Calc 2]]))","v":"#NA"}]
[1097,null,1097,{"$nulls":5},{"$f":"SUM(Table1[[#This Row],[Column4]]+Table1[[#This Row],[Column3]]+Table1[[#This Row],[Column2]]+Table1[[#This Row],[Column1]])","v":0},{"$nulls":5},{"$f":"SUM(Table1[[#This Row],[PO Employee]:[Other Employee]])","v":0},"N",{"$error":"#N/A"},{"$f":"IF(O1114>39,Table1[[#This Row],[Calc 1]],IF(O1114>1,\"Not counted as an Employee\",\"#NA\"))","v":"#NA"},{"$f":"MAX(Table1[[#This Row],[PO Employee]],Table1[[#This Row],[Other HZ Employee]],Table1[[#This Row],[Non HZ Employee]],Table1[[#This Row],[Job Site Employee]],Table1[[#This Row],[Other Employee]])","v":0},{"$f":"IF(Table1[[#This Row],[Total Hours per Month]]=Table1[[#This Row],[Column12]],\"Match\",\"Error\")","v":"Match"},{"$f":"IF(Table1[[#This Row],[Calc 2]]=\"#NA\",\"#NA\",IF(Table1[[#This Row],[Non HZ Employee]]=Table1[[#This Row],[Max calc]],\"Non HZ Employee\", Table1[[#This Row],[Calc 2]]))","v":"#NA"}]
[1098,null,1098,{"$nulls":5},{"$f":"SUM(Table1[[#This Row],[Column4]]+Table1[[#This Row],[Column3]]+Table1[[#This Row],[Column2]]+Table1[[#This Row],[Column1]])","v":0},{"$nulls":5},{"$f":"SUM(Table1[[#This Row],[PO Employee]:[Other Employee]])","v":0},"N",{"$error":"#N/A"},{"$f":"IF(O1115>39,Table1[[#This Row],[Calc 1]],IF(O1115>1,\"Not counted as an Employee\",\"#NA\"))","v":"#NA"},{"$f":"MAX(Table1[[#This Row],[PO Employee]],Table1[[#This Row],[Other HZ Employee]],Table1[[#This Row],[Non HZ Employee]],Table1[[#This Row],[Job Site Employee]],Table1[[#This Row],[Other Employee]])","v":0},{"$f":"IF(Table1[[#This Row],[Total Hours per Month]]=Table1[[#This Row],[Column12]],\"Match\",\"Error\")","v":"Match"},{"$f":"IF(Table1[[#This Row],[Calc 2]]=\"#NA\",\"#NA\",IF(Table1[[#This Row],[Non HZ Employee]]=Table1[[#This Row],[Max calc]],\"Non HZ Employee\", Table1[[#This Row],[Calc 2]]))","v":"#NA"}]
[1099,null,1099,{"$nulls":5},{"$f":"SUM(Table1[[#This Row],[Column4]]+Table1[[#This Row],[Column3]]+Table1[[#This Row],[Column2]]+Table1[[#This Row],[Column1]])","v":0},{"$nulls":5},{"$f":"SUM(Table1[[#This Row],[PO Employee]:[Other Employee]])","v":0},"N",{"$error":"#N/A"},{"$f":"IF(O1116>39,Table1[[#This Row],[Calc 1]],IF(O1116>1,\"Not counted as an Employee\",\"#NA\"))","v":"#NA"},{"$f":"MAX(Table1[[#This Row],[PO Employee]],Table1[[#This Row],[Other HZ Employee]],Table1[[#This Row],[Non HZ Employee]],Table1[[#This Row],[Job Site Employee]],Table1[[#This Row],[Other Employee]])","v":0},{"$f":"IF(Table1[[#This Row],[Total Hours per Month]]=Table1[[#This Row],[Column12]],\"Match\",\"Error\")","v":"Match"},{"$f":"IF(Table1[[#This Row],[Calc 2]]=\"#NA\",\"#NA\",IF(Table1[[#This Row],[Non HZ Employee]]=Table1[[#This Row],[Max calc]],\"Non HZ Employee\", Table1[[#This Row],[Calc 2]]))","v":"#NA"}]
[1100,null,1100,{"$nulls":5},{"$f":"SUM(Table1[[#This Row],[Column4]]+Table1[[#This Row],[Column3]]+Table1[[#This Row],[Column2]]+Table1[[#This Row],[Column1]])","v":0},{"$nulls":5},{"$f":"SUM(Table1[[#This Row],[PO Employee]:[Other Employee]])","v":0},"N",{"$error":"#N/A"},{"$f":"IF(O1117>39,Table1[[#This Row],[Calc 1]],IF(O1117>1,\"Not counted as an Employee\",\"#NA\"))","v":"#NA"},{"$f":"MAX(Table1[[#This Row],[PO Employee]],Table1[[#This Row],[Other HZ Employee]],Table1[[#This Row],[Non HZ Employee]],Table1[[#This Row],[Job Site Employee]],Table1[[#This Row],[Other Employee]])","v":0},{"$f":"IF(Table1[[#This Row],[Total Hours per Month]]=Table1[[#This Row],[Column12]],\"Match\",\"Error\")","v":"Match"},{"$f":"IF(Table1[[#This Row],[Calc 2]]=\"#NA\",\"#NA\",IF(Table1[[#This Row],[Non HZ Employee]]=Table1[[#This Row],[Max calc]],\"Non HZ Employee\", Table1[[#This Row],[Calc 2]]))","v":"#NA"}]
[1101,null,1101,{"$nulls":5},{"$f":"SUM(Table1[[#This Row],[Column4]]+Table1[[#This Row],[Column3]]+Table1[[#This Row],[Column2]]+Table1[[#This Row],[Column1]])","v":0},{"$nulls":5},{"$f":"SUM(Table1[[#This Row],[PO Employee]:[Other Employee]])","v":0},"N",{"$error":"#N/A"},{"$f":"IF(O1118>39,Table1[[#This Row],[Calc 1]],IF(O1118>1,\"Not counted as an Employee\",\"#NA\"))","v":"#NA"},{"$f":"MAX(Table1[[#This Row],[PO Employee]],Table1[[#This Row],[Other HZ Employee]],Table1[[#This Row],[Non HZ Employee]],Table1[[#This Row],[Job Site Employee]],Table1[[#This Row],[Other Employee]])","v":0},{"$f":"IF(Table1[[#This Row],[Total Hours per Month]]=Table1[[#This Row],[Column12]],\"Match\",\"Error\")","v":"Match"},{"$f":"IF(Table1[[#This Row],[Calc 2]]=\"#NA\",\"#NA\",IF(Table1[[#This Row],[Non HZ Employee]]=Table1[[#This Row],[Max calc]],\"Non HZ Employee\", Table1[[#This Row],[Calc 2]]))","v":"#NA"}]
[1102,null,1102,{"$nulls":5},{"$f":"SUM(Table1[[#This Row],[Column4]]+Table1[[#This Row],[Column3]]+Table1[[#This Row],[Column2]]+Table1[[#This Row],[Column1]])","v":0},{"$nulls":5},{"$f":"SUM(Table1[[#This Row],[PO Employee]:[Other Employee]])","v":0},"N",{"$error":"#N/A"},{"$f":"IF(O1119>39,Table1[[#This Row],[Calc 1]],IF(O1119>1,\"Not counted as an Employee\",\"#NA\"))","v":"#NA"},{"$f":"MAX(Table1[[#This Row],[PO Employee]],Table1[[#This Row],[Other HZ Employee]],Table1[[#This Row],[Non HZ Employee]],Table1[[#This Row],[Job Site Employee]],Table1[[#This Row],[Other Employee]])","v":0},{"$f":"IF(Table1[[#This Row],[Total Hours per Month]]=Table1[[#This Row],[Column12]],\"Match\",\"Error\")","v":"Match"},{"$f":"IF(Table1[[#This Row],[Calc 2]]=\"#NA\",\"#NA\",IF(Table1[[#This Row],[Non HZ Employee]]=Table1[[#This Row],[Max calc]],\"Non HZ Employee\", Table1[[#This Row],[Calc 2]]))","v":"#NA"}]
[1103,null,1103,{"$nulls":5},{"$f":"SUM(Table1[[#This Row],[Column4]]+Table1[[#This Row],[Column3]]+Table1[[#This Row],[Column2]]+Table1[[#This Row],[Column1]])","v":0},{"$nulls":5},{"$f":"SUM(Table1[[#This Row],[PO Employee]:[Other Employee]])","v":0},"N",{"$error":"#N/A"},{"$f":"IF(O1120>39,Table1[[#This Row],[Calc 1]],IF(O1120>1,\"Not counted as an Employee\",\"#NA\"))","v":"#NA"},{"$f":"MAX(Table1[[#This Row],[PO Employee]],Table1[[#This Row],[Other HZ Employee]],Table1[[#This Row],[Non HZ Employee]],Table1[[#This Row],[Job Site Employee]],Table1[[#This Row],[Other Employee]])","v":0},{"$f":"IF(Table1[[#This Row],[Total Hours per Month]]=Table1[[#This Row],[Column12]],\"Match\",\"Error\")","v":"Match"},{"$f":"IF(Table1[[#This Row],[Calc 2]]=\"#NA\",\"#NA\",IF(Table1[[#This Row],[Non HZ Employee]]=Table1[[#This Row],[Max calc]],\"Non HZ Employee\", Table1[[#This Row],[Calc 2]]))","v":"#NA"}]
[1104,null,1104,{"$nulls":5},{"$f":"SUM(Table1[[#This Row],[Column4]]+Table1[[#This Row],[Column3]]+Table1[[#This Row],[Column2]]+Table1[[#This Row],[Column1]])","v":0},{"$nulls":5},{"$f":"SUM(Table1[[#This Row],[PO Employee]:[Other Employee]])","v":0},"N",{"$error":"#N/A"},{"$f":"IF(O1121>39,Table1[[#This Row],[Calc 1]],IF(O1121>1,\"Not counted as an Employee\",\"#NA\"))","v":"#NA"},{"$f":"MAX(Table1[[#This Row],[PO Employee]],Table1[[#This Row],[Other HZ Employee]],Table1[[#This Row],[Non HZ Employee]],Table1[[#This Row],[Job Site Employee]],Table1[[#This Row],[Other Employee]])","v":0},{"$f":"IF(Table1[[#This Row],[Total Hours per Month]]=Table1[[#This Row],[Column12]],\"Match\",\"Error\")","v":"Match"},{"$f":"IF(Table1[[#This Row],[Calc 2]]=\"#NA\",\"#NA\",IF(Table1[[#This Row],[Non HZ Employee]]=Table1[[#This Row],[Max calc]],\"Non HZ Employee\", Table1[[#This Row],[Calc 2]]))","v":"#NA"}]
[1105,null,1105,{"$nulls":5},{"$f":"SUM(Table1[[#This Row],[Column4]]+Table1[[#This Row],[Column3]]+Table1[[#This Row],[Column2]]+Table1[[#This Row],[Column1]])","v":0},{"$nulls":5},{"$f":"SUM(Table1[[#This Row],[PO Employee]:[Other Employee]])","v":0},"N",{"$error":"#N/A"},{"$f":"IF(O1122>39,Table1[[#This Row],[Calc 1]],IF(O1122>1,\"Not counted as an Employee\",\"#NA\"))","v":"#NA"},{"$f":"MAX(Table1[[#This Row],[PO Employee]],Table1[[#This Row],[Other HZ Employee]],Table1[[#This Row],[Non HZ Employee]],Table1[[#This Row],[Job Site Employee]],Table1[[#This Row],[Other Employee]])","v":0},{"$f":"IF(Table1[[#This Row],[Total Hours per Month]]=Table1[[#This Row],[Column12]],\"Match\",\"Error\")","v":"Match"},{"$f":"IF(Table1[[#This Row],[Calc 2]]=\"#NA\",\"#NA\",IF(Table1[[#This Row],[Non HZ Employee]]=Table1[[#This Row],[Max calc]],\"Non HZ Employee\", Table1[[#This Row],[Calc 2]]))","v":"#NA"}]
[1106,null,1106,{"$nulls":5},{"$f":"SUM(Table1[[#This Row],[Column4]]+Table1[[#This Row],[Column3]]+Table1[[#This Row],[Column2]]+Table1[[#This Row],[Column1]])","v":0},{"$nulls":5},{"$f":"SUM(Table1[[#This Row],[PO Employee]:[Other Employee]])","v":0},"N",{"$error":"#N/A"},{"$f":"IF(O1123>39,Table1[[#This Row],[Calc 1]],IF(O1123>1,\"Not counted as an Employee\",\"#NA\"))","v":"#NA"},{"$f":"MAX(Table1[[#This Row],[PO Employee]],Table1[[#This Row],[Other HZ Employee]],Table1[[#This Row],[Non HZ Employee]],Table1[[#This Row],[Job Site Employee]],Table1[[#This Row],[Other Employee]])","v":0},{"$f":"IF(Table1[[#This Row],[Total Hours per Month]]=Table1[[#This Row],[Column12]],\"Match\",\"Error\")","v":"Match"},{"$f":"IF(Table1[[#This Row],[Calc 2]]=\"#NA\",\"#NA\",IF(Table1[[#This Row],[Non HZ Employee]]=Table1[[#This Row],[Max calc]],\"Non HZ Employee\", Table1[[#This Row],[Calc 2]]))","v":"#NA"}]
[1107,null,1107,{"$nulls":5},{"$f":"SUM(Table1[[#This Row],[Column4]]+Table1[[#This Row],[Column3]]+Table1[[#This Row],[Column2]]+Table1[[#This Row],[Column1]])","v":0},{"$nulls":5},{"$f":"SUM(Table1[[#This Row],[PO Employee]:[Other Employee]])","v":0},"N",{"$error":"#N/A"},{"$f":"IF(O1124>39,Table1[[#This Row],[Calc 1]],IF(O1124>1,\"Not counted as an Employee\",\"#NA\"))","v":"#NA"},{"$f":"MAX(Table1[[#This Row],[PO Employee]],Table1[[#This Row],[Other HZ Employee]],Table1[[#This Row],[Non HZ Employee]],Table1[[#This Row],[Job Site Employee]],Table1[[#This Row],[Other Employee]])","v":0},{"$f":"IF(Table1[[#This Row],[Total Hours per Month]]=Table1[[#This Row],[Column12]],\"Match\",\"Error\")","v":"Match"},{"$f":"IF(Table1[[#This Row],[Calc 2]]=\"#NA\",\"#NA\",IF(Table1[[#This Row],[Non HZ Employee]]=Table1[[#This Row],[Max calc]],\"Non HZ Employee\", Table1[[#This Row],[Calc 2]]))","v":"#NA"}]
[1108,null,1108,{"$nulls":5},{"$f":"SUM(Table1[[#This Row],[Column4]]+Table1[[#This Row],[Column3]]+Table1[[#This Row],[Column2]]+Table1[[#This Row],[Column1]])","v":0},{"$nulls":5},{"$f":"SUM(Table1[[#This Row],[PO Employee]:[Other Employee]])","v":0},"N",{"$error":"#N/A"},{"$f":"IF(O1125>39,Table1[[#This Row],[Calc 1]],IF(O1125>1,\"Not counted as an Employee\",\"#NA\"))","v":"#NA"},{"$f":"MAX(Table1[[#This Row],[PO Employee]],Table1[[#This Row],[Other HZ Employee]],Table1[[#This Row],[Non HZ Employee]],Table1[[#This Row],[Job Site Employee]],Table1[[#This Row],[Other Employee]])","v":0},{"$f":"IF(Table1[[#This Row],[Total Hours per Month]]=Table1[[#This Row],[Column12]],\"Match\",\"Error\")","v":"Match"},{"$f":"IF(Table1[[#This Row],[Calc 2]]=\"#NA\",\"#NA\",IF(Table1[[#This Row],[Non HZ Employee]]=Table1[[#This Row],[Max calc]],\"Non HZ Employee\", Table1[[#This Row],[Calc 2]]))","v":"#NA"}]
[1109,null,1109,{"$nulls":5},{"$f":"SUM(Table1[[#This Row],[Column4]]+Table1[[#This Row],[Column3]]+Table1[[#This Row],[Column2]]+Table1[[#This Row],[Column1]])","v":0},{"$nulls":5},{"$f":"SUM(Table1[[#This Row],[PO Employee]:[Other Employee]])","v":0},"N",{"$error":"#N/A"},{"$f":"IF(O1126>39,Table1[[#This Row],[Calc 1]],IF(O1126>1,\"Not counted as an Employee\",\"#NA\"))","v":"#NA"},{"$f":"MAX(Table1[[#This Row],[PO Employee]],Table1[[#This Row],[Other HZ Employee]],Table1[[#This Row],[Non HZ Employee]],Table1[[#This Row],[Job Site Employee]],Table1[[#This Row],[Other Employee]])","v":0},{"$f":"IF(Table1[[#This Row],[Total Hours per Month]]=Table1[[#This Row],[Column12]],\"Match\",\"Error\")","v":"Match"},{"$f":"IF(Table1[[#This Row],[Calc 2]]=\"#NA\",\"#NA\",IF(Table1[[#This Row],[Non HZ Employee]]=Table1[[#This Row],[Max calc]],\"Non HZ Employee\", Table1[[#This Row],[Calc 2]]))","v":"#NA"}]
[1110,null,1110,{"$nulls":5},{"$f":"SUM(Table1[[#This Row],[Column4]]+Table1[[#This Row],[Column3]]+Table1[[#This Row],[Column2]]+Table1[[#This Row],[Column1]])","v":0},{"$nulls":5},{"$f":"SUM(Table1[[#This Row],[PO Employee]:[Other Employee]])","v":0},"N",{"$error":"#N/A"},{"$f":"IF(O1127>39,Table1[[#This Row],[Calc 1]],IF(O1127>1,\"Not counted as an Employee\",\"#NA\"))","v":"#NA"},{"$f":"MAX(Table1[[#This Row],[PO Employee]],Table1[[#This Row],[Other HZ Employee]],Table1[[#This Row],[Non HZ Employee]],Table1[[#This Row],[Job Site Employee]],Table1[[#This Row],[Other Employee]])","v":0},{"$f":"IF(Table1[[#This Row],[Total Hours per Month]]=Table1[[#This Row],[Column12]],\"Match\",\"Error\")","v":"Match"},{"$f":"IF(Table1[[#This Row],[Calc 2]]=\"#NA\",\"#NA\",IF(Table1[[#This Row],[Non HZ Employee]]=Table1[[#This Row],[Max calc]],\"Non HZ Employee\", Table1[[#This Row],[Calc 2]]))","v":"#NA"}]
[1111,null,1111,{"$nulls":5},{"$f":"SUM(Table1[[#This Row],[Column4]]+Table1[[#This Row],[Column3]]+Table1[[#This Row],[Column2]]+Table1[[#This Row],[Column1]])","v":0},{"$nulls":5},{"$f":"SUM(Table1[[#This Row],[PO Employee]:[Other Employee]])","v":0},"N",{"$error":"#N/A"},{"$f":"IF(O1128>39,Table1[[#This Row],[Calc 1]],IF(O1128>1,\"Not counted as an Employee\",\"#NA\"))","v":"#NA"},{"$f":"MAX(Table1[[#This Row],[PO Employee]],Table1[[#This Row],[Other HZ Employee]],Table1[[#This Row],[Non HZ Employee]],Table1[[#This Row],[Job Site Employee]],Table1[[#This Row],[Other Employee]])","v":0},{"$f":"IF(Table1[[#This Row],[Total Hours per Month]]=Table1[[#This Row],[Column12]],\"Match\",\"Error\")","v":"Match"},{"$f":"IF(Table1[[#This Row],[Calc 2]]=\"#NA\",\"#NA\",IF(Table1[[#This Row],[Non HZ Employee]]=Table1[[#This Row],[Max calc]],\"Non HZ Employee\", Table1[[#This Row],[Calc 2]]))","v":"#NA"}]
[1112,null,1112,{"$nulls":5},{"$f":"SUM(Table1[[#This Row],[Column4]]+Table1[[#This Row],[Column3]]+Table1[[#This Row],[Column2]]+Table1[[#This Row],[Column1]])","v":0},{"$nulls":5},{"$f":"SUM(Table1[[#This Row],[PO Employee]:[Other Employee]])","v":0},"N",{"$error":"#N/A"},{"$f":"IF(O1129>39,Table1[[#This Row],[Calc 1]],IF(O1129>1,\"Not counted as an Employee\",\"#NA\"))","v":"#NA"},{"$f":"MAX(Table1[[#This Row],[PO Employee]],Table1[[#This Row],[Other HZ Employee]],Table1[[#This Row],[Non HZ Employee]],Table1[[#This Row],[Job Site Employee]],Table1[[#This Row],[Other Employee]])","v":0},{"$f":"IF(Table1[[#This Row],[Total Hours per Month]]=Table1[[#This Row],[Column12]],\"Match\",\"Error\")","v":"Match"},{"$f":"IF(Table1[[#This Row],[Calc 2]]=\"#NA\",\"#NA\",IF(Table1[[#This Row],[Non HZ Employee]]=Table1[[#This Row],[Max calc]],\"Non HZ Employee\", Table1[[#This Row],[Calc 2]]))","v":"#NA"}]
[1113,null,1113,{"$nulls":5},{"$f":"SUM(Table1[[#This Row],[Column4]]+Table1[[#This Row],[Column3]]+Table1[[#This Row],[Column2]]+Table1[[#This Row],[Column1]])","v":0},{"$nulls":5},{"$f":"SUM(Table1[[#This Row],[PO Employee]:[Other Employee]])","v":0},"N",{"$error":"#N/A"},{"$f":"IF(O1130>39,Table1[[#This Row],[Calc 1]],IF(O1130>1,\"Not counted as an Employee\",\"#NA\"))","v":"#NA"},{"$f":"MAX(Table1[[#This Row],[PO Employee]],Table1[[#This Row],[Other HZ Employee]],Table1[[#This Row],[Non HZ Employee]],Table1[[#This Row],[Job Site Employee]],Table1[[#This Row],[Other Employee]])","v":0},{"$f":"IF(Table1[[#This Row],[Total Hours per Month]]=Table1[[#This Row],[Column12]],\"Match\",\"Error\")","v":"Match"},{"$f":"IF(Table1[[#This Row],[Calc 2]]=\"#NA\",\"#NA\",IF(Table1[[#This Row],[Non HZ Employee]]=Table1[[#This Row],[Max calc]],\"Non HZ Employee\", Table1[[#This Row],[Calc 2]]))","v":"#NA"}]
[1114,null,1114,{"$nulls":5},{"$f":"SUM(Table1[[#This Row],[Column4]]+Table1[[#This Row],[Column3]]+Table1[[#This Row],[Column2]]+Table1[[#This Row],[Column1]])","v":0},{"$nulls":5},{"$f":"SUM(Table1[[#This Row],[PO Employee]:[Other Employee]])","v":0},"N",{"$error":"#N/A"},{"$f":"IF(O1131>39,Table1[[#This Row],[Calc 1]],IF(O1131>1,\"Not counted as an Employee\",\"#NA\"))","v":"#NA"},{"$f":"MAX(Table1[[#This Row],[PO Employee]],Table1[[#This Row],[Other HZ Employee]],Table1[[#This Row],[Non HZ Employee]],Table1[[#This Row],[Job Site Employee]],Table1[[#This Row],[Other Employee]])","v":0},{"$f":"IF(Table1[[#This Row],[Total Hours per Month]]=Table1[[#This Row],[Column12]],\"Match\",\"Error\")","v":"Match"},{"$f":"IF(Table1[[#This Row],[Calc 2]]=\"#NA\",\"#NA\",IF(Table1[[#This Row],[Non HZ Employee]]=Table1[[#This Row],[Max calc]],\"Non HZ Employee\", Table1[[#This Row],[Calc 2]]))","v":"#NA"}]
[1115,null,1115,{"$nulls":5},{"$f":"SUM(Table1[[#This Row],[Column4]]+Table1[[#This Row],[Column3]]+Table1[[#This Row],[Column2]]+Table1[[#This Row],[Column1]])","v":0},{"$nulls":5},{"$f":"SUM(Table1[[#This Row],[PO Employee]:[Other Employee]])","v":0},"N",{"$error":"#N/A"},{"$f":"IF(O1132>39,Table1[[#This Row],[Calc 1]],IF(O1132>1,\"Not counted as an Employee\",\"#NA\"))","v":"#NA"},{"$f":"MAX(Table1[[#This Row],[PO Employee]],Table1[[#This Row],[Other HZ Employee]],Table1[[#This Row],[Non HZ Employee]],Table1[[#This Row],[Job Site Employee]],Table1[[#This Row],[Other Employee]])","v":0},{"$f":"IF(Table1[[#This Row],[Total Hours per Month]]=Table1[[#This Row],[Column12]],\"Match\",\"Error\")","v":"Match"},{"$f":"IF(Table1[[#This Row],[Calc 2]]=\"#NA\",\"#NA\",IF(Table1[[#This Row],[Non HZ Employee]]=Table1[[#This Row],[Max calc]],\"Non HZ Employee\", Table1[[#This Row],[Calc 2]]))","v":"#NA"}]
[1116,null,1116,{"$nulls":5},{"$f":"SUM(Table1[[#This Row],[Column4]]+Table1[[#This Row],[Column3]]+Table1[[#This Row],[Column2]]+Table1[[#This Row],[Column1]])","v":0},{"$nulls":5},{"$f":"SUM(Table1[[#This Row],[PO Employee]:[Other Employee]])","v":0},"N",{"$error":"#N/A"},{"$f":"IF(O1133>39,Table1[[#This Row],[Calc 1]],IF(O1133>1,\"Not counted as an Employee\",\"#NA\"))","v":"#NA"},{"$f":"MAX(Table1[[#This Row],[PO Employee]],Table1[[#This Row],[Other HZ Employee]],Table1[[#This Row],[Non HZ Employee]],Table1[[#This Row],[Job Site Employee]],Table1[[#This Row],[Other Employee]])","v":0},{"$f":"IF(Table1[[#This Row],[Total Hours per Month]]=Table1[[#This Row],[Column12]],\"Match\",\"Error\")","v":"Match"},{"$f":"IF(Table1[[#This Row],[Calc 2]]=\"#NA\",\"#NA\",IF(Table1[[#This Row],[Non HZ Employee]]=Table1[[#This Row],[Max calc]],\"Non HZ Employee\", Table1[[#This Row],[Calc 2]]))","v":"#NA"}]
[1117,null,1117,{"$nulls":5},{"$f":"SUM(Table1[[#This Row],[Column4]]+Table1[[#This Row],[Column3]]+Table1[[#This Row],[Column2]]+Table1[[#This Row],[Column1]])","v":0},{"$nulls":5},{"$f":"SUM(Table1[[#This Row],[PO Employee]:[Other Employee]])","v":0},"N",{"$error":"#N/A"},{"$f":"IF(O1134>39,Table1[[#This Row],[Calc 1]],IF(O1134>1,\"Not counted as an Employee\",\"#NA\"))","v":"#NA"},{"$f":"MAX(Table1[[#This Row],[PO Employee]],Table1[[#This Row],[Other HZ Employee]],Table1[[#This Row],[Non HZ Employee]],Table1[[#This Row],[Job Site Employee]],Table1[[#This Row],[Other Employee]])","v":0},{"$f":"IF(Table1[[#This Row],[Total Hours per Month]]=Table1[[#This Row],[Column12]],\"Match\",\"Error\")","v":"Match"},{"$f":"IF(Table1[[#This Row],[Calc 2]]=\"#NA\",\"#NA\",IF(Table1[[#This Row],[Non HZ Employee]]=Table1[[#This Row],[Max calc]],\"Non HZ Employee\", Table1[[#This Row],[Calc 2]]))","v":"#NA"}]
[1118,null,1118,{"$nulls":5},{"$f":"SUM(Table1[[#This Row],[Column4]]+Table1[[#This Row],[Column3]]+Table1[[#This Row],[Column2]]+Table1[[#This Row],[Column1]])","v":0},{"$nulls":5},{"$f":"SUM(Table1[[#This Row],[PO Employee]:[Other Employee]])","v":0},"N",{"$error":"#N/A"},{"$f":"IF(O1135>39,Table1[[#This Row],[Calc 1]],IF(O1135>1,\"Not counted as an Employee\",\"#NA\"))","v":"#NA"},{"$f":"MAX(Table1[[#This Row],[PO Employee]],Table1[[#This Row],[Other HZ Employee]],Table1[[#This Row],[Non HZ Employee]],Table1[[#This Row],[Job Site Employee]],Table1[[#This Row],[Other Employee]])","v":0},{"$f":"IF(Table1[[#This Row],[Total Hours per Month]]=Table1[[#This Row],[Column12]],\"Match\",\"Error\")","v":"Match"},{"$f":"IF(Table1[[#This Row],[Calc 2]]=\"#NA\",\"#NA\",IF(Table1[[#This Row],[Non HZ Employee]]=Table1[[#This Row],[Max calc]],\"Non HZ Employee\", Table1[[#This Row],[Calc 2]]))","v":"#NA"}]
[1119,null,1119,{"$nulls":5},{"$f":"SUM(Table1[[#This Row],[Column4]]+Table1[[#This Row],[Column3]]+Table1[[#This Row],[Column2]]+Table1[[#This Row],[Column1]])","v":0},{"$nulls":5},{"$f":"SUM(Table1[[#This Row],[PO Employee]:[Other Employee]])","v":0},"N",{"$error":"#N/A"},{"$f":"IF(O1136>39,Table1[[#This Row],[Calc 1]],IF(O1136>1,\"Not counted as an Employee\",\"#NA\"))","v":"#NA"},{"$f":"MAX(Table1[[#This Row],[PO Employee]],Table1[[#This Row],[Other HZ Employee]],Table1[[#This Row],[Non HZ Employee]],Table1[[#This Row],[Job Site Employee]],Table1[[#This Row],[Other Employee]])","v":0},{"$f":"IF(Table1[[#This Row],[Total Hours per Month]]=Table1[[#This Row],[Column12]],\"Match\",\"Error\")","v":"Match"},{"$f":"IF(Table1[[#This Row],[Calc 2]]=\"#NA\",\"#NA\",IF(Table1[[#This Row],[Non HZ Employee]]=Table1[[#This Row],[Max calc]],\"Non HZ Employee\", Table1[[#This Row],[Calc 2]]))","v":"#NA"}]
[1120,null,1120,{"$nulls":5},{"$f":"SUM(Table1[[#This Row],[Column4]]+Table1[[#This Row],[Column3]]+Table1[[#This Row],[Column2]]+Table1[[#This Row],[Column1]])","v":0},{"$nulls":5},{"$f":"SUM(Table1[[#This Row],[PO Employee]:[Other Employee]])","v":0},"N",{"$error":"#N/A"},{"$f":"IF(O1137>39,Table1[[#This Row],[Calc 1]],IF(O1137>1,\"Not counted as an Employee\",\"#NA\"))","v":"#NA"},{"$f":"MAX(Table1[[#This Row],[PO Employee]],Table1[[#This Row],[Other HZ Employee]],Table1[[#This Row],[Non HZ Employee]],Table1[[#This Row],[Job Site Employee]],Table1[[#This Row],[Other Employee]])","v":0},{"$f":"IF(Table1[[#This Row],[Total Hours per Month]]=Table1[[#This Row],[Column12]],\"Match\",\"Error\")","v":"Match"},{"$f":"IF(Table1[[#This Row],[Calc 2]]=\"#NA\",\"#NA\",IF(Table1[[#This Row],[Non HZ Employee]]=Table1[[#This Row],[Max calc]],\"Non HZ Employee\", Table1[[#This Row],[Calc 2]]))","v":"#NA"}]
[1121,null,1121,{"$nulls":5},{"$f":"SUM(Table1[[#This Row],[Column4]]+Table1[[#This Row],[Column3]]+Table1[[#This Row],[Column2]]+Table1[[#This Row],[Column1]])","v":0},{"$nulls":5},{"$f":"SUM(Table1[[#This Row],[PO Employee]:[Other Employee]])","v":0},"N",{"$error":"#N/A"},{"$f":"IF(O1138>39,Table1[[#This Row],[Calc 1]],IF(O1138>1,\"Not counted as an Employee\",\"#NA\"))","v":"#NA"},{"$f":"MAX(Table1[[#This Row],[PO Employee]],Table1[[#This Row],[Other HZ Employee]],Table1[[#This Row],[Non HZ Employee]],Table1[[#This Row],[Job Site Employee]],Table1[[#This Row],[Other Employee]])","v":0},{"$f":"IF(Table1[[#This Row],[Total Hours per Month]]=Table1[[#This Row],[Column12]],\"Match\",\"Error\")","v":"Match"},{"$f":"IF(Table1[[#This Row],[Calc 2]]=\"#NA\",\"#NA\",IF(Table1[[#This Row],[Non HZ Employee]]=Table1[[#This Row],[Max calc]],\"Non HZ Employee\", Table1[[#This Row],[Calc 2]]))","v":"#NA"}]
[1122,null,1122,{"$nulls":5},{"$f":"SUM(Table1[[#This Row],[Column4]]+Table1[[#This Row],[Column3]]+Table1[[#This Row],[Column2]]+Table1[[#This Row],[Column1]])","v":0},{"$nulls":5},{"$f":"SUM(Table1[[#This Row],[PO Employee]:[Other Employee]])","v":0},"N",{"$error":"#N/A"},{"$f":"IF(O1139>39,Table1[[#This Row],[Calc 1]],IF(O1139>1,\"Not counted as an Employee\",\"#NA\"))","v":"#NA"},{"$f":"MAX(Table1[[#This Row],[PO Employee]],Table1[[#This Row],[Other HZ Employee]],Table1[[#This Row],[Non HZ Employee]],Table1[[#This Row],[Job Site Employee]],Table1[[#This Row],[Other Employee]])","v":0},{"$f":"IF(Table1[[#This Row],[Total Hours per Month]]=Table1[[#This Row],[Column12]],\"Match\",\"Error\")","v":"Match"},{"$f":"IF(Table1[[#This Row],[Calc 2]]=\"#NA\",\"#NA\",IF(Table1[[#This Row],[Non HZ Employee]]=Table1[[#This Row],[Max calc]],\"Non HZ Employee\", Table1[[#This Row],[Calc 2]]))","v":"#NA"}]
[1123,null,1123,{"$nulls":5},{"$f":"SUM(Table1[[#This Row],[Column4]]+Table1[[#This Row],[Column3]]+Table1[[#This Row],[Column2]]+Table1[[#This Row],[Column1]])","v":0},{"$nulls":5},{"$f":"SUM(Table1[[#This Row],[PO Employee]:[Other Employee]])","v":0},"N",{"$error":"#N/A"},{"$f":"IF(O1140>39,Table1[[#This Row],[Calc 1]],IF(O1140>1,\"Not counted as an Employee\",\"#NA\"))","v":"#NA"},{"$f":"MAX(Table1[[#This Row],[PO Employee]],Table1[[#This Row],[Other HZ Employee]],Table1[[#This Row],[Non HZ Employee]],Table1[[#This Row],[Job Site Employee]],Table1[[#This Row],[Other Employee]])","v":0},{"$f":"IF(Table1[[#This Row],[Total Hours per Month]]=Table1[[#This Row],[Column12]],\"Match\",\"Error\")","v":"Match"},{"$f":"IF(Table1[[#This Row],[Calc 2]]=\"#NA\",\"#NA\",IF(Table1[[#This Row],[Non HZ Employee]]=Table1[[#This Row],[Max calc]],\"Non HZ Employee\", Table1[[#This Row],[Calc 2]]))","v":"#NA"}]
[1124,null,1124,{"$nulls":5},{"$f":"SUM(Table1[[#This Row],[Column4]]+Table1[[#This Row],[Column3]]+Table1[[#This Row],[Column2]]+Table1[[#This Row],[Column1]])","v":0},{"$nulls":5},{"$f":"SUM(Table1[[#This Row],[PO Employee]:[Other Employee]])","v":0},"N",{"$error":"#N/A"},{"$f":"IF(O1141>39,Table1[[#This Row],[Calc 1]],IF(O1141>1,\"Not counted as an Employee\",\"#NA\"))","v":"#NA"},{"$f":"MAX(Table1[[#This Row],[PO Employee]],Table1[[#This Row],[Other HZ Employee]],Table1[[#This Row],[Non HZ Employee]],Table1[[#This Row],[Job Site Employee]],Table1[[#This Row],[Other Employee]])","v":0},{"$f":"IF(Table1[[#This Row],[Total Hours per Month]]=Table1[[#This Row],[Column12]],\"Match\",\"Error\")","v":"Match"},{"$f":"IF(Table1[[#This Row],[Calc 2]]=\"#NA\",\"#NA\",IF(Table1[[#This Row],[Non HZ Employee]]=Table1[[#This Row],[Max calc]],\"Non HZ Employee\", Table1[[#This Row],[Calc 2]]))","v":"#NA"}]
[1125,null,1125,{"$nulls":5},{"$f":"SUM(Table1[[#This Row],[Column4]]+Table1[[#This Row],[Column3]]+Table1[[#This Row],[Column2]]+Table1[[#This Row],[Column1]])","v":0},{"$nulls":5},{"$f":"SUM(Table1[[#This Row],[PO Employee]:[Other Employee]])","v":0},"N",{"$error":"#N/A"},{"$f":"IF(O1142>39,Table1[[#This Row],[Calc 1]],IF(O1142>1,\"Not counted as an Employee\",\"#NA\"))","v":"#NA"},{"$f":"MAX(Table1[[#This Row],[PO Employee]],Table1[[#This Row],[Other HZ Employee]],Table1[[#This Row],[Non HZ Employee]],Table1[[#This Row],[Job Site Employee]],Table1[[#This Row],[Other Employee]])","v":0},{"$f":"IF(Table1[[#This Row],[Total Hours per Month]]=Table1[[#This Row],[Column12]],\"Match\",\"Error\")","v":"Match"},{"$f":"IF(Table1[[#This Row],[Calc 2]]=\"#NA\",\"#NA\",IF(Table1[[#This Row],[Non HZ Employee]]=Table1[[#This Row],[Max calc]],\"Non HZ Employee\", Table1[[#This Row],[Calc 2]]))","v":"#NA"}]
[1126,null,1126,{"$nulls":5},{"$f":"SUM(Table1[[#This Row],[Column4]]+Table1[[#This Row],[Column3]]+Table1[[#This Row],[Column2]]+Table1[[#This Row],[Column1]])","v":0},{"$nulls":5},{"$f":"SUM(Table1[[#This Row],[PO Employee]:[Other Employee]])","v":0},"N",{"$error":"#N/A"},{"$f":"IF(O1143>39,Table1[[#This Row],[Calc 1]],IF(O1143>1,\"Not counted as an Employee\",\"#NA\"))","v":"#NA"},{"$f":"MAX(Table1[[#This Row],[PO Employee]],Table1[[#This Row],[Other HZ Employee]],Table1[[#This Row],[Non HZ Employee]],Table1[[#This Row],[Job Site Employee]],Table1[[#This Row],[Other Employee]])","v":0},{"$f":"IF(Table1[[#This Row],[Total Hours per Month]]=Table1[[#This Row],[Column12]],\"Match\",\"Error\")","v":"Match"},{"$f":"IF(Table1[[#This Row],[Calc 2]]=\"#NA\",\"#NA\",IF(Table1[[#This Row],[Non HZ Employee]]=Table1[[#This Row],[Max calc]],\"Non HZ Employee\", Table1[[#This Row],[Calc 2]]))","v":"#NA"}]
[1127,null,1127,{"$nulls":5},{"$f":"SUM(Table1[[#This Row],[Column4]]+Table1[[#This Row],[Column3]]+Table1[[#This Row],[Column2]]+Table1[[#This Row],[Column1]])","v":0},{"$nulls":5},{"$f":"SUM(Table1[[#This Row],[PO Employee]:[Other Employee]])","v":0},"N",{"$error":"#N/A"},{"$f":"IF(O1144>39,Table1[[#This Row],[Calc 1]],IF(O1144>1,\"Not counted as an Employee\",\"#NA\"))","v":"#NA"},{"$f":"MAX(Table1[[#This Row],[PO Employee]],Table1[[#This Row],[Other HZ Employee]],Table1[[#This Row],[Non HZ Employee]],Table1[[#This Row],[Job Site Employee]],Table1[[#This Row],[Other Employee]])","v":0},{"$f":"IF(Table1[[#This Row],[Total Hours per Month]]=Table1[[#This Row],[Column12]],\"Match\",\"Error\")","v":"Match"},{"$f":"IF(Table1[[#This Row],[Calc 2]]=\"#NA\",\"#NA\",IF(Table1[[#This Row],[Non HZ Employee]]=Table1[[#This Row],[Max calc]],\"Non HZ Employee\", Table1[[#This Row],[Calc 2]]))","v":"#NA"}]
[1128,null,1128,{"$nulls":5},{"$f":"SUM(Table1[[#This Row],[Column4]]+Table1[[#This Row],[Column3]]+Table1[[#This Row],[Column2]]+Table1[[#This Row],[Column1]])","v":0},{"$nulls":5},{"$f":"SUM(Table1[[#This Row],[PO Employee]:[Other Employee]])","v":0},"N",{"$error":"#N/A"},{"$f":"IF(O1145>39,Table1[[#This Row],[Calc 1]],IF(O1145>1,\"Not counted as an Employee\",\"#NA\"))","v":"#NA"},{"$f":"MAX(Table1[[#This Row],[PO Employee]],Table1[[#This Row],[Other HZ Employee]],Table1[[#This Row],[Non HZ Employee]],Table1[[#This Row],[Job Site Employee]],Table1[[#This Row],[Other Employee]])","v":0},{"$f":"IF(Table1[[#This Row],[Total Hours per Month]]=Table1[[#This Row],[Column12]],\"Match\",\"Error\")","v":"Match"},{"$f":"IF(Table1[[#This Row],[Calc 2]]=\"#NA\",\"#NA\",IF(Table1[[#This Row],[Non HZ Employee]]=Table1[[#This Row],[Max calc]],\"Non HZ Employee\", Table1[[#This Row],[Calc 2]]))","v":"#NA"}]
[1129,null,1129,{"$nulls":5},{"$f":"SUM(Table1[[#This Row],[Column4]]+Table1[[#This Row],[Column3]]+Table1[[#This Row],[Column2]]+Table1[[#This Row],[Column1]])","v":0},{"$nulls":5},{"$f":"SUM(Table1[[#This Row],[PO Employee]:[Other Employee]])","v":0},"N",{"$error":"#N/A"},{"$f":"IF(O1146>39,Table1[[#This Row],[Calc 1]],IF(O1146>1,\"Not counted as an Employee\",\"#NA\"))","v":"#NA"},{"$f":"MAX(Table1[[#This Row],[PO Employee]],Table1[[#This Row],[Other HZ Employee]],Table1[[#This Row],[Non HZ Employee]],Table1[[#This Row],[Job Site Employee]],Table1[[#This Row],[Other Employee]])","v":0},{"$f":"IF(Table1[[#This Row],[Total Hours per Month]]=Table1[[#This Row],[Column12]],\"Match\",\"Error\")","v":"Match"},{"$f":"IF(Table1[[#This Row],[Calc 2]]=\"#NA\",\"#NA\",IF(Table1[[#This Row],[Non HZ Employee]]=Table1[[#This Row],[Max calc]],\"Non HZ Employee\", Table1[[#This Row],[Calc 2]]))","v":"#NA"}]
[1130,null,1130,{"$nulls":5},{"$f":"SUM(Table1[[#This Row],[Column4]]+Table1[[#This Row],[Column3]]+Table1[[#This Row],[Column2]]+Table1[[#This Row],[Column1]])","v":0},{"$nulls":5},{"$f":"SUM(Table1[[#This Row],[PO Employee]:[Other Employee]])","v":0},"N",{"$error":"#N/A"},{"$f":"IF(O1147>39,Table1[[#This Row],[Calc 1]],IF(O1147>1,\"Not counted as an Employee\",\"#NA\"))","v":"#NA"},{"$f":"MAX(Table1[[#This Row],[PO Employee]],Table1[[#This Row],[Other HZ Employee]],Table1[[#This Row],[Non HZ Employee]],Table1[[#This Row],[Job Site Employee]],Table1[[#This Row],[Other Employee]])","v":0},{"$f":"IF(Table1[[#This Row],[Total Hours per Month]]=Table1[[#This Row],[Column12]],\"Match\",\"Error\")","v":"Match"},{"$f":"IF(Table1[[#This Row],[Calc 2]]=\"#NA\",\"#NA\",IF(Table1[[#This Row],[Non HZ Employee]]=Table1[[#This Row],[Max calc]],\"Non HZ Employee\", Table1[[#This Row],[Calc 2]]))","v":"#NA"}]
[1131,null,1131,{"$nulls":5},{"$f":"SUM(Table1[[#This Row],[Column4]]+Table1[[#This Row],[Column3]]+Table1[[#This Row],[Column2]]+Table1[[#This Row],[Column1]])","v":0},{"$nulls":5},{"$f":"SUM(Table1[[#This Row],[PO Employee]:[Other Employee]])","v":0},"N",{"$error":"#N/A"},{"$f":"IF(O1148>39,Table1[[#This Row],[Calc 1]],IF(O1148>1,\"Not counted as an Employee\",\"#NA\"))","v":"#NA"},{"$f":"MAX(Table1[[#This Row],[PO Employee]],Table1[[#This Row],[Other HZ Employee]],Table1[[#This Row],[Non HZ Employee]],Table1[[#This Row],[Job Site Employee]],Table1[[#This Row],[Other Employee]])","v":0},{"$f":"IF(Table1[[#This Row],[Total Hours per Month]]=Table1[[#This Row],[Column12]],\"Match\",\"Error\")","v":"Match"},{"$f":"IF(Table1[[#This Row],[Calc 2]]=\"#NA\",\"#NA\",IF(Table1[[#This Row],[Non HZ Employee]]=Table1[[#This Row],[Max calc]],\"Non HZ Employee\", Table1[[#This Row],[Calc 2]]))","v":"#NA"}]
[1132,null,1132,{"$nulls":5},{"$f":"SUM(Table1[[#This Row],[Column4]]+Table1[[#This Row],[Column3]]+Table1[[#This Row],[Column2]]+Table1[[#This Row],[Column1]])","v":0},{"$nulls":5},{"$f":"SUM(Table1[[#This Row],[PO Employee]:[Other Employee]])","v":0},"N",{"$error":"#N/A"},{"$f":"IF(O1149>39,Table1[[#This Row],[Calc 1]],IF(O1149>1,\"Not counted as an Employee\",\"#NA\"))","v":"#NA"},{"$f":"MAX(Table1[[#This Row],[PO Employee]],Table1[[#This Row],[Other HZ Employee]],Table1[[#This Row],[Non HZ Employee]],Table1[[#This Row],[Job Site Employee]],Table1[[#This Row],[Other Employee]])","v":0},{"$f":"IF(Table1[[#This Row],[Total Hours per Month]]=Table1[[#This Row],[Column12]],\"Match\",\"Error\")","v":"Match"},{"$f":"IF(Table1[[#This Row],[Calc 2]]=\"#NA\",\"#NA\",IF(Table1[[#This Row],[Non HZ Employee]]=Table1[[#This Row],[Max calc]],\"Non HZ Employee\", Table1[[#This Row],[Calc 2]]))","v":"#NA"}]
[1133,null,1133,{"$nulls":5},{"$f":"SUM(Table1[[#This Row],[Column4]]+Table1[[#This Row],[Column3]]+Table1[[#This Row],[Column2]]+Table1[[#This Row],[Column1]])","v":0},{"$nulls":5},{"$f":"SUM(Table1[[#This Row],[PO Employee]:[Other Employee]])","v":0},"N",{"$error":"#N/A"},{"$f":"IF(O1150>39,Table1[[#This Row],[Calc 1]],IF(O1150>1,\"Not counted as an Employee\",\"#NA\"))","v":"#NA"},{"$f":"MAX(Table1[[#This Row],[PO Employee]],Table1[[#This Row],[Other HZ Employee]],Table1[[#This Row],[Non HZ Employee]],Table1[[#This Row],[Job Site Employee]],Table1[[#This Row],[Other Employee]])","v":0},{"$f":"IF(Table1[[#This Row],[Total Hours per Month]]=Table1[[#This Row],[Column12]],\"Match\",\"Error\")","v":"Match"},{"$f":"IF(Table1[[#This Row],[Calc 2]]=\"#NA\",\"#NA\",IF(Table1[[#This Row],[Non HZ Employee]]=Table1[[#This Row],[Max calc]],\"Non HZ Employee\", Table1[[#This Row],[Calc 2]]))","v":"#NA"}]
[1134,null,1134,{"$nulls":5},{"$f":"SUM(Table1[[#This Row],[Column4]]+Table1[[#This Row],[Column3]]+Table1[[#This Row],[Column2]]+Table1[[#This Row],[Column1]])","v":0},{"$nulls":5},{"$f":"SUM(Table1[[#This Row],[PO Employee]:[Other Employee]])","v":0},"N",{"$error":"#N/A"},{"$f":"IF(O1151>39,Table1[[#This Row],[Calc 1]],IF(O1151>1,\"Not counted as an Employee\",\"#NA\"))","v":"#NA"},{"$f":"MAX(Table1[[#This Row],[PO Employee]],Table1[[#This Row],[Other HZ Employee]],Table1[[#This Row],[Non HZ Employee]],Table1[[#This Row],[Job Site Employee]],Table1[[#This Row],[Other Employee]])","v":0},{"$f":"IF(Table1[[#This Row],[Total Hours per Month]]=Table1[[#This Row],[Column12]],\"Match\",\"Error\")","v":"Match"},{"$f":"IF(Table1[[#This Row],[Calc 2]]=\"#NA\",\"#NA\",IF(Table1[[#This Row],[Non HZ Employee]]=Table1[[#This Row],[Max calc]],\"Non HZ Employee\", Table1[[#This Row],[Calc 2]]))","v":"#NA"}]
[1135,null,1135,{"$nulls":5},{"$f":"SUM(Table1[[#This Row],[Column4]]+Table1[[#This Row],[Column3]]+Table1[[#This Row],[Column2]]+Table1[[#This Row],[Column1]])","v":0},{"$nulls":5},{"$f":"SUM(Table1[[#This Row],[PO Employee]:[Other Employee]])","v":0},"N",{"$error":"#N/A"},{"$f":"IF(O1152>39,Table1[[#This Row],[Calc 1]],IF(O1152>1,\"Not counted as an Employee\",\"#NA\"))","v":"#NA"},{"$f":"MAX(Table1[[#This Row],[PO Employee]],Table1[[#This Row],[Other HZ Employee]],Table1[[#This Row],[Non HZ Employee]],Table1[[#This Row],[Job Site Employee]],Table1[[#This Row],[Other Employee]])","v":0},{"$f":"IF(Table1[[#This Row],[Total Hours per Month]]=Table1[[#This Row],[Column12]],\"Match\",\"Error\")","v":"Match"},{"$f":"IF(Table1[[#This Row],[Calc 2]]=\"#NA\",\"#NA\",IF(Table1[[#This Row],[Non HZ Employee]]=Table1[[#This Row],[Max calc]],\"Non HZ Employee\", Table1[[#This Row],[Calc 2]]))","v":"#NA"}]
[1136,null,1136,{"$nulls":5},{"$f":"SUM(Table1[[#This Row],[Column4]]+Table1[[#This Row],[Column3]]+Table1[[#This Row],[Column2]]+Table1[[#This Row],[Column1]])","v":0},{"$nulls":5},{"$f":"SUM(Table1[[#This Row],[PO Employee]:[Other Employee]])","v":0},"N",{"$error":"#N/A"},{"$f":"IF(O1153>39,Table1[[#This Row],[Calc 1]],IF(O1153>1,\"Not counted as an Employee\",\"#NA\"))","v":"#NA"},{"$f":"MAX(Table1[[#This Row],[PO Employee]],Table1[[#This Row],[Other HZ Employee]],Table1[[#This Row],[Non HZ Employee]],Table1[[#This Row],[Job Site Employee]],Table1[[#This Row],[Other Employee]])","v":0},{"$f":"IF(Table1[[#This Row],[Total Hours per Month]]=Table1[[#This Row],[Column12]],\"Match\",\"Error\")","v":"Match"},{"$f":"IF(Table1[[#This Row],[Calc 2]]=\"#NA\",\"#NA\",IF(Table1[[#This Row],[Non HZ Employee]]=Table1[[#This Row],[Max calc]],\"Non HZ Employee\", Table1[[#This Row],[Calc 2]]))","v":"#NA"}]
[1137,null,1137,{"$nulls":5},{"$f":"SUM(Table1[[#This Row],[Column4]]+Table1[[#This Row],[Column3]]+Table1[[#This Row],[Column2]]+Table1[[#This Row],[Column1]])","v":0},{"$nulls":5},{"$f":"SUM(Table1[[#This Row],[PO Employee]:[Other Employee]])","v":0},"N",{"$error":"#N/A"},{"$f":"IF(O1154>39,Table1[[#This Row],[Calc 1]],IF(O1154>1,\"Not counted as an Employee\",\"#NA\"))","v":"#NA"},{"$f":"MAX(Table1[[#This Row],[PO Employee]],Table1[[#This Row],[Other HZ Employee]],Table1[[#This Row],[Non HZ Employee]],Table1[[#This Row],[Job Site Employee]],Table1[[#This Row],[Other Employee]])","v":0},{"$f":"IF(Table1[[#This Row],[Total Hours per Month]]=Table1[[#This Row],[Column12]],\"Match\",\"Error\")","v":"Match"},{"$f":"IF(Table1[[#This Row],[Calc 2]]=\"#NA\",\"#NA\",IF(Table1[[#This Row],[Non HZ Employee]]=Table1[[#This Row],[Max calc]],\"Non HZ Employee\", Table1[[#This Row],[Calc 2]]))","v":"#NA"}]
[1138,null,1138,{"$nulls":5},{"$f":"SUM(Table1[[#This Row],[Column4]]+Table1[[#This Row],[Column3]]+Table1[[#This Row],[Column2]]+Table1[[#This Row],[Column1]])","v":0},{"$nulls":5},{"$f":"SUM(Table1[[#This Row],[PO Employee]:[Other Employee]])","v":0},"N",{"$error":"#N/A"},{"$f":"IF(O1155>39,Table1[[#This Row],[Calc 1]],IF(O1155>1,\"Not counted as an Employee\",\"#NA\"))","v":"#NA"},{"$f":"MAX(Table1[[#This Row],[PO Employee]],Table1[[#This Row],[Other HZ Employee]],Table1[[#This Row],[Non HZ Employee]],Table1[[#This Row],[Job Site Employee]],Table1[[#This Row],[Other Employee]])","v":0},{"$f":"IF(Table1[[#This Row],[Total Hours per Month]]=Table1[[#This Row],[Column12]],\"Match\",\"Error\")","v":"Match"},{"$f":"IF(Table1[[#This Row],[Calc 2]]=\"#NA\",\"#NA\",IF(Table1[[#This Row],[Non HZ Employee]]=Table1[[#This Row],[Max calc]],\"Non HZ Employee\", Table1[[#This Row],[Calc 2]]))","v":"#NA"}]
[1139,null,1139,{"$nulls":5},{"$f":"SUM(Table1[[#This Row],[Column4]]+Table1[[#This Row],[Column3]]+Table1[[#This Row],[Column2]]+Table1[[#This Row],[Column1]])","v":0},{"$nulls":5},{"$f":"SUM(Table1[[#This Row],[PO Employee]:[Other Employee]])","v":0},"N",{"$error":"#N/A"},{"$f":"IF(O1156>39,Table1[[#This Row],[Calc 1]],IF(O1156>1,\"Not counted as an Employee\",\"#NA\"))","v":"#NA"},{"$f":"MAX(Table1[[#This Row],[PO Employee]],Table1[[#This Row],[Other HZ Employee]],Table1[[#This Row],[Non HZ Employee]],Table1[[#This Row],[Job Site Employee]],Table1[[#This Row],[Other Employee]])","v":0},{"$f":"IF(Table1[[#This Row],[Total Hours per Month]]=Table1[[#This Row],[Column12]],\"Match\",\"Error\")","v":"Match"},{"$f":"IF(Table1[[#This Row],[Calc 2]]=\"#NA\",\"#NA\",IF(Table1[[#This Row],[Non HZ Employee]]=Table1[[#This Row],[Max calc]],\"Non HZ Employee\", Table1[[#This Row],[Calc 2]]))","v":"#NA"}]
[1140,null,1140,{"$nulls":5},{"$f":"SUM(Table1[[#This Row],[Column4]]+Table1[[#This Row],[Column3]]+Table1[[#This Row],[Column2]]+Table1[[#This Row],[Column1]])","v":0},{"$nulls":5},{"$f":"SUM(Table1[[#This Row],[PO Employee]:[Other Employee]])","v":0},"N",{"$error":"#N/A"},{"$f":"IF(O1157>39,Table1[[#This Row],[Calc 1]],IF(O1157>1,\"Not counted as an Employee\",\"#NA\"))","v":"#NA"},{"$f":"MAX(Table1[[#This Row],[PO Employee]],Table1[[#This Row],[Other HZ Employee]],Table1[[#This Row],[Non HZ Employee]],Table1[[#This Row],[Job Site Employee]],Table1[[#This Row],[Other Employee]])","v":0},{"$f":"IF(Table1[[#This Row],[Total Hours per Month]]=Table1[[#This Row],[Column12]],\"Match\",\"Error\")","v":"Match"},{"$f":"IF(Table1[[#This Row],[Calc 2]]=\"#NA\",\"#NA\",IF(Table1[[#This Row],[Non HZ Employee]]=Table1[[#This Row],[Max calc]],\"Non HZ Employee\", Table1[[#This Row],[Calc 2]]))","v":"#NA"}]
[1141,null,1141,{"$nulls":5},{"$f":"SUM(Table1[[#This Row],[Column4]]+Table1[[#This Row],[Column3]]+Table1[[#This Row],[Column2]]+Table1[[#This Row],[Column1]])","v":0},{"$nulls":5},{"$f":"SUM(Table1[[#This Row],[PO Employee]:[Other Employee]])","v":0},"N",{"$error":"#N/A"},{"$f":"IF(O1158>39,Table1[[#This Row],[Calc 1]],IF(O1158>1,\"Not counted as an Employee\",\"#NA\"))","v":"#NA"},{"$f":"MAX(Table1[[#This Row],[PO Employee]],Table1[[#This Row],[Other HZ Employee]],Table1[[#This Row],[Non HZ Employee]],Table1[[#This Row],[Job Site Employee]],Table1[[#This Row],[Other Employee]])","v":0},{"$f":"IF(Table1[[#This Row],[Total Hours per Month]]=Table1[[#This Row],[Column12]],\"Match\",\"Error\")","v":"Match"},{"$f":"IF(Table1[[#This Row],[Calc 2]]=\"#NA\",\"#NA\",IF(Table1[[#This Row],[Non HZ Employee]]=Table1[[#This Row],[Max calc]],\"Non HZ Employee\", Table1[[#This Row],[Calc 2]]))","v":"#NA"}]
[1142,null,1142,{"$nulls":5},{"$f":"SUM(Table1[[#This Row],[Column4]]+Table1[[#This Row],[Column3]]+Table1[[#This Row],[Column2]]+Table1[[#This Row],[Column1]])","v":0},{"$nulls":5},{"$f":"SUM(Table1[[#This Row],[PO Employee]:[Other Employee]])","v":0},"N",{"$error":"#N/A"},{"$f":"IF(O1159>39,Table1[[#This Row],[Calc 1]],IF(O1159>1,\"Not counted as an Employee\",\"#NA\"))","v":"#NA"},{"$f":"MAX(Table1[[#This Row],[PO Employee]],Table1[[#This Row],[Other HZ Employee]],Table1[[#This Row],[Non HZ Employee]],Table1[[#This Row],[Job Site Employee]],Table1[[#This Row],[Other Employee]])","v":0},{"$f":"IF(Table1[[#This Row],[Total Hours per Month]]=Table1[[#This Row],[Column12]],\"Match\",\"Error\")","v":"Match"},{"$f":"IF(Table1[[#This Row],[Calc 2]]=\"#NA\",\"#NA\",IF(Table1[[#This Row],[Non HZ Employee]]=Table1[[#This Row],[Max calc]],\"Non HZ Employee\", Table1[[#This Row],[Calc 2]]))","v":"#NA"}]
[1143,null,1143,{"$nulls":5},{"$f":"SUM(Table1[[#This Row],[Column4]]+Table1[[#This Row],[Column3]]+Table1[[#This Row],[Column2]]+Table1[[#This Row],[Column1]])","v":0},{"$nulls":5},{"$f":"SUM(Table1[[#This Row],[PO Employee]:[Other Employee]])","v":0},"N",{"$error":"#N/A"},{"$f":"IF(O1160>39,Table1[[#This Row],[Calc 1]],IF(O1160>1,\"Not counted as an Employee\",\"#NA\"))","v":"#NA"},{"$f":"MAX(Table1[[#This Row],[PO Employee]],Table1[[#This Row],[Other HZ Employee]],Table1[[#This Row],[Non HZ Employee]],Table1[[#This Row],[Job Site Employee]],Table1[[#This Row],[Other Employee]])","v":0},{"$f":"IF(Table1[[#This Row],[Total Hours per Month]]=Table1[[#This Row],[Column12]],\"Match\",\"Error\")","v":"Match"},{"$f":"IF(Table1[[#This Row],[Calc 2]]=\"#NA\",\"#NA\",IF(Table1[[#This Row],[Non HZ Employee]]=Table1[[#This Row],[Max calc]],\"Non HZ Employee\", Table1[[#This Row],[Calc 2]]))","v":"#NA"}]
[1144,null,1144,{"$nulls":5},{"$f":"SUM(Table1[[#This Row],[Column4]]+Table1[[#This Row],[Column3]]+Table1[[#This Row],[Column2]]+Table1[[#This Row],[Column1]])","v":0},{"$nulls":5},{"$f":"SUM(Table1[[#This Row],[PO Employee]:[Other Employee]])","v":0},"N",{"$error":"#N/A"},{"$f":"IF(O1161>39,Table1[[#This Row],[Calc 1]],IF(O1161>1,\"Not counted as an Employee\",\"#NA\"))","v":"#NA"},{"$f":"MAX(Table1[[#This Row],[PO Employee]],Table1[[#This Row],[Other HZ Employee]],Table1[[#This Row],[Non HZ Employee]],Table1[[#This Row],[Job Site Employee]],Table1[[#This Row],[Other Employee]])","v":0},{"$f":"IF(Table1[[#This Row],[Total Hours per Month]]=Table1[[#This Row],[Column12]],\"Match\",\"Error\")","v":"Match"},{"$f":"IF(Table1[[#This Row],[Calc 2]]=\"#NA\",\"#NA\",IF(Table1[[#This Row],[Non HZ Employee]]=Table1[[#This Row],[Max calc]],\"Non HZ Employee\", Table1[[#This Row],[Calc 2]]))","v":"#NA"}]
[1145,null,1145,{"$nulls":5},{"$f":"SUM(Table1[[#This Row],[Column4]]+Table1[[#This Row],[Column3]]+Table1[[#This Row],[Column2]]+Table1[[#This Row],[Column1]])","v":0},{"$nulls":5},{"$f":"SUM(Table1[[#This Row],[PO Employee]:[Other Employee]])","v":0},"N",{"$error":"#N/A"},{"$f":"IF(O1162>39,Table1[[#This Row],[Calc 1]],IF(O1162>1,\"Not counted as an Employee\",\"#NA\"))","v":"#NA"},{"$f":"MAX(Table1[[#This Row],[PO Employee]],Table1[[#This Row],[Other HZ Employee]],Table1[[#This Row],[Non HZ Employee]],Table1[[#This Row],[Job Site Employee]],Table1[[#This Row],[Other Employee]])","v":0},{"$f":"IF(Table1[[#This Row],[Total Hours per Month]]=Table1[[#This Row],[Column12]],\"Match\",\"Error\")","v":"Match"},{"$f":"IF(Table1[[#This Row],[Calc 2]]=\"#NA\",\"#NA\",IF(Table1[[#This Row],[Non HZ Employee]]=Table1[[#This Row],[Max calc]],\"Non HZ Employee\", Table1[[#This Row],[Calc 2]]))","v":"#NA"}]
[1146,null,1146,{"$nulls":5},{"$f":"SUM(Table1[[#This Row],[Column4]]+Table1[[#This Row],[Column3]]+Table1[[#This Row],[Column2]]+Table1[[#This Row],[Column1]])","v":0},{"$nulls":5},{"$f":"SUM(Table1[[#This Row],[PO Employee]:[Other Employee]])","v":0},"N",{"$error":"#N/A"},{"$f":"IF(O1163>39,Table1[[#This Row],[Calc 1]],IF(O1163>1,\"Not counted as an Employee\",\"#NA\"))","v":"#NA"},{"$f":"MAX(Table1[[#This Row],[PO Employee]],Table1[[#This Row],[Other HZ Employee]],Table1[[#This Row],[Non HZ Employee]],Table1[[#This Row],[Job Site Employee]],Table1[[#This Row],[Other Employee]])","v":0},{"$f":"IF(Table1[[#This Row],[Total Hours per Month]]=Table1[[#This Row],[Column12]],\"Match\",\"Error\")","v":"Match"},{"$f":"IF(Table1[[#This Row],[Calc 2]]=\"#NA\",\"#NA\",IF(Table1[[#This Row],[Non HZ Employee]]=Table1[[#This Row],[Max calc]],\"Non HZ Employee\", Table1[[#This Row],[Calc 2]]))","v":"#NA"}]
[1147,null,1147,{"$nulls":5},{"$f":"SUM(Table1[[#This Row],[Column4]]+Table1[[#This Row],[Column3]]+Table1[[#This Row],[Column2]]+Table1[[#This Row],[Column1]])","v":0},{"$nulls":5},{"$f":"SUM(Table1[[#This Row],[PO Employee]:[Other Employee]])","v":0},"N",{"$error":"#N/A"},{"$f":"IF(O1164>39,Table1[[#This Row],[Calc 1]],IF(O1164>1,\"Not counted as an Employee\",\"#NA\"))","v":"#NA"},{"$f":"MAX(Table1[[#This Row],[PO Employee]],Table1[[#This Row],[Other HZ Employee]],Table1[[#This Row],[Non HZ Employee]],Table1[[#This Row],[Job Site Employee]],Table1[[#This Row],[Other Employee]])","v":0},{"$f":"IF(Table1[[#This Row],[Total Hours per Month]]=Table1[[#This Row],[Column12]],\"Match\",\"Error\")","v":"Match"},{"$f":"IF(Table1[[#This Row],[Calc 2]]=\"#NA\",\"#NA\",IF(Table1[[#This Row],[Non HZ Employee]]=Table1[[#This Row],[Max calc]],\"Non HZ Employee\", Table1[[#This Row],[Calc 2]]))","v":"#NA"}]
[1148,null,1148,{"$nulls":5},{"$f":"SUM(Table1[[#This Row],[Column4]]+Table1[[#This Row],[Column3]]+Table1[[#This Row],[Column2]]+Table1[[#This Row],[Column1]])","v":0},{"$nulls":5},{"$f":"SUM(Table1[[#This Row],[PO Employee]:[Other Employee]])","v":0},"N",{"$error":"#N/A"},{"$f":"IF(O1165>39,Table1[[#This Row],[Calc 1]],IF(O1165>1,\"Not counted as an Employee\",\"#NA\"))","v":"#NA"},{"$f":"MAX(Table1[[#This Row],[PO Employee]],Table1[[#This Row],[Other HZ Employee]],Table1[[#This Row],[Non HZ Employee]],Table1[[#This Row],[Job Site Employee]],Table1[[#This Row],[Other Employee]])","v":0},{"$f":"IF(Table1[[#This Row],[Total Hours per Month]]=Table1[[#This Row],[Column12]],\"Match\",\"Error\")","v":"Match"},{"$f":"IF(Table1[[#This Row],[Calc 2]]=\"#NA\",\"#NA\",IF(Table1[[#This Row],[Non HZ Employee]]=Table1[[#This Row],[Max calc]],\"Non HZ Employee\", Table1[[#This Row],[Calc 2]]))","v":"#NA"}]
[1149,null,1149,{"$nulls":5},{"$f":"SUM(Table1[[#This Row],[Column4]]+Table1[[#This Row],[Column3]]+Table1[[#This Row],[Column2]]+Table1[[#This Row],[Column1]])","v":0},{"$nulls":5},{"$f":"SUM(Table1[[#This Row],[PO Employee]:[Other Employee]])","v":0},"N",{"$error":"#N/A"},{"$f":"IF(O1166>39,Table1[[#This Row],[Calc 1]],IF(O1166>1,\"Not counted as an Employee\",\"#NA\"))","v":"#NA"},{"$f":"MAX(Table1[[#This Row],[PO Employee]],Table1[[#This Row],[Other HZ Employee]],Table1[[#This Row],[Non HZ Employee]],Table1[[#This Row],[Job Site Employee]],Table1[[#This Row],[Other Employee]])","v":0},{"$f":"IF(Table1[[#This Row],[Total Hours per Month]]=Table1[[#This Row],[Column12]],\"Match\",\"Error\")","v":"Match"},{"$f":"IF(Table1[[#This Row],[Calc 2]]=\"#NA\",\"#NA\",IF(Table1[[#This Row],[Non HZ Employee]]=Table1[[#This Row],[Max calc]],\"Non HZ Employee\", Table1[[#This Row],[Calc 2]]))","v":"#NA"}]
[1150,null,1150,{"$nulls":5},{"$f":"SUM(Table1[[#This Row],[Column4]]+Table1[[#This Row],[Column3]]+Table1[[#This Row],[Column2]]+Table1[[#This Row],[Column1]])","v":0},{"$nulls":5},{"$f":"SUM(Table1[[#This Row],[PO Employee]:[Other Employee]])","v":0},"N",{"$error":"#N/A"},{"$f":"IF(O1167>39,Table1[[#This Row],[Calc 1]],IF(O1167>1,\"Not counted as an Employee\",\"#NA\"))","v":"#NA"},{"$f":"MAX(Table1[[#This Row],[PO Employee]],Table1[[#This Row],[Other HZ Employee]],Table1[[#This Row],[Non HZ Employee]],Table1[[#This Row],[Job Site Employee]],Table1[[#This Row],[Other Employee]])","v":0},{"$f":"IF(Table1[[#This Row],[Total Hours per Month]]=Table1[[#This Row],[Column12]],\"Match\",\"Error\")","v":"Match"},{"$f":"IF(Table1[[#This Row],[Calc 2]]=\"#NA\",\"#NA\",IF(Table1[[#This Row],[Non HZ Employee]]=Table1[[#This Row],[Max calc]],\"Non HZ Employee\", Table1[[#This Row],[Calc 2]]))","v":"#NA"}]
[1151,null,1151,{"$nulls":5},{"$f":"SUM(Table1[[#This Row],[Column4]]+Table1[[#This Row],[Column3]]+Table1[[#This Row],[Column2]]+Table1[[#This Row],[Column1]])","v":0},{"$nulls":5},{"$f":"SUM(Table1[[#This Row],[PO Employee]:[Other Employee]])","v":0},"N",{"$error":"#N/A"},{"$f":"IF(O1168>39,Table1[[#This Row],[Calc 1]],IF(O1168>1,\"Not counted as an Employee\",\"#NA\"))","v":"#NA"},{"$f":"MAX(Table1[[#This Row],[PO Employee]],Table1[[#This Row],[Other HZ Employee]],Table1[[#This Row],[Non HZ Employee]],Table1[[#This Row],[Job Site Employee]],Table1[[#This Row],[Other Employee]])","v":0},{"$f":"IF(Table1[[#This Row],[Total Hours per Month]]=Table1[[#This Row],[Column12]],\"Match\",\"Error\")","v":"Match"},{"$f":"IF(Table1[[#This Row],[Calc 2]]=\"#NA\",\"#NA\",IF(Table1[[#This Row],[Non HZ Employee]]=Table1[[#This Row],[Max calc]],\"Non HZ Employee\", Table1[[#This Row],[Calc 2]]))","v":"#NA"}]
[1152,null,1152,{"$nulls":5},{"$f":"SUM(Table1[[#This Row],[Column4]]+Table1[[#This Row],[Column3]]+Table1[[#This Row],[Column2]]+Table1[[#This Row],[Column1]])","v":0},{"$nulls":5},{"$f":"SUM(Table1[[#This Row],[PO Employee]:[Other Employee]])","v":0},"N",{"$error":"#N/A"},{"$f":"IF(O1169>39,Table1[[#This Row],[Calc 1]],IF(O1169>1,\"Not counted as an Employee\",\"#NA\"))","v":"#NA"},{"$f":"MAX(Table1[[#This Row],[PO Employee]],Table1[[#This Row],[Other HZ Employee]],Table1[[#This Row],[Non HZ Employee]],Table1[[#This Row],[Job Site Employee]],Table1[[#This Row],[Other Employee]])","v":0},{"$f":"IF(Table1[[#This Row],[Total Hours per Month]]=Table1[[#This Row],[Column12]],\"Match\",\"Error\")","v":"Match"},{"$f":"IF(Table1[[#This Row],[Calc 2]]=\"#NA\",\"#NA\",IF(Table1[[#This Row],[Non HZ Employee]]=Table1[[#This Row],[Max calc]],\"Non HZ Employee\", Table1[[#This Row],[Calc 2]]))","v":"#NA"}]
[1153,null,1153,{"$nulls":5},{"$f":"SUM(Table1[[#This Row],[Column4]]+Table1[[#This Row],[Column3]]+Table1[[#This Row],[Column2]]+Table1[[#This Row],[Column1]])","v":0},{"$nulls":5},{"$f":"SUM(Table1[[#This Row],[PO Employee]:[Other Employee]])","v":0},"N",{"$f":"INDEX($J$17:$N$17,MATCH(MAX(J1170:N1170),J1170:N1170,0))","v":{"$error":"#N/A"}},{"$f":"IF(O1170>39,Table1[[#This Row],[Calc 1]],IF(O1170>1,\"Not counted as an Employee\",\"#NA\"))","v":"#NA"},{"$f":"MAX(Table1[[#This Row],[PO Employee]],Table1[[#This Row],[Other HZ Employee]],Table1[[#This Row],[Non HZ Employee]],Table1[[#This Row],[Job Site Employee]],Table1[[#This Row],[Other Employee]])","v":0},{"$f":"IF(Table1[[#This Row],[Total Hours per Month]]=Table1[[#This Row],[Column12]],\"Match\",\"Error\")","v":"Match"},{"$f":"IF(Table1[[#This Row],[Calc 2]]=\"#NA\",\"#NA\",IF(Table1[[#This Row],[Non HZ Employee]]=Table1[[#This Row],[Max calc]],\"Non HZ Employee\", Table1[[#This Row],[Calc 2]]))","v":"#NA"}]
[1154,null,1154,{"$nulls":5},{"$f":"SUM(Table1[[#This Row],[Column4]]+Table1[[#This Row],[Column3]]+Table1[[#This Row],[Column2]]+Table1[[#This Row],[Column1]])","v":0},{"$nulls":5},{"$f":"SUM(Table1[[#This Row],[PO Employee]:[Other Employee]])","v":0},{"$f":"IF(O1171>=40,\"Y\",\"N\")","v":"N"},{"$error":"#N/A"},{"$f":"IF(O1171>39,Table1[[#This Row],[Calc 1]],IF(O1171>1,\"Not counted as an Employee\",\"#NA\"))","v":"#NA"},{"$f":"MAX(Table1[[#This Row],[PO Employee]],Table1[[#This Row],[Other HZ Employee]],Table1[[#This Row],[Non HZ Employee]],Table1[[#This Row],[Job Site Employee]],Table1[[#This Row],[Other Employee]])","v":0},{"$f":"IF(Table1[[#This Row],[Total Hours per Month]]=Table1[[#This Row],[Column12]],\"Match\",\"Error\")","v":"Match"},{"$f":"IF(Table1[[#This Row],[Calc 2]]=\"#NA\",\"#NA\",IF(Table1[[#This Row],[Non HZ Employee]]=Table1[[#This Row],[Max calc]],\"Non HZ Employee\", Table1[[#This Row],[Calc 2]]))","v":"#NA"}]
[1155,null,1155,{"$nulls":5},{"$f":"SUM(Table1[[#This Row],[Column4]]+Table1[[#This Row],[Column3]]+Table1[[#This Row],[Column2]]+Table1[[#This Row],[Column1]])","v":0},{"$nulls":5},{"$f":"SUM(Table1[[#This Row],[PO Employee]:[Other Employee]])","v":0},"N",{"$error":"#N/A"},{"$f":"IF(O1172>39,Table1[[#This Row],[Calc 1]],IF(O1172>1,\"Not counted as an Employee\",\"#NA\"))","v":"#NA"},{"$f":"MAX(Table1[[#This Row],[PO Employee]],Table1[[#This Row],[Other HZ Employee]],Table1[[#This Row],[Non HZ Employee]],Table1[[#This Row],[Job Site Employee]],Table1[[#This Row],[Other Employee]])","v":0},{"$f":"IF(Table1[[#This Row],[Total Hours per Month]]=Table1[[#This Row],[Column12]],\"Match\",\"Error\")","v":"Match"},{"$f":"IF(Table1[[#This Row],[Calc 2]]=\"#NA\",\"#NA\",IF(Table1[[#This Row],[Non HZ Employee]]=Table1[[#This Row],[Max calc]],\"Non HZ Employee\", Table1[[#This Row],[Calc 2]]))","v":"#NA"}]
[1156,null,1156,{"$nulls":5},{"$f":"SUM(Table1[[#This Row],[Column4]]+Table1[[#This Row],[Column3]]+Table1[[#This Row],[Column2]]+Table1[[#This Row],[Column1]])","v":0},{"$nulls":5},{"$f":"SUM(Table1[[#This Row],[PO Employee]:[Other Employee]])","v":0},"N",{"$error":"#N/A"},{"$f":"IF(O1173>39,Table1[[#This Row],[Calc 1]],IF(O1173>1,\"Not counted as an Employee\",\"#NA\"))","v":"#NA"},{"$f":"MAX(Table1[[#This Row],[PO Employee]],Table1[[#This Row],[Other HZ Employee]],Table1[[#This Row],[Non HZ Employee]],Table1[[#This Row],[Job Site Employee]],Table1[[#This Row],[Other Employee]])","v":0},{"$f":"IF(Table1[[#This Row],[Total Hours per Month]]=Table1[[#This Row],[Column12]],\"Match\",\"Error\")","v":"Match"},{"$f":"IF(Table1[[#This Row],[Calc 2]]=\"#NA\",\"#NA\",IF(Table1[[#This Row],[Non HZ Employee]]=Table1[[#This Row],[Max calc]],\"Non HZ Employee\", Table1[[#This Row],[Calc 2]]))","v":"#NA"}]
[1157,null,1157,{"$nulls":5},{"$f":"SUM(Table1[[#This Row],[Column4]]+Table1[[#This Row],[Column3]]+Table1[[#This Row],[Column2]]+Table1[[#This Row],[Column1]])","v":0},{"$nulls":5},{"$f":"SUM(Table1[[#This Row],[PO Employee]:[Other Employee]])","v":0},"N",{"$error":"#N/A"},{"$f":"IF(O1174>39,Table1[[#This Row],[Calc 1]],IF(O1174>1,\"Not counted as an Employee\",\"#NA\"))","v":"#NA"},{"$f":"MAX(Table1[[#This Row],[PO Employee]],Table1[[#This Row],[Other HZ Employee]],Table1[[#This Row],[Non HZ Employee]],Table1[[#This Row],[Job Site Employee]],Table1[[#This Row],[Other Employee]])","v":0},{"$f":"IF(Table1[[#This Row],[Total Hours per Month]]=Table1[[#This Row],[Column12]],\"Match\",\"Error\")","v":"Match"},{"$f":"IF(Table1[[#This Row],[Calc 2]]=\"#NA\",\"#NA\",IF(Table1[[#This Row],[Non HZ Employee]]=Table1[[#This Row],[Max calc]],\"Non HZ Employee\", Table1[[#This Row],[Calc 2]]))","v":"#NA"}]
[1158,null,1158,{"$nulls":5},{"$f":"SUM(Table1[[#This Row],[Column4]]+Table1[[#This Row],[Column3]]+Table1[[#This Row],[Column2]]+Table1[[#This Row],[Column1]])","v":0},{"$nulls":5},{"$f":"SUM(Table1[[#This Row],[PO Employee]:[Other Employee]])","v":0},"N",{"$error":"#N/A"},{"$f":"IF(O1175>39,Table1[[#This Row],[Calc 1]],IF(O1175>1,\"Not counted as an Employee\",\"#NA\"))","v":"#NA"},{"$f":"MAX(Table1[[#This Row],[PO Employee]],Table1[[#This Row],[Other HZ Employee]],Table1[[#This Row],[Non HZ Employee]],Table1[[#This Row],[Job Site Employee]],Table1[[#This Row],[Other Employee]])","v":0},{"$f":"IF(Table1[[#This Row],[Total Hours per Month]]=Table1[[#This Row],[Column12]],\"Match\",\"Error\")","v":"Match"},{"$f":"IF(Table1[[#This Row],[Calc 2]]=\"#NA\",\"#NA\",IF(Table1[[#This Row],[Non HZ Employee]]=Table1[[#This Row],[Max calc]],\"Non HZ Employee\", Table1[[#This Row],[Calc 2]]))","v":"#NA"}]
[1159,null,1159,{"$nulls":5},{"$f":"SUM(Table1[[#This Row],[Column4]]+Table1[[#This Row],[Column3]]+Table1[[#This Row],[Column2]]+Table1[[#This Row],[Column1]])","v":0},{"$nulls":5},{"$f":"SUM(Table1[[#This Row],[PO Employee]:[Other Employee]])","v":0},"N",{"$error":"#N/A"},{"$f":"IF(O1176>39,Table1[[#This Row],[Calc 1]],IF(O1176>1,\"Not counted as an Employee\",\"#NA\"))","v":"#NA"},{"$f":"MAX(Table1[[#This Row],[PO Employee]],Table1[[#This Row],[Other HZ Employee]],Table1[[#This Row],[Non HZ Employee]],Table1[[#This Row],[Job Site Employee]],Table1[[#This Row],[Other Employee]])","v":0},{"$f":"IF(Table1[[#This Row],[Total Hours per Month]]=Table1[[#This Row],[Column12]],\"Match\",\"Error\")","v":"Match"},{"$f":"IF(Table1[[#This Row],[Calc 2]]=\"#NA\",\"#NA\",IF(Table1[[#This Row],[Non HZ Employee]]=Table1[[#This Row],[Max calc]],\"Non HZ Employee\", Table1[[#This Row],[Calc 2]]))","v":"#NA"}]
[1160,null,1160,{"$nulls":5},{"$f":"SUM(Table1[[#This Row],[Column4]]+Table1[[#This Row],[Column3]]+Table1[[#This Row],[Column2]]+Table1[[#This Row],[Column1]])","v":0},{"$nulls":5},{"$f":"SUM(Table1[[#This Row],[PO Employee]:[Other Employee]])","v":0},"N",{"$error":"#N/A"},{"$f":"IF(O1177>39,Table1[[#This Row],[Calc 1]],IF(O1177>1,\"Not counted as an Employee\",\"#NA\"))","v":"#NA"},{"$f":"MAX(Table1[[#This Row],[PO Employee]],Table1[[#This Row],[Other HZ Employee]],Table1[[#This Row],[Non HZ Employee]],Table1[[#This Row],[Job Site Employee]],Table1[[#This Row],[Other Employee]])","v":0},{"$f":"IF(Table1[[#This Row],[Total Hours per Month]]=Table1[[#This Row],[Column12]],\"Match\",\"Error\")","v":"Match"},{"$f":"IF(Table1[[#This Row],[Calc 2]]=\"#NA\",\"#NA\",IF(Table1[[#This Row],[Non HZ Employee]]=Table1[[#This Row],[Max calc]],\"Non HZ Employee\", Table1[[#This Row],[Calc 2]]))","v":"#NA"}]
[1161,null,1161,{"$nulls":5},{"$f":"SUM(Table1[[#This Row],[Column4]]+Table1[[#This Row],[Column3]]+Table1[[#This Row],[Column2]]+Table1[[#This Row],[Column1]])","v":0},{"$nulls":5},{"$f":"SUM(Table1[[#This Row],[PO Employee]:[Other Employee]])","v":0},"N",{"$error":"#N/A"},{"$f":"IF(O1178>39,Table1[[#This Row],[Calc 1]],IF(O1178>1,\"Not counted as an Employee\",\"#NA\"))","v":"#NA"},{"$f":"MAX(Table1[[#This Row],[PO Employee]],Table1[[#This Row],[Other HZ Employee]],Table1[[#This Row],[Non HZ Employee]],Table1[[#This Row],[Job Site Employee]],Table1[[#This Row],[Other Employee]])","v":0},{"$f":"IF(Table1[[#This Row],[Total Hours per Month]]=Table1[[#This Row],[Column12]],\"Match\",\"Error\")","v":"Match"},{"$f":"IF(Table1[[#This Row],[Calc 2]]=\"#NA\",\"#NA\",IF(Table1[[#This Row],[Non HZ Employee]]=Table1[[#This Row],[Max calc]],\"Non HZ Employee\", Table1[[#This Row],[Calc 2]]))","v":"#NA"}]
[1162,null,1162,{"$nulls":5},{"$f":"SUM(Table1[[#This Row],[Column4]]+Table1[[#This Row],[Column3]]+Table1[[#This Row],[Column2]]+Table1[[#This Row],[Column1]])","v":0},{"$nulls":5},{"$f":"SUM(Table1[[#This Row],[PO Employee]:[Other Employee]])","v":0},"N",{"$error":"#N/A"},{"$f":"IF(O1179>39,Table1[[#This Row],[Calc 1]],IF(O1179>1,\"Not counted as an Employee\",\"#NA\"))","v":"#NA"},{"$f":"MAX(Table1[[#This Row],[PO Employee]],Table1[[#This Row],[Other HZ Employee]],Table1[[#This Row],[Non HZ Employee]],Table1[[#This Row],[Job Site Employee]],Table1[[#This Row],[Other Employee]])","v":0},{"$f":"IF(Table1[[#This Row],[Total Hours per Month]]=Table1[[#This Row],[Column12]],\"Match\",\"Error\")","v":"Match"},{"$f":"IF(Table1[[#This Row],[Calc 2]]=\"#NA\",\"#NA\",IF(Table1[[#This Row],[Non HZ Employee]]=Table1[[#This Row],[Max calc]],\"Non HZ Employee\", Table1[[#This Row],[Calc 2]]))","v":"#NA"}]
[1163,null,1163,{"$nulls":5},{"$f":"SUM(Table1[[#This Row],[Column4]]+Table1[[#This Row],[Column3]]+Table1[[#This Row],[Column2]]+Table1[[#This Row],[Column1]])","v":0},{"$nulls":5},{"$f":"SUM(Table1[[#This Row],[PO Employee]:[Other Employee]])","v":0},"N",{"$error":"#N/A"},{"$f":"IF(O1180>39,Table1[[#This Row],[Calc 1]],IF(O1180>1,\"Not counted as an Employee\",\"#NA\"))","v":"#NA"},{"$f":"MAX(Table1[[#This Row],[PO Employee]],Table1[[#This Row],[Other HZ Employee]],Table1[[#This Row],[Non HZ Employee]],Table1[[#This Row],[Job Site Employee]],Table1[[#This Row],[Other Employee]])","v":0},{"$f":"IF(Table1[[#This Row],[Total Hours per Month]]=Table1[[#This Row],[Column12]],\"Match\",\"Error\")","v":"Match"},{"$f":"IF(Table1[[#This Row],[Calc 2]]=\"#NA\",\"#NA\",IF(Table1[[#This Row],[Non HZ Employee]]=Table1[[#This Row],[Max calc]],\"Non HZ Employee\", Table1[[#This Row],[Calc 2]]))","v":"#NA"}]
[1164,null,1164,{"$nulls":5},{"$f":"SUM(Table1[[#This Row],[Column4]]+Table1[[#This Row],[Column3]]+Table1[[#This Row],[Column2]]+Table1[[#This Row],[Column1]])","v":0},{"$nulls":5},{"$f":"SUM(Table1[[#This Row],[PO Employee]:[Other Employee]])","v":0},"N",{"$error":"#N/A"},{"$f":"IF(O1181>39,Table1[[#This Row],[Calc 1]],IF(O1181>1,\"Not counted as an Employee\",\"#NA\"))","v":"#NA"},{"$f":"MAX(Table1[[#This Row],[PO Employee]],Table1[[#This Row],[Other HZ Employee]],Table1[[#This Row],[Non HZ Employee]],Table1[[#This Row],[Job Site Employee]],Table1[[#This Row],[Other Employee]])","v":0},{"$f":"IF(Table1[[#This Row],[Total Hours per Month]]=Table1[[#This Row],[Column12]],\"Match\",\"Error\")","v":"Match"},{"$f":"IF(Table1[[#This Row],[Calc 2]]=\"#NA\",\"#NA\",IF(Table1[[#This Row],[Non HZ Employee]]=Table1[[#This Row],[Max calc]],\"Non HZ Employee\", Table1[[#This Row],[Calc 2]]))","v":"#NA"}]
[1165,null,1165,{"$nulls":5},{"$f":"SUM(Table1[[#This Row],[Column4]]+Table1[[#This Row],[Column3]]+Table1[[#This Row],[Column2]]+Table1[[#This Row],[Column1]])","v":0},{"$nulls":5},{"$f":"SUM(Table1[[#This Row],[PO Employee]:[Other Employee]])","v":0},"N",{"$error":"#N/A"},{"$f":"IF(O1182>39,Table1[[#This Row],[Calc 1]],IF(O1182>1,\"Not counted as an Employee\",\"#NA\"))","v":"#NA"},{"$f":"MAX(Table1[[#This Row],[PO Employee]],Table1[[#This Row],[Other HZ Employee]],Table1[[#This Row],[Non HZ Employee]],Table1[[#This Row],[Job Site Employee]],Table1[[#This Row],[Other Employee]])","v":0},{"$f":"IF(Table1[[#This Row],[Total Hours per Month]]=Table1[[#This Row],[Column12]],\"Match\",\"Error\")","v":"Match"},{"$f":"IF(Table1[[#This Row],[Calc 2]]=\"#NA\",\"#NA\",IF(Table1[[#This Row],[Non HZ Employee]]=Table1[[#This Row],[Max calc]],\"Non HZ Employee\", Table1[[#This Row],[Calc 2]]))","v":"#NA"}]
[1166,null,1166,{"$nulls":5},{"$f":"SUM(Table1[[#This Row],[Column4]]+Table1[[#This Row],[Column3]]+Table1[[#This Row],[Column2]]+Table1[[#This Row],[Column1]])","v":0},{"$nulls":5},{"$f":"SUM(Table1[[#This Row],[PO Employee]:[Other Employee]])","v":0},"N",{"$error":"#N/A"},{"$f":"IF(O1183>39,Table1[[#This Row],[Calc 1]],IF(O1183>1,\"Not counted as an Employee\",\"#NA\"))","v":"#NA"},{"$f":"MAX(Table1[[#This Row],[PO Employee]],Table1[[#This Row],[Other HZ Employee]],Table1[[#This Row],[Non HZ Employee]],Table1[[#This Row],[Job Site Employee]],Table1[[#This Row],[Other Employee]])","v":0},{"$f":"IF(Table1[[#This Row],[Total Hours per Month]]=Table1[[#This Row],[Column12]],\"Match\",\"Error\")","v":"Match"},{"$f":"IF(Table1[[#This Row],[Calc 2]]=\"#NA\",\"#NA\",IF(Table1[[#This Row],[Non HZ Employee]]=Table1[[#This Row],[Max calc]],\"Non HZ Employee\", Table1[[#This Row],[Calc 2]]))","v":"#NA"}]
[1167,null,1167,{"$nulls":5},{"$f":"SUM(Table1[[#This Row],[Column4]]+Table1[[#This Row],[Column3]]+Table1[[#This Row],[Column2]]+Table1[[#This Row],[Column1]])","v":0},{"$nulls":5},{"$f":"SUM(Table1[[#This Row],[PO Employee]:[Other Employee]])","v":0},"N",{"$error":"#N/A"},{"$f":"IF(O1184>39,Table1[[#This Row],[Calc 1]],IF(O1184>1,\"Not counted as an Employee\",\"#NA\"))","v":"#NA"},{"$f":"MAX(Table1[[#This Row],[PO Employee]],Table1[[#This Row],[Other HZ Employee]],Table1[[#This Row],[Non HZ Employee]],Table1[[#This Row],[Job Site Employee]],Table1[[#This Row],[Other Employee]])","v":0},{"$f":"IF(Table1[[#This Row],[Total Hours per Month]]=Table1[[#This Row],[Column12]],\"Match\",\"Error\")","v":"Match"},{"$f":"IF(Table1[[#This Row],[Calc 2]]=\"#NA\",\"#NA\",IF(Table1[[#This Row],[Non HZ Employee]]=Table1[[#This Row],[Max calc]],\"Non HZ Employee\", Table1[[#This Row],[Calc 2]]))","v":"#NA"}]
[1168,null,1168,{"$nulls":5},{"$f":"SUM(Table1[[#This Row],[Column4]]+Table1[[#This Row],[Column3]]+Table1[[#This Row],[Column2]]+Table1[[#This Row],[Column1]])","v":0},{"$nulls":5},{"$f":"SUM(Table1[[#This Row],[PO Employee]:[Other Employee]])","v":0},"N",{"$error":"#N/A"},{"$f":"IF(O1185>39,Table1[[#This Row],[Calc 1]],IF(O1185>1,\"Not counted as an Employee\",\"#NA\"))","v":"#NA"},{"$f":"MAX(Table1[[#This Row],[PO Employee]],Table1[[#This Row],[Other HZ Employee]],Table1[[#This Row],[Non HZ Employee]],Table1[[#This Row],[Job Site Employee]],Table1[[#This Row],[Other Employee]])","v":0},{"$f":"IF(Table1[[#This Row],[Total Hours per Month]]=Table1[[#This Row],[Column12]],\"Match\",\"Error\")","v":"Match"},{"$f":"IF(Table1[[#This Row],[Calc 2]]=\"#NA\",\"#NA\",IF(Table1[[#This Row],[Non HZ Employee]]=Table1[[#This Row],[Max calc]],\"Non HZ Employee\", Table1[[#This Row],[Calc 2]]))","v":"#NA"}]
[1169,null,1169,{"$nulls":5},{"$f":"SUM(Table1[[#This Row],[Column4]]+Table1[[#This Row],[Column3]]+Table1[[#This Row],[Column2]]+Table1[[#This Row],[Column1]])","v":0},{"$nulls":5},{"$f":"SUM(Table1[[#This Row],[PO Employee]:[Other Employee]])","v":0},"N",{"$error":"#N/A"},{"$f":"IF(O1186>39,Table1[[#This Row],[Calc 1]],IF(O1186>1,\"Not counted as an Employee\",\"#NA\"))","v":"#NA"},{"$f":"MAX(Table1[[#This Row],[PO Employee]],Table1[[#This Row],[Other HZ Employee]],Table1[[#This Row],[Non HZ Employee]],Table1[[#This Row],[Job Site Employee]],Table1[[#This Row],[Other Employee]])","v":0},{"$f":"IF(Table1[[#This Row],[Total Hours per Month]]=Table1[[#This Row],[Column12]],\"Match\",\"Error\")","v":"Match"},{"$f":"IF(Table1[[#This Row],[Calc 2]]=\"#NA\",\"#NA\",IF(Table1[[#This Row],[Non HZ Employee]]=Table1[[#This Row],[Max calc]],\"Non HZ Employee\", Table1[[#This Row],[Calc 2]]))","v":"#NA"}]
[1170,null,1170,{"$nulls":5},{"$f":"SUM(Table1[[#This Row],[Column4]]+Table1[[#This Row],[Column3]]+Table1[[#This Row],[Column2]]+Table1[[#This Row],[Column1]])","v":0},{"$nulls":5},{"$f":"SUM(Table1[[#This Row],[PO Employee]:[Other Employee]])","v":0},"N",{"$error":"#N/A"},{"$f":"IF(O1187>39,Table1[[#This Row],[Calc 1]],IF(O1187>1,\"Not counted as an Employee\",\"#NA\"))","v":"#NA"},{"$f":"MAX(Table1[[#This Row],[PO Employee]],Table1[[#This Row],[Other HZ Employee]],Table1[[#This Row],[Non HZ Employee]],Table1[[#This Row],[Job Site Employee]],Table1[[#This Row],[Other Employee]])","v":0},{"$f":"IF(Table1[[#This Row],[Total Hours per Month]]=Table1[[#This Row],[Column12]],\"Match\",\"Error\")","v":"Match"},{"$f":"IF(Table1[[#This Row],[Calc 2]]=\"#NA\",\"#NA\",IF(Table1[[#This Row],[Non HZ Employee]]=Table1[[#This Row],[Max calc]],\"Non HZ Employee\", Table1[[#This Row],[Calc 2]]))","v":"#NA"}]
[1171,null,1171,{"$nulls":5},{"$f":"SUM(Table1[[#This Row],[Column4]]+Table1[[#This Row],[Column3]]+Table1[[#This Row],[Column2]]+Table1[[#This Row],[Column1]])","v":0},{"$nulls":5},{"$f":"SUM(Table1[[#This Row],[PO Employee]:[Other Employee]])","v":0},"N",{"$error":"#N/A"},{"$f":"IF(O1188>39,Table1[[#This Row],[Calc 1]],IF(O1188>1,\"Not counted as an Employee\",\"#NA\"))","v":"#NA"},{"$f":"MAX(Table1[[#This Row],[PO Employee]],Table1[[#This Row],[Other HZ Employee]],Table1[[#This Row],[Non HZ Employee]],Table1[[#This Row],[Job Site Employee]],Table1[[#This Row],[Other Employee]])","v":0},{"$f":"IF(Table1[[#This Row],[Total Hours per Month]]=Table1[[#This Row],[Column12]],\"Match\",\"Error\")","v":"Match"},{"$f":"IF(Table1[[#This Row],[Calc 2]]=\"#NA\",\"#NA\",IF(Table1[[#This Row],[Non HZ Employee]]=Table1[[#This Row],[Max calc]],\"Non HZ Employee\", Table1[[#This Row],[Calc 2]]))","v":"#NA"}]
[1172,null,1172,{"$nulls":5},{"$f":"SUM(Table1[[#This Row],[Column4]]+Table1[[#This Row],[Column3]]+Table1[[#This Row],[Column2]]+Table1[[#This Row],[Column1]])","v":0},{"$nulls":5},{"$f":"SUM(Table1[[#This Row],[PO Employee]:[Other Employee]])","v":0},"N",{"$error":"#N/A"},{"$f":"IF(O1189>39,Table1[[#This Row],[Calc 1]],IF(O1189>1,\"Not counted as an Employee\",\"#NA\"))","v":"#NA"},{"$f":"MAX(Table1[[#This Row],[PO Employee]],Table1[[#This Row],[Other HZ Employee]],Table1[[#This Row],[Non HZ Employee]],Table1[[#This Row],[Job Site Employee]],Table1[[#This Row],[Other Employee]])","v":0},{"$f":"IF(Table1[[#This Row],[Total Hours per Month]]=Table1[[#This Row],[Column12]],\"Match\",\"Error\")","v":"Match"},{"$f":"IF(Table1[[#This Row],[Calc 2]]=\"#NA\",\"#NA\",IF(Table1[[#This Row],[Non HZ Employee]]=Table1[[#This Row],[Max calc]],\"Non HZ Employee\", Table1[[#This Row],[Calc 2]]))","v":"#NA"}]
[1173,null,1173,{"$nulls":5},{"$f":"SUM(Table1[[#This Row],[Column4]]+Table1[[#This Row],[Column3]]+Table1[[#This Row],[Column2]]+Table1[[#This Row],[Column1]])","v":0},{"$nulls":5},{"$f":"SUM(Table1[[#This Row],[PO Employee]:[Other Employee]])","v":0},"N",{"$error":"#N/A"},{"$f":"IF(O1190>39,Table1[[#This Row],[Calc 1]],IF(O1190>1,\"Not counted as an Employee\",\"#NA\"))","v":"#NA"},{"$f":"MAX(Table1[[#This Row],[PO Employee]],Table1[[#This Row],[Other HZ Employee]],Table1[[#This Row],[Non HZ Employee]],Table1[[#This Row],[Job Site Employee]],Table1[[#This Row],[Other Employee]])","v":0},{"$f":"IF(Table1[[#This Row],[Total Hours per Month]]=Table1[[#This Row],[Column12]],\"Match\",\"Error\")","v":"Match"},{"$f":"IF(Table1[[#This Row],[Calc 2]]=\"#NA\",\"#NA\",IF(Table1[[#This Row],[Non HZ Employee]]=Table1[[#This Row],[Max calc]],\"Non HZ Employee\", Table1[[#This Row],[Calc 2]]))","v":"#NA"}]
[1174,null,1174,{"$nulls":5},{"$f":"SUM(Table1[[#This Row],[Column4]]+Table1[[#This Row],[Column3]]+Table1[[#This Row],[Column2]]+Table1[[#This Row],[Column1]])","v":0},{"$nulls":5},{"$f":"SUM(Table1[[#This Row],[PO Employee]:[Other Employee]])","v":0},"N",{"$error":"#N/A"},{"$f":"IF(O1191>39,Table1[[#This Row],[Calc 1]],IF(O1191>1,\"Not counted as an Employee\",\"#NA\"))","v":"#NA"},{"$f":"MAX(Table1[[#This Row],[PO Employee]],Table1[[#This Row],[Other HZ Employee]],Table1[[#This Row],[Non HZ Employee]],Table1[[#This Row],[Job Site Employee]],Table1[[#This Row],[Other Employee]])","v":0},{"$f":"IF(Table1[[#This Row],[Total Hours per Month]]=Table1[[#This Row],[Column12]],\"Match\",\"Error\")","v":"Match"},{"$f":"IF(Table1[[#This Row],[Calc 2]]=\"#NA\",\"#NA\",IF(Table1[[#This Row],[Non HZ Employee]]=Table1[[#This Row],[Max calc]],\"Non HZ Employee\", Table1[[#This Row],[Calc 2]]))","v":"#NA"}]
[1175,null,1175,{"$nulls":5},{"$f":"SUM(Table1[[#This Row],[Column4]]+Table1[[#This Row],[Column3]]+Table1[[#This Row],[Column2]]+Table1[[#This Row],[Column1]])","v":0},{"$nulls":5},{"$f":"SUM(Table1[[#This Row],[PO Employee]:[Other Employee]])","v":0},"N",{"$error":"#N/A"},{"$f":"IF(O1192>39,Table1[[#This Row],[Calc 1]],IF(O1192>1,\"Not counted as an Employee\",\"#NA\"))","v":"#NA"},{"$f":"MAX(Table1[[#This Row],[PO Employee]],Table1[[#This Row],[Other HZ Employee]],Table1[[#This Row],[Non HZ Employee]],Table1[[#This Row],[Job Site Employee]],Table1[[#This Row],[Other Employee]])","v":0},{"$f":"IF(Table1[[#This Row],[Total Hours per Month]]=Table1[[#This Row],[Column12]],\"Match\",\"Error\")","v":"Match"},{"$f":"IF(Table1[[#This Row],[Calc 2]]=\"#NA\",\"#NA\",IF(Table1[[#This Row],[Non HZ Employee]]=Table1[[#This Row],[Max calc]],\"Non HZ Employee\", Table1[[#This Row],[Calc 2]]))","v":"#NA"}]
[1176,null,1176,{"$nulls":5},{"$f":"SUM(Table1[[#This Row],[Column4]]+Table1[[#This Row],[Column3]]+Table1[[#This Row],[Column2]]+Table1[[#This Row],[Column1]])","v":0},{"$nulls":5},{"$f":"SUM(Table1[[#This Row],[PO Employee]:[Other Employee]])","v":0},"N",{"$error":"#N/A"},{"$f":"IF(O1193>39,Table1[[#This Row],[Calc 1]],IF(O1193>1,\"Not counted as an Employee\",\"#NA\"))","v":"#NA"},{"$f":"MAX(Table1[[#This Row],[PO Employee]],Table1[[#This Row],[Other HZ Employee]],Table1[[#This Row],[Non HZ Employee]],Table1[[#This Row],[Job Site Employee]],Table1[[#This Row],[Other Employee]])","v":0},{"$f":"IF(Table1[[#This Row],[Total Hours per Month]]=Table1[[#This Row],[Column12]],\"Match\",\"Error\")","v":"Match"},{"$f":"IF(Table1[[#This Row],[Calc 2]]=\"#NA\",\"#NA\",IF(Table1[[#This Row],[Non HZ Employee]]=Table1[[#This Row],[Max calc]],\"Non HZ Employee\", Table1[[#This Row],[Calc 2]]))","v":"#NA"}]
[1177,null,1177,{"$nulls":5},{"$f":"SUM(Table1[[#This Row],[Column4]]+Table1[[#This Row],[Column3]]+Table1[[#This Row],[Column2]]+Table1[[#This Row],[Column1]])","v":0},{"$nulls":5},{"$f":"SUM(Table1[[#This Row],[PO Employee]:[Other Employee]])","v":0},"N",{"$error":"#N/A"},{"$f":"IF(O1194>39,Table1[[#This Row],[Calc 1]],IF(O1194>1,\"Not counted as an Employee\",\"#NA\"))","v":"#NA"},{"$f":"MAX(Table1[[#This Row],[PO Employee]],Table1[[#This Row],[Other HZ Employee]],Table1[[#This Row],[Non HZ Employee]],Table1[[#This Row],[Job Site Employee]],Table1[[#This Row],[Other Employee]])","v":0},{"$f":"IF(Table1[[#This Row],[Total Hours per Month]]=Table1[[#This Row],[Column12]],\"Match\",\"Error\")","v":"Match"},{"$f":"IF(Table1[[#This Row],[Calc 2]]=\"#NA\",\"#NA\",IF(Table1[[#This Row],[Non HZ Employee]]=Table1[[#This Row],[Max calc]],\"Non HZ Employee\", Table1[[#This Row],[Calc 2]]))","v":"#NA"}]
[1178,null,1178,{"$nulls":5},{"$f":"SUM(Table1[[#This Row],[Column4]]+Table1[[#This Row],[Column3]]+Table1[[#This Row],[Column2]]+Table1[[#This Row],[Column1]])","v":0},{"$nulls":5},{"$f":"SUM(Table1[[#This Row],[PO Employee]:[Other Employee]])","v":0},"N",{"$error":"#N/A"},{"$f":"IF(O1195>39,Table1[[#This Row],[Calc 1]],IF(O1195>1,\"Not counted as an Employee\",\"#NA\"))","v":"#NA"},{"$f":"MAX(Table1[[#This Row],[PO Employee]],Table1[[#This Row],[Other HZ Employee]],Table1[[#This Row],[Non HZ Employee]],Table1[[#This Row],[Job Site Employee]],Table1[[#This Row],[Other Employee]])","v":0},{"$f":"IF(Table1[[#This Row],[Total Hours per Month]]=Table1[[#This Row],[Column12]],\"Match\",\"Error\")","v":"Match"},{"$f":"IF(Table1[[#This Row],[Calc 2]]=\"#NA\",\"#NA\",IF(Table1[[#This Row],[Non HZ Employee]]=Table1[[#This Row],[Max calc]],\"Non HZ Employee\", Table1[[#This Row],[Calc 2]]))","v":"#NA"}]
[1179,null,1179,{"$nulls":5},{"$f":"SUM(Table1[[#This Row],[Column4]]+Table1[[#This Row],[Column3]]+Table1[[#This Row],[Column2]]+Table1[[#This Row],[Column1]])","v":0},{"$nulls":5},{"$f":"SUM(Table1[[#This Row],[PO Employee]:[Other Employee]])","v":0},"N",{"$error":"#N/A"},{"$f":"IF(O1196>39,Table1[[#This Row],[Calc 1]],IF(O1196>1,\"Not counted as an Employee\",\"#NA\"))","v":"#NA"},{"$f":"MAX(Table1[[#This Row],[PO Employee]],Table1[[#This Row],[Other HZ Employee]],Table1[[#This Row],[Non HZ Employee]],Table1[[#This Row],[Job Site Employee]],Table1[[#This Row],[Other Employee]])","v":0},{"$f":"IF(Table1[[#This Row],[Total Hours per Month]]=Table1[[#This Row],[Column12]],\"Match\",\"Error\")","v":"Match"},{"$f":"IF(Table1[[#This Row],[Calc 2]]=\"#NA\",\"#NA\",IF(Table1[[#This Row],[Non HZ Employee]]=Table1[[#This Row],[Max calc]],\"Non HZ Employee\", Table1[[#This Row],[Calc 2]]))","v":"#NA"}]
[1180,null,1180,{"$nulls":5},{"$f":"SUM(Table1[[#This Row],[Column4]]+Table1[[#This Row],[Column3]]+Table1[[#This Row],[Column2]]+Table1[[#This Row],[Column1]])","v":0},{"$nulls":5},{"$f":"SUM(Table1[[#This Row],[PO Employee]:[Other Employee]])","v":0},"N",{"$error":"#N/A"},{"$f":"IF(O1197>39,Table1[[#This Row],[Calc 1]],IF(O1197>1,\"Not counted as an Employee\",\"#NA\"))","v":"#NA"},{"$f":"MAX(Table1[[#This Row],[PO Employee]],Table1[[#This Row],[Other HZ Employee]],Table1[[#This Row],[Non HZ Employee]],Table1[[#This Row],[Job Site Employee]],Table1[[#This Row],[Other Employee]])","v":0},{"$f":"IF(Table1[[#This Row],[Total Hours per Month]]=Table1[[#This Row],[Column12]],\"Match\",\"Error\")","v":"Match"},{"$f":"IF(Table1[[#This Row],[Calc 2]]=\"#NA\",\"#NA\",IF(Table1[[#This Row],[Non HZ Employee]]=Table1[[#This Row],[Max calc]],\"Non HZ Employee\", Table1[[#This Row],[Calc 2]]))","v":"#NA"}]
[1181,null,1181,{"$nulls":5},{"$f":"SUM(Table1[[#This Row],[Column4]]+Table1[[#This Row],[Column3]]+Table1[[#This Row],[Column2]]+Table1[[#This Row],[Column1]])","v":0},{"$nulls":5},{"$f":"SUM(Table1[[#This Row],[PO Employee]:[Other Employee]])","v":0},"N",{"$error":"#N/A"},{"$f":"IF(O1198>39,Table1[[#This Row],[Calc 1]],IF(O1198>1,\"Not counted as an Employee\",\"#NA\"))","v":"#NA"},{"$f":"MAX(Table1[[#This Row],[PO Employee]],Table1[[#This Row],[Other HZ Employee]],Table1[[#This Row],[Non HZ Employee]],Table1[[#This Row],[Job Site Employee]],Table1[[#This Row],[Other Employee]])","v":0},{"$f":"IF(Table1[[#This Row],[Total Hours per Month]]=Table1[[#This Row],[Column12]],\"Match\",\"Error\")","v":"Match"},{"$f":"IF(Table1[[#This Row],[Calc 2]]=\"#NA\",\"#NA\",IF(Table1[[#This Row],[Non HZ Employee]]=Table1[[#This Row],[Max calc]],\"Non HZ Employee\", Table1[[#This Row],[Calc 2]]))","v":"#NA"}]
[1182,null,1182,{"$nulls":5},{"$f":"SUM(Table1[[#This Row],[Column4]]+Table1[[#This Row],[Column3]]+Table1[[#This Row],[Column2]]+Table1[[#This Row],[Column1]])","v":0},{"$nulls":5},{"$f":"SUM(Table1[[#This Row],[PO Employee]:[Other Employee]])","v":0},"N",{"$error":"#N/A"},{"$f":"IF(O1199>39,Table1[[#This Row],[Calc 1]],IF(O1199>1,\"Not counted as an Employee\",\"#NA\"))","v":"#NA"},{"$f":"MAX(Table1[[#This Row],[PO Employee]],Table1[[#This Row],[Other HZ Employee]],Table1[[#This Row],[Non HZ Employee]],Table1[[#This Row],[Job Site Employee]],Table1[[#This Row],[Other Employee]])","v":0},{"$f":"IF(Table1[[#This Row],[Total Hours per Month]]=Table1[[#This Row],[Column12]],\"Match\",\"Error\")","v":"Match"},{"$f":"IF(Table1[[#This Row],[Calc 2]]=\"#NA\",\"#NA\",IF(Table1[[#This Row],[Non HZ Employee]]=Table1[[#This Row],[Max calc]],\"Non HZ Employee\", Table1[[#This Row],[Calc 2]]))","v":"#NA"}]
[1183,null,1183,{"$nulls":5},{"$f":"SUM(Table1[[#This Row],[Column4]]+Table1[[#This Row],[Column3]]+Table1[[#This Row],[Column2]]+Table1[[#This Row],[Column1]])","v":0},{"$nulls":5},{"$f":"SUM(Table1[[#This Row],[PO Employee]:[Other Employee]])","v":0},"N",{"$error":"#N/A"},{"$f":"IF(O1200>39,Table1[[#This Row],[Calc 1]],IF(O1200>1,\"Not counted as an Employee\",\"#NA\"))","v":"#NA"},{"$f":"MAX(Table1[[#This Row],[PO Employee]],Table1[[#This Row],[Other HZ Employee]],Table1[[#This Row],[Non HZ Employee]],Table1[[#This Row],[Job Site Employee]],Table1[[#This Row],[Other Employee]])","v":0},{"$f":"IF(Table1[[#This Row],[Total Hours per Month]]=Table1[[#This Row],[Column12]],\"Match\",\"Error\")","v":"Match"},{"$f":"IF(Table1[[#This Row],[Calc 2]]=\"#NA\",\"#NA\",IF(Table1[[#This Row],[Non HZ Employee]]=Table1[[#This Row],[Max calc]],\"Non HZ Employee\", Table1[[#This Row],[Calc 2]]))","v":"#NA"}]
[1184,null,1184,{"$nulls":5},{"$f":"SUM(Table1[[#This Row],[Column4]]+Table1[[#This Row],[Column3]]+Table1[[#This Row],[Column2]]+Table1[[#This Row],[Column1]])","v":0},{"$nulls":5},{"$f":"SUM(Table1[[#This Row],[PO Employee]:[Other Employee]])","v":0},"N",{"$error":"#N/A"},{"$f":"IF(O1201>39,Table1[[#This Row],[Calc 1]],IF(O1201>1,\"Not counted as an Employee\",\"#NA\"))","v":"#NA"},{"$f":"MAX(Table1[[#This Row],[PO Employee]],Table1[[#This Row],[Other HZ Employee]],Table1[[#This Row],[Non HZ Employee]],Table1[[#This Row],[Job Site Employee]],Table1[[#This Row],[Other Employee]])","v":0},{"$f":"IF(Table1[[#This Row],[Total Hours per Month]]=Table1[[#This Row],[Column12]],\"Match\",\"Error\")","v":"Match"},{"$f":"IF(Table1[[#This Row],[Calc 2]]=\"#NA\",\"#NA\",IF(Table1[[#This Row],[Non HZ Employee]]=Table1[[#This Row],[Max calc]],\"Non HZ Employee\", Table1[[#This Row],[Calc 2]]))","v":"#NA"}]
[1185,null,1185,{"$nulls":5},{"$f":"SUM(Table1[[#This Row],[Column4]]+Table1[[#This Row],[Column3]]+Table1[[#This Row],[Column2]]+Table1[[#This Row],[Column1]])","v":0},{"$nulls":5},{"$f":"SUM(Table1[[#This Row],[PO Employee]:[Other Employee]])","v":0},"N",{"$error":"#N/A"},{"$f":"IF(O1202>39,Table1[[#This Row],[Calc 1]],IF(O1202>1,\"Not counted as an Employee\",\"#NA\"))","v":"#NA"},{"$f":"MAX(Table1[[#This Row],[PO Employee]],Table1[[#This Row],[Other HZ Employee]],Table1[[#This Row],[Non HZ Employee]],Table1[[#This Row],[Job Site Employee]],Table1[[#This Row],[Other Employee]])","v":0},{"$f":"IF(Table1[[#This Row],[Total Hours per Month]]=Table1[[#This Row],[Column12]],\"Match\",\"Error\")","v":"Match"},{"$f":"IF(Table1[[#This Row],[Calc 2]]=\"#NA\",\"#NA\",IF(Table1[[#This Row],[Non HZ Employee]]=Table1[[#This Row],[Max calc]],\"Non HZ Employee\", Table1[[#This Row],[Calc 2]]))","v":"#NA"}]
[1186,null,1186,{"$nulls":5},{"$f":"SUM(Table1[[#This Row],[Column4]]+Table1[[#This Row],[Column3]]+Table1[[#This Row],[Column2]]+Table1[[#This Row],[Column1]])","v":0},{"$nulls":5},{"$f":"SUM(Table1[[#This Row],[PO Employee]:[Other Employee]])","v":0},"N",{"$error":"#N/A"},{"$f":"IF(O1203>39,Table1[[#This Row],[Calc 1]],IF(O1203>1,\"Not counted as an Employee\",\"#NA\"))","v":"#NA"},{"$f":"MAX(Table1[[#This Row],[PO Employee]],Table1[[#This Row],[Other HZ Employee]],Table1[[#This Row],[Non HZ Employee]],Table1[[#This Row],[Job Site Employee]],Table1[[#This Row],[Other Employee]])","v":0},{"$f":"IF(Table1[[#This Row],[Total Hours per Month]]=Table1[[#This Row],[Column12]],\"Match\",\"Error\")","v":"Match"},{"$f":"IF(Table1[[#This Row],[Calc 2]]=\"#NA\",\"#NA\",IF(Table1[[#This Row],[Non HZ Employee]]=Table1[[#This Row],[Max calc]],\"Non HZ Employee\", Table1[[#This Row],[Calc 2]]))","v":"#NA"}]
[1187,null,1187,{"$nulls":5},{"$f":"SUM(Table1[[#This Row],[Column4]]+Table1[[#This Row],[Column3]]+Table1[[#This Row],[Column2]]+Table1[[#This Row],[Column1]])","v":0},{"$nulls":5},{"$f":"SUM(Table1[[#This Row],[PO Employee]:[Other Employee]])","v":0},"N",{"$error":"#N/A"},{"$f":"IF(O1204>39,Table1[[#This Row],[Calc 1]],IF(O1204>1,\"Not counted as an Employee\",\"#NA\"))","v":"#NA"},{"$f":"MAX(Table1[[#This Row],[PO Employee]],Table1[[#This Row],[Other HZ Employee]],Table1[[#This Row],[Non HZ Employee]],Table1[[#This Row],[Job Site Employee]],Table1[[#This Row],[Other Employee]])","v":0},{"$f":"IF(Table1[[#This Row],[Total Hours per Month]]=Table1[[#This Row],[Column12]],\"Match\",\"Error\")","v":"Match"},{"$f":"IF(Table1[[#This Row],[Calc 2]]=\"#NA\",\"#NA\",IF(Table1[[#This Row],[Non HZ Employee]]=Table1[[#This Row],[Max calc]],\"Non HZ Employee\", Table1[[#This Row],[Calc 2]]))","v":"#NA"}]
[1188,null,1188,{"$nulls":5},{"$f":"SUM(Table1[[#This Row],[Column4]]+Table1[[#This Row],[Column3]]+Table1[[#This Row],[Column2]]+Table1[[#This Row],[Column1]])","v":0},{"$nulls":5},{"$f":"SUM(Table1[[#This Row],[PO Employee]:[Other Employee]])","v":0},"N",{"$error":"#N/A"},{"$f":"IF(O1205>39,Table1[[#This Row],[Calc 1]],IF(O1205>1,\"Not counted as an Employee\",\"#NA\"))","v":"#NA"},{"$f":"MAX(Table1[[#This Row],[PO Employee]],Table1[[#This Row],[Other HZ Employee]],Table1[[#This Row],[Non HZ Employee]],Table1[[#This Row],[Job Site Employee]],Table1[[#This Row],[Other Employee]])","v":0},{"$f":"IF(Table1[[#This Row],[Total Hours per Month]]=Table1[[#This Row],[Column12]],\"Match\",\"Error\")","v":"Match"},{"$f":"IF(Table1[[#This Row],[Calc 2]]=\"#NA\",\"#NA\",IF(Table1[[#This Row],[Non HZ Employee]]=Table1[[#This Row],[Max calc]],\"Non HZ Employee\", Table1[[#This Row],[Calc 2]]))","v":"#NA"}]
[1189,null,1189,{"$nulls":5},{"$f":"SUM(Table1[[#This Row],[Column4]]+Table1[[#This Row],[Column3]]+Table1[[#This Row],[Column2]]+Table1[[#This Row],[Column1]])","v":0},{"$nulls":5},{"$f":"SUM(Table1[[#This Row],[PO Employee]:[Other Employee]])","v":0},"N",{"$error":"#N/A"},{"$f":"IF(O1206>39,Table1[[#This Row],[Calc 1]],IF(O1206>1,\"Not counted as an Employee\",\"#NA\"))","v":"#NA"},{"$f":"MAX(Table1[[#This Row],[PO Employee]],Table1[[#This Row],[Other HZ Employee]],Table1[[#This Row],[Non HZ Employee]],Table1[[#This Row],[Job Site Employee]],Table1[[#This Row],[Other Employee]])","v":0},{"$f":"IF(Table1[[#This Row],[Total Hours per Month]]=Table1[[#This Row],[Column12]],\"Match\",\"Error\")","v":"Match"},{"$f":"IF(Table1[[#This Row],[Calc 2]]=\"#NA\",\"#NA\",IF(Table1[[#This Row],[Non HZ Employee]]=Table1[[#This Row],[Max calc]],\"Non HZ Employee\", Table1[[#This Row],[Calc 2]]))","v":"#NA"}]
[1190,null,1190,{"$nulls":5},{"$f":"SUM(Table1[[#This Row],[Column4]]+Table1[[#This Row],[Column3]]+Table1[[#This Row],[Column2]]+Table1[[#This Row],[Column1]])","v":0},{"$nulls":5},{"$f":"SUM(Table1[[#This Row],[PO Employee]:[Other Employee]])","v":0},"N",{"$error":"#N/A"},{"$f":"IF(O1207>39,Table1[[#This Row],[Calc 1]],IF(O1207>1,\"Not counted as an Employee\",\"#NA\"))","v":"#NA"},{"$f":"MAX(Table1[[#This Row],[PO Employee]],Table1[[#This Row],[Other HZ Employee]],Table1[[#This Row],[Non HZ Employee]],Table1[[#This Row],[Job Site Employee]],Table1[[#This Row],[Other Employee]])","v":0},{"$f":"IF(Table1[[#This Row],[Total Hours per Month]]=Table1[[#This Row],[Column12]],\"Match\",\"Error\")","v":"Match"},{"$f":"IF(Table1[[#This Row],[Calc 2]]=\"#NA\",\"#NA\",IF(Table1[[#This Row],[Non HZ Employee]]=Table1[[#This Row],[Max calc]],\"Non HZ Employee\", Table1[[#This Row],[Calc 2]]))","v":"#NA"}]
[1191,null,1191,{"$nulls":5},{"$f":"SUM(Table1[[#This Row],[Column4]]+Table1[[#This Row],[Column3]]+Table1[[#This Row],[Column2]]+Table1[[#This Row],[Column1]])","v":0},{"$nulls":5},{"$f":"SUM(Table1[[#This Row],[PO Employee]:[Other Employee]])","v":0},"N",{"$error":"#N/A"},{"$f":"IF(O1208>39,Table1[[#This Row],[Calc 1]],IF(O1208>1,\"Not counted as an Employee\",\"#NA\"))","v":"#NA"},{"$f":"MAX(Table1[[#This Row],[PO Employee]],Table1[[#This Row],[Other HZ Employee]],Table1[[#This Row],[Non HZ Employee]],Table1[[#This Row],[Job Site Employee]],Table1[[#This Row],[Other Employee]])","v":0},{"$f":"IF(Table1[[#This Row],[Total Hours per Month]]=Table1[[#This Row],[Column12]],\"Match\",\"Error\")","v":"Match"},{"$f":"IF(Table1[[#This Row],[Calc 2]]=\"#NA\",\"#NA\",IF(Table1[[#This Row],[Non HZ Employee]]=Table1[[#This Row],[Max calc]],\"Non HZ Employee\", Table1[[#This Row],[Calc 2]]))","v":"#NA"}]
[1192,null,1192,{"$nulls":5},{"$f":"SUM(Table1[[#This Row],[Column4]]+Table1[[#This Row],[Column3]]+Table1[[#This Row],[Column2]]+Table1[[#This Row],[Column1]])","v":0},{"$nulls":5},{"$f":"SUM(Table1[[#This Row],[PO Employee]:[Other Employee]])","v":0},"N",{"$error":"#N/A"},{"$f":"IF(O1209>39,Table1[[#This Row],[Calc 1]],IF(O1209>1,\"Not counted as an Employee\",\"#NA\"))","v":"#NA"},{"$f":"MAX(Table1[[#This Row],[PO Employee]],Table1[[#This Row],[Other HZ Employee]],Table1[[#This Row],[Non HZ Employee]],Table1[[#This Row],[Job Site Employee]],Table1[[#This Row],[Other Employee]])","v":0},{"$f":"IF(Table1[[#This Row],[Total Hours per Month]]=Table1[[#This Row],[Column12]],\"Match\",\"Error\")","v":"Match"},{"$f":"IF(Table1[[#This Row],[Calc 2]]=\"#NA\",\"#NA\",IF(Table1[[#This Row],[Non HZ Employee]]=Table1[[#This Row],[Max calc]],\"Non HZ Employee\", Table1[[#This Row],[Calc 2]]))","v":"#NA"}]
[1193,null,1193,{"$nulls":5},{"$f":"SUM(Table1[[#This Row],[Column4]]+Table1[[#This Row],[Column3]]+Table1[[#This Row],[Column2]]+Table1[[#This Row],[Column1]])","v":0},{"$nulls":5},{"$f":"SUM(Table1[[#This Row],[PO Employee]:[Other Employee]])","v":0},"N",{"$error":"#N/A"},{"$f":"IF(O1210>39,Table1[[#This Row],[Calc 1]],IF(O1210>1,\"Not counted as an Employee\",\"#NA\"))","v":"#NA"},{"$f":"MAX(Table1[[#This Row],[PO Employee]],Table1[[#This Row],[Other HZ Employee]],Table1[[#This Row],[Non HZ Employee]],Table1[[#This Row],[Job Site Employee]],Table1[[#This Row],[Other Employee]])","v":0},{"$f":"IF(Table1[[#This Row],[Total Hours per Month]]=Table1[[#This Row],[Column12]],\"Match\",\"Error\")","v":"Match"},{"$f":"IF(Table1[[#This Row],[Calc 2]]=\"#NA\",\"#NA\",IF(Table1[[#This Row],[Non HZ Employee]]=Table1[[#This Row],[Max calc]],\"Non HZ Employee\", Table1[[#This Row],[Calc 2]]))","v":"#NA"}]
[1194,null,1194,{"$nulls":5},{"$f":"SUM(Table1[[#This Row],[Column4]]+Table1[[#This Row],[Column3]]+Table1[[#This Row],[Column2]]+Table1[[#This Row],[Column1]])","v":0},{"$nulls":5},{"$f":"SUM(Table1[[#This Row],[PO Employee]:[Other Employee]])","v":0},"N",{"$error":"#N/A"},{"$f":"IF(O1211>39,Table1[[#This Row],[Calc 1]],IF(O1211>1,\"Not counted as an Employee\",\"#NA\"))","v":"#NA"},{"$f":"MAX(Table1[[#This Row],[PO Employee]],Table1[[#This Row],[Other HZ Employee]],Table1[[#This Row],[Non HZ Employee]],Table1[[#This Row],[Job Site Employee]],Table1[[#This Row],[Other Employee]])","v":0},{"$f":"IF(Table1[[#This Row],[Total Hours per Month]]=Table1[[#This Row],[Column12]],\"Match\",\"Error\")","v":"Match"},{"$f":"IF(Table1[[#This Row],[Calc 2]]=\"#NA\",\"#NA\",IF(Table1[[#This Row],[Non HZ Employee]]=Table1[[#This Row],[Max calc]],\"Non HZ Employee\", Table1[[#This Row],[Calc 2]]))","v":"#NA"}]
[1195,null,1195,{"$nulls":5},{"$f":"SUM(Table1[[#This Row],[Column4]]+Table1[[#This Row],[Column3]]+Table1[[#This Row],[Column2]]+Table1[[#This Row],[Column1]])","v":0},{"$nulls":5},{"$f":"SUM(Table1[[#This Row],[PO Employee]:[Other Employee]])","v":0},"N",{"$error":"#N/A"},{"$f":"IF(O1212>39,Table1[[#This Row],[Calc 1]],IF(O1212>1,\"Not counted as an Employee\",\"#NA\"))","v":"#NA"},{"$f":"MAX(Table1[[#This Row],[PO Employee]],Table1[[#This Row],[Other HZ Employee]],Table1[[#This Row],[Non HZ Employee]],Table1[[#This Row],[Job Site Employee]],Table1[[#This Row],[Other Employee]])","v":0},{"$f":"IF(Table1[[#This Row],[Total Hours per Month]]=Table1[[#This Row],[Column12]],\"Match\",\"Error\")","v":"Match"},{"$f":"IF(Table1[[#This Row],[Calc 2]]=\"#NA\",\"#NA\",IF(Table1[[#This Row],[Non HZ Employee]]=Table1[[#This Row],[Max calc]],\"Non HZ Employee\", Table1[[#This Row],[Calc 2]]))","v":"#NA"}]
[1196,null,1196,{"$nulls":5},{"$f":"SUM(Table1[[#This Row],[Column4]]+Table1[[#This Row],[Column3]]+Table1[[#This Row],[Column2]]+Table1[[#This Row],[Column1]])","v":0},{"$nulls":5},{"$f":"SUM(Table1[[#This Row],[PO Employee]:[Other Employee]])","v":0},"N",{"$error":"#N/A"},{"$f":"IF(O1213>39,Table1[[#This Row],[Calc 1]],IF(O1213>1,\"Not counted as an Employee\",\"#NA\"))","v":"#NA"},{"$f":"MAX(Table1[[#This Row],[PO Employee]],Table1[[#This Row],[Other HZ Employee]],Table1[[#This Row],[Non HZ Employee]],Table1[[#This Row],[Job Site Employee]],Table1[[#This Row],[Other Employee]])","v":0},{"$f":"IF(Table1[[#This Row],[Total Hours per Month]]=Table1[[#This Row],[Column12]],\"Match\",\"Error\")","v":"Match"},{"$f":"IF(Table1[[#This Row],[Calc 2]]=\"#NA\",\"#NA\",IF(Table1[[#This Row],[Non HZ Employee]]=Table1[[#This Row],[Max calc]],\"Non HZ Employee\", Table1[[#This Row],[Calc 2]]))","v":"#NA"}]
[1197,null,1197,{"$nulls":5},{"$f":"SUM(Table1[[#This Row],[Column4]]+Table1[[#This Row],[Column3]]+Table1[[#This Row],[Column2]]+Table1[[#This Row],[Column1]])","v":0},{"$nulls":5},{"$f":"SUM(Table1[[#This Row],[PO Employee]:[Other Employee]])","v":0},"N",{"$error":"#N/A"},{"$f":"IF(O1214>39,Table1[[#This Row],[Calc 1]],IF(O1214>1,\"Not counted as an Employee\",\"#NA\"))","v":"#NA"},{"$f":"MAX(Table1[[#This Row],[PO Employee]],Table1[[#This Row],[Other HZ Employee]],Table1[[#This Row],[Non HZ Employee]],Table1[[#This Row],[Job Site Employee]],Table1[[#This Row],[Other Employee]])","v":0},{"$f":"IF(Table1[[#This Row],[Total Hours per Month]]=Table1[[#This Row],[Column12]],\"Match\",\"Error\")","v":"Match"},{"$f":"IF(Table1[[#This Row],[Calc 2]]=\"#NA\",\"#NA\",IF(Table1[[#This Row],[Non HZ Employee]]=Table1[[#This Row],[Max calc]],\"Non HZ Employee\", Table1[[#This Row],[Calc 2]]))","v":"#NA"}]
[1198,null,1198,{"$nulls":5},{"$f":"SUM(Table1[[#This Row],[Column4]]+Table1[[#This Row],[Column3]]+Table1[[#This Row],[Column2]]+Table1[[#This Row],[Column1]])","v":0},{"$nulls":5},{"$f":"SUM(Table1[[#This Row],[PO Employee]:[Other Employee]])","v":0},"N",{"$error":"#N/A"},{"$f":"IF(O1215>39,Table1[[#This Row],[Calc 1]],IF(O1215>1,\"Not counted as an Employee\",\"#NA\"))","v":"#NA"},{"$f":"MAX(Table1[[#This Row],[PO Employee]],Table1[[#This Row],[Other HZ Employee]],Table1[[#This Row],[Non HZ Employee]],Table1[[#This Row],[Job Site Employee]],Table1[[#This Row],[Other Employee]])","v":0},{"$f":"IF(Table1[[#This Row],[Total Hours per Month]]=Table1[[#This Row],[Column12]],\"Match\",\"Error\")","v":"Match"},{"$f":"IF(Table1[[#This Row],[Calc 2]]=\"#NA\",\"#NA\",IF(Table1[[#This Row],[Non HZ Employee]]=Table1[[#This Row],[Max calc]],\"Non HZ Employee\", Table1[[#This Row],[Calc 2]]))","v":"#NA"}]
[1199,null,1199,{"$nulls":5},{"$f":"SUM(Table1[[#This Row],[Column4]]+Table1[[#This Row],[Column3]]+Table1[[#This Row],[Column2]]+Table1[[#This Row],[Column1]])","v":0},{"$nulls":5},{"$f":"SUM(Table1[[#This Row],[PO Employee]:[Other Employee]])","v":0},"N",{"$error":"#N/A"},{"$f":"IF(O1216>39,Table1[[#This Row],[Calc 1]],IF(O1216>1,\"Not counted as an Employee\",\"#NA\"))","v":"#NA"},{"$f":"MAX(Table1[[#This Row],[PO Employee]],Table1[[#This Row],[Other HZ Employee]],Table1[[#This Row],[Non HZ Employee]],Table1[[#This Row],[Job Site Employee]],Table1[[#This Row],[Other Employee]])","v":0},{"$f":"IF(Table1[[#This Row],[Total Hours per Month]]=Table1[[#This Row],[Column12]],\"Match\",\"Error\")","v":"Match"},{"$f":"IF(Table1[[#This Row],[Calc 2]]=\"#NA\",\"#NA\",IF(Table1[[#This Row],[Non HZ Employee]]=Table1[[#This Row],[Max calc]],\"Non HZ Employee\", Table1[[#This Row],[Calc 2]]))","v":"#NA"}]
[1200,null,1200,{"$nulls":5},{"$f":"SUM(Table1[[#This Row],[Column4]]+Table1[[#This Row],[Column3]]+Table1[[#This Row],[Column2]]+Table1[[#This Row],[Column1]])","v":0},{"$nulls":5},{"$f":"SUM(Table1[[#This Row],[PO Employee]:[Other Employee]])","v":0},"N",{"$error":"#N/A"},{"$f":"IF(O1217>39,Table1[[#This Row],[Calc 1]],IF(O1217>1,\"Not counted as an Employee\",\"#NA\"))","v":"#NA"},{"$f":"MAX(Table1[[#This Row],[PO Employee]],Table1[[#This Row],[Other HZ Employee]],Table1[[#This Row],[Non HZ Employee]],Table1[[#This Row],[Job Site Employee]],Table1[[#This Row],[Other Employee]])","v":0},{"$f":"IF(Table1[[#This Row],[Total Hours per Month]]=Table1[[#This Row],[Column12]],\"Match\",\"Error\")","v":"Match"},{"$f":"IF(Table1[[#This Row],[Calc 2]]=\"#NA\",\"#NA\",IF(Table1[[#This Row],[Non HZ Employee]]=Table1[[#This Row],[Max calc]],\"Non HZ Employee\", Table1[[#This Row],[Calc 2]]))","v":"#NA"}]
[1201,null,1201,{"$nulls":5},{"$f":"SUM(Table1[[#This Row],[Column4]]+Table1[[#This Row],[Column3]]+Table1[[#This Row],[Column2]]+Table1[[#This Row],[Column1]])","v":0},{"$nulls":5},{"$f":"SUM(Table1[[#This Row],[PO Employee]:[Other Employee]])","v":0},"N",{"$error":"#N/A"},{"$f":"IF(O1218>39,Table1[[#This Row],[Calc 1]],IF(O1218>1,\"Not counted as an Employee\",\"#NA\"))","v":"#NA"},{"$f":"MAX(Table1[[#This Row],[PO Employee]],Table1[[#This Row],[Other HZ Employee]],Table1[[#This Row],[Non HZ Employee]],Table1[[#This Row],[Job Site Employee]],Table1[[#This Row],[Other Employee]])","v":0},{"$f":"IF(Table1[[#This Row],[Total Hours per Month]]=Table1[[#This Row],[Column12]],\"Match\",\"Error\")","v":"Match"},{"$f":"IF(Table1[[#This Row],[Calc 2]]=\"#NA\",\"#NA\",IF(Table1[[#This Row],[Non HZ Employee]]=Table1[[#This Row],[Max calc]],\"Non HZ Employee\", Table1[[#This Row],[Calc 2]]))","v":"#NA"}]
[1202,null,1202,{"$nulls":5},{"$f":"SUM(Table1[[#This Row],[Column4]]+Table1[[#This Row],[Column3]]+Table1[[#This Row],[Column2]]+Table1[[#This Row],[Column1]])","v":0},{"$nulls":5},{"$f":"SUM(Table1[[#This Row],[PO Employee]:[Other Employee]])","v":0},"N",{"$error":"#N/A"},{"$f":"IF(O1219>39,Table1[[#This Row],[Calc 1]],IF(O1219>1,\"Not counted as an Employee\",\"#NA\"))","v":"#NA"},{"$f":"MAX(Table1[[#This Row],[PO Employee]],Table1[[#This Row],[Other HZ Employee]],Table1[[#This Row],[Non HZ Employee]],Table1[[#This Row],[Job Site Employee]],Table1[[#This Row],[Other Employee]])","v":0},{"$f":"IF(Table1[[#This Row],[Total Hours per Month]]=Table1[[#This Row],[Column12]],\"Match\",\"Error\")","v":"Match"},{"$f":"IF(Table1[[#This Row],[Calc 2]]=\"#NA\",\"#NA\",IF(Table1[[#This Row],[Non HZ Employee]]=Table1[[#This Row],[Max calc]],\"Non HZ Employee\", Table1[[#This Row],[Calc 2]]))","v":"#NA"}]
[1203,null,1203,{"$nulls":5},{"$f":"SUM(Table1[[#This Row],[Column4]]+Table1[[#This Row],[Column3]]+Table1[[#This Row],[Column2]]+Table1[[#This Row],[Column1]])","v":0},{"$nulls":5},{"$f":"SUM(Table1[[#This Row],[PO Employee]:[Other Employee]])","v":0},"N",{"$error":"#N/A"},{"$f":"IF(O1220>39,Table1[[#This Row],[Calc 1]],IF(O1220>1,\"Not counted as an Employee\",\"#NA\"))","v":"#NA"},{"$f":"MAX(Table1[[#This Row],[PO Employee]],Table1[[#This Row],[Other HZ Employee]],Table1[[#This Row],[Non HZ Employee]],Table1[[#This Row],[Job Site Employee]],Table1[[#This Row],[Other Employee]])","v":0},{"$f":"IF(Table1[[#This Row],[Total Hours per Month]]=Table1[[#This Row],[Column12]],\"Match\",\"Error\")","v":"Match"},{"$f":"IF(Table1[[#This Row],[Calc 2]]=\"#NA\",\"#NA\",IF(Table1[[#This Row],[Non HZ Employee]]=Table1[[#This Row],[Max calc]],\"Non HZ Employee\", Table1[[#This Row],[Calc 2]]))","v":"#NA"}]
[1204,null,1204,{"$nulls":5},{"$f":"SUM(Table1[[#This Row],[Column4]]+Table1[[#This Row],[Column3]]+Table1[[#This Row],[Column2]]+Table1[[#This Row],[Column1]])","v":0},{"$nulls":5},{"$f":"SUM(Table1[[#This Row],[PO Employee]:[Other Employee]])","v":0},"N",{"$error":"#N/A"},{"$f":"IF(O1221>39,Table1[[#This Row],[Calc 1]],IF(O1221>1,\"Not counted as an Employee\",\"#NA\"))","v":"#NA"},{"$f":"MAX(Table1[[#This Row],[PO Employee]],Table1[[#This Row],[Other HZ Employee]],Table1[[#This Row],[Non HZ Employee]],Table1[[#This Row],[Job Site Employee]],Table1[[#This Row],[Other Employee]])","v":0},{"$f":"IF(Table1[[#This Row],[Total Hours per Month]]=Table1[[#This Row],[Column12]],\"Match\",\"Error\")","v":"Match"},{"$f":"IF(Table1[[#This Row],[Calc 2]]=\"#NA\",\"#NA\",IF(Table1[[#This Row],[Non HZ Employee]]=Table1[[#This Row],[Max calc]],\"Non HZ Employee\", Table1[[#This Row],[Calc 2]]))","v":"#NA"}]
[1205,null,1205,{"$nulls":5},{"$f":"SUM(Table1[[#This Row],[Column4]]+Table1[[#This Row],[Column3]]+Table1[[#This Row],[Column2]]+Table1[[#This Row],[Column1]])","v":0},{"$nulls":5},{"$f":"SUM(Table1[[#This Row],[PO Employee]:[Other Employee]])","v":0},"N",{"$error":"#N/A"},{"$f":"IF(O1222>39,Table1[[#This Row],[Calc 1]],IF(O1222>1,\"Not counted as an Employee\",\"#NA\"))","v":"#NA"},{"$f":"MAX(Table1[[#This Row],[PO Employee]],Table1[[#This Row],[Other HZ Employee]],Table1[[#This Row],[Non HZ Employee]],Table1[[#This Row],[Job Site Employee]],Table1[[#This Row],[Other Employee]])","v":0},{"$f":"IF(Table1[[#This Row],[Total Hours per Month]]=Table1[[#This Row],[Column12]],\"Match\",\"Error\")","v":"Match"},{"$f":"IF(Table1[[#This Row],[Calc 2]]=\"#NA\",\"#NA\",IF(Table1[[#This Row],[Non HZ Employee]]=Table1[[#This Row],[Max calc]],\"Non HZ Employee\", Table1[[#This Row],[Calc 2]]))","v":"#NA"}]
[1206,null,1206,{"$nulls":5},{"$f":"SUM(Table1[[#This Row],[Column4]]+Table1[[#This Row],[Column3]]+Table1[[#This Row],[Column2]]+Table1[[#This Row],[Column1]])","v":0},{"$nulls":5},{"$f":"SUM(Table1[[#This Row],[PO Employee]:[Other Employee]])","v":0},"N",{"$error":"#N/A"},{"$f":"IF(O1223>39,Table1[[#This Row],[Calc 1]],IF(O1223>1,\"Not counted as an Employee\",\"#NA\"))","v":"#NA"},{"$f":"MAX(Table1[[#This Row],[PO Employee]],Table1[[#This Row],[Other HZ Employee]],Table1[[#This Row],[Non HZ Employee]],Table1[[#This Row],[Job Site Employee]],Table1[[#This Row],[Other Employee]])","v":0},{"$f":"IF(Table1[[#This Row],[Total Hours per Month]]=Table1[[#This Row],[Column12]],\"Match\",\"Error\")","v":"Match"},{"$f":"IF(Table1[[#This Row],[Calc 2]]=\"#NA\",\"#NA\",IF(Table1[[#This Row],[Non HZ Employee]]=Table1[[#This Row],[Max calc]],\"Non HZ Employee\", Table1[[#This Row],[Calc 2]]))","v":"#NA"}]
[1207,null,1207,{"$nulls":5},{"$f":"SUM(Table1[[#This Row],[Column4]]+Table1[[#This Row],[Column3]]+Table1[[#This Row],[Column2]]+Table1[[#This Row],[Column1]])","v":0},{"$nulls":5},{"$f":"SUM(Table1[[#This Row],[PO Employee]:[Other Employee]])","v":0},"N",{"$error":"#N/A"},{"$f":"IF(O1224>39,Table1[[#This Row],[Calc 1]],IF(O1224>1,\"Not counted as an Employee\",\"#NA\"))","v":"#NA"},{"$f":"MAX(Table1[[#This Row],[PO Employee]],Table1[[#This Row],[Other HZ Employee]],Table1[[#This Row],[Non HZ Employee]],Table1[[#This Row],[Job Site Employee]],Table1[[#This Row],[Other Employee]])","v":0},{"$f":"IF(Table1[[#This Row],[Total Hours per Month]]=Table1[[#This Row],[Column12]],\"Match\",\"Error\")","v":"Match"},{"$f":"IF(Table1[[#This Row],[Calc 2]]=\"#NA\",\"#NA\",IF(Table1[[#This Row],[Non HZ Employee]]=Table1[[#This Row],[Max calc]],\"Non HZ Employee\", Table1[[#This Row],[Calc 2]]))","v":"#NA"}]
[1208,null,1208,{"$nulls":5},{"$f":"SUM(Table1[[#This Row],[Column4]]+Table1[[#This Row],[Column3]]+Table1[[#This Row],[Column2]]+Table1[[#This Row],[Column1]])","v":0},{"$nulls":5},{"$f":"SUM(Table1[[#This Row],[PO Employee]:[Other Employee]])","v":0},"N",{"$error":"#N/A"},{"$f":"IF(O1225>39,Table1[[#This Row],[Calc 1]],IF(O1225>1,\"Not counted as an Employee\",\"#NA\"))","v":"#NA"},{"$f":"MAX(Table1[[#This Row],[PO Employee]],Table1[[#This Row],[Other HZ Employee]],Table1[[#This Row],[Non HZ Employee]],Table1[[#This Row],[Job Site Employee]],Table1[[#This Row],[Other Employee]])","v":0},{"$f":"IF(Table1[[#This Row],[Total Hours per Month]]=Table1[[#This Row],[Column12]],\"Match\",\"Error\")","v":"Match"},{"$f":"IF(Table1[[#This Row],[Calc 2]]=\"#NA\",\"#NA\",IF(Table1[[#This Row],[Non HZ Employee]]=Table1[[#This Row],[Max calc]],\"Non HZ Employee\", Table1[[#This Row],[Calc 2]]))","v":"#NA"}]
[1209,null,1209,{"$nulls":5},{"$f":"SUM(Table1[[#This Row],[Column4]]+Table1[[#This Row],[Column3]]+Table1[[#This Row],[Column2]]+Table1[[#This Row],[Column1]])","v":0},{"$nulls":5},{"$f":"SUM(Table1[[#This Row],[PO Employee]:[Other Employee]])","v":0},"N",{"$error":"#N/A"},{"$f":"IF(O1226>39,Table1[[#This Row],[Calc 1]],IF(O1226>1,\"Not counted as an Employee\",\"#NA\"))","v":"#NA"},{"$f":"MAX(Table1[[#This Row],[PO Employee]],Table1[[#This Row],[Other HZ Employee]],Table1[[#This Row],[Non HZ Employee]],Table1[[#This Row],[Job Site Employee]],Table1[[#This Row],[Other Employee]])","v":0},{"$f":"IF(Table1[[#This Row],[Total Hours per Month]]=Table1[[#This Row],[Column12]],\"Match\",\"Error\")","v":"Match"},{"$f":"IF(Table1[[#This Row],[Calc 2]]=\"#NA\",\"#NA\",IF(Table1[[#This Row],[Non HZ Employee]]=Table1[[#This Row],[Max calc]],\"Non HZ Employee\", Table1[[#This Row],[Calc 2]]))","v":"#NA"}]
[1210,null,1210,{"$nulls":5},{"$f":"SUM(Table1[[#This Row],[Column4]]+Table1[[#This Row],[Column3]]+Table1[[#This Row],[Column2]]+Table1[[#This Row],[Column1]])","v":0},{"$nulls":5},{"$f":"SUM(Table1[[#This Row],[PO Employee]:[Other Employee]])","v":0},"N",{"$error":"#N/A"},{"$f":"IF(O1227>39,Table1[[#This Row],[Calc 1]],IF(O1227>1,\"Not counted as an Employee\",\"#NA\"))","v":"#NA"},{"$f":"MAX(Table1[[#This Row],[PO Employee]],Table1[[#This Row],[Other HZ Employee]],Table1[[#This Row],[Non HZ Employee]],Table1[[#This Row],[Job Site Employee]],Table1[[#This Row],[Other Employee]])","v":0},{"$f":"IF(Table1[[#This Row],[Total Hours per Month]]=Table1[[#This Row],[Column12]],\"Match\",\"Error\")","v":"Match"},{"$f":"IF(Table1[[#This Row],[Calc 2]]=\"#NA\",\"#NA\",IF(Table1[[#This Row],[Non HZ Employee]]=Table1[[#This Row],[Max calc]],\"Non HZ Employee\", Table1[[#This Row],[Calc 2]]))","v":"#NA"}]
[1211,null,1211,{"$nulls":5},{"$f":"SUM(Table1[[#This Row],[Column4]]+Table1[[#This Row],[Column3]]+Table1[[#This Row],[Column2]]+Table1[[#This Row],[Column1]])","v":0},{"$nulls":5},{"$f":"SUM(Table1[[#This Row],[PO Employee]:[Other Employee]])","v":0},"N",{"$error":"#N/A"},{"$f":"IF(O1228>39,Table1[[#This Row],[Calc 1]],IF(O1228>1,\"Not counted as an Employee\",\"#NA\"))","v":"#NA"},{"$f":"MAX(Table1[[#This Row],[PO Employee]],Table1[[#This Row],[Other HZ Employee]],Table1[[#This Row],[Non HZ Employee]],Table1[[#This Row],[Job Site Employee]],Table1[[#This Row],[Other Employee]])","v":0},{"$f":"IF(Table1[[#This Row],[Total Hours per Month]]=Table1[[#This Row],[Column12]],\"Match\",\"Error\")","v":"Match"},{"$f":"IF(Table1[[#This Row],[Calc 2]]=\"#NA\",\"#NA\",IF(Table1[[#This Row],[Non HZ Employee]]=Table1[[#This Row],[Max calc]],\"Non HZ Employee\", Table1[[#This Row],[Calc 2]]))","v":"#NA"}]
[1212,null,1212,{"$nulls":5},{"$f":"SUM(Table1[[#This Row],[Column4]]+Table1[[#This Row],[Column3]]+Table1[[#This Row],[Column2]]+Table1[[#This Row],[Column1]])","v":0},{"$nulls":5},{"$f":"SUM(Table1[[#This Row],[PO Employee]:[Other Employee]])","v":0},"N",{"$error":"#N/A"},{"$f":"IF(O1229>39,Table1[[#This Row],[Calc 1]],IF(O1229>1,\"Not counted as an Employee\",\"#NA\"))","v":"#NA"},{"$f":"MAX(Table1[[#This Row],[PO Employee]],Table1[[#This Row],[Other HZ Employee]],Table1[[#This Row],[Non HZ Employee]],Table1[[#This Row],[Job Site Employee]],Table1[[#This Row],[Other Employee]])","v":0},{"$f":"IF(Table1[[#This Row],[Total Hours per Month]]=Table1[[#This Row],[Column12]],\"Match\",\"Error\")","v":"Match"},{"$f":"IF(Table1[[#This Row],[Calc 2]]=\"#NA\",\"#NA\",IF(Table1[[#This Row],[Non HZ Employee]]=Table1[[#This Row],[Max calc]],\"Non HZ Employee\", Table1[[#This Row],[Calc 2]]))","v":"#NA"}]
[1213,null,1213,{"$nulls":5},{"$f":"SUM(Table1[[#This Row],[Column4]]+Table1[[#This Row],[Column3]]+Table1[[#This Row],[Column2]]+Table1[[#This Row],[Column1]])","v":0},{"$nulls":5},{"$f":"SUM(Table1[[#This Row],[PO Employee]:[Other Employee]])","v":0},"N",{"$error":"#N/A"},{"$f":"IF(O1230>39,Table1[[#This Row],[Calc 1]],IF(O1230>1,\"Not counted as an Employee\",\"#NA\"))","v":"#NA"},{"$f":"MAX(Table1[[#This Row],[PO Employee]],Table1[[#This Row],[Other HZ Employee]],Table1[[#This Row],[Non HZ Employee]],Table1[[#This Row],[Job Site Employee]],Table1[[#This Row],[Other Employee]])","v":0},{"$f":"IF(Table1[[#This Row],[Total Hours per Month]]=Table1[[#This Row],[Column12]],\"Match\",\"Error\")","v":"Match"},{"$f":"IF(Table1[[#This Row],[Calc 2]]=\"#NA\",\"#NA\",IF(Table1[[#This Row],[Non HZ Employee]]=Table1[[#This Row],[Max calc]],\"Non HZ Employee\", Table1[[#This Row],[Calc 2]]))","v":"#NA"}]
[1214,null,1214,{"$nulls":5},{"$f":"SUM(Table1[[#This Row],[Column4]]+Table1[[#This Row],[Column3]]+Table1[[#This Row],[Column2]]+Table1[[#This Row],[Column1]])","v":0},{"$nulls":5},{"$f":"SUM(Table1[[#This Row],[PO Employee]:[Other Employee]])","v":0},"N",{"$error":"#N/A"},{"$f":"IF(O1231>39,Table1[[#This Row],[Calc 1]],IF(O1231>1,\"Not counted as an Employee\",\"#NA\"))","v":"#NA"},{"$f":"MAX(Table1[[#This Row],[PO Employee]],Table1[[#This Row],[Other HZ Employee]],Table1[[#This Row],[Non HZ Employee]],Table1[[#This Row],[Job Site Employee]],Table1[[#This Row],[Other Employee]])","v":0},{"$f":"IF(Table1[[#This Row],[Total Hours per Month]]=Table1[[#This Row],[Column12]],\"Match\",\"Error\")","v":"Match"},{"$f":"IF(Table1[[#This Row],[Calc 2]]=\"#NA\",\"#NA\",IF(Table1[[#This Row],[Non HZ Employee]]=Table1[[#This Row],[Max calc]],\"Non HZ Employee\", Table1[[#This Row],[Calc 2]]))","v":"#NA"}]
[1215,null,1215,{"$nulls":5},{"$f":"SUM(Table1[[#This Row],[Column4]]+Table1[[#This Row],[Column3]]+Table1[[#This Row],[Column2]]+Table1[[#This Row],[Column1]])","v":0},{"$nulls":5},{"$f":"SUM(Table1[[#This Row],[PO Employee]:[Other Employee]])","v":0},"N",{"$error":"#N/A"},{"$f":"IF(O1232>39,Table1[[#This Row],[Calc 1]],IF(O1232>1,\"Not counted as an Employee\",\"#NA\"))","v":"#NA"},{"$f":"MAX(Table1[[#This Row],[PO Employee]],Table1[[#This Row],[Other HZ Employee]],Table1[[#This Row],[Non HZ Employee]],Table1[[#This Row],[Job Site Employee]],Table1[[#This Row],[Other Employee]])","v":0},{"$f":"IF(Table1[[#This Row],[Total Hours per Month]]=Table1[[#This Row],[Column12]],\"Match\",\"Error\")","v":"Match"},{"$f":"IF(Table1[[#This Row],[Calc 2]]=\"#NA\",\"#NA\",IF(Table1[[#This Row],[Non HZ Employee]]=Table1[[#This Row],[Max calc]],\"Non HZ Employee\", Table1[[#This Row],[Calc 2]]))","v":"#NA"}]
[1216,null,1216,{"$nulls":5},{"$f":"SUM(Table1[[#This Row],[Column4]]+Table1[[#This Row],[Column3]]+Table1[[#This Row],[Column2]]+Table1[[#This Row],[Column1]])","v":0},{"$nulls":5},{"$f":"SUM(Table1[[#This Row],[PO Employee]:[Other Employee]])","v":0},"N",{"$error":"#N/A"},{"$f":"IF(O1233>39,Table1[[#This Row],[Calc 1]],IF(O1233>1,\"Not counted as an Employee\",\"#NA\"))","v":"#NA"},{"$f":"MAX(Table1[[#This Row],[PO Employee]],Table1[[#This Row],[Other HZ Employee]],Table1[[#This Row],[Non HZ Employee]],Table1[[#This Row],[Job Site Employee]],Table1[[#This Row],[Other Employee]])","v":0},{"$f":"IF(Table1[[#This Row],[Total Hours per Month]]=Table1[[#This Row],[Column12]],\"Match\",\"Error\")","v":"Match"},{"$f":"IF(Table1[[#This Row],[Calc 2]]=\"#NA\",\"#NA\",IF(Table1[[#This Row],[Non HZ Employee]]=Table1[[#This Row],[Max calc]],\"Non HZ Employee\", Table1[[#This Row],[Calc 2]]))","v":"#NA"}]
[1217,null,1217,{"$nulls":5},{"$f":"SUM(Table1[[#This Row],[Column4]]+Table1[[#This Row],[Column3]]+Table1[[#This Row],[Column2]]+Table1[[#This Row],[Column1]])","v":0},{"$nulls":5},{"$f":"SUM(Table1[[#This Row],[PO Employee]:[Other Employee]])","v":0},"N",{"$f":"INDEX($J$17:$N$17,MATCH(MAX(J1234:N1234),J1234:N1234,0))","v":{"$error":"#N/A"}},{"$f":"IF(O1234>39,Table1[[#This Row],[Calc 1]],IF(O1234>1,\"Not counted as an Employee\",\"#NA\"))","v":"#NA"},{"$f":"MAX(Table1[[#This Row],[PO Employee]],Table1[[#This Row],[Other HZ Employee]],Table1[[#This Row],[Non HZ Employee]],Table1[[#This Row],[Job Site Employee]],Table1[[#This Row],[Other Employee]])","v":0},{"$f":"IF(Table1[[#This Row],[Total Hours per Month]]=Table1[[#This Row],[Column12]],\"Match\",\"Error\")","v":"Match"},{"$f":"IF(Table1[[#This Row],[Calc 2]]=\"#NA\",\"#NA\",IF(Table1[[#This Row],[Non HZ Employee]]=Table1[[#This Row],[Max calc]],\"Non HZ Employee\", Table1[[#This Row],[Calc 2]]))","v":"#NA"}]
[1218,null,1218,{"$nulls":5},{"$f":"SUM(Table1[[#This Row],[Column4]]+Table1[[#This Row],[Column3]]+Table1[[#This Row],[Column2]]+Table1[[#This Row],[Column1]])","v":0},{"$nulls":5},{"$f":"SUM(Table1[[#This Row],[PO Employee]:[Other Employee]])","v":0},{"$f":"IF(O1235>=40,\"Y\",\"N\")","v":"N"},{"$error":"#N/A"},{"$f":"IF(O1235>39,Table1[[#This Row],[Calc 1]],IF(O1235>1,\"Not counted as an Employee\",\"#NA\"))","v":"#NA"},{"$f":"MAX(Table1[[#This Row],[PO Employee]],Table1[[#This Row],[Other HZ Employee]],Table1[[#This Row],[Non HZ Employee]],Table1[[#This Row],[Job Site Employee]],Table1[[#This Row],[Other Employee]])","v":0},{"$f":"IF(Table1[[#This Row],[Total Hours per Month]]=Table1[[#This Row],[Column12]],\"Match\",\"Error\")","v":"Match"},{"$f":"IF(Table1[[#This Row],[Calc 2]]=\"#NA\",\"#NA\",IF(Table1[[#This Row],[Non HZ Employee]]=Table1[[#This Row],[Max calc]],\"Non HZ Employee\", Table1[[#This Row],[Calc 2]]))","v":"#NA"}]
[1219,null,1219,{"$nulls":5},{"$f":"SUM(Table1[[#This Row],[Column4]]+Table1[[#This Row],[Column3]]+Table1[[#This Row],[Column2]]+Table1[[#This Row],[Column1]])","v":0},{"$nulls":5},{"$f":"SUM(Table1[[#This Row],[PO Employee]:[Other Employee]])","v":0},"N",{"$error":"#N/A"},{"$f":"IF(O1236>39,Table1[[#This Row],[Calc 1]],IF(O1236>1,\"Not counted as an Employee\",\"#NA\"))","v":"#NA"},{"$f":"MAX(Table1[[#This Row],[PO Employee]],Table1[[#This Row],[Other HZ Employee]],Table1[[#This Row],[Non HZ Employee]],Table1[[#This Row],[Job Site Employee]],Table1[[#This Row],[Other Employee]])","v":0},{"$f":"IF(Table1[[#This Row],[Total Hours per Month]]=Table1[[#This Row],[Column12]],\"Match\",\"Error\")","v":"Match"},{"$f":"IF(Table1[[#This Row],[Calc 2]]=\"#NA\",\"#NA\",IF(Table1[[#This Row],[Non HZ Employee]]=Table1[[#This Row],[Max calc]],\"Non HZ Employee\", Table1[[#This Row],[Calc 2]]))","v":"#NA"}]
[1220,null,1220,{"$nulls":5},{"$f":"SUM(Table1[[#This Row],[Column4]]+Table1[[#This Row],[Column3]]+Table1[[#This Row],[Column2]]+Table1[[#This Row],[Column1]])","v":0},{"$nulls":5},{"$f":"SUM(Table1[[#This Row],[PO Employee]:[Other Employee]])","v":0},"N",{"$error":"#N/A"},{"$f":"IF(O1237>39,Table1[[#This Row],[Calc 1]],IF(O1237>1,\"Not counted as an Employee\",\"#NA\"))","v":"#NA"},{"$f":"MAX(Table1[[#This Row],[PO Employee]],Table1[[#This Row],[Other HZ Employee]],Table1[[#This Row],[Non HZ Employee]],Table1[[#This Row],[Job Site Employee]],Table1[[#This Row],[Other Employee]])","v":0},{"$f":"IF(Table1[[#This Row],[Total Hours per Month]]=Table1[[#This Row],[Column12]],\"Match\",\"Error\")","v":"Match"},{"$f":"IF(Table1[[#This Row],[Calc 2]]=\"#NA\",\"#NA\",IF(Table1[[#This Row],[Non HZ Employee]]=Table1[[#This Row],[Max calc]],\"Non HZ Employee\", Table1[[#This Row],[Calc 2]]))","v":"#NA"}]
[1221,null,1221,{"$nulls":5},{"$f":"SUM(Table1[[#This Row],[Column4]]+Table1[[#This Row],[Column3]]+Table1[[#This Row],[Column2]]+Table1[[#This Row],[Column1]])","v":0},{"$nulls":5},{"$f":"SUM(Table1[[#This Row],[PO Employee]:[Other Employee]])","v":0},"N",{"$error":"#N/A"},{"$f":"IF(O1238>39,Table1[[#This Row],[Calc 1]],IF(O1238>1,\"Not counted as an Employee\",\"#NA\"))","v":"#NA"},{"$f":"MAX(Table1[[#This Row],[PO Employee]],Table1[[#This Row],[Other HZ Employee]],Table1[[#This Row],[Non HZ Employee]],Table1[[#This Row],[Job Site Employee]],Table1[[#This Row],[Other Employee]])","v":0},{"$f":"IF(Table1[[#This Row],[Total Hours per Month]]=Table1[[#This Row],[Column12]],\"Match\",\"Error\")","v":"Match"},{"$f":"IF(Table1[[#This Row],[Calc 2]]=\"#NA\",\"#NA\",IF(Table1[[#This Row],[Non HZ Employee]]=Table1[[#This Row],[Max calc]],\"Non HZ Employee\", Table1[[#This Row],[Calc 2]]))","v":"#NA"}]
[1222,null,1222,{"$nulls":5},{"$f":"SUM(Table1[[#This Row],[Column4]]+Table1[[#This Row],[Column3]]+Table1[[#This Row],[Column2]]+Table1[[#This Row],[Column1]])","v":0},{"$nulls":5},{"$f":"SUM(Table1[[#This Row],[PO Employee]:[Other Employee]])","v":0},"N",{"$error":"#N/A"},{"$f":"IF(O1239>39,Table1[[#This Row],[Calc 1]],IF(O1239>1,\"Not counted as an Employee\",\"#NA\"))","v":"#NA"},{"$f":"MAX(Table1[[#This Row],[PO Employee]],Table1[[#This Row],[Other HZ Employee]],Table1[[#This Row],[Non HZ Employee]],Table1[[#This Row],[Job Site Employee]],Table1[[#This Row],[Other Employee]])","v":0},{"$f":"IF(Table1[[#This Row],[Total Hours per Month]]=Table1[[#This Row],[Column12]],\"Match\",\"Error\")","v":"Match"},{"$f":"IF(Table1[[#This Row],[Calc 2]]=\"#NA\",\"#NA\",IF(Table1[[#This Row],[Non HZ Employee]]=Table1[[#This Row],[Max calc]],\"Non HZ Employee\", Table1[[#This Row],[Calc 2]]))","v":"#NA"}]
[1223,null,1223,{"$nulls":5},{"$f":"SUM(Table1[[#This Row],[Column4]]+Table1[[#This Row],[Column3]]+Table1[[#This Row],[Column2]]+Table1[[#This Row],[Column1]])","v":0},{"$nulls":5},{"$f":"SUM(Table1[[#This Row],[PO Employee]:[Other Employee]])","v":0},"N",{"$error":"#N/A"},{"$f":"IF(O1240>39,Table1[[#This Row],[Calc 1]],IF(O1240>1,\"Not counted as an Employee\",\"#NA\"))","v":"#NA"},{"$f":"MAX(Table1[[#This Row],[PO Employee]],Table1[[#This Row],[Other HZ Employee]],Table1[[#This Row],[Non HZ Employee]],Table1[[#This Row],[Job Site Employee]],Table1[[#This Row],[Other Employee]])","v":0},{"$f":"IF(Table1[[#This Row],[Total Hours per Month]]=Table1[[#This Row],[Column12]],\"Match\",\"Error\")","v":"Match"},{"$f":"IF(Table1[[#This Row],[Calc 2]]=\"#NA\",\"#NA\",IF(Table1[[#This Row],[Non HZ Employee]]=Table1[[#This Row],[Max calc]],\"Non HZ Employee\", Table1[[#This Row],[Calc 2]]))","v":"#NA"}]
[1224,null,1224,{"$nulls":5},{"$f":"SUM(Table1[[#This Row],[Column4]]+Table1[[#This Row],[Column3]]+Table1[[#This Row],[Column2]]+Table1[[#This Row],[Column1]])","v":0},{"$nulls":5},{"$f":"SUM(Table1[[#This Row],[PO Employee]:[Other Employee]])","v":0},"N",{"$error":"#N/A"},{"$f":"IF(O1241>39,Table1[[#This Row],[Calc 1]],IF(O1241>1,\"Not counted as an Employee\",\"#NA\"))","v":"#NA"},{"$f":"MAX(Table1[[#This Row],[PO Employee]],Table1[[#This Row],[Other HZ Employee]],Table1[[#This Row],[Non HZ Employee]],Table1[[#This Row],[Job Site Employee]],Table1[[#This Row],[Other Employee]])","v":0},{"$f":"IF(Table1[[#This Row],[Total Hours per Month]]=Table1[[#This Row],[Column12]],\"Match\",\"Error\")","v":"Match"},{"$f":"IF(Table1[[#This Row],[Calc 2]]=\"#NA\",\"#NA\",IF(Table1[[#This Row],[Non HZ Employee]]=Table1[[#This Row],[Max calc]],\"Non HZ Employee\", Table1[[#This Row],[Calc 2]]))","v":"#NA"}]
[1225,null,1225,{"$nulls":5},{"$f":"SUM(Table1[[#This Row],[Column4]]+Table1[[#This Row],[Column3]]+Table1[[#This Row],[Column2]]+Table1[[#This Row],[Column1]])","v":0},{"$nulls":5},{"$f":"SUM(Table1[[#This Row],[PO Employee]:[Other Employee]])","v":0},"N",{"$error":"#N/A"},{"$f":"IF(O1242>39,Table1[[#This Row],[Calc 1]],IF(O1242>1,\"Not counted as an Employee\",\"#NA\"))","v":"#NA"},{"$f":"MAX(Table1[[#This Row],[PO Employee]],Table1[[#This Row],[Other HZ Employee]],Table1[[#This Row],[Non HZ Employee]],Table1[[#This Row],[Job Site Employee]],Table1[[#This Row],[Other Employee]])","v":0},{"$f":"IF(Table1[[#This Row],[Total Hours per Month]]=Table1[[#This Row],[Column12]],\"Match\",\"Error\")","v":"Match"},{"$f":"IF(Table1[[#This Row],[Calc 2]]=\"#NA\",\"#NA\",IF(Table1[[#This Row],[Non HZ Employee]]=Table1[[#This Row],[Max calc]],\"Non HZ Employee\", Table1[[#This Row],[Calc 2]]))","v":"#NA"}]
[1226,null,1226,{"$nulls":5},{"$f":"SUM(Table1[[#This Row],[Column4]]+Table1[[#This Row],[Column3]]+Table1[[#This Row],[Column2]]+Table1[[#This Row],[Column1]])","v":0},{"$nulls":5},{"$f":"SUM(Table1[[#This Row],[PO Employee]:[Other Employee]])","v":0},"N",{"$error":"#N/A"},{"$f":"IF(O1243>39,Table1[[#This Row],[Calc 1]],IF(O1243>1,\"Not counted as an Employee\",\"#NA\"))","v":"#NA"},{"$f":"MAX(Table1[[#This Row],[PO Employee]],Table1[[#This Row],[Other HZ Employee]],Table1[[#This Row],[Non HZ Employee]],Table1[[#This Row],[Job Site Employee]],Table1[[#This Row],[Other Employee]])","v":0},{"$f":"IF(Table1[[#This Row],[Total Hours per Month]]=Table1[[#This Row],[Column12]],\"Match\",\"Error\")","v":"Match"},{"$f":"IF(Table1[[#This Row],[Calc 2]]=\"#NA\",\"#NA\",IF(Table1[[#This Row],[Non HZ Employee]]=Table1[[#This Row],[Max calc]],\"Non HZ Employee\", Table1[[#This Row],[Calc 2]]))","v":"#NA"}]
[1227,null,1227,{"$nulls":5},{"$f":"SUM(Table1[[#This Row],[Column4]]+Table1[[#This Row],[Column3]]+Table1[[#This Row],[Column2]]+Table1[[#This Row],[Column1]])","v":0},{"$nulls":5},{"$f":"SUM(Table1[[#This Row],[PO Employee]:[Other Employee]])","v":0},"N",{"$error":"#N/A"},{"$f":"IF(O1244>39,Table1[[#This Row],[Calc 1]],IF(O1244>1,\"Not counted as an Employee\",\"#NA\"))","v":"#NA"},{"$f":"MAX(Table1[[#This Row],[PO Employee]],Table1[[#This Row],[Other HZ Employee]],Table1[[#This Row],[Non HZ Employee]],Table1[[#This Row],[Job Site Employee]],Table1[[#This Row],[Other Employee]])","v":0},{"$f":"IF(Table1[[#This Row],[Total Hours per Month]]=Table1[[#This Row],[Column12]],\"Match\",\"Error\")","v":"Match"},{"$f":"IF(Table1[[#This Row],[Calc 2]]=\"#NA\",\"#NA\",IF(Table1[[#This Row],[Non HZ Employee]]=Table1[[#This Row],[Max calc]],\"Non HZ Employee\", Table1[[#This Row],[Calc 2]]))","v":"#NA"}]
[1228,null,1228,{"$nulls":5},{"$f":"SUM(Table1[[#This Row],[Column4]]+Table1[[#This Row],[Column3]]+Table1[[#This Row],[Column2]]+Table1[[#This Row],[Column1]])","v":0},{"$nulls":5},{"$f":"SUM(Table1[[#This Row],[PO Employee]:[Other Employee]])","v":0},"N",{"$error":"#N/A"},{"$f":"IF(O1245>39,Table1[[#This Row],[Calc 1]],IF(O1245>1,\"Not counted as an Employee\",\"#NA\"))","v":"#NA"},{"$f":"MAX(Table1[[#This Row],[PO Employee]],Table1[[#This Row],[Other HZ Employee]],Table1[[#This Row],[Non HZ Employee]],Table1[[#This Row],[Job Site Employee]],Table1[[#This Row],[Other Employee]])","v":0},{"$f":"IF(Table1[[#This Row],[Total Hours per Month]]=Table1[[#This Row],[Column12]],\"Match\",\"Error\")","v":"Match"},{"$f":"IF(Table1[[#This Row],[Calc 2]]=\"#NA\",\"#NA\",IF(Table1[[#This Row],[Non HZ Employee]]=Table1[[#This Row],[Max calc]],\"Non HZ Employee\", Table1[[#This Row],[Calc 2]]))","v":"#NA"}]
[1229,null,1229,{"$nulls":5},{"$f":"SUM(Table1[[#This Row],[Column4]]+Table1[[#This Row],[Column3]]+Table1[[#This Row],[Column2]]+Table1[[#This Row],[Column1]])","v":0},{"$nulls":5},{"$f":"SUM(Table1[[#This Row],[PO Employee]:[Other Employee]])","v":0},"N",{"$error":"#N/A"},{"$f":"IF(O1246>39,Table1[[#This Row],[Calc 1]],IF(O1246>1,\"Not counted as an Employee\",\"#NA\"))","v":"#NA"},{"$f":"MAX(Table1[[#This Row],[PO Employee]],Table1[[#This Row],[Other HZ Employee]],Table1[[#This Row],[Non HZ Employee]],Table1[[#This Row],[Job Site Employee]],Table1[[#This Row],[Other Employee]])","v":0},{"$f":"IF(Table1[[#This Row],[Total Hours per Month]]=Table1[[#This Row],[Column12]],\"Match\",\"Error\")","v":"Match"},{"$f":"IF(Table1[[#This Row],[Calc 2]]=\"#NA\",\"#NA\",IF(Table1[[#This Row],[Non HZ Employee]]=Table1[[#This Row],[Max calc]],\"Non HZ Employee\", Table1[[#This Row],[Calc 2]]))","v":"#NA"}]
[1230,null,1230,{"$nulls":5},{"$f":"SUM(Table1[[#This Row],[Column4]]+Table1[[#This Row],[Column3]]+Table1[[#This Row],[Column2]]+Table1[[#This Row],[Column1]])","v":0},{"$nulls":5},{"$f":"SUM(Table1[[#This Row],[PO Employee]:[Other Employee]])","v":0},"N",{"$error":"#N/A"},{"$f":"IF(O1247>39,Table1[[#This Row],[Calc 1]],IF(O1247>1,\"Not counted as an Employee\",\"#NA\"))","v":"#NA"},{"$f":"MAX(Table1[[#This Row],[PO Employee]],Table1[[#This Row],[Other HZ Employee]],Table1[[#This Row],[Non HZ Employee]],Table1[[#This Row],[Job Site Employee]],Table1[[#This Row],[Other Employee]])","v":0},{"$f":"IF(Table1[[#This Row],[Total Hours per Month]]=Table1[[#This Row],[Column12]],\"Match\",\"Error\")","v":"Match"},{"$f":"IF(Table1[[#This Row],[Calc 2]]=\"#NA\",\"#NA\",IF(Table1[[#This Row],[Non HZ Employee]]=Table1[[#This Row],[Max calc]],\"Non HZ Employee\", Table1[[#This Row],[Calc 2]]))","v":"#NA"}]
[1231,null,1231,{"$nulls":5},{"$f":"SUM(Table1[[#This Row],[Column4]]+Table1[[#This Row],[Column3]]+Table1[[#This Row],[Column2]]+Table1[[#This Row],[Column1]])","v":0},{"$nulls":5},{"$f":"SUM(Table1[[#This Row],[PO Employee]:[Other Employee]])","v":0},"N",{"$error":"#N/A"},{"$f":"IF(O1248>39,Table1[[#This Row],[Calc 1]],IF(O1248>1,\"Not counted as an Employee\",\"#NA\"))","v":"#NA"},{"$f":"MAX(Table1[[#This Row],[PO Employee]],Table1[[#This Row],[Other HZ Employee]],Table1[[#This Row],[Non HZ Employee]],Table1[[#This Row],[Job Site Employee]],Table1[[#This Row],[Other Employee]])","v":0},{"$f":"IF(Table1[[#This Row],[Total Hours per Month]]=Table1[[#This Row],[Column12]],\"Match\",\"Error\")","v":"Match"},{"$f":"IF(Table1[[#This Row],[Calc 2]]=\"#NA\",\"#NA\",IF(Table1[[#This Row],[Non HZ Employee]]=Table1[[#This Row],[Max calc]],\"Non HZ Employee\", Table1[[#This Row],[Calc 2]]))","v":"#NA"}]
[1232,null,1232,{"$nulls":5},{"$f":"SUM(Table1[[#This Row],[Column4]]+Table1[[#This Row],[Column3]]+Table1[[#This Row],[Column2]]+Table1[[#This Row],[Column1]])","v":0},{"$nulls":5},{"$f":"SUM(Table1[[#This Row],[PO Employee]:[Other Employee]])","v":0},"N",{"$error":"#N/A"},{"$f":"IF(O1249>39,Table1[[#This Row],[Calc 1]],IF(O1249>1,\"Not counted as an Employee\",\"#NA\"))","v":"#NA"},{"$f":"MAX(Table1[[#This Row],[PO Employee]],Table1[[#This Row],[Other HZ Employee]],Table1[[#This Row],[Non HZ Employee]],Table1[[#This Row],[Job Site Employee]],Table1[[#This Row],[Other Employee]])","v":0},{"$f":"IF(Table1[[#This Row],[Total Hours per Month]]=Table1[[#This Row],[Column12]],\"Match\",\"Error\")","v":"Match"},{"$f":"IF(Table1[[#This Row],[Calc 2]]=\"#NA\",\"#NA\",IF(Table1[[#This Row],[Non HZ Employee]]=Table1[[#This Row],[Max calc]],\"Non HZ Employee\", Table1[[#This Row],[Calc 2]]))","v":"#NA"}]
[1233,null,1233,{"$nulls":5},{"$f":"SUM(Table1[[#This Row],[Column4]]+Table1[[#This Row],[Column3]]+Table1[[#This Row],[Column2]]+Table1[[#This Row],[Column1]])","v":0},{"$nulls":5},{"$f":"SUM(Table1[[#This Row],[PO Employee]:[Other Employee]])","v":0},"N",{"$error":"#N/A"},{"$f":"IF(O1250>39,Table1[[#This Row],[Calc 1]],IF(O1250>1,\"Not counted as an Employee\",\"#NA\"))","v":"#NA"},{"$f":"MAX(Table1[[#This Row],[PO Employee]],Table1[[#This Row],[Other HZ Employee]],Table1[[#This Row],[Non HZ Employee]],Table1[[#This Row],[Job Site Employee]],Table1[[#This Row],[Other Employee]])","v":0},{"$f":"IF(Table1[[#This Row],[Total Hours per Month]]=Table1[[#This Row],[Column12]],\"Match\",\"Error\")","v":"Match"},{"$f":"IF(Table1[[#This Row],[Calc 2]]=\"#NA\",\"#NA\",IF(Table1[[#This Row],[Non HZ Employee]]=Table1[[#This Row],[Max calc]],\"Non HZ Employee\", Table1[[#This Row],[Calc 2]]))","v":"#NA"}]
[1234,null,1234,{"$nulls":5},{"$f":"SUM(Table1[[#This Row],[Column4]]+Table1[[#This Row],[Column3]]+Table1[[#This Row],[Column2]]+Table1[[#This Row],[Column1]])","v":0},{"$nulls":5},{"$f":"SUM(Table1[[#This Row],[PO Employee]:[Other Employee]])","v":0},"N",{"$error":"#N/A"},{"$f":"IF(O1251>39,Table1[[#This Row],[Calc 1]],IF(O1251>1,\"Not counted as an Employee\",\"#NA\"))","v":"#NA"},{"$f":"MAX(Table1[[#This Row],[PO Employee]],Table1[[#This Row],[Other HZ Employee]],Table1[[#This Row],[Non HZ Employee]],Table1[[#This Row],[Job Site Employee]],Table1[[#This Row],[Other Employee]])","v":0},{"$f":"IF(Table1[[#This Row],[Total Hours per Month]]=Table1[[#This Row],[Column12]],\"Match\",\"Error\")","v":"Match"},{"$f":"IF(Table1[[#This Row],[Calc 2]]=\"#NA\",\"#NA\",IF(Table1[[#This Row],[Non HZ Employee]]=Table1[[#This Row],[Max calc]],\"Non HZ Employee\", Table1[[#This Row],[Calc 2]]))","v":"#NA"}]
[1235,null,1235,{"$nulls":5},{"$f":"SUM(Table1[[#This Row],[Column4]]+Table1[[#This Row],[Column3]]+Table1[[#This Row],[Column2]]+Table1[[#This Row],[Column1]])","v":0},{"$nulls":5},{"$f":"SUM(Table1[[#This Row],[PO Employee]:[Other Employee]])","v":0},"N",{"$error":"#N/A"},{"$f":"IF(O1252>39,Table1[[#This Row],[Calc 1]],IF(O1252>1,\"Not counted as an Employee\",\"#NA\"))","v":"#NA"},{"$f":"MAX(Table1[[#This Row],[PO Employee]],Table1[[#This Row],[Other HZ Employee]],Table1[[#This Row],[Non HZ Employee]],Table1[[#This Row],[Job Site Employee]],Table1[[#This Row],[Other Employee]])","v":0},{"$f":"IF(Table1[[#This Row],[Total Hours per Month]]=Table1[[#This Row],[Column12]],\"Match\",\"Error\")","v":"Match"},{"$f":"IF(Table1[[#This Row],[Calc 2]]=\"#NA\",\"#NA\",IF(Table1[[#This Row],[Non HZ Employee]]=Table1[[#This Row],[Max calc]],\"Non HZ Employee\", Table1[[#This Row],[Calc 2]]))","v":"#NA"}]
[1236,null,1236,{"$nulls":5},{"$f":"SUM(Table1[[#This Row],[Column4]]+Table1[[#This Row],[Column3]]+Table1[[#This Row],[Column2]]+Table1[[#This Row],[Column1]])","v":0},{"$nulls":5},{"$f":"SUM(Table1[[#This Row],[PO Employee]:[Other Employee]])","v":0},"N",{"$error":"#N/A"},{"$f":"IF(O1253>39,Table1[[#This Row],[Calc 1]],IF(O1253>1,\"Not counted as an Employee\",\"#NA\"))","v":"#NA"},{"$f":"MAX(Table1[[#This Row],[PO Employee]],Table1[[#This Row],[Other HZ Employee]],Table1[[#This Row],[Non HZ Employee]],Table1[[#This Row],[Job Site Employee]],Table1[[#This Row],[Other Employee]])","v":0},{"$f":"IF(Table1[[#This Row],[Total Hours per Month]]=Table1[[#This Row],[Column12]],\"Match\",\"Error\")","v":"Match"},{"$f":"IF(Table1[[#This Row],[Calc 2]]=\"#NA\",\"#NA\",IF(Table1[[#This Row],[Non HZ Employee]]=Table1[[#This Row],[Max calc]],\"Non HZ Employee\", Table1[[#This Row],[Calc 2]]))","v":"#NA"}]
[1237,null,1237,{"$nulls":5},{"$f":"SUM(Table1[[#This Row],[Column4]]+Table1[[#This Row],[Column3]]+Table1[[#This Row],[Column2]]+Table1[[#This Row],[Column1]])","v":0},{"$nulls":5},{"$f":"SUM(Table1[[#This Row],[PO Employee]:[Other Employee]])","v":0},"N",{"$error":"#N/A"},{"$f":"IF(O1254>39,Table1[[#This Row],[Calc 1]],IF(O1254>1,\"Not counted as an Employee\",\"#NA\"))","v":"#NA"},{"$f":"MAX(Table1[[#This Row],[PO Employee]],Table1[[#This Row],[Other HZ Employee]],Table1[[#This Row],[Non HZ Employee]],Table1[[#This Row],[Job Site Employee]],Table1[[#This Row],[Other Employee]])","v":0},{"$f":"IF(Table1[[#This Row],[Total Hours per Month]]=Table1[[#This Row],[Column12]],\"Match\",\"Error\")","v":"Match"},{"$f":"IF(Table1[[#This Row],[Calc 2]]=\"#NA\",\"#NA\",IF(Table1[[#This Row],[Non HZ Employee]]=Table1[[#This Row],[Max calc]],\"Non HZ Employee\", Table1[[#This Row],[Calc 2]]))","v":"#NA"}]
[1238,null,1238,{"$nulls":5},{"$f":"SUM(Table1[[#This Row],[Column4]]+Table1[[#This Row],[Column3]]+Table1[[#This Row],[Column2]]+Table1[[#This Row],[Column1]])","v":0},{"$nulls":5},{"$f":"SUM(Table1[[#This Row],[PO Employee]:[Other Employee]])","v":0},"N",{"$error":"#N/A"},{"$f":"IF(O1255>39,Table1[[#This Row],[Calc 1]],IF(O1255>1,\"Not counted as an Employee\",\"#NA\"))","v":"#NA"},{"$f":"MAX(Table1[[#This Row],[PO Employee]],Table1[[#This Row],[Other HZ Employee]],Table1[[#This Row],[Non HZ Employee]],Table1[[#This Row],[Job Site Employee]],Table1[[#This Row],[Other Employee]])","v":0},{"$f":"IF(Table1[[#This Row],[Total Hours per Month]]=Table1[[#This Row],[Column12]],\"Match\",\"Error\")","v":"Match"},{"$f":"IF(Table1[[#This Row],[Calc 2]]=\"#NA\",\"#NA\",IF(Table1[[#This Row],[Non HZ Employee]]=Table1[[#This Row],[Max calc]],\"Non HZ Employee\", Table1[[#This Row],[Calc 2]]))","v":"#NA"}]
[1239,null,1239,{"$nulls":5},{"$f":"SUM(Table1[[#This Row],[Column4]]+Table1[[#This Row],[Column3]]+Table1[[#This Row],[Column2]]+Table1[[#This Row],[Column1]])","v":0},{"$nulls":5},{"$f":"SUM(Table1[[#This Row],[PO Employee]:[Other Employee]])","v":0},"N",{"$error":"#N/A"},{"$f":"IF(O1256>39,Table1[[#This Row],[Calc 1]],IF(O1256>1,\"Not counted as an Employee\",\"#NA\"))","v":"#NA"},{"$f":"MAX(Table1[[#This Row],[PO Employee]],Table1[[#This Row],[Other HZ Employee]],Table1[[#This Row],[Non HZ Employee]],Table1[[#This Row],[Job Site Employee]],Table1[[#This Row],[Other Employee]])","v":0},{"$f":"IF(Table1[[#This Row],[Total Hours per Month]]=Table1[[#This Row],[Column12]],\"Match\",\"Error\")","v":"Match"},{"$f":"IF(Table1[[#This Row],[Calc 2]]=\"#NA\",\"#NA\",IF(Table1[[#This Row],[Non HZ Employee]]=Table1[[#This Row],[Max calc]],\"Non HZ Employee\", Table1[[#This Row],[Calc 2]]))","v":"#NA"}]
[1240,null,1240,{"$nulls":5},{"$f":"SUM(Table1[[#This Row],[Column4]]+Table1[[#This Row],[Column3]]+Table1[[#This Row],[Column2]]+Table1[[#This Row],[Column1]])","v":0},{"$nulls":5},{"$f":"SUM(Table1[[#This Row],[PO Employee]:[Other Employee]])","v":0},"N",{"$error":"#N/A"},{"$f":"IF(O1257>39,Table1[[#This Row],[Calc 1]],IF(O1257>1,\"Not counted as an Employee\",\"#NA\"))","v":"#NA"},{"$f":"MAX(Table1[[#This Row],[PO Employee]],Table1[[#This Row],[Other HZ Employee]],Table1[[#This Row],[Non HZ Employee]],Table1[[#This Row],[Job Site Employee]],Table1[[#This Row],[Other Employee]])","v":0},{"$f":"IF(Table1[[#This Row],[Total Hours per Month]]=Table1[[#This Row],[Column12]],\"Match\",\"Error\")","v":"Match"},{"$f":"IF(Table1[[#This Row],[Calc 2]]=\"#NA\",\"#NA\",IF(Table1[[#This Row],[Non HZ Employee]]=Table1[[#This Row],[Max calc]],\"Non HZ Employee\", Table1[[#This Row],[Calc 2]]))","v":"#NA"}]
[1241,null,1241,{"$nulls":5},{"$f":"SUM(Table1[[#This Row],[Column4]]+Table1[[#This Row],[Column3]]+Table1[[#This Row],[Column2]]+Table1[[#This Row],[Column1]])","v":0},{"$nulls":5},{"$f":"SUM(Table1[[#This Row],[PO Employee]:[Other Employee]])","v":0},"N",{"$error":"#N/A"},{"$f":"IF(O1258>39,Table1[[#This Row],[Calc 1]],IF(O1258>1,\"Not counted as an Employee\",\"#NA\"))","v":"#NA"},{"$f":"MAX(Table1[[#This Row],[PO Employee]],Table1[[#This Row],[Other HZ Employee]],Table1[[#This Row],[Non HZ Employee]],Table1[[#This Row],[Job Site Employee]],Table1[[#This Row],[Other Employee]])","v":0},{"$f":"IF(Table1[[#This Row],[Total Hours per Month]]=Table1[[#This Row],[Column12]],\"Match\",\"Error\")","v":"Match"},{"$f":"IF(Table1[[#This Row],[Calc 2]]=\"#NA\",\"#NA\",IF(Table1[[#This Row],[Non HZ Employee]]=Table1[[#This Row],[Max calc]],\"Non HZ Employee\", Table1[[#This Row],[Calc 2]]))","v":"#NA"}]
[1242,null,1242,{"$nulls":5},{"$f":"SUM(Table1[[#This Row],[Column4]]+Table1[[#This Row],[Column3]]+Table1[[#This Row],[Column2]]+Table1[[#This Row],[Column1]])","v":0},{"$nulls":5},{"$f":"SUM(Table1[[#This Row],[PO Employee]:[Other Employee]])","v":0},"N",{"$error":"#N/A"},{"$f":"IF(O1259>39,Table1[[#This Row],[Calc 1]],IF(O1259>1,\"Not counted as an Employee\",\"#NA\"))","v":"#NA"},{"$f":"MAX(Table1[[#This Row],[PO Employee]],Table1[[#This Row],[Other HZ Employee]],Table1[[#This Row],[Non HZ Employee]],Table1[[#This Row],[Job Site Employee]],Table1[[#This Row],[Other Employee]])","v":0},{"$f":"IF(Table1[[#This Row],[Total Hours per Month]]=Table1[[#This Row],[Column12]],\"Match\",\"Error\")","v":"Match"},{"$f":"IF(Table1[[#This Row],[Calc 2]]=\"#NA\",\"#NA\",IF(Table1[[#This Row],[Non HZ Employee]]=Table1[[#This Row],[Max calc]],\"Non HZ Employee\", Table1[[#This Row],[Calc 2]]))","v":"#NA"}]
[1243,null,1243,{"$nulls":5},{"$f":"SUM(Table1[[#This Row],[Column4]]+Table1[[#This Row],[Column3]]+Table1[[#This Row],[Column2]]+Table1[[#This Row],[Column1]])","v":0},{"$nulls":5},{"$f":"SUM(Table1[[#This Row],[PO Employee]:[Other Employee]])","v":0},"N",{"$error":"#N/A"},{"$f":"IF(O1260>39,Table1[[#This Row],[Calc 1]],IF(O1260>1,\"Not counted as an Employee\",\"#NA\"))","v":"#NA"},{"$f":"MAX(Table1[[#This Row],[PO Employee]],Table1[[#This Row],[Other HZ Employee]],Table1[[#This Row],[Non HZ Employee]],Table1[[#This Row],[Job Site Employee]],Table1[[#This Row],[Other Employee]])","v":0},{"$f":"IF(Table1[[#This Row],[Total Hours per Month]]=Table1[[#This Row],[Column12]],\"Match\",\"Error\")","v":"Match"},{"$f":"IF(Table1[[#This Row],[Calc 2]]=\"#NA\",\"#NA\",IF(Table1[[#This Row],[Non HZ Employee]]=Table1[[#This Row],[Max calc]],\"Non HZ Employee\", Table1[[#This Row],[Calc 2]]))","v":"#NA"}]
[1244,null,1244,{"$nulls":5},{"$f":"SUM(Table1[[#This Row],[Column4]]+Table1[[#This Row],[Column3]]+Table1[[#This Row],[Column2]]+Table1[[#This Row],[Column1]])","v":0},{"$nulls":5},{"$f":"SUM(Table1[[#This Row],[PO Employee]:[Other Employee]])","v":0},"N",{"$error":"#N/A"},{"$f":"IF(O1261>39,Table1[[#This Row],[Calc 1]],IF(O1261>1,\"Not counted as an Employee\",\"#NA\"))","v":"#NA"},{"$f":"MAX(Table1[[#This Row],[PO Employee]],Table1[[#This Row],[Other HZ Employee]],Table1[[#This Row],[Non HZ Employee]],Table1[[#This Row],[Job Site Employee]],Table1[[#This Row],[Other Employee]])","v":0},{"$f":"IF(Table1[[#This Row],[Total Hours per Month]]=Table1[[#This Row],[Column12]],\"Match\",\"Error\")","v":"Match"},{"$f":"IF(Table1[[#This Row],[Calc 2]]=\"#NA\",\"#NA\",IF(Table1[[#This Row],[Non HZ Employee]]=Table1[[#This Row],[Max calc]],\"Non HZ Employee\", Table1[[#This Row],[Calc 2]]))","v":"#NA"}]
[1245,null,1245,{"$nulls":5},{"$f":"SUM(Table1[[#This Row],[Column4]]+Table1[[#This Row],[Column3]]+Table1[[#This Row],[Column2]]+Table1[[#This Row],[Column1]])","v":0},{"$nulls":5},{"$f":"SUM(Table1[[#This Row],[PO Employee]:[Other Employee]])","v":0},"N",{"$error":"#N/A"},{"$f":"IF(O1262>39,Table1[[#This Row],[Calc 1]],IF(O1262>1,\"Not counted as an Employee\",\"#NA\"))","v":"#NA"},{"$f":"MAX(Table1[[#This Row],[PO Employee]],Table1[[#This Row],[Other HZ Employee]],Table1[[#This Row],[Non HZ Employee]],Table1[[#This Row],[Job Site Employee]],Table1[[#This Row],[Other Employee]])","v":0},{"$f":"IF(Table1[[#This Row],[Total Hours per Month]]=Table1[[#This Row],[Column12]],\"Match\",\"Error\")","v":"Match"},{"$f":"IF(Table1[[#This Row],[Calc 2]]=\"#NA\",\"#NA\",IF(Table1[[#This Row],[Non HZ Employee]]=Table1[[#This Row],[Max calc]],\"Non HZ Employee\", Table1[[#This Row],[Calc 2]]))","v":"#NA"}]
[1246,null,1246,{"$nulls":5},{"$f":"SUM(Table1[[#This Row],[Column4]]+Table1[[#This Row],[Column3]]+Table1[[#This Row],[Column2]]+Table1[[#This Row],[Column1]])","v":0},{"$nulls":5},{"$f":"SUM(Table1[[#This Row],[PO Employee]:[Other Employee]])","v":0},"N",{"$error":"#N/A"},{"$f":"IF(O1263>39,Table1[[#This Row],[Calc 1]],IF(O1263>1,\"Not counted as an Employee\",\"#NA\"))","v":"#NA"},{"$f":"MAX(Table1[[#This Row],[PO Employee]],Table1[[#This Row],[Other HZ Employee]],Table1[[#This Row],[Non HZ Employee]],Table1[[#This Row],[Job Site Employee]],Table1[[#This Row],[Other Employee]])","v":0},{"$f":"IF(Table1[[#This Row],[Total Hours per Month]]=Table1[[#This Row],[Column12]],\"Match\",\"Error\")","v":"Match"},{"$f":"IF(Table1[[#This Row],[Calc 2]]=\"#NA\",\"#NA\",IF(Table1[[#This Row],[Non HZ Employee]]=Table1[[#This Row],[Max calc]],\"Non HZ Employee\", Table1[[#This Row],[Calc 2]]))","v":"#NA"}]
[1247,null,1247,{"$nulls":5},{"$f":"SUM(Table1[[#This Row],[Column4]]+Table1[[#This Row],[Column3]]+Table1[[#This Row],[Column2]]+Table1[[#This Row],[Column1]])","v":0},{"$nulls":5},{"$f":"SUM(Table1[[#This Row],[PO Employee]:[Other Employee]])","v":0},"N",{"$error":"#N/A"},{"$f":"IF(O1264>39,Table1[[#This Row],[Calc 1]],IF(O1264>1,\"Not counted as an Employee\",\"#NA\"))","v":"#NA"},{"$f":"MAX(Table1[[#This Row],[PO Employee]],Table1[[#This Row],[Other HZ Employee]],Table1[[#This Row],[Non HZ Employee]],Table1[[#This Row],[Job Site Employee]],Table1[[#This Row],[Other Employee]])","v":0},{"$f":"IF(Table1[[#This Row],[Total Hours per Month]]=Table1[[#This Row],[Column12]],\"Match\",\"Error\")","v":"Match"},{"$f":"IF(Table1[[#This Row],[Calc 2]]=\"#NA\",\"#NA\",IF(Table1[[#This Row],[Non HZ Employee]]=Table1[[#This Row],[Max calc]],\"Non HZ Employee\", Table1[[#This Row],[Calc 2]]))","v":"#NA"}]
[1248,null,1248,{"$nulls":5},{"$f":"SUM(Table1[[#This Row],[Column4]]+Table1[[#This Row],[Column3]]+Table1[[#This Row],[Column2]]+Table1[[#This Row],[Column1]])","v":0},{"$nulls":5},{"$f":"SUM(Table1[[#This Row],[PO Employee]:[Other Employee]])","v":0},"N",{"$error":"#N/A"},{"$f":"IF(O1265>39,Table1[[#This Row],[Calc 1]],IF(O1265>1,\"Not counted as an Employee\",\"#NA\"))","v":"#NA"},{"$f":"MAX(Table1[[#This Row],[PO Employee]],Table1[[#This Row],[Other HZ Employee]],Table1[[#This Row],[Non HZ Employee]],Table1[[#This Row],[Job Site Employee]],Table1[[#This Row],[Other Employee]])","v":0},{"$f":"IF(Table1[[#This Row],[Total Hours per Month]]=Table1[[#This Row],[Column12]],\"Match\",\"Error\")","v":"Match"},{"$f":"IF(Table1[[#This Row],[Calc 2]]=\"#NA\",\"#NA\",IF(Table1[[#This Row],[Non HZ Employee]]=Table1[[#This Row],[Max calc]],\"Non HZ Employee\", Table1[[#This Row],[Calc 2]]))","v":"#NA"}]
[1249,null,1249,{"$nulls":5},{"$f":"SUM(Table1[[#This Row],[Column4]]+Table1[[#This Row],[Column3]]+Table1[[#This Row],[Column2]]+Table1[[#This Row],[Column1]])","v":0},{"$nulls":5},{"$f":"SUM(Table1[[#This Row],[PO Employee]:[Other Employee]])","v":0},"N",{"$error":"#N/A"},{"$f":"IF(O1266>39,Table1[[#This Row],[Calc 1]],IF(O1266>1,\"Not counted as an Employee\",\"#NA\"))","v":"#NA"},{"$f":"MAX(Table1[[#This Row],[PO Employee]],Table1[[#This Row],[Other HZ Employee]],Table1[[#This Row],[Non HZ Employee]],Table1[[#This Row],[Job Site Employee]],Table1[[#This Row],[Other Employee]])","v":0},{"$f":"IF(Table1[[#This Row],[Total Hours per Month]]=Table1[[#This Row],[Column12]],\"Match\",\"Error\")","v":"Match"},{"$f":"IF(Table1[[#This Row],[Calc 2]]=\"#NA\",\"#NA\",IF(Table1[[#This Row],[Non HZ Employee]]=Table1[[#This Row],[Max calc]],\"Non HZ Employee\", Table1[[#This Row],[Calc 2]]))","v":"#NA"}]
[1250,null,1250,{"$nulls":5},{"$f":"SUM(Table1[[#This Row],[Column4]]+Table1[[#This Row],[Column3]]+Table1[[#This Row],[Column2]]+Table1[[#This Row],[Column1]])","v":0},{"$nulls":5},{"$f":"SUM(Table1[[#This Row],[PO Employee]:[Other Employee]])","v":0},"N",{"$error":"#N/A"},{"$f":"IF(O1267>39,Table1[[#This Row],[Calc 1]],IF(O1267>1,\"Not counted as an Employee\",\"#NA\"))","v":"#NA"},{"$f":"MAX(Table1[[#This Row],[PO Employee]],Table1[[#This Row],[Other HZ Employee]],Table1[[#This Row],[Non HZ Employee]],Table1[[#This Row],[Job Site Employee]],Table1[[#This Row],[Other Employee]])","v":0},{"$f":"IF(Table1[[#This Row],[Total Hours per Month]]=Table1[[#This Row],[Column12]],\"Match\",\"Error\")","v":"Match"},{"$f":"IF(Table1[[#This Row],[Calc 2]]=\"#NA\",\"#NA\",IF(Table1[[#This Row],[Non HZ Employee]]=Table1[[#This Row],[Max calc]],\"Non HZ Employee\", Table1[[#This Row],[Calc 2]]))","v":"#NA"}]
[1251,null,1251,{"$nulls":5},{"$f":"SUM(Table1[[#This Row],[Column4]]+Table1[[#This Row],[Column3]]+Table1[[#This Row],[Column2]]+Table1[[#This Row],[Column1]])","v":0},{"$nulls":5},{"$f":"SUM(Table1[[#This Row],[PO Employee]:[Other Employee]])","v":0},"N",{"$error":"#N/A"},{"$f":"IF(O1268>39,Table1[[#This Row],[Calc 1]],IF(O1268>1,\"Not counted as an Employee\",\"#NA\"))","v":"#NA"},{"$f":"MAX(Table1[[#This Row],[PO Employee]],Table1[[#This Row],[Other HZ Employee]],Table1[[#This Row],[Non HZ Employee]],Table1[[#This Row],[Job Site Employee]],Table1[[#This Row],[Other Employee]])","v":0},{"$f":"IF(Table1[[#This Row],[Total Hours per Month]]=Table1[[#This Row],[Column12]],\"Match\",\"Error\")","v":"Match"},{"$f":"IF(Table1[[#This Row],[Calc 2]]=\"#NA\",\"#NA\",IF(Table1[[#This Row],[Non HZ Employee]]=Table1[[#This Row],[Max calc]],\"Non HZ Employee\", Table1[[#This Row],[Calc 2]]))","v":"#NA"}]
[1252,null,1252,{"$nulls":5},{"$f":"SUM(Table1[[#This Row],[Column4]]+Table1[[#This Row],[Column3]]+Table1[[#This Row],[Column2]]+Table1[[#This Row],[Column1]])","v":0},{"$nulls":5},{"$f":"SUM(Table1[[#This Row],[PO Employee]:[Other Employee]])","v":0},"N",{"$error":"#N/A"},{"$f":"IF(O1269>39,Table1[[#This Row],[Calc 1]],IF(O1269>1,\"Not counted as an Employee\",\"#NA\"))","v":"#NA"},{"$f":"MAX(Table1[[#This Row],[PO Employee]],Table1[[#This Row],[Other HZ Employee]],Table1[[#This Row],[Non HZ Employee]],Table1[[#This Row],[Job Site Employee]],Table1[[#This Row],[Other Employee]])","v":0},{"$f":"IF(Table1[[#This Row],[Total Hours per Month]]=Table1[[#This Row],[Column12]],\"Match\",\"Error\")","v":"Match"},{"$f":"IF(Table1[[#This Row],[Calc 2]]=\"#NA\",\"#NA\",IF(Table1[[#This Row],[Non HZ Employee]]=Table1[[#This Row],[Max calc]],\"Non HZ Employee\", Table1[[#This Row],[Calc 2]]))","v":"#NA"}]
[1253,null,1253,{"$nulls":5},{"$f":"SUM(Table1[[#This Row],[Column4]]+Table1[[#This Row],[Column3]]+Table1[[#This Row],[Column2]]+Table1[[#This Row],[Column1]])","v":0},{"$nulls":5},{"$f":"SUM(Table1[[#This Row],[PO Employee]:[Other Employee]])","v":0},"N",{"$error":"#N/A"},{"$f":"IF(O1270>39,Table1[[#This Row],[Calc 1]],IF(O1270>1,\"Not counted as an Employee\",\"#NA\"))","v":"#NA"},{"$f":"MAX(Table1[[#This Row],[PO Employee]],Table1[[#This Row],[Other HZ Employee]],Table1[[#This Row],[Non HZ Employee]],Table1[[#This Row],[Job Site Employee]],Table1[[#This Row],[Other Employee]])","v":0},{"$f":"IF(Table1[[#This Row],[Total Hours per Month]]=Table1[[#This Row],[Column12]],\"Match\",\"Error\")","v":"Match"},{"$f":"IF(Table1[[#This Row],[Calc 2]]=\"#NA\",\"#NA\",IF(Table1[[#This Row],[Non HZ Employee]]=Table1[[#This Row],[Max calc]],\"Non HZ Employee\", Table1[[#This Row],[Calc 2]]))","v":"#NA"}]
[1254,null,1254,{"$nulls":5},{"$f":"SUM(Table1[[#This Row],[Column4]]+Table1[[#This Row],[Column3]]+Table1[[#This Row],[Column2]]+Table1[[#This Row],[Column1]])","v":0},{"$nulls":5},{"$f":"SUM(Table1[[#This Row],[PO Employee]:[Other Employee]])","v":0},"N",{"$error":"#N/A"},{"$f":"IF(O1271>39,Table1[[#This Row],[Calc 1]],IF(O1271>1,\"Not counted as an Employee\",\"#NA\"))","v":"#NA"},{"$f":"MAX(Table1[[#This Row],[PO Employee]],Table1[[#This Row],[Other HZ Employee]],Table1[[#This Row],[Non HZ Employee]],Table1[[#This Row],[Job Site Employee]],Table1[[#This Row],[Other Employee]])","v":0},{"$f":"IF(Table1[[#This Row],[Total Hours per Month]]=Table1[[#This Row],[Column12]],\"Match\",\"Error\")","v":"Match"},{"$f":"IF(Table1[[#This Row],[Calc 2]]=\"#NA\",\"#NA\",IF(Table1[[#This Row],[Non HZ Employee]]=Table1[[#This Row],[Max calc]],\"Non HZ Employee\", Table1[[#This Row],[Calc 2]]))","v":"#NA"}]
[1255,null,1255,{"$nulls":5},{"$f":"SUM(Table1[[#This Row],[Column4]]+Table1[[#This Row],[Column3]]+Table1[[#This Row],[Column2]]+Table1[[#This Row],[Column1]])","v":0},{"$nulls":5},{"$f":"SUM(Table1[[#This Row],[PO Employee]:[Other Employee]])","v":0},"N",{"$error":"#N/A"},{"$f":"IF(O1272>39,Table1[[#This Row],[Calc 1]],IF(O1272>1,\"Not counted as an Employee\",\"#NA\"))","v":"#NA"},{"$f":"MAX(Table1[[#This Row],[PO Employee]],Table1[[#This Row],[Other HZ Employee]],Table1[[#This Row],[Non HZ Employee]],Table1[[#This Row],[Job Site Employee]],Table1[[#This Row],[Other Employee]])","v":0},{"$f":"IF(Table1[[#This Row],[Total Hours per Month]]=Table1[[#This Row],[Column12]],\"Match\",\"Error\")","v":"Match"},{"$f":"IF(Table1[[#This Row],[Calc 2]]=\"#NA\",\"#NA\",IF(Table1[[#This Row],[Non HZ Employee]]=Table1[[#This Row],[Max calc]],\"Non HZ Employee\", Table1[[#This Row],[Calc 2]]))","v":"#NA"}]
[1256,null,1256,{"$nulls":5},{"$f":"SUM(Table1[[#This Row],[Column4]]+Table1[[#This Row],[Column3]]+Table1[[#This Row],[Column2]]+Table1[[#This Row],[Column1]])","v":0},{"$nulls":5},{"$f":"SUM(Table1[[#This Row],[PO Employee]:[Other Employee]])","v":0},"N",{"$error":"#N/A"},{"$f":"IF(O1273>39,Table1[[#This Row],[Calc 1]],IF(O1273>1,\"Not counted as an Employee\",\"#NA\"))","v":"#NA"},{"$f":"MAX(Table1[[#This Row],[PO Employee]],Table1[[#This Row],[Other HZ Employee]],Table1[[#This Row],[Non HZ Employee]],Table1[[#This Row],[Job Site Employee]],Table1[[#This Row],[Other Employee]])","v":0},{"$f":"IF(Table1[[#This Row],[Total Hours per Month]]=Table1[[#This Row],[Column12]],\"Match\",\"Error\")","v":"Match"},{"$f":"IF(Table1[[#This Row],[Calc 2]]=\"#NA\",\"#NA\",IF(Table1[[#This Row],[Non HZ Employee]]=Table1[[#This Row],[Max calc]],\"Non HZ Employee\", Table1[[#This Row],[Calc 2]]))","v":"#NA"}]
[1257,null,1257,{"$nulls":5},{"$f":"SUM(Table1[[#This Row],[Column4]]+Table1[[#This Row],[Column3]]+Table1[[#This Row],[Column2]]+Table1[[#This Row],[Column1]])","v":0},{"$nulls":5},{"$f":"SUM(Table1[[#This Row],[PO Employee]:[Other Employee]])","v":0},"N",{"$error":"#N/A"},{"$f":"IF(O1274>39,Table1[[#This Row],[Calc 1]],IF(O1274>1,\"Not counted as an Employee\",\"#NA\"))","v":"#NA"},{"$f":"MAX(Table1[[#This Row],[PO Employee]],Table1[[#This Row],[Other HZ Employee]],Table1[[#This Row],[Non HZ Employee]],Table1[[#This Row],[Job Site Employee]],Table1[[#This Row],[Other Employee]])","v":0},{"$f":"IF(Table1[[#This Row],[Total Hours per Month]]=Table1[[#This Row],[Column12]],\"Match\",\"Error\")","v":"Match"},{"$f":"IF(Table1[[#This Row],[Calc 2]]=\"#NA\",\"#NA\",IF(Table1[[#This Row],[Non HZ Employee]]=Table1[[#This Row],[Max calc]],\"Non HZ Employee\", Table1[[#This Row],[Calc 2]]))","v":"#NA"}]
[1258,null,1258,{"$nulls":5},{"$f":"SUM(Table1[[#This Row],[Column4]]+Table1[[#This Row],[Column3]]+Table1[[#This Row],[Column2]]+Table1[[#This Row],[Column1]])","v":0},{"$nulls":5},{"$f":"SUM(Table1[[#This Row],[PO Employee]:[Other Employee]])","v":0},"N",{"$error":"#N/A"},{"$f":"IF(O1275>39,Table1[[#This Row],[Calc 1]],IF(O1275>1,\"Not counted as an Employee\",\"#NA\"))","v":"#NA"},{"$f":"MAX(Table1[[#This Row],[PO Employee]],Table1[[#This Row],[Other HZ Employee]],Table1[[#This Row],[Non HZ Employee]],Table1[[#This Row],[Job Site Employee]],Table1[[#This Row],[Other Employee]])","v":0},{"$f":"IF(Table1[[#This Row],[Total Hours per Month]]=Table1[[#This Row],[Column12]],\"Match\",\"Error\")","v":"Match"},{"$f":"IF(Table1[[#This Row],[Calc 2]]=\"#NA\",\"#NA\",IF(Table1[[#This Row],[Non HZ Employee]]=Table1[[#This Row],[Max calc]],\"Non HZ Employee\", Table1[[#This Row],[Calc 2]]))","v":"#NA"}]
[1259,null,1259,{"$nulls":5},{"$f":"SUM(Table1[[#This Row],[Column4]]+Table1[[#This Row],[Column3]]+Table1[[#This Row],[Column2]]+Table1[[#This Row],[Column1]])","v":0},{"$nulls":5},{"$f":"SUM(Table1[[#This Row],[PO Employee]:[Other Employee]])","v":0},"N",{"$error":"#N/A"},{"$f":"IF(O1276>39,Table1[[#This Row],[Calc 1]],IF(O1276>1,\"Not counted as an Employee\",\"#NA\"))","v":"#NA"},{"$f":"MAX(Table1[[#This Row],[PO Employee]],Table1[[#This Row],[Other HZ Employee]],Table1[[#This Row],[Non HZ Employee]],Table1[[#This Row],[Job Site Employee]],Table1[[#This Row],[Other Employee]])","v":0},{"$f":"IF(Table1[[#This Row],[Total Hours per Month]]=Table1[[#This Row],[Column12]],\"Match\",\"Error\")","v":"Match"},{"$f":"IF(Table1[[#This Row],[Calc 2]]=\"#NA\",\"#NA\",IF(Table1[[#This Row],[Non HZ Employee]]=Table1[[#This Row],[Max calc]],\"Non HZ Employee\", Table1[[#This Row],[Calc 2]]))","v":"#NA"}]
[1260,null,1260,{"$nulls":5},{"$f":"SUM(Table1[[#This Row],[Column4]]+Table1[[#This Row],[Column3]]+Table1[[#This Row],[Column2]]+Table1[[#This Row],[Column1]])","v":0},{"$nulls":5},{"$f":"SUM(Table1[[#This Row],[PO Employee]:[Other Employee]])","v":0},"N",{"$error":"#N/A"},{"$f":"IF(O1277>39,Table1[[#This Row],[Calc 1]],IF(O1277>1,\"Not counted as an Employee\",\"#NA\"))","v":"#NA"},{"$f":"MAX(Table1[[#This Row],[PO Employee]],Table1[[#This Row],[Other HZ Employee]],Table1[[#This Row],[Non HZ Employee]],Table1[[#This Row],[Job Site Employee]],Table1[[#This Row],[Other Employee]])","v":0},{"$f":"IF(Table1[[#This Row],[Total Hours per Month]]=Table1[[#This Row],[Column12]],\"Match\",\"Error\")","v":"Match"},{"$f":"IF(Table1[[#This Row],[Calc 2]]=\"#NA\",\"#NA\",IF(Table1[[#This Row],[Non HZ Employee]]=Table1[[#This Row],[Max calc]],\"Non HZ Employee\", Table1[[#This Row],[Calc 2]]))","v":"#NA"}]
[1261,null,1261,{"$nulls":5},{"$f":"SUM(Table1[[#This Row],[Column4]]+Table1[[#This Row],[Column3]]+Table1[[#This Row],[Column2]]+Table1[[#This Row],[Column1]])","v":0},{"$nulls":5},{"$f":"SUM(Table1[[#This Row],[PO Employee]:[Other Employee]])","v":0},"N",{"$error":"#N/A"},{"$f":"IF(O1278>39,Table1[[#This Row],[Calc 1]],IF(O1278>1,\"Not counted as an Employee\",\"#NA\"))","v":"#NA"},{"$f":"MAX(Table1[[#This Row],[PO Employee]],Table1[[#This Row],[Other HZ Employee]],Table1[[#This Row],[Non HZ Employee]],Table1[[#This Row],[Job Site Employee]],Table1[[#This Row],[Other Employee]])","v":0},{"$f":"IF(Table1[[#This Row],[Total Hours per Month]]=Table1[[#This Row],[Column12]],\"Match\",\"Error\")","v":"Match"},{"$f":"IF(Table1[[#This Row],[Calc 2]]=\"#NA\",\"#NA\",IF(Table1[[#This Row],[Non HZ Employee]]=Table1[[#This Row],[Max calc]],\"Non HZ Employee\", Table1[[#This Row],[Calc 2]]))","v":"#NA"}]
[1262,null,1262,{"$nulls":5},{"$f":"SUM(Table1[[#This Row],[Column4]]+Table1[[#This Row],[Column3]]+Table1[[#This Row],[Column2]]+Table1[[#This Row],[Column1]])","v":0},{"$nulls":5},{"$f":"SUM(Table1[[#This Row],[PO Employee]:[Other Employee]])","v":0},"N",{"$error":"#N/A"},{"$f":"IF(O1279>39,Table1[[#This Row],[Calc 1]],IF(O1279>1,\"Not counted as an Employee\",\"#NA\"))","v":"#NA"},{"$f":"MAX(Table1[[#This Row],[PO Employee]],Table1[[#This Row],[Other HZ Employee]],Table1[[#This Row],[Non HZ Employee]],Table1[[#This Row],[Job Site Employee]],Table1[[#This Row],[Other Employee]])","v":0},{"$f":"IF(Table1[[#This Row],[Total Hours per Month]]=Table1[[#This Row],[Column12]],\"Match\",\"Error\")","v":"Match"},{"$f":"IF(Table1[[#This Row],[Calc 2]]=\"#NA\",\"#NA\",IF(Table1[[#This Row],[Non HZ Employee]]=Table1[[#This Row],[Max calc]],\"Non HZ Employee\", Table1[[#This Row],[Calc 2]]))","v":"#NA"}]
[1263,null,1263,{"$nulls":5},{"$f":"SUM(Table1[[#This Row],[Column4]]+Table1[[#This Row],[Column3]]+Table1[[#This Row],[Column2]]+Table1[[#This Row],[Column1]])","v":0},{"$nulls":5},{"$f":"SUM(Table1[[#This Row],[PO Employee]:[Other Employee]])","v":0},"N",{"$error":"#N/A"},{"$f":"IF(O1280>39,Table1[[#This Row],[Calc 1]],IF(O1280>1,\"Not counted as an Employee\",\"#NA\"))","v":"#NA"},{"$f":"MAX(Table1[[#This Row],[PO Employee]],Table1[[#This Row],[Other HZ Employee]],Table1[[#This Row],[Non HZ Employee]],Table1[[#This Row],[Job Site Employee]],Table1[[#This Row],[Other Employee]])","v":0},{"$f":"IF(Table1[[#This Row],[Total Hours per Month]]=Table1[[#This Row],[Column12]],\"Match\",\"Error\")","v":"Match"},{"$f":"IF(Table1[[#This Row],[Calc 2]]=\"#NA\",\"#NA\",IF(Table1[[#This Row],[Non HZ Employee]]=Table1[[#This Row],[Max calc]],\"Non HZ Employee\", Table1[[#This Row],[Calc 2]]))","v":"#NA"}]
[1264,null,1264,{"$nulls":5},{"$f":"SUM(Table1[[#This Row],[Column4]]+Table1[[#This Row],[Column3]]+Table1[[#This Row],[Column2]]+Table1[[#This Row],[Column1]])","v":0},{"$nulls":5},{"$f":"SUM(Table1[[#This Row],[PO Employee]:[Other Employee]])","v":0},"N",{"$error":"#N/A"},{"$f":"IF(O1281>39,Table1[[#This Row],[Calc 1]],IF(O1281>1,\"Not counted as an Employee\",\"#NA\"))","v":"#NA"},{"$f":"MAX(Table1[[#This Row],[PO Employee]],Table1[[#This Row],[Other HZ Employee]],Table1[[#This Row],[Non HZ Employee]],Table1[[#This Row],[Job Site Employee]],Table1[[#This Row],[Other Employee]])","v":0},{"$f":"IF(Table1[[#This Row],[Total Hours per Month]]=Table1[[#This Row],[Column12]],\"Match\",\"Error\")","v":"Match"},{"$f":"IF(Table1[[#This Row],[Calc 2]]=\"#NA\",\"#NA\",IF(Table1[[#This Row],[Non HZ Employee]]=Table1[[#This Row],[Max calc]],\"Non HZ Employee\", Table1[[#This Row],[Calc 2]]))","v":"#NA"}]
[1265,null,1265,{"$nulls":5},{"$f":"SUM(Table1[[#This Row],[Column4]]+Table1[[#This Row],[Column3]]+Table1[[#This Row],[Column2]]+Table1[[#This Row],[Column1]])","v":0},{"$nulls":5},{"$f":"SUM(Table1[[#This Row],[PO Employee]:[Other Employee]])","v":0},"N",{"$error":"#N/A"},{"$f":"IF(O1282>39,Table1[[#This Row],[Calc 1]],IF(O1282>1,\"Not counted as an Employee\",\"#NA\"))","v":"#NA"},{"$f":"MAX(Table1[[#This Row],[PO Employee]],Table1[[#This Row],[Other HZ Employee]],Table1[[#This Row],[Non HZ Employee]],Table1[[#This Row],[Job Site Employee]],Table1[[#This Row],[Other Employee]])","v":0},{"$f":"IF(Table1[[#This Row],[Total Hours per Month]]=Table1[[#This Row],[Column12]],\"Match\",\"Error\")","v":"Match"},{"$f":"IF(Table1[[#This Row],[Calc 2]]=\"#NA\",\"#NA\",IF(Table1[[#This Row],[Non HZ Employee]]=Table1[[#This Row],[Max calc]],\"Non HZ Employee\", Table1[[#This Row],[Calc 2]]))","v":"#NA"}]
[1266,null,1266,{"$nulls":5},{"$f":"SUM(Table1[[#This Row],[Column4]]+Table1[[#This Row],[Column3]]+Table1[[#This Row],[Column2]]+Table1[[#This Row],[Column1]])","v":0},{"$nulls":5},{"$f":"SUM(Table1[[#This Row],[PO Employee]:[Other Employee]])","v":0},"N",{"$error":"#N/A"},{"$f":"IF(O1283>39,Table1[[#This Row],[Calc 1]],IF(O1283>1,\"Not counted as an Employee\",\"#NA\"))","v":"#NA"},{"$f":"MAX(Table1[[#This Row],[PO Employee]],Table1[[#This Row],[Other HZ Employee]],Table1[[#This Row],[Non HZ Employee]],Table1[[#This Row],[Job Site Employee]],Table1[[#This Row],[Other Employee]])","v":0},{"$f":"IF(Table1[[#This Row],[Total Hours per Month]]=Table1[[#This Row],[Column12]],\"Match\",\"Error\")","v":"Match"},{"$f":"IF(Table1[[#This Row],[Calc 2]]=\"#NA\",\"#NA\",IF(Table1[[#This Row],[Non HZ Employee]]=Table1[[#This Row],[Max calc]],\"Non HZ Employee\", Table1[[#This Row],[Calc 2]]))","v":"#NA"}]
[1267,null,1267,{"$nulls":5},{"$f":"SUM(Table1[[#This Row],[Column4]]+Table1[[#This Row],[Column3]]+Table1[[#This Row],[Column2]]+Table1[[#This Row],[Column1]])","v":0},{"$nulls":5},{"$f":"SUM(Table1[[#This Row],[PO Employee]:[Other Employee]])","v":0},"N",{"$error":"#N/A"},{"$f":"IF(O1284>39,Table1[[#This Row],[Calc 1]],IF(O1284>1,\"Not counted as an Employee\",\"#NA\"))","v":"#NA"},{"$f":"MAX(Table1[[#This Row],[PO Employee]],Table1[[#This Row],[Other HZ Employee]],Table1[[#This Row],[Non HZ Employee]],Table1[[#This Row],[Job Site Employee]],Table1[[#This Row],[Other Employee]])","v":0},{"$f":"IF(Table1[[#This Row],[Total Hours per Month]]=Table1[[#This Row],[Column12]],\"Match\",\"Error\")","v":"Match"},{"$f":"IF(Table1[[#This Row],[Calc 2]]=\"#NA\",\"#NA\",IF(Table1[[#This Row],[Non HZ Employee]]=Table1[[#This Row],[Max calc]],\"Non HZ Employee\", Table1[[#This Row],[Calc 2]]))","v":"#NA"}]
[1268,null,1268,{"$nulls":5},{"$f":"SUM(Table1[[#This Row],[Column4]]+Table1[[#This Row],[Column3]]+Table1[[#This Row],[Column2]]+Table1[[#This Row],[Column1]])","v":0},{"$nulls":5},{"$f":"SUM(Table1[[#This Row],[PO Employee]:[Other Employee]])","v":0},"N",{"$error":"#N/A"},{"$f":"IF(O1285>39,Table1[[#This Row],[Calc 1]],IF(O1285>1,\"Not counted as an Employee\",\"#NA\"))","v":"#NA"},{"$f":"MAX(Table1[[#This Row],[PO Employee]],Table1[[#This Row],[Other HZ Employee]],Table1[[#This Row],[Non HZ Employee]],Table1[[#This Row],[Job Site Employee]],Table1[[#This Row],[Other Employee]])","v":0},{"$f":"IF(Table1[[#This Row],[Total Hours per Month]]=Table1[[#This Row],[Column12]],\"Match\",\"Error\")","v":"Match"},{"$f":"IF(Table1[[#This Row],[Calc 2]]=\"#NA\",\"#NA\",IF(Table1[[#This Row],[Non HZ Employee]]=Table1[[#This Row],[Max calc]],\"Non HZ Employee\", Table1[[#This Row],[Calc 2]]))","v":"#NA"}]
[1269,null,1269,{"$nulls":5},{"$f":"SUM(Table1[[#This Row],[Column4]]+Table1[[#This Row],[Column3]]+Table1[[#This Row],[Column2]]+Table1[[#This Row],[Column1]])","v":0},{"$nulls":5},{"$f":"SUM(Table1[[#This Row],[PO Employee]:[Other Employee]])","v":0},"N",{"$error":"#N/A"},{"$f":"IF(O1286>39,Table1[[#This Row],[Calc 1]],IF(O1286>1,\"Not counted as an Employee\",\"#NA\"))","v":"#NA"},{"$f":"MAX(Table1[[#This Row],[PO Employee]],Table1[[#This Row],[Other HZ Employee]],Table1[[#This Row],[Non HZ Employee]],Table1[[#This Row],[Job Site Employee]],Table1[[#This Row],[Other Employee]])","v":0},{"$f":"IF(Table1[[#This Row],[Total Hours per Month]]=Table1[[#This Row],[Column12]],\"Match\",\"Error\")","v":"Match"},{"$f":"IF(Table1[[#This Row],[Calc 2]]=\"#NA\",\"#NA\",IF(Table1[[#This Row],[Non HZ Employee]]=Table1[[#This Row],[Max calc]],\"Non HZ Employee\", Table1[[#This Row],[Calc 2]]))","v":"#NA"}]
[1270,null,1270,{"$nulls":5},{"$f":"SUM(Table1[[#This Row],[Column4]]+Table1[[#This Row],[Column3]]+Table1[[#This Row],[Column2]]+Table1[[#This Row],[Column1]])","v":0},{"$nulls":5},{"$f":"SUM(Table1[[#This Row],[PO Employee]:[Other Employee]])","v":0},"N",{"$error":"#N/A"},{"$f":"IF(O1287>39,Table1[[#This Row],[Calc 1]],IF(O1287>1,\"Not counted as an Employee\",\"#NA\"))","v":"#NA"},{"$f":"MAX(Table1[[#This Row],[PO Employee]],Table1[[#This Row],[Other HZ Employee]],Table1[[#This Row],[Non HZ Employee]],Table1[[#This Row],[Job Site Employee]],Table1[[#This Row],[Other Employee]])","v":0},{"$f":"IF(Table1[[#This Row],[Total Hours per Month]]=Table1[[#This Row],[Column12]],\"Match\",\"Error\")","v":"Match"},{"$f":"IF(Table1[[#This Row],[Calc 2]]=\"#NA\",\"#NA\",IF(Table1[[#This Row],[Non HZ Employee]]=Table1[[#This Row],[Max calc]],\"Non HZ Employee\", Table1[[#This Row],[Calc 2]]))","v":"#NA"}]
[1271,null,1271,{"$nulls":5},{"$f":"SUM(Table1[[#This Row],[Column4]]+Table1[[#This Row],[Column3]]+Table1[[#This Row],[Column2]]+Table1[[#This Row],[Column1]])","v":0},{"$nulls":5},{"$f":"SUM(Table1[[#This Row],[PO Employee]:[Other Employee]])","v":0},"N",{"$error":"#N/A"},{"$f":"IF(O1288>39,Table1[[#This Row],[Calc 1]],IF(O1288>1,\"Not counted as an Employee\",\"#NA\"))","v":"#NA"},{"$f":"MAX(Table1[[#This Row],[PO Employee]],Table1[[#This Row],[Other HZ Employee]],Table1[[#This Row],[Non HZ Employee]],Table1[[#This Row],[Job Site Employee]],Table1[[#This Row],[Other Employee]])","v":0},{"$f":"IF(Table1[[#This Row],[Total Hours per Month]]=Table1[[#This Row],[Column12]],\"Match\",\"Error\")","v":"Match"},{"$f":"IF(Table1[[#This Row],[Calc 2]]=\"#NA\",\"#NA\",IF(Table1[[#This Row],[Non HZ Employee]]=Table1[[#This Row],[Max calc]],\"Non HZ Employee\", Table1[[#This Row],[Calc 2]]))","v":"#NA"}]
[1272,null,1272,{"$nulls":5},{"$f":"SUM(Table1[[#This Row],[Column4]]+Table1[[#This Row],[Column3]]+Table1[[#This Row],[Column2]]+Table1[[#This Row],[Column1]])","v":0},{"$nulls":5},{"$f":"SUM(Table1[[#This Row],[PO Employee]:[Other Employee]])","v":0},"N",{"$error":"#N/A"},{"$f":"IF(O1289>39,Table1[[#This Row],[Calc 1]],IF(O1289>1,\"Not counted as an Employee\",\"#NA\"))","v":"#NA"},{"$f":"MAX(Table1[[#This Row],[PO Employee]],Table1[[#This Row],[Other HZ Employee]],Table1[[#This Row],[Non HZ Employee]],Table1[[#This Row],[Job Site Employee]],Table1[[#This Row],[Other Employee]])","v":0},{"$f":"IF(Table1[[#This Row],[Total Hours per Month]]=Table1[[#This Row],[Column12]],\"Match\",\"Error\")","v":"Match"},{"$f":"IF(Table1[[#This Row],[Calc 2]]=\"#NA\",\"#NA\",IF(Table1[[#This Row],[Non HZ Employee]]=Table1[[#This Row],[Max calc]],\"Non HZ Employee\", Table1[[#This Row],[Calc 2]]))","v":"#NA"}]
[1273,null,1273,{"$nulls":5},{"$f":"SUM(Table1[[#This Row],[Column4]]+Table1[[#This Row],[Column3]]+Table1[[#This Row],[Column2]]+Table1[[#This Row],[Column1]])","v":0},{"$nulls":5},{"$f":"SUM(Table1[[#This Row],[PO Employee]:[Other Employee]])","v":0},"N",{"$error":"#N/A"},{"$f":"IF(O1290>39,Table1[[#This Row],[Calc 1]],IF(O1290>1,\"Not counted as an Employee\",\"#NA\"))","v":"#NA"},{"$f":"MAX(Table1[[#This Row],[PO Employee]],Table1[[#This Row],[Other HZ Employee]],Table1[[#This Row],[Non HZ Employee]],Table1[[#This Row],[Job Site Employee]],Table1[[#This Row],[Other Employee]])","v":0},{"$f":"IF(Table1[[#This Row],[Total Hours per Month]]=Table1[[#This Row],[Column12]],\"Match\",\"Error\")","v":"Match"},{"$f":"IF(Table1[[#This Row],[Calc 2]]=\"#NA\",\"#NA\",IF(Table1[[#This Row],[Non HZ Employee]]=Table1[[#This Row],[Max calc]],\"Non HZ Employee\", Table1[[#This Row],[Calc 2]]))","v":"#NA"}]
[1274,null,1274,{"$nulls":5},{"$f":"SUM(Table1[[#This Row],[Column4]]+Table1[[#This Row],[Column3]]+Table1[[#This Row],[Column2]]+Table1[[#This Row],[Column1]])","v":0},{"$nulls":5},{"$f":"SUM(Table1[[#This Row],[PO Employee]:[Other Employee]])","v":0},"N",{"$error":"#N/A"},{"$f":"IF(O1291>39,Table1[[#This Row],[Calc 1]],IF(O1291>1,\"Not counted as an Employee\",\"#NA\"))","v":"#NA"},{"$f":"MAX(Table1[[#This Row],[PO Employee]],Table1[[#This Row],[Other HZ Employee]],Table1[[#This Row],[Non HZ Employee]],Table1[[#This Row],[Job Site Employee]],Table1[[#This Row],[Other Employee]])","v":0},{"$f":"IF(Table1[[#This Row],[Total Hours per Month]]=Table1[[#This Row],[Column12]],\"Match\",\"Error\")","v":"Match"},{"$f":"IF(Table1[[#This Row],[Calc 2]]=\"#NA\",\"#NA\",IF(Table1[[#This Row],[Non HZ Employee]]=Table1[[#This Row],[Max calc]],\"Non HZ Employee\", Table1[[#This Row],[Calc 2]]))","v":"#NA"}]
[1275,null,1275,{"$nulls":5},{"$f":"SUM(Table1[[#This Row],[Column4]]+Table1[[#This Row],[Column3]]+Table1[[#This Row],[Column2]]+Table1[[#This Row],[Column1]])","v":0},{"$nulls":5},{"$f":"SUM(Table1[[#This Row],[PO Employee]:[Other Employee]])","v":0},"N",{"$error":"#N/A"},{"$f":"IF(O1292>39,Table1[[#This Row],[Calc 1]],IF(O1292>1,\"Not counted as an Employee\",\"#NA\"))","v":"#NA"},{"$f":"MAX(Table1[[#This Row],[PO Employee]],Table1[[#This Row],[Other HZ Employee]],Table1[[#This Row],[Non HZ Employee]],Table1[[#This Row],[Job Site Employee]],Table1[[#This Row],[Other Employee]])","v":0},{"$f":"IF(Table1[[#This Row],[Total Hours per Month]]=Table1[[#This Row],[Column12]],\"Match\",\"Error\")","v":"Match"},{"$f":"IF(Table1[[#This Row],[Calc 2]]=\"#NA\",\"#NA\",IF(Table1[[#This Row],[Non HZ Employee]]=Table1[[#This Row],[Max calc]],\"Non HZ Employee\", Table1[[#This Row],[Calc 2]]))","v":"#NA"}]
[1276,null,1276,{"$nulls":5},{"$f":"SUM(Table1[[#This Row],[Column4]]+Table1[[#This Row],[Column3]]+Table1[[#This Row],[Column2]]+Table1[[#This Row],[Column1]])","v":0},{"$nulls":5},{"$f":"SUM(Table1[[#This Row],[PO Employee]:[Other Employee]])","v":0},"N",{"$error":"#N/A"},{"$f":"IF(O1293>39,Table1[[#This Row],[Calc 1]],IF(O1293>1,\"Not counted as an Employee\",\"#NA\"))","v":"#NA"},{"$f":"MAX(Table1[[#This Row],[PO Employee]],Table1[[#This Row],[Other HZ Employee]],Table1[[#This Row],[Non HZ Employee]],Table1[[#This Row],[Job Site Employee]],Table1[[#This Row],[Other Employee]])","v":0},{"$f":"IF(Table1[[#This Row],[Total Hours per Month]]=Table1[[#This Row],[Column12]],\"Match\",\"Error\")","v":"Match"},{"$f":"IF(Table1[[#This Row],[Calc 2]]=\"#NA\",\"#NA\",IF(Table1[[#This Row],[Non HZ Employee]]=Table1[[#This Row],[Max calc]],\"Non HZ Employee\", Table1[[#This Row],[Calc 2]]))","v":"#NA"}]
[1277,null,1277,{"$nulls":5},{"$f":"SUM(Table1[[#This Row],[Column4]]+Table1[[#This Row],[Column3]]+Table1[[#This Row],[Column2]]+Table1[[#This Row],[Column1]])","v":0},{"$nulls":5},{"$f":"SUM(Table1[[#This Row],[PO Employee]:[Other Employee]])","v":0},"N",{"$error":"#N/A"},{"$f":"IF(O1294>39,Table1[[#This Row],[Calc 1]],IF(O1294>1,\"Not counted as an Employee\",\"#NA\"))","v":"#NA"},{"$f":"MAX(Table1[[#This Row],[PO Employee]],Table1[[#This Row],[Other HZ Employee]],Table1[[#This Row],[Non HZ Employee]],Table1[[#This Row],[Job Site Employee]],Table1[[#This Row],[Other Employee]])","v":0},{"$f":"IF(Table1[[#This Row],[Total Hours per Month]]=Table1[[#This Row],[Column12]],\"Match\",\"Error\")","v":"Match"},{"$f":"IF(Table1[[#This Row],[Calc 2]]=\"#NA\",\"#NA\",IF(Table1[[#This Row],[Non HZ Employee]]=Table1[[#This Row],[Max calc]],\"Non HZ Employee\", Table1[[#This Row],[Calc 2]]))","v":"#NA"}]
[1278,null,1278,{"$nulls":5},{"$f":"SUM(Table1[[#This Row],[Column4]]+Table1[[#This Row],[Column3]]+Table1[[#This Row],[Column2]]+Table1[[#This Row],[Column1]])","v":0},{"$nulls":5},{"$f":"SUM(Table1[[#This Row],[PO Employee]:[Other Employee]])","v":0},"N",{"$error":"#N/A"},{"$f":"IF(O1295>39,Table1[[#This Row],[Calc 1]],IF(O1295>1,\"Not counted as an Employee\",\"#NA\"))","v":"#NA"},{"$f":"MAX(Table1[[#This Row],[PO Employee]],Table1[[#This Row],[Other HZ Employee]],Table1[[#This Row],[Non HZ Employee]],Table1[[#This Row],[Job Site Employee]],Table1[[#This Row],[Other Employee]])","v":0},{"$f":"IF(Table1[[#This Row],[Total Hours per Month]]=Table1[[#This Row],[Column12]],\"Match\",\"Error\")","v":"Match"},{"$f":"IF(Table1[[#This Row],[Calc 2]]=\"#NA\",\"#NA\",IF(Table1[[#This Row],[Non HZ Employee]]=Table1[[#This Row],[Max calc]],\"Non HZ Employee\", Table1[[#This Row],[Calc 2]]))","v":"#NA"}]
[1279,null,1279,{"$nulls":5},{"$f":"SUM(Table1[[#This Row],[Column4]]+Table1[[#This Row],[Column3]]+Table1[[#This Row],[Column2]]+Table1[[#This Row],[Column1]])","v":0},{"$nulls":5},{"$f":"SUM(Table1[[#This Row],[PO Employee]:[Other Employee]])","v":0},"N",{"$error":"#N/A"},{"$f":"IF(O1296>39,Table1[[#This Row],[Calc 1]],IF(O1296>1,\"Not counted as an Employee\",\"#NA\"))","v":"#NA"},{"$f":"MAX(Table1[[#This Row],[PO Employee]],Table1[[#This Row],[Other HZ Employee]],Table1[[#This Row],[Non HZ Employee]],Table1[[#This Row],[Job Site Employee]],Table1[[#This Row],[Other Employee]])","v":0},{"$f":"IF(Table1[[#This Row],[Total Hours per Month]]=Table1[[#This Row],[Column12]],\"Match\",\"Error\")","v":"Match"},{"$f":"IF(Table1[[#This Row],[Calc 2]]=\"#NA\",\"#NA\",IF(Table1[[#This Row],[Non HZ Employee]]=Table1[[#This Row],[Max calc]],\"Non HZ Employee\", Table1[[#This Row],[Calc 2]]))","v":"#NA"}]
[1280,null,1280,{"$nulls":5},{"$f":"SUM(Table1[[#This Row],[Column4]]+Table1[[#This Row],[Column3]]+Table1[[#This Row],[Column2]]+Table1[[#This Row],[Column1]])","v":0},{"$nulls":5},{"$f":"SUM(Table1[[#This Row],[PO Employee]:[Other Employee]])","v":0},"N",{"$error":"#N/A"},{"$f":"IF(O1297>39,Table1[[#This Row],[Calc 1]],IF(O1297>1,\"Not counted as an Employee\",\"#NA\"))","v":"#NA"},{"$f":"MAX(Table1[[#This Row],[PO Employee]],Table1[[#This Row],[Other HZ Employee]],Table1[[#This Row],[Non HZ Employee]],Table1[[#This Row],[Job Site Employee]],Table1[[#This Row],[Other Employee]])","v":0},{"$f":"IF(Table1[[#This Row],[Total Hours per Month]]=Table1[[#This Row],[Column12]],\"Match\",\"Error\")","v":"Match"},{"$f":"IF(Table1[[#This Row],[Calc 2]]=\"#NA\",\"#NA\",IF(Table1[[#This Row],[Non HZ Employee]]=Table1[[#This Row],[Max calc]],\"Non HZ Employee\", Table1[[#This Row],[Calc 2]]))","v":"#NA"}]
[1281,null,1281,{"$nulls":5},{"$f":"SUM(Table1[[#This Row],[Column4]]+Table1[[#This Row],[Column3]]+Table1[[#This Row],[Column2]]+Table1[[#This Row],[Column1]])","v":0},{"$nulls":5},{"$f":"SUM(Table1[[#This Row],[PO Employee]:[Other Employee]])","v":0},"N",{"$f":"INDEX($J$17:$N$17,MATCH(MAX(J1298:N1298),J1298:N1298,0))","v":{"$error":"#N/A"}},{"$f":"IF(O1298>39,Table1[[#This Row],[Calc 1]],IF(O1298>1,\"Not counted as an Employee\",\"#NA\"))","v":"#NA"},{"$f":"MAX(Table1[[#This Row],[PO Employee]],Table1[[#This Row],[Other HZ Employee]],Table1[[#This Row],[Non HZ Employee]],Table1[[#This Row],[Job Site Employee]],Table1[[#This Row],[Other Employee]])","v":0},{"$f":"IF(Table1[[#This Row],[Total Hours per Month]]=Table1[[#This Row],[Column12]],\"Match\",\"Error\")","v":"Match"},{"$f":"IF(Table1[[#This Row],[Calc 2]]=\"#NA\",\"#NA\",IF(Table1[[#This Row],[Non HZ Employee]]=Table1[[#This Row],[Max calc]],\"Non HZ Employee\", Table1[[#This Row],[Calc 2]]))","v":"#NA"}]
[1282,null,1282,{"$nulls":5},{"$f":"SUM(Table1[[#This Row],[Column4]]+Table1[[#This Row],[Column3]]+Table1[[#This Row],[Column2]]+Table1[[#This Row],[Column1]])","v":0},{"$nulls":5},{"$f":"SUM(Table1[[#This Row],[PO Employee]:[Other Employee]])","v":0},{"$f":"IF(O1299>=40,\"Y\",\"N\")","v":"N"},{"$error":"#N/A"},{"$f":"IF(O1299>39,Table1[[#This Row],[Calc 1]],IF(O1299>1,\"Not counted as an Employee\",\"#NA\"))","v":"#NA"},{"$f":"MAX(Table1[[#This Row],[PO Employee]],Table1[[#This Row],[Other HZ Employee]],Table1[[#This Row],[Non HZ Employee]],Table1[[#This Row],[Job Site Employee]],Table1[[#This Row],[Other Employee]])","v":0},{"$f":"IF(Table1[[#This Row],[Total Hours per Month]]=Table1[[#This Row],[Column12]],\"Match\",\"Error\")","v":"Match"},{"$f":"IF(Table1[[#This Row],[Calc 2]]=\"#NA\",\"#NA\",IF(Table1[[#This Row],[Non HZ Employee]]=Table1[[#This Row],[Max calc]],\"Non HZ Employee\", Table1[[#This Row],[Calc 2]]))","v":"#NA"}]
[1283,null,1283,{"$nulls":5},{"$f":"SUM(Table1[[#This Row],[Column4]]+Table1[[#This Row],[Column3]]+Table1[[#This Row],[Column2]]+Table1[[#This Row],[Column1]])","v":0},{"$nulls":5},{"$f":"SUM(Table1[[#This Row],[PO Employee]:[Other Employee]])","v":0},"N",{"$error":"#N/A"},{"$f":"IF(O1300>39,Table1[[#This Row],[Calc 1]],IF(O1300>1,\"Not counted as an Employee\",\"#NA\"))","v":"#NA"},{"$f":"MAX(Table1[[#This Row],[PO Employee]],Table1[[#This Row],[Other HZ Employee]],Table1[[#This Row],[Non HZ Employee]],Table1[[#This Row],[Job Site Employee]],Table1[[#This Row],[Other Employee]])","v":0},{"$f":"IF(Table1[[#This Row],[Total Hours per Month]]=Table1[[#This Row],[Column12]],\"Match\",\"Error\")","v":"Match"},{"$f":"IF(Table1[[#This Row],[Calc 2]]=\"#NA\",\"#NA\",IF(Table1[[#This Row],[Non HZ Employee]]=Table1[[#This Row],[Max calc]],\"Non HZ Employee\", Table1[[#This Row],[Calc 2]]))","v":"#NA"}]
[1284,null,1284,{"$nulls":5},{"$f":"SUM(Table1[[#This Row],[Column4]]+Table1[[#This Row],[Column3]]+Table1[[#This Row],[Column2]]+Table1[[#This Row],[Column1]])","v":0},{"$nulls":5},{"$f":"SUM(Table1[[#This Row],[PO Employee]:[Other Employee]])","v":0},"N",{"$error":"#N/A"},{"$f":"IF(O1301>39,Table1[[#This Row],[Calc 1]],IF(O1301>1,\"Not counted as an Employee\",\"#NA\"))","v":"#NA"},{"$f":"MAX(Table1[[#This Row],[PO Employee]],Table1[[#This Row],[Other HZ Employee]],Table1[[#This Row],[Non HZ Employee]],Table1[[#This Row],[Job Site Employee]],Table1[[#This Row],[Other Employee]])","v":0},{"$f":"IF(Table1[[#This Row],[Total Hours per Month]]=Table1[[#This Row],[Column12]],\"Match\",\"Error\")","v":"Match"},{"$f":"IF(Table1[[#This Row],[Calc 2]]=\"#NA\",\"#NA\",IF(Table1[[#This Row],[Non HZ Employee]]=Table1[[#This Row],[Max calc]],\"Non HZ Employee\", Table1[[#This Row],[Calc 2]]))","v":"#NA"}]
[1285,null,1285,{"$nulls":5},{"$f":"SUM(Table1[[#This Row],[Column4]]+Table1[[#This Row],[Column3]]+Table1[[#This Row],[Column2]]+Table1[[#This Row],[Column1]])","v":0},{"$nulls":5},{"$f":"SUM(Table1[[#This Row],[PO Employee]:[Other Employee]])","v":0},"N",{"$error":"#N/A"},{"$f":"IF(O1302>39,Table1[[#This Row],[Calc 1]],IF(O1302>1,\"Not counted as an Employee\",\"#NA\"))","v":"#NA"},{"$f":"MAX(Table1[[#This Row],[PO Employee]],Table1[[#This Row],[Other HZ Employee]],Table1[[#This Row],[Non HZ Employee]],Table1[[#This Row],[Job Site Employee]],Table1[[#This Row],[Other Employee]])","v":0},{"$f":"IF(Table1[[#This Row],[Total Hours per Month]]=Table1[[#This Row],[Column12]],\"Match\",\"Error\")","v":"Match"},{"$f":"IF(Table1[[#This Row],[Calc 2]]=\"#NA\",\"#NA\",IF(Table1[[#This Row],[Non HZ Employee]]=Table1[[#This Row],[Max calc]],\"Non HZ Employee\", Table1[[#This Row],[Calc 2]]))","v":"#NA"}]
[1286,null,1286,{"$nulls":5},{"$f":"SUM(Table1[[#This Row],[Column4]]+Table1[[#This Row],[Column3]]+Table1[[#This Row],[Column2]]+Table1[[#This Row],[Column1]])","v":0},{"$nulls":5},{"$f":"SUM(Table1[[#This Row],[PO Employee]:[Other Employee]])","v":0},"N",{"$error":"#N/A"},{"$f":"IF(O1303>39,Table1[[#This Row],[Calc 1]],IF(O1303>1,\"Not counted as an Employee\",\"#NA\"))","v":"#NA"},{"$f":"MAX(Table1[[#This Row],[PO Employee]],Table1[[#This Row],[Other HZ Employee]],Table1[[#This Row],[Non HZ Employee]],Table1[[#This Row],[Job Site Employee]],Table1[[#This Row],[Other Employee]])","v":0},{"$f":"IF(Table1[[#This Row],[Total Hours per Month]]=Table1[[#This Row],[Column12]],\"Match\",\"Error\")","v":"Match"},{"$f":"IF(Table1[[#This Row],[Calc 2]]=\"#NA\",\"#NA\",IF(Table1[[#This Row],[Non HZ Employee]]=Table1[[#This Row],[Max calc]],\"Non HZ Employee\", Table1[[#This Row],[Calc 2]]))","v":"#NA"}]
[1287,null,1287,{"$nulls":5},{"$f":"SUM(Table1[[#This Row],[Column4]]+Table1[[#This Row],[Column3]]+Table1[[#This Row],[Column2]]+Table1[[#This Row],[Column1]])","v":0},{"$nulls":5},{"$f":"SUM(Table1[[#This Row],[PO Employee]:[Other Employee]])","v":0},"N",{"$error":"#N/A"},{"$f":"IF(O1304>39,Table1[[#This Row],[Calc 1]],IF(O1304>1,\"Not counted as an Employee\",\"#NA\"))","v":"#NA"},{"$f":"MAX(Table1[[#This Row],[PO Employee]],Table1[[#This Row],[Other HZ Employee]],Table1[[#This Row],[Non HZ Employee]],Table1[[#This Row],[Job Site Employee]],Table1[[#This Row],[Other Employee]])","v":0},{"$f":"IF(Table1[[#This Row],[Total Hours per Month]]=Table1[[#This Row],[Column12]],\"Match\",\"Error\")","v":"Match"},{"$f":"IF(Table1[[#This Row],[Calc 2]]=\"#NA\",\"#NA\",IF(Table1[[#This Row],[Non HZ Employee]]=Table1[[#This Row],[Max calc]],\"Non HZ Employee\", Table1[[#This Row],[Calc 2]]))","v":"#NA"}]
[1288,null,1288,{"$nulls":5},{"$f":"SUM(Table1[[#This Row],[Column4]]+Table1[[#This Row],[Column3]]+Table1[[#This Row],[Column2]]+Table1[[#This Row],[Column1]])","v":0},{"$nulls":5},{"$f":"SUM(Table1[[#This Row],[PO Employee]:[Other Employee]])","v":0},"N",{"$error":"#N/A"},{"$f":"IF(O1305>39,Table1[[#This Row],[Calc 1]],IF(O1305>1,\"Not counted as an Employee\",\"#NA\"))","v":"#NA"},{"$f":"MAX(Table1[[#This Row],[PO Employee]],Table1[[#This Row],[Other HZ Employee]],Table1[[#This Row],[Non HZ Employee]],Table1[[#This Row],[Job Site Employee]],Table1[[#This Row],[Other Employee]])","v":0},{"$f":"IF(Table1[[#This Row],[Total Hours per Month]]=Table1[[#This Row],[Column12]],\"Match\",\"Error\")","v":"Match"},{"$f":"IF(Table1[[#This Row],[Calc 2]]=\"#NA\",\"#NA\",IF(Table1[[#This Row],[Non HZ Employee]]=Table1[[#This Row],[Max calc]],\"Non HZ Employee\", Table1[[#This Row],[Calc 2]]))","v":"#NA"}]
[1289,null,1289,{"$nulls":5},{"$f":"SUM(Table1[[#This Row],[Column4]]+Table1[[#This Row],[Column3]]+Table1[[#This Row],[Column2]]+Table1[[#This Row],[Column1]])","v":0},{"$nulls":5},{"$f":"SUM(Table1[[#This Row],[PO Employee]:[Other Employee]])","v":0},"N",{"$error":"#N/A"},{"$f":"IF(O1306>39,Table1[[#This Row],[Calc 1]],IF(O1306>1,\"Not counted as an Employee\",\"#NA\"))","v":"#NA"},{"$f":"MAX(Table1[[#This Row],[PO Employee]],Table1[[#This Row],[Other HZ Employee]],Table1[[#This Row],[Non HZ Employee]],Table1[[#This Row],[Job Site Employee]],Table1[[#This Row],[Other Employee]])","v":0},{"$f":"IF(Table1[[#This Row],[Total Hours per Month]]=Table1[[#This Row],[Column12]],\"Match\",\"Error\")","v":"Match"},{"$f":"IF(Table1[[#This Row],[Calc 2]]=\"#NA\",\"#NA\",IF(Table1[[#This Row],[Non HZ Employee]]=Table1[[#This Row],[Max calc]],\"Non HZ Employee\", Table1[[#This Row],[Calc 2]]))","v":"#NA"}]
[1290,null,1290,{"$nulls":5},{"$f":"SUM(Table1[[#This Row],[Column4]]+Table1[[#This Row],[Column3]]+Table1[[#This Row],[Column2]]+Table1[[#This Row],[Column1]])","v":0},{"$nulls":5},{"$f":"SUM(Table1[[#This Row],[PO Employee]:[Other Employee]])","v":0},"N",{"$error":"#N/A"},{"$f":"IF(O1307>39,Table1[[#This Row],[Calc 1]],IF(O1307>1,\"Not counted as an Employee\",\"#NA\"))","v":"#NA"},{"$f":"MAX(Table1[[#This Row],[PO Employee]],Table1[[#This Row],[Other HZ Employee]],Table1[[#This Row],[Non HZ Employee]],Table1[[#This Row],[Job Site Employee]],Table1[[#This Row],[Other Employee]])","v":0},{"$f":"IF(Table1[[#This Row],[Total Hours per Month]]=Table1[[#This Row],[Column12]],\"Match\",\"Error\")","v":"Match"},{"$f":"IF(Table1[[#This Row],[Calc 2]]=\"#NA\",\"#NA\",IF(Table1[[#This Row],[Non HZ Employee]]=Table1[[#This Row],[Max calc]],\"Non HZ Employee\", Table1[[#This Row],[Calc 2]]))","v":"#NA"}]
[1291,null,1291,{"$nulls":5},{"$f":"SUM(Table1[[#This Row],[Column4]]+Table1[[#This Row],[Column3]]+Table1[[#This Row],[Column2]]+Table1[[#This Row],[Column1]])","v":0},{"$nulls":5},{"$f":"SUM(Table1[[#This Row],[PO Employee]:[Other Employee]])","v":0},"N",{"$error":"#N/A"},{"$f":"IF(O1308>39,Table1[[#This Row],[Calc 1]],IF(O1308>1,\"Not counted as an Employee\",\"#NA\"))","v":"#NA"},{"$f":"MAX(Table1[[#This Row],[PO Employee]],Table1[[#This Row],[Other HZ Employee]],Table1[[#This Row],[Non HZ Employee]],Table1[[#This Row],[Job Site Employee]],Table1[[#This Row],[Other Employee]])","v":0},{"$f":"IF(Table1[[#This Row],[Total Hours per Month]]=Table1[[#This Row],[Column12]],\"Match\",\"Error\")","v":"Match"},{"$f":"IF(Table1[[#This Row],[Calc 2]]=\"#NA\",\"#NA\",IF(Table1[[#This Row],[Non HZ Employee]]=Table1[[#This Row],[Max calc]],\"Non HZ Employee\", Table1[[#This Row],[Calc 2]]))","v":"#NA"}]
[1292,null,1292,{"$nulls":5},{"$f":"SUM(Table1[[#This Row],[Column4]]+Table1[[#This Row],[Column3]]+Table1[[#This Row],[Column2]]+Table1[[#This Row],[Column1]])","v":0},{"$nulls":5},{"$f":"SUM(Table1[[#This Row],[PO Employee]:[Other Employee]])","v":0},"N",{"$error":"#N/A"},{"$f":"IF(O1309>39,Table1[[#This Row],[Calc 1]],IF(O1309>1,\"Not counted as an Employee\",\"#NA\"))","v":"#NA"},{"$f":"MAX(Table1[[#This Row],[PO Employee]],Table1[[#This Row],[Other HZ Employee]],Table1[[#This Row],[Non HZ Employee]],Table1[[#This Row],[Job Site Employee]],Table1[[#This Row],[Other Employee]])","v":0},{"$f":"IF(Table1[[#This Row],[Total Hours per Month]]=Table1[[#This Row],[Column12]],\"Match\",\"Error\")","v":"Match"},{"$f":"IF(Table1[[#This Row],[Calc 2]]=\"#NA\",\"#NA\",IF(Table1[[#This Row],[Non HZ Employee]]=Table1[[#This Row],[Max calc]],\"Non HZ Employee\", Table1[[#This Row],[Calc 2]]))","v":"#NA"}]
[1293,null,1293,{"$nulls":5},{"$f":"SUM(Table1[[#This Row],[Column4]]+Table1[[#This Row],[Column3]]+Table1[[#This Row],[Column2]]+Table1[[#This Row],[Column1]])","v":0},{"$nulls":5},{"$f":"SUM(Table1[[#This Row],[PO Employee]:[Other Employee]])","v":0},"N",{"$error":"#N/A"},{"$f":"IF(O1310>39,Table1[[#This Row],[Calc 1]],IF(O1310>1,\"Not counted as an Employee\",\"#NA\"))","v":"#NA"},{"$f":"MAX(Table1[[#This Row],[PO Employee]],Table1[[#This Row],[Other HZ Employee]],Table1[[#This Row],[Non HZ Employee]],Table1[[#This Row],[Job Site Employee]],Table1[[#This Row],[Other Employee]])","v":0},{"$f":"IF(Table1[[#This Row],[Total Hours per Month]]=Table1[[#This Row],[Column12]],\"Match\",\"Error\")","v":"Match"},{"$f":"IF(Table1[[#This Row],[Calc 2]]=\"#NA\",\"#NA\",IF(Table1[[#This Row],[Non HZ Employee]]=Table1[[#This Row],[Max calc]],\"Non HZ Employee\", Table1[[#This Row],[Calc 2]]))","v":"#NA"}]
[1294,null,1294,{"$nulls":5},{"$f":"SUM(Table1[[#This Row],[Column4]]+Table1[[#This Row],[Column3]]+Table1[[#This Row],[Column2]]+Table1[[#This Row],[Column1]])","v":0},{"$nulls":5},{"$f":"SUM(Table1[[#This Row],[PO Employee]:[Other Employee]])","v":0},"N",{"$error":"#N/A"},{"$f":"IF(O1311>39,Table1[[#This Row],[Calc 1]],IF(O1311>1,\"Not counted as an Employee\",\"#NA\"))","v":"#NA"},{"$f":"MAX(Table1[[#This Row],[PO Employee]],Table1[[#This Row],[Other HZ Employee]],Table1[[#This Row],[Non HZ Employee]],Table1[[#This Row],[Job Site Employee]],Table1[[#This Row],[Other Employee]])","v":0},{"$f":"IF(Table1[[#This Row],[Total Hours per Month]]=Table1[[#This Row],[Column12]],\"Match\",\"Error\")","v":"Match"},{"$f":"IF(Table1[[#This Row],[Calc 2]]=\"#NA\",\"#NA\",IF(Table1[[#This Row],[Non HZ Employee]]=Table1[[#This Row],[Max calc]],\"Non HZ Employee\", Table1[[#This Row],[Calc 2]]))","v":"#NA"}]
[1295,null,1295,{"$nulls":5},{"$f":"SUM(Table1[[#This Row],[Column4]]+Table1[[#This Row],[Column3]]+Table1[[#This Row],[Column2]]+Table1[[#This Row],[Column1]])","v":0},{"$nulls":5},{"$f":"SUM(Table1[[#This Row],[PO Employee]:[Other Employee]])","v":0},"N",{"$error":"#N/A"},{"$f":"IF(O1312>39,Table1[[#This Row],[Calc 1]],IF(O1312>1,\"Not counted as an Employee\",\"#NA\"))","v":"#NA"},{"$f":"MAX(Table1[[#This Row],[PO Employee]],Table1[[#This Row],[Other HZ Employee]],Table1[[#This Row],[Non HZ Employee]],Table1[[#This Row],[Job Site Employee]],Table1[[#This Row],[Other Employee]])","v":0},{"$f":"IF(Table1[[#This Row],[Total Hours per Month]]=Table1[[#This Row],[Column12]],\"Match\",\"Error\")","v":"Match"},{"$f":"IF(Table1[[#This Row],[Calc 2]]=\"#NA\",\"#NA\",IF(Table1[[#This Row],[Non HZ Employee]]=Table1[[#This Row],[Max calc]],\"Non HZ Employee\", Table1[[#This Row],[Calc 2]]))","v":"#NA"}]
[1296,null,1296,{"$nulls":5},{"$f":"SUM(Table1[[#This Row],[Column4]]+Table1[[#This Row],[Column3]]+Table1[[#This Row],[Column2]]+Table1[[#This Row],[Column1]])","v":0},{"$nulls":5},{"$f":"SUM(Table1[[#This Row],[PO Employee]:[Other Employee]])","v":0},"N",{"$error":"#N/A"},{"$f":"IF(O1313>39,Table1[[#This Row],[Calc 1]],IF(O1313>1,\"Not counted as an Employee\",\"#NA\"))","v":"#NA"},{"$f":"MAX(Table1[[#This Row],[PO Employee]],Table1[[#This Row],[Other HZ Employee]],Table1[[#This Row],[Non HZ Employee]],Table1[[#This Row],[Job Site Employee]],Table1[[#This Row],[Other Employee]])","v":0},{"$f":"IF(Table1[[#This Row],[Total Hours per Month]]=Table1[[#This Row],[Column12]],\"Match\",\"Error\")","v":"Match"},{"$f":"IF(Table1[[#This Row],[Calc 2]]=\"#NA\",\"#NA\",IF(Table1[[#This Row],[Non HZ Employee]]=Table1[[#This Row],[Max calc]],\"Non HZ Employee\", Table1[[#This Row],[Calc 2]]))","v":"#NA"}]
[1297,null,1297,{"$nulls":5},{"$f":"SUM(Table1[[#This Row],[Column4]]+Table1[[#This Row],[Column3]]+Table1[[#This Row],[Column2]]+Table1[[#This Row],[Column1]])","v":0},{"$nulls":5},{"$f":"SUM(Table1[[#This Row],[PO Employee]:[Other Employee]])","v":0},"N",{"$error":"#N/A"},{"$f":"IF(O1314>39,Table1[[#This Row],[Calc 1]],IF(O1314>1,\"Not counted as an Employee\",\"#NA\"))","v":"#NA"},{"$f":"MAX(Table1[[#This Row],[PO Employee]],Table1[[#This Row],[Other HZ Employee]],Table1[[#This Row],[Non HZ Employee]],Table1[[#This Row],[Job Site Employee]],Table1[[#This Row],[Other Employee]])","v":0},{"$f":"IF(Table1[[#This Row],[Total Hours per Month]]=Table1[[#This Row],[Column12]],\"Match\",\"Error\")","v":"Match"},{"$f":"IF(Table1[[#This Row],[Calc 2]]=\"#NA\",\"#NA\",IF(Table1[[#This Row],[Non HZ Employee]]=Table1[[#This Row],[Max calc]],\"Non HZ Employee\", Table1[[#This Row],[Calc 2]]))","v":"#NA"}]
[1298,null,1298,{"$nulls":5},{"$f":"SUM(Table1[[#This Row],[Column4]]+Table1[[#This Row],[Column3]]+Table1[[#This Row],[Column2]]+Table1[[#This Row],[Column1]])","v":0},{"$nulls":5},{"$f":"SUM(Table1[[#This Row],[PO Employee]:[Other Employee]])","v":0},"N",{"$error":"#N/A"},{"$f":"IF(O1315>39,Table1[[#This Row],[Calc 1]],IF(O1315>1,\"Not counted as an Employee\",\"#NA\"))","v":"#NA"},{"$f":"MAX(Table1[[#This Row],[PO Employee]],Table1[[#This Row],[Other HZ Employee]],Table1[[#This Row],[Non HZ Employee]],Table1[[#This Row],[Job Site Employee]],Table1[[#This Row],[Other Employee]])","v":0},{"$f":"IF(Table1[[#This Row],[Total Hours per Month]]=Table1[[#This Row],[Column12]],\"Match\",\"Error\")","v":"Match"},{"$f":"IF(Table1[[#This Row],[Calc 2]]=\"#NA\",\"#NA\",IF(Table1[[#This Row],[Non HZ Employee]]=Table1[[#This Row],[Max calc]],\"Non HZ Employee\", Table1[[#This Row],[Calc 2]]))","v":"#NA"}]
[1299,null,1299,{"$nulls":5},{"$f":"SUM(Table1[[#This Row],[Column4]]+Table1[[#This Row],[Column3]]+Table1[[#This Row],[Column2]]+Table1[[#This Row],[Column1]])","v":0},{"$nulls":5},{"$f":"SUM(Table1[[#This Row],[PO Employee]:[Other Employee]])","v":0},"N",{"$error":"#N/A"},{"$f":"IF(O1316>39,Table1[[#This Row],[Calc 1]],IF(O1316>1,\"Not counted as an Employee\",\"#NA\"))","v":"#NA"},{"$f":"MAX(Table1[[#This Row],[PO Employee]],Table1[[#This Row],[Other HZ Employee]],Table1[[#This Row],[Non HZ Employee]],Table1[[#This Row],[Job Site Employee]],Table1[[#This Row],[Other Employee]])","v":0},{"$f":"IF(Table1[[#This Row],[Total Hours per Month]]=Table1[[#This Row],[Column12]],\"Match\",\"Error\")","v":"Match"},{"$f":"IF(Table1[[#This Row],[Calc 2]]=\"#NA\",\"#NA\",IF(Table1[[#This Row],[Non HZ Employee]]=Table1[[#This Row],[Max calc]],\"Non HZ Employee\", Table1[[#This Row],[Calc 2]]))","v":"#NA"}]
[1300,null,1300,{"$nulls":5},{"$f":"SUM(Table1[[#This Row],[Column4]]+Table1[[#This Row],[Column3]]+Table1[[#This Row],[Column2]]+Table1[[#This Row],[Column1]])","v":0},{"$nulls":5},{"$f":"SUM(Table1[[#This Row],[PO Employee]:[Other Employee]])","v":0},"N",{"$error":"#N/A"},{"$f":"IF(O1317>39,Table1[[#This Row],[Calc 1]],IF(O1317>1,\"Not counted as an Employee\",\"#NA\"))","v":"#NA"},{"$f":"MAX(Table1[[#This Row],[PO Employee]],Table1[[#This Row],[Other HZ Employee]],Table1[[#This Row],[Non HZ Employee]],Table1[[#This Row],[Job Site Employee]],Table1[[#This Row],[Other Employee]])","v":0},{"$f":"IF(Table1[[#This Row],[Total Hours per Month]]=Table1[[#This Row],[Column12]],\"Match\",\"Error\")","v":"Match"},{"$f":"IF(Table1[[#This Row],[Calc 2]]=\"#NA\",\"#NA\",IF(Table1[[#This Row],[Non HZ Employee]]=Table1[[#This Row],[Max calc]],\"Non HZ Employee\", Table1[[#This Row],[Calc 2]]))","v":"#NA"}]
[1301,null,1301,{"$nulls":5},{"$f":"SUM(Table1[[#This Row],[Column4]]+Table1[[#This Row],[Column3]]+Table1[[#This Row],[Column2]]+Table1[[#This Row],[Column1]])","v":0},{"$nulls":5},{"$f":"SUM(Table1[[#This Row],[PO Employee]:[Other Employee]])","v":0},"N",{"$error":"#N/A"},{"$f":"IF(O1318>39,Table1[[#This Row],[Calc 1]],IF(O1318>1,\"Not counted as an Employee\",\"#NA\"))","v":"#NA"},{"$f":"MAX(Table1[[#This Row],[PO Employee]],Table1[[#This Row],[Other HZ Employee]],Table1[[#This Row],[Non HZ Employee]],Table1[[#This Row],[Job Site Employee]],Table1[[#This Row],[Other Employee]])","v":0},{"$f":"IF(Table1[[#This Row],[Total Hours per Month]]=Table1[[#This Row],[Column12]],\"Match\",\"Error\")","v":"Match"},{"$f":"IF(Table1[[#This Row],[Calc 2]]=\"#NA\",\"#NA\",IF(Table1[[#This Row],[Non HZ Employee]]=Table1[[#This Row],[Max calc]],\"Non HZ Employee\", Table1[[#This Row],[Calc 2]]))","v":"#NA"}]
[1302,null,1302,{"$nulls":5},{"$f":"SUM(Table1[[#This Row],[Column4]]+Table1[[#This Row],[Column3]]+Table1[[#This Row],[Column2]]+Table1[[#This Row],[Column1]])","v":0},{"$nulls":5},{"$f":"SUM(Table1[[#This Row],[PO Employee]:[Other Employee]])","v":0},"N",{"$error":"#N/A"},{"$f":"IF(O1319>39,Table1[[#This Row],[Calc 1]],IF(O1319>1,\"Not counted as an Employee\",\"#NA\"))","v":"#NA"},{"$f":"MAX(Table1[[#This Row],[PO Employee]],Table1[[#This Row],[Other HZ Employee]],Table1[[#This Row],[Non HZ Employee]],Table1[[#This Row],[Job Site Employee]],Table1[[#This Row],[Other Employee]])","v":0},{"$f":"IF(Table1[[#This Row],[Total Hours per Month]]=Table1[[#This Row],[Column12]],\"Match\",\"Error\")","v":"Match"},{"$f":"IF(Table1[[#This Row],[Calc 2]]=\"#NA\",\"#NA\",IF(Table1[[#This Row],[Non HZ Employee]]=Table1[[#This Row],[Max calc]],\"Non HZ Employee\", Table1[[#This Row],[Calc 2]]))","v":"#NA"}]
[1303,null,1303,{"$nulls":5},{"$f":"SUM(Table1[[#This Row],[Column4]]+Table1[[#This Row],[Column3]]+Table1[[#This Row],[Column2]]+Table1[[#This Row],[Column1]])","v":0},{"$nulls":5},{"$f":"SUM(Table1[[#This Row],[PO Employee]:[Other Employee]])","v":0},"N",{"$error":"#N/A"},{"$f":"IF(O1320>39,Table1[[#This Row],[Calc 1]],IF(O1320>1,\"Not counted as an Employee\",\"#NA\"))","v":"#NA"},{"$f":"MAX(Table1[[#This Row],[PO Employee]],Table1[[#This Row],[Other HZ Employee]],Table1[[#This Row],[Non HZ Employee]],Table1[[#This Row],[Job Site Employee]],Table1[[#This Row],[Other Employee]])","v":0},{"$f":"IF(Table1[[#This Row],[Total Hours per Month]]=Table1[[#This Row],[Column12]],\"Match\",\"Error\")","v":"Match"},{"$f":"IF(Table1[[#This Row],[Calc 2]]=\"#NA\",\"#NA\",IF(Table1[[#This Row],[Non HZ Employee]]=Table1[[#This Row],[Max calc]],\"Non HZ Employee\", Table1[[#This Row],[Calc 2]]))","v":"#NA"}]
[1304,null,1304,{"$nulls":5},{"$f":"SUM(Table1[[#This Row],[Column4]]+Table1[[#This Row],[Column3]]+Table1[[#This Row],[Column2]]+Table1[[#This Row],[Column1]])","v":0},{"$nulls":5},{"$f":"SUM(Table1[[#This Row],[PO Employee]:[Other Employee]])","v":0},"N",{"$error":"#N/A"},{"$f":"IF(O1321>39,Table1[[#This Row],[Calc 1]],IF(O1321>1,\"Not counted as an Employee\",\"#NA\"))","v":"#NA"},{"$f":"MAX(Table1[[#This Row],[PO Employee]],Table1[[#This Row],[Other HZ Employee]],Table1[[#This Row],[Non HZ Employee]],Table1[[#This Row],[Job Site Employee]],Table1[[#This Row],[Other Employee]])","v":0},{"$f":"IF(Table1[[#This Row],[Total Hours per Month]]=Table1[[#This Row],[Column12]],\"Match\",\"Error\")","v":"Match"},{"$f":"IF(Table1[[#This Row],[Calc 2]]=\"#NA\",\"#NA\",IF(Table1[[#This Row],[Non HZ Employee]]=Table1[[#This Row],[Max calc]],\"Non HZ Employee\", Table1[[#This Row],[Calc 2]]))","v":"#NA"}]
[1305,null,1305,{"$nulls":5},{"$f":"SUM(Table1[[#This Row],[Column4]]+Table1[[#This Row],[Column3]]+Table1[[#This Row],[Column2]]+Table1[[#This Row],[Column1]])","v":0},{"$nulls":5},{"$f":"SUM(Table1[[#This Row],[PO Employee]:[Other Employee]])","v":0},"N",{"$error":"#N/A"},{"$f":"IF(O1322>39,Table1[[#This Row],[Calc 1]],IF(O1322>1,\"Not counted as an Employee\",\"#NA\"))","v":"#NA"},{"$f":"MAX(Table1[[#This Row],[PO Employee]],Table1[[#This Row],[Other HZ Employee]],Table1[[#This Row],[Non HZ Employee]],Table1[[#This Row],[Job Site Employee]],Table1[[#This Row],[Other Employee]])","v":0},{"$f":"IF(Table1[[#This Row],[Total Hours per Month]]=Table1[[#This Row],[Column12]],\"Match\",\"Error\")","v":"Match"},{"$f":"IF(Table1[[#This Row],[Calc 2]]=\"#NA\",\"#NA\",IF(Table1[[#This Row],[Non HZ Employee]]=Table1[[#This Row],[Max calc]],\"Non HZ Employee\", Table1[[#This Row],[Calc 2]]))","v":"#NA"}]
[1306,null,1306,{"$nulls":5},{"$f":"SUM(Table1[[#This Row],[Column4]]+Table1[[#This Row],[Column3]]+Table1[[#This Row],[Column2]]+Table1[[#This Row],[Column1]])","v":0},{"$nulls":5},{"$f":"SUM(Table1[[#This Row],[PO Employee]:[Other Employee]])","v":0},"N",{"$error":"#N/A"},{"$f":"IF(O1323>39,Table1[[#This Row],[Calc 1]],IF(O1323>1,\"Not counted as an Employee\",\"#NA\"))","v":"#NA"},{"$f":"MAX(Table1[[#This Row],[PO Employee]],Table1[[#This Row],[Other HZ Employee]],Table1[[#This Row],[Non HZ Employee]],Table1[[#This Row],[Job Site Employee]],Table1[[#This Row],[Other Employee]])","v":0},{"$f":"IF(Table1[[#This Row],[Total Hours per Month]]=Table1[[#This Row],[Column12]],\"Match\",\"Error\")","v":"Match"},{"$f":"IF(Table1[[#This Row],[Calc 2]]=\"#NA\",\"#NA\",IF(Table1[[#This Row],[Non HZ Employee]]=Table1[[#This Row],[Max calc]],\"Non HZ Employee\", Table1[[#This Row],[Calc 2]]))","v":"#NA"}]
[1307,null,1307,{"$nulls":5},{"$f":"SUM(Table1[[#This Row],[Column4]]+Table1[[#This Row],[Column3]]+Table1[[#This Row],[Column2]]+Table1[[#This Row],[Column1]])","v":0},{"$nulls":5},{"$f":"SUM(Table1[[#This Row],[PO Employee]:[Other Employee]])","v":0},"N",{"$error":"#N/A"},{"$f":"IF(O1324>39,Table1[[#This Row],[Calc 1]],IF(O1324>1,\"Not counted as an Employee\",\"#NA\"))","v":"#NA"},{"$f":"MAX(Table1[[#This Row],[PO Employee]],Table1[[#This Row],[Other HZ Employee]],Table1[[#This Row],[Non HZ Employee]],Table1[[#This Row],[Job Site Employee]],Table1[[#This Row],[Other Employee]])","v":0},{"$f":"IF(Table1[[#This Row],[Total Hours per Month]]=Table1[[#This Row],[Column12]],\"Match\",\"Error\")","v":"Match"},{"$f":"IF(Table1[[#This Row],[Calc 2]]=\"#NA\",\"#NA\",IF(Table1[[#This Row],[Non HZ Employee]]=Table1[[#This Row],[Max calc]],\"Non HZ Employee\", Table1[[#This Row],[Calc 2]]))","v":"#NA"}]
[1308,null,1308,{"$nulls":5},{"$f":"SUM(Table1[[#This Row],[Column4]]+Table1[[#This Row],[Column3]]+Table1[[#This Row],[Column2]]+Table1[[#This Row],[Column1]])","v":0},{"$nulls":5},{"$f":"SUM(Table1[[#This Row],[PO Employee]:[Other Employee]])","v":0},"N",{"$error":"#N/A"},{"$f":"IF(O1325>39,Table1[[#This Row],[Calc 1]],IF(O1325>1,\"Not counted as an Employee\",\"#NA\"))","v":"#NA"},{"$f":"MAX(Table1[[#This Row],[PO Employee]],Table1[[#This Row],[Other HZ Employee]],Table1[[#This Row],[Non HZ Employee]],Table1[[#This Row],[Job Site Employee]],Table1[[#This Row],[Other Employee]])","v":0},{"$f":"IF(Table1[[#This Row],[Total Hours per Month]]=Table1[[#This Row],[Column12]],\"Match\",\"Error\")","v":"Match"},{"$f":"IF(Table1[[#This Row],[Calc 2]]=\"#NA\",\"#NA\",IF(Table1[[#This Row],[Non HZ Employee]]=Table1[[#This Row],[Max calc]],\"Non HZ Employee\", Table1[[#This Row],[Calc 2]]))","v":"#NA"}]
[1309,null,1309,{"$nulls":5},{"$f":"SUM(Table1[[#This Row],[Column4]]+Table1[[#This Row],[Column3]]+Table1[[#This Row],[Column2]]+Table1[[#This Row],[Column1]])","v":0},{"$nulls":5},{"$f":"SUM(Table1[[#This Row],[PO Employee]:[Other Employee]])","v":0},"N",{"$error":"#N/A"},{"$f":"IF(O1326>39,Table1[[#This Row],[Calc 1]],IF(O1326>1,\"Not counted as an Employee\",\"#NA\"))","v":"#NA"},{"$f":"MAX(Table1[[#This Row],[PO Employee]],Table1[[#This Row],[Other HZ Employee]],Table1[[#This Row],[Non HZ Employee]],Table1[[#This Row],[Job Site Employee]],Table1[[#This Row],[Other Employee]])","v":0},{"$f":"IF(Table1[[#This Row],[Total Hours per Month]]=Table1[[#This Row],[Column12]],\"Match\",\"Error\")","v":"Match"},{"$f":"IF(Table1[[#This Row],[Calc 2]]=\"#NA\",\"#NA\",IF(Table1[[#This Row],[Non HZ Employee]]=Table1[[#This Row],[Max calc]],\"Non HZ Employee\", Table1[[#This Row],[Calc 2]]))","v":"#NA"}]
[1310,null,1310,{"$nulls":5},{"$f":"SUM(Table1[[#This Row],[Column4]]+Table1[[#This Row],[Column3]]+Table1[[#This Row],[Column2]]+Table1[[#This Row],[Column1]])","v":0},{"$nulls":5},{"$f":"SUM(Table1[[#This Row],[PO Employee]:[Other Employee]])","v":0},"N",{"$error":"#N/A"},{"$f":"IF(O1327>39,Table1[[#This Row],[Calc 1]],IF(O1327>1,\"Not counted as an Employee\",\"#NA\"))","v":"#NA"},{"$f":"MAX(Table1[[#This Row],[PO Employee]],Table1[[#This Row],[Other HZ Employee]],Table1[[#This Row],[Non HZ Employee]],Table1[[#This Row],[Job Site Employee]],Table1[[#This Row],[Other Employee]])","v":0},{"$f":"IF(Table1[[#This Row],[Total Hours per Month]]=Table1[[#This Row],[Column12]],\"Match\",\"Error\")","v":"Match"},{"$f":"IF(Table1[[#This Row],[Calc 2]]=\"#NA\",\"#NA\",IF(Table1[[#This Row],[Non HZ Employee]]=Table1[[#This Row],[Max calc]],\"Non HZ Employee\", Table1[[#This Row],[Calc 2]]))","v":"#NA"}]
[1311,null,1311,{"$nulls":5},{"$f":"SUM(Table1[[#This Row],[Column4]]+Table1[[#This Row],[Column3]]+Table1[[#This Row],[Column2]]+Table1[[#This Row],[Column1]])","v":0},{"$nulls":5},{"$f":"SUM(Table1[[#This Row],[PO Employee]:[Other Employee]])","v":0},"N",{"$error":"#N/A"},{"$f":"IF(O1328>39,Table1[[#This Row],[Calc 1]],IF(O1328>1,\"Not counted as an Employee\",\"#NA\"))","v":"#NA"},{"$f":"MAX(Table1[[#This Row],[PO Employee]],Table1[[#This Row],[Other HZ Employee]],Table1[[#This Row],[Non HZ Employee]],Table1[[#This Row],[Job Site Employee]],Table1[[#This Row],[Other Employee]])","v":0},{"$f":"IF(Table1[[#This Row],[Total Hours per Month]]=Table1[[#This Row],[Column12]],\"Match\",\"Error\")","v":"Match"},{"$f":"IF(Table1[[#This Row],[Calc 2]]=\"#NA\",\"#NA\",IF(Table1[[#This Row],[Non HZ Employee]]=Table1[[#This Row],[Max calc]],\"Non HZ Employee\", Table1[[#This Row],[Calc 2]]))","v":"#NA"}]
[1312,null,1312,{"$nulls":5},{"$f":"SUM(Table1[[#This Row],[Column4]]+Table1[[#This Row],[Column3]]+Table1[[#This Row],[Column2]]+Table1[[#This Row],[Column1]])","v":0},{"$nulls":5},{"$f":"SUM(Table1[[#This Row],[PO Employee]:[Other Employee]])","v":0},"N",{"$error":"#N/A"},{"$f":"IF(O1329>39,Table1[[#This Row],[Calc 1]],IF(O1329>1,\"Not counted as an Employee\",\"#NA\"))","v":"#NA"},{"$f":"MAX(Table1[[#This Row],[PO Employee]],Table1[[#This Row],[Other HZ Employee]],Table1[[#This Row],[Non HZ Employee]],Table1[[#This Row],[Job Site Employee]],Table1[[#This Row],[Other Employee]])","v":0},{"$f":"IF(Table1[[#This Row],[Total Hours per Month]]=Table1[[#This Row],[Column12]],\"Match\",\"Error\")","v":"Match"},{"$f":"IF(Table1[[#This Row],[Calc 2]]=\"#NA\",\"#NA\",IF(Table1[[#This Row],[Non HZ Employee]]=Table1[[#This Row],[Max calc]],\"Non HZ Employee\", Table1[[#This Row],[Calc 2]]))","v":"#NA"}]
[1313,null,1313,{"$nulls":5},{"$f":"SUM(Table1[[#This Row],[Column4]]+Table1[[#This Row],[Column3]]+Table1[[#This Row],[Column2]]+Table1[[#This Row],[Column1]])","v":0},{"$nulls":5},{"$f":"SUM(Table1[[#This Row],[PO Employee]:[Other Employee]])","v":0},"N",{"$error":"#N/A"},{"$f":"IF(O1330>39,Table1[[#This Row],[Calc 1]],IF(O1330>1,\"Not counted as an Employee\",\"#NA\"))","v":"#NA"},{"$f":"MAX(Table1[[#This Row],[PO Employee]],Table1[[#This Row],[Other HZ Employee]],Table1[[#This Row],[Non HZ Employee]],Table1[[#This Row],[Job Site Employee]],Table1[[#This Row],[Other Employee]])","v":0},{"$f":"IF(Table1[[#This Row],[Total Hours per Month]]=Table1[[#This Row],[Column12]],\"Match\",\"Error\")","v":"Match"},{"$f":"IF(Table1[[#This Row],[Calc 2]]=\"#NA\",\"#NA\",IF(Table1[[#This Row],[Non HZ Employee]]=Table1[[#This Row],[Max calc]],\"Non HZ Employee\", Table1[[#This Row],[Calc 2]]))","v":"#NA"}]
[1314,null,1314,{"$nulls":5},{"$f":"SUM(Table1[[#This Row],[Column4]]+Table1[[#This Row],[Column3]]+Table1[[#This Row],[Column2]]+Table1[[#This Row],[Column1]])","v":0},{"$nulls":5},{"$f":"SUM(Table1[[#This Row],[PO Employee]:[Other Employee]])","v":0},"N",{"$error":"#N/A"},{"$f":"IF(O1331>39,Table1[[#This Row],[Calc 1]],IF(O1331>1,\"Not counted as an Employee\",\"#NA\"))","v":"#NA"},{"$f":"MAX(Table1[[#This Row],[PO Employee]],Table1[[#This Row],[Other HZ Employee]],Table1[[#This Row],[Non HZ Employee]],Table1[[#This Row],[Job Site Employee]],Table1[[#This Row],[Other Employee]])","v":0},{"$f":"IF(Table1[[#This Row],[Total Hours per Month]]=Table1[[#This Row],[Column12]],\"Match\",\"Error\")","v":"Match"},{"$f":"IF(Table1[[#This Row],[Calc 2]]=\"#NA\",\"#NA\",IF(Table1[[#This Row],[Non HZ Employee]]=Table1[[#This Row],[Max calc]],\"Non HZ Employee\", Table1[[#This Row],[Calc 2]]))","v":"#NA"}]
[1315,null,1315,{"$nulls":5},{"$f":"SUM(Table1[[#This Row],[Column4]]+Table1[[#This Row],[Column3]]+Table1[[#This Row],[Column2]]+Table1[[#This Row],[Column1]])","v":0},{"$nulls":5},{"$f":"SUM(Table1[[#This Row],[PO Employee]:[Other Employee]])","v":0},"N",{"$error":"#N/A"},{"$f":"IF(O1332>39,Table1[[#This Row],[Calc 1]],IF(O1332>1,\"Not counted as an Employee\",\"#NA\"))","v":"#NA"},{"$f":"MAX(Table1[[#This Row],[PO Employee]],Table1[[#This Row],[Other HZ Employee]],Table1[[#This Row],[Non HZ Employee]],Table1[[#This Row],[Job Site Employee]],Table1[[#This Row],[Other Employee]])","v":0},{"$f":"IF(Table1[[#This Row],[Total Hours per Month]]=Table1[[#This Row],[Column12]],\"Match\",\"Error\")","v":"Match"},{"$f":"IF(Table1[[#This Row],[Calc 2]]=\"#NA\",\"#NA\",IF(Table1[[#This Row],[Non HZ Employee]]=Table1[[#This Row],[Max calc]],\"Non HZ Employee\", Table1[[#This Row],[Calc 2]]))","v":"#NA"}]
[1316,null,1316,{"$nulls":5},{"$f":"SUM(Table1[[#This Row],[Column4]]+Table1[[#This Row],[Column3]]+Table1[[#This Row],[Column2]]+Table1[[#This Row],[Column1]])","v":0},{"$nulls":5},{"$f":"SUM(Table1[[#This Row],[PO Employee]:[Other Employee]])","v":0},"N",{"$error":"#N/A"},{"$f":"IF(O1333>39,Table1[[#This Row],[Calc 1]],IF(O1333>1,\"Not counted as an Employee\",\"#NA\"))","v":"#NA"},{"$f":"MAX(Table1[[#This Row],[PO Employee]],Table1[[#This Row],[Other HZ Employee]],Table1[[#This Row],[Non HZ Employee]],Table1[[#This Row],[Job Site Employee]],Table1[[#This Row],[Other Employee]])","v":0},{"$f":"IF(Table1[[#This Row],[Total Hours per Month]]=Table1[[#This Row],[Column12]],\"Match\",\"Error\")","v":"Match"},{"$f":"IF(Table1[[#This Row],[Calc 2]]=\"#NA\",\"#NA\",IF(Table1[[#This Row],[Non HZ Employee]]=Table1[[#This Row],[Max calc]],\"Non HZ Employee\", Table1[[#This Row],[Calc 2]]))","v":"#NA"}]
[1317,null,1317,{"$nulls":5},{"$f":"SUM(Table1[[#This Row],[Column4]]+Table1[[#This Row],[Column3]]+Table1[[#This Row],[Column2]]+Table1[[#This Row],[Column1]])","v":0},{"$nulls":5},{"$f":"SUM(Table1[[#This Row],[PO Employee]:[Other Employee]])","v":0},"N",{"$error":"#N/A"},{"$f":"IF(O1334>39,Table1[[#This Row],[Calc 1]],IF(O1334>1,\"Not counted as an Employee\",\"#NA\"))","v":"#NA"},{"$f":"MAX(Table1[[#This Row],[PO Employee]],Table1[[#This Row],[Other HZ Employee]],Table1[[#This Row],[Non HZ Employee]],Table1[[#This Row],[Job Site Employee]],Table1[[#This Row],[Other Employee]])","v":0},{"$f":"IF(Table1[[#This Row],[Total Hours per Month]]=Table1[[#This Row],[Column12]],\"Match\",\"Error\")","v":"Match"},{"$f":"IF(Table1[[#This Row],[Calc 2]]=\"#NA\",\"#NA\",IF(Table1[[#This Row],[Non HZ Employee]]=Table1[[#This Row],[Max calc]],\"Non HZ Employee\", Table1[[#This Row],[Calc 2]]))","v":"#NA"}]
[1318,null,1318,{"$nulls":5},{"$f":"SUM(Table1[[#This Row],[Column4]]+Table1[[#This Row],[Column3]]+Table1[[#This Row],[Column2]]+Table1[[#This Row],[Column1]])","v":0},{"$nulls":5},{"$f":"SUM(Table1[[#This Row],[PO Employee]:[Other Employee]])","v":0},"N",{"$error":"#N/A"},{"$f":"IF(O1335>39,Table1[[#This Row],[Calc 1]],IF(O1335>1,\"Not counted as an Employee\",\"#NA\"))","v":"#NA"},{"$f":"MAX(Table1[[#This Row],[PO Employee]],Table1[[#This Row],[Other HZ Employee]],Table1[[#This Row],[Non HZ Employee]],Table1[[#This Row],[Job Site Employee]],Table1[[#This Row],[Other Employee]])","v":0},{"$f":"IF(Table1[[#This Row],[Total Hours per Month]]=Table1[[#This Row],[Column12]],\"Match\",\"Error\")","v":"Match"},{"$f":"IF(Table1[[#This Row],[Calc 2]]=\"#NA\",\"#NA\",IF(Table1[[#This Row],[Non HZ Employee]]=Table1[[#This Row],[Max calc]],\"Non HZ Employee\", Table1[[#This Row],[Calc 2]]))","v":"#NA"}]
[1319,null,1319,{"$nulls":5},{"$f":"SUM(Table1[[#This Row],[Column4]]+Table1[[#This Row],[Column3]]+Table1[[#This Row],[Column2]]+Table1[[#This Row],[Column1]])","v":0},{"$nulls":5},{"$f":"SUM(Table1[[#This Row],[PO Employee]:[Other Employee]])","v":0},"N",{"$error":"#N/A"},{"$f":"IF(O1336>39,Table1[[#This Row],[Calc 1]],IF(O1336>1,\"Not counted as an Employee\",\"#NA\"))","v":"#NA"},{"$f":"MAX(Table1[[#This Row],[PO Employee]],Table1[[#This Row],[Other HZ Employee]],Table1[[#This Row],[Non HZ Employee]],Table1[[#This Row],[Job Site Employee]],Table1[[#This Row],[Other Employee]])","v":0},{"$f":"IF(Table1[[#This Row],[Total Hours per Month]]=Table1[[#This Row],[Column12]],\"Match\",\"Error\")","v":"Match"},{"$f":"IF(Table1[[#This Row],[Calc 2]]=\"#NA\",\"#NA\",IF(Table1[[#This Row],[Non HZ Employee]]=Table1[[#This Row],[Max calc]],\"Non HZ Employee\", Table1[[#This Row],[Calc 2]]))","v":"#NA"}]
[1320,null,1320,{"$nulls":5},{"$f":"SUM(Table1[[#This Row],[Column4]]+Table1[[#This Row],[Column3]]+Table1[[#This Row],[Column2]]+Table1[[#This Row],[Column1]])","v":0},{"$nulls":5},{"$f":"SUM(Table1[[#This Row],[PO Employee]:[Other Employee]])","v":0},"N",{"$error":"#N/A"},{"$f":"IF(O1337>39,Table1[[#This Row],[Calc 1]],IF(O1337>1,\"Not counted as an Employee\",\"#NA\"))","v":"#NA"},{"$f":"MAX(Table1[[#This Row],[PO Employee]],Table1[[#This Row],[Other HZ Employee]],Table1[[#This Row],[Non HZ Employee]],Table1[[#This Row],[Job Site Employee]],Table1[[#This Row],[Other Employee]])","v":0},{"$f":"IF(Table1[[#This Row],[Total Hours per Month]]=Table1[[#This Row],[Column12]],\"Match\",\"Error\")","v":"Match"},{"$f":"IF(Table1[[#This Row],[Calc 2]]=\"#NA\",\"#NA\",IF(Table1[[#This Row],[Non HZ Employee]]=Table1[[#This Row],[Max calc]],\"Non HZ Employee\", Table1[[#This Row],[Calc 2]]))","v":"#NA"}]
[1321,null,1321,{"$nulls":5},{"$f":"SUM(Table1[[#This Row],[Column4]]+Table1[[#This Row],[Column3]]+Table1[[#This Row],[Column2]]+Table1[[#This Row],[Column1]])","v":0},{"$nulls":5},{"$f":"SUM(Table1[[#This Row],[PO Employee]:[Other Employee]])","v":0},"N",{"$error":"#N/A"},{"$f":"IF(O1338>39,Table1[[#This Row],[Calc 1]],IF(O1338>1,\"Not counted as an Employee\",\"#NA\"))","v":"#NA"},{"$f":"MAX(Table1[[#This Row],[PO Employee]],Table1[[#This Row],[Other HZ Employee]],Table1[[#This Row],[Non HZ Employee]],Table1[[#This Row],[Job Site Employee]],Table1[[#This Row],[Other Employee]])","v":0},{"$f":"IF(Table1[[#This Row],[Total Hours per Month]]=Table1[[#This Row],[Column12]],\"Match\",\"Error\")","v":"Match"},{"$f":"IF(Table1[[#This Row],[Calc 2]]=\"#NA\",\"#NA\",IF(Table1[[#This Row],[Non HZ Employee]]=Table1[[#This Row],[Max calc]],\"Non HZ Employee\", Table1[[#This Row],[Calc 2]]))","v":"#NA"}]
[1322,null,1322,{"$nulls":5},{"$f":"SUM(Table1[[#This Row],[Column4]]+Table1[[#This Row],[Column3]]+Table1[[#This Row],[Column2]]+Table1[[#This Row],[Column1]])","v":0},{"$nulls":5},{"$f":"SUM(Table1[[#This Row],[PO Employee]:[Other Employee]])","v":0},"N",{"$error":"#N/A"},{"$f":"IF(O1339>39,Table1[[#This Row],[Calc 1]],IF(O1339>1,\"Not counted as an Employee\",\"#NA\"))","v":"#NA"},{"$f":"MAX(Table1[[#This Row],[PO Employee]],Table1[[#This Row],[Other HZ Employee]],Table1[[#This Row],[Non HZ Employee]],Table1[[#This Row],[Job Site Employee]],Table1[[#This Row],[Other Employee]])","v":0},{"$f":"IF(Table1[[#This Row],[Total Hours per Month]]=Table1[[#This Row],[Column12]],\"Match\",\"Error\")","v":"Match"},{"$f":"IF(Table1[[#This Row],[Calc 2]]=\"#NA\",\"#NA\",IF(Table1[[#This Row],[Non HZ Employee]]=Table1[[#This Row],[Max calc]],\"Non HZ Employee\", Table1[[#This Row],[Calc 2]]))","v":"#NA"}]
[1323,null,1323,{"$nulls":5},{"$f":"SUM(Table1[[#This Row],[Column4]]+Table1[[#This Row],[Column3]]+Table1[[#This Row],[Column2]]+Table1[[#This Row],[Column1]])","v":0},{"$nulls":5},{"$f":"SUM(Table1[[#This Row],[PO Employee]:[Other Employee]])","v":0},"N",{"$error":"#N/A"},{"$f":"IF(O1340>39,Table1[[#This Row],[Calc 1]],IF(O1340>1,\"Not counted as an Employee\",\"#NA\"))","v":"#NA"},{"$f":"MAX(Table1[[#This Row],[PO Employee]],Table1[[#This Row],[Other HZ Employee]],Table1[[#This Row],[Non HZ Employee]],Table1[[#This Row],[Job Site Employee]],Table1[[#This Row],[Other Employee]])","v":0},{"$f":"IF(Table1[[#This Row],[Total Hours per Month]]=Table1[[#This Row],[Column12]],\"Match\",\"Error\")","v":"Match"},{"$f":"IF(Table1[[#This Row],[Calc 2]]=\"#NA\",\"#NA\",IF(Table1[[#This Row],[Non HZ Employee]]=Table1[[#This Row],[Max calc]],\"Non HZ Employee\", Table1[[#This Row],[Calc 2]]))","v":"#NA"}]
[1324,null,1324,{"$nulls":5},{"$f":"SUM(Table1[[#This Row],[Column4]]+Table1[[#This Row],[Column3]]+Table1[[#This Row],[Column2]]+Table1[[#This Row],[Column1]])","v":0},{"$nulls":5},{"$f":"SUM(Table1[[#This Row],[PO Employee]:[Other Employee]])","v":0},"N",{"$error":"#N/A"},{"$f":"IF(O1341>39,Table1[[#This Row],[Calc 1]],IF(O1341>1,\"Not counted as an Employee\",\"#NA\"))","v":"#NA"},{"$f":"MAX(Table1[[#This Row],[PO Employee]],Table1[[#This Row],[Other HZ Employee]],Table1[[#This Row],[Non HZ Employee]],Table1[[#This Row],[Job Site Employee]],Table1[[#This Row],[Other Employee]])","v":0},{"$f":"IF(Table1[[#This Row],[Total Hours per Month]]=Table1[[#This Row],[Column12]],\"Match\",\"Error\")","v":"Match"},{"$f":"IF(Table1[[#This Row],[Calc 2]]=\"#NA\",\"#NA\",IF(Table1[[#This Row],[Non HZ Employee]]=Table1[[#This Row],[Max calc]],\"Non HZ Employee\", Table1[[#This Row],[Calc 2]]))","v":"#NA"}]
[1325,null,1325,{"$nulls":5},{"$f":"SUM(Table1[[#This Row],[Column4]]+Table1[[#This Row],[Column3]]+Table1[[#This Row],[Column2]]+Table1[[#This Row],[Column1]])","v":0},{"$nulls":5},{"$f":"SUM(Table1[[#This Row],[PO Employee]:[Other Employee]])","v":0},"N",{"$error":"#N/A"},{"$f":"IF(O1342>39,Table1[[#This Row],[Calc 1]],IF(O1342>1,\"Not counted as an Employee\",\"#NA\"))","v":"#NA"},{"$f":"MAX(Table1[[#This Row],[PO Employee]],Table1[[#This Row],[Other HZ Employee]],Table1[[#This Row],[Non HZ Employee]],Table1[[#This Row],[Job Site Employee]],Table1[[#This Row],[Other Employee]])","v":0},{"$f":"IF(Table1[[#This Row],[Total Hours per Month]]=Table1[[#This Row],[Column12]],\"Match\",\"Error\")","v":"Match"},{"$f":"IF(Table1[[#This Row],[Calc 2]]=\"#NA\",\"#NA\",IF(Table1[[#This Row],[Non HZ Employee]]=Table1[[#This Row],[Max calc]],\"Non HZ Employee\", Table1[[#This Row],[Calc 2]]))","v":"#NA"}]
[1326,null,1326,{"$nulls":5},{"$f":"SUM(Table1[[#This Row],[Column4]]+Table1[[#This Row],[Column3]]+Table1[[#This Row],[Column2]]+Table1[[#This Row],[Column1]])","v":0},{"$nulls":5},{"$f":"SUM(Table1[[#This Row],[PO Employee]:[Other Employee]])","v":0},"N",{"$error":"#N/A"},{"$f":"IF(O1343>39,Table1[[#This Row],[Calc 1]],IF(O1343>1,\"Not counted as an Employee\",\"#NA\"))","v":"#NA"},{"$f":"MAX(Table1[[#This Row],[PO Employee]],Table1[[#This Row],[Other HZ Employee]],Table1[[#This Row],[Non HZ Employee]],Table1[[#This Row],[Job Site Employee]],Table1[[#This Row],[Other Employee]])","v":0},{"$f":"IF(Table1[[#This Row],[Total Hours per Month]]=Table1[[#This Row],[Column12]],\"Match\",\"Error\")","v":"Match"},{"$f":"IF(Table1[[#This Row],[Calc 2]]=\"#NA\",\"#NA\",IF(Table1[[#This Row],[Non HZ Employee]]=Table1[[#This Row],[Max calc]],\"Non HZ Employee\", Table1[[#This Row],[Calc 2]]))","v":"#NA"}]
[1327,null,1327,{"$nulls":5},{"$f":"SUM(Table1[[#This Row],[Column4]]+Table1[[#This Row],[Column3]]+Table1[[#This Row],[Column2]]+Table1[[#This Row],[Column1]])","v":0},{"$nulls":5},{"$f":"SUM(Table1[[#This Row],[PO Employee]:[Other Employee]])","v":0},"N",{"$error":"#N/A"},{"$f":"IF(O1344>39,Table1[[#This Row],[Calc 1]],IF(O1344>1,\"Not counted as an Employee\",\"#NA\"))","v":"#NA"},{"$f":"MAX(Table1[[#This Row],[PO Employee]],Table1[[#This Row],[Other HZ Employee]],Table1[[#This Row],[Non HZ Employee]],Table1[[#This Row],[Job Site Employee]],Table1[[#This Row],[Other Employee]])","v":0},{"$f":"IF(Table1[[#This Row],[Total Hours per Month]]=Table1[[#This Row],[Column12]],\"Match\",\"Error\")","v":"Match"},{"$f":"IF(Table1[[#This Row],[Calc 2]]=\"#NA\",\"#NA\",IF(Table1[[#This Row],[Non HZ Employee]]=Table1[[#This Row],[Max calc]],\"Non HZ Employee\", Table1[[#This Row],[Calc 2]]))","v":"#NA"}]
[1328,null,1328,{"$nulls":5},{"$f":"SUM(Table1[[#This Row],[Column4]]+Table1[[#This Row],[Column3]]+Table1[[#This Row],[Column2]]+Table1[[#This Row],[Column1]])","v":0},{"$nulls":5},{"$f":"SUM(Table1[[#This Row],[PO Employee]:[Other Employee]])","v":0},"N",{"$error":"#N/A"},{"$f":"IF(O1345>39,Table1[[#This Row],[Calc 1]],IF(O1345>1,\"Not counted as an Employee\",\"#NA\"))","v":"#NA"},{"$f":"MAX(Table1[[#This Row],[PO Employee]],Table1[[#This Row],[Other HZ Employee]],Table1[[#This Row],[Non HZ Employee]],Table1[[#This Row],[Job Site Employee]],Table1[[#This Row],[Other Employee]])","v":0},{"$f":"IF(Table1[[#This Row],[Total Hours per Month]]=Table1[[#This Row],[Column12]],\"Match\",\"Error\")","v":"Match"},{"$f":"IF(Table1[[#This Row],[Calc 2]]=\"#NA\",\"#NA\",IF(Table1[[#This Row],[Non HZ Employee]]=Table1[[#This Row],[Max calc]],\"Non HZ Employee\", Table1[[#This Row],[Calc 2]]))","v":"#NA"}]
[1329,null,1329,{"$nulls":5},{"$f":"SUM(Table1[[#This Row],[Column4]]+Table1[[#This Row],[Column3]]+Table1[[#This Row],[Column2]]+Table1[[#This Row],[Column1]])","v":0},{"$nulls":5},{"$f":"SUM(Table1[[#This Row],[PO Employee]:[Other Employee]])","v":0},"N",{"$error":"#N/A"},{"$f":"IF(O1346>39,Table1[[#This Row],[Calc 1]],IF(O1346>1,\"Not counted as an Employee\",\"#NA\"))","v":"#NA"},{"$f":"MAX(Table1[[#This Row],[PO Employee]],Table1[[#This Row],[Other HZ Employee]],Table1[[#This Row],[Non HZ Employee]],Table1[[#This Row],[Job Site Employee]],Table1[[#This Row],[Other Employee]])","v":0},{"$f":"IF(Table1[[#This Row],[Total Hours per Month]]=Table1[[#This Row],[Column12]],\"Match\",\"Error\")","v":"Match"},{"$f":"IF(Table1[[#This Row],[Calc 2]]=\"#NA\",\"#NA\",IF(Table1[[#This Row],[Non HZ Employee]]=Table1[[#This Row],[Max calc]],\"Non HZ Employee\", Table1[[#This Row],[Calc 2]]))","v":"#NA"}]
[1330,null,1330,{"$nulls":5},{"$f":"SUM(Table1[[#This Row],[Column4]]+Table1[[#This Row],[Column3]]+Table1[[#This Row],[Column2]]+Table1[[#This Row],[Column1]])","v":0},{"$nulls":5},{"$f":"SUM(Table1[[#This Row],[PO Employee]:[Other Employee]])","v":0},"N",{"$error":"#N/A"},{"$f":"IF(O1347>39,Table1[[#This Row],[Calc 1]],IF(O1347>1,\"Not counted as an Employee\",\"#NA\"))","v":"#NA"},{"$f":"MAX(Table1[[#This Row],[PO Employee]],Table1[[#This Row],[Other HZ Employee]],Table1[[#This Row],[Non HZ Employee]],Table1[[#This Row],[Job Site Employee]],Table1[[#This Row],[Other Employee]])","v":0},{"$f":"IF(Table1[[#This Row],[Total Hours per Month]]=Table1[[#This Row],[Column12]],\"Match\",\"Error\")","v":"Match"},{"$f":"IF(Table1[[#This Row],[Calc 2]]=\"#NA\",\"#NA\",IF(Table1[[#This Row],[Non HZ Employee]]=Table1[[#This Row],[Max calc]],\"Non HZ Employee\", Table1[[#This Row],[Calc 2]]))","v":"#NA"}]
[1331,null,1331,{"$nulls":5},{"$f":"SUM(Table1[[#This Row],[Column4]]+Table1[[#This Row],[Column3]]+Table1[[#This Row],[Column2]]+Table1[[#This Row],[Column1]])","v":0},{"$nulls":5},{"$f":"SUM(Table1[[#This Row],[PO Employee]:[Other Employee]])","v":0},"N",{"$error":"#N/A"},{"$f":"IF(O1348>39,Table1[[#This Row],[Calc 1]],IF(O1348>1,\"Not counted as an Employee\",\"#NA\"))","v":"#NA"},{"$f":"MAX(Table1[[#This Row],[PO Employee]],Table1[[#This Row],[Other HZ Employee]],Table1[[#This Row],[Non HZ Employee]],Table1[[#This Row],[Job Site Employee]],Table1[[#This Row],[Other Employee]])","v":0},{"$f":"IF(Table1[[#This Row],[Total Hours per Month]]=Table1[[#This Row],[Column12]],\"Match\",\"Error\")","v":"Match"},{"$f":"IF(Table1[[#This Row],[Calc 2]]=\"#NA\",\"#NA\",IF(Table1[[#This Row],[Non HZ Employee]]=Table1[[#This Row],[Max calc]],\"Non HZ Employee\", Table1[[#This Row],[Calc 2]]))","v":"#NA"}]
[1332,null,1332,{"$nulls":5},{"$f":"SUM(Table1[[#This Row],[Column4]]+Table1[[#This Row],[Column3]]+Table1[[#This Row],[Column2]]+Table1[[#This Row],[Column1]])","v":0},{"$nulls":5},{"$f":"SUM(Table1[[#This Row],[PO Employee]:[Other Employee]])","v":0},"N",{"$error":"#N/A"},{"$f":"IF(O1349>39,Table1[[#This Row],[Calc 1]],IF(O1349>1,\"Not counted as an Employee\",\"#NA\"))","v":"#NA"},{"$f":"MAX(Table1[[#This Row],[PO Employee]],Table1[[#This Row],[Other HZ Employee]],Table1[[#This Row],[Non HZ Employee]],Table1[[#This Row],[Job Site Employee]],Table1[[#This Row],[Other Employee]])","v":0},{"$f":"IF(Table1[[#This Row],[Total Hours per Month]]=Table1[[#This Row],[Column12]],\"Match\",\"Error\")","v":"Match"},{"$f":"IF(Table1[[#This Row],[Calc 2]]=\"#NA\",\"#NA\",IF(Table1[[#This Row],[Non HZ Employee]]=Table1[[#This Row],[Max calc]],\"Non HZ Employee\", Table1[[#This Row],[Calc 2]]))","v":"#NA"}]
[1333,null,1333,{"$nulls":5},{"$f":"SUM(Table1[[#This Row],[Column4]]+Table1[[#This Row],[Column3]]+Table1[[#This Row],[Column2]]+Table1[[#This Row],[Column1]])","v":0},{"$nulls":5},{"$f":"SUM(Table1[[#This Row],[PO Employee]:[Other Employee]])","v":0},"N",{"$error":"#N/A"},{"$f":"IF(O1350>39,Table1[[#This Row],[Calc 1]],IF(O1350>1,\"Not counted as an Employee\",\"#NA\"))","v":"#NA"},{"$f":"MAX(Table1[[#This Row],[PO Employee]],Table1[[#This Row],[Other HZ Employee]],Table1[[#This Row],[Non HZ Employee]],Table1[[#This Row],[Job Site Employee]],Table1[[#This Row],[Other Employee]])","v":0},{"$f":"IF(Table1[[#This Row],[Total Hours per Month]]=Table1[[#This Row],[Column12]],\"Match\",\"Error\")","v":"Match"},{"$f":"IF(Table1[[#This Row],[Calc 2]]=\"#NA\",\"#NA\",IF(Table1[[#This Row],[Non HZ Employee]]=Table1[[#This Row],[Max calc]],\"Non HZ Employee\", Table1[[#This Row],[Calc 2]]))","v":"#NA"}]
[1334,null,1334,{"$nulls":5},{"$f":"SUM(Table1[[#This Row],[Column4]]+Table1[[#This Row],[Column3]]+Table1[[#This Row],[Column2]]+Table1[[#This Row],[Column1]])","v":0},{"$nulls":5},{"$f":"SUM(Table1[[#This Row],[PO Employee]:[Other Employee]])","v":0},"N",{"$error":"#N/A"},{"$f":"IF(O1351>39,Table1[[#This Row],[Calc 1]],IF(O1351>1,\"Not counted as an Employee\",\"#NA\"))","v":"#NA"},{"$f":"MAX(Table1[[#This Row],[PO Employee]],Table1[[#This Row],[Other HZ Employee]],Table1[[#This Row],[Non HZ Employee]],Table1[[#This Row],[Job Site Employee]],Table1[[#This Row],[Other Employee]])","v":0},{"$f":"IF(Table1[[#This Row],[Total Hours per Month]]=Table1[[#This Row],[Column12]],\"Match\",\"Error\")","v":"Match"},{"$f":"IF(Table1[[#This Row],[Calc 2]]=\"#NA\",\"#NA\",IF(Table1[[#This Row],[Non HZ Employee]]=Table1[[#This Row],[Max calc]],\"Non HZ Employee\", Table1[[#This Row],[Calc 2]]))","v":"#NA"}]
[1335,null,1335,{"$nulls":5},{"$f":"SUM(Table1[[#This Row],[Column4]]+Table1[[#This Row],[Column3]]+Table1[[#This Row],[Column2]]+Table1[[#This Row],[Column1]])","v":0},{"$nulls":5},{"$f":"SUM(Table1[[#This Row],[PO Employee]:[Other Employee]])","v":0},"N",{"$error":"#N/A"},{"$f":"IF(O1352>39,Table1[[#This Row],[Calc 1]],IF(O1352>1,\"Not counted as an Employee\",\"#NA\"))","v":"#NA"},{"$f":"MAX(Table1[[#This Row],[PO Employee]],Table1[[#This Row],[Other HZ Employee]],Table1[[#This Row],[Non HZ Employee]],Table1[[#This Row],[Job Site Employee]],Table1[[#This Row],[Other Employee]])","v":0},{"$f":"IF(Table1[[#This Row],[Total Hours per Month]]=Table1[[#This Row],[Column12]],\"Match\",\"Error\")","v":"Match"},{"$f":"IF(Table1[[#This Row],[Calc 2]]=\"#NA\",\"#NA\",IF(Table1[[#This Row],[Non HZ Employee]]=Table1[[#This Row],[Max calc]],\"Non HZ Employee\", Table1[[#This Row],[Calc 2]]))","v":"#NA"}]
[1336,null,1336,{"$nulls":5},{"$f":"SUM(Table1[[#This Row],[Column4]]+Table1[[#This Row],[Column3]]+Table1[[#This Row],[Column2]]+Table1[[#This Row],[Column1]])","v":0},{"$nulls":5},{"$f":"SUM(Table1[[#This Row],[PO Employee]:[Other Employee]])","v":0},"N",{"$error":"#N/A"},{"$f":"IF(O1353>39,Table1[[#This Row],[Calc 1]],IF(O1353>1,\"Not counted as an Employee\",\"#NA\"))","v":"#NA"},{"$f":"MAX(Table1[[#This Row],[PO Employee]],Table1[[#This Row],[Other HZ Employee]],Table1[[#This Row],[Non HZ Employee]],Table1[[#This Row],[Job Site Employee]],Table1[[#This Row],[Other Employee]])","v":0},{"$f":"IF(Table1[[#This Row],[Total Hours per Month]]=Table1[[#This Row],[Column12]],\"Match\",\"Error\")","v":"Match"},{"$f":"IF(Table1[[#This Row],[Calc 2]]=\"#NA\",\"#NA\",IF(Table1[[#This Row],[Non HZ Employee]]=Table1[[#This Row],[Max calc]],\"Non HZ Employee\", Table1[[#This Row],[Calc 2]]))","v":"#NA"}]
[1337,null,1337,{"$nulls":5},{"$f":"SUM(Table1[[#This Row],[Column4]]+Table1[[#This Row],[Column3]]+Table1[[#This Row],[Column2]]+Table1[[#This Row],[Column1]])","v":0},{"$nulls":5},{"$f":"SUM(Table1[[#This Row],[PO Employee]:[Other Employee]])","v":0},"N",{"$error":"#N/A"},{"$f":"IF(O1354>39,Table1[[#This Row],[Calc 1]],IF(O1354>1,\"Not counted as an Employee\",\"#NA\"))","v":"#NA"},{"$f":"MAX(Table1[[#This Row],[PO Employee]],Table1[[#This Row],[Other HZ Employee]],Table1[[#This Row],[Non HZ Employee]],Table1[[#This Row],[Job Site Employee]],Table1[[#This Row],[Other Employee]])","v":0},{"$f":"IF(Table1[[#This Row],[Total Hours per Month]]=Table1[[#This Row],[Column12]],\"Match\",\"Error\")","v":"Match"},{"$f":"IF(Table1[[#This Row],[Calc 2]]=\"#NA\",\"#NA\",IF(Table1[[#This Row],[Non HZ Employee]]=Table1[[#This Row],[Max calc]],\"Non HZ Employee\", Table1[[#This Row],[Calc 2]]))","v":"#NA"}]
[1338,null,1338,{"$nulls":5},{"$f":"SUM(Table1[[#This Row],[Column4]]+Table1[[#This Row],[Column3]]+Table1[[#This Row],[Column2]]+Table1[[#This Row],[Column1]])","v":0},{"$nulls":5},{"$f":"SUM(Table1[[#This Row],[PO Employee]:[Other Employee]])","v":0},"N",{"$error":"#N/A"},{"$f":"IF(O1355>39,Table1[[#This Row],[Calc 1]],IF(O1355>1,\"Not counted as an Employee\",\"#NA\"))","v":"#NA"},{"$f":"MAX(Table1[[#This Row],[PO Employee]],Table1[[#This Row],[Other HZ Employee]],Table1[[#This Row],[Non HZ Employee]],Table1[[#This Row],[Job Site Employee]],Table1[[#This Row],[Other Employee]])","v":0},{"$f":"IF(Table1[[#This Row],[Total Hours per Month]]=Table1[[#This Row],[Column12]],\"Match\",\"Error\")","v":"Match"},{"$f":"IF(Table1[[#This Row],[Calc 2]]=\"#NA\",\"#NA\",IF(Table1[[#This Row],[Non HZ Employee]]=Table1[[#This Row],[Max calc]],\"Non HZ Employee\", Table1[[#This Row],[Calc 2]]))","v":"#NA"}]
[1339,null,1339,{"$nulls":5},{"$f":"SUM(Table1[[#This Row],[Column4]]+Table1[[#This Row],[Column3]]+Table1[[#This Row],[Column2]]+Table1[[#This Row],[Column1]])","v":0},{"$nulls":5},{"$f":"SUM(Table1[[#This Row],[PO Employee]:[Other Employee]])","v":0},"N",{"$error":"#N/A"},{"$f":"IF(O1356>39,Table1[[#This Row],[Calc 1]],IF(O1356>1,\"Not counted as an Employee\",\"#NA\"))","v":"#NA"},{"$f":"MAX(Table1[[#This Row],[PO Employee]],Table1[[#This Row],[Other HZ Employee]],Table1[[#This Row],[Non HZ Employee]],Table1[[#This Row],[Job Site Employee]],Table1[[#This Row],[Other Employee]])","v":0},{"$f":"IF(Table1[[#This Row],[Total Hours per Month]]=Table1[[#This Row],[Column12]],\"Match\",\"Error\")","v":"Match"},{"$f":"IF(Table1[[#This Row],[Calc 2]]=\"#NA\",\"#NA\",IF(Table1[[#This Row],[Non HZ Employee]]=Table1[[#This Row],[Max calc]],\"Non HZ Employee\", Table1[[#This Row],[Calc 2]]))","v":"#NA"}]
[1340,null,1340,{"$nulls":5},{"$f":"SUM(Table1[[#This Row],[Column4]]+Table1[[#This Row],[Column3]]+Table1[[#This Row],[Column2]]+Table1[[#This Row],[Column1]])","v":0},{"$nulls":5},{"$f":"SUM(Table1[[#This Row],[PO Employee]:[Other Employee]])","v":0},"N",{"$error":"#N/A"},{"$f":"IF(O1357>39,Table1[[#This Row],[Calc 1]],IF(O1357>1,\"Not counted as an Employee\",\"#NA\"))","v":"#NA"},{"$f":"MAX(Table1[[#This Row],[PO Employee]],Table1[[#This Row],[Other HZ Employee]],Table1[[#This Row],[Non HZ Employee]],Table1[[#This Row],[Job Site Employee]],Table1[[#This Row],[Other Employee]])","v":0},{"$f":"IF(Table1[[#This Row],[Total Hours per Month]]=Table1[[#This Row],[Column12]],\"Match\",\"Error\")","v":"Match"},{"$f":"IF(Table1[[#This Row],[Calc 2]]=\"#NA\",\"#NA\",IF(Table1[[#This Row],[Non HZ Employee]]=Table1[[#This Row],[Max calc]],\"Non HZ Employee\", Table1[[#This Row],[Calc 2]]))","v":"#NA"}]
[1341,null,1341,{"$nulls":5},{"$f":"SUM(Table1[[#This Row],[Column4]]+Table1[[#This Row],[Column3]]+Table1[[#This Row],[Column2]]+Table1[[#This Row],[Column1]])","v":0},{"$nulls":5},{"$f":"SUM(Table1[[#This Row],[PO Employee]:[Other Employee]])","v":0},"N",{"$error":"#N/A"},{"$f":"IF(O1358>39,Table1[[#This Row],[Calc 1]],IF(O1358>1,\"Not counted as an Employee\",\"#NA\"))","v":"#NA"},{"$f":"MAX(Table1[[#This Row],[PO Employee]],Table1[[#This Row],[Other HZ Employee]],Table1[[#This Row],[Non HZ Employee]],Table1[[#This Row],[Job Site Employee]],Table1[[#This Row],[Other Employee]])","v":0},{"$f":"IF(Table1[[#This Row],[Total Hours per Month]]=Table1[[#This Row],[Column12]],\"Match\",\"Error\")","v":"Match"},{"$f":"IF(Table1[[#This Row],[Calc 2]]=\"#NA\",\"#NA\",IF(Table1[[#This Row],[Non HZ Employee]]=Table1[[#This Row],[Max calc]],\"Non HZ Employee\", Table1[[#This Row],[Calc 2]]))","v":"#NA"}]
[1342,null,1342,{"$nulls":5},{"$f":"SUM(Table1[[#This Row],[Column4]]+Table1[[#This Row],[Column3]]+Table1[[#This Row],[Column2]]+Table1[[#This Row],[Column1]])","v":0},{"$nulls":5},{"$f":"SUM(Table1[[#This Row],[PO Employee]:[Other Employee]])","v":0},"N",{"$error":"#N/A"},{"$f":"IF(O1359>39,Table1[[#This Row],[Calc 1]],IF(O1359>1,\"Not counted as an Employee\",\"#NA\"))","v":"#NA"},{"$f":"MAX(Table1[[#This Row],[PO Employee]],Table1[[#This Row],[Other HZ Employee]],Table1[[#This Row],[Non HZ Employee]],Table1[[#This Row],[Job Site Employee]],Table1[[#This Row],[Other Employee]])","v":0},{"$f":"IF(Table1[[#This Row],[Total Hours per Month]]=Table1[[#This Row],[Column12]],\"Match\",\"Error\")","v":"Match"},{"$f":"IF(Table1[[#This Row],[Calc 2]]=\"#NA\",\"#NA\",IF(Table1[[#This Row],[Non HZ Employee]]=Table1[[#This Row],[Max calc]],\"Non HZ Employee\", Table1[[#This Row],[Calc 2]]))","v":"#NA"}]
[1343,null,1343,{"$nulls":5},{"$f":"SUM(Table1[[#This Row],[Column4]]+Table1[[#This Row],[Column3]]+Table1[[#This Row],[Column2]]+Table1[[#This Row],[Column1]])","v":0},{"$nulls":5},{"$f":"SUM(Table1[[#This Row],[PO Employee]:[Other Employee]])","v":0},"N",{"$error":"#N/A"},{"$f":"IF(O1360>39,Table1[[#This Row],[Calc 1]],IF(O1360>1,\"Not counted as an Employee\",\"#NA\"))","v":"#NA"},{"$f":"MAX(Table1[[#This Row],[PO Employee]],Table1[[#This Row],[Other HZ Employee]],Table1[[#This Row],[Non HZ Employee]],Table1[[#This Row],[Job Site Employee]],Table1[[#This Row],[Other Employee]])","v":0},{"$f":"IF(Table1[[#This Row],[Total Hours per Month]]=Table1[[#This Row],[Column12]],\"Match\",\"Error\")","v":"Match"},{"$f":"IF(Table1[[#This Row],[Calc 2]]=\"#NA\",\"#NA\",IF(Table1[[#This Row],[Non HZ Employee]]=Table1[[#This Row],[Max calc]],\"Non HZ Employee\", Table1[[#This Row],[Calc 2]]))","v":"#NA"}]
[1344,null,1344,{"$nulls":5},{"$f":"SUM(Table1[[#This Row],[Column4]]+Table1[[#This Row],[Column3]]+Table1[[#This Row],[Column2]]+Table1[[#This Row],[Column1]])","v":0},{"$nulls":5},{"$f":"SUM(Table1[[#This Row],[PO Employee]:[Other Employee]])","v":0},"N",{"$error":"#N/A"},{"$f":"IF(O1361>39,Table1[[#This Row],[Calc 1]],IF(O1361>1,\"Not counted as an Employee\",\"#NA\"))","v":"#NA"},{"$f":"MAX(Table1[[#This Row],[PO Employee]],Table1[[#This Row],[Other HZ Employee]],Table1[[#This Row],[Non HZ Employee]],Table1[[#This Row],[Job Site Employee]],Table1[[#This Row],[Other Employee]])","v":0},{"$f":"IF(Table1[[#This Row],[Total Hours per Month]]=Table1[[#This Row],[Column12]],\"Match\",\"Error\")","v":"Match"},{"$f":"IF(Table1[[#This Row],[Calc 2]]=\"#NA\",\"#NA\",IF(Table1[[#This Row],[Non HZ Employee]]=Table1[[#This Row],[Max calc]],\"Non HZ Employee\", Table1[[#This Row],[Calc 2]]))","v":"#NA"}]
[1345,null,1345,{"$nulls":5},{"$f":"SUM(Table1[[#This Row],[Column4]]+Table1[[#This Row],[Column3]]+Table1[[#This Row],[Column2]]+Table1[[#This Row],[Column1]])","v":0},{"$nulls":5},{"$f":"SUM(Table1[[#This Row],[PO Employee]:[Other Employee]])","v":0},"N",{"$f":"INDEX($J$17:$N$17,MATCH(MAX(J1362:N1362),J1362:N1362,0))","v":{"$error":"#N/A"}},{"$f":"IF(O1362>39,Table1[[#This Row],[Calc 1]],IF(O1362>1,\"Not counted as an Employee\",\"#NA\"))","v":"#NA"},{"$f":"MAX(Table1[[#This Row],[PO Employee]],Table1[[#This Row],[Other HZ Employee]],Table1[[#This Row],[Non HZ Employee]],Table1[[#This Row],[Job Site Employee]],Table1[[#This Row],[Other Employee]])","v":0},{"$f":"IF(Table1[[#This Row],[Total Hours per Month]]=Table1[[#This Row],[Column12]],\"Match\",\"Error\")","v":"Match"},{"$f":"IF(Table1[[#This Row],[Calc 2]]=\"#NA\",\"#NA\",IF(Table1[[#This Row],[Non HZ Employee]]=Table1[[#This Row],[Max calc]],\"Non HZ Employee\", Table1[[#This Row],[Calc 2]]))","v":"#NA"}]
[1346,null,1346,{"$nulls":5},{"$f":"SUM(Table1[[#This Row],[Column4]]+Table1[[#This Row],[Column3]]+Table1[[#This Row],[Column2]]+Table1[[#This Row],[Column1]])","v":0},{"$nulls":5},{"$f":"SUM(Table1[[#This Row],[PO Employee]:[Other Employee]])","v":0},{"$f":"IF(O1363>=40,\"Y\",\"N\")","v":"N"},{"$error":"#N/A"},{"$f":"IF(O1363>39,Table1[[#This Row],[Calc 1]],IF(O1363>1,\"Not counted as an Employee\",\"#NA\"))","v":"#NA"},{"$f":"MAX(Table1[[#This Row],[PO Employee]],Table1[[#This Row],[Other HZ Employee]],Table1[[#This Row],[Non HZ Employee]],Table1[[#This Row],[Job Site Employee]],Table1[[#This Row],[Other Employee]])","v":0},{"$f":"IF(Table1[[#This Row],[Total Hours per Month]]=Table1[[#This Row],[Column12]],\"Match\",\"Error\")","v":"Match"},{"$f":"IF(Table1[[#This Row],[Calc 2]]=\"#NA\",\"#NA\",IF(Table1[[#This Row],[Non HZ Employee]]=Table1[[#This Row],[Max calc]],\"Non HZ Employee\", Table1[[#This Row],[Calc 2]]))","v":"#NA"}]
[1347,null,1347,{"$nulls":5},{"$f":"SUM(Table1[[#This Row],[Column4]]+Table1[[#This Row],[Column3]]+Table1[[#This Row],[Column2]]+Table1[[#This Row],[Column1]])","v":0},{"$nulls":5},{"$f":"SUM(Table1[[#This Row],[PO Employee]:[Other Employee]])","v":0},"N",{"$error":"#N/A"},{"$f":"IF(O1364>39,Table1[[#This Row],[Calc 1]],IF(O1364>1,\"Not counted as an Employee\",\"#NA\"))","v":"#NA"},{"$f":"MAX(Table1[[#This Row],[PO Employee]],Table1[[#This Row],[Other HZ Employee]],Table1[[#This Row],[Non HZ Employee]],Table1[[#This Row],[Job Site Employee]],Table1[[#This Row],[Other Employee]])","v":0},{"$f":"IF(Table1[[#This Row],[Total Hours per Month]]=Table1[[#This Row],[Column12]],\"Match\",\"Error\")","v":"Match"},{"$f":"IF(Table1[[#This Row],[Calc 2]]=\"#NA\",\"#NA\",IF(Table1[[#This Row],[Non HZ Employee]]=Table1[[#This Row],[Max calc]],\"Non HZ Employee\", Table1[[#This Row],[Calc 2]]))","v":"#NA"}]
[1348,null,1348,{"$nulls":5},{"$f":"SUM(Table1[[#This Row],[Column4]]+Table1[[#This Row],[Column3]]+Table1[[#This Row],[Column2]]+Table1[[#This Row],[Column1]])","v":0},{"$nulls":5},{"$f":"SUM(Table1[[#This Row],[PO Employee]:[Other Employee]])","v":0},"N",{"$error":"#N/A"},{"$f":"IF(O1365>39,Table1[[#This Row],[Calc 1]],IF(O1365>1,\"Not counted as an Employee\",\"#NA\"))","v":"#NA"},{"$f":"MAX(Table1[[#This Row],[PO Employee]],Table1[[#This Row],[Other HZ Employee]],Table1[[#This Row],[Non HZ Employee]],Table1[[#This Row],[Job Site Employee]],Table1[[#This Row],[Other Employee]])","v":0},{"$f":"IF(Table1[[#This Row],[Total Hours per Month]]=Table1[[#This Row],[Column12]],\"Match\",\"Error\")","v":"Match"},{"$f":"IF(Table1[[#This Row],[Calc 2]]=\"#NA\",\"#NA\",IF(Table1[[#This Row],[Non HZ Employee]]=Table1[[#This Row],[Max calc]],\"Non HZ Employee\", Table1[[#This Row],[Calc 2]]))","v":"#NA"}]
[1349,null,1349,{"$nulls":5},{"$f":"SUM(Table1[[#This Row],[Column4]]+Table1[[#This Row],[Column3]]+Table1[[#This Row],[Column2]]+Table1[[#This Row],[Column1]])","v":0},{"$nulls":5},{"$f":"SUM(Table1[[#This Row],[PO Employee]:[Other Employee]])","v":0},"N",{"$error":"#N/A"},{"$f":"IF(O1366>39,Table1[[#This Row],[Calc 1]],IF(O1366>1,\"Not counted as an Employee\",\"#NA\"))","v":"#NA"},{"$f":"MAX(Table1[[#This Row],[PO Employee]],Table1[[#This Row],[Other HZ Employee]],Table1[[#This Row],[Non HZ Employee]],Table1[[#This Row],[Job Site Employee]],Table1[[#This Row],[Other Employee]])","v":0},{"$f":"IF(Table1[[#This Row],[Total Hours per Month]]=Table1[[#This Row],[Column12]],\"Match\",\"Error\")","v":"Match"},{"$f":"IF(Table1[[#This Row],[Calc 2]]=\"#NA\",\"#NA\",IF(Table1[[#This Row],[Non HZ Employee]]=Table1[[#This Row],[Max calc]],\"Non HZ Employee\", Table1[[#This Row],[Calc 2]]))","v":"#NA"}]
[1350,null,1350,{"$nulls":5},{"$f":"SUM(Table1[[#This Row],[Column4]]+Table1[[#This Row],[Column3]]+Table1[[#This Row],[Column2]]+Table1[[#This Row],[Column1]])","v":0},{"$nulls":5},{"$f":"SUM(Table1[[#This Row],[PO Employee]:[Other Employee]])","v":0},"N",{"$error":"#N/A"},{"$f":"IF(O1367>39,Table1[[#This Row],[Calc 1]],IF(O1367>1,\"Not counted as an Employee\",\"#NA\"))","v":"#NA"},{"$f":"MAX(Table1[[#This Row],[PO Employee]],Table1[[#This Row],[Other HZ Employee]],Table1[[#This Row],[Non HZ Employee]],Table1[[#This Row],[Job Site Employee]],Table1[[#This Row],[Other Employee]])","v":0},{"$f":"IF(Table1[[#This Row],[Total Hours per Month]]=Table1[[#This Row],[Column12]],\"Match\",\"Error\")","v":"Match"},{"$f":"IF(Table1[[#This Row],[Calc 2]]=\"#NA\",\"#NA\",IF(Table1[[#This Row],[Non HZ Employee]]=Table1[[#This Row],[Max calc]],\"Non HZ Employee\", Table1[[#This Row],[Calc 2]]))","v":"#NA"}]
[1351,null,1351,{"$nulls":5},{"$f":"SUM(Table1[[#This Row],[Column4]]+Table1[[#This Row],[Column3]]+Table1[[#This Row],[Column2]]+Table1[[#This Row],[Column1]])","v":0},{"$nulls":5},{"$f":"SUM(Table1[[#This Row],[PO Employee]:[Other Employee]])","v":0},"N",{"$error":"#N/A"},{"$f":"IF(O1368>39,Table1[[#This Row],[Calc 1]],IF(O1368>1,\"Not counted as an Employee\",\"#NA\"))","v":"#NA"},{"$f":"MAX(Table1[[#This Row],[PO Employee]],Table1[[#This Row],[Other HZ Employee]],Table1[[#This Row],[Non HZ Employee]],Table1[[#This Row],[Job Site Employee]],Table1[[#This Row],[Other Employee]])","v":0},{"$f":"IF(Table1[[#This Row],[Total Hours per Month]]=Table1[[#This Row],[Column12]],\"Match\",\"Error\")","v":"Match"},{"$f":"IF(Table1[[#This Row],[Calc 2]]=\"#NA\",\"#NA\",IF(Table1[[#This Row],[Non HZ Employee]]=Table1[[#This Row],[Max calc]],\"Non HZ Employee\", Table1[[#This Row],[Calc 2]]))","v":"#NA"}]
[1352,null,1352,{"$nulls":5},{"$f":"SUM(Table1[[#This Row],[Column4]]+Table1[[#This Row],[Column3]]+Table1[[#This Row],[Column2]]+Table1[[#This Row],[Column1]])","v":0},{"$nulls":5},{"$f":"SUM(Table1[[#This Row],[PO Employee]:[Other Employee]])","v":0},"N",{"$error":"#N/A"},{"$f":"IF(O1369>39,Table1[[#This Row],[Calc 1]],IF(O1369>1,\"Not counted as an Employee\",\"#NA\"))","v":"#NA"},{"$f":"MAX(Table1[[#This Row],[PO Employee]],Table1[[#This Row],[Other HZ Employee]],Table1[[#This Row],[Non HZ Employee]],Table1[[#This Row],[Job Site Employee]],Table1[[#This Row],[Other Employee]])","v":0},{"$f":"IF(Table1[[#This Row],[Total Hours per Month]]=Table1[[#This Row],[Column12]],\"Match\",\"Error\")","v":"Match"},{"$f":"IF(Table1[[#This Row],[Calc 2]]=\"#NA\",\"#NA\",IF(Table1[[#This Row],[Non HZ Employee]]=Table1[[#This Row],[Max calc]],\"Non HZ Employee\", Table1[[#This Row],[Calc 2]]))","v":"#NA"}]
[1353,null,1353,{"$nulls":5},{"$f":"SUM(Table1[[#This Row],[Column4]]+Table1[[#This Row],[Column3]]+Table1[[#This Row],[Column2]]+Table1[[#This Row],[Column1]])","v":0},{"$nulls":5},{"$f":"SUM(Table1[[#This Row],[PO Employee]:[Other Employee]])","v":0},"N",{"$error":"#N/A"},{"$f":"IF(O1370>39,Table1[[#This Row],[Calc 1]],IF(O1370>1,\"Not counted as an Employee\",\"#NA\"))","v":"#NA"},{"$f":"MAX(Table1[[#This Row],[PO Employee]],Table1[[#This Row],[Other HZ Employee]],Table1[[#This Row],[Non HZ Employee]],Table1[[#This Row],[Job Site Employee]],Table1[[#This Row],[Other Employee]])","v":0},{"$f":"IF(Table1[[#This Row],[Total Hours per Month]]=Table1[[#This Row],[Column12]],\"Match\",\"Error\")","v":"Match"},{"$f":"IF(Table1[[#This Row],[Calc 2]]=\"#NA\",\"#NA\",IF(Table1[[#This Row],[Non HZ Employee]]=Table1[[#This Row],[Max calc]],\"Non HZ Employee\", Table1[[#This Row],[Calc 2]]))","v":"#NA"}]
[1354,null,1354,{"$nulls":5},{"$f":"SUM(Table1[[#This Row],[Column4]]+Table1[[#This Row],[Column3]]+Table1[[#This Row],[Column2]]+Table1[[#This Row],[Column1]])","v":0},{"$nulls":5},{"$f":"SUM(Table1[[#This Row],[PO Employee]:[Other Employee]])","v":0},"N",{"$error":"#N/A"},{"$f":"IF(O1371>39,Table1[[#This Row],[Calc 1]],IF(O1371>1,\"Not counted as an Employee\",\"#NA\"))","v":"#NA"},{"$f":"MAX(Table1[[#This Row],[PO Employee]],Table1[[#This Row],[Other HZ Employee]],Table1[[#This Row],[Non HZ Employee]],Table1[[#This Row],[Job Site Employee]],Table1[[#This Row],[Other Employee]])","v":0},{"$f":"IF(Table1[[#This Row],[Total Hours per Month]]=Table1[[#This Row],[Column12]],\"Match\",\"Error\")","v":"Match"},{"$f":"IF(Table1[[#This Row],[Calc 2]]=\"#NA\",\"#NA\",IF(Table1[[#This Row],[Non HZ Employee]]=Table1[[#This Row],[Max calc]],\"Non HZ Employee\", Table1[[#This Row],[Calc 2]]))","v":"#NA"}]
[1355,null,1355,{"$nulls":5},{"$f":"SUM(Table1[[#This Row],[Column4]]+Table1[[#This Row],[Column3]]+Table1[[#This Row],[Column2]]+Table1[[#This Row],[Column1]])","v":0},{"$nulls":5},{"$f":"SUM(Table1[[#This Row],[PO Employee]:[Other Employee]])","v":0},"N",{"$error":"#N/A"},{"$f":"IF(O1372>39,Table1[[#This Row],[Calc 1]],IF(O1372>1,\"Not counted as an Employee\",\"#NA\"))","v":"#NA"},{"$f":"MAX(Table1[[#This Row],[PO Employee]],Table1[[#This Row],[Other HZ Employee]],Table1[[#This Row],[Non HZ Employee]],Table1[[#This Row],[Job Site Employee]],Table1[[#This Row],[Other Employee]])","v":0},{"$f":"IF(Table1[[#This Row],[Total Hours per Month]]=Table1[[#This Row],[Column12]],\"Match\",\"Error\")","v":"Match"},{"$f":"IF(Table1[[#This Row],[Calc 2]]=\"#NA\",\"#NA\",IF(Table1[[#This Row],[Non HZ Employee]]=Table1[[#This Row],[Max calc]],\"Non HZ Employee\", Table1[[#This Row],[Calc 2]]))","v":"#NA"}]
[1356,null,1356,{"$nulls":5},{"$f":"SUM(Table1[[#This Row],[Column4]]+Table1[[#This Row],[Column3]]+Table1[[#This Row],[Column2]]+Table1[[#This Row],[Column1]])","v":0},{"$nulls":5},{"$f":"SUM(Table1[[#This Row],[PO Employee]:[Other Employee]])","v":0},"N",{"$error":"#N/A"},{"$f":"IF(O1373>39,Table1[[#This Row],[Calc 1]],IF(O1373>1,\"Not counted as an Employee\",\"#NA\"))","v":"#NA"},{"$f":"MAX(Table1[[#This Row],[PO Employee]],Table1[[#This Row],[Other HZ Employee]],Table1[[#This Row],[Non HZ Employee]],Table1[[#This Row],[Job Site Employee]],Table1[[#This Row],[Other Employee]])","v":0},{"$f":"IF(Table1[[#This Row],[Total Hours per Month]]=Table1[[#This Row],[Column12]],\"Match\",\"Error\")","v":"Match"},{"$f":"IF(Table1[[#This Row],[Calc 2]]=\"#NA\",\"#NA\",IF(Table1[[#This Row],[Non HZ Employee]]=Table1[[#This Row],[Max calc]],\"Non HZ Employee\", Table1[[#This Row],[Calc 2]]))","v":"#NA"}]
[1357,null,1357,{"$nulls":5},{"$f":"SUM(Table1[[#This Row],[Column4]]+Table1[[#This Row],[Column3]]+Table1[[#This Row],[Column2]]+Table1[[#This Row],[Column1]])","v":0},{"$nulls":5},{"$f":"SUM(Table1[[#This Row],[PO Employee]:[Other Employee]])","v":0},"N",{"$error":"#N/A"},{"$f":"IF(O1374>39,Table1[[#This Row],[Calc 1]],IF(O1374>1,\"Not counted as an Employee\",\"#NA\"))","v":"#NA"},{"$f":"MAX(Table1[[#This Row],[PO Employee]],Table1[[#This Row],[Other HZ Employee]],Table1[[#This Row],[Non HZ Employee]],Table1[[#This Row],[Job Site Employee]],Table1[[#This Row],[Other Employee]])","v":0},{"$f":"IF(Table1[[#This Row],[Total Hours per Month]]=Table1[[#This Row],[Column12]],\"Match\",\"Error\")","v":"Match"},{"$f":"IF(Table1[[#This Row],[Calc 2]]=\"#NA\",\"#NA\",IF(Table1[[#This Row],[Non HZ Employee]]=Table1[[#This Row],[Max calc]],\"Non HZ Employee\", Table1[[#This Row],[Calc 2]]))","v":"#NA"}]
[1358,null,1358,{"$nulls":5},{"$f":"SUM(Table1[[#This Row],[Column4]]+Table1[[#This Row],[Column3]]+Table1[[#This Row],[Column2]]+Table1[[#This Row],[Column1]])","v":0},{"$nulls":5},{"$f":"SUM(Table1[[#This Row],[PO Employee]:[Other Employee]])","v":0},"N",{"$error":"#N/A"},{"$f":"IF(O1375>39,Table1[[#This Row],[Calc 1]],IF(O1375>1,\"Not counted as an Employee\",\"#NA\"))","v":"#NA"},{"$f":"MAX(Table1[[#This Row],[PO Employee]],Table1[[#This Row],[Other HZ Employee]],Table1[[#This Row],[Non HZ Employee]],Table1[[#This Row],[Job Site Employee]],Table1[[#This Row],[Other Employee]])","v":0},{"$f":"IF(Table1[[#This Row],[Total Hours per Month]]=Table1[[#This Row],[Column12]],\"Match\",\"Error\")","v":"Match"},{"$f":"IF(Table1[[#This Row],[Calc 2]]=\"#NA\",\"#NA\",IF(Table1[[#This Row],[Non HZ Employee]]=Table1[[#This Row],[Max calc]],\"Non HZ Employee\", Table1[[#This Row],[Calc 2]]))","v":"#NA"}]
[1359,null,1359,{"$nulls":5},{"$f":"SUM(Table1[[#This Row],[Column4]]+Table1[[#This Row],[Column3]]+Table1[[#This Row],[Column2]]+Table1[[#This Row],[Column1]])","v":0},{"$nulls":5},{"$f":"SUM(Table1[[#This Row],[PO Employee]:[Other Employee]])","v":0},"N",{"$error":"#N/A"},{"$f":"IF(O1376>39,Table1[[#This Row],[Calc 1]],IF(O1376>1,\"Not counted as an Employee\",\"#NA\"))","v":"#NA"},{"$f":"MAX(Table1[[#This Row],[PO Employee]],Table1[[#This Row],[Other HZ Employee]],Table1[[#This Row],[Non HZ Employee]],Table1[[#This Row],[Job Site Employee]],Table1[[#This Row],[Other Employee]])","v":0},{"$f":"IF(Table1[[#This Row],[Total Hours per Month]]=Table1[[#This Row],[Column12]],\"Match\",\"Error\")","v":"Match"},{"$f":"IF(Table1[[#This Row],[Calc 2]]=\"#NA\",\"#NA\",IF(Table1[[#This Row],[Non HZ Employee]]=Table1[[#This Row],[Max calc]],\"Non HZ Employee\", Table1[[#This Row],[Calc 2]]))","v":"#NA"}]
[1360,null,1360,{"$nulls":5},{"$f":"SUM(Table1[[#This Row],[Column4]]+Table1[[#This Row],[Column3]]+Table1[[#This Row],[Column2]]+Table1[[#This Row],[Column1]])","v":0},{"$nulls":5},{"$f":"SUM(Table1[[#This Row],[PO Employee]:[Other Employee]])","v":0},"N",{"$error":"#N/A"},{"$f":"IF(O1377>39,Table1[[#This Row],[Calc 1]],IF(O1377>1,\"Not counted as an Employee\",\"#NA\"))","v":"#NA"},{"$f":"MAX(Table1[[#This Row],[PO Employee]],Table1[[#This Row],[Other HZ Employee]],Table1[[#This Row],[Non HZ Employee]],Table1[[#This Row],[Job Site Employee]],Table1[[#This Row],[Other Employee]])","v":0},{"$f":"IF(Table1[[#This Row],[Total Hours per Month]]=Table1[[#This Row],[Column12]],\"Match\",\"Error\")","v":"Match"},{"$f":"IF(Table1[[#This Row],[Calc 2]]=\"#NA\",\"#NA\",IF(Table1[[#This Row],[Non HZ Employee]]=Table1[[#This Row],[Max calc]],\"Non HZ Employee\", Table1[[#This Row],[Calc 2]]))","v":"#NA"}]
[1361,null,1361,{"$nulls":5},{"$f":"SUM(Table1[[#This Row],[Column4]]+Table1[[#This Row],[Column3]]+Table1[[#This Row],[Column2]]+Table1[[#This Row],[Column1]])","v":0},{"$nulls":5},{"$f":"SUM(Table1[[#This Row],[PO Employee]:[Other Employee]])","v":0},"N",{"$error":"#N/A"},{"$f":"IF(O1378>39,Table1[[#This Row],[Calc 1]],IF(O1378>1,\"Not counted as an Employee\",\"#NA\"))","v":"#NA"},{"$f":"MAX(Table1[[#This Row],[PO Employee]],Table1[[#This Row],[Other HZ Employee]],Table1[[#This Row],[Non HZ Employee]],Table1[[#This Row],[Job Site Employee]],Table1[[#This Row],[Other Employee]])","v":0},{"$f":"IF(Table1[[#This Row],[Total Hours per Month]]=Table1[[#This Row],[Column12]],\"Match\",\"Error\")","v":"Match"},{"$f":"IF(Table1[[#This Row],[Calc 2]]=\"#NA\",\"#NA\",IF(Table1[[#This Row],[Non HZ Employee]]=Table1[[#This Row],[Max calc]],\"Non HZ Employee\", Table1[[#This Row],[Calc 2]]))","v":"#NA"}]
[1362,null,1362,{"$nulls":5},{"$f":"SUM(Table1[[#This Row],[Column4]]+Table1[[#This Row],[Column3]]+Table1[[#This Row],[Column2]]+Table1[[#This Row],[Column1]])","v":0},{"$nulls":5},{"$f":"SUM(Table1[[#This Row],[PO Employee]:[Other Employee]])","v":0},"N",{"$error":"#N/A"},{"$f":"IF(O1379>39,Table1[[#This Row],[Calc 1]],IF(O1379>1,\"Not counted as an Employee\",\"#NA\"))","v":"#NA"},{"$f":"MAX(Table1[[#This Row],[PO Employee]],Table1[[#This Row],[Other HZ Employee]],Table1[[#This Row],[Non HZ Employee]],Table1[[#This Row],[Job Site Employee]],Table1[[#This Row],[Other Employee]])","v":0},{"$f":"IF(Table1[[#This Row],[Total Hours per Month]]=Table1[[#This Row],[Column12]],\"Match\",\"Error\")","v":"Match"},{"$f":"IF(Table1[[#This Row],[Calc 2]]=\"#NA\",\"#NA\",IF(Table1[[#This Row],[Non HZ Employee]]=Table1[[#This Row],[Max calc]],\"Non HZ Employee\", Table1[[#This Row],[Calc 2]]))","v":"#NA"}]
[1363,null,1363,{"$nulls":5},{"$f":"SUM(Table1[[#This Row],[Column4]]+Table1[[#This Row],[Column3]]+Table1[[#This Row],[Column2]]+Table1[[#This Row],[Column1]])","v":0},{"$nulls":5},{"$f":"SUM(Table1[[#This Row],[PO Employee]:[Other Employee]])","v":0},"N",{"$error":"#N/A"},{"$f":"IF(O1380>39,Table1[[#This Row],[Calc 1]],IF(O1380>1,\"Not counted as an Employee\",\"#NA\"))","v":"#NA"},{"$f":"MAX(Table1[[#This Row],[PO Employee]],Table1[[#This Row],[Other HZ Employee]],Table1[[#This Row],[Non HZ Employee]],Table1[[#This Row],[Job Site Employee]],Table1[[#This Row],[Other Employee]])","v":0},{"$f":"IF(Table1[[#This Row],[Total Hours per Month]]=Table1[[#This Row],[Column12]],\"Match\",\"Error\")","v":"Match"},{"$f":"IF(Table1[[#This Row],[Calc 2]]=\"#NA\",\"#NA\",IF(Table1[[#This Row],[Non HZ Employee]]=Table1[[#This Row],[Max calc]],\"Non HZ Employee\", Table1[[#This Row],[Calc 2]]))","v":"#NA"}]
[1364,null,1364,{"$nulls":5},{"$f":"SUM(Table1[[#This Row],[Column4]]+Table1[[#This Row],[Column3]]+Table1[[#This Row],[Column2]]+Table1[[#This Row],[Column1]])","v":0},{"$nulls":5},{"$f":"SUM(Table1[[#This Row],[PO Employee]:[Other Employee]])","v":0},"N",{"$error":"#N/A"},{"$f":"IF(O1381>39,Table1[[#This Row],[Calc 1]],IF(O1381>1,\"Not counted as an Employee\",\"#NA\"))","v":"#NA"},{"$f":"MAX(Table1[[#This Row],[PO Employee]],Table1[[#This Row],[Other HZ Employee]],Table1[[#This Row],[Non HZ Employee]],Table1[[#This Row],[Job Site Employee]],Table1[[#This Row],[Other Employee]])","v":0},{"$f":"IF(Table1[[#This Row],[Total Hours per Month]]=Table1[[#This Row],[Column12]],\"Match\",\"Error\")","v":"Match"},{"$f":"IF(Table1[[#This Row],[Calc 2]]=\"#NA\",\"#NA\",IF(Table1[[#This Row],[Non HZ Employee]]=Table1[[#This Row],[Max calc]],\"Non HZ Employee\", Table1[[#This Row],[Calc 2]]))","v":"#NA"}]
[1365,null,1365,{"$nulls":5},{"$f":"SUM(Table1[[#This Row],[Column4]]+Table1[[#This Row],[Column3]]+Table1[[#This Row],[Column2]]+Table1[[#This Row],[Column1]])","v":0},{"$nulls":5},{"$f":"SUM(Table1[[#This Row],[PO Employee]:[Other Employee]])","v":0},"N",{"$error":"#N/A"},{"$f":"IF(O1382>39,Table1[[#This Row],[Calc 1]],IF(O1382>1,\"Not counted as an Employee\",\"#NA\"))","v":"#NA"},{"$f":"MAX(Table1[[#This Row],[PO Employee]],Table1[[#This Row],[Other HZ Employee]],Table1[[#This Row],[Non HZ Employee]],Table1[[#This Row],[Job Site Employee]],Table1[[#This Row],[Other Employee]])","v":0},{"$f":"IF(Table1[[#This Row],[Total Hours per Month]]=Table1[[#This Row],[Column12]],\"Match\",\"Error\")","v":"Match"},{"$f":"IF(Table1[[#This Row],[Calc 2]]=\"#NA\",\"#NA\",IF(Table1[[#This Row],[Non HZ Employee]]=Table1[[#This Row],[Max calc]],\"Non HZ Employee\", Table1[[#This Row],[Calc 2]]))","v":"#NA"}]
[1366,null,1366,{"$nulls":5},{"$f":"SUM(Table1[[#This Row],[Column4]]+Table1[[#This Row],[Column3]]+Table1[[#This Row],[Column2]]+Table1[[#This Row],[Column1]])","v":0},{"$nulls":5},{"$f":"SUM(Table1[[#This Row],[PO Employee]:[Other Employee]])","v":0},"N",{"$error":"#N/A"},{"$f":"IF(O1383>39,Table1[[#This Row],[Calc 1]],IF(O1383>1,\"Not counted as an Employee\",\"#NA\"))","v":"#NA"},{"$f":"MAX(Table1[[#This Row],[PO Employee]],Table1[[#This Row],[Other HZ Employee]],Table1[[#This Row],[Non HZ Employee]],Table1[[#This Row],[Job Site Employee]],Table1[[#This Row],[Other Employee]])","v":0},{"$f":"IF(Table1[[#This Row],[Total Hours per Month]]=Table1[[#This Row],[Column12]],\"Match\",\"Error\")","v":"Match"},{"$f":"IF(Table1[[#This Row],[Calc 2]]=\"#NA\",\"#NA\",IF(Table1[[#This Row],[Non HZ Employee]]=Table1[[#This Row],[Max calc]],\"Non HZ Employee\", Table1[[#This Row],[Calc 2]]))","v":"#NA"}]
[1367,null,1367,{"$nulls":5},{"$f":"SUM(Table1[[#This Row],[Column4]]+Table1[[#This Row],[Column3]]+Table1[[#This Row],[Column2]]+Table1[[#This Row],[Column1]])","v":0},{"$nulls":5},{"$f":"SUM(Table1[[#This Row],[PO Employee]:[Other Employee]])","v":0},"N",{"$error":"#N/A"},{"$f":"IF(O1384>39,Table1[[#This Row],[Calc 1]],IF(O1384>1,\"Not counted as an Employee\",\"#NA\"))","v":"#NA"},{"$f":"MAX(Table1[[#This Row],[PO Employee]],Table1[[#This Row],[Other HZ Employee]],Table1[[#This Row],[Non HZ Employee]],Table1[[#This Row],[Job Site Employee]],Table1[[#This Row],[Other Employee]])","v":0},{"$f":"IF(Table1[[#This Row],[Total Hours per Month]]=Table1[[#This Row],[Column12]],\"Match\",\"Error\")","v":"Match"},{"$f":"IF(Table1[[#This Row],[Calc 2]]=\"#NA\",\"#NA\",IF(Table1[[#This Row],[Non HZ Employee]]=Table1[[#This Row],[Max calc]],\"Non HZ Employee\", Table1[[#This Row],[Calc 2]]))","v":"#NA"}]
[1368,null,1368,{"$nulls":5},{"$f":"SUM(Table1[[#This Row],[Column4]]+Table1[[#This Row],[Column3]]+Table1[[#This Row],[Column2]]+Table1[[#This Row],[Column1]])","v":0},{"$nulls":5},{"$f":"SUM(Table1[[#This Row],[PO Employee]:[Other Employee]])","v":0},"N",{"$error":"#N/A"},{"$f":"IF(O1385>39,Table1[[#This Row],[Calc 1]],IF(O1385>1,\"Not counted as an Employee\",\"#NA\"))","v":"#NA"},{"$f":"MAX(Table1[[#This Row],[PO Employee]],Table1[[#This Row],[Other HZ Employee]],Table1[[#This Row],[Non HZ Employee]],Table1[[#This Row],[Job Site Employee]],Table1[[#This Row],[Other Employee]])","v":0},{"$f":"IF(Table1[[#This Row],[Total Hours per Month]]=Table1[[#This Row],[Column12]],\"Match\",\"Error\")","v":"Match"},{"$f":"IF(Table1[[#This Row],[Calc 2]]=\"#NA\",\"#NA\",IF(Table1[[#This Row],[Non HZ Employee]]=Table1[[#This Row],[Max calc]],\"Non HZ Employee\", Table1[[#This Row],[Calc 2]]))","v":"#NA"}]
[1369,null,1369,{"$nulls":5},{"$f":"SUM(Table1[[#This Row],[Column4]]+Table1[[#This Row],[Column3]]+Table1[[#This Row],[Column2]]+Table1[[#This Row],[Column1]])","v":0},{"$nulls":5},{"$f":"SUM(Table1[[#This Row],[PO Employee]:[Other Employee]])","v":0},"N",{"$error":"#N/A"},{"$f":"IF(O1386>39,Table1[[#This Row],[Calc 1]],IF(O1386>1,\"Not counted as an Employee\",\"#NA\"))","v":"#NA"},{"$f":"MAX(Table1[[#This Row],[PO Employee]],Table1[[#This Row],[Other HZ Employee]],Table1[[#This Row],[Non HZ Employee]],Table1[[#This Row],[Job Site Employee]],Table1[[#This Row],[Other Employee]])","v":0},{"$f":"IF(Table1[[#This Row],[Total Hours per Month]]=Table1[[#This Row],[Column12]],\"Match\",\"Error\")","v":"Match"},{"$f":"IF(Table1[[#This Row],[Calc 2]]=\"#NA\",\"#NA\",IF(Table1[[#This Row],[Non HZ Employee]]=Table1[[#This Row],[Max calc]],\"Non HZ Employee\", Table1[[#This Row],[Calc 2]]))","v":"#NA"}]
[1370,null,1370,{"$nulls":5},{"$f":"SUM(Table1[[#This Row],[Column4]]+Table1[[#This Row],[Column3]]+Table1[[#This Row],[Column2]]+Table1[[#This Row],[Column1]])","v":0},{"$nulls":5},{"$f":"SUM(Table1[[#This Row],[PO Employee]:[Other Employee]])","v":0},"N",{"$error":"#N/A"},{"$f":"IF(O1387>39,Table1[[#This Row],[Calc 1]],IF(O1387>1,\"Not counted as an Employee\",\"#NA\"))","v":"#NA"},{"$f":"MAX(Table1[[#This Row],[PO Employee]],Table1[[#This Row],[Other HZ Employee]],Table1[[#This Row],[Non HZ Employee]],Table1[[#This Row],[Job Site Employee]],Table1[[#This Row],[Other Employee]])","v":0},{"$f":"IF(Table1[[#This Row],[Total Hours per Month]]=Table1[[#This Row],[Column12]],\"Match\",\"Error\")","v":"Match"},{"$f":"IF(Table1[[#This Row],[Calc 2]]=\"#NA\",\"#NA\",IF(Table1[[#This Row],[Non HZ Employee]]=Table1[[#This Row],[Max calc]],\"Non HZ Employee\", Table1[[#This Row],[Calc 2]]))","v":"#NA"}]
[1371,null,1371,{"$nulls":5},{"$f":"SUM(Table1[[#This Row],[Column4]]+Table1[[#This Row],[Column3]]+Table1[[#This Row],[Column2]]+Table1[[#This Row],[Column1]])","v":0},{"$nulls":5},{"$f":"SUM(Table1[[#This Row],[PO Employee]:[Other Employee]])","v":0},"N",{"$error":"#N/A"},{"$f":"IF(O1388>39,Table1[[#This Row],[Calc 1]],IF(O1388>1,\"Not counted as an Employee\",\"#NA\"))","v":"#NA"},{"$f":"MAX(Table1[[#This Row],[PO Employee]],Table1[[#This Row],[Other HZ Employee]],Table1[[#This Row],[Non HZ Employee]],Table1[[#This Row],[Job Site Employee]],Table1[[#This Row],[Other Employee]])","v":0},{"$f":"IF(Table1[[#This Row],[Total Hours per Month]]=Table1[[#This Row],[Column12]],\"Match\",\"Error\")","v":"Match"},{"$f":"IF(Table1[[#This Row],[Calc 2]]=\"#NA\",\"#NA\",IF(Table1[[#This Row],[Non HZ Employee]]=Table1[[#This Row],[Max calc]],\"Non HZ Employee\", Table1[[#This Row],[Calc 2]]))","v":"#NA"}]
[1372,null,1372,{"$nulls":5},{"$f":"SUM(Table1[[#This Row],[Column4]]+Table1[[#This Row],[Column3]]+Table1[[#This Row],[Column2]]+Table1[[#This Row],[Column1]])","v":0},{"$nulls":5},{"$f":"SUM(Table1[[#This Row],[PO Employee]:[Other Employee]])","v":0},"N",{"$error":"#N/A"},{"$f":"IF(O1389>39,Table1[[#This Row],[Calc 1]],IF(O1389>1,\"Not counted as an Employee\",\"#NA\"))","v":"#NA"},{"$f":"MAX(Table1[[#This Row],[PO Employee]],Table1[[#This Row],[Other HZ Employee]],Table1[[#This Row],[Non HZ Employee]],Table1[[#This Row],[Job Site Employee]],Table1[[#This Row],[Other Employee]])","v":0},{"$f":"IF(Table1[[#This Row],[Total Hours per Month]]=Table1[[#This Row],[Column12]],\"Match\",\"Error\")","v":"Match"},{"$f":"IF(Table1[[#This Row],[Calc 2]]=\"#NA\",\"#NA\",IF(Table1[[#This Row],[Non HZ Employee]]=Table1[[#This Row],[Max calc]],\"Non HZ Employee\", Table1[[#This Row],[Calc 2]]))","v":"#NA"}]
[1373,null,1373,{"$nulls":5},{"$f":"SUM(Table1[[#This Row],[Column4]]+Table1[[#This Row],[Column3]]+Table1[[#This Row],[Column2]]+Table1[[#This Row],[Column1]])","v":0},{"$nulls":5},{"$f":"SUM(Table1[[#This Row],[PO Employee]:[Other Employee]])","v":0},"N",{"$error":"#N/A"},{"$f":"IF(O1390>39,Table1[[#This Row],[Calc 1]],IF(O1390>1,\"Not counted as an Employee\",\"#NA\"))","v":"#NA"},{"$f":"MAX(Table1[[#This Row],[PO Employee]],Table1[[#This Row],[Other HZ Employee]],Table1[[#This Row],[Non HZ Employee]],Table1[[#This Row],[Job Site Employee]],Table1[[#This Row],[Other Employee]])","v":0},{"$f":"IF(Table1[[#This Row],[Total Hours per Month]]=Table1[[#This Row],[Column12]],\"Match\",\"Error\")","v":"Match"},{"$f":"IF(Table1[[#This Row],[Calc 2]]=\"#NA\",\"#NA\",IF(Table1[[#This Row],[Non HZ Employee]]=Table1[[#This Row],[Max calc]],\"Non HZ Employee\", Table1[[#This Row],[Calc 2]]))","v":"#NA"}]
[1374,null,1374,{"$nulls":5},{"$f":"SUM(Table1[[#This Row],[Column4]]+Table1[[#This Row],[Column3]]+Table1[[#This Row],[Column2]]+Table1[[#This Row],[Column1]])","v":0},{"$nulls":5},{"$f":"SUM(Table1[[#This Row],[PO Employee]:[Other Employee]])","v":0},"N",{"$error":"#N/A"},{"$f":"IF(O1391>39,Table1[[#This Row],[Calc 1]],IF(O1391>1,\"Not counted as an Employee\",\"#NA\"))","v":"#NA"},{"$f":"MAX(Table1[[#This Row],[PO Employee]],Table1[[#This Row],[Other HZ Employee]],Table1[[#This Row],[Non HZ Employee]],Table1[[#This Row],[Job Site Employee]],Table1[[#This Row],[Other Employee]])","v":0},{"$f":"IF(Table1[[#This Row],[Total Hours per Month]]=Table1[[#This Row],[Column12]],\"Match\",\"Error\")","v":"Match"},{"$f":"IF(Table1[[#This Row],[Calc 2]]=\"#NA\",\"#NA\",IF(Table1[[#This Row],[Non HZ Employee]]=Table1[[#This Row],[Max calc]],\"Non HZ Employee\", Table1[[#This Row],[Calc 2]]))","v":"#NA"}]
[1375,null,1375,{"$nulls":5},{"$f":"SUM(Table1[[#This Row],[Column4]]+Table1[[#This Row],[Column3]]+Table1[[#This Row],[Column2]]+Table1[[#This Row],[Column1]])","v":0},{"$nulls":5},{"$f":"SUM(Table1[[#This Row],[PO Employee]:[Other Employee]])","v":0},"N",{"$error":"#N/A"},{"$f":"IF(O1392>39,Table1[[#This Row],[Calc 1]],IF(O1392>1,\"Not counted as an Employee\",\"#NA\"))","v":"#NA"},{"$f":"MAX(Table1[[#This Row],[PO Employee]],Table1[[#This Row],[Other HZ Employee]],Table1[[#This Row],[Non HZ Employee]],Table1[[#This Row],[Job Site Employee]],Table1[[#This Row],[Other Employee]])","v":0},{"$f":"IF(Table1[[#This Row],[Total Hours per Month]]=Table1[[#This Row],[Column12]],\"Match\",\"Error\")","v":"Match"},{"$f":"IF(Table1[[#This Row],[Calc 2]]=\"#NA\",\"#NA\",IF(Table1[[#This Row],[Non HZ Employee]]=Table1[[#This Row],[Max calc]],\"Non HZ Employee\", Table1[[#This Row],[Calc 2]]))","v":"#NA"}]
[1376,null,1376,{"$nulls":5},{"$f":"SUM(Table1[[#This Row],[Column4]]+Table1[[#This Row],[Column3]]+Table1[[#This Row],[Column2]]+Table1[[#This Row],[Column1]])","v":0},{"$nulls":5},{"$f":"SUM(Table1[[#This Row],[PO Employee]:[Other Employee]])","v":0},"N",{"$error":"#N/A"},{"$f":"IF(O1393>39,Table1[[#This Row],[Calc 1]],IF(O1393>1,\"Not counted as an Employee\",\"#NA\"))","v":"#NA"},{"$f":"MAX(Table1[[#This Row],[PO Employee]],Table1[[#This Row],[Other HZ Employee]],Table1[[#This Row],[Non HZ Employee]],Table1[[#This Row],[Job Site Employee]],Table1[[#This Row],[Other Employee]])","v":0},{"$f":"IF(Table1[[#This Row],[Total Hours per Month]]=Table1[[#This Row],[Column12]],\"Match\",\"Error\")","v":"Match"},{"$f":"IF(Table1[[#This Row],[Calc 2]]=\"#NA\",\"#NA\",IF(Table1[[#This Row],[Non HZ Employee]]=Table1[[#This Row],[Max calc]],\"Non HZ Employee\", Table1[[#This Row],[Calc 2]]))","v":"#NA"}]
[1377,null,1377,{"$nulls":5},{"$f":"SUM(Table1[[#This Row],[Column4]]+Table1[[#This Row],[Column3]]+Table1[[#This Row],[Column2]]+Table1[[#This Row],[Column1]])","v":0},{"$nulls":5},{"$f":"SUM(Table1[[#This Row],[PO Employee]:[Other Employee]])","v":0},"N",{"$error":"#N/A"},{"$f":"IF(O1394>39,Table1[[#This Row],[Calc 1]],IF(O1394>1,\"Not counted as an Employee\",\"#NA\"))","v":"#NA"},{"$f":"MAX(Table1[[#This Row],[PO Employee]],Table1[[#This Row],[Other HZ Employee]],Table1[[#This Row],[Non HZ Employee]],Table1[[#This Row],[Job Site Employee]],Table1[[#This Row],[Other Employee]])","v":0},{"$f":"IF(Table1[[#This Row],[Total Hours per Month]]=Table1[[#This Row],[Column12]],\"Match\",\"Error\")","v":"Match"},{"$f":"IF(Table1[[#This Row],[Calc 2]]=\"#NA\",\"#NA\",IF(Table1[[#This Row],[Non HZ Employee]]=Table1[[#This Row],[Max calc]],\"Non HZ Employee\", Table1[[#This Row],[Calc 2]]))","v":"#NA"}]
[1378,null,1378,{"$nulls":5},{"$f":"SUM(Table1[[#This Row],[Column4]]+Table1[[#This Row],[Column3]]+Table1[[#This Row],[Column2]]+Table1[[#This Row],[Column1]])","v":0},{"$nulls":5},{"$f":"SUM(Table1[[#This Row],[PO Employee]:[Other Employee]])","v":0},"N",{"$error":"#N/A"},{"$f":"IF(O1395>39,Table1[[#This Row],[Calc 1]],IF(O1395>1,\"Not counted as an Employee\",\"#NA\"))","v":"#NA"},{"$f":"MAX(Table1[[#This Row],[PO Employee]],Table1[[#This Row],[Other HZ Employee]],Table1[[#This Row],[Non HZ Employee]],Table1[[#This Row],[Job Site Employee]],Table1[[#This Row],[Other Employee]])","v":0},{"$f":"IF(Table1[[#This Row],[Total Hours per Month]]=Table1[[#This Row],[Column12]],\"Match\",\"Error\")","v":"Match"},{"$f":"IF(Table1[[#This Row],[Calc 2]]=\"#NA\",\"#NA\",IF(Table1[[#This Row],[Non HZ Employee]]=Table1[[#This Row],[Max calc]],\"Non HZ Employee\", Table1[[#This Row],[Calc 2]]))","v":"#NA"}]
[1379,null,1379,{"$nulls":5},{"$f":"SUM(Table1[[#This Row],[Column4]]+Table1[[#This Row],[Column3]]+Table1[[#This Row],[Column2]]+Table1[[#This Row],[Column1]])","v":0},{"$nulls":5},{"$f":"SUM(Table1[[#This Row],[PO Employee]:[Other Employee]])","v":0},"N",{"$error":"#N/A"},{"$f":"IF(O1396>39,Table1[[#This Row],[Calc 1]],IF(O1396>1,\"Not counted as an Employee\",\"#NA\"))","v":"#NA"},{"$f":"MAX(Table1[[#This Row],[PO Employee]],Table1[[#This Row],[Other HZ Employee]],Table1[[#This Row],[Non HZ Employee]],Table1[[#This Row],[Job Site Employee]],Table1[[#This Row],[Other Employee]])","v":0},{"$f":"IF(Table1[[#This Row],[Total Hours per Month]]=Table1[[#This Row],[Column12]],\"Match\",\"Error\")","v":"Match"},{"$f":"IF(Table1[[#This Row],[Calc 2]]=\"#NA\",\"#NA\",IF(Table1[[#This Row],[Non HZ Employee]]=Table1[[#This Row],[Max calc]],\"Non HZ Employee\", Table1[[#This Row],[Calc 2]]))","v":"#NA"}]
[1380,null,1380,{"$nulls":5},{"$f":"SUM(Table1[[#This Row],[Column4]]+Table1[[#This Row],[Column3]]+Table1[[#This Row],[Column2]]+Table1[[#This Row],[Column1]])","v":0},{"$nulls":5},{"$f":"SUM(Table1[[#This Row],[PO Employee]:[Other Employee]])","v":0},"N",{"$error":"#N/A"},{"$f":"IF(O1397>39,Table1[[#This Row],[Calc 1]],IF(O1397>1,\"Not counted as an Employee\",\"#NA\"))","v":"#NA"},{"$f":"MAX(Table1[[#This Row],[PO Employee]],Table1[[#This Row],[Other HZ Employee]],Table1[[#This Row],[Non HZ Employee]],Table1[[#This Row],[Job Site Employee]],Table1[[#This Row],[Other Employee]])","v":0},{"$f":"IF(Table1[[#This Row],[Total Hours per Month]]=Table1[[#This Row],[Column12]],\"Match\",\"Error\")","v":"Match"},{"$f":"IF(Table1[[#This Row],[Calc 2]]=\"#NA\",\"#NA\",IF(Table1[[#This Row],[Non HZ Employee]]=Table1[[#This Row],[Max calc]],\"Non HZ Employee\", Table1[[#This Row],[Calc 2]]))","v":"#NA"}]
[1381,null,1381,{"$nulls":5},{"$f":"SUM(Table1[[#This Row],[Column4]]+Table1[[#This Row],[Column3]]+Table1[[#This Row],[Column2]]+Table1[[#This Row],[Column1]])","v":0},{"$nulls":5},{"$f":"SUM(Table1[[#This Row],[PO Employee]:[Other Employee]])","v":0},"N",{"$error":"#N/A"},{"$f":"IF(O1398>39,Table1[[#This Row],[Calc 1]],IF(O1398>1,\"Not counted as an Employee\",\"#NA\"))","v":"#NA"},{"$f":"MAX(Table1[[#This Row],[PO Employee]],Table1[[#This Row],[Other HZ Employee]],Table1[[#This Row],[Non HZ Employee]],Table1[[#This Row],[Job Site Employee]],Table1[[#This Row],[Other Employee]])","v":0},{"$f":"IF(Table1[[#This Row],[Total Hours per Month]]=Table1[[#This Row],[Column12]],\"Match\",\"Error\")","v":"Match"},{"$f":"IF(Table1[[#This Row],[Calc 2]]=\"#NA\",\"#NA\",IF(Table1[[#This Row],[Non HZ Employee]]=Table1[[#This Row],[Max calc]],\"Non HZ Employee\", Table1[[#This Row],[Calc 2]]))","v":"#NA"}]
[1382,null,1382,{"$nulls":5},{"$f":"SUM(Table1[[#This Row],[Column4]]+Table1[[#This Row],[Column3]]+Table1[[#This Row],[Column2]]+Table1[[#This Row],[Column1]])","v":0},{"$nulls":5},{"$f":"SUM(Table1[[#This Row],[PO Employee]:[Other Employee]])","v":0},"N",{"$error":"#N/A"},{"$f":"IF(O1399>39,Table1[[#This Row],[Calc 1]],IF(O1399>1,\"Not counted as an Employee\",\"#NA\"))","v":"#NA"},{"$f":"MAX(Table1[[#This Row],[PO Employee]],Table1[[#This Row],[Other HZ Employee]],Table1[[#This Row],[Non HZ Employee]],Table1[[#This Row],[Job Site Employee]],Table1[[#This Row],[Other Employee]])","v":0},{"$f":"IF(Table1[[#This Row],[Total Hours per Month]]=Table1[[#This Row],[Column12]],\"Match\",\"Error\")","v":"Match"},{"$f":"IF(Table1[[#This Row],[Calc 2]]=\"#NA\",\"#NA\",IF(Table1[[#This Row],[Non HZ Employee]]=Table1[[#This Row],[Max calc]],\"Non HZ Employee\", Table1[[#This Row],[Calc 2]]))","v":"#NA"}]
[1383,null,1383,{"$nulls":5},{"$f":"SUM(Table1[[#This Row],[Column4]]+Table1[[#This Row],[Column3]]+Table1[[#This Row],[Column2]]+Table1[[#This Row],[Column1]])","v":0},{"$nulls":5},{"$f":"SUM(Table1[[#This Row],[PO Employee]:[Other Employee]])","v":0},"N",{"$error":"#N/A"},{"$f":"IF(O1400>39,Table1[[#This Row],[Calc 1]],IF(O1400>1,\"Not counted as an Employee\",\"#NA\"))","v":"#NA"},{"$f":"MAX(Table1[[#This Row],[PO Employee]],Table1[[#This Row],[Other HZ Employee]],Table1[[#This Row],[Non HZ Employee]],Table1[[#This Row],[Job Site Employee]],Table1[[#This Row],[Other Employee]])","v":0},{"$f":"IF(Table1[[#This Row],[Total Hours per Month]]=Table1[[#This Row],[Column12]],\"Match\",\"Error\")","v":"Match"},{"$f":"IF(Table1[[#This Row],[Calc 2]]=\"#NA\",\"#NA\",IF(Table1[[#This Row],[Non HZ Employee]]=Table1[[#This Row],[Max calc]],\"Non HZ Employee\", Table1[[#This Row],[Calc 2]]))","v":"#NA"}]
[1384,null,1384,{"$nulls":5},{"$f":"SUM(Table1[[#This Row],[Column4]]+Table1[[#This Row],[Column3]]+Table1[[#This Row],[Column2]]+Table1[[#This Row],[Column1]])","v":0},{"$nulls":5},{"$f":"SUM(Table1[[#This Row],[PO Employee]:[Other Employee]])","v":0},"N",{"$error":"#N/A"},{"$f":"IF(O1401>39,Table1[[#This Row],[Calc 1]],IF(O1401>1,\"Not counted as an Employee\",\"#NA\"))","v":"#NA"},{"$f":"MAX(Table1[[#This Row],[PO Employee]],Table1[[#This Row],[Other HZ Employee]],Table1[[#This Row],[Non HZ Employee]],Table1[[#This Row],[Job Site Employee]],Table1[[#This Row],[Other Employee]])","v":0},{"$f":"IF(Table1[[#This Row],[Total Hours per Month]]=Table1[[#This Row],[Column12]],\"Match\",\"Error\")","v":"Match"},{"$f":"IF(Table1[[#This Row],[Calc 2]]=\"#NA\",\"#NA\",IF(Table1[[#This Row],[Non HZ Employee]]=Table1[[#This Row],[Max calc]],\"Non HZ Employee\", Table1[[#This Row],[Calc 2]]))","v":"#NA"}]
[1385,null,1385,{"$nulls":5},{"$f":"SUM(Table1[[#This Row],[Column4]]+Table1[[#This Row],[Column3]]+Table1[[#This Row],[Column2]]+Table1[[#This Row],[Column1]])","v":0},{"$nulls":5},{"$f":"SUM(Table1[[#This Row],[PO Employee]:[Other Employee]])","v":0},"N",{"$error":"#N/A"},{"$f":"IF(O1402>39,Table1[[#This Row],[Calc 1]],IF(O1402>1,\"Not counted as an Employee\",\"#NA\"))","v":"#NA"},{"$f":"MAX(Table1[[#This Row],[PO Employee]],Table1[[#This Row],[Other HZ Employee]],Table1[[#This Row],[Non HZ Employee]],Table1[[#This Row],[Job Site Employee]],Table1[[#This Row],[Other Employee]])","v":0},{"$f":"IF(Table1[[#This Row],[Total Hours per Month]]=Table1[[#This Row],[Column12]],\"Match\",\"Error\")","v":"Match"},{"$f":"IF(Table1[[#This Row],[Calc 2]]=\"#NA\",\"#NA\",IF(Table1[[#This Row],[Non HZ Employee]]=Table1[[#This Row],[Max calc]],\"Non HZ Employee\", Table1[[#This Row],[Calc 2]]))","v":"#NA"}]
[1386,null,1386,{"$nulls":5},{"$f":"SUM(Table1[[#This Row],[Column4]]+Table1[[#This Row],[Column3]]+Table1[[#This Row],[Column2]]+Table1[[#This Row],[Column1]])","v":0},{"$nulls":5},{"$f":"SUM(Table1[[#This Row],[PO Employee]:[Other Employee]])","v":0},"N",{"$error":"#N/A"},{"$f":"IF(O1403>39,Table1[[#This Row],[Calc 1]],IF(O1403>1,\"Not counted as an Employee\",\"#NA\"))","v":"#NA"},{"$f":"MAX(Table1[[#This Row],[PO Employee]],Table1[[#This Row],[Other HZ Employee]],Table1[[#This Row],[Non HZ Employee]],Table1[[#This Row],[Job Site Employee]],Table1[[#This Row],[Other Employee]])","v":0},{"$f":"IF(Table1[[#This Row],[Total Hours per Month]]=Table1[[#This Row],[Column12]],\"Match\",\"Error\")","v":"Match"},{"$f":"IF(Table1[[#This Row],[Calc 2]]=\"#NA\",\"#NA\",IF(Table1[[#This Row],[Non HZ Employee]]=Table1[[#This Row],[Max calc]],\"Non HZ Employee\", Table1[[#This Row],[Calc 2]]))","v":"#NA"}]
[1387,null,1387,{"$nulls":5},{"$f":"SUM(Table1[[#This Row],[Column4]]+Table1[[#This Row],[Column3]]+Table1[[#This Row],[Column2]]+Table1[[#This Row],[Column1]])","v":0},{"$nulls":5},{"$f":"SUM(Table1[[#This Row],[PO Employee]:[Other Employee]])","v":0},"N",{"$error":"#N/A"},{"$f":"IF(O1404>39,Table1[[#This Row],[Calc 1]],IF(O1404>1,\"Not counted as an Employee\",\"#NA\"))","v":"#NA"},{"$f":"MAX(Table1[[#This Row],[PO Employee]],Table1[[#This Row],[Other HZ Employee]],Table1[[#This Row],[Non HZ Employee]],Table1[[#This Row],[Job Site Employee]],Table1[[#This Row],[Other Employee]])","v":0},{"$f":"IF(Table1[[#This Row],[Total Hours per Month]]=Table1[[#This Row],[Column12]],\"Match\",\"Error\")","v":"Match"},{"$f":"IF(Table1[[#This Row],[Calc 2]]=\"#NA\",\"#NA\",IF(Table1[[#This Row],[Non HZ Employee]]=Table1[[#This Row],[Max calc]],\"Non HZ Employee\", Table1[[#This Row],[Calc 2]]))","v":"#NA"}]
[1388,null,1388,{"$nulls":5},{"$f":"SUM(Table1[[#This Row],[Column4]]+Table1[[#This Row],[Column3]]+Table1[[#This Row],[Column2]]+Table1[[#This Row],[Column1]])","v":0},{"$nulls":5},{"$f":"SUM(Table1[[#This Row],[PO Employee]:[Other Employee]])","v":0},"N",{"$error":"#N/A"},{"$f":"IF(O1405>39,Table1[[#This Row],[Calc 1]],IF(O1405>1,\"Not counted as an Employee\",\"#NA\"))","v":"#NA"},{"$f":"MAX(Table1[[#This Row],[PO Employee]],Table1[[#This Row],[Other HZ Employee]],Table1[[#This Row],[Non HZ Employee]],Table1[[#This Row],[Job Site Employee]],Table1[[#This Row],[Other Employee]])","v":0},{"$f":"IF(Table1[[#This Row],[Total Hours per Month]]=Table1[[#This Row],[Column12]],\"Match\",\"Error\")","v":"Match"},{"$f":"IF(Table1[[#This Row],[Calc 2]]=\"#NA\",\"#NA\",IF(Table1[[#This Row],[Non HZ Employee]]=Table1[[#This Row],[Max calc]],\"Non HZ Employee\", Table1[[#This Row],[Calc 2]]))","v":"#NA"}]
[1389,null,1389,{"$nulls":5},{"$f":"SUM(Table1[[#This Row],[Column4]]+Table1[[#This Row],[Column3]]+Table1[[#This Row],[Column2]]+Table1[[#This Row],[Column1]])","v":0},{"$nulls":5},{"$f":"SUM(Table1[[#This Row],[PO Employee]:[Other Employee]])","v":0},"N",{"$error":"#N/A"},{"$f":"IF(O1406>39,Table1[[#This Row],[Calc 1]],IF(O1406>1,\"Not counted as an Employee\",\"#NA\"))","v":"#NA"},{"$f":"MAX(Table1[[#This Row],[PO Employee]],Table1[[#This Row],[Other HZ Employee]],Table1[[#This Row],[Non HZ Employee]],Table1[[#This Row],[Job Site Employee]],Table1[[#This Row],[Other Employee]])","v":0},{"$f":"IF(Table1[[#This Row],[Total Hours per Month]]=Table1[[#This Row],[Column12]],\"Match\",\"Error\")","v":"Match"},{"$f":"IF(Table1[[#This Row],[Calc 2]]=\"#NA\",\"#NA\",IF(Table1[[#This Row],[Non HZ Employee]]=Table1[[#This Row],[Max calc]],\"Non HZ Employee\", Table1[[#This Row],[Calc 2]]))","v":"#NA"}]
[1390,null,1390,{"$nulls":5},{"$f":"SUM(Table1[[#This Row],[Column4]]+Table1[[#This Row],[Column3]]+Table1[[#This Row],[Column2]]+Table1[[#This Row],[Column1]])","v":0},{"$nulls":5},{"$f":"SUM(Table1[[#This Row],[PO Employee]:[Other Employee]])","v":0},"N",{"$error":"#N/A"},{"$f":"IF(O1407>39,Table1[[#This Row],[Calc 1]],IF(O1407>1,\"Not counted as an Employee\",\"#NA\"))","v":"#NA"},{"$f":"MAX(Table1[[#This Row],[PO Employee]],Table1[[#This Row],[Other HZ Employee]],Table1[[#This Row],[Non HZ Employee]],Table1[[#This Row],[Job Site Employee]],Table1[[#This Row],[Other Employee]])","v":0},{"$f":"IF(Table1[[#This Row],[Total Hours per Month]]=Table1[[#This Row],[Column12]],\"Match\",\"Error\")","v":"Match"},{"$f":"IF(Table1[[#This Row],[Calc 2]]=\"#NA\",\"#NA\",IF(Table1[[#This Row],[Non HZ Employee]]=Table1[[#This Row],[Max calc]],\"Non HZ Employee\", Table1[[#This Row],[Calc 2]]))","v":"#NA"}]
[1391,null,1391,{"$nulls":5},{"$f":"SUM(Table1[[#This Row],[Column4]]+Table1[[#This Row],[Column3]]+Table1[[#This Row],[Column2]]+Table1[[#This Row],[Column1]])","v":0},{"$nulls":5},{"$f":"SUM(Table1[[#This Row],[PO Employee]:[Other Employee]])","v":0},"N",{"$error":"#N/A"},{"$f":"IF(O1408>39,Table1[[#This Row],[Calc 1]],IF(O1408>1,\"Not counted as an Employee\",\"#NA\"))","v":"#NA"},{"$f":"MAX(Table1[[#This Row],[PO Employee]],Table1[[#This Row],[Other HZ Employee]],Table1[[#This Row],[Non HZ Employee]],Table1[[#This Row],[Job Site Employee]],Table1[[#This Row],[Other Employee]])","v":0},{"$f":"IF(Table1[[#This Row],[Total Hours per Month]]=Table1[[#This Row],[Column12]],\"Match\",\"Error\")","v":"Match"},{"$f":"IF(Table1[[#This Row],[Calc 2]]=\"#NA\",\"#NA\",IF(Table1[[#This Row],[Non HZ Employee]]=Table1[[#This Row],[Max calc]],\"Non HZ Employee\", Table1[[#This Row],[Calc 2]]))","v":"#NA"}]
[1392,null,1392,{"$nulls":5},{"$f":"SUM(Table1[[#This Row],[Column4]]+Table1[[#This Row],[Column3]]+Table1[[#This Row],[Column2]]+Table1[[#This Row],[Column1]])","v":0},{"$nulls":5},{"$f":"SUM(Table1[[#This Row],[PO Employee]:[Other Employee]])","v":0},"N",{"$error":"#N/A"},{"$f":"IF(O1409>39,Table1[[#This Row],[Calc 1]],IF(O1409>1,\"Not counted as an Employee\",\"#NA\"))","v":"#NA"},{"$f":"MAX(Table1[[#This Row],[PO Employee]],Table1[[#This Row],[Other HZ Employee]],Table1[[#This Row],[Non HZ Employee]],Table1[[#This Row],[Job Site Employee]],Table1[[#This Row],[Other Employee]])","v":0},{"$f":"IF(Table1[[#This Row],[Total Hours per Month]]=Table1[[#This Row],[Column12]],\"Match\",\"Error\")","v":"Match"},{"$f":"IF(Table1[[#This Row],[Calc 2]]=\"#NA\",\"#NA\",IF(Table1[[#This Row],[Non HZ Employee]]=Table1[[#This Row],[Max calc]],\"Non HZ Employee\", Table1[[#This Row],[Calc 2]]))","v":"#NA"}]
[1393,null,1393,{"$nulls":5},{"$f":"SUM(Table1[[#This Row],[Column4]]+Table1[[#This Row],[Column3]]+Table1[[#This Row],[Column2]]+Table1[[#This Row],[Column1]])","v":0},{"$nulls":5},{"$f":"SUM(Table1[[#This Row],[PO Employee]:[Other Employee]])","v":0},"N",{"$error":"#N/A"},{"$f":"IF(O1410>39,Table1[[#This Row],[Calc 1]],IF(O1410>1,\"Not counted as an Employee\",\"#NA\"))","v":"#NA"},{"$f":"MAX(Table1[[#This Row],[PO Employee]],Table1[[#This Row],[Other HZ Employee]],Table1[[#This Row],[Non HZ Employee]],Table1[[#This Row],[Job Site Employee]],Table1[[#This Row],[Other Employee]])","v":0},{"$f":"IF(Table1[[#This Row],[Total Hours per Month]]=Table1[[#This Row],[Column12]],\"Match\",\"Error\")","v":"Match"},{"$f":"IF(Table1[[#This Row],[Calc 2]]=\"#NA\",\"#NA\",IF(Table1[[#This Row],[Non HZ Employee]]=Table1[[#This Row],[Max calc]],\"Non HZ Employee\", Table1[[#This Row],[Calc 2]]))","v":"#NA"}]
[1394,null,1394,{"$nulls":5},{"$f":"SUM(Table1[[#This Row],[Column4]]+Table1[[#This Row],[Column3]]+Table1[[#This Row],[Column2]]+Table1[[#This Row],[Column1]])","v":0},{"$nulls":5},{"$f":"SUM(Table1[[#This Row],[PO Employee]:[Other Employee]])","v":0},"N",{"$error":"#N/A"},{"$f":"IF(O1411>39,Table1[[#This Row],[Calc 1]],IF(O1411>1,\"Not counted as an Employee\",\"#NA\"))","v":"#NA"},{"$f":"MAX(Table1[[#This Row],[PO Employee]],Table1[[#This Row],[Other HZ Employee]],Table1[[#This Row],[Non HZ Employee]],Table1[[#This Row],[Job Site Employee]],Table1[[#This Row],[Other Employee]])","v":0},{"$f":"IF(Table1[[#This Row],[Total Hours per Month]]=Table1[[#This Row],[Column12]],\"Match\",\"Error\")","v":"Match"},{"$f":"IF(Table1[[#This Row],[Calc 2]]=\"#NA\",\"#NA\",IF(Table1[[#This Row],[Non HZ Employee]]=Table1[[#This Row],[Max calc]],\"Non HZ Employee\", Table1[[#This Row],[Calc 2]]))","v":"#NA"}]
[1395,null,1395,{"$nulls":5},{"$f":"SUM(Table1[[#This Row],[Column4]]+Table1[[#This Row],[Column3]]+Table1[[#This Row],[Column2]]+Table1[[#This Row],[Column1]])","v":0},{"$nulls":5},{"$f":"SUM(Table1[[#This Row],[PO Employee]:[Other Employee]])","v":0},"N",{"$error":"#N/A"},{"$f":"IF(O1412>39,Table1[[#This Row],[Calc 1]],IF(O1412>1,\"Not counted as an Employee\",\"#NA\"))","v":"#NA"},{"$f":"MAX(Table1[[#This Row],[PO Employee]],Table1[[#This Row],[Other HZ Employee]],Table1[[#This Row],[Non HZ Employee]],Table1[[#This Row],[Job Site Employee]],Table1[[#This Row],[Other Employee]])","v":0},{"$f":"IF(Table1[[#This Row],[Total Hours per Month]]=Table1[[#This Row],[Column12]],\"Match\",\"Error\")","v":"Match"},{"$f":"IF(Table1[[#This Row],[Calc 2]]=\"#NA\",\"#NA\",IF(Table1[[#This Row],[Non HZ Employee]]=Table1[[#This Row],[Max calc]],\"Non HZ Employee\", Table1[[#This Row],[Calc 2]]))","v":"#NA"}]
[1396,null,1396,{"$nulls":5},{"$f":"SUM(Table1[[#This Row],[Column4]]+Table1[[#This Row],[Column3]]+Table1[[#This Row],[Column2]]+Table1[[#This Row],[Column1]])","v":0},{"$nulls":5},{"$f":"SUM(Table1[[#This Row],[PO Employee]:[Other Employee]])","v":0},"N",{"$error":"#N/A"},{"$f":"IF(O1413>39,Table1[[#This Row],[Calc 1]],IF(O1413>1,\"Not counted as an Employee\",\"#NA\"))","v":"#NA"},{"$f":"MAX(Table1[[#This Row],[PO Employee]],Table1[[#This Row],[Other HZ Employee]],Table1[[#This Row],[Non HZ Employee]],Table1[[#This Row],[Job Site Employee]],Table1[[#This Row],[Other Employee]])","v":0},{"$f":"IF(Table1[[#This Row],[Total Hours per Month]]=Table1[[#This Row],[Column12]],\"Match\",\"Error\")","v":"Match"},{"$f":"IF(Table1[[#This Row],[Calc 2]]=\"#NA\",\"#NA\",IF(Table1[[#This Row],[Non HZ Employee]]=Table1[[#This Row],[Max calc]],\"Non HZ Employee\", Table1[[#This Row],[Calc 2]]))","v":"#NA"}]
[1397,null,1397,{"$nulls":5},{"$f":"SUM(Table1[[#This Row],[Column4]]+Table1[[#This Row],[Column3]]+Table1[[#This Row],[Column2]]+Table1[[#This Row],[Column1]])","v":0},{"$nulls":5},{"$f":"SUM(Table1[[#This Row],[PO Employee]:[Other Employee]])","v":0},"N",{"$error":"#N/A"},{"$f":"IF(O1414>39,Table1[[#This Row],[Calc 1]],IF(O1414>1,\"Not counted as an Employee\",\"#NA\"))","v":"#NA"},{"$f":"MAX(Table1[[#This Row],[PO Employee]],Table1[[#This Row],[Other HZ Employee]],Table1[[#This Row],[Non HZ Employee]],Table1[[#This Row],[Job Site Employee]],Table1[[#This Row],[Other Employee]])","v":0},{"$f":"IF(Table1[[#This Row],[Total Hours per Month]]=Table1[[#This Row],[Column12]],\"Match\",\"Error\")","v":"Match"},{"$f":"IF(Table1[[#This Row],[Calc 2]]=\"#NA\",\"#NA\",IF(Table1[[#This Row],[Non HZ Employee]]=Table1[[#This Row],[Max calc]],\"Non HZ Employee\", Table1[[#This Row],[Calc 2]]))","v":"#NA"}]
[1398,null,1398,{"$nulls":5},{"$f":"SUM(Table1[[#This Row],[Column4]]+Table1[[#This Row],[Column3]]+Table1[[#This Row],[Column2]]+Table1[[#This Row],[Column1]])","v":0},{"$nulls":5},{"$f":"SUM(Table1[[#This Row],[PO Employee]:[Other Employee]])","v":0},"N",{"$error":"#N/A"},{"$f":"IF(O1415>39,Table1[[#This Row],[Calc 1]],IF(O1415>1,\"Not counted as an Employee\",\"#NA\"))","v":"#NA"},{"$f":"MAX(Table1[[#This Row],[PO Employee]],Table1[[#This Row],[Other HZ Employee]],Table1[[#This Row],[Non HZ Employee]],Table1[[#This Row],[Job Site Employee]],Table1[[#This Row],[Other Employee]])","v":0},{"$f":"IF(Table1[[#This Row],[Total Hours per Month]]=Table1[[#This Row],[Column12]],\"Match\",\"Error\")","v":"Match"},{"$f":"IF(Table1[[#This Row],[Calc 2]]=\"#NA\",\"#NA\",IF(Table1[[#This Row],[Non HZ Employee]]=Table1[[#This Row],[Max calc]],\"Non HZ Employee\", Table1[[#This Row],[Calc 2]]))","v":"#NA"}]
[1399,null,1399,{"$nulls":5},{"$f":"SUM(Table1[[#This Row],[Column4]]+Table1[[#This Row],[Column3]]+Table1[[#This Row],[Column2]]+Table1[[#This Row],[Column1]])","v":0},{"$nulls":5},{"$f":"SUM(Table1[[#This Row],[PO Employee]:[Other Employee]])","v":0},"N",{"$error":"#N/A"},{"$f":"IF(O1416>39,Table1[[#This Row],[Calc 1]],IF(O1416>1,\"Not counted as an Employee\",\"#NA\"))","v":"#NA"},{"$f":"MAX(Table1[[#This Row],[PO Employee]],Table1[[#This Row],[Other HZ Employee]],Table1[[#This Row],[Non HZ Employee]],Table1[[#This Row],[Job Site Employee]],Table1[[#This Row],[Other Employee]])","v":0},{"$f":"IF(Table1[[#This Row],[Total Hours per Month]]=Table1[[#This Row],[Column12]],\"Match\",\"Error\")","v":"Match"},{"$f":"IF(Table1[[#This Row],[Calc 2]]=\"#NA\",\"#NA\",IF(Table1[[#This Row],[Non HZ Employee]]=Table1[[#This Row],[Max calc]],\"Non HZ Employee\", Table1[[#This Row],[Calc 2]]))","v":"#NA"}]
[1400,null,1400,{"$nulls":5},{"$f":"SUM(Table1[[#This Row],[Column4]]+Table1[[#This Row],[Column3]]+Table1[[#This Row],[Column2]]+Table1[[#This Row],[Column1]])","v":0},{"$nulls":5},{"$f":"SUM(Table1[[#This Row],[PO Employee]:[Other Employee]])","v":0},"N",{"$error":"#N/A"},{"$f":"IF(O1417>39,Table1[[#This Row],[Calc 1]],IF(O1417>1,\"Not counted as an Employee\",\"#NA\"))","v":"#NA"},{"$f":"MAX(Table1[[#This Row],[PO Employee]],Table1[[#This Row],[Other HZ Employee]],Table1[[#This Row],[Non HZ Employee]],Table1[[#This Row],[Job Site Employee]],Table1[[#This Row],[Other Employee]])","v":0},{"$f":"IF(Table1[[#This Row],[Total Hours per Month]]=Table1[[#This Row],[Column12]],\"Match\",\"Error\")","v":"Match"},{"$f":"IF(Table1[[#This Row],[Calc 2]]=\"#NA\",\"#NA\",IF(Table1[[#This Row],[Non HZ Employee]]=Table1[[#This Row],[Max calc]],\"Non HZ Employee\", Table1[[#This Row],[Calc 2]]))","v":"#NA"}]
[1401,null,1401,{"$nulls":5},{"$f":"SUM(Table1[[#This Row],[Column4]]+Table1[[#This Row],[Column3]]+Table1[[#This Row],[Column2]]+Table1[[#This Row],[Column1]])","v":0},{"$nulls":5},{"$f":"SUM(Table1[[#This Row],[PO Employee]:[Other Employee]])","v":0},"N",{"$error":"#N/A"},{"$f":"IF(O1418>39,Table1[[#This Row],[Calc 1]],IF(O1418>1,\"Not counted as an Employee\",\"#NA\"))","v":"#NA"},{"$f":"MAX(Table1[[#This Row],[PO Employee]],Table1[[#This Row],[Other HZ Employee]],Table1[[#This Row],[Non HZ Employee]],Table1[[#This Row],[Job Site Employee]],Table1[[#This Row],[Other Employee]])","v":0},{"$f":"IF(Table1[[#This Row],[Total Hours per Month]]=Table1[[#This Row],[Column12]],\"Match\",\"Error\")","v":"Match"},{"$f":"IF(Table1[[#This Row],[Calc 2]]=\"#NA\",\"#NA\",IF(Table1[[#This Row],[Non HZ Employee]]=Table1[[#This Row],[Max calc]],\"Non HZ Employee\", Table1[[#This Row],[Calc 2]]))","v":"#NA"}]
[1402,null,1402,{"$nulls":5},{"$f":"SUM(Table1[[#This Row],[Column4]]+Table1[[#This Row],[Column3]]+Table1[[#This Row],[Column2]]+Table1[[#This Row],[Column1]])","v":0},{"$nulls":5},{"$f":"SUM(Table1[[#This Row],[PO Employee]:[Other Employee]])","v":0},"N",{"$error":"#N/A"},{"$f":"IF(O1419>39,Table1[[#This Row],[Calc 1]],IF(O1419>1,\"Not counted as an Employee\",\"#NA\"))","v":"#NA"},{"$f":"MAX(Table1[[#This Row],[PO Employee]],Table1[[#This Row],[Other HZ Employee]],Table1[[#This Row],[Non HZ Employee]],Table1[[#This Row],[Job Site Employee]],Table1[[#This Row],[Other Employee]])","v":0},{"$f":"IF(Table1[[#This Row],[Total Hours per Month]]=Table1[[#This Row],[Column12]],\"Match\",\"Error\")","v":"Match"},{"$f":"IF(Table1[[#This Row],[Calc 2]]=\"#NA\",\"#NA\",IF(Table1[[#This Row],[Non HZ Employee]]=Table1[[#This Row],[Max calc]],\"Non HZ Employee\", Table1[[#This Row],[Calc 2]]))","v":"#NA"}]
[1403,null,1403,{"$nulls":5},{"$f":"SUM(Table1[[#This Row],[Column4]]+Table1[[#This Row],[Column3]]+Table1[[#This Row],[Column2]]+Table1[[#This Row],[Column1]])","v":0},{"$nulls":5},{"$f":"SUM(Table1[[#This Row],[PO Employee]:[Other Employee]])","v":0},"N",{"$error":"#N/A"},{"$f":"IF(O1420>39,Table1[[#This Row],[Calc 1]],IF(O1420>1,\"Not counted as an Employee\",\"#NA\"))","v":"#NA"},{"$f":"MAX(Table1[[#This Row],[PO Employee]],Table1[[#This Row],[Other HZ Employee]],Table1[[#This Row],[Non HZ Employee]],Table1[[#This Row],[Job Site Employee]],Table1[[#This Row],[Other Employee]])","v":0},{"$f":"IF(Table1[[#This Row],[Total Hours per Month]]=Table1[[#This Row],[Column12]],\"Match\",\"Error\")","v":"Match"},{"$f":"IF(Table1[[#This Row],[Calc 2]]=\"#NA\",\"#NA\",IF(Table1[[#This Row],[Non HZ Employee]]=Table1[[#This Row],[Max calc]],\"Non HZ Employee\", Table1[[#This Row],[Calc 2]]))","v":"#NA"}]
[1404,null,1404,{"$nulls":5},{"$f":"SUM(Table1[[#This Row],[Column4]]+Table1[[#This Row],[Column3]]+Table1[[#This Row],[Column2]]+Table1[[#This Row],[Column1]])","v":0},{"$nulls":5},{"$f":"SUM(Table1[[#This Row],[PO Employee]:[Other Employee]])","v":0},"N",{"$error":"#N/A"},{"$f":"IF(O1421>39,Table1[[#This Row],[Calc 1]],IF(O1421>1,\"Not counted as an Employee\",\"#NA\"))","v":"#NA"},{"$f":"MAX(Table1[[#This Row],[PO Employee]],Table1[[#This Row],[Other HZ Employee]],Table1[[#This Row],[Non HZ Employee]],Table1[[#This Row],[Job Site Employee]],Table1[[#This Row],[Other Employee]])","v":0},{"$f":"IF(Table1[[#This Row],[Total Hours per Month]]=Table1[[#This Row],[Column12]],\"Match\",\"Error\")","v":"Match"},{"$f":"IF(Table1[[#This Row],[Calc 2]]=\"#NA\",\"#NA\",IF(Table1[[#This Row],[Non HZ Employee]]=Table1[[#This Row],[Max calc]],\"Non HZ Employee\", Table1[[#This Row],[Calc 2]]))","v":"#NA"}]
[1405,null,1405,{"$nulls":5},{"$f":"SUM(Table1[[#This Row],[Column4]]+Table1[[#This Row],[Column3]]+Table1[[#This Row],[Column2]]+Table1[[#This Row],[Column1]])","v":0},{"$nulls":5},{"$f":"SUM(Table1[[#This Row],[PO Employee]:[Other Employee]])","v":0},"N",{"$error":"#N/A"},{"$f":"IF(O1422>39,Table1[[#This Row],[Calc 1]],IF(O1422>1,\"Not counted as an Employee\",\"#NA\"))","v":"#NA"},{"$f":"MAX(Table1[[#This Row],[PO Employee]],Table1[[#This Row],[Other HZ Employee]],Table1[[#This Row],[Non HZ Employee]],Table1[[#This Row],[Job Site Employee]],Table1[[#This Row],[Other Employee]])","v":0},{"$f":"IF(Table1[[#This Row],[Total Hours per Month]]=Table1[[#This Row],[Column12]],\"Match\",\"Error\")","v":"Match"},{"$f":"IF(Table1[[#This Row],[Calc 2]]=\"#NA\",\"#NA\",IF(Table1[[#This Row],[Non HZ Employee]]=Table1[[#This Row],[Max calc]],\"Non HZ Employee\", Table1[[#This Row],[Calc 2]]))","v":"#NA"}]
[1406,null,1406,{"$nulls":5},{"$f":"SUM(Table1[[#This Row],[Column4]]+Table1[[#This Row],[Column3]]+Table1[[#This Row],[Column2]]+Table1[[#This Row],[Column1]])","v":0},{"$nulls":5},{"$f":"SUM(Table1[[#This Row],[PO Employee]:[Other Employee]])","v":0},"N",{"$error":"#N/A"},{"$f":"IF(O1423>39,Table1[[#This Row],[Calc 1]],IF(O1423>1,\"Not counted as an Employee\",\"#NA\"))","v":"#NA"},{"$f":"MAX(Table1[[#This Row],[PO Employee]],Table1[[#This Row],[Other HZ Employee]],Table1[[#This Row],[Non HZ Employee]],Table1[[#This Row],[Job Site Employee]],Table1[[#This Row],[Other Employee]])","v":0},{"$f":"IF(Table1[[#This Row],[Total Hours per Month]]=Table1[[#This Row],[Column12]],\"Match\",\"Error\")","v":"Match"},{"$f":"IF(Table1[[#This Row],[Calc 2]]=\"#NA\",\"#NA\",IF(Table1[[#This Row],[Non HZ Employee]]=Table1[[#This Row],[Max calc]],\"Non HZ Employee\", Table1[[#This Row],[Calc 2]]))","v":"#NA"}]
[1407,null,1407,{"$nulls":5},{"$f":"SUM(Table1[[#This Row],[Column4]]+Table1[[#This Row],[Column3]]+Table1[[#This Row],[Column2]]+Table1[[#This Row],[Column1]])","v":0},{"$nulls":5},{"$f":"SUM(Table1[[#This Row],[PO Employee]:[Other Employee]])","v":0},"N",{"$error":"#N/A"},{"$f":"IF(O1424>39,Table1[[#This Row],[Calc 1]],IF(O1424>1,\"Not counted as an Employee\",\"#NA\"))","v":"#NA"},{"$f":"MAX(Table1[[#This Row],[PO Employee]],Table1[[#This Row],[Other HZ Employee]],Table1[[#This Row],[Non HZ Employee]],Table1[[#This Row],[Job Site Employee]],Table1[[#This Row],[Other Employee]])","v":0},{"$f":"IF(Table1[[#This Row],[Total Hours per Month]]=Table1[[#This Row],[Column12]],\"Match\",\"Error\")","v":"Match"},{"$f":"IF(Table1[[#This Row],[Calc 2]]=\"#NA\",\"#NA\",IF(Table1[[#This Row],[Non HZ Employee]]=Table1[[#This Row],[Max calc]],\"Non HZ Employee\", Table1[[#This Row],[Calc 2]]))","v":"#NA"}]
[1408,null,1408,{"$nulls":5},{"$f":"SUM(Table1[[#This Row],[Column4]]+Table1[[#This Row],[Column3]]+Table1[[#This Row],[Column2]]+Table1[[#This Row],[Column1]])","v":0},{"$nulls":5},{"$f":"SUM(Table1[[#This Row],[PO Employee]:[Other Employee]])","v":0},"N",{"$error":"#N/A"},{"$f":"IF(O1425>39,Table1[[#This Row],[Calc 1]],IF(O1425>1,\"Not counted as an Employee\",\"#NA\"))","v":"#NA"},{"$f":"MAX(Table1[[#This Row],[PO Employee]],Table1[[#This Row],[Other HZ Employee]],Table1[[#This Row],[Non HZ Employee]],Table1[[#This Row],[Job Site Employee]],Table1[[#This Row],[Other Employee]])","v":0},{"$f":"IF(Table1[[#This Row],[Total Hours per Month]]=Table1[[#This Row],[Column12]],\"Match\",\"Error\")","v":"Match"},{"$f":"IF(Table1[[#This Row],[Calc 2]]=\"#NA\",\"#NA\",IF(Table1[[#This Row],[Non HZ Employee]]=Table1[[#This Row],[Max calc]],\"Non HZ Employee\", Table1[[#This Row],[Calc 2]]))","v":"#NA"}]
[1409,null,1409,{"$nulls":5},{"$f":"SUM(Table1[[#This Row],[Column4]]+Table1[[#This Row],[Column3]]+Table1[[#This Row],[Column2]]+Table1[[#This Row],[Column1]])","v":0},{"$nulls":5},{"$f":"SUM(Table1[[#This Row],[PO Employee]:[Other Employee]])","v":0},"N",{"$f":"INDEX($J$17:$N$17,MATCH(MAX(J1426:N1426),J1426:N1426,0))","v":{"$error":"#N/A"}},{"$f":"IF(O1426>39,Table1[[#This Row],[Calc 1]],IF(O1426>1,\"Not counted as an Employee\",\"#NA\"))","v":"#NA"},{"$f":"MAX(Table1[[#This Row],[PO Employee]],Table1[[#This Row],[Other HZ Employee]],Table1[[#This Row],[Non HZ Employee]],Table1[[#This Row],[Job Site Employee]],Table1[[#This Row],[Other Employee]])","v":0},{"$f":"IF(Table1[[#This Row],[Total Hours per Month]]=Table1[[#This Row],[Column12]],\"Match\",\"Error\")","v":"Match"},{"$f":"IF(Table1[[#This Row],[Calc 2]]=\"#NA\",\"#NA\",IF(Table1[[#This Row],[Non HZ Employee]]=Table1[[#This Row],[Max calc]],\"Non HZ Employee\", Table1[[#This Row],[Calc 2]]))","v":"#NA"}]
[1410,null,1410,{"$nulls":5},{"$f":"SUM(Table1[[#This Row],[Column4]]+Table1[[#This Row],[Column3]]+Table1[[#This Row],[Column2]]+Table1[[#This Row],[Column1]])","v":0},{"$nulls":5},{"$f":"SUM(Table1[[#This Row],[PO Employee]:[Other Employee]])","v":0},{"$f":"IF(O1427>=40,\"Y\",\"N\")","v":"N"},{"$error":"#N/A"},{"$f":"IF(O1427>39,Table1[[#This Row],[Calc 1]],IF(O1427>1,\"Not counted as an Employee\",\"#NA\"))","v":"#NA"},{"$f":"MAX(Table1[[#This Row],[PO Employee]],Table1[[#This Row],[Other HZ Employee]],Table1[[#This Row],[Non HZ Employee]],Table1[[#This Row],[Job Site Employee]],Table1[[#This Row],[Other Employee]])","v":0},{"$f":"IF(Table1[[#This Row],[Total Hours per Month]]=Table1[[#This Row],[Column12]],\"Match\",\"Error\")","v":"Match"},{"$f":"IF(Table1[[#This Row],[Calc 2]]=\"#NA\",\"#NA\",IF(Table1[[#This Row],[Non HZ Employee]]=Table1[[#This Row],[Max calc]],\"Non HZ Employee\", Table1[[#This Row],[Calc 2]]))","v":"#NA"}]
[1411,null,1411,{"$nulls":5},{"$f":"SUM(Table1[[#This Row],[Column4]]+Table1[[#This Row],[Column3]]+Table1[[#This Row],[Column2]]+Table1[[#This Row],[Column1]])","v":0},{"$nulls":5},{"$f":"SUM(Table1[[#This Row],[PO Employee]:[Other Employee]])","v":0},"N",{"$error":"#N/A"},{"$f":"IF(O1428>39,Table1[[#This Row],[Calc 1]],IF(O1428>1,\"Not counted as an Employee\",\"#NA\"))","v":"#NA"},{"$f":"MAX(Table1[[#This Row],[PO Employee]],Table1[[#This Row],[Other HZ Employee]],Table1[[#This Row],[Non HZ Employee]],Table1[[#This Row],[Job Site Employee]],Table1[[#This Row],[Other Employee]])","v":0},{"$f":"IF(Table1[[#This Row],[Total Hours per Month]]=Table1[[#This Row],[Column12]],\"Match\",\"Error\")","v":"Match"},{"$f":"IF(Table1[[#This Row],[Calc 2]]=\"#NA\",\"#NA\",IF(Table1[[#This Row],[Non HZ Employee]]=Table1[[#This Row],[Max calc]],\"Non HZ Employee\", Table1[[#This Row],[Calc 2]]))","v":"#NA"}]
[1412,null,1412,{"$nulls":5},{"$f":"SUM(Table1[[#This Row],[Column4]]+Table1[[#This Row],[Column3]]+Table1[[#This Row],[Column2]]+Table1[[#This Row],[Column1]])","v":0},{"$nulls":5},{"$f":"SUM(Table1[[#This Row],[PO Employee]:[Other Employee]])","v":0},"N",{"$error":"#N/A"},{"$f":"IF(O1429>39,Table1[[#This Row],[Calc 1]],IF(O1429>1,\"Not counted as an Employee\",\"#NA\"))","v":"#NA"},{"$f":"MAX(Table1[[#This Row],[PO Employee]],Table1[[#This Row],[Other HZ Employee]],Table1[[#This Row],[Non HZ Employee]],Table1[[#This Row],[Job Site Employee]],Table1[[#This Row],[Other Employee]])","v":0},{"$f":"IF(Table1[[#This Row],[Total Hours per Month]]=Table1[[#This Row],[Column12]],\"Match\",\"Error\")","v":"Match"},{"$f":"IF(Table1[[#This Row],[Calc 2]]=\"#NA\",\"#NA\",IF(Table1[[#This Row],[Non HZ Employee]]=Table1[[#This Row],[Max calc]],\"Non HZ Employee\", Table1[[#This Row],[Calc 2]]))","v":"#NA"}]
[1413,null,1413,{"$nulls":5},{"$f":"SUM(Table1[[#This Row],[Column4]]+Table1[[#This Row],[Column3]]+Table1[[#This Row],[Column2]]+Table1[[#This Row],[Column1]])","v":0},{"$nulls":5},{"$f":"SUM(Table1[[#This Row],[PO Employee]:[Other Employee]])","v":0},"N",{"$error":"#N/A"},{"$f":"IF(O1430>39,Table1[[#This Row],[Calc 1]],IF(O1430>1,\"Not counted as an Employee\",\"#NA\"))","v":"#NA"},{"$f":"MAX(Table1[[#This Row],[PO Employee]],Table1[[#This Row],[Other HZ Employee]],Table1[[#This Row],[Non HZ Employee]],Table1[[#This Row],[Job Site Employee]],Table1[[#This Row],[Other Employee]])","v":0},{"$f":"IF(Table1[[#This Row],[Total Hours per Month]]=Table1[[#This Row],[Column12]],\"Match\",\"Error\")","v":"Match"},{"$f":"IF(Table1[[#This Row],[Calc 2]]=\"#NA\",\"#NA\",IF(Table1[[#This Row],[Non HZ Employee]]=Table1[[#This Row],[Max calc]],\"Non HZ Employee\", Table1[[#This Row],[Calc 2]]))","v":"#NA"}]
[1414,null,1414,{"$nulls":5},{"$f":"SUM(Table1[[#This Row],[Column4]]+Table1[[#This Row],[Column3]]+Table1[[#This Row],[Column2]]+Table1[[#This Row],[Column1]])","v":0},{"$nulls":5},{"$f":"SUM(Table1[[#This Row],[PO Employee]:[Other Employee]])","v":0},"N",{"$error":"#N/A"},{"$f":"IF(O1431>39,Table1[[#This Row],[Calc 1]],IF(O1431>1,\"Not counted as an Employee\",\"#NA\"))","v":"#NA"},{"$f":"MAX(Table1[[#This Row],[PO Employee]],Table1[[#This Row],[Other HZ Employee]],Table1[[#This Row],[Non HZ Employee]],Table1[[#This Row],[Job Site Employee]],Table1[[#This Row],[Other Employee]])","v":0},{"$f":"IF(Table1[[#This Row],[Total Hours per Month]]=Table1[[#This Row],[Column12]],\"Match\",\"Error\")","v":"Match"},{"$f":"IF(Table1[[#This Row],[Calc 2]]=\"#NA\",\"#NA\",IF(Table1[[#This Row],[Non HZ Employee]]=Table1[[#This Row],[Max calc]],\"Non HZ Employee\", Table1[[#This Row],[Calc 2]]))","v":"#NA"}]
[1415,null,1415,{"$nulls":5},{"$f":"SUM(Table1[[#This Row],[Column4]]+Table1[[#This Row],[Column3]]+Table1[[#This Row],[Column2]]+Table1[[#This Row],[Column1]])","v":0},{"$nulls":5},{"$f":"SUM(Table1[[#This Row],[PO Employee]:[Other Employee]])","v":0},"N",{"$error":"#N/A"},{"$f":"IF(O1432>39,Table1[[#This Row],[Calc 1]],IF(O1432>1,\"Not counted as an Employee\",\"#NA\"))","v":"#NA"},{"$f":"MAX(Table1[[#This Row],[PO Employee]],Table1[[#This Row],[Other HZ Employee]],Table1[[#This Row],[Non HZ Employee]],Table1[[#This Row],[Job Site Employee]],Table1[[#This Row],[Other Employee]])","v":0},{"$f":"IF(Table1[[#This Row],[Total Hours per Month]]=Table1[[#This Row],[Column12]],\"Match\",\"Error\")","v":"Match"},{"$f":"IF(Table1[[#This Row],[Calc 2]]=\"#NA\",\"#NA\",IF(Table1[[#This Row],[Non HZ Employee]]=Table1[[#This Row],[Max calc]],\"Non HZ Employee\", Table1[[#This Row],[Calc 2]]))","v":"#NA"}]
[1416,null,1416,{"$nulls":5},{"$f":"SUM(Table1[[#This Row],[Column4]]+Table1[[#This Row],[Column3]]+Table1[[#This Row],[Column2]]+Table1[[#This Row],[Column1]])","v":0},{"$nulls":5},{"$f":"SUM(Table1[[#This Row],[PO Employee]:[Other Employee]])","v":0},"N",{"$error":"#N/A"},{"$f":"IF(O1433>39,Table1[[#This Row],[Calc 1]],IF(O1433>1,\"Not counted as an Employee\",\"#NA\"))","v":"#NA"},{"$f":"MAX(Table1[[#This Row],[PO Employee]],Table1[[#This Row],[Other HZ Employee]],Table1[[#This Row],[Non HZ Employee]],Table1[[#This Row],[Job Site Employee]],Table1[[#This Row],[Other Employee]])","v":0},{"$f":"IF(Table1[[#This Row],[Total Hours per Month]]=Table1[[#This Row],[Column12]],\"Match\",\"Error\")","v":"Match"},{"$f":"IF(Table1[[#This Row],[Calc 2]]=\"#NA\",\"#NA\",IF(Table1[[#This Row],[Non HZ Employee]]=Table1[[#This Row],[Max calc]],\"Non HZ Employee\", Table1[[#This Row],[Calc 2]]))","v":"#NA"}]
[1417,null,1417,{"$nulls":5},{"$f":"SUM(Table1[[#This Row],[Column4]]+Table1[[#This Row],[Column3]]+Table1[[#This Row],[Column2]]+Table1[[#This Row],[Column1]])","v":0},{"$nulls":5},{"$f":"SUM(Table1[[#This Row],[PO Employee]:[Other Employee]])","v":0},"N",{"$error":"#N/A"},{"$f":"IF(O1434>39,Table1[[#This Row],[Calc 1]],IF(O1434>1,\"Not counted as an Employee\",\"#NA\"))","v":"#NA"},{"$f":"MAX(Table1[[#This Row],[PO Employee]],Table1[[#This Row],[Other HZ Employee]],Table1[[#This Row],[Non HZ Employee]],Table1[[#This Row],[Job Site Employee]],Table1[[#This Row],[Other Employee]])","v":0},{"$f":"IF(Table1[[#This Row],[Total Hours per Month]]=Table1[[#This Row],[Column12]],\"Match\",\"Error\")","v":"Match"},{"$f":"IF(Table1[[#This Row],[Calc 2]]=\"#NA\",\"#NA\",IF(Table1[[#This Row],[Non HZ Employee]]=Table1[[#This Row],[Max calc]],\"Non HZ Employee\", Table1[[#This Row],[Calc 2]]))","v":"#NA"}]
[1418,null,1418,{"$nulls":5},{"$f":"SUM(Table1[[#This Row],[Column4]]+Table1[[#This Row],[Column3]]+Table1[[#This Row],[Column2]]+Table1[[#This Row],[Column1]])","v":0},{"$nulls":5},{"$f":"SUM(Table1[[#This Row],[PO Employee]:[Other Employee]])","v":0},"N",{"$error":"#N/A"},{"$f":"IF(O1435>39,Table1[[#This Row],[Calc 1]],IF(O1435>1,\"Not counted as an Employee\",\"#NA\"))","v":"#NA"},{"$f":"MAX(Table1[[#This Row],[PO Employee]],Table1[[#This Row],[Other HZ Employee]],Table1[[#This Row],[Non HZ Employee]],Table1[[#This Row],[Job Site Employee]],Table1[[#This Row],[Other Employee]])","v":0},{"$f":"IF(Table1[[#This Row],[Total Hours per Month]]=Table1[[#This Row],[Column12]],\"Match\",\"Error\")","v":"Match"},{"$f":"IF(Table1[[#This Row],[Calc 2]]=\"#NA\",\"#NA\",IF(Table1[[#This Row],[Non HZ Employee]]=Table1[[#This Row],[Max calc]],\"Non HZ Employee\", Table1[[#This Row],[Calc 2]]))","v":"#NA"}]
[1419,null,1419,{"$nulls":5},{"$f":"SUM(Table1[[#This Row],[Column4]]+Table1[[#This Row],[Column3]]+Table1[[#This Row],[Column2]]+Table1[[#This Row],[Column1]])","v":0},{"$nulls":5},{"$f":"SUM(Table1[[#This Row],[PO Employee]:[Other Employee]])","v":0},"N",{"$error":"#N/A"},{"$f":"IF(O1436>39,Table1[[#This Row],[Calc 1]],IF(O1436>1,\"Not counted as an Employee\",\"#NA\"))","v":"#NA"},{"$f":"MAX(Table1[[#This Row],[PO Employee]],Table1[[#This Row],[Other HZ Employee]],Table1[[#This Row],[Non HZ Employee]],Table1[[#This Row],[Job Site Employee]],Table1[[#This Row],[Other Employee]])","v":0},{"$f":"IF(Table1[[#This Row],[Total Hours per Month]]=Table1[[#This Row],[Column12]],\"Match\",\"Error\")","v":"Match"},{"$f":"IF(Table1[[#This Row],[Calc 2]]=\"#NA\",\"#NA\",IF(Table1[[#This Row],[Non HZ Employee]]=Table1[[#This Row],[Max calc]],\"Non HZ Employee\", Table1[[#This Row],[Calc 2]]))","v":"#NA"}]
[1420,null,1420,{"$nulls":5},{"$f":"SUM(Table1[[#This Row],[Column4]]+Table1[[#This Row],[Column3]]+Table1[[#This Row],[Column2]]+Table1[[#This Row],[Column1]])","v":0},{"$nulls":5},{"$f":"SUM(Table1[[#This Row],[PO Employee]:[Other Employee]])","v":0},"N",{"$error":"#N/A"},{"$f":"IF(O1437>39,Table1[[#This Row],[Calc 1]],IF(O1437>1,\"Not counted as an Employee\",\"#NA\"))","v":"#NA"},{"$f":"MAX(Table1[[#This Row],[PO Employee]],Table1[[#This Row],[Other HZ Employee]],Table1[[#This Row],[Non HZ Employee]],Table1[[#This Row],[Job Site Employee]],Table1[[#This Row],[Other Employee]])","v":0},{"$f":"IF(Table1[[#This Row],[Total Hours per Month]]=Table1[[#This Row],[Column12]],\"Match\",\"Error\")","v":"Match"},{"$f":"IF(Table1[[#This Row],[Calc 2]]=\"#NA\",\"#NA\",IF(Table1[[#This Row],[Non HZ Employee]]=Table1[[#This Row],[Max calc]],\"Non HZ Employee\", Table1[[#This Row],[Calc 2]]))","v":"#NA"}]
[1421,null,1421,{"$nulls":5},{"$f":"SUM(Table1[[#This Row],[Column4]]+Table1[[#This Row],[Column3]]+Table1[[#This Row],[Column2]]+Table1[[#This Row],[Column1]])","v":0},{"$nulls":5},{"$f":"SUM(Table1[[#This Row],[PO Employee]:[Other Employee]])","v":0},"N",{"$error":"#N/A"},{"$f":"IF(O1438>39,Table1[[#This Row],[Calc 1]],IF(O1438>1,\"Not counted as an Employee\",\"#NA\"))","v":"#NA"},{"$f":"MAX(Table1[[#This Row],[PO Employee]],Table1[[#This Row],[Other HZ Employee]],Table1[[#This Row],[Non HZ Employee]],Table1[[#This Row],[Job Site Employee]],Table1[[#This Row],[Other Employee]])","v":0},{"$f":"IF(Table1[[#This Row],[Total Hours per Month]]=Table1[[#This Row],[Column12]],\"Match\",\"Error\")","v":"Match"},{"$f":"IF(Table1[[#This Row],[Calc 2]]=\"#NA\",\"#NA\",IF(Table1[[#This Row],[Non HZ Employee]]=Table1[[#This Row],[Max calc]],\"Non HZ Employee\", Table1[[#This Row],[Calc 2]]))","v":"#NA"}]
[1422,null,1422,{"$nulls":5},{"$f":"SUM(Table1[[#This Row],[Column4]]+Table1[[#This Row],[Column3]]+Table1[[#This Row],[Column2]]+Table1[[#This Row],[Column1]])","v":0},{"$nulls":5},{"$f":"SUM(Table1[[#This Row],[PO Employee]:[Other Employee]])","v":0},"N",{"$error":"#N/A"},{"$f":"IF(O1439>39,Table1[[#This Row],[Calc 1]],IF(O1439>1,\"Not counted as an Employee\",\"#NA\"))","v":"#NA"},{"$f":"MAX(Table1[[#This Row],[PO Employee]],Table1[[#This Row],[Other HZ Employee]],Table1[[#This Row],[Non HZ Employee]],Table1[[#This Row],[Job Site Employee]],Table1[[#This Row],[Other Employee]])","v":0},{"$f":"IF(Table1[[#This Row],[Total Hours per Month]]=Table1[[#This Row],[Column12]],\"Match\",\"Error\")","v":"Match"},{"$f":"IF(Table1[[#This Row],[Calc 2]]=\"#NA\",\"#NA\",IF(Table1[[#This Row],[Non HZ Employee]]=Table1[[#This Row],[Max calc]],\"Non HZ Employee\", Table1[[#This Row],[Calc 2]]))","v":"#NA"}]
[1423,null,1423,{"$nulls":5},{"$f":"SUM(Table1[[#This Row],[Column4]]+Table1[[#This Row],[Column3]]+Table1[[#This Row],[Column2]]+Table1[[#This Row],[Column1]])","v":0},{"$nulls":5},{"$f":"SUM(Table1[[#This Row],[PO Employee]:[Other Employee]])","v":0},"N",{"$error":"#N/A"},{"$f":"IF(O1440>39,Table1[[#This Row],[Calc 1]],IF(O1440>1,\"Not counted as an Employee\",\"#NA\"))","v":"#NA"},{"$f":"MAX(Table1[[#This Row],[PO Employee]],Table1[[#This Row],[Other HZ Employee]],Table1[[#This Row],[Non HZ Employee]],Table1[[#This Row],[Job Site Employee]],Table1[[#This Row],[Other Employee]])","v":0},{"$f":"IF(Table1[[#This Row],[Total Hours per Month]]=Table1[[#This Row],[Column12]],\"Match\",\"Error\")","v":"Match"},{"$f":"IF(Table1[[#This Row],[Calc 2]]=\"#NA\",\"#NA\",IF(Table1[[#This Row],[Non HZ Employee]]=Table1[[#This Row],[Max calc]],\"Non HZ Employee\", Table1[[#This Row],[Calc 2]]))","v":"#NA"}]
[1424,null,1424,{"$nulls":5},{"$f":"SUM(Table1[[#This Row],[Column4]]+Table1[[#This Row],[Column3]]+Table1[[#This Row],[Column2]]+Table1[[#This Row],[Column1]])","v":0},{"$nulls":5},{"$f":"SUM(Table1[[#This Row],[PO Employee]:[Other Employee]])","v":0},"N",{"$error":"#N/A"},{"$f":"IF(O1441>39,Table1[[#This Row],[Calc 1]],IF(O1441>1,\"Not counted as an Employee\",\"#NA\"))","v":"#NA"},{"$f":"MAX(Table1[[#This Row],[PO Employee]],Table1[[#This Row],[Other HZ Employee]],Table1[[#This Row],[Non HZ Employee]],Table1[[#This Row],[Job Site Employee]],Table1[[#This Row],[Other Employee]])","v":0},{"$f":"IF(Table1[[#This Row],[Total Hours per Month]]=Table1[[#This Row],[Column12]],\"Match\",\"Error\")","v":"Match"},{"$f":"IF(Table1[[#This Row],[Calc 2]]=\"#NA\",\"#NA\",IF(Table1[[#This Row],[Non HZ Employee]]=Table1[[#This Row],[Max calc]],\"Non HZ Employee\", Table1[[#This Row],[Calc 2]]))","v":"#NA"}]
[1425,null,1425,{"$nulls":5},{"$f":"SUM(Table1[[#This Row],[Column4]]+Table1[[#This Row],[Column3]]+Table1[[#This Row],[Column2]]+Table1[[#This Row],[Column1]])","v":0},{"$nulls":5},{"$f":"SUM(Table1[[#This Row],[PO Employee]:[Other Employee]])","v":0},"N",{"$error":"#N/A"},{"$f":"IF(O1442>39,Table1[[#This Row],[Calc 1]],IF(O1442>1,\"Not counted as an Employee\",\"#NA\"))","v":"#NA"},{"$f":"MAX(Table1[[#This Row],[PO Employee]],Table1[[#This Row],[Other HZ Employee]],Table1[[#This Row],[Non HZ Employee]],Table1[[#This Row],[Job Site Employee]],Table1[[#This Row],[Other Employee]])","v":0},{"$f":"IF(Table1[[#This Row],[Total Hours per Month]]=Table1[[#This Row],[Column12]],\"Match\",\"Error\")","v":"Match"},{"$f":"IF(Table1[[#This Row],[Calc 2]]=\"#NA\",\"#NA\",IF(Table1[[#This Row],[Non HZ Employee]]=Table1[[#This Row],[Max calc]],\"Non HZ Employee\", Table1[[#This Row],[Calc 2]]))","v":"#NA"}]
[1426,null,1426,{"$nulls":5},{"$f":"SUM(Table1[[#This Row],[Column4]]+Table1[[#This Row],[Column3]]+Table1[[#This Row],[Column2]]+Table1[[#This Row],[Column1]])","v":0},{"$nulls":5},{"$f":"SUM(Table1[[#This Row],[PO Employee]:[Other Employee]])","v":0},"N",{"$error":"#N/A"},{"$f":"IF(O1443>39,Table1[[#This Row],[Calc 1]],IF(O1443>1,\"Not counted as an Employee\",\"#NA\"))","v":"#NA"},{"$f":"MAX(Table1[[#This Row],[PO Employee]],Table1[[#This Row],[Other HZ Employee]],Table1[[#This Row],[Non HZ Employee]],Table1[[#This Row],[Job Site Employee]],Table1[[#This Row],[Other Employee]])","v":0},{"$f":"IF(Table1[[#This Row],[Total Hours per Month]]=Table1[[#This Row],[Column12]],\"Match\",\"Error\")","v":"Match"},{"$f":"IF(Table1[[#This Row],[Calc 2]]=\"#NA\",\"#NA\",IF(Table1[[#This Row],[Non HZ Employee]]=Table1[[#This Row],[Max calc]],\"Non HZ Employee\", Table1[[#This Row],[Calc 2]]))","v":"#NA"}]
[1427,null,1427,{"$nulls":5},{"$f":"SUM(Table1[[#This Row],[Column4]]+Table1[[#This Row],[Column3]]+Table1[[#This Row],[Column2]]+Table1[[#This Row],[Column1]])","v":0},{"$nulls":5},{"$f":"SUM(Table1[[#This Row],[PO Employee]:[Other Employee]])","v":0},"N",{"$error":"#N/A"},{"$f":"IF(O1444>39,Table1[[#This Row],[Calc 1]],IF(O1444>1,\"Not counted as an Employee\",\"#NA\"))","v":"#NA"},{"$f":"MAX(Table1[[#This Row],[PO Employee]],Table1[[#This Row],[Other HZ Employee]],Table1[[#This Row],[Non HZ Employee]],Table1[[#This Row],[Job Site Employee]],Table1[[#This Row],[Other Employee]])","v":0},{"$f":"IF(Table1[[#This Row],[Total Hours per Month]]=Table1[[#This Row],[Column12]],\"Match\",\"Error\")","v":"Match"},{"$f":"IF(Table1[[#This Row],[Calc 2]]=\"#NA\",\"#NA\",IF(Table1[[#This Row],[Non HZ Employee]]=Table1[[#This Row],[Max calc]],\"Non HZ Employee\", Table1[[#This Row],[Calc 2]]))","v":"#NA"}]
[1428,null,1428,{"$nulls":5},{"$f":"SUM(Table1[[#This Row],[Column4]]+Table1[[#This Row],[Column3]]+Table1[[#This Row],[Column2]]+Table1[[#This Row],[Column1]])","v":0},{"$nulls":5},{"$f":"SUM(Table1[[#This Row],[PO Employee]:[Other Employee]])","v":0},"N",{"$error":"#N/A"},{"$f":"IF(O1445>39,Table1[[#This Row],[Calc 1]],IF(O1445>1,\"Not counted as an Employee\",\"#NA\"))","v":"#NA"},{"$f":"MAX(Table1[[#This Row],[PO Employee]],Table1[[#This Row],[Other HZ Employee]],Table1[[#This Row],[Non HZ Employee]],Table1[[#This Row],[Job Site Employee]],Table1[[#This Row],[Other Employee]])","v":0},{"$f":"IF(Table1[[#This Row],[Total Hours per Month]]=Table1[[#This Row],[Column12]],\"Match\",\"Error\")","v":"Match"},{"$f":"IF(Table1[[#This Row],[Calc 2]]=\"#NA\",\"#NA\",IF(Table1[[#This Row],[Non HZ Employee]]=Table1[[#This Row],[Max calc]],\"Non HZ Employee\", Table1[[#This Row],[Calc 2]]))","v":"#NA"}]
[1429,null,1429,{"$nulls":5},{"$f":"SUM(Table1[[#This Row],[Column4]]+Table1[[#This Row],[Column3]]+Table1[[#This Row],[Column2]]+Table1[[#This Row],[Column1]])","v":0},{"$nulls":5},{"$f":"SUM(Table1[[#This Row],[PO Employee]:[Other Employee]])","v":0},"N",{"$error":"#N/A"},{"$f":"IF(O1446>39,Table1[[#This Row],[Calc 1]],IF(O1446>1,\"Not counted as an Employee\",\"#NA\"))","v":"#NA"},{"$f":"MAX(Table1[[#This Row],[PO Employee]],Table1[[#This Row],[Other HZ Employee]],Table1[[#This Row],[Non HZ Employee]],Table1[[#This Row],[Job Site Employee]],Table1[[#This Row],[Other Employee]])","v":0},{"$f":"IF(Table1[[#This Row],[Total Hours per Month]]=Table1[[#This Row],[Column12]],\"Match\",\"Error\")","v":"Match"},{"$f":"IF(Table1[[#This Row],[Calc 2]]=\"#NA\",\"#NA\",IF(Table1[[#This Row],[Non HZ Employee]]=Table1[[#This Row],[Max calc]],\"Non HZ Employee\", Table1[[#This Row],[Calc 2]]))","v":"#NA"}]
[1430,null,1430,{"$nulls":5},{"$f":"SUM(Table1[[#This Row],[Column4]]+Table1[[#This Row],[Column3]]+Table1[[#This Row],[Column2]]+Table1[[#This Row],[Column1]])","v":0},{"$nulls":5},{"$f":"SUM(Table1[[#This Row],[PO Employee]:[Other Employee]])","v":0},"N",{"$error":"#N/A"},{"$f":"IF(O1447>39,Table1[[#This Row],[Calc 1]],IF(O1447>1,\"Not counted as an Employee\",\"#NA\"))","v":"#NA"},{"$f":"MAX(Table1[[#This Row],[PO Employee]],Table1[[#This Row],[Other HZ Employee]],Table1[[#This Row],[Non HZ Employee]],Table1[[#This Row],[Job Site Employee]],Table1[[#This Row],[Other Employee]])","v":0},{"$f":"IF(Table1[[#This Row],[Total Hours per Month]]=Table1[[#This Row],[Column12]],\"Match\",\"Error\")","v":"Match"},{"$f":"IF(Table1[[#This Row],[Calc 2]]=\"#NA\",\"#NA\",IF(Table1[[#This Row],[Non HZ Employee]]=Table1[[#This Row],[Max calc]],\"Non HZ Employee\", Table1[[#This Row],[Calc 2]]))","v":"#NA"}]
[1431,null,1431,{"$nulls":5},{"$f":"SUM(Table1[[#This Row],[Column4]]+Table1[[#This Row],[Column3]]+Table1[[#This Row],[Column2]]+Table1[[#This Row],[Column1]])","v":0},{"$nulls":5},{"$f":"SUM(Table1[[#This Row],[PO Employee]:[Other Employee]])","v":0},"N",{"$error":"#N/A"},{"$f":"IF(O1448>39,Table1[[#This Row],[Calc 1]],IF(O1448>1,\"Not counted as an Employee\",\"#NA\"))","v":"#NA"},{"$f":"MAX(Table1[[#This Row],[PO Employee]],Table1[[#This Row],[Other HZ Employee]],Table1[[#This Row],[Non HZ Employee]],Table1[[#This Row],[Job Site Employee]],Table1[[#This Row],[Other Employee]])","v":0},{"$f":"IF(Table1[[#This Row],[Total Hours per Month]]=Table1[[#This Row],[Column12]],\"Match\",\"Error\")","v":"Match"},{"$f":"IF(Table1[[#This Row],[Calc 2]]=\"#NA\",\"#NA\",IF(Table1[[#This Row],[Non HZ Employee]]=Table1[[#This Row],[Max calc]],\"Non HZ Employee\", Table1[[#This Row],[Calc 2]]))","v":"#NA"}]
[1432,null,1432,{"$nulls":5},{"$f":"SUM(Table1[[#This Row],[Column4]]+Table1[[#This Row],[Column3]]+Table1[[#This Row],[Column2]]+Table1[[#This Row],[Column1]])","v":0},{"$nulls":5},{"$f":"SUM(Table1[[#This Row],[PO Employee]:[Other Employee]])","v":0},"N",{"$error":"#N/A"},{"$f":"IF(O1449>39,Table1[[#This Row],[Calc 1]],IF(O1449>1,\"Not counted as an Employee\",\"#NA\"))","v":"#NA"},{"$f":"MAX(Table1[[#This Row],[PO Employee]],Table1[[#This Row],[Other HZ Employee]],Table1[[#This Row],[Non HZ Employee]],Table1[[#This Row],[Job Site Employee]],Table1[[#This Row],[Other Employee]])","v":0},{"$f":"IF(Table1[[#This Row],[Total Hours per Month]]=Table1[[#This Row],[Column12]],\"Match\",\"Error\")","v":"Match"},{"$f":"IF(Table1[[#This Row],[Calc 2]]=\"#NA\",\"#NA\",IF(Table1[[#This Row],[Non HZ Employee]]=Table1[[#This Row],[Max calc]],\"Non HZ Employee\", Table1[[#This Row],[Calc 2]]))","v":"#NA"}]
[1433,null,1433,{"$nulls":5},{"$f":"SUM(Table1[[#This Row],[Column4]]+Table1[[#This Row],[Column3]]+Table1[[#This Row],[Column2]]+Table1[[#This Row],[Column1]])","v":0},{"$nulls":5},{"$f":"SUM(Table1[[#This Row],[PO Employee]:[Other Employee]])","v":0},"N",{"$error":"#N/A"},{"$f":"IF(O1450>39,Table1[[#This Row],[Calc 1]],IF(O1450>1,\"Not counted as an Employee\",\"#NA\"))","v":"#NA"},{"$f":"MAX(Table1[[#This Row],[PO Employee]],Table1[[#This Row],[Other HZ Employee]],Table1[[#This Row],[Non HZ Employee]],Table1[[#This Row],[Job Site Employee]],Table1[[#This Row],[Other Employee]])","v":0},{"$f":"IF(Table1[[#This Row],[Total Hours per Month]]=Table1[[#This Row],[Column12]],\"Match\",\"Error\")","v":"Match"},{"$f":"IF(Table1[[#This Row],[Calc 2]]=\"#NA\",\"#NA\",IF(Table1[[#This Row],[Non HZ Employee]]=Table1[[#This Row],[Max calc]],\"Non HZ Employee\", Table1[[#This Row],[Calc 2]]))","v":"#NA"}]
[1434,null,1434,{"$nulls":5},{"$f":"SUM(Table1[[#This Row],[Column4]]+Table1[[#This Row],[Column3]]+Table1[[#This Row],[Column2]]+Table1[[#This Row],[Column1]])","v":0},{"$nulls":5},{"$f":"SUM(Table1[[#This Row],[PO Employee]:[Other Employee]])","v":0},"N",{"$error":"#N/A"},{"$f":"IF(O1451>39,Table1[[#This Row],[Calc 1]],IF(O1451>1,\"Not counted as an Employee\",\"#NA\"))","v":"#NA"},{"$f":"MAX(Table1[[#This Row],[PO Employee]],Table1[[#This Row],[Other HZ Employee]],Table1[[#This Row],[Non HZ Employee]],Table1[[#This Row],[Job Site Employee]],Table1[[#This Row],[Other Employee]])","v":0},{"$f":"IF(Table1[[#This Row],[Total Hours per Month]]=Table1[[#This Row],[Column12]],\"Match\",\"Error\")","v":"Match"},{"$f":"IF(Table1[[#This Row],[Calc 2]]=\"#NA\",\"#NA\",IF(Table1[[#This Row],[Non HZ Employee]]=Table1[[#This Row],[Max calc]],\"Non HZ Employee\", Table1[[#This Row],[Calc 2]]))","v":"#NA"}]
[1435,null,1435,{"$nulls":5},{"$f":"SUM(Table1[[#This Row],[Column4]]+Table1[[#This Row],[Column3]]+Table1[[#This Row],[Column2]]+Table1[[#This Row],[Column1]])","v":0},{"$nulls":5},{"$f":"SUM(Table1[[#This Row],[PO Employee]:[Other Employee]])","v":0},"N",{"$error":"#N/A"},{"$f":"IF(O1452>39,Table1[[#This Row],[Calc 1]],IF(O1452>1,\"Not counted as an Employee\",\"#NA\"))","v":"#NA"},{"$f":"MAX(Table1[[#This Row],[PO Employee]],Table1[[#This Row],[Other HZ Employee]],Table1[[#This Row],[Non HZ Employee]],Table1[[#This Row],[Job Site Employee]],Table1[[#This Row],[Other Employee]])","v":0},{"$f":"IF(Table1[[#This Row],[Total Hours per Month]]=Table1[[#This Row],[Column12]],\"Match\",\"Error\")","v":"Match"},{"$f":"IF(Table1[[#This Row],[Calc 2]]=\"#NA\",\"#NA\",IF(Table1[[#This Row],[Non HZ Employee]]=Table1[[#This Row],[Max calc]],\"Non HZ Employee\", Table1[[#This Row],[Calc 2]]))","v":"#NA"}]
[1436,null,1436,{"$nulls":5},{"$f":"SUM(Table1[[#This Row],[Column4]]+Table1[[#This Row],[Column3]]+Table1[[#This Row],[Column2]]+Table1[[#This Row],[Column1]])","v":0},{"$nulls":5},{"$f":"SUM(Table1[[#This Row],[PO Employee]:[Other Employee]])","v":0},"N",{"$error":"#N/A"},{"$f":"IF(O1453>39,Table1[[#This Row],[Calc 1]],IF(O1453>1,\"Not counted as an Employee\",\"#NA\"))","v":"#NA"},{"$f":"MAX(Table1[[#This Row],[PO Employee]],Table1[[#This Row],[Other HZ Employee]],Table1[[#This Row],[Non HZ Employee]],Table1[[#This Row],[Job Site Employee]],Table1[[#This Row],[Other Employee]])","v":0},{"$f":"IF(Table1[[#This Row],[Total Hours per Month]]=Table1[[#This Row],[Column12]],\"Match\",\"Error\")","v":"Match"},{"$f":"IF(Table1[[#This Row],[Calc 2]]=\"#NA\",\"#NA\",IF(Table1[[#This Row],[Non HZ Employee]]=Table1[[#This Row],[Max calc]],\"Non HZ Employee\", Table1[[#This Row],[Calc 2]]))","v":"#NA"}]
[1437,null,1437,{"$nulls":5},{"$f":"SUM(Table1[[#This Row],[Column4]]+Table1[[#This Row],[Column3]]+Table1[[#This Row],[Column2]]+Table1[[#This Row],[Column1]])","v":0},{"$nulls":5},{"$f":"SUM(Table1[[#This Row],[PO Employee]:[Other Employee]])","v":0},"N",{"$error":"#N/A"},{"$f":"IF(O1454>39,Table1[[#This Row],[Calc 1]],IF(O1454>1,\"Not counted as an Employee\",\"#NA\"))","v":"#NA"},{"$f":"MAX(Table1[[#This Row],[PO Employee]],Table1[[#This Row],[Other HZ Employee]],Table1[[#This Row],[Non HZ Employee]],Table1[[#This Row],[Job Site Employee]],Table1[[#This Row],[Other Employee]])","v":0},{"$f":"IF(Table1[[#This Row],[Total Hours per Month]]=Table1[[#This Row],[Column12]],\"Match\",\"Error\")","v":"Match"},{"$f":"IF(Table1[[#This Row],[Calc 2]]=\"#NA\",\"#NA\",IF(Table1[[#This Row],[Non HZ Employee]]=Table1[[#This Row],[Max calc]],\"Non HZ Employee\", Table1[[#This Row],[Calc 2]]))","v":"#NA"}]
[1438,null,1438,{"$nulls":5},{"$f":"SUM(Table1[[#This Row],[Column4]]+Table1[[#This Row],[Column3]]+Table1[[#This Row],[Column2]]+Table1[[#This Row],[Column1]])","v":0},{"$nulls":5},{"$f":"SUM(Table1[[#This Row],[PO Employee]:[Other Employee]])","v":0},"N",{"$error":"#N/A"},{"$f":"IF(O1455>39,Table1[[#This Row],[Calc 1]],IF(O1455>1,\"Not counted as an Employee\",\"#NA\"))","v":"#NA"},{"$f":"MAX(Table1[[#This Row],[PO Employee]],Table1[[#This Row],[Other HZ Employee]],Table1[[#This Row],[Non HZ Employee]],Table1[[#This Row],[Job Site Employee]],Table1[[#This Row],[Other Employee]])","v":0},{"$f":"IF(Table1[[#This Row],[Total Hours per Month]]=Table1[[#This Row],[Column12]],\"Match\",\"Error\")","v":"Match"},{"$f":"IF(Table1[[#This Row],[Calc 2]]=\"#NA\",\"#NA\",IF(Table1[[#This Row],[Non HZ Employee]]=Table1[[#This Row],[Max calc]],\"Non HZ Employee\", Table1[[#This Row],[Calc 2]]))","v":"#NA"}]
[1439,null,1439,{"$nulls":5},{"$f":"SUM(Table1[[#This Row],[Column4]]+Table1[[#This Row],[Column3]]+Table1[[#This Row],[Column2]]+Table1[[#This Row],[Column1]])","v":0},{"$nulls":5},{"$f":"SUM(Table1[[#This Row],[PO Employee]:[Other Employee]])","v":0},"N",{"$error":"#N/A"},{"$f":"IF(O1456>39,Table1[[#This Row],[Calc 1]],IF(O1456>1,\"Not counted as an Employee\",\"#NA\"))","v":"#NA"},{"$f":"MAX(Table1[[#This Row],[PO Employee]],Table1[[#This Row],[Other HZ Employee]],Table1[[#This Row],[Non HZ Employee]],Table1[[#This Row],[Job Site Employee]],Table1[[#This Row],[Other Employee]])","v":0},{"$f":"IF(Table1[[#This Row],[Total Hours per Month]]=Table1[[#This Row],[Column12]],\"Match\",\"Error\")","v":"Match"},{"$f":"IF(Table1[[#This Row],[Calc 2]]=\"#NA\",\"#NA\",IF(Table1[[#This Row],[Non HZ Employee]]=Table1[[#This Row],[Max calc]],\"Non HZ Employee\", Table1[[#This Row],[Calc 2]]))","v":"#NA"}]
[1440,null,1440,{"$nulls":5},{"$f":"SUM(Table1[[#This Row],[Column4]]+Table1[[#This Row],[Column3]]+Table1[[#This Row],[Column2]]+Table1[[#This Row],[Column1]])","v":0},{"$nulls":5},{"$f":"SUM(Table1[[#This Row],[PO Employee]:[Other Employee]])","v":0},"N",{"$error":"#N/A"},{"$f":"IF(O1457>39,Table1[[#This Row],[Calc 1]],IF(O1457>1,\"Not counted as an Employee\",\"#NA\"))","v":"#NA"},{"$f":"MAX(Table1[[#This Row],[PO Employee]],Table1[[#This Row],[Other HZ Employee]],Table1[[#This Row],[Non HZ Employee]],Table1[[#This Row],[Job Site Employee]],Table1[[#This Row],[Other Employee]])","v":0},{"$f":"IF(Table1[[#This Row],[Total Hours per Month]]=Table1[[#This Row],[Column12]],\"Match\",\"Error\")","v":"Match"},{"$f":"IF(Table1[[#This Row],[Calc 2]]=\"#NA\",\"#NA\",IF(Table1[[#This Row],[Non HZ Employee]]=Table1[[#This Row],[Max calc]],\"Non HZ Employee\", Table1[[#This Row],[Calc 2]]))","v":"#NA"}]
[1441,null,1441,{"$nulls":5},{"$f":"SUM(Table1[[#This Row],[Column4]]+Table1[[#This Row],[Column3]]+Table1[[#This Row],[Column2]]+Table1[[#This Row],[Column1]])","v":0},{"$nulls":5},{"$f":"SUM(Table1[[#This Row],[PO Employee]:[Other Employee]])","v":0},"N",{"$error":"#N/A"},{"$f":"IF(O1458>39,Table1[[#This Row],[Calc 1]],IF(O1458>1,\"Not counted as an Employee\",\"#NA\"))","v":"#NA"},{"$f":"MAX(Table1[[#This Row],[PO Employee]],Table1[[#This Row],[Other HZ Employee]],Table1[[#This Row],[Non HZ Employee]],Table1[[#This Row],[Job Site Employee]],Table1[[#This Row],[Other Employee]])","v":0},{"$f":"IF(Table1[[#This Row],[Total Hours per Month]]=Table1[[#This Row],[Column12]],\"Match\",\"Error\")","v":"Match"},{"$f":"IF(Table1[[#This Row],[Calc 2]]=\"#NA\",\"#NA\",IF(Table1[[#This Row],[Non HZ Employee]]=Table1[[#This Row],[Max calc]],\"Non HZ Employee\", Table1[[#This Row],[Calc 2]]))","v":"#NA"}]
[1442,null,1442,{"$nulls":5},{"$f":"SUM(Table1[[#This Row],[Column4]]+Table1[[#This Row],[Column3]]+Table1[[#This Row],[Column2]]+Table1[[#This Row],[Column1]])","v":0},{"$nulls":5},{"$f":"SUM(Table1[[#This Row],[PO Employee]:[Other Employee]])","v":0},"N",{"$error":"#N/A"},{"$f":"IF(O1459>39,Table1[[#This Row],[Calc 1]],IF(O1459>1,\"Not counted as an Employee\",\"#NA\"))","v":"#NA"},{"$f":"MAX(Table1[[#This Row],[PO Employee]],Table1[[#This Row],[Other HZ Employee]],Table1[[#This Row],[Non HZ Employee]],Table1[[#This Row],[Job Site Employee]],Table1[[#This Row],[Other Employee]])","v":0},{"$f":"IF(Table1[[#This Row],[Total Hours per Month]]=Table1[[#This Row],[Column12]],\"Match\",\"Error\")","v":"Match"},{"$f":"IF(Table1[[#This Row],[Calc 2]]=\"#NA\",\"#NA\",IF(Table1[[#This Row],[Non HZ Employee]]=Table1[[#This Row],[Max calc]],\"Non HZ Employee\", Table1[[#This Row],[Calc 2]]))","v":"#NA"}]
[1443,null,1443,{"$nulls":5},{"$f":"SUM(Table1[[#This Row],[Column4]]+Table1[[#This Row],[Column3]]+Table1[[#This Row],[Column2]]+Table1[[#This Row],[Column1]])","v":0},{"$nulls":5},{"$f":"SUM(Table1[[#This Row],[PO Employee]:[Other Employee]])","v":0},"N",{"$error":"#N/A"},{"$f":"IF(O1460>39,Table1[[#This Row],[Calc 1]],IF(O1460>1,\"Not counted as an Employee\",\"#NA\"))","v":"#NA"},{"$f":"MAX(Table1[[#This Row],[PO Employee]],Table1[[#This Row],[Other HZ Employee]],Table1[[#This Row],[Non HZ Employee]],Table1[[#This Row],[Job Site Employee]],Table1[[#This Row],[Other Employee]])","v":0},{"$f":"IF(Table1[[#This Row],[Total Hours per Month]]=Table1[[#This Row],[Column12]],\"Match\",\"Error\")","v":"Match"},{"$f":"IF(Table1[[#This Row],[Calc 2]]=\"#NA\",\"#NA\",IF(Table1[[#This Row],[Non HZ Employee]]=Table1[[#This Row],[Max calc]],\"Non HZ Employee\", Table1[[#This Row],[Calc 2]]))","v":"#NA"}]
[1444,null,1444,{"$nulls":5},{"$f":"SUM(Table1[[#This Row],[Column4]]+Table1[[#This Row],[Column3]]+Table1[[#This Row],[Column2]]+Table1[[#This Row],[Column1]])","v":0},{"$nulls":5},{"$f":"SUM(Table1[[#This Row],[PO Employee]:[Other Employee]])","v":0},"N",{"$error":"#N/A"},{"$f":"IF(O1461>39,Table1[[#This Row],[Calc 1]],IF(O1461>1,\"Not counted as an Employee\",\"#NA\"))","v":"#NA"},{"$f":"MAX(Table1[[#This Row],[PO Employee]],Table1[[#This Row],[Other HZ Employee]],Table1[[#This Row],[Non HZ Employee]],Table1[[#This Row],[Job Site Employee]],Table1[[#This Row],[Other Employee]])","v":0},{"$f":"IF(Table1[[#This Row],[Total Hours per Month]]=Table1[[#This Row],[Column12]],\"Match\",\"Error\")","v":"Match"},{"$f":"IF(Table1[[#This Row],[Calc 2]]=\"#NA\",\"#NA\",IF(Table1[[#This Row],[Non HZ Employee]]=Table1[[#This Row],[Max calc]],\"Non HZ Employee\", Table1[[#This Row],[Calc 2]]))","v":"#NA"}]
[1445,null,1445,{"$nulls":5},{"$f":"SUM(Table1[[#This Row],[Column4]]+Table1[[#This Row],[Column3]]+Table1[[#This Row],[Column2]]+Table1[[#This Row],[Column1]])","v":0},{"$nulls":5},{"$f":"SUM(Table1[[#This Row],[PO Employee]:[Other Employee]])","v":0},"N",{"$error":"#N/A"},{"$f":"IF(O1462>39,Table1[[#This Row],[Calc 1]],IF(O1462>1,\"Not counted as an Employee\",\"#NA\"))","v":"#NA"},{"$f":"MAX(Table1[[#This Row],[PO Employee]],Table1[[#This Row],[Other HZ Employee]],Table1[[#This Row],[Non HZ Employee]],Table1[[#This Row],[Job Site Employee]],Table1[[#This Row],[Other Employee]])","v":0},{"$f":"IF(Table1[[#This Row],[Total Hours per Month]]=Table1[[#This Row],[Column12]],\"Match\",\"Error\")","v":"Match"},{"$f":"IF(Table1[[#This Row],[Calc 2]]=\"#NA\",\"#NA\",IF(Table1[[#This Row],[Non HZ Employee]]=Table1[[#This Row],[Max calc]],\"Non HZ Employee\", Table1[[#This Row],[Calc 2]]))","v":"#NA"}]
[1446,null,1446,{"$nulls":5},{"$f":"SUM(Table1[[#This Row],[Column4]]+Table1[[#This Row],[Column3]]+Table1[[#This Row],[Column2]]+Table1[[#This Row],[Column1]])","v":0},{"$nulls":5},{"$f":"SUM(Table1[[#This Row],[PO Employee]:[Other Employee]])","v":0},"N",{"$error":"#N/A"},{"$f":"IF(O1463>39,Table1[[#This Row],[Calc 1]],IF(O1463>1,\"Not counted as an Employee\",\"#NA\"))","v":"#NA"},{"$f":"MAX(Table1[[#This Row],[PO Employee]],Table1[[#This Row],[Other HZ Employee]],Table1[[#This Row],[Non HZ Employee]],Table1[[#This Row],[Job Site Employee]],Table1[[#This Row],[Other Employee]])","v":0},{"$f":"IF(Table1[[#This Row],[Total Hours per Month]]=Table1[[#This Row],[Column12]],\"Match\",\"Error\")","v":"Match"},{"$f":"IF(Table1[[#This Row],[Calc 2]]=\"#NA\",\"#NA\",IF(Table1[[#This Row],[Non HZ Employee]]=Table1[[#This Row],[Max calc]],\"Non HZ Employee\", Table1[[#This Row],[Calc 2]]))","v":"#NA"}]
[1447,null,1447,{"$nulls":5},{"$f":"SUM(Table1[[#This Row],[Column4]]+Table1[[#This Row],[Column3]]+Table1[[#This Row],[Column2]]+Table1[[#This Row],[Column1]])","v":0},{"$nulls":5},{"$f":"SUM(Table1[[#This Row],[PO Employee]:[Other Employee]])","v":0},"N",{"$error":"#N/A"},{"$f":"IF(O1464>39,Table1[[#This Row],[Calc 1]],IF(O1464>1,\"Not counted as an Employee\",\"#NA\"))","v":"#NA"},{"$f":"MAX(Table1[[#This Row],[PO Employee]],Table1[[#This Row],[Other HZ Employee]],Table1[[#This Row],[Non HZ Employee]],Table1[[#This Row],[Job Site Employee]],Table1[[#This Row],[Other Employee]])","v":0},{"$f":"IF(Table1[[#This Row],[Total Hours per Month]]=Table1[[#This Row],[Column12]],\"Match\",\"Error\")","v":"Match"},{"$f":"IF(Table1[[#This Row],[Calc 2]]=\"#NA\",\"#NA\",IF(Table1[[#This Row],[Non HZ Employee]]=Table1[[#This Row],[Max calc]],\"Non HZ Employee\", Table1[[#This Row],[Calc 2]]))","v":"#NA"}]
[1448,null,1448,{"$nulls":5},{"$f":"SUM(Table1[[#This Row],[Column4]]+Table1[[#This Row],[Column3]]+Table1[[#This Row],[Column2]]+Table1[[#This Row],[Column1]])","v":0},{"$nulls":5},{"$f":"SUM(Table1[[#This Row],[PO Employee]:[Other Employee]])","v":0},"N",{"$error":"#N/A"},{"$f":"IF(O1465>39,Table1[[#This Row],[Calc 1]],IF(O1465>1,\"Not counted as an Employee\",\"#NA\"))","v":"#NA"},{"$f":"MAX(Table1[[#This Row],[PO Employee]],Table1[[#This Row],[Other HZ Employee]],Table1[[#This Row],[Non HZ Employee]],Table1[[#This Row],[Job Site Employee]],Table1[[#This Row],[Other Employee]])","v":0},{"$f":"IF(Table1[[#This Row],[Total Hours per Month]]=Table1[[#This Row],[Column12]],\"Match\",\"Error\")","v":"Match"},{"$f":"IF(Table1[[#This Row],[Calc 2]]=\"#NA\",\"#NA\",IF(Table1[[#This Row],[Non HZ Employee]]=Table1[[#This Row],[Max calc]],\"Non HZ Employee\", Table1[[#This Row],[Calc 2]]))","v":"#NA"}]
[1449,null,1449,{"$nulls":5},{"$f":"SUM(Table1[[#This Row],[Column4]]+Table1[[#This Row],[Column3]]+Table1[[#This Row],[Column2]]+Table1[[#This Row],[Column1]])","v":0},{"$nulls":5},{"$f":"SUM(Table1[[#This Row],[PO Employee]:[Other Employee]])","v":0},"N",{"$error":"#N/A"},{"$f":"IF(O1466>39,Table1[[#This Row],[Calc 1]],IF(O1466>1,\"Not counted as an Employee\",\"#NA\"))","v":"#NA"},{"$f":"MAX(Table1[[#This Row],[PO Employee]],Table1[[#This Row],[Other HZ Employee]],Table1[[#This Row],[Non HZ Employee]],Table1[[#This Row],[Job Site Employee]],Table1[[#This Row],[Other Employee]])","v":0},{"$f":"IF(Table1[[#This Row],[Total Hours per Month]]=Table1[[#This Row],[Column12]],\"Match\",\"Error\")","v":"Match"},{"$f":"IF(Table1[[#This Row],[Calc 2]]=\"#NA\",\"#NA\",IF(Table1[[#This Row],[Non HZ Employee]]=Table1[[#This Row],[Max calc]],\"Non HZ Employee\", Table1[[#This Row],[Calc 2]]))","v":"#NA"}]
[1450,null,1450,{"$nulls":5},{"$f":"SUM(Table1[[#This Row],[Column4]]+Table1[[#This Row],[Column3]]+Table1[[#This Row],[Column2]]+Table1[[#This Row],[Column1]])","v":0},{"$nulls":5},{"$f":"SUM(Table1[[#This Row],[PO Employee]:[Other Employee]])","v":0},"N",{"$error":"#N/A"},{"$f":"IF(O1467>39,Table1[[#This Row],[Calc 1]],IF(O1467>1,\"Not counted as an Employee\",\"#NA\"))","v":"#NA"},{"$f":"MAX(Table1[[#This Row],[PO Employee]],Table1[[#This Row],[Other HZ Employee]],Table1[[#This Row],[Non HZ Employee]],Table1[[#This Row],[Job Site Employee]],Table1[[#This Row],[Other Employee]])","v":0},{"$f":"IF(Table1[[#This Row],[Total Hours per Month]]=Table1[[#This Row],[Column12]],\"Match\",\"Error\")","v":"Match"},{"$f":"IF(Table1[[#This Row],[Calc 2]]=\"#NA\",\"#NA\",IF(Table1[[#This Row],[Non HZ Employee]]=Table1[[#This Row],[Max calc]],\"Non HZ Employee\", Table1[[#This Row],[Calc 2]]))","v":"#NA"}]
[1451,null,1451,{"$nulls":5},{"$f":"SUM(Table1[[#This Row],[Column4]]+Table1[[#This Row],[Column3]]+Table1[[#This Row],[Column2]]+Table1[[#This Row],[Column1]])","v":0},{"$nulls":5},{"$f":"SUM(Table1[[#This Row],[PO Employee]:[Other Employee]])","v":0},"N",{"$error":"#N/A"},{"$f":"IF(O1468>39,Table1[[#This Row],[Calc 1]],IF(O1468>1,\"Not counted as an Employee\",\"#NA\"))","v":"#NA"},{"$f":"MAX(Table1[[#This Row],[PO Employee]],Table1[[#This Row],[Other HZ Employee]],Table1[[#This Row],[Non HZ Employee]],Table1[[#This Row],[Job Site Employee]],Table1[[#This Row],[Other Employee]])","v":0},{"$f":"IF(Table1[[#This Row],[Total Hours per Month]]=Table1[[#This Row],[Column12]],\"Match\",\"Error\")","v":"Match"},{"$f":"IF(Table1[[#This Row],[Calc 2]]=\"#NA\",\"#NA\",IF(Table1[[#This Row],[Non HZ Employee]]=Table1[[#This Row],[Max calc]],\"Non HZ Employee\", Table1[[#This Row],[Calc 2]]))","v":"#NA"}]
[1452,null,1452,{"$nulls":5},{"$f":"SUM(Table1[[#This Row],[Column4]]+Table1[[#This Row],[Column3]]+Table1[[#This Row],[Column2]]+Table1[[#This Row],[Column1]])","v":0},{"$nulls":5},{"$f":"SUM(Table1[[#This Row],[PO Employee]:[Other Employee]])","v":0},"N",{"$error":"#N/A"},{"$f":"IF(O1469>39,Table1[[#This Row],[Calc 1]],IF(O1469>1,\"Not counted as an Employee\",\"#NA\"))","v":"#NA"},{"$f":"MAX(Table1[[#This Row],[PO Employee]],Table1[[#This Row],[Other HZ Employee]],Table1[[#This Row],[Non HZ Employee]],Table1[[#This Row],[Job Site Employee]],Table1[[#This Row],[Other Employee]])","v":0},{"$f":"IF(Table1[[#This Row],[Total Hours per Month]]=Table1[[#This Row],[Column12]],\"Match\",\"Error\")","v":"Match"},{"$f":"IF(Table1[[#This Row],[Calc 2]]=\"#NA\",\"#NA\",IF(Table1[[#This Row],[Non HZ Employee]]=Table1[[#This Row],[Max calc]],\"Non HZ Employee\", Table1[[#This Row],[Calc 2]]))","v":"#NA"}]
[1453,null,1453,{"$nulls":5},{"$f":"SUM(Table1[[#This Row],[Column4]]+Table1[[#This Row],[Column3]]+Table1[[#This Row],[Column2]]+Table1[[#This Row],[Column1]])","v":0},{"$nulls":5},{"$f":"SUM(Table1[[#This Row],[PO Employee]:[Other Employee]])","v":0},"N",{"$error":"#N/A"},{"$f":"IF(O1470>39,Table1[[#This Row],[Calc 1]],IF(O1470>1,\"Not counted as an Employee\",\"#NA\"))","v":"#NA"},{"$f":"MAX(Table1[[#This Row],[PO Employee]],Table1[[#This Row],[Other HZ Employee]],Table1[[#This Row],[Non HZ Employee]],Table1[[#This Row],[Job Site Employee]],Table1[[#This Row],[Other Employee]])","v":0},{"$f":"IF(Table1[[#This Row],[Total Hours per Month]]=Table1[[#This Row],[Column12]],\"Match\",\"Error\")","v":"Match"},{"$f":"IF(Table1[[#This Row],[Calc 2]]=\"#NA\",\"#NA\",IF(Table1[[#This Row],[Non HZ Employee]]=Table1[[#This Row],[Max calc]],\"Non HZ Employee\", Table1[[#This Row],[Calc 2]]))","v":"#NA"}]
[1454,null,1454,{"$nulls":5},{"$f":"SUM(Table1[[#This Row],[Column4]]+Table1[[#This Row],[Column3]]+Table1[[#This Row],[Column2]]+Table1[[#This Row],[Column1]])","v":0},{"$nulls":5},{"$f":"SUM(Table1[[#This Row],[PO Employee]:[Other Employee]])","v":0},"N",{"$error":"#N/A"},{"$f":"IF(O1471>39,Table1[[#This Row],[Calc 1]],IF(O1471>1,\"Not counted as an Employee\",\"#NA\"))","v":"#NA"},{"$f":"MAX(Table1[[#This Row],[PO Employee]],Table1[[#This Row],[Other HZ Employee]],Table1[[#This Row],[Non HZ Employee]],Table1[[#This Row],[Job Site Employee]],Table1[[#This Row],[Other Employee]])","v":0},{"$f":"IF(Table1[[#This Row],[Total Hours per Month]]=Table1[[#This Row],[Column12]],\"Match\",\"Error\")","v":"Match"},{"$f":"IF(Table1[[#This Row],[Calc 2]]=\"#NA\",\"#NA\",IF(Table1[[#This Row],[Non HZ Employee]]=Table1[[#This Row],[Max calc]],\"Non HZ Employee\", Table1[[#This Row],[Calc 2]]))","v":"#NA"}]
[1455,null,1455,{"$nulls":5},{"$f":"SUM(Table1[[#This Row],[Column4]]+Table1[[#This Row],[Column3]]+Table1[[#This Row],[Column2]]+Table1[[#This Row],[Column1]])","v":0},{"$nulls":5},{"$f":"SUM(Table1[[#This Row],[PO Employee]:[Other Employee]])","v":0},"N",{"$error":"#N/A"},{"$f":"IF(O1472>39,Table1[[#This Row],[Calc 1]],IF(O1472>1,\"Not counted as an Employee\",\"#NA\"))","v":"#NA"},{"$f":"MAX(Table1[[#This Row],[PO Employee]],Table1[[#This Row],[Other HZ Employee]],Table1[[#This Row],[Non HZ Employee]],Table1[[#This Row],[Job Site Employee]],Table1[[#This Row],[Other Employee]])","v":0},{"$f":"IF(Table1[[#This Row],[Total Hours per Month]]=Table1[[#This Row],[Column12]],\"Match\",\"Error\")","v":"Match"},{"$f":"IF(Table1[[#This Row],[Calc 2]]=\"#NA\",\"#NA\",IF(Table1[[#This Row],[Non HZ Employee]]=Table1[[#This Row],[Max calc]],\"Non HZ Employee\", Table1[[#This Row],[Calc 2]]))","v":"#NA"}]
[1456,null,1456,{"$nulls":5},{"$f":"SUM(Table1[[#This Row],[Column4]]+Table1[[#This Row],[Column3]]+Table1[[#This Row],[Column2]]+Table1[[#This Row],[Column1]])","v":0},{"$nulls":5},{"$f":"SUM(Table1[[#This Row],[PO Employee]:[Other Employee]])","v":0},"N",{"$error":"#N/A"},{"$f":"IF(O1473>39,Table1[[#This Row],[Calc 1]],IF(O1473>1,\"Not counted as an Employee\",\"#NA\"))","v":"#NA"},{"$f":"MAX(Table1[[#This Row],[PO Employee]],Table1[[#This Row],[Other HZ Employee]],Table1[[#This Row],[Non HZ Employee]],Table1[[#This Row],[Job Site Employee]],Table1[[#This Row],[Other Employee]])","v":0},{"$f":"IF(Table1[[#This Row],[Total Hours per Month]]=Table1[[#This Row],[Column12]],\"Match\",\"Error\")","v":"Match"},{"$f":"IF(Table1[[#This Row],[Calc 2]]=\"#NA\",\"#NA\",IF(Table1[[#This Row],[Non HZ Employee]]=Table1[[#This Row],[Max calc]],\"Non HZ Employee\", Table1[[#This Row],[Calc 2]]))","v":"#NA"}]
[1457,null,1457,{"$nulls":5},{"$f":"SUM(Table1[[#This Row],[Column4]]+Table1[[#This Row],[Column3]]+Table1[[#This Row],[Column2]]+Table1[[#This Row],[Column1]])","v":0},{"$nulls":5},{"$f":"SUM(Table1[[#This Row],[PO Employee]:[Other Employee]])","v":0},"N",{"$error":"#N/A"},{"$f":"IF(O1474>39,Table1[[#This Row],[Calc 1]],IF(O1474>1,\"Not counted as an Employee\",\"#NA\"))","v":"#NA"},{"$f":"MAX(Table1[[#This Row],[PO Employee]],Table1[[#This Row],[Other HZ Employee]],Table1[[#This Row],[Non HZ Employee]],Table1[[#This Row],[Job Site Employee]],Table1[[#This Row],[Other Employee]])","v":0},{"$f":"IF(Table1[[#This Row],[Total Hours per Month]]=Table1[[#This Row],[Column12]],\"Match\",\"Error\")","v":"Match"},{"$f":"IF(Table1[[#This Row],[Calc 2]]=\"#NA\",\"#NA\",IF(Table1[[#This Row],[Non HZ Employee]]=Table1[[#This Row],[Max calc]],\"Non HZ Employee\", Table1[[#This Row],[Calc 2]]))","v":"#NA"}]
[1458,null,1458,{"$nulls":5},{"$f":"SUM(Table1[[#This Row],[Column4]]+Table1[[#This Row],[Column3]]+Table1[[#This Row],[Column2]]+Table1[[#This Row],[Column1]])","v":0},{"$nulls":5},{"$f":"SUM(Table1[[#This Row],[PO Employee]:[Other Employee]])","v":0},"N",{"$error":"#N/A"},{"$f":"IF(O1475>39,Table1[[#This Row],[Calc 1]],IF(O1475>1,\"Not counted as an Employee\",\"#NA\"))","v":"#NA"},{"$f":"MAX(Table1[[#This Row],[PO Employee]],Table1[[#This Row],[Other HZ Employee]],Table1[[#This Row],[Non HZ Employee]],Table1[[#This Row],[Job Site Employee]],Table1[[#This Row],[Other Employee]])","v":0},{"$f":"IF(Table1[[#This Row],[Total Hours per Month]]=Table1[[#This Row],[Column12]],\"Match\",\"Error\")","v":"Match"},{"$f":"IF(Table1[[#This Row],[Calc 2]]=\"#NA\",\"#NA\",IF(Table1[[#This Row],[Non HZ Employee]]=Table1[[#This Row],[Max calc]],\"Non HZ Employee\", Table1[[#This Row],[Calc 2]]))","v":"#NA"}]
[1459,null,1459,{"$nulls":5},{"$f":"SUM(Table1[[#This Row],[Column4]]+Table1[[#This Row],[Column3]]+Table1[[#This Row],[Column2]]+Table1[[#This Row],[Column1]])","v":0},{"$nulls":5},{"$f":"SUM(Table1[[#This Row],[PO Employee]:[Other Employee]])","v":0},"N",{"$error":"#N/A"},{"$f":"IF(O1476>39,Table1[[#This Row],[Calc 1]],IF(O1476>1,\"Not counted as an Employee\",\"#NA\"))","v":"#NA"},{"$f":"MAX(Table1[[#This Row],[PO Employee]],Table1[[#This Row],[Other HZ Employee]],Table1[[#This Row],[Non HZ Employee]],Table1[[#This Row],[Job Site Employee]],Table1[[#This Row],[Other Employee]])","v":0},{"$f":"IF(Table1[[#This Row],[Total Hours per Month]]=Table1[[#This Row],[Column12]],\"Match\",\"Error\")","v":"Match"},{"$f":"IF(Table1[[#This Row],[Calc 2]]=\"#NA\",\"#NA\",IF(Table1[[#This Row],[Non HZ Employee]]=Table1[[#This Row],[Max calc]],\"Non HZ Employee\", Table1[[#This Row],[Calc 2]]))","v":"#NA"}]
[1460,null,1460,{"$nulls":5},{"$f":"SUM(Table1[[#This Row],[Column4]]+Table1[[#This Row],[Column3]]+Table1[[#This Row],[Column2]]+Table1[[#This Row],[Column1]])","v":0},{"$nulls":5},{"$f":"SUM(Table1[[#This Row],[PO Employee]:[Other Employee]])","v":0},"N",{"$error":"#N/A"},{"$f":"IF(O1477>39,Table1[[#This Row],[Calc 1]],IF(O1477>1,\"Not counted as an Employee\",\"#NA\"))","v":"#NA"},{"$f":"MAX(Table1[[#This Row],[PO Employee]],Table1[[#This Row],[Other HZ Employee]],Table1[[#This Row],[Non HZ Employee]],Table1[[#This Row],[Job Site Employee]],Table1[[#This Row],[Other Employee]])","v":0},{"$f":"IF(Table1[[#This Row],[Total Hours per Month]]=Table1[[#This Row],[Column12]],\"Match\",\"Error\")","v":"Match"},{"$f":"IF(Table1[[#This Row],[Calc 2]]=\"#NA\",\"#NA\",IF(Table1[[#This Row],[Non HZ Employee]]=Table1[[#This Row],[Max calc]],\"Non HZ Employee\", Table1[[#This Row],[Calc 2]]))","v":"#NA"}]
[1461,null,1461,{"$nulls":5},{"$f":"SUM(Table1[[#This Row],[Column4]]+Table1[[#This Row],[Column3]]+Table1[[#This Row],[Column2]]+Table1[[#This Row],[Column1]])","v":0},{"$nulls":5},{"$f":"SUM(Table1[[#This Row],[PO Employee]:[Other Employee]])","v":0},"N",{"$error":"#N/A"},{"$f":"IF(O1478>39,Table1[[#This Row],[Calc 1]],IF(O1478>1,\"Not counted as an Employee\",\"#NA\"))","v":"#NA"},{"$f":"MAX(Table1[[#This Row],[PO Employee]],Table1[[#This Row],[Other HZ Employee]],Table1[[#This Row],[Non HZ Employee]],Table1[[#This Row],[Job Site Employee]],Table1[[#This Row],[Other Employee]])","v":0},{"$f":"IF(Table1[[#This Row],[Total Hours per Month]]=Table1[[#This Row],[Column12]],\"Match\",\"Error\")","v":"Match"},{"$f":"IF(Table1[[#This Row],[Calc 2]]=\"#NA\",\"#NA\",IF(Table1[[#This Row],[Non HZ Employee]]=Table1[[#This Row],[Max calc]],\"Non HZ Employee\", Table1[[#This Row],[Calc 2]]))","v":"#NA"}]
[1462,null,1462,{"$nulls":5},{"$f":"SUM(Table1[[#This Row],[Column4]]+Table1[[#This Row],[Column3]]+Table1[[#This Row],[Column2]]+Table1[[#This Row],[Column1]])","v":0},{"$nulls":5},{"$f":"SUM(Table1[[#This Row],[PO Employee]:[Other Employee]])","v":0},"N",{"$error":"#N/A"},{"$f":"IF(O1479>39,Table1[[#This Row],[Calc 1]],IF(O1479>1,\"Not counted as an Employee\",\"#NA\"))","v":"#NA"},{"$f":"MAX(Table1[[#This Row],[PO Employee]],Table1[[#This Row],[Other HZ Employee]],Table1[[#This Row],[Non HZ Employee]],Table1[[#This Row],[Job Site Employee]],Table1[[#This Row],[Other Employee]])","v":0},{"$f":"IF(Table1[[#This Row],[Total Hours per Month]]=Table1[[#This Row],[Column12]],\"Match\",\"Error\")","v":"Match"},{"$f":"IF(Table1[[#This Row],[Calc 2]]=\"#NA\",\"#NA\",IF(Table1[[#This Row],[Non HZ Employee]]=Table1[[#This Row],[Max calc]],\"Non HZ Employee\", Table1[[#This Row],[Calc 2]]))","v":"#NA"}]
[1463,null,1463,{"$nulls":5},{"$f":"SUM(Table1[[#This Row],[Column4]]+Table1[[#This Row],[Column3]]+Table1[[#This Row],[Column2]]+Table1[[#This Row],[Column1]])","v":0},{"$nulls":5},{"$f":"SUM(Table1[[#This Row],[PO Employee]:[Other Employee]])","v":0},"N",{"$error":"#N/A"},{"$f":"IF(O1480>39,Table1[[#This Row],[Calc 1]],IF(O1480>1,\"Not counted as an Employee\",\"#NA\"))","v":"#NA"},{"$f":"MAX(Table1[[#This Row],[PO Employee]],Table1[[#This Row],[Other HZ Employee]],Table1[[#This Row],[Non HZ Employee]],Table1[[#This Row],[Job Site Employee]],Table1[[#This Row],[Other Employee]])","v":0},{"$f":"IF(Table1[[#This Row],[Total Hours per Month]]=Table1[[#This Row],[Column12]],\"Match\",\"Error\")","v":"Match"},{"$f":"IF(Table1[[#This Row],[Calc 2]]=\"#NA\",\"#NA\",IF(Table1[[#This Row],[Non HZ Employee]]=Table1[[#This Row],[Max calc]],\"Non HZ Employee\", Table1[[#This Row],[Calc 2]]))","v":"#NA"}]
[1464,null,1464,{"$nulls":5},{"$f":"SUM(Table1[[#This Row],[Column4]]+Table1[[#This Row],[Column3]]+Table1[[#This Row],[Column2]]+Table1[[#This Row],[Column1]])","v":0},{"$nulls":5},{"$f":"SUM(Table1[[#This Row],[PO Employee]:[Other Employee]])","v":0},"N",{"$error":"#N/A"},{"$f":"IF(O1481>39,Table1[[#This Row],[Calc 1]],IF(O1481>1,\"Not counted as an Employee\",\"#NA\"))","v":"#NA"},{"$f":"MAX(Table1[[#This Row],[PO Employee]],Table1[[#This Row],[Other HZ Employee]],Table1[[#This Row],[Non HZ Employee]],Table1[[#This Row],[Job Site Employee]],Table1[[#This Row],[Other Employee]])","v":0},{"$f":"IF(Table1[[#This Row],[Total Hours per Month]]=Table1[[#This Row],[Column12]],\"Match\",\"Error\")","v":"Match"},{"$f":"IF(Table1[[#This Row],[Calc 2]]=\"#NA\",\"#NA\",IF(Table1[[#This Row],[Non HZ Employee]]=Table1[[#This Row],[Max calc]],\"Non HZ Employee\", Table1[[#This Row],[Calc 2]]))","v":"#NA"}]
[1465,null,1465,{"$nulls":5},{"$f":"SUM(Table1[[#This Row],[Column4]]+Table1[[#This Row],[Column3]]+Table1[[#This Row],[Column2]]+Table1[[#This Row],[Column1]])","v":0},{"$nulls":5},{"$f":"SUM(Table1[[#This Row],[PO Employee]:[Other Employee]])","v":0},"N",{"$error":"#N/A"},{"$f":"IF(O1482>39,Table1[[#This Row],[Calc 1]],IF(O1482>1,\"Not counted as an Employee\",\"#NA\"))","v":"#NA"},{"$f":"MAX(Table1[[#This Row],[PO Employee]],Table1[[#This Row],[Other HZ Employee]],Table1[[#This Row],[Non HZ Employee]],Table1[[#This Row],[Job Site Employee]],Table1[[#This Row],[Other Employee]])","v":0},{"$f":"IF(Table1[[#This Row],[Total Hours per Month]]=Table1[[#This Row],[Column12]],\"Match\",\"Error\")","v":"Match"},{"$f":"IF(Table1[[#This Row],[Calc 2]]=\"#NA\",\"#NA\",IF(Table1[[#This Row],[Non HZ Employee]]=Table1[[#This Row],[Max calc]],\"Non HZ Employee\", Table1[[#This Row],[Calc 2]]))","v":"#NA"}]
[1466,null,1466,{"$nulls":5},{"$f":"SUM(Table1[[#This Row],[Column4]]+Table1[[#This Row],[Column3]]+Table1[[#This Row],[Column2]]+Table1[[#This Row],[Column1]])","v":0},{"$nulls":5},{"$f":"SUM(Table1[[#This Row],[PO Employee]:[Other Employee]])","v":0},"N",{"$error":"#N/A"},{"$f":"IF(O1483>39,Table1[[#This Row],[Calc 1]],IF(O1483>1,\"Not counted as an Employee\",\"#NA\"))","v":"#NA"},{"$f":"MAX(Table1[[#This Row],[PO Employee]],Table1[[#This Row],[Other HZ Employee]],Table1[[#This Row],[Non HZ Employee]],Table1[[#This Row],[Job Site Employee]],Table1[[#This Row],[Other Employee]])","v":0},{"$f":"IF(Table1[[#This Row],[Total Hours per Month]]=Table1[[#This Row],[Column12]],\"Match\",\"Error\")","v":"Match"},{"$f":"IF(Table1[[#This Row],[Calc 2]]=\"#NA\",\"#NA\",IF(Table1[[#This Row],[Non HZ Employee]]=Table1[[#This Row],[Max calc]],\"Non HZ Employee\", Table1[[#This Row],[Calc 2]]))","v":"#NA"}]
[1467,null,1467,{"$nulls":5},{"$f":"SUM(Table1[[#This Row],[Column4]]+Table1[[#This Row],[Column3]]+Table1[[#This Row],[Column2]]+Table1[[#This Row],[Column1]])","v":0},{"$nulls":5},{"$f":"SUM(Table1[[#This Row],[PO Employee]:[Other Employee]])","v":0},"N",{"$error":"#N/A"},{"$f":"IF(O1484>39,Table1[[#This Row],[Calc 1]],IF(O1484>1,\"Not counted as an Employee\",\"#NA\"))","v":"#NA"},{"$f":"MAX(Table1[[#This Row],[PO Employee]],Table1[[#This Row],[Other HZ Employee]],Table1[[#This Row],[Non HZ Employee]],Table1[[#This Row],[Job Site Employee]],Table1[[#This Row],[Other Employee]])","v":0},{"$f":"IF(Table1[[#This Row],[Total Hours per Month]]=Table1[[#This Row],[Column12]],\"Match\",\"Error\")","v":"Match"},{"$f":"IF(Table1[[#This Row],[Calc 2]]=\"#NA\",\"#NA\",IF(Table1[[#This Row],[Non HZ Employee]]=Table1[[#This Row],[Max calc]],\"Non HZ Employee\", Table1[[#This Row],[Calc 2]]))","v":"#NA"}]
[1468,null,1468,{"$nulls":5},{"$f":"SUM(Table1[[#This Row],[Column4]]+Table1[[#This Row],[Column3]]+Table1[[#This Row],[Column2]]+Table1[[#This Row],[Column1]])","v":0},{"$nulls":5},{"$f":"SUM(Table1[[#This Row],[PO Employee]:[Other Employee]])","v":0},"N",{"$error":"#N/A"},{"$f":"IF(O1485>39,Table1[[#This Row],[Calc 1]],IF(O1485>1,\"Not counted as an Employee\",\"#NA\"))","v":"#NA"},{"$f":"MAX(Table1[[#This Row],[PO Employee]],Table1[[#This Row],[Other HZ Employee]],Table1[[#This Row],[Non HZ Employee]],Table1[[#This Row],[Job Site Employee]],Table1[[#This Row],[Other Employee]])","v":0},{"$f":"IF(Table1[[#This Row],[Total Hours per Month]]=Table1[[#This Row],[Column12]],\"Match\",\"Error\")","v":"Match"},{"$f":"IF(Table1[[#This Row],[Calc 2]]=\"#NA\",\"#NA\",IF(Table1[[#This Row],[Non HZ Employee]]=Table1[[#This Row],[Max calc]],\"Non HZ Employee\", Table1[[#This Row],[Calc 2]]))","v":"#NA"}]
[1469,null,1469,{"$nulls":5},{"$f":"SUM(Table1[[#This Row],[Column4]]+Table1[[#This Row],[Column3]]+Table1[[#This Row],[Column2]]+Table1[[#This Row],[Column1]])","v":0},{"$nulls":5},{"$f":"SUM(Table1[[#This Row],[PO Employee]:[Other Employee]])","v":0},"N",{"$error":"#N/A"},{"$f":"IF(O1486>39,Table1[[#This Row],[Calc 1]],IF(O1486>1,\"Not counted as an Employee\",\"#NA\"))","v":"#NA"},{"$f":"MAX(Table1[[#This Row],[PO Employee]],Table1[[#This Row],[Other HZ Employee]],Table1[[#This Row],[Non HZ Employee]],Table1[[#This Row],[Job Site Employee]],Table1[[#This Row],[Other Employee]])","v":0},{"$f":"IF(Table1[[#This Row],[Total Hours per Month]]=Table1[[#This Row],[Column12]],\"Match\",\"Error\")","v":"Match"},{"$f":"IF(Table1[[#This Row],[Calc 2]]=\"#NA\",\"#NA\",IF(Table1[[#This Row],[Non HZ Employee]]=Table1[[#This Row],[Max calc]],\"Non HZ Employee\", Table1[[#This Row],[Calc 2]]))","v":"#NA"}]
[1470,null,1470,{"$nulls":5},{"$f":"SUM(Table1[[#This Row],[Column4]]+Table1[[#This Row],[Column3]]+Table1[[#This Row],[Column2]]+Table1[[#This Row],[Column1]])","v":0},{"$nulls":5},{"$f":"SUM(Table1[[#This Row],[PO Employee]:[Other Employee]])","v":0},"N",{"$error":"#N/A"},{"$f":"IF(O1487>39,Table1[[#This Row],[Calc 1]],IF(O1487>1,\"Not counted as an Employee\",\"#NA\"))","v":"#NA"},{"$f":"MAX(Table1[[#This Row],[PO Employee]],Table1[[#This Row],[Other HZ Employee]],Table1[[#This Row],[Non HZ Employee]],Table1[[#This Row],[Job Site Employee]],Table1[[#This Row],[Other Employee]])","v":0},{"$f":"IF(Table1[[#This Row],[Total Hours per Month]]=Table1[[#This Row],[Column12]],\"Match\",\"Error\")","v":"Match"},{"$f":"IF(Table1[[#This Row],[Calc 2]]=\"#NA\",\"#NA\",IF(Table1[[#This Row],[Non HZ Employee]]=Table1[[#This Row],[Max calc]],\"Non HZ Employee\", Table1[[#This Row],[Calc 2]]))","v":"#NA"}]
[1471,null,1471,{"$nulls":5},{"$f":"SUM(Table1[[#This Row],[Column4]]+Table1[[#This Row],[Column3]]+Table1[[#This Row],[Column2]]+Table1[[#This Row],[Column1]])","v":0},{"$nulls":5},{"$f":"SUM(Table1[[#This Row],[PO Employee]:[Other Employee]])","v":0},"N",{"$error":"#N/A"},{"$f":"IF(O1488>39,Table1[[#This Row],[Calc 1]],IF(O1488>1,\"Not counted as an Employee\",\"#NA\"))","v":"#NA"},{"$f":"MAX(Table1[[#This Row],[PO Employee]],Table1[[#This Row],[Other HZ Employee]],Table1[[#This Row],[Non HZ Employee]],Table1[[#This Row],[Job Site Employee]],Table1[[#This Row],[Other Employee]])","v":0},{"$f":"IF(Table1[[#This Row],[Total Hours per Month]]=Table1[[#This Row],[Column12]],\"Match\",\"Error\")","v":"Match"},{"$f":"IF(Table1[[#This Row],[Calc 2]]=\"#NA\",\"#NA\",IF(Table1[[#This Row],[Non HZ Employee]]=Table1[[#This Row],[Max calc]],\"Non HZ Employee\", Table1[[#This Row],[Calc 2]]))","v":"#NA"}]
[1472,null,1472,{"$nulls":5},{"$f":"SUM(Table1[[#This Row],[Column4]]+Table1[[#This Row],[Column3]]+Table1[[#This Row],[Column2]]+Table1[[#This Row],[Column1]])","v":0},{"$nulls":5},{"$f":"SUM(Table1[[#This Row],[PO Employee]:[Other Employee]])","v":0},"N",{"$error":"#N/A"},{"$f":"IF(O1489>39,Table1[[#This Row],[Calc 1]],IF(O1489>1,\"Not counted as an Employee\",\"#NA\"))","v":"#NA"},{"$f":"MAX(Table1[[#This Row],[PO Employee]],Table1[[#This Row],[Other HZ Employee]],Table1[[#This Row],[Non HZ Employee]],Table1[[#This Row],[Job Site Employee]],Table1[[#This Row],[Other Employee]])","v":0},{"$f":"IF(Table1[[#This Row],[Total Hours per Month]]=Table1[[#This Row],[Column12]],\"Match\",\"Error\")","v":"Match"},{"$f":"IF(Table1[[#This Row],[Calc 2]]=\"#NA\",\"#NA\",IF(Table1[[#This Row],[Non HZ Employee]]=Table1[[#This Row],[Max calc]],\"Non HZ Employee\", Table1[[#This Row],[Calc 2]]))","v":"#NA"}]
[1473,null,1473,{"$nulls":5},{"$f":"SUM(Table1[[#This Row],[Column4]]+Table1[[#This Row],[Column3]]+Table1[[#This Row],[Column2]]+Table1[[#This Row],[Column1]])","v":0},{"$nulls":5},{"$f":"SUM(Table1[[#This Row],[PO Employee]:[Other Employee]])","v":0},"N",{"$f":"INDEX($J$17:$N$17,MATCH(MAX(J1490:N1490),J1490:N1490,0))","v":{"$error":"#N/A"}},{"$f":"IF(O1490>39,Table1[[#This Row],[Calc 1]],IF(O1490>1,\"Not counted as an Employee\",\"#NA\"))","v":"#NA"},{"$f":"MAX(Table1[[#This Row],[PO Employee]],Table1[[#This Row],[Other HZ Employee]],Table1[[#This Row],[Non HZ Employee]],Table1[[#This Row],[Job Site Employee]],Table1[[#This Row],[Other Employee]])","v":0},{"$f":"IF(Table1[[#This Row],[Total Hours per Month]]=Table1[[#This Row],[Column12]],\"Match\",\"Error\")","v":"Match"},{"$f":"IF(Table1[[#This Row],[Calc 2]]=\"#NA\",\"#NA\",IF(Table1[[#This Row],[Non HZ Employee]]=Table1[[#This Row],[Max calc]],\"Non HZ Employee\", Table1[[#This Row],[Calc 2]]))","v":"#NA"}]
[1474,null,1474,{"$nulls":5},{"$f":"SUM(Table1[[#This Row],[Column4]]+Table1[[#This Row],[Column3]]+Table1[[#This Row],[Column2]]+Table1[[#This Row],[Column1]])","v":0},{"$nulls":5},{"$f":"SUM(Table1[[#This Row],[PO Employee]:[Other Employee]])","v":0},{"$f":"IF(O1491>=40,\"Y\",\"N\")","v":"N"},{"$error":"#N/A"},{"$f":"IF(O1491>39,Table1[[#This Row],[Calc 1]],IF(O1491>1,\"Not counted as an Employee\",\"#NA\"))","v":"#NA"},{"$f":"MAX(Table1[[#This Row],[PO Employee]],Table1[[#This Row],[Other HZ Employee]],Table1[[#This Row],[Non HZ Employee]],Table1[[#This Row],[Job Site Employee]],Table1[[#This Row],[Other Employee]])","v":0},{"$f":"IF(Table1[[#This Row],[Total Hours per Month]]=Table1[[#This Row],[Column12]],\"Match\",\"Error\")","v":"Match"},{"$f":"IF(Table1[[#This Row],[Calc 2]]=\"#NA\",\"#NA\",IF(Table1[[#This Row],[Non HZ Employee]]=Table1[[#This Row],[Max calc]],\"Non HZ Employee\", Table1[[#This Row],[Calc 2]]))","v":"#NA"}]
[1475,null,1475,{"$nulls":5},{"$f":"SUM(Table1[[#This Row],[Column4]]+Table1[[#This Row],[Column3]]+Table1[[#This Row],[Column2]]+Table1[[#This Row],[Column1]])","v":0},{"$nulls":5},{"$f":"SUM(Table1[[#This Row],[PO Employee]:[Other Employee]])","v":0},"N",{"$error":"#N/A"},{"$f":"IF(O1492>39,Table1[[#This Row],[Calc 1]],IF(O1492>1,\"Not counted as an Employee\",\"#NA\"))","v":"#NA"},{"$f":"MAX(Table1[[#This Row],[PO Employee]],Table1[[#This Row],[Other HZ Employee]],Table1[[#This Row],[Non HZ Employee]],Table1[[#This Row],[Job Site Employee]],Table1[[#This Row],[Other Employee]])","v":0},{"$f":"IF(Table1[[#This Row],[Total Hours per Month]]=Table1[[#This Row],[Column12]],\"Match\",\"Error\")","v":"Match"},{"$f":"IF(Table1[[#This Row],[Calc 2]]=\"#NA\",\"#NA\",IF(Table1[[#This Row],[Non HZ Employee]]=Table1[[#This Row],[Max calc]],\"Non HZ Employee\", Table1[[#This Row],[Calc 2]]))","v":"#NA"}]
[1476,null,1476,{"$nulls":5},{"$f":"SUM(Table1[[#This Row],[Column4]]+Table1[[#This Row],[Column3]]+Table1[[#This Row],[Column2]]+Table1[[#This Row],[Column1]])","v":0},{"$nulls":5},{"$f":"SUM(Table1[[#This Row],[PO Employee]:[Other Employee]])","v":0},"N",{"$error":"#N/A"},{"$f":"IF(O1493>39,Table1[[#This Row],[Calc 1]],IF(O1493>1,\"Not counted as an Employee\",\"#NA\"))","v":"#NA"},{"$f":"MAX(Table1[[#This Row],[PO Employee]],Table1[[#This Row],[Other HZ Employee]],Table1[[#This Row],[Non HZ Employee]],Table1[[#This Row],[Job Site Employee]],Table1[[#This Row],[Other Employee]])","v":0},{"$f":"IF(Table1[[#This Row],[Total Hours per Month]]=Table1[[#This Row],[Column12]],\"Match\",\"Error\")","v":"Match"},{"$f":"IF(Table1[[#This Row],[Calc 2]]=\"#NA\",\"#NA\",IF(Table1[[#This Row],[Non HZ Employee]]=Table1[[#This Row],[Max calc]],\"Non HZ Employee\", Table1[[#This Row],[Calc 2]]))","v":"#NA"}]
[1477,null,1477,{"$nulls":5},{"$f":"SUM(Table1[[#This Row],[Column4]]+Table1[[#This Row],[Column3]]+Table1[[#This Row],[Column2]]+Table1[[#This Row],[Column1]])","v":0},{"$nulls":5},{"$f":"SUM(Table1[[#This Row],[PO Employee]:[Other Employee]])","v":0},"N",{"$error":"#N/A"},{"$f":"IF(O1494>39,Table1[[#This Row],[Calc 1]],IF(O1494>1,\"Not counted as an Employee\",\"#NA\"))","v":"#NA"},{"$f":"MAX(Table1[[#This Row],[PO Employee]],Table1[[#This Row],[Other HZ Employee]],Table1[[#This Row],[Non HZ Employee]],Table1[[#This Row],[Job Site Employee]],Table1[[#This Row],[Other Employee]])","v":0},{"$f":"IF(Table1[[#This Row],[Total Hours per Month]]=Table1[[#This Row],[Column12]],\"Match\",\"Error\")","v":"Match"},{"$f":"IF(Table1[[#This Row],[Calc 2]]=\"#NA\",\"#NA\",IF(Table1[[#This Row],[Non HZ Employee]]=Table1[[#This Row],[Max calc]],\"Non HZ Employee\", Table1[[#This Row],[Calc 2]]))","v":"#NA"}]
[1478,null,1478,{"$nulls":5},{"$f":"SUM(Table1[[#This Row],[Column4]]+Table1[[#This Row],[Column3]]+Table1[[#This Row],[Column2]]+Table1[[#This Row],[Column1]])","v":0},{"$nulls":5},{"$f":"SUM(Table1[[#This Row],[PO Employee]:[Other Employee]])","v":0},"N",{"$error":"#N/A"},{"$f":"IF(O1495>39,Table1[[#This Row],[Calc 1]],IF(O1495>1,\"Not counted as an Employee\",\"#NA\"))","v":"#NA"},{"$f":"MAX(Table1[[#This Row],[PO Employee]],Table1[[#This Row],[Other HZ Employee]],Table1[[#This Row],[Non HZ Employee]],Table1[[#This Row],[Job Site Employee]],Table1[[#This Row],[Other Employee]])","v":0},{"$f":"IF(Table1[[#This Row],[Total Hours per Month]]=Table1[[#This Row],[Column12]],\"Match\",\"Error\")","v":"Match"},{"$f":"IF(Table1[[#This Row],[Calc 2]]=\"#NA\",\"#NA\",IF(Table1[[#This Row],[Non HZ Employee]]=Table1[[#This Row],[Max calc]],\"Non HZ Employee\", Table1[[#This Row],[Calc 2]]))","v":"#NA"}]
[1479,null,1479,{"$nulls":5},{"$f":"SUM(Table1[[#This Row],[Column4]]+Table1[[#This Row],[Column3]]+Table1[[#This Row],[Column2]]+Table1[[#This Row],[Column1]])","v":0},{"$nulls":5},{"$f":"SUM(Table1[[#This Row],[PO Employee]:[Other Employee]])","v":0},"N",{"$error":"#N/A"},{"$f":"IF(O1496>39,Table1[[#This Row],[Calc 1]],IF(O1496>1,\"Not counted as an Employee\",\"#NA\"))","v":"#NA"},{"$f":"MAX(Table1[[#This Row],[PO Employee]],Table1[[#This Row],[Other HZ Employee]],Table1[[#This Row],[Non HZ Employee]],Table1[[#This Row],[Job Site Employee]],Table1[[#This Row],[Other Employee]])","v":0},{"$f":"IF(Table1[[#This Row],[Total Hours per Month]]=Table1[[#This Row],[Column12]],\"Match\",\"Error\")","v":"Match"},{"$f":"IF(Table1[[#This Row],[Calc 2]]=\"#NA\",\"#NA\",IF(Table1[[#This Row],[Non HZ Employee]]=Table1[[#This Row],[Max calc]],\"Non HZ Employee\", Table1[[#This Row],[Calc 2]]))","v":"#NA"}]
[1480,null,1480,{"$nulls":5},{"$f":"SUM(Table1[[#This Row],[Column4]]+Table1[[#This Row],[Column3]]+Table1[[#This Row],[Column2]]+Table1[[#This Row],[Column1]])","v":0},{"$nulls":5},{"$f":"SUM(Table1[[#This Row],[PO Employee]:[Other Employee]])","v":0},"N",{"$error":"#N/A"},{"$f":"IF(O1497>39,Table1[[#This Row],[Calc 1]],IF(O1497>1,\"Not counted as an Employee\",\"#NA\"))","v":"#NA"},{"$f":"MAX(Table1[[#This Row],[PO Employee]],Table1[[#This Row],[Other HZ Employee]],Table1[[#This Row],[Non HZ Employee]],Table1[[#This Row],[Job Site Employee]],Table1[[#This Row],[Other Employee]])","v":0},{"$f":"IF(Table1[[#This Row],[Total Hours per Month]]=Table1[[#This Row],[Column12]],\"Match\",\"Error\")","v":"Match"},{"$f":"IF(Table1[[#This Row],[Calc 2]]=\"#NA\",\"#NA\",IF(Table1[[#This Row],[Non HZ Employee]]=Table1[[#This Row],[Max calc]],\"Non HZ Employee\", Table1[[#This Row],[Calc 2]]))","v":"#NA"}]
[1481,null,1481,{"$nulls":5},{"$f":"SUM(Table1[[#This Row],[Column4]]+Table1[[#This Row],[Column3]]+Table1[[#This Row],[Column2]]+Table1[[#This Row],[Column1]])","v":0},{"$nulls":5},{"$f":"SUM(Table1[[#This Row],[PO Employee]:[Other Employee]])","v":0},"N",{"$error":"#N/A"},{"$f":"IF(O1498>39,Table1[[#This Row],[Calc 1]],IF(O1498>1,\"Not counted as an Employee\",\"#NA\"))","v":"#NA"},{"$f":"MAX(Table1[[#This Row],[PO Employee]],Table1[[#This Row],[Other HZ Employee]],Table1[[#This Row],[Non HZ Employee]],Table1[[#This Row],[Job Site Employee]],Table1[[#This Row],[Other Employee]])","v":0},{"$f":"IF(Table1[[#This Row],[Total Hours per Month]]=Table1[[#This Row],[Column12]],\"Match\",\"Error\")","v":"Match"},{"$f":"IF(Table1[[#This Row],[Calc 2]]=\"#NA\",\"#NA\",IF(Table1[[#This Row],[Non HZ Employee]]=Table1[[#This Row],[Max calc]],\"Non HZ Employee\", Table1[[#This Row],[Calc 2]]))","v":"#NA"}]
[1482,null,1482,{"$nulls":5},{"$f":"SUM(Table1[[#This Row],[Column4]]+Table1[[#This Row],[Column3]]+Table1[[#This Row],[Column2]]+Table1[[#This Row],[Column1]])","v":0},{"$nulls":5},{"$f":"SUM(Table1[[#This Row],[PO Employee]:[Other Employee]])","v":0},"N",{"$error":"#N/A"},{"$f":"IF(O1499>39,Table1[[#This Row],[Calc 1]],IF(O1499>1,\"Not counted as an Employee\",\"#NA\"))","v":"#NA"},{"$f":"MAX(Table1[[#This Row],[PO Employee]],Table1[[#This Row],[Other HZ Employee]],Table1[[#This Row],[Non HZ Employee]],Table1[[#This Row],[Job Site Employee]],Table1[[#This Row],[Other Employee]])","v":0},{"$f":"IF(Table1[[#This Row],[Total Hours per Month]]=Table1[[#This Row],[Column12]],\"Match\",\"Error\")","v":"Match"},{"$f":"IF(Table1[[#This Row],[Calc 2]]=\"#NA\",\"#NA\",IF(Table1[[#This Row],[Non HZ Employee]]=Table1[[#This Row],[Max calc]],\"Non HZ Employee\", Table1[[#This Row],[Calc 2]]))","v":"#NA"}]
[1483,null,1483,{"$nulls":5},{"$f":"SUM(Table1[[#This Row],[Column4]]+Table1[[#This Row],[Column3]]+Table1[[#This Row],[Column2]]+Table1[[#This Row],[Column1]])","v":0},{"$nulls":5},{"$f":"SUM(Table1[[#This Row],[PO Employee]:[Other Employee]])","v":0},"N",{"$error":"#N/A"},{"$f":"IF(O1500>39,Table1[[#This Row],[Calc 1]],IF(O1500>1,\"Not counted as an Employee\",\"#NA\"))","v":"#NA"},{"$f":"MAX(Table1[[#This Row],[PO Employee]],Table1[[#This Row],[Other HZ Employee]],Table1[[#This Row],[Non HZ Employee]],Table1[[#This Row],[Job Site Employee]],Table1[[#This Row],[Other Employee]])","v":0},{"$f":"IF(Table1[[#This Row],[Total Hours per Month]]=Table1[[#This Row],[Column12]],\"Match\",\"Error\")","v":"Match"},{"$f":"IF(Table1[[#This Row],[Calc 2]]=\"#NA\",\"#NA\",IF(Table1[[#This Row],[Non HZ Employee]]=Table1[[#This Row],[Max calc]],\"Non HZ Employee\", Table1[[#This Row],[Calc 2]]))","v":"#NA"}]
[1484,null,1484,{"$nulls":5},{"$f":"SUM(Table1[[#This Row],[Column4]]+Table1[[#This Row],[Column3]]+Table1[[#This Row],[Column2]]+Table1[[#This Row],[Column1]])","v":0},{"$nulls":5},{"$f":"SUM(Table1[[#This Row],[PO Employee]:[Other Employee]])","v":0},"N",{"$error":"#N/A"},{"$f":"IF(O1501>39,Table1[[#This Row],[Calc 1]],IF(O1501>1,\"Not counted as an Employee\",\"#NA\"))","v":"#NA"},{"$f":"MAX(Table1[[#This Row],[PO Employee]],Table1[[#This Row],[Other HZ Employee]],Table1[[#This Row],[Non HZ Employee]],Table1[[#This Row],[Job Site Employee]],Table1[[#This Row],[Other Employee]])","v":0},{"$f":"IF(Table1[[#This Row],[Total Hours per Month]]=Table1[[#This Row],[Column12]],\"Match\",\"Error\")","v":"Match"},{"$f":"IF(Table1[[#This Row],[Calc 2]]=\"#NA\",\"#NA\",IF(Table1[[#This Row],[Non HZ Employee]]=Table1[[#This Row],[Max calc]],\"Non HZ Employee\", Table1[[#This Row],[Calc 2]]))","v":"#NA"}]
[1485,null,1485,{"$nulls":5},{"$f":"SUM(Table1[[#This Row],[Column4]]+Table1[[#This Row],[Column3]]+Table1[[#This Row],[Column2]]+Table1[[#This Row],[Column1]])","v":0},{"$nulls":5},{"$f":"SUM(Table1[[#This Row],[PO Employee]:[Other Employee]])","v":0},"N",{"$error":"#N/A"},{"$f":"IF(O1502>39,Table1[[#This Row],[Calc 1]],IF(O1502>1,\"Not counted as an Employee\",\"#NA\"))","v":"#NA"},{"$f":"MAX(Table1[[#This Row],[PO Employee]],Table1[[#This Row],[Other HZ Employee]],Table1[[#This Row],[Non HZ Employee]],Table1[[#This Row],[Job Site Employee]],Table1[[#This Row],[Other Employee]])","v":0},{"$f":"IF(Table1[[#This Row],[Total Hours per Month]]=Table1[[#This Row],[Column12]],\"Match\",\"Error\")","v":"Match"},{"$f":"IF(Table1[[#This Row],[Calc 2]]=\"#NA\",\"#NA\",IF(Table1[[#This Row],[Non HZ Employee]]=Table1[[#This Row],[Max calc]],\"Non HZ Employee\", Table1[[#This Row],[Calc 2]]))","v":"#NA"}]
[1486,null,1486,{"$nulls":5},{"$f":"SUM(Table1[[#This Row],[Column4]]+Table1[[#This Row],[Column3]]+Table1[[#This Row],[Column2]]+Table1[[#This Row],[Column1]])","v":0},{"$nulls":5},{"$f":"SUM(Table1[[#This Row],[PO Employee]:[Other Employee]])","v":0},"N",{"$error":"#N/A"},{"$f":"IF(O1503>39,Table1[[#This Row],[Calc 1]],IF(O1503>1,\"Not counted as an Employee\",\"#NA\"))","v":"#NA"},{"$f":"MAX(Table1[[#This Row],[PO Employee]],Table1[[#This Row],[Other HZ Employee]],Table1[[#This Row],[Non HZ Employee]],Table1[[#This Row],[Job Site Employee]],Table1[[#This Row],[Other Employee]])","v":0},{"$f":"IF(Table1[[#This Row],[Total Hours per Month]]=Table1[[#This Row],[Column12]],\"Match\",\"Error\")","v":"Match"},{"$f":"IF(Table1[[#This Row],[Calc 2]]=\"#NA\",\"#NA\",IF(Table1[[#This Row],[Non HZ Employee]]=Table1[[#This Row],[Max calc]],\"Non HZ Employee\", Table1[[#This Row],[Calc 2]]))","v":"#NA"}]
[1487,null,1487,{"$nulls":5},{"$f":"SUM(Table1[[#This Row],[Column4]]+Table1[[#This Row],[Column3]]+Table1[[#This Row],[Column2]]+Table1[[#This Row],[Column1]])","v":0},{"$nulls":5},{"$f":"SUM(Table1[[#This Row],[PO Employee]:[Other Employee]])","v":0},"N",{"$error":"#N/A"},{"$f":"IF(O1504>39,Table1[[#This Row],[Calc 1]],IF(O1504>1,\"Not counted as an Employee\",\"#NA\"))","v":"#NA"},{"$f":"MAX(Table1[[#This Row],[PO Employee]],Table1[[#This Row],[Other HZ Employee]],Table1[[#This Row],[Non HZ Employee]],Table1[[#This Row],[Job Site Employee]],Table1[[#This Row],[Other Employee]])","v":0},{"$f":"IF(Table1[[#This Row],[Total Hours per Month]]=Table1[[#This Row],[Column12]],\"Match\",\"Error\")","v":"Match"},{"$f":"IF(Table1[[#This Row],[Calc 2]]=\"#NA\",\"#NA\",IF(Table1[[#This Row],[Non HZ Employee]]=Table1[[#This Row],[Max calc]],\"Non HZ Employee\", Table1[[#This Row],[Calc 2]]))","v":"#NA"}]
[1488,null,1488,{"$nulls":5},{"$f":"SUM(Table1[[#This Row],[Column4]]+Table1[[#This Row],[Column3]]+Table1[[#This Row],[Column2]]+Table1[[#This Row],[Column1]])","v":0},{"$nulls":5},{"$f":"SUM(Table1[[#This Row],[PO Employee]:[Other Employee]])","v":0},"N",{"$error":"#N/A"},{"$f":"IF(O1505>39,Table1[[#This Row],[Calc 1]],IF(O1505>1,\"Not counted as an Employee\",\"#NA\"))","v":"#NA"},{"$f":"MAX(Table1[[#This Row],[PO Employee]],Table1[[#This Row],[Other HZ Employee]],Table1[[#This Row],[Non HZ Employee]],Table1[[#This Row],[Job Site Employee]],Table1[[#This Row],[Other Employee]])","v":0},{"$f":"IF(Table1[[#This Row],[Total Hours per Month]]=Table1[[#This Row],[Column12]],\"Match\",\"Error\")","v":"Match"},{"$f":"IF(Table1[[#This Row],[Calc 2]]=\"#NA\",\"#NA\",IF(Table1[[#This Row],[Non HZ Employee]]=Table1[[#This Row],[Max calc]],\"Non HZ Employee\", Table1[[#This Row],[Calc 2]]))","v":"#NA"}]
[1489,null,1489,{"$nulls":5},{"$f":"SUM(Table1[[#This Row],[Column4]]+Table1[[#This Row],[Column3]]+Table1[[#This Row],[Column2]]+Table1[[#This Row],[Column1]])","v":0},{"$nulls":5},{"$f":"SUM(Table1[[#This Row],[PO Employee]:[Other Employee]])","v":0},"N",{"$error":"#N/A"},{"$f":"IF(O1506>39,Table1[[#This Row],[Calc 1]],IF(O1506>1,\"Not counted as an Employee\",\"#NA\"))","v":"#NA"},{"$f":"MAX(Table1[[#This Row],[PO Employee]],Table1[[#This Row],[Other HZ Employee]],Table1[[#This Row],[Non HZ Employee]],Table1[[#This Row],[Job Site Employee]],Table1[[#This Row],[Other Employee]])","v":0},{"$f":"IF(Table1[[#This Row],[Total Hours per Month]]=Table1[[#This Row],[Column12]],\"Match\",\"Error\")","v":"Match"},{"$f":"IF(Table1[[#This Row],[Calc 2]]=\"#NA\",\"#NA\",IF(Table1[[#This Row],[Non HZ Employee]]=Table1[[#This Row],[Max calc]],\"Non HZ Employee\", Table1[[#This Row],[Calc 2]]))","v":"#NA"}]
[1490,null,1490,{"$nulls":5},{"$f":"SUM(Table1[[#This Row],[Column4]]+Table1[[#This Row],[Column3]]+Table1[[#This Row],[Column2]]+Table1[[#This Row],[Column1]])","v":0},{"$nulls":5},{"$f":"SUM(Table1[[#This Row],[PO Employee]:[Other Employee]])","v":0},"N",{"$error":"#N/A"},{"$f":"IF(O1507>39,Table1[[#This Row],[Calc 1]],IF(O1507>1,\"Not counted as an Employee\",\"#NA\"))","v":"#NA"},{"$f":"MAX(Table1[[#This Row],[PO Employee]],Table1[[#This Row],[Other HZ Employee]],Table1[[#This Row],[Non HZ Employee]],Table1[[#This Row],[Job Site Employee]],Table1[[#This Row],[Other Employee]])","v":0},{"$f":"IF(Table1[[#This Row],[Total Hours per Month]]=Table1[[#This Row],[Column12]],\"Match\",\"Error\")","v":"Match"},{"$f":"IF(Table1[[#This Row],[Calc 2]]=\"#NA\",\"#NA\",IF(Table1[[#This Row],[Non HZ Employee]]=Table1[[#This Row],[Max calc]],\"Non HZ Employee\", Table1[[#This Row],[Calc 2]]))","v":"#NA"}]
[1491,null,1491,{"$nulls":5},{"$f":"SUM(Table1[[#This Row],[Column4]]+Table1[[#This Row],[Column3]]+Table1[[#This Row],[Column2]]+Table1[[#This Row],[Column1]])","v":0},{"$nulls":5},{"$f":"SUM(Table1[[#This Row],[PO Employee]:[Other Employee]])","v":0},"N",{"$error":"#N/A"},{"$f":"IF(O1508>39,Table1[[#This Row],[Calc 1]],IF(O1508>1,\"Not counted as an Employee\",\"#NA\"))","v":"#NA"},{"$f":"MAX(Table1[[#This Row],[PO Employee]],Table1[[#This Row],[Other HZ Employee]],Table1[[#This Row],[Non HZ Employee]],Table1[[#This Row],[Job Site Employee]],Table1[[#This Row],[Other Employee]])","v":0},{"$f":"IF(Table1[[#This Row],[Total Hours per Month]]=Table1[[#This Row],[Column12]],\"Match\",\"Error\")","v":"Match"},{"$f":"IF(Table1[[#This Row],[Calc 2]]=\"#NA\",\"#NA\",IF(Table1[[#This Row],[Non HZ Employee]]=Table1[[#This Row],[Max calc]],\"Non HZ Employee\", Table1[[#This Row],[Calc 2]]))","v":"#NA"}]
[1492,null,1492,{"$nulls":5},{"$f":"SUM(Table1[[#This Row],[Column4]]+Table1[[#This Row],[Column3]]+Table1[[#This Row],[Column2]]+Table1[[#This Row],[Column1]])","v":0},{"$nulls":5},{"$f":"SUM(Table1[[#This Row],[PO Employee]:[Other Employee]])","v":0},"N",{"$error":"#N/A"},{"$f":"IF(O1509>39,Table1[[#This Row],[Calc 1]],IF(O1509>1,\"Not counted as an Employee\",\"#NA\"))","v":"#NA"},{"$f":"MAX(Table1[[#This Row],[PO Employee]],Table1[[#This Row],[Other HZ Employee]],Table1[[#This Row],[Non HZ Employee]],Table1[[#This Row],[Job Site Employee]],Table1[[#This Row],[Other Employee]])","v":0},{"$f":"IF(Table1[[#This Row],[Total Hours per Month]]=Table1[[#This Row],[Column12]],\"Match\",\"Error\")","v":"Match"},{"$f":"IF(Table1[[#This Row],[Calc 2]]=\"#NA\",\"#NA\",IF(Table1[[#This Row],[Non HZ Employee]]=Table1[[#This Row],[Max calc]],\"Non HZ Employee\", Table1[[#This Row],[Calc 2]]))","v":"#NA"}]
[1493,null,1493,{"$nulls":5},{"$f":"SUM(Table1[[#This Row],[Column4]]+Table1[[#This Row],[Column3]]+Table1[[#This Row],[Column2]]+Table1[[#This Row],[Column1]])","v":0},{"$nulls":5},{"$f":"SUM(Table1[[#This Row],[PO Employee]:[Other Employee]])","v":0},"N",{"$error":"#N/A"},{"$f":"IF(O1510>39,Table1[[#This Row],[Calc 1]],IF(O1510>1,\"Not counted as an Employee\",\"#NA\"))","v":"#NA"},{"$f":"MAX(Table1[[#This Row],[PO Employee]],Table1[[#This Row],[Other HZ Employee]],Table1[[#This Row],[Non HZ Employee]],Table1[[#This Row],[Job Site Employee]],Table1[[#This Row],[Other Employee]])","v":0},{"$f":"IF(Table1[[#This Row],[Total Hours per Month]]=Table1[[#This Row],[Column12]],\"Match\",\"Error\")","v":"Match"},{"$f":"IF(Table1[[#This Row],[Calc 2]]=\"#NA\",\"#NA\",IF(Table1[[#This Row],[Non HZ Employee]]=Table1[[#This Row],[Max calc]],\"Non HZ Employee\", Table1[[#This Row],[Calc 2]]))","v":"#NA"}]
[1494,null,1494,{"$nulls":5},{"$f":"SUM(Table1[[#This Row],[Column4]]+Table1[[#This Row],[Column3]]+Table1[[#This Row],[Column2]]+Table1[[#This Row],[Column1]])","v":0},{"$nulls":5},{"$f":"SUM(Table1[[#This Row],[PO Employee]:[Other Employee]])","v":0},"N",{"$error":"#N/A"},{"$f":"IF(O1511>39,Table1[[#This Row],[Calc 1]],IF(O1511>1,\"Not counted as an Employee\",\"#NA\"))","v":"#NA"},{"$f":"MAX(Table1[[#This Row],[PO Employee]],Table1[[#This Row],[Other HZ Employee]],Table1[[#This Row],[Non HZ Employee]],Table1[[#This Row],[Job Site Employee]],Table1[[#This Row],[Other Employee]])","v":0},{"$f":"IF(Table1[[#This Row],[Total Hours per Month]]=Table1[[#This Row],[Column12]],\"Match\",\"Error\")","v":"Match"},{"$f":"IF(Table1[[#This Row],[Calc 2]]=\"#NA\",\"#NA\",IF(Table1[[#This Row],[Non HZ Employee]]=Table1[[#This Row],[Max calc]],\"Non HZ Employee\", Table1[[#This Row],[Calc 2]]))","v":"#NA"}]
[1495,null,1495,{"$nulls":5},{"$f":"SUM(Table1[[#This Row],[Column4]]+Table1[[#This Row],[Column3]]+Table1[[#This Row],[Column2]]+Table1[[#This Row],[Column1]])","v":0},{"$nulls":5},{"$f":"SUM(Table1[[#This Row],[PO Employee]:[Other Employee]])","v":0},"N",{"$error":"#N/A"},{"$f":"IF(O1512>39,Table1[[#This Row],[Calc 1]],IF(O1512>1,\"Not counted as an Employee\",\"#NA\"))","v":"#NA"},{"$f":"MAX(Table1[[#This Row],[PO Employee]],Table1[[#This Row],[Other HZ Employee]],Table1[[#This Row],[Non HZ Employee]],Table1[[#This Row],[Job Site Employee]],Table1[[#This Row],[Other Employee]])","v":0},{"$f":"IF(Table1[[#This Row],[Total Hours per Month]]=Table1[[#This Row],[Column12]],\"Match\",\"Error\")","v":"Match"},{"$f":"IF(Table1[[#This Row],[Calc 2]]=\"#NA\",\"#NA\",IF(Table1[[#This Row],[Non HZ Employee]]=Table1[[#This Row],[Max calc]],\"Non HZ Employee\", Table1[[#This Row],[Calc 2]]))","v":"#NA"}]
[1496,null,1496,{"$nulls":5},{"$f":"SUM(Table1[[#This Row],[Column4]]+Table1[[#This Row],[Column3]]+Table1[[#This Row],[Column2]]+Table1[[#This Row],[Column1]])","v":0},{"$nulls":5},{"$f":"SUM(Table1[[#This Row],[PO Employee]:[Other Employee]])","v":0},"N",{"$error":"#N/A"},{"$f":"IF(O1513>39,Table1[[#This Row],[Calc 1]],IF(O1513>1,\"Not counted as an Employee\",\"#NA\"))","v":"#NA"},{"$f":"MAX(Table1[[#This Row],[PO Employee]],Table1[[#This Row],[Other HZ Employee]],Table1[[#This Row],[Non HZ Employee]],Table1[[#This Row],[Job Site Employee]],Table1[[#This Row],[Other Employee]])","v":0},{"$f":"IF(Table1[[#This Row],[Total Hours per Month]]=Table1[[#This Row],[Column12]],\"Match\",\"Error\")","v":"Match"},{"$f":"IF(Table1[[#This Row],[Calc 2]]=\"#NA\",\"#NA\",IF(Table1[[#This Row],[Non HZ Employee]]=Table1[[#This Row],[Max calc]],\"Non HZ Employee\", Table1[[#This Row],[Calc 2]]))","v":"#NA"}]
[1497,null,1497,{"$nulls":5},{"$f":"SUM(Table1[[#This Row],[Column4]]+Table1[[#This Row],[Column3]]+Table1[[#This Row],[Column2]]+Table1[[#This Row],[Column1]])","v":0},{"$nulls":5},{"$f":"SUM(Table1[[#This Row],[PO Employee]:[Other Employee]])","v":0},"N",{"$error":"#N/A"},{"$f":"IF(O1514>39,Table1[[#This Row],[Calc 1]],IF(O1514>1,\"Not counted as an Employee\",\"#NA\"))","v":"#NA"},{"$f":"MAX(Table1[[#This Row],[PO Employee]],Table1[[#This Row],[Other HZ Employee]],Table1[[#This Row],[Non HZ Employee]],Table1[[#This Row],[Job Site Employee]],Table1[[#This Row],[Other Employee]])","v":0},{"$f":"IF(Table1[[#This Row],[Total Hours per Month]]=Table1[[#This Row],[Column12]],\"Match\",\"Error\")","v":"Match"},{"$f":"IF(Table1[[#This Row],[Calc 2]]=\"#NA\",\"#NA\",IF(Table1[[#This Row],[Non HZ Employee]]=Table1[[#This Row],[Max calc]],\"Non HZ Employee\", Table1[[#This Row],[Calc 2]]))","v":"#NA"}]
[1498,null,1498,{"$nulls":5},{"$f":"SUM(Table1[[#This Row],[Column4]]+Table1[[#This Row],[Column3]]+Table1[[#This Row],[Column2]]+Table1[[#This Row],[Column1]])","v":0},{"$nulls":5},{"$f":"SUM(Table1[[#This Row],[PO Employee]:[Other Employee]])","v":0},"N",{"$error":"#N/A"},{"$f":"IF(O1515>39,Table1[[#This Row],[Calc 1]],IF(O1515>1,\"Not counted as an Employee\",\"#NA\"))","v":"#NA"},{"$f":"MAX(Table1[[#This Row],[PO Employee]],Table1[[#This Row],[Other HZ Employee]],Table1[[#This Row],[Non HZ Employee]],Table1[[#This Row],[Job Site Employee]],Table1[[#This Row],[Other Employee]])","v":0},{"$f":"IF(Table1[[#This Row],[Total Hours per Month]]=Table1[[#This Row],[Column12]],\"Match\",\"Error\")","v":"Match"},{"$f":"IF(Table1[[#This Row],[Calc 2]]=\"#NA\",\"#NA\",IF(Table1[[#This Row],[Non HZ Employee]]=Table1[[#This Row],[Max calc]],\"Non HZ Employee\", Table1[[#This Row],[Calc 2]]))","v":"#NA"}]
[1499,null,1499,{"$nulls":5},{"$f":"SUM(Table1[[#This Row],[Column4]]+Table1[[#This Row],[Column3]]+Table1[[#This Row],[Column2]]+Table1[[#This Row],[Column1]])","v":0},{"$nulls":5},{"$f":"SUM(Table1[[#This Row],[PO Employee]:[Other Employee]])","v":0},"N",{"$error":"#N/A"},{"$f":"IF(O1516>39,Table1[[#This Row],[Calc 1]],IF(O1516>1,\"Not counted as an Employee\",\"#NA\"))","v":"#NA"},{"$f":"MAX(Table1[[#This Row],[PO Employee]],Table1[[#This Row],[Other HZ Employee]],Table1[[#This Row],[Non HZ Employee]],Table1[[#This Row],[Job Site Employee]],Table1[[#This Row],[Other Employee]])","v":0},{"$f":"IF(Table1[[#This Row],[Total Hours per Month]]=Table1[[#This Row],[Column12]],\"Match\",\"Error\")","v":"Match"},{"$f":"IF(Table1[[#This Row],[Calc 2]]=\"#NA\",\"#NA\",IF(Table1[[#This Row],[Non HZ Employee]]=Table1[[#This Row],[Max calc]],\"Non HZ Employee\", Table1[[#This Row],[Calc 2]]))","v":"#NA"}]
[1500,null,1500,{"$nulls":5},{"$f":"SUM(Table1[[#This Row],[Column4]]+Table1[[#This Row],[Column3]]+Table1[[#This Row],[Column2]]+Table1[[#This Row],[Column1]])","v":0},{"$nulls":5},{"$f":"SUM(Table1[[#This Row],[PO Employee]:[Other Employee]])","v":0},"N",{"$error":"#N/A"},{"$f":"IF(O1517>39,Table1[[#This Row],[Calc 1]],IF(O1517>1,\"Not counted as an Employee\",\"#NA\"))","v":"#NA"},{"$f":"MAX(Table1[[#This Row],[PO Employee]],Table1[[#This Row],[Other HZ Employee]],Table1[[#This Row],[Non HZ Employee]],Table1[[#This Row],[Job Site Employee]],Table1[[#This Row],[Other Employee]])","v":0},{"$f":"IF(Table1[[#This Row],[Total Hours per Month]]=Table1[[#This Row],[Column12]],\"Match\",\"Error\")","v":"Match"},{"$f":"IF(Table1[[#This Row],[Calc 2]]=\"#NA\",\"#NA\",IF(Table1[[#This Row],[Non HZ Employee]]=Table1[[#This Row],[Max calc]],\"Non HZ Employee\", Table1[[#This Row],[Calc 2]]))","v":"#NA"}]
[1501,null,1501,{"$nulls":5},{"$f":"SUM(Table1[[#This Row],[Column4]]+Table1[[#This Row],[Column3]]+Table1[[#This Row],[Column2]]+Table1[[#This Row],[Column1]])","v":0},{"$nulls":5},{"$f":"SUM(Table1[[#This Row],[PO Employee]:[Other Employee]])","v":0},"N",{"$error":"#N/A"},{"$f":"IF(O1518>39,Table1[[#This Row],[Calc 1]],IF(O1518>1,\"Not counted as an Employee\",\"#NA\"))","v":"#NA"},{"$f":"MAX(Table1[[#This Row],[PO Employee]],Table1[[#This Row],[Other HZ Employee]],Table1[[#This Row],[Non HZ Employee]],Table1[[#This Row],[Job Site Employee]],Table1[[#This Row],[Other Employee]])","v":0},{"$f":"IF(Table1[[#This Row],[Total Hours per Month]]=Table1[[#This Row],[Column12]],\"Match\",\"Error\")","v":"Match"},{"$f":"IF(Table1[[#This Row],[Calc 2]]=\"#NA\",\"#NA\",IF(Table1[[#This Row],[Non HZ Employee]]=Table1[[#This Row],[Max calc]],\"Non HZ Employee\", Table1[[#This Row],[Calc 2]]))","v":"#NA"}]
[1502,null,1502,{"$nulls":5},{"$f":"SUM(Table1[[#This Row],[Column4]]+Table1[[#This Row],[Column3]]+Table1[[#This Row],[Column2]]+Table1[[#This Row],[Column1]])","v":0},{"$nulls":5},{"$f":"SUM(Table1[[#This Row],[PO Employee]:[Other Employee]])","v":0},"N",{"$error":"#N/A"},{"$f":"IF(O1519>39,Table1[[#This Row],[Calc 1]],IF(O1519>1,\"Not counted as an Employee\",\"#NA\"))","v":"#NA"},{"$f":"MAX(Table1[[#This Row],[PO Employee]],Table1[[#This Row],[Other HZ Employee]],Table1[[#This Row],[Non HZ Employee]],Table1[[#This Row],[Job Site Employee]],Table1[[#This Row],[Other Employee]])","v":0},{"$f":"IF(Table1[[#This Row],[Total Hours per Month]]=Table1[[#This Row],[Column12]],\"Match\",\"Error\")","v":"Match"},{"$f":"IF(Table1[[#This Row],[Calc 2]]=\"#NA\",\"#NA\",IF(Table1[[#This Row],[Non HZ Employee]]=Table1[[#This Row],[Max calc]],\"Non HZ Employee\", Table1[[#This Row],[Calc 2]]))","v":"#NA"}]
[1503,null,1503,{"$nulls":5},{"$f":"SUM(Table1[[#This Row],[Column4]]+Table1[[#This Row],[Column3]]+Table1[[#This Row],[Column2]]+Table1[[#This Row],[Column1]])","v":0},{"$nulls":5},{"$f":"SUM(Table1[[#This Row],[PO Employee]:[Other Employee]])","v":0},"N",{"$error":"#N/A"},{"$f":"IF(O1520>39,Table1[[#This Row],[Calc 1]],IF(O1520>1,\"Not counted as an Employee\",\"#NA\"))","v":"#NA"},{"$f":"MAX(Table1[[#This Row],[PO Employee]],Table1[[#This Row],[Other HZ Employee]],Table1[[#This Row],[Non HZ Employee]],Table1[[#This Row],[Job Site Employee]],Table1[[#This Row],[Other Employee]])","v":0},{"$f":"IF(Table1[[#This Row],[Total Hours per Month]]=Table1[[#This Row],[Column12]],\"Match\",\"Error\")","v":"Match"},{"$f":"IF(Table1[[#This Row],[Calc 2]]=\"#NA\",\"#NA\",IF(Table1[[#This Row],[Non HZ Employee]]=Table1[[#This Row],[Max calc]],\"Non HZ Employee\", Table1[[#This Row],[Calc 2]]))","v":"#NA"}]
[1504,null,1504,{"$nulls":5},{"$f":"SUM(Table1[[#This Row],[Column4]]+Table1[[#This Row],[Column3]]+Table1[[#This Row],[Column2]]+Table1[[#This Row],[Column1]])","v":0},{"$nulls":5},{"$f":"SUM(Table1[[#This Row],[PO Employee]:[Other Employee]])","v":0},"N",{"$error":"#N/A"},{"$f":"IF(O1521>39,Table1[[#This Row],[Calc 1]],IF(O1521>1,\"Not counted as an Employee\",\"#NA\"))","v":"#NA"},{"$f":"MAX(Table1[[#This Row],[PO Employee]],Table1[[#This Row],[Other HZ Employee]],Table1[[#This Row],[Non HZ Employee]],Table1[[#This Row],[Job Site Employee]],Table1[[#This Row],[Other Employee]])","v":0},{"$f":"IF(Table1[[#This Row],[Total Hours per Month]]=Table1[[#This Row],[Column12]],\"Match\",\"Error\")","v":"Match"},{"$f":"IF(Table1[[#This Row],[Calc 2]]=\"#NA\",\"#NA\",IF(Table1[[#This Row],[Non HZ Employee]]=Table1[[#This Row],[Max calc]],\"Non HZ Employee\", Table1[[#This Row],[Calc 2]]))","v":"#NA"}]
[1505,null,1505,{"$nulls":5},{"$f":"SUM(Table1[[#This Row],[Column4]]+Table1[[#This Row],[Column3]]+Table1[[#This Row],[Column2]]+Table1[[#This Row],[Column1]])","v":0},{"$nulls":5},{"$f":"SUM(Table1[[#This Row],[PO Employee]:[Other Employee]])","v":0},"N",{"$error":"#N/A"},{"$f":"IF(O1522>39,Table1[[#This Row],[Calc 1]],IF(O1522>1,\"Not counted as an Employee\",\"#NA\"))","v":"#NA"},{"$f":"MAX(Table1[[#This Row],[PO Employee]],Table1[[#This Row],[Other HZ Employee]],Table1[[#This Row],[Non HZ Employee]],Table1[[#This Row],[Job Site Employee]],Table1[[#This Row],[Other Employee]])","v":0},{"$f":"IF(Table1[[#This Row],[Total Hours per Month]]=Table1[[#This Row],[Column12]],\"Match\",\"Error\")","v":"Match"},{"$f":"IF(Table1[[#This Row],[Calc 2]]=\"#NA\",\"#NA\",IF(Table1[[#This Row],[Non HZ Employee]]=Table1[[#This Row],[Max calc]],\"Non HZ Employee\", Table1[[#This Row],[Calc 2]]))","v":"#NA"}]
[1506,null,1506,{"$nulls":5},{"$f":"SUM(Table1[[#This Row],[Column4]]+Table1[[#This Row],[Column3]]+Table1[[#This Row],[Column2]]+Table1[[#This Row],[Column1]])","v":0},{"$nulls":5},{"$f":"SUM(Table1[[#This Row],[PO Employee]:[Other Employee]])","v":0},"N",{"$error":"#N/A"},{"$f":"IF(O1523>39,Table1[[#This Row],[Calc 1]],IF(O1523>1,\"Not counted as an Employee\",\"#NA\"))","v":"#NA"},{"$f":"MAX(Table1[[#This Row],[PO Employee]],Table1[[#This Row],[Other HZ Employee]],Table1[[#This Row],[Non HZ Employee]],Table1[[#This Row],[Job Site Employee]],Table1[[#This Row],[Other Employee]])","v":0},{"$f":"IF(Table1[[#This Row],[Total Hours per Month]]=Table1[[#This Row],[Column12]],\"Match\",\"Error\")","v":"Match"},{"$f":"IF(Table1[[#This Row],[Calc 2]]=\"#NA\",\"#NA\",IF(Table1[[#This Row],[Non HZ Employee]]=Table1[[#This Row],[Max calc]],\"Non HZ Employee\", Table1[[#This Row],[Calc 2]]))","v":"#NA"}]
[1507,null,1507,{"$nulls":5},{"$f":"SUM(Table1[[#This Row],[Column4]]+Table1[[#This Row],[Column3]]+Table1[[#This Row],[Column2]]+Table1[[#This Row],[Column1]])","v":0},{"$nulls":5},{"$f":"SUM(Table1[[#This Row],[PO Employee]:[Other Employee]])","v":0},"N",{"$error":"#N/A"},{"$f":"IF(O1524>39,Table1[[#This Row],[Calc 1]],IF(O1524>1,\"Not counted as an Employee\",\"#NA\"))","v":"#NA"},{"$f":"MAX(Table1[[#This Row],[PO Employee]],Table1[[#This Row],[Other HZ Employee]],Table1[[#This Row],[Non HZ Employee]],Table1[[#This Row],[Job Site Employee]],Table1[[#This Row],[Other Employee]])","v":0},{"$f":"IF(Table1[[#This Row],[Total Hours per Month]]=Table1[[#This Row],[Column12]],\"Match\",\"Error\")","v":"Match"},{"$f":"IF(Table1[[#This Row],[Calc 2]]=\"#NA\",\"#NA\",IF(Table1[[#This Row],[Non HZ Employee]]=Table1[[#This Row],[Max calc]],\"Non HZ Employee\", Table1[[#This Row],[Calc 2]]))","v":"#NA"}]
[1508,null,1508,{"$nulls":5},{"$f":"SUM(Table1[[#This Row],[Column4]]+Table1[[#This Row],[Column3]]+Table1[[#This Row],[Column2]]+Table1[[#This Row],[Column1]])","v":0},{"$nulls":5},{"$f":"SUM(Table1[[#This Row],[PO Employee]:[Other Employee]])","v":0},"N",{"$error":"#N/A"},{"$f":"IF(O1525>39,Table1[[#This Row],[Calc 1]],IF(O1525>1,\"Not counted as an Employee\",\"#NA\"))","v":"#NA"},{"$f":"MAX(Table1[[#This Row],[PO Employee]],Table1[[#This Row],[Other HZ Employee]],Table1[[#This Row],[Non HZ Employee]],Table1[[#This Row],[Job Site Employee]],Table1[[#This Row],[Other Employee]])","v":0},{"$f":"IF(Table1[[#This Row],[Total Hours per Month]]=Table1[[#This Row],[Column12]],\"Match\",\"Error\")","v":"Match"},{"$f":"IF(Table1[[#This Row],[Calc 2]]=\"#NA\",\"#NA\",IF(Table1[[#This Row],[Non HZ Employee]]=Table1[[#This Row],[Max calc]],\"Non HZ Employee\", Table1[[#This Row],[Calc 2]]))","v":"#NA"}]
[1509,null,1509,{"$nulls":5},{"$f":"SUM(Table1[[#This Row],[Column4]]+Table1[[#This Row],[Column3]]+Table1[[#This Row],[Column2]]+Table1[[#This Row],[Column1]])","v":0},{"$nulls":5},{"$f":"SUM(Table1[[#This Row],[PO Employee]:[Other Employee]])","v":0},"N",{"$error":"#N/A"},{"$f":"IF(O1526>39,Table1[[#This Row],[Calc 1]],IF(O1526>1,\"Not counted as an Employee\",\"#NA\"))","v":"#NA"},{"$f":"MAX(Table1[[#This Row],[PO Employee]],Table1[[#This Row],[Other HZ Employee]],Table1[[#This Row],[Non HZ Employee]],Table1[[#This Row],[Job Site Employee]],Table1[[#This Row],[Other Employee]])","v":0},{"$f":"IF(Table1[[#This Row],[Total Hours per Month]]=Table1[[#This Row],[Column12]],\"Match\",\"Error\")","v":"Match"},{"$f":"IF(Table1[[#This Row],[Calc 2]]=\"#NA\",\"#NA\",IF(Table1[[#This Row],[Non HZ Employee]]=Table1[[#This Row],[Max calc]],\"Non HZ Employee\", Table1[[#This Row],[Calc 2]]))","v":"#NA"}]
[1510,null,1510,{"$nulls":5},{"$f":"SUM(Table1[[#This Row],[Column4]]+Table1[[#This Row],[Column3]]+Table1[[#This Row],[Column2]]+Table1[[#This Row],[Column1]])","v":0},{"$nulls":5},{"$f":"SUM(Table1[[#This Row],[PO Employee]:[Other Employee]])","v":0},"N",{"$error":"#N/A"},{"$f":"IF(O1527>39,Table1[[#This Row],[Calc 1]],IF(O1527>1,\"Not counted as an Employee\",\"#NA\"))","v":"#NA"},{"$f":"MAX(Table1[[#This Row],[PO Employee]],Table1[[#This Row],[Other HZ Employee]],Table1[[#This Row],[Non HZ Employee]],Table1[[#This Row],[Job Site Employee]],Table1[[#This Row],[Other Employee]])","v":0},{"$f":"IF(Table1[[#This Row],[Total Hours per Month]]=Table1[[#This Row],[Column12]],\"Match\",\"Error\")","v":"Match"},{"$f":"IF(Table1[[#This Row],[Calc 2]]=\"#NA\",\"#NA\",IF(Table1[[#This Row],[Non HZ Employee]]=Table1[[#This Row],[Max calc]],\"Non HZ Employee\", Table1[[#This Row],[Calc 2]]))","v":"#NA"}]
[1511,null,1511,{"$nulls":5},{"$f":"SUM(Table1[[#This Row],[Column4]]+Table1[[#This Row],[Column3]]+Table1[[#This Row],[Column2]]+Table1[[#This Row],[Column1]])","v":0},{"$nulls":5},{"$f":"SUM(Table1[[#This Row],[PO Employee]:[Other Employee]])","v":0},"N",{"$error":"#N/A"},{"$f":"IF(O1528>39,Table1[[#This Row],[Calc 1]],IF(O1528>1,\"Not counted as an Employee\",\"#NA\"))","v":"#NA"},{"$f":"MAX(Table1[[#This Row],[PO Employee]],Table1[[#This Row],[Other HZ Employee]],Table1[[#This Row],[Non HZ Employee]],Table1[[#This Row],[Job Site Employee]],Table1[[#This Row],[Other Employee]])","v":0},{"$f":"IF(Table1[[#This Row],[Total Hours per Month]]=Table1[[#This Row],[Column12]],\"Match\",\"Error\")","v":"Match"},{"$f":"IF(Table1[[#This Row],[Calc 2]]=\"#NA\",\"#NA\",IF(Table1[[#This Row],[Non HZ Employee]]=Table1[[#This Row],[Max calc]],\"Non HZ Employee\", Table1[[#This Row],[Calc 2]]))","v":"#NA"}]
[1512,null,1512,{"$nulls":5},{"$f":"SUM(Table1[[#This Row],[Column4]]+Table1[[#This Row],[Column3]]+Table1[[#This Row],[Column2]]+Table1[[#This Row],[Column1]])","v":0},{"$nulls":5},{"$f":"SUM(Table1[[#This Row],[PO Employee]:[Other Employee]])","v":0},"N",{"$error":"#N/A"},{"$f":"IF(O1529>39,Table1[[#This Row],[Calc 1]],IF(O1529>1,\"Not counted as an Employee\",\"#NA\"))","v":"#NA"},{"$f":"MAX(Table1[[#This Row],[PO Employee]],Table1[[#This Row],[Other HZ Employee]],Table1[[#This Row],[Non HZ Employee]],Table1[[#This Row],[Job Site Employee]],Table1[[#This Row],[Other Employee]])","v":0},{"$f":"IF(Table1[[#This Row],[Total Hours per Month]]=Table1[[#This Row],[Column12]],\"Match\",\"Error\")","v":"Match"},{"$f":"IF(Table1[[#This Row],[Calc 2]]=\"#NA\",\"#NA\",IF(Table1[[#This Row],[Non HZ Employee]]=Table1[[#This Row],[Max calc]],\"Non HZ Employee\", Table1[[#This Row],[Calc 2]]))","v":"#NA"}]
[1513,null,1513,{"$nulls":5},{"$f":"SUM(Table1[[#This Row],[Column4]]+Table1[[#This Row],[Column3]]+Table1[[#This Row],[Column2]]+Table1[[#This Row],[Column1]])","v":0},{"$nulls":5},{"$f":"SUM(Table1[[#This Row],[PO Employee]:[Other Employee]])","v":0},"N",{"$error":"#N/A"},{"$f":"IF(O1530>39,Table1[[#This Row],[Calc 1]],IF(O1530>1,\"Not counted as an Employee\",\"#NA\"))","v":"#NA"},{"$f":"MAX(Table1[[#This Row],[PO Employee]],Table1[[#This Row],[Other HZ Employee]],Table1[[#This Row],[Non HZ Employee]],Table1[[#This Row],[Job Site Employee]],Table1[[#This Row],[Other Employee]])","v":0},{"$f":"IF(Table1[[#This Row],[Total Hours per Month]]=Table1[[#This Row],[Column12]],\"Match\",\"Error\")","v":"Match"},{"$f":"IF(Table1[[#This Row],[Calc 2]]=\"#NA\",\"#NA\",IF(Table1[[#This Row],[Non HZ Employee]]=Table1[[#This Row],[Max calc]],\"Non HZ Employee\", Table1[[#This Row],[Calc 2]]))","v":"#NA"}]
[1514,null,1514,{"$nulls":5},{"$f":"SUM(Table1[[#This Row],[Column4]]+Table1[[#This Row],[Column3]]+Table1[[#This Row],[Column2]]+Table1[[#This Row],[Column1]])","v":0},{"$nulls":5},{"$f":"SUM(Table1[[#This Row],[PO Employee]:[Other Employee]])","v":0},"N",{"$error":"#N/A"},{"$f":"IF(O1531>39,Table1[[#This Row],[Calc 1]],IF(O1531>1,\"Not counted as an Employee\",\"#NA\"))","v":"#NA"},{"$f":"MAX(Table1[[#This Row],[PO Employee]],Table1[[#This Row],[Other HZ Employee]],Table1[[#This Row],[Non HZ Employee]],Table1[[#This Row],[Job Site Employee]],Table1[[#This Row],[Other Employee]])","v":0},{"$f":"IF(Table1[[#This Row],[Total Hours per Month]]=Table1[[#This Row],[Column12]],\"Match\",\"Error\")","v":"Match"},{"$f":"IF(Table1[[#This Row],[Calc 2]]=\"#NA\",\"#NA\",IF(Table1[[#This Row],[Non HZ Employee]]=Table1[[#This Row],[Max calc]],\"Non HZ Employee\", Table1[[#This Row],[Calc 2]]))","v":"#NA"}]
[1515,null,1515,{"$nulls":5},{"$f":"SUM(Table1[[#This Row],[Column4]]+Table1[[#This Row],[Column3]]+Table1[[#This Row],[Column2]]+Table1[[#This Row],[Column1]])","v":0},{"$nulls":5},{"$f":"SUM(Table1[[#This Row],[PO Employee]:[Other Employee]])","v":0},"N",{"$error":"#N/A"},{"$f":"IF(O1532>39,Table1[[#This Row],[Calc 1]],IF(O1532>1,\"Not counted as an Employee\",\"#NA\"))","v":"#NA"},{"$f":"MAX(Table1[[#This Row],[PO Employee]],Table1[[#This Row],[Other HZ Employee]],Table1[[#This Row],[Non HZ Employee]],Table1[[#This Row],[Job Site Employee]],Table1[[#This Row],[Other Employee]])","v":0},{"$f":"IF(Table1[[#This Row],[Total Hours per Month]]=Table1[[#This Row],[Column12]],\"Match\",\"Error\")","v":"Match"},{"$f":"IF(Table1[[#This Row],[Calc 2]]=\"#NA\",\"#NA\",IF(Table1[[#This Row],[Non HZ Employee]]=Table1[[#This Row],[Max calc]],\"Non HZ Employee\", Table1[[#This Row],[Calc 2]]))","v":"#NA"}]
[1516,null,1516,{"$nulls":5},{"$f":"SUM(Table1[[#This Row],[Column4]]+Table1[[#This Row],[Column3]]+Table1[[#This Row],[Column2]]+Table1[[#This Row],[Column1]])","v":0},{"$nulls":5},{"$f":"SUM(Table1[[#This Row],[PO Employee]:[Other Employee]])","v":0},"N",{"$error":"#N/A"},{"$f":"IF(O1533>39,Table1[[#This Row],[Calc 1]],IF(O1533>1,\"Not counted as an Employee\",\"#NA\"))","v":"#NA"},{"$f":"MAX(Table1[[#This Row],[PO Employee]],Table1[[#This Row],[Other HZ Employee]],Table1[[#This Row],[Non HZ Employee]],Table1[[#This Row],[Job Site Employee]],Table1[[#This Row],[Other Employee]])","v":0},{"$f":"IF(Table1[[#This Row],[Total Hours per Month]]=Table1[[#This Row],[Column12]],\"Match\",\"Error\")","v":"Match"},{"$f":"IF(Table1[[#This Row],[Calc 2]]=\"#NA\",\"#NA\",IF(Table1[[#This Row],[Non HZ Employee]]=Table1[[#This Row],[Max calc]],\"Non HZ Employee\", Table1[[#This Row],[Calc 2]]))","v":"#NA"}]
[1517,null,1517,{"$nulls":5},{"$f":"SUM(Table1[[#This Row],[Column4]]+Table1[[#This Row],[Column3]]+Table1[[#This Row],[Column2]]+Table1[[#This Row],[Column1]])","v":0},{"$nulls":5},{"$f":"SUM(Table1[[#This Row],[PO Employee]:[Other Employee]])","v":0},"N",{"$error":"#N/A"},{"$f":"IF(O1534>39,Table1[[#This Row],[Calc 1]],IF(O1534>1,\"Not counted as an Employee\",\"#NA\"))","v":"#NA"},{"$f":"MAX(Table1[[#This Row],[PO Employee]],Table1[[#This Row],[Other HZ Employee]],Table1[[#This Row],[Non HZ Employee]],Table1[[#This Row],[Job Site Employee]],Table1[[#This Row],[Other Employee]])","v":0},{"$f":"IF(Table1[[#This Row],[Total Hours per Month]]=Table1[[#This Row],[Column12]],\"Match\",\"Error\")","v":"Match"},{"$f":"IF(Table1[[#This Row],[Calc 2]]=\"#NA\",\"#NA\",IF(Table1[[#This Row],[Non HZ Employee]]=Table1[[#This Row],[Max calc]],\"Non HZ Employee\", Table1[[#This Row],[Calc 2]]))","v":"#NA"}]
[1518,null,1518,{"$nulls":5},{"$f":"SUM(Table1[[#This Row],[Column4]]+Table1[[#This Row],[Column3]]+Table1[[#This Row],[Column2]]+Table1[[#This Row],[Column1]])","v":0},{"$nulls":5},{"$f":"SUM(Table1[[#This Row],[PO Employee]:[Other Employee]])","v":0},"N",{"$error":"#N/A"},{"$f":"IF(O1535>39,Table1[[#This Row],[Calc 1]],IF(O1535>1,\"Not counted as an Employee\",\"#NA\"))","v":"#NA"},{"$f":"MAX(Table1[[#This Row],[PO Employee]],Table1[[#This Row],[Other HZ Employee]],Table1[[#This Row],[Non HZ Employee]],Table1[[#This Row],[Job Site Employee]],Table1[[#This Row],[Other Employee]])","v":0},{"$f":"IF(Table1[[#This Row],[Total Hours per Month]]=Table1[[#This Row],[Column12]],\"Match\",\"Error\")","v":"Match"},{"$f":"IF(Table1[[#This Row],[Calc 2]]=\"#NA\",\"#NA\",IF(Table1[[#This Row],[Non HZ Employee]]=Table1[[#This Row],[Max calc]],\"Non HZ Employee\", Table1[[#This Row],[Calc 2]]))","v":"#NA"}]
[1519,null,1519,{"$nulls":5},{"$f":"SUM(Table1[[#This Row],[Column4]]+Table1[[#This Row],[Column3]]+Table1[[#This Row],[Column2]]+Table1[[#This Row],[Column1]])","v":0},{"$nulls":5},{"$f":"SUM(Table1[[#This Row],[PO Employee]:[Other Employee]])","v":0},"N",{"$error":"#N/A"},{"$f":"IF(O1536>39,Table1[[#This Row],[Calc 1]],IF(O1536>1,\"Not counted as an Employee\",\"#NA\"))","v":"#NA"},{"$f":"MAX(Table1[[#This Row],[PO Employee]],Table1[[#This Row],[Other HZ Employee]],Table1[[#This Row],[Non HZ Employee]],Table1[[#This Row],[Job Site Employee]],Table1[[#This Row],[Other Employee]])","v":0},{"$f":"IF(Table1[[#This Row],[Total Hours per Month]]=Table1[[#This Row],[Column12]],\"Match\",\"Error\")","v":"Match"},{"$f":"IF(Table1[[#This Row],[Calc 2]]=\"#NA\",\"#NA\",IF(Table1[[#This Row],[Non HZ Employee]]=Table1[[#This Row],[Max calc]],\"Non HZ Employee\", Table1[[#This Row],[Calc 2]]))","v":"#NA"}]
[1520,null,1520,{"$nulls":5},{"$f":"SUM(Table1[[#This Row],[Column4]]+Table1[[#This Row],[Column3]]+Table1[[#This Row],[Column2]]+Table1[[#This Row],[Column1]])","v":0},{"$nulls":5},{"$f":"SUM(Table1[[#This Row],[PO Employee]:[Other Employee]])","v":0},"N",{"$error":"#N/A"},{"$f":"IF(O1537>39,Table1[[#This Row],[Calc 1]],IF(O1537>1,\"Not counted as an Employee\",\"#NA\"))","v":"#NA"},{"$f":"MAX(Table1[[#This Row],[PO Employee]],Table1[[#This Row],[Other HZ Employee]],Table1[[#This Row],[Non HZ Employee]],Table1[[#This Row],[Job Site Employee]],Table1[[#This Row],[Other Employee]])","v":0},{"$f":"IF(Table1[[#This Row],[Total Hours per Month]]=Table1[[#This Row],[Column12]],\"Match\",\"Error\")","v":"Match"},{"$f":"IF(Table1[[#This Row],[Calc 2]]=\"#NA\",\"#NA\",IF(Table1[[#This Row],[Non HZ Employee]]=Table1[[#This Row],[Max calc]],\"Non HZ Employee\", Table1[[#This Row],[Calc 2]]))","v":"#NA"}]
[1521,null,1521,{"$nulls":5},{"$f":"SUM(Table1[[#This Row],[Column4]]+Table1[[#This Row],[Column3]]+Table1[[#This Row],[Column2]]+Table1[[#This Row],[Column1]])","v":0},{"$nulls":5},{"$f":"SUM(Table1[[#This Row],[PO Employee]:[Other Employee]])","v":0},"N",{"$error":"#N/A"},{"$f":"IF(O1538>39,Table1[[#This Row],[Calc 1]],IF(O1538>1,\"Not counted as an Employee\",\"#NA\"))","v":"#NA"},{"$f":"MAX(Table1[[#This Row],[PO Employee]],Table1[[#This Row],[Other HZ Employee]],Table1[[#This Row],[Non HZ Employee]],Table1[[#This Row],[Job Site Employee]],Table1[[#This Row],[Other Employee]])","v":0},{"$f":"IF(Table1[[#This Row],[Total Hours per Month]]=Table1[[#This Row],[Column12]],\"Match\",\"Error\")","v":"Match"},{"$f":"IF(Table1[[#This Row],[Calc 2]]=\"#NA\",\"#NA\",IF(Table1[[#This Row],[Non HZ Employee]]=Table1[[#This Row],[Max calc]],\"Non HZ Employee\", Table1[[#This Row],[Calc 2]]))","v":"#NA"}]
[1522,null,1522,{"$nulls":5},{"$f":"SUM(Table1[[#This Row],[Column4]]+Table1[[#This Row],[Column3]]+Table1[[#This Row],[Column2]]+Table1[[#This Row],[Column1]])","v":0},{"$nulls":5},{"$f":"SUM(Table1[[#This Row],[PO Employee]:[Other Employee]])","v":0},"N",{"$error":"#N/A"},{"$f":"IF(O1539>39,Table1[[#This Row],[Calc 1]],IF(O1539>1,\"Not counted as an Employee\",\"#NA\"))","v":"#NA"},{"$f":"MAX(Table1[[#This Row],[PO Employee]],Table1[[#This Row],[Other HZ Employee]],Table1[[#This Row],[Non HZ Employee]],Table1[[#This Row],[Job Site Employee]],Table1[[#This Row],[Other Employee]])","v":0},{"$f":"IF(Table1[[#This Row],[Total Hours per Month]]=Table1[[#This Row],[Column12]],\"Match\",\"Error\")","v":"Match"},{"$f":"IF(Table1[[#This Row],[Calc 2]]=\"#NA\",\"#NA\",IF(Table1[[#This Row],[Non HZ Employee]]=Table1[[#This Row],[Max calc]],\"Non HZ Employee\", Table1[[#This Row],[Calc 2]]))","v":"#NA"}]
[1523,null,1523,{"$nulls":5},{"$f":"SUM(Table1[[#This Row],[Column4]]+Table1[[#This Row],[Column3]]+Table1[[#This Row],[Column2]]+Table1[[#This Row],[Column1]])","v":0},{"$nulls":5},{"$f":"SUM(Table1[[#This Row],[PO Employee]:[Other Employee]])","v":0},"N",{"$error":"#N/A"},{"$f":"IF(O1540>39,Table1[[#This Row],[Calc 1]],IF(O1540>1,\"Not counted as an Employee\",\"#NA\"))","v":"#NA"},{"$f":"MAX(Table1[[#This Row],[PO Employee]],Table1[[#This Row],[Other HZ Employee]],Table1[[#This Row],[Non HZ Employee]],Table1[[#This Row],[Job Site Employee]],Table1[[#This Row],[Other Employee]])","v":0},{"$f":"IF(Table1[[#This Row],[Total Hours per Month]]=Table1[[#This Row],[Column12]],\"Match\",\"Error\")","v":"Match"},{"$f":"IF(Table1[[#This Row],[Calc 2]]=\"#NA\",\"#NA\",IF(Table1[[#This Row],[Non HZ Employee]]=Table1[[#This Row],[Max calc]],\"Non HZ Employee\", Table1[[#This Row],[Calc 2]]))","v":"#NA"}]
[1524,null,1524,{"$nulls":5},{"$f":"SUM(Table1[[#This Row],[Column4]]+Table1[[#This Row],[Column3]]+Table1[[#This Row],[Column2]]+Table1[[#This Row],[Column1]])","v":0},{"$nulls":5},{"$f":"SUM(Table1[[#This Row],[PO Employee]:[Other Employee]])","v":0},"N",{"$error":"#N/A"},{"$f":"IF(O1541>39,Table1[[#This Row],[Calc 1]],IF(O1541>1,\"Not counted as an Employee\",\"#NA\"))","v":"#NA"},{"$f":"MAX(Table1[[#This Row],[PO Employee]],Table1[[#This Row],[Other HZ Employee]],Table1[[#This Row],[Non HZ Employee]],Table1[[#This Row],[Job Site Employee]],Table1[[#This Row],[Other Employee]])","v":0},{"$f":"IF(Table1[[#This Row],[Total Hours per Month]]=Table1[[#This Row],[Column12]],\"Match\",\"Error\")","v":"Match"},{"$f":"IF(Table1[[#This Row],[Calc 2]]=\"#NA\",\"#NA\",IF(Table1[[#This Row],[Non HZ Employee]]=Table1[[#This Row],[Max calc]],\"Non HZ Employee\", Table1[[#This Row],[Calc 2]]))","v":"#NA"}]
[1525,null,1525,{"$nulls":5},{"$f":"SUM(Table1[[#This Row],[Column4]]+Table1[[#This Row],[Column3]]+Table1[[#This Row],[Column2]]+Table1[[#This Row],[Column1]])","v":0},{"$nulls":5},{"$f":"SUM(Table1[[#This Row],[PO Employee]:[Other Employee]])","v":0},"N",{"$error":"#N/A"},{"$f":"IF(O1542>39,Table1[[#This Row],[Calc 1]],IF(O1542>1,\"Not counted as an Employee\",\"#NA\"))","v":"#NA"},{"$f":"MAX(Table1[[#This Row],[PO Employee]],Table1[[#This Row],[Other HZ Employee]],Table1[[#This Row],[Non HZ Employee]],Table1[[#This Row],[Job Site Employee]],Table1[[#This Row],[Other Employee]])","v":0},{"$f":"IF(Table1[[#This Row],[Total Hours per Month]]=Table1[[#This Row],[Column12]],\"Match\",\"Error\")","v":"Match"},{"$f":"IF(Table1[[#This Row],[Calc 2]]=\"#NA\",\"#NA\",IF(Table1[[#This Row],[Non HZ Employee]]=Table1[[#This Row],[Max calc]],\"Non HZ Employee\", Table1[[#This Row],[Calc 2]]))","v":"#NA"}]
[1526,null,1526,{"$nulls":5},{"$f":"SUM(Table1[[#This Row],[Column4]]+Table1[[#This Row],[Column3]]+Table1[[#This Row],[Column2]]+Table1[[#This Row],[Column1]])","v":0},{"$nulls":5},{"$f":"SUM(Table1[[#This Row],[PO Employee]:[Other Employee]])","v":0},"N",{"$error":"#N/A"},{"$f":"IF(O1543>39,Table1[[#This Row],[Calc 1]],IF(O1543>1,\"Not counted as an Employee\",\"#NA\"))","v":"#NA"},{"$f":"MAX(Table1[[#This Row],[PO Employee]],Table1[[#This Row],[Other HZ Employee]],Table1[[#This Row],[Non HZ Employee]],Table1[[#This Row],[Job Site Employee]],Table1[[#This Row],[Other Employee]])","v":0},{"$f":"IF(Table1[[#This Row],[Total Hours per Month]]=Table1[[#This Row],[Column12]],\"Match\",\"Error\")","v":"Match"},{"$f":"IF(Table1[[#This Row],[Calc 2]]=\"#NA\",\"#NA\",IF(Table1[[#This Row],[Non HZ Employee]]=Table1[[#This Row],[Max calc]],\"Non HZ Employee\", Table1[[#This Row],[Calc 2]]))","v":"#NA"}]
[1527,null,1527,{"$nulls":5},{"$f":"SUM(Table1[[#This Row],[Column4]]+Table1[[#This Row],[Column3]]+Table1[[#This Row],[Column2]]+Table1[[#This Row],[Column1]])","v":0},{"$nulls":5},{"$f":"SUM(Table1[[#This Row],[PO Employee]:[Other Employee]])","v":0},"N",{"$error":"#N/A"},{"$f":"IF(O1544>39,Table1[[#This Row],[Calc 1]],IF(O1544>1,\"Not counted as an Employee\",\"#NA\"))","v":"#NA"},{"$f":"MAX(Table1[[#This Row],[PO Employee]],Table1[[#This Row],[Other HZ Employee]],Table1[[#This Row],[Non HZ Employee]],Table1[[#This Row],[Job Site Employee]],Table1[[#This Row],[Other Employee]])","v":0},{"$f":"IF(Table1[[#This Row],[Total Hours per Month]]=Table1[[#This Row],[Column12]],\"Match\",\"Error\")","v":"Match"},{"$f":"IF(Table1[[#This Row],[Calc 2]]=\"#NA\",\"#NA\",IF(Table1[[#This Row],[Non HZ Employee]]=Table1[[#This Row],[Max calc]],\"Non HZ Employee\", Table1[[#This Row],[Calc 2]]))","v":"#NA"}]
[1528,null,1528,{"$nulls":5},{"$f":"SUM(Table1[[#This Row],[Column4]]+Table1[[#This Row],[Column3]]+Table1[[#This Row],[Column2]]+Table1[[#This Row],[Column1]])","v":0},{"$nulls":5},{"$f":"SUM(Table1[[#This Row],[PO Employee]:[Other Employee]])","v":0},"N",{"$error":"#N/A"},{"$f":"IF(O1545>39,Table1[[#This Row],[Calc 1]],IF(O1545>1,\"Not counted as an Employee\",\"#NA\"))","v":"#NA"},{"$f":"MAX(Table1[[#This Row],[PO Employee]],Table1[[#This Row],[Other HZ Employee]],Table1[[#This Row],[Non HZ Employee]],Table1[[#This Row],[Job Site Employee]],Table1[[#This Row],[Other Employee]])","v":0},{"$f":"IF(Table1[[#This Row],[Total Hours per Month]]=Table1[[#This Row],[Column12]],\"Match\",\"Error\")","v":"Match"},{"$f":"IF(Table1[[#This Row],[Calc 2]]=\"#NA\",\"#NA\",IF(Table1[[#This Row],[Non HZ Employee]]=Table1[[#This Row],[Max calc]],\"Non HZ Employee\", Table1[[#This Row],[Calc 2]]))","v":"#NA"}]
[1529,null,1529,{"$nulls":5},{"$f":"SUM(Table1[[#This Row],[Column4]]+Table1[[#This Row],[Column3]]+Table1[[#This Row],[Column2]]+Table1[[#This Row],[Column1]])","v":0},{"$nulls":5},{"$f":"SUM(Table1[[#This Row],[PO Employee]:[Other Employee]])","v":0},"N",{"$error":"#N/A"},{"$f":"IF(O1546>39,Table1[[#This Row],[Calc 1]],IF(O1546>1,\"Not counted as an Employee\",\"#NA\"))","v":"#NA"},{"$f":"MAX(Table1[[#This Row],[PO Employee]],Table1[[#This Row],[Other HZ Employee]],Table1[[#This Row],[Non HZ Employee]],Table1[[#This Row],[Job Site Employee]],Table1[[#This Row],[Other Employee]])","v":0},{"$f":"IF(Table1[[#This Row],[Total Hours per Month]]=Table1[[#This Row],[Column12]],\"Match\",\"Error\")","v":"Match"},{"$f":"IF(Table1[[#This Row],[Calc 2]]=\"#NA\",\"#NA\",IF(Table1[[#This Row],[Non HZ Employee]]=Table1[[#This Row],[Max calc]],\"Non HZ Employee\", Table1[[#This Row],[Calc 2]]))","v":"#NA"}]
[1530,null,1530,{"$nulls":5},{"$f":"SUM(Table1[[#This Row],[Column4]]+Table1[[#This Row],[Column3]]+Table1[[#This Row],[Column2]]+Table1[[#This Row],[Column1]])","v":0},{"$nulls":5},{"$f":"SUM(Table1[[#This Row],[PO Employee]:[Other Employee]])","v":0},"N",{"$error":"#N/A"},{"$f":"IF(O1547>39,Table1[[#This Row],[Calc 1]],IF(O1547>1,\"Not counted as an Employee\",\"#NA\"))","v":"#NA"},{"$f":"MAX(Table1[[#This Row],[PO Employee]],Table1[[#This Row],[Other HZ Employee]],Table1[[#This Row],[Non HZ Employee]],Table1[[#This Row],[Job Site Employee]],Table1[[#This Row],[Other Employee]])","v":0},{"$f":"IF(Table1[[#This Row],[Total Hours per Month]]=Table1[[#This Row],[Column12]],\"Match\",\"Error\")","v":"Match"},{"$f":"IF(Table1[[#This Row],[Calc 2]]=\"#NA\",\"#NA\",IF(Table1[[#This Row],[Non HZ Employee]]=Table1[[#This Row],[Max calc]],\"Non HZ Employee\", Table1[[#This Row],[Calc 2]]))","v":"#NA"}]
[1531,null,1531,{"$nulls":5},{"$f":"SUM(Table1[[#This Row],[Column4]]+Table1[[#This Row],[Column3]]+Table1[[#This Row],[Column2]]+Table1[[#This Row],[Column1]])","v":0},{"$nulls":5},{"$f":"SUM(Table1[[#This Row],[PO Employee]:[Other Employee]])","v":0},"N",{"$error":"#N/A"},{"$f":"IF(O1548>39,Table1[[#This Row],[Calc 1]],IF(O1548>1,\"Not counted as an Employee\",\"#NA\"))","v":"#NA"},{"$f":"MAX(Table1[[#This Row],[PO Employee]],Table1[[#This Row],[Other HZ Employee]],Table1[[#This Row],[Non HZ Employee]],Table1[[#This Row],[Job Site Employee]],Table1[[#This Row],[Other Employee]])","v":0},{"$f":"IF(Table1[[#This Row],[Total Hours per Month]]=Table1[[#This Row],[Column12]],\"Match\",\"Error\")","v":"Match"},{"$f":"IF(Table1[[#This Row],[Calc 2]]=\"#NA\",\"#NA\",IF(Table1[[#This Row],[Non HZ Employee]]=Table1[[#This Row],[Max calc]],\"Non HZ Employee\", Table1[[#This Row],[Calc 2]]))","v":"#NA"}]
[1532,null,1532,{"$nulls":5},{"$f":"SUM(Table1[[#This Row],[Column4]]+Table1[[#This Row],[Column3]]+Table1[[#This Row],[Column2]]+Table1[[#This Row],[Column1]])","v":0},{"$nulls":5},{"$f":"SUM(Table1[[#This Row],[PO Employee]:[Other Employee]])","v":0},"N",{"$error":"#N/A"},{"$f":"IF(O1549>39,Table1[[#This Row],[Calc 1]],IF(O1549>1,\"Not counted as an Employee\",\"#NA\"))","v":"#NA"},{"$f":"MAX(Table1[[#This Row],[PO Employee]],Table1[[#This Row],[Other HZ Employee]],Table1[[#This Row],[Non HZ Employee]],Table1[[#This Row],[Job Site Employee]],Table1[[#This Row],[Other Employee]])","v":0},{"$f":"IF(Table1[[#This Row],[Total Hours per Month]]=Table1[[#This Row],[Column12]],\"Match\",\"Error\")","v":"Match"},{"$f":"IF(Table1[[#This Row],[Calc 2]]=\"#NA\",\"#NA\",IF(Table1[[#This Row],[Non HZ Employee]]=Table1[[#This Row],[Max calc]],\"Non HZ Employee\", Table1[[#This Row],[Calc 2]]))","v":"#NA"}]
[1533,null,1533,{"$nulls":5},{"$f":"SUM(Table1[[#This Row],[Column4]]+Table1[[#This Row],[Column3]]+Table1[[#This Row],[Column2]]+Table1[[#This Row],[Column1]])","v":0},{"$nulls":5},{"$f":"SUM(Table1[[#This Row],[PO Employee]:[Other Employee]])","v":0},"N",{"$error":"#N/A"},{"$f":"IF(O1550>39,Table1[[#This Row],[Calc 1]],IF(O1550>1,\"Not counted as an Employee\",\"#NA\"))","v":"#NA"},{"$f":"MAX(Table1[[#This Row],[PO Employee]],Table1[[#This Row],[Other HZ Employee]],Table1[[#This Row],[Non HZ Employee]],Table1[[#This Row],[Job Site Employee]],Table1[[#This Row],[Other Employee]])","v":0},{"$f":"IF(Table1[[#This Row],[Total Hours per Month]]=Table1[[#This Row],[Column12]],\"Match\",\"Error\")","v":"Match"},{"$f":"IF(Table1[[#This Row],[Calc 2]]=\"#NA\",\"#NA\",IF(Table1[[#This Row],[Non HZ Employee]]=Table1[[#This Row],[Max calc]],\"Non HZ Employee\", Table1[[#This Row],[Calc 2]]))","v":"#NA"}]
[1534,null,1534,{"$nulls":5},{"$f":"SUM(Table1[[#This Row],[Column4]]+Table1[[#This Row],[Column3]]+Table1[[#This Row],[Column2]]+Table1[[#This Row],[Column1]])","v":0},{"$nulls":5},{"$f":"SUM(Table1[[#This Row],[PO Employee]:[Other Employee]])","v":0},"N",{"$error":"#N/A"},{"$f":"IF(O1551>39,Table1[[#This Row],[Calc 1]],IF(O1551>1,\"Not counted as an Employee\",\"#NA\"))","v":"#NA"},{"$f":"MAX(Table1[[#This Row],[PO Employee]],Table1[[#This Row],[Other HZ Employee]],Table1[[#This Row],[Non HZ Employee]],Table1[[#This Row],[Job Site Employee]],Table1[[#This Row],[Other Employee]])","v":0},{"$f":"IF(Table1[[#This Row],[Total Hours per Month]]=Table1[[#This Row],[Column12]],\"Match\",\"Error\")","v":"Match"},{"$f":"IF(Table1[[#This Row],[Calc 2]]=\"#NA\",\"#NA\",IF(Table1[[#This Row],[Non HZ Employee]]=Table1[[#This Row],[Max calc]],\"Non HZ Employee\", Table1[[#This Row],[Calc 2]]))","v":"#NA"}]
[1535,null,1535,{"$nulls":5},{"$f":"SUM(Table1[[#This Row],[Column4]]+Table1[[#This Row],[Column3]]+Table1[[#This Row],[Column2]]+Table1[[#This Row],[Column1]])","v":0},{"$nulls":5},{"$f":"SUM(Table1[[#This Row],[PO Employee]:[Other Employee]])","v":0},"N",{"$error":"#N/A"},{"$f":"IF(O1552>39,Table1[[#This Row],[Calc 1]],IF(O1552>1,\"Not counted as an Employee\",\"#NA\"))","v":"#NA"},{"$f":"MAX(Table1[[#This Row],[PO Employee]],Table1[[#This Row],[Other HZ Employee]],Table1[[#This Row],[Non HZ Employee]],Table1[[#This Row],[Job Site Employee]],Table1[[#This Row],[Other Employee]])","v":0},{"$f":"IF(Table1[[#This Row],[Total Hours per Month]]=Table1[[#This Row],[Column12]],\"Match\",\"Error\")","v":"Match"},{"$f":"IF(Table1[[#This Row],[Calc 2]]=\"#NA\",\"#NA\",IF(Table1[[#This Row],[Non HZ Employee]]=Table1[[#This Row],[Max calc]],\"Non HZ Employee\", Table1[[#This Row],[Calc 2]]))","v":"#NA"}]
[1536,null,1536,{"$nulls":5},{"$f":"SUM(Table1[[#This Row],[Column4]]+Table1[[#This Row],[Column3]]+Table1[[#This Row],[Column2]]+Table1[[#This Row],[Column1]])","v":0},{"$nulls":5},{"$f":"SUM(Table1[[#This Row],[PO Employee]:[Other Employee]])","v":0},"N",{"$error":"#N/A"},{"$f":"IF(O1553>39,Table1[[#This Row],[Calc 1]],IF(O1553>1,\"Not counted as an Employee\",\"#NA\"))","v":"#NA"},{"$f":"MAX(Table1[[#This Row],[PO Employee]],Table1[[#This Row],[Other HZ Employee]],Table1[[#This Row],[Non HZ Employee]],Table1[[#This Row],[Job Site Employee]],Table1[[#This Row],[Other Employee]])","v":0},{"$f":"IF(Table1[[#This Row],[Total Hours per Month]]=Table1[[#This Row],[Column12]],\"Match\",\"Error\")","v":"Match"},{"$f":"IF(Table1[[#This Row],[Calc 2]]=\"#NA\",\"#NA\",IF(Table1[[#This Row],[Non HZ Employee]]=Table1[[#This Row],[Max calc]],\"Non HZ Employee\", Table1[[#This Row],[Calc 2]]))","v":"#NA"}]
[1537,null,1537,{"$nulls":5},{"$f":"SUM(Table1[[#This Row],[Column4]]+Table1[[#This Row],[Column3]]+Table1[[#This Row],[Column2]]+Table1[[#This Row],[Column1]])","v":0},{"$nulls":5},{"$f":"SUM(Table1[[#This Row],[PO Employee]:[Other Employee]])","v":0},"N",{"$f":"INDEX($J$17:$N$17,MATCH(MAX(J1554:N1554),J1554:N1554,0))","v":{"$error":"#N/A"}},{"$f":"IF(O1554>39,Table1[[#This Row],[Calc 1]],IF(O1554>1,\"Not counted as an Employee\",\"#NA\"))","v":"#NA"},{"$f":"MAX(Table1[[#This Row],[PO Employee]],Table1[[#This Row],[Other HZ Employee]],Table1[[#This Row],[Non HZ Employee]],Table1[[#This Row],[Job Site Employee]],Table1[[#This Row],[Other Employee]])","v":0},{"$f":"IF(Table1[[#This Row],[Total Hours per Month]]=Table1[[#This Row],[Column12]],\"Match\",\"Error\")","v":"Match"},{"$f":"IF(Table1[[#This Row],[Calc 2]]=\"#NA\",\"#NA\",IF(Table1[[#This Row],[Non HZ Employee]]=Table1[[#This Row],[Max calc]],\"Non HZ Employee\", Table1[[#This Row],[Calc 2]]))","v":"#NA"}]
[1538,null,1538,{"$nulls":5},{"$f":"SUM(Table1[[#This Row],[Column4]]+Table1[[#This Row],[Column3]]+Table1[[#This Row],[Column2]]+Table1[[#This Row],[Column1]])","v":0},{"$nulls":5},{"$f":"SUM(Table1[[#This Row],[PO Employee]:[Other Employee]])","v":0},{"$f":"IF(O1555>=40,\"Y\",\"N\")","v":"N"},{"$error":"#N/A"},{"$f":"IF(O1555>39,Table1[[#This Row],[Calc 1]],IF(O1555>1,\"Not counted as an Employee\",\"#NA\"))","v":"#NA"},{"$f":"MAX(Table1[[#This Row],[PO Employee]],Table1[[#This Row],[Other HZ Employee]],Table1[[#This Row],[Non HZ Employee]],Table1[[#This Row],[Job Site Employee]],Table1[[#This Row],[Other Employee]])","v":0},{"$f":"IF(Table1[[#This Row],[Total Hours per Month]]=Table1[[#This Row],[Column12]],\"Match\",\"Error\")","v":"Match"},{"$f":"IF(Table1[[#This Row],[Calc 2]]=\"#NA\",\"#NA\",IF(Table1[[#This Row],[Non HZ Employee]]=Table1[[#This Row],[Max calc]],\"Non HZ Employee\", Table1[[#This Row],[Calc 2]]))","v":"#NA"}]
[1539,null,1539,{"$nulls":5},{"$f":"SUM(Table1[[#This Row],[Column4]]+Table1[[#This Row],[Column3]]+Table1[[#This Row],[Column2]]+Table1[[#This Row],[Column1]])","v":0},{"$nulls":5},{"$f":"SUM(Table1[[#This Row],[PO Employee]:[Other Employee]])","v":0},"N",{"$error":"#N/A"},{"$f":"IF(O1556>39,Table1[[#This Row],[Calc 1]],IF(O1556>1,\"Not counted as an Employee\",\"#NA\"))","v":"#NA"},{"$f":"MAX(Table1[[#This Row],[PO Employee]],Table1[[#This Row],[Other HZ Employee]],Table1[[#This Row],[Non HZ Employee]],Table1[[#This Row],[Job Site Employee]],Table1[[#This Row],[Other Employee]])","v":0},{"$f":"IF(Table1[[#This Row],[Total Hours per Month]]=Table1[[#This Row],[Column12]],\"Match\",\"Error\")","v":"Match"},{"$f":"IF(Table1[[#This Row],[Calc 2]]=\"#NA\",\"#NA\",IF(Table1[[#This Row],[Non HZ Employee]]=Table1[[#This Row],[Max calc]],\"Non HZ Employee\", Table1[[#This Row],[Calc 2]]))","v":"#NA"}]
[1540,null,1540,{"$nulls":5},{"$f":"SUM(Table1[[#This Row],[Column4]]+Table1[[#This Row],[Column3]]+Table1[[#This Row],[Column2]]+Table1[[#This Row],[Column1]])","v":0},{"$nulls":5},{"$f":"SUM(Table1[[#This Row],[PO Employee]:[Other Employee]])","v":0},"N",{"$error":"#N/A"},{"$f":"IF(O1557>39,Table1[[#This Row],[Calc 1]],IF(O1557>1,\"Not counted as an Employee\",\"#NA\"))","v":"#NA"},{"$f":"MAX(Table1[[#This Row],[PO Employee]],Table1[[#This Row],[Other HZ Employee]],Table1[[#This Row],[Non HZ Employee]],Table1[[#This Row],[Job Site Employee]],Table1[[#This Row],[Other Employee]])","v":0},{"$f":"IF(Table1[[#This Row],[Total Hours per Month]]=Table1[[#This Row],[Column12]],\"Match\",\"Error\")","v":"Match"},{"$f":"IF(Table1[[#This Row],[Calc 2]]=\"#NA\",\"#NA\",IF(Table1[[#This Row],[Non HZ Employee]]=Table1[[#This Row],[Max calc]],\"Non HZ Employee\", Table1[[#This Row],[Calc 2]]))","v":"#NA"}]
[1541,null,1541,{"$nulls":5},{"$f":"SUM(Table1[[#This Row],[Column4]]+Table1[[#This Row],[Column3]]+Table1[[#This Row],[Column2]]+Table1[[#This Row],[Column1]])","v":0},{"$nulls":5},{"$f":"SUM(Table1[[#This Row],[PO Employee]:[Other Employee]])","v":0},"N",{"$error":"#N/A"},{"$f":"IF(O1558>39,Table1[[#This Row],[Calc 1]],IF(O1558>1,\"Not counted as an Employee\",\"#NA\"))","v":"#NA"},{"$f":"MAX(Table1[[#This Row],[PO Employee]],Table1[[#This Row],[Other HZ Employee]],Table1[[#This Row],[Non HZ Employee]],Table1[[#This Row],[Job Site Employee]],Table1[[#This Row],[Other Employee]])","v":0},{"$f":"IF(Table1[[#This Row],[Total Hours per Month]]=Table1[[#This Row],[Column12]],\"Match\",\"Error\")","v":"Match"},{"$f":"IF(Table1[[#This Row],[Calc 2]]=\"#NA\",\"#NA\",IF(Table1[[#This Row],[Non HZ Employee]]=Table1[[#This Row],[Max calc]],\"Non HZ Employee\", Table1[[#This Row],[Calc 2]]))","v":"#NA"}]
[1542,null,1542,{"$nulls":5},{"$f":"SUM(Table1[[#This Row],[Column4]]+Table1[[#This Row],[Column3]]+Table1[[#This Row],[Column2]]+Table1[[#This Row],[Column1]])","v":0},{"$nulls":5},{"$f":"SUM(Table1[[#This Row],[PO Employee]:[Other Employee]])","v":0},"N",{"$error":"#N/A"},{"$f":"IF(O1559>39,Table1[[#This Row],[Calc 1]],IF(O1559>1,\"Not counted as an Employee\",\"#NA\"))","v":"#NA"},{"$f":"MAX(Table1[[#This Row],[PO Employee]],Table1[[#This Row],[Other HZ Employee]],Table1[[#This Row],[Non HZ Employee]],Table1[[#This Row],[Job Site Employee]],Table1[[#This Row],[Other Employee]])","v":0},{"$f":"IF(Table1[[#This Row],[Total Hours per Month]]=Table1[[#This Row],[Column12]],\"Match\",\"Error\")","v":"Match"},{"$f":"IF(Table1[[#This Row],[Calc 2]]=\"#NA\",\"#NA\",IF(Table1[[#This Row],[Non HZ Employee]]=Table1[[#This Row],[Max calc]],\"Non HZ Employee\", Table1[[#This Row],[Calc 2]]))","v":"#NA"}]
[1543,null,1543,{"$nulls":5},{"$f":"SUM(Table1[[#This Row],[Column4]]+Table1[[#This Row],[Column3]]+Table1[[#This Row],[Column2]]+Table1[[#This Row],[Column1]])","v":0},{"$nulls":5},{"$f":"SUM(Table1[[#This Row],[PO Employee]:[Other Employee]])","v":0},"N",{"$error":"#N/A"},{"$f":"IF(O1560>39,Table1[[#This Row],[Calc 1]],IF(O1560>1,\"Not counted as an Employee\",\"#NA\"))","v":"#NA"},{"$f":"MAX(Table1[[#This Row],[PO Employee]],Table1[[#This Row],[Other HZ Employee]],Table1[[#This Row],[Non HZ Employee]],Table1[[#This Row],[Job Site Employee]],Table1[[#This Row],[Other Employee]])","v":0},{"$f":"IF(Table1[[#This Row],[Total Hours per Month]]=Table1[[#This Row],[Column12]],\"Match\",\"Error\")","v":"Match"},{"$f":"IF(Table1[[#This Row],[Calc 2]]=\"#NA\",\"#NA\",IF(Table1[[#This Row],[Non HZ Employee]]=Table1[[#This Row],[Max calc]],\"Non HZ Employee\", Table1[[#This Row],[Calc 2]]))","v":"#NA"}]
[1544,null,1544,{"$nulls":5},{"$f":"SUM(Table1[[#This Row],[Column4]]+Table1[[#This Row],[Column3]]+Table1[[#This Row],[Column2]]+Table1[[#This Row],[Column1]])","v":0},{"$nulls":5},{"$f":"SUM(Table1[[#This Row],[PO Employee]:[Other Employee]])","v":0},"N",{"$error":"#N/A"},{"$f":"IF(O1561>39,Table1[[#This Row],[Calc 1]],IF(O1561>1,\"Not counted as an Employee\",\"#NA\"))","v":"#NA"},{"$f":"MAX(Table1[[#This Row],[PO Employee]],Table1[[#This Row],[Other HZ Employee]],Table1[[#This Row],[Non HZ Employee]],Table1[[#This Row],[Job Site Employee]],Table1[[#This Row],[Other Employee]])","v":0},{"$f":"IF(Table1[[#This Row],[Total Hours per Month]]=Table1[[#This Row],[Column12]],\"Match\",\"Error\")","v":"Match"},{"$f":"IF(Table1[[#This Row],[Calc 2]]=\"#NA\",\"#NA\",IF(Table1[[#This Row],[Non HZ Employee]]=Table1[[#This Row],[Max calc]],\"Non HZ Employee\", Table1[[#This Row],[Calc 2]]))","v":"#NA"}]
[1545,null,1545,{"$nulls":5},{"$f":"SUM(Table1[[#This Row],[Column4]]+Table1[[#This Row],[Column3]]+Table1[[#This Row],[Column2]]+Table1[[#This Row],[Column1]])","v":0},{"$nulls":5},{"$f":"SUM(Table1[[#This Row],[PO Employee]:[Other Employee]])","v":0},"N",{"$error":"#N/A"},{"$f":"IF(O1562>39,Table1[[#This Row],[Calc 1]],IF(O1562>1,\"Not counted as an Employee\",\"#NA\"))","v":"#NA"},{"$f":"MAX(Table1[[#This Row],[PO Employee]],Table1[[#This Row],[Other HZ Employee]],Table1[[#This Row],[Non HZ Employee]],Table1[[#This Row],[Job Site Employee]],Table1[[#This Row],[Other Employee]])","v":0},{"$f":"IF(Table1[[#This Row],[Total Hours per Month]]=Table1[[#This Row],[Column12]],\"Match\",\"Error\")","v":"Match"},{"$f":"IF(Table1[[#This Row],[Calc 2]]=\"#NA\",\"#NA\",IF(Table1[[#This Row],[Non HZ Employee]]=Table1[[#This Row],[Max calc]],\"Non HZ Employee\", Table1[[#This Row],[Calc 2]]))","v":"#NA"}]
[1546,null,1546,{"$nulls":5},{"$f":"SUM(Table1[[#This Row],[Column4]]+Table1[[#This Row],[Column3]]+Table1[[#This Row],[Column2]]+Table1[[#This Row],[Column1]])","v":0},{"$nulls":5},{"$f":"SUM(Table1[[#This Row],[PO Employee]:[Other Employee]])","v":0},"N",{"$error":"#N/A"},{"$f":"IF(O1563>39,Table1[[#This Row],[Calc 1]],IF(O1563>1,\"Not counted as an Employee\",\"#NA\"))","v":"#NA"},{"$f":"MAX(Table1[[#This Row],[PO Employee]],Table1[[#This Row],[Other HZ Employee]],Table1[[#This Row],[Non HZ Employee]],Table1[[#This Row],[Job Site Employee]],Table1[[#This Row],[Other Employee]])","v":0},{"$f":"IF(Table1[[#This Row],[Total Hours per Month]]=Table1[[#This Row],[Column12]],\"Match\",\"Error\")","v":"Match"},{"$f":"IF(Table1[[#This Row],[Calc 2]]=\"#NA\",\"#NA\",IF(Table1[[#This Row],[Non HZ Employee]]=Table1[[#This Row],[Max calc]],\"Non HZ Employee\", Table1[[#This Row],[Calc 2]]))","v":"#NA"}]
[1547,null,1547,{"$nulls":5},{"$f":"SUM(Table1[[#This Row],[Column4]]+Table1[[#This Row],[Column3]]+Table1[[#This Row],[Column2]]+Table1[[#This Row],[Column1]])","v":0},{"$nulls":5},{"$f":"SUM(Table1[[#This Row],[PO Employee]:[Other Employee]])","v":0},"N",{"$error":"#N/A"},{"$f":"IF(O1564>39,Table1[[#This Row],[Calc 1]],IF(O1564>1,\"Not counted as an Employee\",\"#NA\"))","v":"#NA"},{"$f":"MAX(Table1[[#This Row],[PO Employee]],Table1[[#This Row],[Other HZ Employee]],Table1[[#This Row],[Non HZ Employee]],Table1[[#This Row],[Job Site Employee]],Table1[[#This Row],[Other Employee]])","v":0},{"$f":"IF(Table1[[#This Row],[Total Hours per Month]]=Table1[[#This Row],[Column12]],\"Match\",\"Error\")","v":"Match"},{"$f":"IF(Table1[[#This Row],[Calc 2]]=\"#NA\",\"#NA\",IF(Table1[[#This Row],[Non HZ Employee]]=Table1[[#This Row],[Max calc]],\"Non HZ Employee\", Table1[[#This Row],[Calc 2]]))","v":"#NA"}]
[1548,null,1548,{"$nulls":5},{"$f":"SUM(Table1[[#This Row],[Column4]]+Table1[[#This Row],[Column3]]+Table1[[#This Row],[Column2]]+Table1[[#This Row],[Column1]])","v":0},{"$nulls":5},{"$f":"SUM(Table1[[#This Row],[PO Employee]:[Other Employee]])","v":0},"N",{"$error":"#N/A"},{"$f":"IF(O1565>39,Table1[[#This Row],[Calc 1]],IF(O1565>1,\"Not counted as an Employee\",\"#NA\"))","v":"#NA"},{"$f":"MAX(Table1[[#This Row],[PO Employee]],Table1[[#This Row],[Other HZ Employee]],Table1[[#This Row],[Non HZ Employee]],Table1[[#This Row],[Job Site Employee]],Table1[[#This Row],[Other Employee]])","v":0},{"$f":"IF(Table1[[#This Row],[Total Hours per Month]]=Table1[[#This Row],[Column12]],\"Match\",\"Error\")","v":"Match"},{"$f":"IF(Table1[[#This Row],[Calc 2]]=\"#NA\",\"#NA\",IF(Table1[[#This Row],[Non HZ Employee]]=Table1[[#This Row],[Max calc]],\"Non HZ Employee\", Table1[[#This Row],[Calc 2]]))","v":"#NA"}]
[1549,null,1549,{"$nulls":5},{"$f":"SUM(Table1[[#This Row],[Column4]]+Table1[[#This Row],[Column3]]+Table1[[#This Row],[Column2]]+Table1[[#This Row],[Column1]])","v":0},{"$nulls":5},{"$f":"SUM(Table1[[#This Row],[PO Employee]:[Other Employee]])","v":0},"N",{"$error":"#N/A"},{"$f":"IF(O1566>39,Table1[[#This Row],[Calc 1]],IF(O1566>1,\"Not counted as an Employee\",\"#NA\"))","v":"#NA"},{"$f":"MAX(Table1[[#This Row],[PO Employee]],Table1[[#This Row],[Other HZ Employee]],Table1[[#This Row],[Non HZ Employee]],Table1[[#This Row],[Job Site Employee]],Table1[[#This Row],[Other Employee]])","v":0},{"$f":"IF(Table1[[#This Row],[Total Hours per Month]]=Table1[[#This Row],[Column12]],\"Match\",\"Error\")","v":"Match"},{"$f":"IF(Table1[[#This Row],[Calc 2]]=\"#NA\",\"#NA\",IF(Table1[[#This Row],[Non HZ Employee]]=Table1[[#This Row],[Max calc]],\"Non HZ Employee\", Table1[[#This Row],[Calc 2]]))","v":"#NA"}]
[1550,null,1550,{"$nulls":5},{"$f":"SUM(Table1[[#This Row],[Column4]]+Table1[[#This Row],[Column3]]+Table1[[#This Row],[Column2]]+Table1[[#This Row],[Column1]])","v":0},{"$nulls":5},{"$f":"SUM(Table1[[#This Row],[PO Employee]:[Other Employee]])","v":0},"N",{"$error":"#N/A"},{"$f":"IF(O1567>39,Table1[[#This Row],[Calc 1]],IF(O1567>1,\"Not counted as an Employee\",\"#NA\"))","v":"#NA"},{"$f":"MAX(Table1[[#This Row],[PO Employee]],Table1[[#This Row],[Other HZ Employee]],Table1[[#This Row],[Non HZ Employee]],Table1[[#This Row],[Job Site Employee]],Table1[[#This Row],[Other Employee]])","v":0},{"$f":"IF(Table1[[#This Row],[Total Hours per Month]]=Table1[[#This Row],[Column12]],\"Match\",\"Error\")","v":"Match"},{"$f":"IF(Table1[[#This Row],[Calc 2]]=\"#NA\",\"#NA\",IF(Table1[[#This Row],[Non HZ Employee]]=Table1[[#This Row],[Max calc]],\"Non HZ Employee\", Table1[[#This Row],[Calc 2]]))","v":"#NA"}]
[1551,null,1551,{"$nulls":5},{"$f":"SUM(Table1[[#This Row],[Column4]]+Table1[[#This Row],[Column3]]+Table1[[#This Row],[Column2]]+Table1[[#This Row],[Column1]])","v":0},{"$nulls":5},{"$f":"SUM(Table1[[#This Row],[PO Employee]:[Other Employee]])","v":0},"N",{"$error":"#N/A"},{"$f":"IF(O1568>39,Table1[[#This Row],[Calc 1]],IF(O1568>1,\"Not counted as an Employee\",\"#NA\"))","v":"#NA"},{"$f":"MAX(Table1[[#This Row],[PO Employee]],Table1[[#This Row],[Other HZ Employee]],Table1[[#This Row],[Non HZ Employee]],Table1[[#This Row],[Job Site Employee]],Table1[[#This Row],[Other Employee]])","v":0},{"$f":"IF(Table1[[#This Row],[Total Hours per Month]]=Table1[[#This Row],[Column12]],\"Match\",\"Error\")","v":"Match"},{"$f":"IF(Table1[[#This Row],[Calc 2]]=\"#NA\",\"#NA\",IF(Table1[[#This Row],[Non HZ Employee]]=Table1[[#This Row],[Max calc]],\"Non HZ Employee\", Table1[[#This Row],[Calc 2]]))","v":"#NA"}]
[1552,null,1552,{"$nulls":5},{"$f":"SUM(Table1[[#This Row],[Column4]]+Table1[[#This Row],[Column3]]+Table1[[#This Row],[Column2]]+Table1[[#This Row],[Column1]])","v":0},{"$nulls":5},{"$f":"SUM(Table1[[#This Row],[PO Employee]:[Other Employee]])","v":0},"N",{"$error":"#N/A"},{"$f":"IF(O1569>39,Table1[[#This Row],[Calc 1]],IF(O1569>1,\"Not counted as an Employee\",\"#NA\"))","v":"#NA"},{"$f":"MAX(Table1[[#This Row],[PO Employee]],Table1[[#This Row],[Other HZ Employee]],Table1[[#This Row],[Non HZ Employee]],Table1[[#This Row],[Job Site Employee]],Table1[[#This Row],[Other Employee]])","v":0},{"$f":"IF(Table1[[#This Row],[Total Hours per Month]]=Table1[[#This Row],[Column12]],\"Match\",\"Error\")","v":"Match"},{"$f":"IF(Table1[[#This Row],[Calc 2]]=\"#NA\",\"#NA\",IF(Table1[[#This Row],[Non HZ Employee]]=Table1[[#This Row],[Max calc]],\"Non HZ Employee\", Table1[[#This Row],[Calc 2]]))","v":"#NA"}]
[1553,null,1553,{"$nulls":5},{"$f":"SUM(Table1[[#This Row],[Column4]]+Table1[[#This Row],[Column3]]+Table1[[#This Row],[Column2]]+Table1[[#This Row],[Column1]])","v":0},{"$nulls":5},{"$f":"SUM(Table1[[#This Row],[PO Employee]:[Other Employee]])","v":0},"N",{"$error":"#N/A"},{"$f":"IF(O1570>39,Table1[[#This Row],[Calc 1]],IF(O1570>1,\"Not counted as an Employee\",\"#NA\"))","v":"#NA"},{"$f":"MAX(Table1[[#This Row],[PO Employee]],Table1[[#This Row],[Other HZ Employee]],Table1[[#This Row],[Non HZ Employee]],Table1[[#This Row],[Job Site Employee]],Table1[[#This Row],[Other Employee]])","v":0},{"$f":"IF(Table1[[#This Row],[Total Hours per Month]]=Table1[[#This Row],[Column12]],\"Match\",\"Error\")","v":"Match"},{"$f":"IF(Table1[[#This Row],[Calc 2]]=\"#NA\",\"#NA\",IF(Table1[[#This Row],[Non HZ Employee]]=Table1[[#This Row],[Max calc]],\"Non HZ Employee\", Table1[[#This Row],[Calc 2]]))","v":"#NA"}]
[1554,null,1554,{"$nulls":5},{"$f":"SUM(Table1[[#This Row],[Column4]]+Table1[[#This Row],[Column3]]+Table1[[#This Row],[Column2]]+Table1[[#This Row],[Column1]])","v":0},{"$nulls":5},{"$f":"SUM(Table1[[#This Row],[PO Employee]:[Other Employee]])","v":0},"N",{"$error":"#N/A"},{"$f":"IF(O1571>39,Table1[[#This Row],[Calc 1]],IF(O1571>1,\"Not counted as an Employee\",\"#NA\"))","v":"#NA"},{"$f":"MAX(Table1[[#This Row],[PO Employee]],Table1[[#This Row],[Other HZ Employee]],Table1[[#This Row],[Non HZ Employee]],Table1[[#This Row],[Job Site Employee]],Table1[[#This Row],[Other Employee]])","v":0},{"$f":"IF(Table1[[#This Row],[Total Hours per Month]]=Table1[[#This Row],[Column12]],\"Match\",\"Error\")","v":"Match"},{"$f":"IF(Table1[[#This Row],[Calc 2]]=\"#NA\",\"#NA\",IF(Table1[[#This Row],[Non HZ Employee]]=Table1[[#This Row],[Max calc]],\"Non HZ Employee\", Table1[[#This Row],[Calc 2]]))","v":"#NA"}]
[1555,null,1555,{"$nulls":5},{"$f":"SUM(Table1[[#This Row],[Column4]]+Table1[[#This Row],[Column3]]+Table1[[#This Row],[Column2]]+Table1[[#This Row],[Column1]])","v":0},{"$nulls":5},{"$f":"SUM(Table1[[#This Row],[PO Employee]:[Other Employee]])","v":0},"N",{"$error":"#N/A"},{"$f":"IF(O1572>39,Table1[[#This Row],[Calc 1]],IF(O1572>1,\"Not counted as an Employee\",\"#NA\"))","v":"#NA"},{"$f":"MAX(Table1[[#This Row],[PO Employee]],Table1[[#This Row],[Other HZ Employee]],Table1[[#This Row],[Non HZ Employee]],Table1[[#This Row],[Job Site Employee]],Table1[[#This Row],[Other Employee]])","v":0},{"$f":"IF(Table1[[#This Row],[Total Hours per Month]]=Table1[[#This Row],[Column12]],\"Match\",\"Error\")","v":"Match"},{"$f":"IF(Table1[[#This Row],[Calc 2]]=\"#NA\",\"#NA\",IF(Table1[[#This Row],[Non HZ Employee]]=Table1[[#This Row],[Max calc]],\"Non HZ Employee\", Table1[[#This Row],[Calc 2]]))","v":"#NA"}]
[1556,null,1556,{"$nulls":5},{"$f":"SUM(Table1[[#This Row],[Column4]]+Table1[[#This Row],[Column3]]+Table1[[#This Row],[Column2]]+Table1[[#This Row],[Column1]])","v":0},{"$nulls":5},{"$f":"SUM(Table1[[#This Row],[PO Employee]:[Other Employee]])","v":0},"N",{"$error":"#N/A"},{"$f":"IF(O1573>39,Table1[[#This Row],[Calc 1]],IF(O1573>1,\"Not counted as an Employee\",\"#NA\"))","v":"#NA"},{"$f":"MAX(Table1[[#This Row],[PO Employee]],Table1[[#This Row],[Other HZ Employee]],Table1[[#This Row],[Non HZ Employee]],Table1[[#This Row],[Job Site Employee]],Table1[[#This Row],[Other Employee]])","v":0},{"$f":"IF(Table1[[#This Row],[Total Hours per Month]]=Table1[[#This Row],[Column12]],\"Match\",\"Error\")","v":"Match"},{"$f":"IF(Table1[[#This Row],[Calc 2]]=\"#NA\",\"#NA\",IF(Table1[[#This Row],[Non HZ Employee]]=Table1[[#This Row],[Max calc]],\"Non HZ Employee\", Table1[[#This Row],[Calc 2]]))","v":"#NA"}]
[1557,null,1557,{"$nulls":5},{"$f":"SUM(Table1[[#This Row],[Column4]]+Table1[[#This Row],[Column3]]+Table1[[#This Row],[Column2]]+Table1[[#This Row],[Column1]])","v":0},{"$nulls":5},{"$f":"SUM(Table1[[#This Row],[PO Employee]:[Other Employee]])","v":0},"N",{"$error":"#N/A"},{"$f":"IF(O1574>39,Table1[[#This Row],[Calc 1]],IF(O1574>1,\"Not counted as an Employee\",\"#NA\"))","v":"#NA"},{"$f":"MAX(Table1[[#This Row],[PO Employee]],Table1[[#This Row],[Other HZ Employee]],Table1[[#This Row],[Non HZ Employee]],Table1[[#This Row],[Job Site Employee]],Table1[[#This Row],[Other Employee]])","v":0},{"$f":"IF(Table1[[#This Row],[Total Hours per Month]]=Table1[[#This Row],[Column12]],\"Match\",\"Error\")","v":"Match"},{"$f":"IF(Table1[[#This Row],[Calc 2]]=\"#NA\",\"#NA\",IF(Table1[[#This Row],[Non HZ Employee]]=Table1[[#This Row],[Max calc]],\"Non HZ Employee\", Table1[[#This Row],[Calc 2]]))","v":"#NA"}]
[1558,null,1558,{"$nulls":5},{"$f":"SUM(Table1[[#This Row],[Column4]]+Table1[[#This Row],[Column3]]+Table1[[#This Row],[Column2]]+Table1[[#This Row],[Column1]])","v":0},{"$nulls":5},{"$f":"SUM(Table1[[#This Row],[PO Employee]:[Other Employee]])","v":0},"N",{"$error":"#N/A"},{"$f":"IF(O1575>39,Table1[[#This Row],[Calc 1]],IF(O1575>1,\"Not counted as an Employee\",\"#NA\"))","v":"#NA"},{"$f":"MAX(Table1[[#This Row],[PO Employee]],Table1[[#This Row],[Other HZ Employee]],Table1[[#This Row],[Non HZ Employee]],Table1[[#This Row],[Job Site Employee]],Table1[[#This Row],[Other Employee]])","v":0},{"$f":"IF(Table1[[#This Row],[Total Hours per Month]]=Table1[[#This Row],[Column12]],\"Match\",\"Error\")","v":"Match"},{"$f":"IF(Table1[[#This Row],[Calc 2]]=\"#NA\",\"#NA\",IF(Table1[[#This Row],[Non HZ Employee]]=Table1[[#This Row],[Max calc]],\"Non HZ Employee\", Table1[[#This Row],[Calc 2]]))","v":"#NA"}]
[1559,null,1559,{"$nulls":5},{"$f":"SUM(Table1[[#This Row],[Column4]]+Table1[[#This Row],[Column3]]+Table1[[#This Row],[Column2]]+Table1[[#This Row],[Column1]])","v":0},{"$nulls":5},{"$f":"SUM(Table1[[#This Row],[PO Employee]:[Other Employee]])","v":0},"N",{"$error":"#N/A"},{"$f":"IF(O1576>39,Table1[[#This Row],[Calc 1]],IF(O1576>1,\"Not counted as an Employee\",\"#NA\"))","v":"#NA"},{"$f":"MAX(Table1[[#This Row],[PO Employee]],Table1[[#This Row],[Other HZ Employee]],Table1[[#This Row],[Non HZ Employee]],Table1[[#This Row],[Job Site Employee]],Table1[[#This Row],[Other Employee]])","v":0},{"$f":"IF(Table1[[#This Row],[Total Hours per Month]]=Table1[[#This Row],[Column12]],\"Match\",\"Error\")","v":"Match"},{"$f":"IF(Table1[[#This Row],[Calc 2]]=\"#NA\",\"#NA\",IF(Table1[[#This Row],[Non HZ Employee]]=Table1[[#This Row],[Max calc]],\"Non HZ Employee\", Table1[[#This Row],[Calc 2]]))","v":"#NA"}]
[1560,null,1560,{"$nulls":5},{"$f":"SUM(Table1[[#This Row],[Column4]]+Table1[[#This Row],[Column3]]+Table1[[#This Row],[Column2]]+Table1[[#This Row],[Column1]])","v":0},{"$nulls":5},{"$f":"SUM(Table1[[#This Row],[PO Employee]:[Other Employee]])","v":0},"N",{"$error":"#N/A"},{"$f":"IF(O1577>39,Table1[[#This Row],[Calc 1]],IF(O1577>1,\"Not counted as an Employee\",\"#NA\"))","v":"#NA"},{"$f":"MAX(Table1[[#This Row],[PO Employee]],Table1[[#This Row],[Other HZ Employee]],Table1[[#This Row],[Non HZ Employee]],Table1[[#This Row],[Job Site Employee]],Table1[[#This Row],[Other Employee]])","v":0},{"$f":"IF(Table1[[#This Row],[Total Hours per Month]]=Table1[[#This Row],[Column12]],\"Match\",\"Error\")","v":"Match"},{"$f":"IF(Table1[[#This Row],[Calc 2]]=\"#NA\",\"#NA\",IF(Table1[[#This Row],[Non HZ Employee]]=Table1[[#This Row],[Max calc]],\"Non HZ Employee\", Table1[[#This Row],[Calc 2]]))","v":"#NA"}]
[1561,null,1561,{"$nulls":5},{"$f":"SUM(Table1[[#This Row],[Column4]]+Table1[[#This Row],[Column3]]+Table1[[#This Row],[Column2]]+Table1[[#This Row],[Column1]])","v":0},{"$nulls":5},{"$f":"SUM(Table1[[#This Row],[PO Employee]:[Other Employee]])","v":0},"N",{"$error":"#N/A"},{"$f":"IF(O1578>39,Table1[[#This Row],[Calc 1]],IF(O1578>1,\"Not counted as an Employee\",\"#NA\"))","v":"#NA"},{"$f":"MAX(Table1[[#This Row],[PO Employee]],Table1[[#This Row],[Other HZ Employee]],Table1[[#This Row],[Non HZ Employee]],Table1[[#This Row],[Job Site Employee]],Table1[[#This Row],[Other Employee]])","v":0},{"$f":"IF(Table1[[#This Row],[Total Hours per Month]]=Table1[[#This Row],[Column12]],\"Match\",\"Error\")","v":"Match"},{"$f":"IF(Table1[[#This Row],[Calc 2]]=\"#NA\",\"#NA\",IF(Table1[[#This Row],[Non HZ Employee]]=Table1[[#This Row],[Max calc]],\"Non HZ Employee\", Table1[[#This Row],[Calc 2]]))","v":"#NA"}]
[1562,null,1562,{"$nulls":5},{"$f":"SUM(Table1[[#This Row],[Column4]]+Table1[[#This Row],[Column3]]+Table1[[#This Row],[Column2]]+Table1[[#This Row],[Column1]])","v":0},{"$nulls":5},{"$f":"SUM(Table1[[#This Row],[PO Employee]:[Other Employee]])","v":0},"N",{"$error":"#N/A"},{"$f":"IF(O1579>39,Table1[[#This Row],[Calc 1]],IF(O1579>1,\"Not counted as an Employee\",\"#NA\"))","v":"#NA"},{"$f":"MAX(Table1[[#This Row],[PO Employee]],Table1[[#This Row],[Other HZ Employee]],Table1[[#This Row],[Non HZ Employee]],Table1[[#This Row],[Job Site Employee]],Table1[[#This Row],[Other Employee]])","v":0},{"$f":"IF(Table1[[#This Row],[Total Hours per Month]]=Table1[[#This Row],[Column12]],\"Match\",\"Error\")","v":"Match"},{"$f":"IF(Table1[[#This Row],[Calc 2]]=\"#NA\",\"#NA\",IF(Table1[[#This Row],[Non HZ Employee]]=Table1[[#This Row],[Max calc]],\"Non HZ Employee\", Table1[[#This Row],[Calc 2]]))","v":"#NA"}]
[1563,null,1563,{"$nulls":5},{"$f":"SUM(Table1[[#This Row],[Column4]]+Table1[[#This Row],[Column3]]+Table1[[#This Row],[Column2]]+Table1[[#This Row],[Column1]])","v":0},{"$nulls":5},{"$f":"SUM(Table1[[#This Row],[PO Employee]:[Other Employee]])","v":0},"N",{"$error":"#N/A"},{"$f":"IF(O1580>39,Table1[[#This Row],[Calc 1]],IF(O1580>1,\"Not counted as an Employee\",\"#NA\"))","v":"#NA"},{"$f":"MAX(Table1[[#This Row],[PO Employee]],Table1[[#This Row],[Other HZ Employee]],Table1[[#This Row],[Non HZ Employee]],Table1[[#This Row],[Job Site Employee]],Table1[[#This Row],[Other Employee]])","v":0},{"$f":"IF(Table1[[#This Row],[Total Hours per Month]]=Table1[[#This Row],[Column12]],\"Match\",\"Error\")","v":"Match"},{"$f":"IF(Table1[[#This Row],[Calc 2]]=\"#NA\",\"#NA\",IF(Table1[[#This Row],[Non HZ Employee]]=Table1[[#This Row],[Max calc]],\"Non HZ Employee\", Table1[[#This Row],[Calc 2]]))","v":"#NA"}]
[1564,null,1564,{"$nulls":5},{"$f":"SUM(Table1[[#This Row],[Column4]]+Table1[[#This Row],[Column3]]+Table1[[#This Row],[Column2]]+Table1[[#This Row],[Column1]])","v":0},{"$nulls":5},{"$f":"SUM(Table1[[#This Row],[PO Employee]:[Other Employee]])","v":0},"N",{"$error":"#N/A"},{"$f":"IF(O1581>39,Table1[[#This Row],[Calc 1]],IF(O1581>1,\"Not counted as an Employee\",\"#NA\"))","v":"#NA"},{"$f":"MAX(Table1[[#This Row],[PO Employee]],Table1[[#This Row],[Other HZ Employee]],Table1[[#This Row],[Non HZ Employee]],Table1[[#This Row],[Job Site Employee]],Table1[[#This Row],[Other Employee]])","v":0},{"$f":"IF(Table1[[#This Row],[Total Hours per Month]]=Table1[[#This Row],[Column12]],\"Match\",\"Error\")","v":"Match"},{"$f":"IF(Table1[[#This Row],[Calc 2]]=\"#NA\",\"#NA\",IF(Table1[[#This Row],[Non HZ Employee]]=Table1[[#This Row],[Max calc]],\"Non HZ Employee\", Table1[[#This Row],[Calc 2]]))","v":"#NA"}]
[1565,null,1565,{"$nulls":5},{"$f":"SUM(Table1[[#This Row],[Column4]]+Table1[[#This Row],[Column3]]+Table1[[#This Row],[Column2]]+Table1[[#This Row],[Column1]])","v":0},{"$nulls":5},{"$f":"SUM(Table1[[#This Row],[PO Employee]:[Other Employee]])","v":0},"N",{"$error":"#N/A"},{"$f":"IF(O1582>39,Table1[[#This Row],[Calc 1]],IF(O1582>1,\"Not counted as an Employee\",\"#NA\"))","v":"#NA"},{"$f":"MAX(Table1[[#This Row],[PO Employee]],Table1[[#This Row],[Other HZ Employee]],Table1[[#This Row],[Non HZ Employee]],Table1[[#This Row],[Job Site Employee]],Table1[[#This Row],[Other Employee]])","v":0},{"$f":"IF(Table1[[#This Row],[Total Hours per Month]]=Table1[[#This Row],[Column12]],\"Match\",\"Error\")","v":"Match"},{"$f":"IF(Table1[[#This Row],[Calc 2]]=\"#NA\",\"#NA\",IF(Table1[[#This Row],[Non HZ Employee]]=Table1[[#This Row],[Max calc]],\"Non HZ Employee\", Table1[[#This Row],[Calc 2]]))","v":"#NA"}]
[1566,null,1566,{"$nulls":5},{"$f":"SUM(Table1[[#This Row],[Column4]]+Table1[[#This Row],[Column3]]+Table1[[#This Row],[Column2]]+Table1[[#This Row],[Column1]])","v":0},{"$nulls":5},{"$f":"SUM(Table1[[#This Row],[PO Employee]:[Other Employee]])","v":0},"N",{"$error":"#N/A"},{"$f":"IF(O1583>39,Table1[[#This Row],[Calc 1]],IF(O1583>1,\"Not counted as an Employee\",\"#NA\"))","v":"#NA"},{"$f":"MAX(Table1[[#This Row],[PO Employee]],Table1[[#This Row],[Other HZ Employee]],Table1[[#This Row],[Non HZ Employee]],Table1[[#This Row],[Job Site Employee]],Table1[[#This Row],[Other Employee]])","v":0},{"$f":"IF(Table1[[#This Row],[Total Hours per Month]]=Table1[[#This Row],[Column12]],\"Match\",\"Error\")","v":"Match"},{"$f":"IF(Table1[[#This Row],[Calc 2]]=\"#NA\",\"#NA\",IF(Table1[[#This Row],[Non HZ Employee]]=Table1[[#This Row],[Max calc]],\"Non HZ Employee\", Table1[[#This Row],[Calc 2]]))","v":"#NA"}]
[1567,null,1567,{"$nulls":5},{"$f":"SUM(Table1[[#This Row],[Column4]]+Table1[[#This Row],[Column3]]+Table1[[#This Row],[Column2]]+Table1[[#This Row],[Column1]])","v":0},{"$nulls":5},{"$f":"SUM(Table1[[#This Row],[PO Employee]:[Other Employee]])","v":0},"N",{"$error":"#N/A"},{"$f":"IF(O1584>39,Table1[[#This Row],[Calc 1]],IF(O1584>1,\"Not counted as an Employee\",\"#NA\"))","v":"#NA"},{"$f":"MAX(Table1[[#This Row],[PO Employee]],Table1[[#This Row],[Other HZ Employee]],Table1[[#This Row],[Non HZ Employee]],Table1[[#This Row],[Job Site Employee]],Table1[[#This Row],[Other Employee]])","v":0},{"$f":"IF(Table1[[#This Row],[Total Hours per Month]]=Table1[[#This Row],[Column12]],\"Match\",\"Error\")","v":"Match"},{"$f":"IF(Table1[[#This Row],[Calc 2]]=\"#NA\",\"#NA\",IF(Table1[[#This Row],[Non HZ Employee]]=Table1[[#This Row],[Max calc]],\"Non HZ Employee\", Table1[[#This Row],[Calc 2]]))","v":"#NA"}]
[1568,null,1568,{"$nulls":5},{"$f":"SUM(Table1[[#This Row],[Column4]]+Table1[[#This Row],[Column3]]+Table1[[#This Row],[Column2]]+Table1[[#This Row],[Column1]])","v":0},{"$nulls":5},{"$f":"SUM(Table1[[#This Row],[PO Employee]:[Other Employee]])","v":0},"N",{"$error":"#N/A"},{"$f":"IF(O1585>39,Table1[[#This Row],[Calc 1]],IF(O1585>1,\"Not counted as an Employee\",\"#NA\"))","v":"#NA"},{"$f":"MAX(Table1[[#This Row],[PO Employee]],Table1[[#This Row],[Other HZ Employee]],Table1[[#This Row],[Non HZ Employee]],Table1[[#This Row],[Job Site Employee]],Table1[[#This Row],[Other Employee]])","v":0},{"$f":"IF(Table1[[#This Row],[Total Hours per Month]]=Table1[[#This Row],[Column12]],\"Match\",\"Error\")","v":"Match"},{"$f":"IF(Table1[[#This Row],[Calc 2]]=\"#NA\",\"#NA\",IF(Table1[[#This Row],[Non HZ Employee]]=Table1[[#This Row],[Max calc]],\"Non HZ Employee\", Table1[[#This Row],[Calc 2]]))","v":"#NA"}]
[1569,null,1569,{"$nulls":5},{"$f":"SUM(Table1[[#This Row],[Column4]]+Table1[[#This Row],[Column3]]+Table1[[#This Row],[Column2]]+Table1[[#This Row],[Column1]])","v":0},{"$nulls":5},{"$f":"SUM(Table1[[#This Row],[PO Employee]:[Other Employee]])","v":0},"N",{"$error":"#N/A"},{"$f":"IF(O1586>39,Table1[[#This Row],[Calc 1]],IF(O1586>1,\"Not counted as an Employee\",\"#NA\"))","v":"#NA"},{"$f":"MAX(Table1[[#This Row],[PO Employee]],Table1[[#This Row],[Other HZ Employee]],Table1[[#This Row],[Non HZ Employee]],Table1[[#This Row],[Job Site Employee]],Table1[[#This Row],[Other Employee]])","v":0},{"$f":"IF(Table1[[#This Row],[Total Hours per Month]]=Table1[[#This Row],[Column12]],\"Match\",\"Error\")","v":"Match"},{"$f":"IF(Table1[[#This Row],[Calc 2]]=\"#NA\",\"#NA\",IF(Table1[[#This Row],[Non HZ Employee]]=Table1[[#This Row],[Max calc]],\"Non HZ Employee\", Table1[[#This Row],[Calc 2]]))","v":"#NA"}]
[1570,null,1570,{"$nulls":5},{"$f":"SUM(Table1[[#This Row],[Column4]]+Table1[[#This Row],[Column3]]+Table1[[#This Row],[Column2]]+Table1[[#This Row],[Column1]])","v":0},{"$nulls":5},{"$f":"SUM(Table1[[#This Row],[PO Employee]:[Other Employee]])","v":0},"N",{"$error":"#N/A"},{"$f":"IF(O1587>39,Table1[[#This Row],[Calc 1]],IF(O1587>1,\"Not counted as an Employee\",\"#NA\"))","v":"#NA"},{"$f":"MAX(Table1[[#This Row],[PO Employee]],Table1[[#This Row],[Other HZ Employee]],Table1[[#This Row],[Non HZ Employee]],Table1[[#This Row],[Job Site Employee]],Table1[[#This Row],[Other Employee]])","v":0},{"$f":"IF(Table1[[#This Row],[Total Hours per Month]]=Table1[[#This Row],[Column12]],\"Match\",\"Error\")","v":"Match"},{"$f":"IF(Table1[[#This Row],[Calc 2]]=\"#NA\",\"#NA\",IF(Table1[[#This Row],[Non HZ Employee]]=Table1[[#This Row],[Max calc]],\"Non HZ Employee\", Table1[[#This Row],[Calc 2]]))","v":"#NA"}]
[1571,null,1571,{"$nulls":5},{"$f":"SUM(Table1[[#This Row],[Column4]]+Table1[[#This Row],[Column3]]+Table1[[#This Row],[Column2]]+Table1[[#This Row],[Column1]])","v":0},{"$nulls":5},{"$f":"SUM(Table1[[#This Row],[PO Employee]:[Other Employee]])","v":0},"N",{"$error":"#N/A"},{"$f":"IF(O1588>39,Table1[[#This Row],[Calc 1]],IF(O1588>1,\"Not counted as an Employee\",\"#NA\"))","v":"#NA"},{"$f":"MAX(Table1[[#This Row],[PO Employee]],Table1[[#This Row],[Other HZ Employee]],Table1[[#This Row],[Non HZ Employee]],Table1[[#This Row],[Job Site Employee]],Table1[[#This Row],[Other Employee]])","v":0},{"$f":"IF(Table1[[#This Row],[Total Hours per Month]]=Table1[[#This Row],[Column12]],\"Match\",\"Error\")","v":"Match"},{"$f":"IF(Table1[[#This Row],[Calc 2]]=\"#NA\",\"#NA\",IF(Table1[[#This Row],[Non HZ Employee]]=Table1[[#This Row],[Max calc]],\"Non HZ Employee\", Table1[[#This Row],[Calc 2]]))","v":"#NA"}]
[1572,null,1572,{"$nulls":5},{"$f":"SUM(Table1[[#This Row],[Column4]]+Table1[[#This Row],[Column3]]+Table1[[#This Row],[Column2]]+Table1[[#This Row],[Column1]])","v":0},{"$nulls":5},{"$f":"SUM(Table1[[#This Row],[PO Employee]:[Other Employee]])","v":0},"N",{"$error":"#N/A"},{"$f":"IF(O1589>39,Table1[[#This Row],[Calc 1]],IF(O1589>1,\"Not counted as an Employee\",\"#NA\"))","v":"#NA"},{"$f":"MAX(Table1[[#This Row],[PO Employee]],Table1[[#This Row],[Other HZ Employee]],Table1[[#This Row],[Non HZ Employee]],Table1[[#This Row],[Job Site Employee]],Table1[[#This Row],[Other Employee]])","v":0},{"$f":"IF(Table1[[#This Row],[Total Hours per Month]]=Table1[[#This Row],[Column12]],\"Match\",\"Error\")","v":"Match"},{"$f":"IF(Table1[[#This Row],[Calc 2]]=\"#NA\",\"#NA\",IF(Table1[[#This Row],[Non HZ Employee]]=Table1[[#This Row],[Max calc]],\"Non HZ Employee\", Table1[[#This Row],[Calc 2]]))","v":"#NA"}]
[1573,null,1573,{"$nulls":5},{"$f":"SUM(Table1[[#This Row],[Column4]]+Table1[[#This Row],[Column3]]+Table1[[#This Row],[Column2]]+Table1[[#This Row],[Column1]])","v":0},{"$nulls":5},{"$f":"SUM(Table1[[#This Row],[PO Employee]:[Other Employee]])","v":0},"N",{"$error":"#N/A"},{"$f":"IF(O1590>39,Table1[[#This Row],[Calc 1]],IF(O1590>1,\"Not counted as an Employee\",\"#NA\"))","v":"#NA"},{"$f":"MAX(Table1[[#This Row],[PO Employee]],Table1[[#This Row],[Other HZ Employee]],Table1[[#This Row],[Non HZ Employee]],Table1[[#This Row],[Job Site Employee]],Table1[[#This Row],[Other Employee]])","v":0},{"$f":"IF(Table1[[#This Row],[Total Hours per Month]]=Table1[[#This Row],[Column12]],\"Match\",\"Error\")","v":"Match"},{"$f":"IF(Table1[[#This Row],[Calc 2]]=\"#NA\",\"#NA\",IF(Table1[[#This Row],[Non HZ Employee]]=Table1[[#This Row],[Max calc]],\"Non HZ Employee\", Table1[[#This Row],[Calc 2]]))","v":"#NA"}]
[1574,null,1574,{"$nulls":5},{"$f":"SUM(Table1[[#This Row],[Column4]]+Table1[[#This Row],[Column3]]+Table1[[#This Row],[Column2]]+Table1[[#This Row],[Column1]])","v":0},{"$nulls":5},{"$f":"SUM(Table1[[#This Row],[PO Employee]:[Other Employee]])","v":0},"N",{"$error":"#N/A"},{"$f":"IF(O1591>39,Table1[[#This Row],[Calc 1]],IF(O1591>1,\"Not counted as an Employee\",\"#NA\"))","v":"#NA"},{"$f":"MAX(Table1[[#This Row],[PO Employee]],Table1[[#This Row],[Other HZ Employee]],Table1[[#This Row],[Non HZ Employee]],Table1[[#This Row],[Job Site Employee]],Table1[[#This Row],[Other Employee]])","v":0},{"$f":"IF(Table1[[#This Row],[Total Hours per Month]]=Table1[[#This Row],[Column12]],\"Match\",\"Error\")","v":"Match"},{"$f":"IF(Table1[[#This Row],[Calc 2]]=\"#NA\",\"#NA\",IF(Table1[[#This Row],[Non HZ Employee]]=Table1[[#This Row],[Max calc]],\"Non HZ Employee\", Table1[[#This Row],[Calc 2]]))","v":"#NA"}]
[1575,null,1575,{"$nulls":5},{"$f":"SUM(Table1[[#This Row],[Column4]]+Table1[[#This Row],[Column3]]+Table1[[#This Row],[Column2]]+Table1[[#This Row],[Column1]])","v":0},{"$nulls":5},{"$f":"SUM(Table1[[#This Row],[PO Employee]:[Other Employee]])","v":0},"N",{"$error":"#N/A"},{"$f":"IF(O1592>39,Table1[[#This Row],[Calc 1]],IF(O1592>1,\"Not counted as an Employee\",\"#NA\"))","v":"#NA"},{"$f":"MAX(Table1[[#This Row],[PO Employee]],Table1[[#This Row],[Other HZ Employee]],Table1[[#This Row],[Non HZ Employee]],Table1[[#This Row],[Job Site Employee]],Table1[[#This Row],[Other Employee]])","v":0},{"$f":"IF(Table1[[#This Row],[Total Hours per Month]]=Table1[[#This Row],[Column12]],\"Match\",\"Error\")","v":"Match"},{"$f":"IF(Table1[[#This Row],[Calc 2]]=\"#NA\",\"#NA\",IF(Table1[[#This Row],[Non HZ Employee]]=Table1[[#This Row],[Max calc]],\"Non HZ Employee\", Table1[[#This Row],[Calc 2]]))","v":"#NA"}]
[1576,null,1576,{"$nulls":5},{"$f":"SUM(Table1[[#This Row],[Column4]]+Table1[[#This Row],[Column3]]+Table1[[#This Row],[Column2]]+Table1[[#This Row],[Column1]])","v":0},{"$nulls":5},{"$f":"SUM(Table1[[#This Row],[PO Employee]:[Other Employee]])","v":0},"N",{"$error":"#N/A"},{"$f":"IF(O1593>39,Table1[[#This Row],[Calc 1]],IF(O1593>1,\"Not counted as an Employee\",\"#NA\"))","v":"#NA"},{"$f":"MAX(Table1[[#This Row],[PO Employee]],Table1[[#This Row],[Other HZ Employee]],Table1[[#This Row],[Non HZ Employee]],Table1[[#This Row],[Job Site Employee]],Table1[[#This Row],[Other Employee]])","v":0},{"$f":"IF(Table1[[#This Row],[Total Hours per Month]]=Table1[[#This Row],[Column12]],\"Match\",\"Error\")","v":"Match"},{"$f":"IF(Table1[[#This Row],[Calc 2]]=\"#NA\",\"#NA\",IF(Table1[[#This Row],[Non HZ Employee]]=Table1[[#This Row],[Max calc]],\"Non HZ Employee\", Table1[[#This Row],[Calc 2]]))","v":"#NA"}]
[1577,null,1577,{"$nulls":5},{"$f":"SUM(Table1[[#This Row],[Column4]]+Table1[[#This Row],[Column3]]+Table1[[#This Row],[Column2]]+Table1[[#This Row],[Column1]])","v":0},{"$nulls":5},{"$f":"SUM(Table1[[#This Row],[PO Employee]:[Other Employee]])","v":0},"N",{"$error":"#N/A"},{"$f":"IF(O1594>39,Table1[[#This Row],[Calc 1]],IF(O1594>1,\"Not counted as an Employee\",\"#NA\"))","v":"#NA"},{"$f":"MAX(Table1[[#This Row],[PO Employee]],Table1[[#This Row],[Other HZ Employee]],Table1[[#This Row],[Non HZ Employee]],Table1[[#This Row],[Job Site Employee]],Table1[[#This Row],[Other Employee]])","v":0},{"$f":"IF(Table1[[#This Row],[Total Hours per Month]]=Table1[[#This Row],[Column12]],\"Match\",\"Error\")","v":"Match"},{"$f":"IF(Table1[[#This Row],[Calc 2]]=\"#NA\",\"#NA\",IF(Table1[[#This Row],[Non HZ Employee]]=Table1[[#This Row],[Max calc]],\"Non HZ Employee\", Table1[[#This Row],[Calc 2]]))","v":"#NA"}]
[1578,null,1578,{"$nulls":5},{"$f":"SUM(Table1[[#This Row],[Column4]]+Table1[[#This Row],[Column3]]+Table1[[#This Row],[Column2]]+Table1[[#This Row],[Column1]])","v":0},{"$nulls":5},{"$f":"SUM(Table1[[#This Row],[PO Employee]:[Other Employee]])","v":0},"N",{"$error":"#N/A"},{"$f":"IF(O1595>39,Table1[[#This Row],[Calc 1]],IF(O1595>1,\"Not counted as an Employee\",\"#NA\"))","v":"#NA"},{"$f":"MAX(Table1[[#This Row],[PO Employee]],Table1[[#This Row],[Other HZ Employee]],Table1[[#This Row],[Non HZ Employee]],Table1[[#This Row],[Job Site Employee]],Table1[[#This Row],[Other Employee]])","v":0},{"$f":"IF(Table1[[#This Row],[Total Hours per Month]]=Table1[[#This Row],[Column12]],\"Match\",\"Error\")","v":"Match"},{"$f":"IF(Table1[[#This Row],[Calc 2]]=\"#NA\",\"#NA\",IF(Table1[[#This Row],[Non HZ Employee]]=Table1[[#This Row],[Max calc]],\"Non HZ Employee\", Table1[[#This Row],[Calc 2]]))","v":"#NA"}]
[1579,null,1579,{"$nulls":5},{"$f":"SUM(Table1[[#This Row],[Column4]]+Table1[[#This Row],[Column3]]+Table1[[#This Row],[Column2]]+Table1[[#This Row],[Column1]])","v":0},{"$nulls":5},{"$f":"SUM(Table1[[#This Row],[PO Employee]:[Other Employee]])","v":0},"N",{"$error":"#N/A"},{"$f":"IF(O1596>39,Table1[[#This Row],[Calc 1]],IF(O1596>1,\"Not counted as an Employee\",\"#NA\"))","v":"#NA"},{"$f":"MAX(Table1[[#This Row],[PO Employee]],Table1[[#This Row],[Other HZ Employee]],Table1[[#This Row],[Non HZ Employee]],Table1[[#This Row],[Job Site Employee]],Table1[[#This Row],[Other Employee]])","v":0},{"$f":"IF(Table1[[#This Row],[Total Hours per Month]]=Table1[[#This Row],[Column12]],\"Match\",\"Error\")","v":"Match"},{"$f":"IF(Table1[[#This Row],[Calc 2]]=\"#NA\",\"#NA\",IF(Table1[[#This Row],[Non HZ Employee]]=Table1[[#This Row],[Max calc]],\"Non HZ Employee\", Table1[[#This Row],[Calc 2]]))","v":"#NA"}]
[1580,null,1580,{"$nulls":5},{"$f":"SUM(Table1[[#This Row],[Column4]]+Table1[[#This Row],[Column3]]+Table1[[#This Row],[Column2]]+Table1[[#This Row],[Column1]])","v":0},{"$nulls":5},{"$f":"SUM(Table1[[#This Row],[PO Employee]:[Other Employee]])","v":0},"N",{"$error":"#N/A"},{"$f":"IF(O1597>39,Table1[[#This Row],[Calc 1]],IF(O1597>1,\"Not counted as an Employee\",\"#NA\"))","v":"#NA"},{"$f":"MAX(Table1[[#This Row],[PO Employee]],Table1[[#This Row],[Other HZ Employee]],Table1[[#This Row],[Non HZ Employee]],Table1[[#This Row],[Job Site Employee]],Table1[[#This Row],[Other Employee]])","v":0},{"$f":"IF(Table1[[#This Row],[Total Hours per Month]]=Table1[[#This Row],[Column12]],\"Match\",\"Error\")","v":"Match"},{"$f":"IF(Table1[[#This Row],[Calc 2]]=\"#NA\",\"#NA\",IF(Table1[[#This Row],[Non HZ Employee]]=Table1[[#This Row],[Max calc]],\"Non HZ Employee\", Table1[[#This Row],[Calc 2]]))","v":"#NA"}]
[1581,null,1581,{"$nulls":5},{"$f":"SUM(Table1[[#This Row],[Column4]]+Table1[[#This Row],[Column3]]+Table1[[#This Row],[Column2]]+Table1[[#This Row],[Column1]])","v":0},{"$nulls":5},{"$f":"SUM(Table1[[#This Row],[PO Employee]:[Other Employee]])","v":0},"N",{"$error":"#N/A"},{"$f":"IF(O1598>39,Table1[[#This Row],[Calc 1]],IF(O1598>1,\"Not counted as an Employee\",\"#NA\"))","v":"#NA"},{"$f":"MAX(Table1[[#This Row],[PO Employee]],Table1[[#This Row],[Other HZ Employee]],Table1[[#This Row],[Non HZ Employee]],Table1[[#This Row],[Job Site Employee]],Table1[[#This Row],[Other Employee]])","v":0},{"$f":"IF(Table1[[#This Row],[Total Hours per Month]]=Table1[[#This Row],[Column12]],\"Match\",\"Error\")","v":"Match"},{"$f":"IF(Table1[[#This Row],[Calc 2]]=\"#NA\",\"#NA\",IF(Table1[[#This Row],[Non HZ Employee]]=Table1[[#This Row],[Max calc]],\"Non HZ Employee\", Table1[[#This Row],[Calc 2]]))","v":"#NA"}]
[1582,null,1582,{"$nulls":5},{"$f":"SUM(Table1[[#This Row],[Column4]]+Table1[[#This Row],[Column3]]+Table1[[#This Row],[Column2]]+Table1[[#This Row],[Column1]])","v":0},{"$nulls":5},{"$f":"SUM(Table1[[#This Row],[PO Employee]:[Other Employee]])","v":0},"N",{"$error":"#N/A"},{"$f":"IF(O1599>39,Table1[[#This Row],[Calc 1]],IF(O1599>1,\"Not counted as an Employee\",\"#NA\"))","v":"#NA"},{"$f":"MAX(Table1[[#This Row],[PO Employee]],Table1[[#This Row],[Other HZ Employee]],Table1[[#This Row],[Non HZ Employee]],Table1[[#This Row],[Job Site Employee]],Table1[[#This Row],[Other Employee]])","v":0},{"$f":"IF(Table1[[#This Row],[Total Hours per Month]]=Table1[[#This Row],[Column12]],\"Match\",\"Error\")","v":"Match"},{"$f":"IF(Table1[[#This Row],[Calc 2]]=\"#NA\",\"#NA\",IF(Table1[[#This Row],[Non HZ Employee]]=Table1[[#This Row],[Max calc]],\"Non HZ Employee\", Table1[[#This Row],[Calc 2]]))","v":"#NA"}]
[1583,null,1583,{"$nulls":5},{"$f":"SUM(Table1[[#This Row],[Column4]]+Table1[[#This Row],[Column3]]+Table1[[#This Row],[Column2]]+Table1[[#This Row],[Column1]])","v":0},{"$nulls":5},{"$f":"SUM(Table1[[#This Row],[PO Employee]:[Other Employee]])","v":0},"N",{"$error":"#N/A"},{"$f":"IF(O1600>39,Table1[[#This Row],[Calc 1]],IF(O1600>1,\"Not counted as an Employee\",\"#NA\"))","v":"#NA"},{"$f":"MAX(Table1[[#This Row],[PO Employee]],Table1[[#This Row],[Other HZ Employee]],Table1[[#This Row],[Non HZ Employee]],Table1[[#This Row],[Job Site Employee]],Table1[[#This Row],[Other Employee]])","v":0},{"$f":"IF(Table1[[#This Row],[Total Hours per Month]]=Table1[[#This Row],[Column12]],\"Match\",\"Error\")","v":"Match"},{"$f":"IF(Table1[[#This Row],[Calc 2]]=\"#NA\",\"#NA\",IF(Table1[[#This Row],[Non HZ Employee]]=Table1[[#This Row],[Max calc]],\"Non HZ Employee\", Table1[[#This Row],[Calc 2]]))","v":"#NA"}]
[1584,null,1584,{"$nulls":5},{"$f":"SUM(Table1[[#This Row],[Column4]]+Table1[[#This Row],[Column3]]+Table1[[#This Row],[Column2]]+Table1[[#This Row],[Column1]])","v":0},{"$nulls":5},{"$f":"SUM(Table1[[#This Row],[PO Employee]:[Other Employee]])","v":0},"N",{"$error":"#N/A"},{"$f":"IF(O1601>39,Table1[[#This Row],[Calc 1]],IF(O1601>1,\"Not counted as an Employee\",\"#NA\"))","v":"#NA"},{"$f":"MAX(Table1[[#This Row],[PO Employee]],Table1[[#This Row],[Other HZ Employee]],Table1[[#This Row],[Non HZ Employee]],Table1[[#This Row],[Job Site Employee]],Table1[[#This Row],[Other Employee]])","v":0},{"$f":"IF(Table1[[#This Row],[Total Hours per Month]]=Table1[[#This Row],[Column12]],\"Match\",\"Error\")","v":"Match"},{"$f":"IF(Table1[[#This Row],[Calc 2]]=\"#NA\",\"#NA\",IF(Table1[[#This Row],[Non HZ Employee]]=Table1[[#This Row],[Max calc]],\"Non HZ Employee\", Table1[[#This Row],[Calc 2]]))","v":"#NA"}]
[1585,null,1585,{"$nulls":5},{"$f":"SUM(Table1[[#This Row],[Column4]]+Table1[[#This Row],[Column3]]+Table1[[#This Row],[Column2]]+Table1[[#This Row],[Column1]])","v":0},{"$nulls":5},{"$f":"SUM(Table1[[#This Row],[PO Employee]:[Other Employee]])","v":0},"N",{"$error":"#N/A"},{"$f":"IF(O1602>39,Table1[[#This Row],[Calc 1]],IF(O1602>1,\"Not counted as an Employee\",\"#NA\"))","v":"#NA"},{"$f":"MAX(Table1[[#This Row],[PO Employee]],Table1[[#This Row],[Other HZ Employee]],Table1[[#This Row],[Non HZ Employee]],Table1[[#This Row],[Job Site Employee]],Table1[[#This Row],[Other Employee]])","v":0},{"$f":"IF(Table1[[#This Row],[Total Hours per Month]]=Table1[[#This Row],[Column12]],\"Match\",\"Error\")","v":"Match"},{"$f":"IF(Table1[[#This Row],[Calc 2]]=\"#NA\",\"#NA\",IF(Table1[[#This Row],[Non HZ Employee]]=Table1[[#This Row],[Max calc]],\"Non HZ Employee\", Table1[[#This Row],[Calc 2]]))","v":"#NA"}]
[1586,null,1586,{"$nulls":5},{"$f":"SUM(Table1[[#This Row],[Column4]]+Table1[[#This Row],[Column3]]+Table1[[#This Row],[Column2]]+Table1[[#This Row],[Column1]])","v":0},{"$nulls":5},{"$f":"SUM(Table1[[#This Row],[PO Employee]:[Other Employee]])","v":0},"N",{"$error":"#N/A"},{"$f":"IF(O1603>39,Table1[[#This Row],[Calc 1]],IF(O1603>1,\"Not counted as an Employee\",\"#NA\"))","v":"#NA"},{"$f":"MAX(Table1[[#This Row],[PO Employee]],Table1[[#This Row],[Other HZ Employee]],Table1[[#This Row],[Non HZ Employee]],Table1[[#This Row],[Job Site Employee]],Table1[[#This Row],[Other Employee]])","v":0},{"$f":"IF(Table1[[#This Row],[Total Hours per Month]]=Table1[[#This Row],[Column12]],\"Match\",\"Error\")","v":"Match"},{"$f":"IF(Table1[[#This Row],[Calc 2]]=\"#NA\",\"#NA\",IF(Table1[[#This Row],[Non HZ Employee]]=Table1[[#This Row],[Max calc]],\"Non HZ Employee\", Table1[[#This Row],[Calc 2]]))","v":"#NA"}]
[1587,null,1587,{"$nulls":5},{"$f":"SUM(Table1[[#This Row],[Column4]]+Table1[[#This Row],[Column3]]+Table1[[#This Row],[Column2]]+Table1[[#This Row],[Column1]])","v":0},{"$nulls":5},{"$f":"SUM(Table1[[#This Row],[PO Employee]:[Other Employee]])","v":0},"N",{"$error":"#N/A"},{"$f":"IF(O1604>39,Table1[[#This Row],[Calc 1]],IF(O1604>1,\"Not counted as an Employee\",\"#NA\"))","v":"#NA"},{"$f":"MAX(Table1[[#This Row],[PO Employee]],Table1[[#This Row],[Other HZ Employee]],Table1[[#This Row],[Non HZ Employee]],Table1[[#This Row],[Job Site Employee]],Table1[[#This Row],[Other Employee]])","v":0},{"$f":"IF(Table1[[#This Row],[Total Hours per Month]]=Table1[[#This Row],[Column12]],\"Match\",\"Error\")","v":"Match"},{"$f":"IF(Table1[[#This Row],[Calc 2]]=\"#NA\",\"#NA\",IF(Table1[[#This Row],[Non HZ Employee]]=Table1[[#This Row],[Max calc]],\"Non HZ Employee\", Table1[[#This Row],[Calc 2]]))","v":"#NA"}]
[1588,null,1588,{"$nulls":5},{"$f":"SUM(Table1[[#This Row],[Column4]]+Table1[[#This Row],[Column3]]+Table1[[#This Row],[Column2]]+Table1[[#This Row],[Column1]])","v":0},{"$nulls":5},{"$f":"SUM(Table1[[#This Row],[PO Employee]:[Other Employee]])","v":0},"N",{"$error":"#N/A"},{"$f":"IF(O1605>39,Table1[[#This Row],[Calc 1]],IF(O1605>1,\"Not counted as an Employee\",\"#NA\"))","v":"#NA"},{"$f":"MAX(Table1[[#This Row],[PO Employee]],Table1[[#This Row],[Other HZ Employee]],Table1[[#This Row],[Non HZ Employee]],Table1[[#This Row],[Job Site Employee]],Table1[[#This Row],[Other Employee]])","v":0},{"$f":"IF(Table1[[#This Row],[Total Hours per Month]]=Table1[[#This Row],[Column12]],\"Match\",\"Error\")","v":"Match"},{"$f":"IF(Table1[[#This Row],[Calc 2]]=\"#NA\",\"#NA\",IF(Table1[[#This Row],[Non HZ Employee]]=Table1[[#This Row],[Max calc]],\"Non HZ Employee\", Table1[[#This Row],[Calc 2]]))","v":"#NA"}]
[1589,null,1589,{"$nulls":5},{"$f":"SUM(Table1[[#This Row],[Column4]]+Table1[[#This Row],[Column3]]+Table1[[#This Row],[Column2]]+Table1[[#This Row],[Column1]])","v":0},{"$nulls":5},{"$f":"SUM(Table1[[#This Row],[PO Employee]:[Other Employee]])","v":0},"N",{"$error":"#N/A"},{"$f":"IF(O1606>39,Table1[[#This Row],[Calc 1]],IF(O1606>1,\"Not counted as an Employee\",\"#NA\"))","v":"#NA"},{"$f":"MAX(Table1[[#This Row],[PO Employee]],Table1[[#This Row],[Other HZ Employee]],Table1[[#This Row],[Non HZ Employee]],Table1[[#This Row],[Job Site Employee]],Table1[[#This Row],[Other Employee]])","v":0},{"$f":"IF(Table1[[#This Row],[Total Hours per Month]]=Table1[[#This Row],[Column12]],\"Match\",\"Error\")","v":"Match"},{"$f":"IF(Table1[[#This Row],[Calc 2]]=\"#NA\",\"#NA\",IF(Table1[[#This Row],[Non HZ Employee]]=Table1[[#This Row],[Max calc]],\"Non HZ Employee\", Table1[[#This Row],[Calc 2]]))","v":"#NA"}]
[1590,null,1590,{"$nulls":5},{"$f":"SUM(Table1[[#This Row],[Column4]]+Table1[[#This Row],[Column3]]+Table1[[#This Row],[Column2]]+Table1[[#This Row],[Column1]])","v":0},{"$nulls":5},{"$f":"SUM(Table1[[#This Row],[PO Employee]:[Other Employee]])","v":0},"N",{"$error":"#N/A"},{"$f":"IF(O1607>39,Table1[[#This Row],[Calc 1]],IF(O1607>1,\"Not counted as an Employee\",\"#NA\"))","v":"#NA"},{"$f":"MAX(Table1[[#This Row],[PO Employee]],Table1[[#This Row],[Other HZ Employee]],Table1[[#This Row],[Non HZ Employee]],Table1[[#This Row],[Job Site Employee]],Table1[[#This Row],[Other Employee]])","v":0},{"$f":"IF(Table1[[#This Row],[Total Hours per Month]]=Table1[[#This Row],[Column12]],\"Match\",\"Error\")","v":"Match"},{"$f":"IF(Table1[[#This Row],[Calc 2]]=\"#NA\",\"#NA\",IF(Table1[[#This Row],[Non HZ Employee]]=Table1[[#This Row],[Max calc]],\"Non HZ Employee\", Table1[[#This Row],[Calc 2]]))","v":"#NA"}]
[1591,null,1591,{"$nulls":5},{"$f":"SUM(Table1[[#This Row],[Column4]]+Table1[[#This Row],[Column3]]+Table1[[#This Row],[Column2]]+Table1[[#This Row],[Column1]])","v":0},{"$nulls":5},{"$f":"SUM(Table1[[#This Row],[PO Employee]:[Other Employee]])","v":0},"N",{"$error":"#N/A"},{"$f":"IF(O1608>39,Table1[[#This Row],[Calc 1]],IF(O1608>1,\"Not counted as an Employee\",\"#NA\"))","v":"#NA"},{"$f":"MAX(Table1[[#This Row],[PO Employee]],Table1[[#This Row],[Other HZ Employee]],Table1[[#This Row],[Non HZ Employee]],Table1[[#This Row],[Job Site Employee]],Table1[[#This Row],[Other Employee]])","v":0},{"$f":"IF(Table1[[#This Row],[Total Hours per Month]]=Table1[[#This Row],[Column12]],\"Match\",\"Error\")","v":"Match"},{"$f":"IF(Table1[[#This Row],[Calc 2]]=\"#NA\",\"#NA\",IF(Table1[[#This Row],[Non HZ Employee]]=Table1[[#This Row],[Max calc]],\"Non HZ Employee\", Table1[[#This Row],[Calc 2]]))","v":"#NA"}]
[1592,null,1592,{"$nulls":5},{"$f":"SUM(Table1[[#This Row],[Column4]]+Table1[[#This Row],[Column3]]+Table1[[#This Row],[Column2]]+Table1[[#This Row],[Column1]])","v":0},{"$nulls":5},{"$f":"SUM(Table1[[#This Row],[PO Employee]:[Other Employee]])","v":0},"N",{"$error":"#N/A"},{"$f":"IF(O1609>39,Table1[[#This Row],[Calc 1]],IF(O1609>1,\"Not counted as an Employee\",\"#NA\"))","v":"#NA"},{"$f":"MAX(Table1[[#This Row],[PO Employee]],Table1[[#This Row],[Other HZ Employee]],Table1[[#This Row],[Non HZ Employee]],Table1[[#This Row],[Job Site Employee]],Table1[[#This Row],[Other Employee]])","v":0},{"$f":"IF(Table1[[#This Row],[Total Hours per Month]]=Table1[[#This Row],[Column12]],\"Match\",\"Error\")","v":"Match"},{"$f":"IF(Table1[[#This Row],[Calc 2]]=\"#NA\",\"#NA\",IF(Table1[[#This Row],[Non HZ Employee]]=Table1[[#This Row],[Max calc]],\"Non HZ Employee\", Table1[[#This Row],[Calc 2]]))","v":"#NA"}]
[1593,null,1593,{"$nulls":5},{"$f":"SUM(Table1[[#This Row],[Column4]]+Table1[[#This Row],[Column3]]+Table1[[#This Row],[Column2]]+Table1[[#This Row],[Column1]])","v":0},{"$nulls":5},{"$f":"SUM(Table1[[#This Row],[PO Employee]:[Other Employee]])","v":0},"N",{"$error":"#N/A"},{"$f":"IF(O1610>39,Table1[[#This Row],[Calc 1]],IF(O1610>1,\"Not counted as an Employee\",\"#NA\"))","v":"#NA"},{"$f":"MAX(Table1[[#This Row],[PO Employee]],Table1[[#This Row],[Other HZ Employee]],Table1[[#This Row],[Non HZ Employee]],Table1[[#This Row],[Job Site Employee]],Table1[[#This Row],[Other Employee]])","v":0},{"$f":"IF(Table1[[#This Row],[Total Hours per Month]]=Table1[[#This Row],[Column12]],\"Match\",\"Error\")","v":"Match"},{"$f":"IF(Table1[[#This Row],[Calc 2]]=\"#NA\",\"#NA\",IF(Table1[[#This Row],[Non HZ Employee]]=Table1[[#This Row],[Max calc]],\"Non HZ Employee\", Table1[[#This Row],[Calc 2]]))","v":"#NA"}]
[1594,null,1594,{"$nulls":5},{"$f":"SUM(Table1[[#This Row],[Column4]]+Table1[[#This Row],[Column3]]+Table1[[#This Row],[Column2]]+Table1[[#This Row],[Column1]])","v":0},{"$nulls":5},{"$f":"SUM(Table1[[#This Row],[PO Employee]:[Other Employee]])","v":0},"N",{"$error":"#N/A"},{"$f":"IF(O1611>39,Table1[[#This Row],[Calc 1]],IF(O1611>1,\"Not counted as an Employee\",\"#NA\"))","v":"#NA"},{"$f":"MAX(Table1[[#This Row],[PO Employee]],Table1[[#This Row],[Other HZ Employee]],Table1[[#This Row],[Non HZ Employee]],Table1[[#This Row],[Job Site Employee]],Table1[[#This Row],[Other Employee]])","v":0},{"$f":"IF(Table1[[#This Row],[Total Hours per Month]]=Table1[[#This Row],[Column12]],\"Match\",\"Error\")","v":"Match"},{"$f":"IF(Table1[[#This Row],[Calc 2]]=\"#NA\",\"#NA\",IF(Table1[[#This Row],[Non HZ Employee]]=Table1[[#This Row],[Max calc]],\"Non HZ Employee\", Table1[[#This Row],[Calc 2]]))","v":"#NA"}]
[1595,null,1595,{"$nulls":5},{"$f":"SUM(Table1[[#This Row],[Column4]]+Table1[[#This Row],[Column3]]+Table1[[#This Row],[Column2]]+Table1[[#This Row],[Column1]])","v":0},{"$nulls":5},{"$f":"SUM(Table1[[#This Row],[PO Employee]:[Other Employee]])","v":0},"N",{"$error":"#N/A"},{"$f":"IF(O1612>39,Table1[[#This Row],[Calc 1]],IF(O1612>1,\"Not counted as an Employee\",\"#NA\"))","v":"#NA"},{"$f":"MAX(Table1[[#This Row],[PO Employee]],Table1[[#This Row],[Other HZ Employee]],Table1[[#This Row],[Non HZ Employee]],Table1[[#This Row],[Job Site Employee]],Table1[[#This Row],[Other Employee]])","v":0},{"$f":"IF(Table1[[#This Row],[Total Hours per Month]]=Table1[[#This Row],[Column12]],\"Match\",\"Error\")","v":"Match"},{"$f":"IF(Table1[[#This Row],[Calc 2]]=\"#NA\",\"#NA\",IF(Table1[[#This Row],[Non HZ Employee]]=Table1[[#This Row],[Max calc]],\"Non HZ Employee\", Table1[[#This Row],[Calc 2]]))","v":"#NA"}]
[1596,null,1596,{"$nulls":5},{"$f":"SUM(Table1[[#This Row],[Column4]]+Table1[[#This Row],[Column3]]+Table1[[#This Row],[Column2]]+Table1[[#This Row],[Column1]])","v":0},{"$nulls":5},{"$f":"SUM(Table1[[#This Row],[PO Employee]:[Other Employee]])","v":0},"N",{"$error":"#N/A"},{"$f":"IF(O1613>39,Table1[[#This Row],[Calc 1]],IF(O1613>1,\"Not counted as an Employee\",\"#NA\"))","v":"#NA"},{"$f":"MAX(Table1[[#This Row],[PO Employee]],Table1[[#This Row],[Other HZ Employee]],Table1[[#This Row],[Non HZ Employee]],Table1[[#This Row],[Job Site Employee]],Table1[[#This Row],[Other Employee]])","v":0},{"$f":"IF(Table1[[#This Row],[Total Hours per Month]]=Table1[[#This Row],[Column12]],\"Match\",\"Error\")","v":"Match"},{"$f":"IF(Table1[[#This Row],[Calc 2]]=\"#NA\",\"#NA\",IF(Table1[[#This Row],[Non HZ Employee]]=Table1[[#This Row],[Max calc]],\"Non HZ Employee\", Table1[[#This Row],[Calc 2]]))","v":"#NA"}]
[1597,null,1597,{"$nulls":5},{"$f":"SUM(Table1[[#This Row],[Column4]]+Table1[[#This Row],[Column3]]+Table1[[#This Row],[Column2]]+Table1[[#This Row],[Column1]])","v":0},{"$nulls":5},{"$f":"SUM(Table1[[#This Row],[PO Employee]:[Other Employee]])","v":0},"N",{"$error":"#N/A"},{"$f":"IF(O1614>39,Table1[[#This Row],[Calc 1]],IF(O1614>1,\"Not counted as an Employee\",\"#NA\"))","v":"#NA"},{"$f":"MAX(Table1[[#This Row],[PO Employee]],Table1[[#This Row],[Other HZ Employee]],Table1[[#This Row],[Non HZ Employee]],Table1[[#This Row],[Job Site Employee]],Table1[[#This Row],[Other Employee]])","v":0},{"$f":"IF(Table1[[#This Row],[Total Hours per Month]]=Table1[[#This Row],[Column12]],\"Match\",\"Error\")","v":"Match"},{"$f":"IF(Table1[[#This Row],[Calc 2]]=\"#NA\",\"#NA\",IF(Table1[[#This Row],[Non HZ Employee]]=Table1[[#This Row],[Max calc]],\"Non HZ Employee\", Table1[[#This Row],[Calc 2]]))","v":"#NA"}]
[1598,null,1598,{"$nulls":5},{"$f":"SUM(Table1[[#This Row],[Column4]]+Table1[[#This Row],[Column3]]+Table1[[#This Row],[Column2]]+Table1[[#This Row],[Column1]])","v":0},{"$nulls":5},{"$f":"SUM(Table1[[#This Row],[PO Employee]:[Other Employee]])","v":0},"N",{"$error":"#N/A"},{"$f":"IF(O1615>39,Table1[[#This Row],[Calc 1]],IF(O1615>1,\"Not counted as an Employee\",\"#NA\"))","v":"#NA"},{"$f":"MAX(Table1[[#This Row],[PO Employee]],Table1[[#This Row],[Other HZ Employee]],Table1[[#This Row],[Non HZ Employee]],Table1[[#This Row],[Job Site Employee]],Table1[[#This Row],[Other Employee]])","v":0},{"$f":"IF(Table1[[#This Row],[Total Hours per Month]]=Table1[[#This Row],[Column12]],\"Match\",\"Error\")","v":"Match"},{"$f":"IF(Table1[[#This Row],[Calc 2]]=\"#NA\",\"#NA\",IF(Table1[[#This Row],[Non HZ Employee]]=Table1[[#This Row],[Max calc]],\"Non HZ Employee\", Table1[[#This Row],[Calc 2]]))","v":"#NA"}]
[1599,null,1599,{"$nulls":5},{"$f":"SUM(Table1[[#This Row],[Column4]]+Table1[[#This Row],[Column3]]+Table1[[#This Row],[Column2]]+Table1[[#This Row],[Column1]])","v":0},{"$nulls":5},{"$f":"SUM(Table1[[#This Row],[PO Employee]:[Other Employee]])","v":0},"N",{"$error":"#N/A"},{"$f":"IF(O1616>39,Table1[[#This Row],[Calc 1]],IF(O1616>1,\"Not counted as an Employee\",\"#NA\"))","v":"#NA"},{"$f":"MAX(Table1[[#This Row],[PO Employee]],Table1[[#This Row],[Other HZ Employee]],Table1[[#This Row],[Non HZ Employee]],Table1[[#This Row],[Job Site Employee]],Table1[[#This Row],[Other Employee]])","v":0},{"$f":"IF(Table1[[#This Row],[Total Hours per Month]]=Table1[[#This Row],[Column12]],\"Match\",\"Error\")","v":"Match"},{"$f":"IF(Table1[[#This Row],[Calc 2]]=\"#NA\",\"#NA\",IF(Table1[[#This Row],[Non HZ Employee]]=Table1[[#This Row],[Max calc]],\"Non HZ Employee\", Table1[[#This Row],[Calc 2]]))","v":"#NA"}]
[1600,null,1600,{"$nulls":5},{"$f":"SUM(Table1[[#This Row],[Column4]]+Table1[[#This Row],[Column3]]+Table1[[#This Row],[Column2]]+Table1[[#This Row],[Column1]])","v":0},{"$nulls":5},{"$f":"SUM(Table1[[#This Row],[PO Employee]:[Other Employee]])","v":0},"N",{"$error":"#N/A"},{"$f":"IF(O1617>39,Table1[[#This Row],[Calc 1]],IF(O1617>1,\"Not counted as an Employee\",\"#NA\"))","v":"#NA"},{"$f":"MAX(Table1[[#This Row],[PO Employee]],Table1[[#This Row],[Other HZ Employee]],Table1[[#This Row],[Non HZ Employee]],Table1[[#This Row],[Job Site Employee]],Table1[[#This Row],[Other Employee]])","v":0},{"$f":"IF(Table1[[#This Row],[Total Hours per Month]]=Table1[[#This Row],[Column12]],\"Match\",\"Error\")","v":"Match"},{"$f":"IF(Table1[[#This Row],[Calc 2]]=\"#NA\",\"#NA\",IF(Table1[[#This Row],[Non HZ Employee]]=Table1[[#This Row],[Max calc]],\"Non HZ Employee\", Table1[[#This Row],[Calc 2]]))","v":"#NA"}]
[1601,null,1601,{"$nulls":5},{"$f":"SUM(Table1[[#This Row],[Column4]]+Table1[[#This Row],[Column3]]+Table1[[#This Row],[Column2]]+Table1[[#This Row],[Column1]])","v":0},{"$nulls":5},{"$f":"SUM(Table1[[#This Row],[PO Employee]:[Other Employee]])","v":0},"N",{"$f":"INDEX($J$17:$N$17,MATCH(MAX(J1618:N1618),J1618:N1618,0))","v":{"$error":"#N/A"}},{"$f":"IF(O1618>39,Table1[[#This Row],[Calc 1]],IF(O1618>1,\"Not counted as an Employee\",\"#NA\"))","v":"#NA"},{"$f":"MAX(Table1[[#This Row],[PO Employee]],Table1[[#This Row],[Other HZ Employee]],Table1[[#This Row],[Non HZ Employee]],Table1[[#This Row],[Job Site Employee]],Table1[[#This Row],[Other Employee]])","v":0},{"$f":"IF(Table1[[#This Row],[Total Hours per Month]]=Table1[[#This Row],[Column12]],\"Match\",\"Error\")","v":"Match"},{"$f":"IF(Table1[[#This Row],[Calc 2]]=\"#NA\",\"#NA\",IF(Table1[[#This Row],[Non HZ Employee]]=Table1[[#This Row],[Max calc]],\"Non HZ Employee\", Table1[[#This Row],[Calc 2]]))","v":"#NA"}]
[1602,null,1602,{"$nulls":5},{"$f":"SUM(Table1[[#This Row],[Column4]]+Table1[[#This Row],[Column3]]+Table1[[#This Row],[Column2]]+Table1[[#This Row],[Column1]])","v":0},{"$nulls":5},{"$f":"SUM(Table1[[#This Row],[PO Employee]:[Other Employee]])","v":0},{"$f":"IF(O1619>=40,\"Y\",\"N\")","v":"N"},{"$error":"#N/A"},{"$f":"IF(O1619>39,Table1[[#This Row],[Calc 1]],IF(O1619>1,\"Not counted as an Employee\",\"#NA\"))","v":"#NA"},{"$f":"MAX(Table1[[#This Row],[PO Employee]],Table1[[#This Row],[Other HZ Employee]],Table1[[#This Row],[Non HZ Employee]],Table1[[#This Row],[Job Site Employee]],Table1[[#This Row],[Other Employee]])","v":0},{"$f":"IF(Table1[[#This Row],[Total Hours per Month]]=Table1[[#This Row],[Column12]],\"Match\",\"Error\")","v":"Match"},{"$f":"IF(Table1[[#This Row],[Calc 2]]=\"#NA\",\"#NA\",IF(Table1[[#This Row],[Non HZ Employee]]=Table1[[#This Row],[Max calc]],\"Non HZ Employee\", Table1[[#This Row],[Calc 2]]))","v":"#NA"}]
[1603,null,1603,{"$nulls":5},{"$f":"SUM(Table1[[#This Row],[Column4]]+Table1[[#This Row],[Column3]]+Table1[[#This Row],[Column2]]+Table1[[#This Row],[Column1]])","v":0},{"$nulls":5},{"$f":"SUM(Table1[[#This Row],[PO Employee]:[Other Employee]])","v":0},"N",{"$error":"#N/A"},{"$f":"IF(O1620>39,Table1[[#This Row],[Calc 1]],IF(O1620>1,\"Not counted as an Employee\",\"#NA\"))","v":"#NA"},{"$f":"MAX(Table1[[#This Row],[PO Employee]],Table1[[#This Row],[Other HZ Employee]],Table1[[#This Row],[Non HZ Employee]],Table1[[#This Row],[Job Site Employee]],Table1[[#This Row],[Other Employee]])","v":0},{"$f":"IF(Table1[[#This Row],[Total Hours per Month]]=Table1[[#This Row],[Column12]],\"Match\",\"Error\")","v":"Match"},{"$f":"IF(Table1[[#This Row],[Calc 2]]=\"#NA\",\"#NA\",IF(Table1[[#This Row],[Non HZ Employee]]=Table1[[#This Row],[Max calc]],\"Non HZ Employee\", Table1[[#This Row],[Calc 2]]))","v":"#NA"}]
[1604,null,1604,{"$nulls":5},{"$f":"SUM(Table1[[#This Row],[Column4]]+Table1[[#This Row],[Column3]]+Table1[[#This Row],[Column2]]+Table1[[#This Row],[Column1]])","v":0},{"$nulls":5},{"$f":"SUM(Table1[[#This Row],[PO Employee]:[Other Employee]])","v":0},"N",{"$error":"#N/A"},{"$f":"IF(O1621>39,Table1[[#This Row],[Calc 1]],IF(O1621>1,\"Not counted as an Employee\",\"#NA\"))","v":"#NA"},{"$f":"MAX(Table1[[#This Row],[PO Employee]],Table1[[#This Row],[Other HZ Employee]],Table1[[#This Row],[Non HZ Employee]],Table1[[#This Row],[Job Site Employee]],Table1[[#This Row],[Other Employee]])","v":0},{"$f":"IF(Table1[[#This Row],[Total Hours per Month]]=Table1[[#This Row],[Column12]],\"Match\",\"Error\")","v":"Match"},{"$f":"IF(Table1[[#This Row],[Calc 2]]=\"#NA\",\"#NA\",IF(Table1[[#This Row],[Non HZ Employee]]=Table1[[#This Row],[Max calc]],\"Non HZ Employee\", Table1[[#This Row],[Calc 2]]))","v":"#NA"}]
[1605,null,1605,{"$nulls":5},{"$f":"SUM(Table1[[#This Row],[Column4]]+Table1[[#This Row],[Column3]]+Table1[[#This Row],[Column2]]+Table1[[#This Row],[Column1]])","v":0},{"$nulls":5},{"$f":"SUM(Table1[[#This Row],[PO Employee]:[Other Employee]])","v":0},"N",{"$error":"#N/A"},{"$f":"IF(O1622>39,Table1[[#This Row],[Calc 1]],IF(O1622>1,\"Not counted as an Employee\",\"#NA\"))","v":"#NA"},{"$f":"MAX(Table1[[#This Row],[PO Employee]],Table1[[#This Row],[Other HZ Employee]],Table1[[#This Row],[Non HZ Employee]],Table1[[#This Row],[Job Site Employee]],Table1[[#This Row],[Other Employee]])","v":0},{"$f":"IF(Table1[[#This Row],[Total Hours per Month]]=Table1[[#This Row],[Column12]],\"Match\",\"Error\")","v":"Match"},{"$f":"IF(Table1[[#This Row],[Calc 2]]=\"#NA\",\"#NA\",IF(Table1[[#This Row],[Non HZ Employee]]=Table1[[#This Row],[Max calc]],\"Non HZ Employee\", Table1[[#This Row],[Calc 2]]))","v":"#NA"}]
[1606,null,1606,{"$nulls":5},{"$f":"SUM(Table1[[#This Row],[Column4]]+Table1[[#This Row],[Column3]]+Table1[[#This Row],[Column2]]+Table1[[#This Row],[Column1]])","v":0},{"$nulls":5},{"$f":"SUM(Table1[[#This Row],[PO Employee]:[Other Employee]])","v":0},"N",{"$error":"#N/A"},{"$f":"IF(O1623>39,Table1[[#This Row],[Calc 1]],IF(O1623>1,\"Not counted as an Employee\",\"#NA\"))","v":"#NA"},{"$f":"MAX(Table1[[#This Row],[PO Employee]],Table1[[#This Row],[Other HZ Employee]],Table1[[#This Row],[Non HZ Employee]],Table1[[#This Row],[Job Site Employee]],Table1[[#This Row],[Other Employee]])","v":0},{"$f":"IF(Table1[[#This Row],[Total Hours per Month]]=Table1[[#This Row],[Column12]],\"Match\",\"Error\")","v":"Match"},{"$f":"IF(Table1[[#This Row],[Calc 2]]=\"#NA\",\"#NA\",IF(Table1[[#This Row],[Non HZ Employee]]=Table1[[#This Row],[Max calc]],\"Non HZ Employee\", Table1[[#This Row],[Calc 2]]))","v":"#NA"}]
[1607,null,1607,{"$nulls":5},{"$f":"SUM(Table1[[#This Row],[Column4]]+Table1[[#This Row],[Column3]]+Table1[[#This Row],[Column2]]+Table1[[#This Row],[Column1]])","v":0},{"$nulls":5},{"$f":"SUM(Table1[[#This Row],[PO Employee]:[Other Employee]])","v":0},"N",{"$error":"#N/A"},{"$f":"IF(O1624>39,Table1[[#This Row],[Calc 1]],IF(O1624>1,\"Not counted as an Employee\",\"#NA\"))","v":"#NA"},{"$f":"MAX(Table1[[#This Row],[PO Employee]],Table1[[#This Row],[Other HZ Employee]],Table1[[#This Row],[Non HZ Employee]],Table1[[#This Row],[Job Site Employee]],Table1[[#This Row],[Other Employee]])","v":0},{"$f":"IF(Table1[[#This Row],[Total Hours per Month]]=Table1[[#This Row],[Column12]],\"Match\",\"Error\")","v":"Match"},{"$f":"IF(Table1[[#This Row],[Calc 2]]=\"#NA\",\"#NA\",IF(Table1[[#This Row],[Non HZ Employee]]=Table1[[#This Row],[Max calc]],\"Non HZ Employee\", Table1[[#This Row],[Calc 2]]))","v":"#NA"}]
[1608,null,1608,{"$nulls":5},{"$f":"SUM(Table1[[#This Row],[Column4]]+Table1[[#This Row],[Column3]]+Table1[[#This Row],[Column2]]+Table1[[#This Row],[Column1]])","v":0},{"$nulls":5},{"$f":"SUM(Table1[[#This Row],[PO Employee]:[Other Employee]])","v":0},"N",{"$error":"#N/A"},{"$f":"IF(O1625>39,Table1[[#This Row],[Calc 1]],IF(O1625>1,\"Not counted as an Employee\",\"#NA\"))","v":"#NA"},{"$f":"MAX(Table1[[#This Row],[PO Employee]],Table1[[#This Row],[Other HZ Employee]],Table1[[#This Row],[Non HZ Employee]],Table1[[#This Row],[Job Site Employee]],Table1[[#This Row],[Other Employee]])","v":0},{"$f":"IF(Table1[[#This Row],[Total Hours per Month]]=Table1[[#This Row],[Column12]],\"Match\",\"Error\")","v":"Match"},{"$f":"IF(Table1[[#This Row],[Calc 2]]=\"#NA\",\"#NA\",IF(Table1[[#This Row],[Non HZ Employee]]=Table1[[#This Row],[Max calc]],\"Non HZ Employee\", Table1[[#This Row],[Calc 2]]))","v":"#NA"}]
[1609,null,1609,{"$nulls":5},{"$f":"SUM(Table1[[#This Row],[Column4]]+Table1[[#This Row],[Column3]]+Table1[[#This Row],[Column2]]+Table1[[#This Row],[Column1]])","v":0},{"$nulls":5},{"$f":"SUM(Table1[[#This Row],[PO Employee]:[Other Employee]])","v":0},"N",{"$error":"#N/A"},{"$f":"IF(O1626>39,Table1[[#This Row],[Calc 1]],IF(O1626>1,\"Not counted as an Employee\",\"#NA\"))","v":"#NA"},{"$f":"MAX(Table1[[#This Row],[PO Employee]],Table1[[#This Row],[Other HZ Employee]],Table1[[#This Row],[Non HZ Employee]],Table1[[#This Row],[Job Site Employee]],Table1[[#This Row],[Other Employee]])","v":0},{"$f":"IF(Table1[[#This Row],[Total Hours per Month]]=Table1[[#This Row],[Column12]],\"Match\",\"Error\")","v":"Match"},{"$f":"IF(Table1[[#This Row],[Calc 2]]=\"#NA\",\"#NA\",IF(Table1[[#This Row],[Non HZ Employee]]=Table1[[#This Row],[Max calc]],\"Non HZ Employee\", Table1[[#This Row],[Calc 2]]))","v":"#NA"}]
[1610,null,1610,{"$nulls":5},{"$f":"SUM(Table1[[#This Row],[Column4]]+Table1[[#This Row],[Column3]]+Table1[[#This Row],[Column2]]+Table1[[#This Row],[Column1]])","v":0},{"$nulls":5},{"$f":"SUM(Table1[[#This Row],[PO Employee]:[Other Employee]])","v":0},"N",{"$error":"#N/A"},{"$f":"IF(O1627>39,Table1[[#This Row],[Calc 1]],IF(O1627>1,\"Not counted as an Employee\",\"#NA\"))","v":"#NA"},{"$f":"MAX(Table1[[#This Row],[PO Employee]],Table1[[#This Row],[Other HZ Employee]],Table1[[#This Row],[Non HZ Employee]],Table1[[#This Row],[Job Site Employee]],Table1[[#This Row],[Other Employee]])","v":0},{"$f":"IF(Table1[[#This Row],[Total Hours per Month]]=Table1[[#This Row],[Column12]],\"Match\",\"Error\")","v":"Match"},{"$f":"IF(Table1[[#This Row],[Calc 2]]=\"#NA\",\"#NA\",IF(Table1[[#This Row],[Non HZ Employee]]=Table1[[#This Row],[Max calc]],\"Non HZ Employee\", Table1[[#This Row],[Calc 2]]))","v":"#NA"}]
[1611,null,1611,{"$nulls":5},{"$f":"SUM(Table1[[#This Row],[Column4]]+Table1[[#This Row],[Column3]]+Table1[[#This Row],[Column2]]+Table1[[#This Row],[Column1]])","v":0},{"$nulls":5},{"$f":"SUM(Table1[[#This Row],[PO Employee]:[Other Employee]])","v":0},"N",{"$error":"#N/A"},{"$f":"IF(O1628>39,Table1[[#This Row],[Calc 1]],IF(O1628>1,\"Not counted as an Employee\",\"#NA\"))","v":"#NA"},{"$f":"MAX(Table1[[#This Row],[PO Employee]],Table1[[#This Row],[Other HZ Employee]],Table1[[#This Row],[Non HZ Employee]],Table1[[#This Row],[Job Site Employee]],Table1[[#This Row],[Other Employee]])","v":0},{"$f":"IF(Table1[[#This Row],[Total Hours per Month]]=Table1[[#This Row],[Column12]],\"Match\",\"Error\")","v":"Match"},{"$f":"IF(Table1[[#This Row],[Calc 2]]=\"#NA\",\"#NA\",IF(Table1[[#This Row],[Non HZ Employee]]=Table1[[#This Row],[Max calc]],\"Non HZ Employee\", Table1[[#This Row],[Calc 2]]))","v":"#NA"}]
[1612,null,1612,{"$nulls":5},{"$f":"SUM(Table1[[#This Row],[Column4]]+Table1[[#This Row],[Column3]]+Table1[[#This Row],[Column2]]+Table1[[#This Row],[Column1]])","v":0},{"$nulls":5},{"$f":"SUM(Table1[[#This Row],[PO Employee]:[Other Employee]])","v":0},"N",{"$error":"#N/A"},{"$f":"IF(O1629>39,Table1[[#This Row],[Calc 1]],IF(O1629>1,\"Not counted as an Employee\",\"#NA\"))","v":"#NA"},{"$f":"MAX(Table1[[#This Row],[PO Employee]],Table1[[#This Row],[Other HZ Employee]],Table1[[#This Row],[Non HZ Employee]],Table1[[#This Row],[Job Site Employee]],Table1[[#This Row],[Other Employee]])","v":0},{"$f":"IF(Table1[[#This Row],[Total Hours per Month]]=Table1[[#This Row],[Column12]],\"Match\",\"Error\")","v":"Match"},{"$f":"IF(Table1[[#This Row],[Calc 2]]=\"#NA\",\"#NA\",IF(Table1[[#This Row],[Non HZ Employee]]=Table1[[#This Row],[Max calc]],\"Non HZ Employee\", Table1[[#This Row],[Calc 2]]))","v":"#NA"}]
[1613,null,1613,{"$nulls":5},{"$f":"SUM(Table1[[#This Row],[Column4]]+Table1[[#This Row],[Column3]]+Table1[[#This Row],[Column2]]+Table1[[#This Row],[Column1]])","v":0},{"$nulls":5},{"$f":"SUM(Table1[[#This Row],[PO Employee]:[Other Employee]])","v":0},"N",{"$error":"#N/A"},{"$f":"IF(O1630>39,Table1[[#This Row],[Calc 1]],IF(O1630>1,\"Not counted as an Employee\",\"#NA\"))","v":"#NA"},{"$f":"MAX(Table1[[#This Row],[PO Employee]],Table1[[#This Row],[Other HZ Employee]],Table1[[#This Row],[Non HZ Employee]],Table1[[#This Row],[Job Site Employee]],Table1[[#This Row],[Other Employee]])","v":0},{"$f":"IF(Table1[[#This Row],[Total Hours per Month]]=Table1[[#This Row],[Column12]],\"Match\",\"Error\")","v":"Match"},{"$f":"IF(Table1[[#This Row],[Calc 2]]=\"#NA\",\"#NA\",IF(Table1[[#This Row],[Non HZ Employee]]=Table1[[#This Row],[Max calc]],\"Non HZ Employee\", Table1[[#This Row],[Calc 2]]))","v":"#NA"}]
[1614,null,1614,{"$nulls":5},{"$f":"SUM(Table1[[#This Row],[Column4]]+Table1[[#This Row],[Column3]]+Table1[[#This Row],[Column2]]+Table1[[#This Row],[Column1]])","v":0},{"$nulls":5},{"$f":"SUM(Table1[[#This Row],[PO Employee]:[Other Employee]])","v":0},"N",{"$error":"#N/A"},{"$f":"IF(O1631>39,Table1[[#This Row],[Calc 1]],IF(O1631>1,\"Not counted as an Employee\",\"#NA\"))","v":"#NA"},{"$f":"MAX(Table1[[#This Row],[PO Employee]],Table1[[#This Row],[Other HZ Employee]],Table1[[#This Row],[Non HZ Employee]],Table1[[#This Row],[Job Site Employee]],Table1[[#This Row],[Other Employee]])","v":0},{"$f":"IF(Table1[[#This Row],[Total Hours per Month]]=Table1[[#This Row],[Column12]],\"Match\",\"Error\")","v":"Match"},{"$f":"IF(Table1[[#This Row],[Calc 2]]=\"#NA\",\"#NA\",IF(Table1[[#This Row],[Non HZ Employee]]=Table1[[#This Row],[Max calc]],\"Non HZ Employee\", Table1[[#This Row],[Calc 2]]))","v":"#NA"}]
[1615,null,1615,{"$nulls":5},{"$f":"SUM(Table1[[#This Row],[Column4]]+Table1[[#This Row],[Column3]]+Table1[[#This Row],[Column2]]+Table1[[#This Row],[Column1]])","v":0},{"$nulls":5},{"$f":"SUM(Table1[[#This Row],[PO Employee]:[Other Employee]])","v":0},"N",{"$error":"#N/A"},{"$f":"IF(O1632>39,Table1[[#This Row],[Calc 1]],IF(O1632>1,\"Not counted as an Employee\",\"#NA\"))","v":"#NA"},{"$f":"MAX(Table1[[#This Row],[PO Employee]],Table1[[#This Row],[Other HZ Employee]],Table1[[#This Row],[Non HZ Employee]],Table1[[#This Row],[Job Site Employee]],Table1[[#This Row],[Other Employee]])","v":0},{"$f":"IF(Table1[[#This Row],[Total Hours per Month]]=Table1[[#This Row],[Column12]],\"Match\",\"Error\")","v":"Match"},{"$f":"IF(Table1[[#This Row],[Calc 2]]=\"#NA\",\"#NA\",IF(Table1[[#This Row],[Non HZ Employee]]=Table1[[#This Row],[Max calc]],\"Non HZ Employee\", Table1[[#This Row],[Calc 2]]))","v":"#NA"}]
[1616,null,1616,{"$nulls":5},{"$f":"SUM(Table1[[#This Row],[Column4]]+Table1[[#This Row],[Column3]]+Table1[[#This Row],[Column2]]+Table1[[#This Row],[Column1]])","v":0},{"$nulls":5},{"$f":"SUM(Table1[[#This Row],[PO Employee]:[Other Employee]])","v":0},"N",{"$error":"#N/A"},{"$f":"IF(O1633>39,Table1[[#This Row],[Calc 1]],IF(O1633>1,\"Not counted as an Employee\",\"#NA\"))","v":"#NA"},{"$f":"MAX(Table1[[#This Row],[PO Employee]],Table1[[#This Row],[Other HZ Employee]],Table1[[#This Row],[Non HZ Employee]],Table1[[#This Row],[Job Site Employee]],Table1[[#This Row],[Other Employee]])","v":0},{"$f":"IF(Table1[[#This Row],[Total Hours per Month]]=Table1[[#This Row],[Column12]],\"Match\",\"Error\")","v":"Match"},{"$f":"IF(Table1[[#This Row],[Calc 2]]=\"#NA\",\"#NA\",IF(Table1[[#This Row],[Non HZ Employee]]=Table1[[#This Row],[Max calc]],\"Non HZ Employee\", Table1[[#This Row],[Calc 2]]))","v":"#NA"}]
[1617,null,1617,{"$nulls":5},{"$f":"SUM(Table1[[#This Row],[Column4]]+Table1[[#This Row],[Column3]]+Table1[[#This Row],[Column2]]+Table1[[#This Row],[Column1]])","v":0},{"$nulls":5},{"$f":"SUM(Table1[[#This Row],[PO Employee]:[Other Employee]])","v":0},"N",{"$error":"#N/A"},{"$f":"IF(O1634>39,Table1[[#This Row],[Calc 1]],IF(O1634>1,\"Not counted as an Employee\",\"#NA\"))","v":"#NA"},{"$f":"MAX(Table1[[#This Row],[PO Employee]],Table1[[#This Row],[Other HZ Employee]],Table1[[#This Row],[Non HZ Employee]],Table1[[#This Row],[Job Site Employee]],Table1[[#This Row],[Other Employee]])","v":0},{"$f":"IF(Table1[[#This Row],[Total Hours per Month]]=Table1[[#This Row],[Column12]],\"Match\",\"Error\")","v":"Match"},{"$f":"IF(Table1[[#This Row],[Calc 2]]=\"#NA\",\"#NA\",IF(Table1[[#This Row],[Non HZ Employee]]=Table1[[#This Row],[Max calc]],\"Non HZ Employee\", Table1[[#This Row],[Calc 2]]))","v":"#NA"}]
[1618,null,1618,{"$nulls":5},{"$f":"SUM(Table1[[#This Row],[Column4]]+Table1[[#This Row],[Column3]]+Table1[[#This Row],[Column2]]+Table1[[#This Row],[Column1]])","v":0},{"$nulls":5},{"$f":"SUM(Table1[[#This Row],[PO Employee]:[Other Employee]])","v":0},"N",{"$error":"#N/A"},{"$f":"IF(O1635>39,Table1[[#This Row],[Calc 1]],IF(O1635>1,\"Not counted as an Employee\",\"#NA\"))","v":"#NA"},{"$f":"MAX(Table1[[#This Row],[PO Employee]],Table1[[#This Row],[Other HZ Employee]],Table1[[#This Row],[Non HZ Employee]],Table1[[#This Row],[Job Site Employee]],Table1[[#This Row],[Other Employee]])","v":0},{"$f":"IF(Table1[[#This Row],[Total Hours per Month]]=Table1[[#This Row],[Column12]],\"Match\",\"Error\")","v":"Match"},{"$f":"IF(Table1[[#This Row],[Calc 2]]=\"#NA\",\"#NA\",IF(Table1[[#This Row],[Non HZ Employee]]=Table1[[#This Row],[Max calc]],\"Non HZ Employee\", Table1[[#This Row],[Calc 2]]))","v":"#NA"}]
[1619,null,1619,{"$nulls":5},{"$f":"SUM(Table1[[#This Row],[Column4]]+Table1[[#This Row],[Column3]]+Table1[[#This Row],[Column2]]+Table1[[#This Row],[Column1]])","v":0},{"$nulls":5},{"$f":"SUM(Table1[[#This Row],[PO Employee]:[Other Employee]])","v":0},"N",{"$error":"#N/A"},{"$f":"IF(O1636>39,Table1[[#This Row],[Calc 1]],IF(O1636>1,\"Not counted as an Employee\",\"#NA\"))","v":"#NA"},{"$f":"MAX(Table1[[#This Row],[PO Employee]],Table1[[#This Row],[Other HZ Employee]],Table1[[#This Row],[Non HZ Employee]],Table1[[#This Row],[Job Site Employee]],Table1[[#This Row],[Other Employee]])","v":0},{"$f":"IF(Table1[[#This Row],[Total Hours per Month]]=Table1[[#This Row],[Column12]],\"Match\",\"Error\")","v":"Match"},{"$f":"IF(Table1[[#This Row],[Calc 2]]=\"#NA\",\"#NA\",IF(Table1[[#This Row],[Non HZ Employee]]=Table1[[#This Row],[Max calc]],\"Non HZ Employee\", Table1[[#This Row],[Calc 2]]))","v":"#NA"}]
[1620,null,1620,{"$nulls":5},{"$f":"SUM(Table1[[#This Row],[Column4]]+Table1[[#This Row],[Column3]]+Table1[[#This Row],[Column2]]+Table1[[#This Row],[Column1]])","v":0},{"$nulls":5},{"$f":"SUM(Table1[[#This Row],[PO Employee]:[Other Employee]])","v":0},"N",{"$error":"#N/A"},{"$f":"IF(O1637>39,Table1[[#This Row],[Calc 1]],IF(O1637>1,\"Not counted as an Employee\",\"#NA\"))","v":"#NA"},{"$f":"MAX(Table1[[#This Row],[PO Employee]],Table1[[#This Row],[Other HZ Employee]],Table1[[#This Row],[Non HZ Employee]],Table1[[#This Row],[Job Site Employee]],Table1[[#This Row],[Other Employee]])","v":0},{"$f":"IF(Table1[[#This Row],[Total Hours per Month]]=Table1[[#This Row],[Column12]],\"Match\",\"Error\")","v":"Match"},{"$f":"IF(Table1[[#This Row],[Calc 2]]=\"#NA\",\"#NA\",IF(Table1[[#This Row],[Non HZ Employee]]=Table1[[#This Row],[Max calc]],\"Non HZ Employee\", Table1[[#This Row],[Calc 2]]))","v":"#NA"}]
[1621,null,1621,{"$nulls":5},{"$f":"SUM(Table1[[#This Row],[Column4]]+Table1[[#This Row],[Column3]]+Table1[[#This Row],[Column2]]+Table1[[#This Row],[Column1]])","v":0},{"$nulls":5},{"$f":"SUM(Table1[[#This Row],[PO Employee]:[Other Employee]])","v":0},"N",{"$error":"#N/A"},{"$f":"IF(O1638>39,Table1[[#This Row],[Calc 1]],IF(O1638>1,\"Not counted as an Employee\",\"#NA\"))","v":"#NA"},{"$f":"MAX(Table1[[#This Row],[PO Employee]],Table1[[#This Row],[Other HZ Employee]],Table1[[#This Row],[Non HZ Employee]],Table1[[#This Row],[Job Site Employee]],Table1[[#This Row],[Other Employee]])","v":0},{"$f":"IF(Table1[[#This Row],[Total Hours per Month]]=Table1[[#This Row],[Column12]],\"Match\",\"Error\")","v":"Match"},{"$f":"IF(Table1[[#This Row],[Calc 2]]=\"#NA\",\"#NA\",IF(Table1[[#This Row],[Non HZ Employee]]=Table1[[#This Row],[Max calc]],\"Non HZ Employee\", Table1[[#This Row],[Calc 2]]))","v":"#NA"}]
[1622,null,1622,{"$nulls":5},{"$f":"SUM(Table1[[#This Row],[Column4]]+Table1[[#This Row],[Column3]]+Table1[[#This Row],[Column2]]+Table1[[#This Row],[Column1]])","v":0},{"$nulls":5},{"$f":"SUM(Table1[[#This Row],[PO Employee]:[Other Employee]])","v":0},"N",{"$error":"#N/A"},{"$f":"IF(O1639>39,Table1[[#This Row],[Calc 1]],IF(O1639>1,\"Not counted as an Employee\",\"#NA\"))","v":"#NA"},{"$f":"MAX(Table1[[#This Row],[PO Employee]],Table1[[#This Row],[Other HZ Employee]],Table1[[#This Row],[Non HZ Employee]],Table1[[#This Row],[Job Site Employee]],Table1[[#This Row],[Other Employee]])","v":0},{"$f":"IF(Table1[[#This Row],[Total Hours per Month]]=Table1[[#This Row],[Column12]],\"Match\",\"Error\")","v":"Match"},{"$f":"IF(Table1[[#This Row],[Calc 2]]=\"#NA\",\"#NA\",IF(Table1[[#This Row],[Non HZ Employee]]=Table1[[#This Row],[Max calc]],\"Non HZ Employee\", Table1[[#This Row],[Calc 2]]))","v":"#NA"}]
[1623,null,1623,{"$nulls":5},{"$f":"SUM(Table1[[#This Row],[Column4]]+Table1[[#This Row],[Column3]]+Table1[[#This Row],[Column2]]+Table1[[#This Row],[Column1]])","v":0},{"$nulls":5},{"$f":"SUM(Table1[[#This Row],[PO Employee]:[Other Employee]])","v":0},"N",{"$error":"#N/A"},{"$f":"IF(O1640>39,Table1[[#This Row],[Calc 1]],IF(O1640>1,\"Not counted as an Employee\",\"#NA\"))","v":"#NA"},{"$f":"MAX(Table1[[#This Row],[PO Employee]],Table1[[#This Row],[Other HZ Employee]],Table1[[#This Row],[Non HZ Employee]],Table1[[#This Row],[Job Site Employee]],Table1[[#This Row],[Other Employee]])","v":0},{"$f":"IF(Table1[[#This Row],[Total Hours per Month]]=Table1[[#This Row],[Column12]],\"Match\",\"Error\")","v":"Match"},{"$f":"IF(Table1[[#This Row],[Calc 2]]=\"#NA\",\"#NA\",IF(Table1[[#This Row],[Non HZ Employee]]=Table1[[#This Row],[Max calc]],\"Non HZ Employee\", Table1[[#This Row],[Calc 2]]))","v":"#NA"}]
[1624,null,1624,{"$nulls":5},{"$f":"SUM(Table1[[#This Row],[Column4]]+Table1[[#This Row],[Column3]]+Table1[[#This Row],[Column2]]+Table1[[#This Row],[Column1]])","v":0},{"$nulls":5},{"$f":"SUM(Table1[[#This Row],[PO Employee]:[Other Employee]])","v":0},"N",{"$error":"#N/A"},{"$f":"IF(O1641>39,Table1[[#This Row],[Calc 1]],IF(O1641>1,\"Not counted as an Employee\",\"#NA\"))","v":"#NA"},{"$f":"MAX(Table1[[#This Row],[PO Employee]],Table1[[#This Row],[Other HZ Employee]],Table1[[#This Row],[Non HZ Employee]],Table1[[#This Row],[Job Site Employee]],Table1[[#This Row],[Other Employee]])","v":0},{"$f":"IF(Table1[[#This Row],[Total Hours per Month]]=Table1[[#This Row],[Column12]],\"Match\",\"Error\")","v":"Match"},{"$f":"IF(Table1[[#This Row],[Calc 2]]=\"#NA\",\"#NA\",IF(Table1[[#This Row],[Non HZ Employee]]=Table1[[#This Row],[Max calc]],\"Non HZ Employee\", Table1[[#This Row],[Calc 2]]))","v":"#NA"}]
[1625,null,1625,{"$nulls":5},{"$f":"SUM(Table1[[#This Row],[Column4]]+Table1[[#This Row],[Column3]]+Table1[[#This Row],[Column2]]+Table1[[#This Row],[Column1]])","v":0},{"$nulls":5},{"$f":"SUM(Table1[[#This Row],[PO Employee]:[Other Employee]])","v":0},"N",{"$error":"#N/A"},{"$f":"IF(O1642>39,Table1[[#This Row],[Calc 1]],IF(O1642>1,\"Not counted as an Employee\",\"#NA\"))","v":"#NA"},{"$f":"MAX(Table1[[#This Row],[PO Employee]],Table1[[#This Row],[Other HZ Employee]],Table1[[#This Row],[Non HZ Employee]],Table1[[#This Row],[Job Site Employee]],Table1[[#This Row],[Other Employee]])","v":0},{"$f":"IF(Table1[[#This Row],[Total Hours per Month]]=Table1[[#This Row],[Column12]],\"Match\",\"Error\")","v":"Match"},{"$f":"IF(Table1[[#This Row],[Calc 2]]=\"#NA\",\"#NA\",IF(Table1[[#This Row],[Non HZ Employee]]=Table1[[#This Row],[Max calc]],\"Non HZ Employee\", Table1[[#This Row],[Calc 2]]))","v":"#NA"}]
[1626,null,1626,{"$nulls":5},{"$f":"SUM(Table1[[#This Row],[Column4]]+Table1[[#This Row],[Column3]]+Table1[[#This Row],[Column2]]+Table1[[#This Row],[Column1]])","v":0},{"$nulls":5},{"$f":"SUM(Table1[[#This Row],[PO Employee]:[Other Employee]])","v":0},"N",{"$error":"#N/A"},{"$f":"IF(O1643>39,Table1[[#This Row],[Calc 1]],IF(O1643>1,\"Not counted as an Employee\",\"#NA\"))","v":"#NA"},{"$f":"MAX(Table1[[#This Row],[PO Employee]],Table1[[#This Row],[Other HZ Employee]],Table1[[#This Row],[Non HZ Employee]],Table1[[#This Row],[Job Site Employee]],Table1[[#This Row],[Other Employee]])","v":0},{"$f":"IF(Table1[[#This Row],[Total Hours per Month]]=Table1[[#This Row],[Column12]],\"Match\",\"Error\")","v":"Match"},{"$f":"IF(Table1[[#This Row],[Calc 2]]=\"#NA\",\"#NA\",IF(Table1[[#This Row],[Non HZ Employee]]=Table1[[#This Row],[Max calc]],\"Non HZ Employee\", Table1[[#This Row],[Calc 2]]))","v":"#NA"}]
[1627,null,1627,{"$nulls":5},{"$f":"SUM(Table1[[#This Row],[Column4]]+Table1[[#This Row],[Column3]]+Table1[[#This Row],[Column2]]+Table1[[#This Row],[Column1]])","v":0},{"$nulls":5},{"$f":"SUM(Table1[[#This Row],[PO Employee]:[Other Employee]])","v":0},"N",{"$error":"#N/A"},{"$f":"IF(O1644>39,Table1[[#This Row],[Calc 1]],IF(O1644>1,\"Not counted as an Employee\",\"#NA\"))","v":"#NA"},{"$f":"MAX(Table1[[#This Row],[PO Employee]],Table1[[#This Row],[Other HZ Employee]],Table1[[#This Row],[Non HZ Employee]],Table1[[#This Row],[Job Site Employee]],Table1[[#This Row],[Other Employee]])","v":0},{"$f":"IF(Table1[[#This Row],[Total Hours per Month]]=Table1[[#This Row],[Column12]],\"Match\",\"Error\")","v":"Match"},{"$f":"IF(Table1[[#This Row],[Calc 2]]=\"#NA\",\"#NA\",IF(Table1[[#This Row],[Non HZ Employee]]=Table1[[#This Row],[Max calc]],\"Non HZ Employee\", Table1[[#This Row],[Calc 2]]))","v":"#NA"}]
[1628,null,1628,{"$nulls":5},{"$f":"SUM(Table1[[#This Row],[Column4]]+Table1[[#This Row],[Column3]]+Table1[[#This Row],[Column2]]+Table1[[#This Row],[Column1]])","v":0},{"$nulls":5},{"$f":"SUM(Table1[[#This Row],[PO Employee]:[Other Employee]])","v":0},"N",{"$error":"#N/A"},{"$f":"IF(O1645>39,Table1[[#This Row],[Calc 1]],IF(O1645>1,\"Not counted as an Employee\",\"#NA\"))","v":"#NA"},{"$f":"MAX(Table1[[#This Row],[PO Employee]],Table1[[#This Row],[Other HZ Employee]],Table1[[#This Row],[Non HZ Employee]],Table1[[#This Row],[Job Site Employee]],Table1[[#This Row],[Other Employee]])","v":0},{"$f":"IF(Table1[[#This Row],[Total Hours per Month]]=Table1[[#This Row],[Column12]],\"Match\",\"Error\")","v":"Match"},{"$f":"IF(Table1[[#This Row],[Calc 2]]=\"#NA\",\"#NA\",IF(Table1[[#This Row],[Non HZ Employee]]=Table1[[#This Row],[Max calc]],\"Non HZ Employee\", Table1[[#This Row],[Calc 2]]))","v":"#NA"}]
[1629,null,1629,{"$nulls":5},{"$f":"SUM(Table1[[#This Row],[Column4]]+Table1[[#This Row],[Column3]]+Table1[[#This Row],[Column2]]+Table1[[#This Row],[Column1]])","v":0},{"$nulls":5},{"$f":"SUM(Table1[[#This Row],[PO Employee]:[Other Employee]])","v":0},"N",{"$error":"#N/A"},{"$f":"IF(O1646>39,Table1[[#This Row],[Calc 1]],IF(O1646>1,\"Not counted as an Employee\",\"#NA\"))","v":"#NA"},{"$f":"MAX(Table1[[#This Row],[PO Employee]],Table1[[#This Row],[Other HZ Employee]],Table1[[#This Row],[Non HZ Employee]],Table1[[#This Row],[Job Site Employee]],Table1[[#This Row],[Other Employee]])","v":0},{"$f":"IF(Table1[[#This Row],[Total Hours per Month]]=Table1[[#This Row],[Column12]],\"Match\",\"Error\")","v":"Match"},{"$f":"IF(Table1[[#This Row],[Calc 2]]=\"#NA\",\"#NA\",IF(Table1[[#This Row],[Non HZ Employee]]=Table1[[#This Row],[Max calc]],\"Non HZ Employee\", Table1[[#This Row],[Calc 2]]))","v":"#NA"}]
[1630,null,1630,{"$nulls":5},{"$f":"SUM(Table1[[#This Row],[Column4]]+Table1[[#This Row],[Column3]]+Table1[[#This Row],[Column2]]+Table1[[#This Row],[Column1]])","v":0},{"$nulls":5},{"$f":"SUM(Table1[[#This Row],[PO Employee]:[Other Employee]])","v":0},"N",{"$error":"#N/A"},{"$f":"IF(O1647>39,Table1[[#This Row],[Calc 1]],IF(O1647>1,\"Not counted as an Employee\",\"#NA\"))","v":"#NA"},{"$f":"MAX(Table1[[#This Row],[PO Employee]],Table1[[#This Row],[Other HZ Employee]],Table1[[#This Row],[Non HZ Employee]],Table1[[#This Row],[Job Site Employee]],Table1[[#This Row],[Other Employee]])","v":0},{"$f":"IF(Table1[[#This Row],[Total Hours per Month]]=Table1[[#This Row],[Column12]],\"Match\",\"Error\")","v":"Match"},{"$f":"IF(Table1[[#This Row],[Calc 2]]=\"#NA\",\"#NA\",IF(Table1[[#This Row],[Non HZ Employee]]=Table1[[#This Row],[Max calc]],\"Non HZ Employee\", Table1[[#This Row],[Calc 2]]))","v":"#NA"}]
[1631,null,1631,{"$nulls":5},{"$f":"SUM(Table1[[#This Row],[Column4]]+Table1[[#This Row],[Column3]]+Table1[[#This Row],[Column2]]+Table1[[#This Row],[Column1]])","v":0},{"$nulls":5},{"$f":"SUM(Table1[[#This Row],[PO Employee]:[Other Employee]])","v":0},"N",{"$error":"#N/A"},{"$f":"IF(O1648>39,Table1[[#This Row],[Calc 1]],IF(O1648>1,\"Not counted as an Employee\",\"#NA\"))","v":"#NA"},{"$f":"MAX(Table1[[#This Row],[PO Employee]],Table1[[#This Row],[Other HZ Employee]],Table1[[#This Row],[Non HZ Employee]],Table1[[#This Row],[Job Site Employee]],Table1[[#This Row],[Other Employee]])","v":0},{"$f":"IF(Table1[[#This Row],[Total Hours per Month]]=Table1[[#This Row],[Column12]],\"Match\",\"Error\")","v":"Match"},{"$f":"IF(Table1[[#This Row],[Calc 2]]=\"#NA\",\"#NA\",IF(Table1[[#This Row],[Non HZ Employee]]=Table1[[#This Row],[Max calc]],\"Non HZ Employee\", Table1[[#This Row],[Calc 2]]))","v":"#NA"}]
[1632,null,1632,{"$nulls":5},{"$f":"SUM(Table1[[#This Row],[Column4]]+Table1[[#This Row],[Column3]]+Table1[[#This Row],[Column2]]+Table1[[#This Row],[Column1]])","v":0},{"$nulls":5},{"$f":"SUM(Table1[[#This Row],[PO Employee]:[Other Employee]])","v":0},"N",{"$error":"#N/A"},{"$f":"IF(O1649>39,Table1[[#This Row],[Calc 1]],IF(O1649>1,\"Not counted as an Employee\",\"#NA\"))","v":"#NA"},{"$f":"MAX(Table1[[#This Row],[PO Employee]],Table1[[#This Row],[Other HZ Employee]],Table1[[#This Row],[Non HZ Employee]],Table1[[#This Row],[Job Site Employee]],Table1[[#This Row],[Other Employee]])","v":0},{"$f":"IF(Table1[[#This Row],[Total Hours per Month]]=Table1[[#This Row],[Column12]],\"Match\",\"Error\")","v":"Match"},{"$f":"IF(Table1[[#This Row],[Calc 2]]=\"#NA\",\"#NA\",IF(Table1[[#This Row],[Non HZ Employee]]=Table1[[#This Row],[Max calc]],\"Non HZ Employee\", Table1[[#This Row],[Calc 2]]))","v":"#NA"}]
[1633,null,1633,{"$nulls":5},{"$f":"SUM(Table1[[#This Row],[Column4]]+Table1[[#This Row],[Column3]]+Table1[[#This Row],[Column2]]+Table1[[#This Row],[Column1]])","v":0},{"$nulls":5},{"$f":"SUM(Table1[[#This Row],[PO Employee]:[Other Employee]])","v":0},"N",{"$error":"#N/A"},{"$f":"IF(O1650>39,Table1[[#This Row],[Calc 1]],IF(O1650>1,\"Not counted as an Employee\",\"#NA\"))","v":"#NA"},{"$f":"MAX(Table1[[#This Row],[PO Employee]],Table1[[#This Row],[Other HZ Employee]],Table1[[#This Row],[Non HZ Employee]],Table1[[#This Row],[Job Site Employee]],Table1[[#This Row],[Other Employee]])","v":0},{"$f":"IF(Table1[[#This Row],[Total Hours per Month]]=Table1[[#This Row],[Column12]],\"Match\",\"Error\")","v":"Match"},{"$f":"IF(Table1[[#This Row],[Calc 2]]=\"#NA\",\"#NA\",IF(Table1[[#This Row],[Non HZ Employee]]=Table1[[#This Row],[Max calc]],\"Non HZ Employee\", Table1[[#This Row],[Calc 2]]))","v":"#NA"}]
[1634,null,1634,{"$nulls":5},{"$f":"SUM(Table1[[#This Row],[Column4]]+Table1[[#This Row],[Column3]]+Table1[[#This Row],[Column2]]+Table1[[#This Row],[Column1]])","v":0},{"$nulls":5},{"$f":"SUM(Table1[[#This Row],[PO Employee]:[Other Employee]])","v":0},"N",{"$error":"#N/A"},{"$f":"IF(O1651>39,Table1[[#This Row],[Calc 1]],IF(O1651>1,\"Not counted as an Employee\",\"#NA\"))","v":"#NA"},{"$f":"MAX(Table1[[#This Row],[PO Employee]],Table1[[#This Row],[Other HZ Employee]],Table1[[#This Row],[Non HZ Employee]],Table1[[#This Row],[Job Site Employee]],Table1[[#This Row],[Other Employee]])","v":0},{"$f":"IF(Table1[[#This Row],[Total Hours per Month]]=Table1[[#This Row],[Column12]],\"Match\",\"Error\")","v":"Match"},{"$f":"IF(Table1[[#This Row],[Calc 2]]=\"#NA\",\"#NA\",IF(Table1[[#This Row],[Non HZ Employee]]=Table1[[#This Row],[Max calc]],\"Non HZ Employee\", Table1[[#This Row],[Calc 2]]))","v":"#NA"}]
[1635,null,1635,{"$nulls":5},{"$f":"SUM(Table1[[#This Row],[Column4]]+Table1[[#This Row],[Column3]]+Table1[[#This Row],[Column2]]+Table1[[#This Row],[Column1]])","v":0},{"$nulls":5},{"$f":"SUM(Table1[[#This Row],[PO Employee]:[Other Employee]])","v":0},"N",{"$error":"#N/A"},{"$f":"IF(O1652>39,Table1[[#This Row],[Calc 1]],IF(O1652>1,\"Not counted as an Employee\",\"#NA\"))","v":"#NA"},{"$f":"MAX(Table1[[#This Row],[PO Employee]],Table1[[#This Row],[Other HZ Employee]],Table1[[#This Row],[Non HZ Employee]],Table1[[#This Row],[Job Site Employee]],Table1[[#This Row],[Other Employee]])","v":0},{"$f":"IF(Table1[[#This Row],[Total Hours per Month]]=Table1[[#This Row],[Column12]],\"Match\",\"Error\")","v":"Match"},{"$f":"IF(Table1[[#This Row],[Calc 2]]=\"#NA\",\"#NA\",IF(Table1[[#This Row],[Non HZ Employee]]=Table1[[#This Row],[Max calc]],\"Non HZ Employee\", Table1[[#This Row],[Calc 2]]))","v":"#NA"}]
[1636,null,1636,{"$nulls":5},{"$f":"SUM(Table1[[#This Row],[Column4]]+Table1[[#This Row],[Column3]]+Table1[[#This Row],[Column2]]+Table1[[#This Row],[Column1]])","v":0},{"$nulls":5},{"$f":"SUM(Table1[[#This Row],[PO Employee]:[Other Employee]])","v":0},"N",{"$error":"#N/A"},{"$f":"IF(O1653>39,Table1[[#This Row],[Calc 1]],IF(O1653>1,\"Not counted as an Employee\",\"#NA\"))","v":"#NA"},{"$f":"MAX(Table1[[#This Row],[PO Employee]],Table1[[#This Row],[Other HZ Employee]],Table1[[#This Row],[Non HZ Employee]],Table1[[#This Row],[Job Site Employee]],Table1[[#This Row],[Other Employee]])","v":0},{"$f":"IF(Table1[[#This Row],[Total Hours per Month]]=Table1[[#This Row],[Column12]],\"Match\",\"Error\")","v":"Match"},{"$f":"IF(Table1[[#This Row],[Calc 2]]=\"#NA\",\"#NA\",IF(Table1[[#This Row],[Non HZ Employee]]=Table1[[#This Row],[Max calc]],\"Non HZ Employee\", Table1[[#This Row],[Calc 2]]))","v":"#NA"}]
[1637,null,1637,{"$nulls":5},{"$f":"SUM(Table1[[#This Row],[Column4]]+Table1[[#This Row],[Column3]]+Table1[[#This Row],[Column2]]+Table1[[#This Row],[Column1]])","v":0},{"$nulls":5},{"$f":"SUM(Table1[[#This Row],[PO Employee]:[Other Employee]])","v":0},"N",{"$error":"#N/A"},{"$f":"IF(O1654>39,Table1[[#This Row],[Calc 1]],IF(O1654>1,\"Not counted as an Employee\",\"#NA\"))","v":"#NA"},{"$f":"MAX(Table1[[#This Row],[PO Employee]],Table1[[#This Row],[Other HZ Employee]],Table1[[#This Row],[Non HZ Employee]],Table1[[#This Row],[Job Site Employee]],Table1[[#This Row],[Other Employee]])","v":0},{"$f":"IF(Table1[[#This Row],[Total Hours per Month]]=Table1[[#This Row],[Column12]],\"Match\",\"Error\")","v":"Match"},{"$f":"IF(Table1[[#This Row],[Calc 2]]=\"#NA\",\"#NA\",IF(Table1[[#This Row],[Non HZ Employee]]=Table1[[#This Row],[Max calc]],\"Non HZ Employee\", Table1[[#This Row],[Calc 2]]))","v":"#NA"}]
[1638,null,1638,{"$nulls":5},{"$f":"SUM(Table1[[#This Row],[Column4]]+Table1[[#This Row],[Column3]]+Table1[[#This Row],[Column2]]+Table1[[#This Row],[Column1]])","v":0},{"$nulls":5},{"$f":"SUM(Table1[[#This Row],[PO Employee]:[Other Employee]])","v":0},"N",{"$error":"#N/A"},{"$f":"IF(O1655>39,Table1[[#This Row],[Calc 1]],IF(O1655>1,\"Not counted as an Employee\",\"#NA\"))","v":"#NA"},{"$f":"MAX(Table1[[#This Row],[PO Employee]],Table1[[#This Row],[Other HZ Employee]],Table1[[#This Row],[Non HZ Employee]],Table1[[#This Row],[Job Site Employee]],Table1[[#This Row],[Other Employee]])","v":0},{"$f":"IF(Table1[[#This Row],[Total Hours per Month]]=Table1[[#This Row],[Column12]],\"Match\",\"Error\")","v":"Match"},{"$f":"IF(Table1[[#This Row],[Calc 2]]=\"#NA\",\"#NA\",IF(Table1[[#This Row],[Non HZ Employee]]=Table1[[#This Row],[Max calc]],\"Non HZ Employee\", Table1[[#This Row],[Calc 2]]))","v":"#NA"}]
[1639,null,1639,{"$nulls":5},{"$f":"SUM(Table1[[#This Row],[Column4]]+Table1[[#This Row],[Column3]]+Table1[[#This Row],[Column2]]+Table1[[#This Row],[Column1]])","v":0},{"$nulls":5},{"$f":"SUM(Table1[[#This Row],[PO Employee]:[Other Employee]])","v":0},"N",{"$error":"#N/A"},{"$f":"IF(O1656>39,Table1[[#This Row],[Calc 1]],IF(O1656>1,\"Not counted as an Employee\",\"#NA\"))","v":"#NA"},{"$f":"MAX(Table1[[#This Row],[PO Employee]],Table1[[#This Row],[Other HZ Employee]],Table1[[#This Row],[Non HZ Employee]],Table1[[#This Row],[Job Site Employee]],Table1[[#This Row],[Other Employee]])","v":0},{"$f":"IF(Table1[[#This Row],[Total Hours per Month]]=Table1[[#This Row],[Column12]],\"Match\",\"Error\")","v":"Match"},{"$f":"IF(Table1[[#This Row],[Calc 2]]=\"#NA\",\"#NA\",IF(Table1[[#This Row],[Non HZ Employee]]=Table1[[#This Row],[Max calc]],\"Non HZ Employee\", Table1[[#This Row],[Calc 2]]))","v":"#NA"}]
[1640,null,1640,{"$nulls":5},{"$f":"SUM(Table1[[#This Row],[Column4]]+Table1[[#This Row],[Column3]]+Table1[[#This Row],[Column2]]+Table1[[#This Row],[Column1]])","v":0},{"$nulls":5},{"$f":"SUM(Table1[[#This Row],[PO Employee]:[Other Employee]])","v":0},"N",{"$error":"#N/A"},{"$f":"IF(O1657>39,Table1[[#This Row],[Calc 1]],IF(O1657>1,\"Not counted as an Employee\",\"#NA\"))","v":"#NA"},{"$f":"MAX(Table1[[#This Row],[PO Employee]],Table1[[#This Row],[Other HZ Employee]],Table1[[#This Row],[Non HZ Employee]],Table1[[#This Row],[Job Site Employee]],Table1[[#This Row],[Other Employee]])","v":0},{"$f":"IF(Table1[[#This Row],[Total Hours per Month]]=Table1[[#This Row],[Column12]],\"Match\",\"Error\")","v":"Match"},{"$f":"IF(Table1[[#This Row],[Calc 2]]=\"#NA\",\"#NA\",IF(Table1[[#This Row],[Non HZ Employee]]=Table1[[#This Row],[Max calc]],\"Non HZ Employee\", Table1[[#This Row],[Calc 2]]))","v":"#NA"}]
[1641,null,1641,{"$nulls":5},{"$f":"SUM(Table1[[#This Row],[Column4]]+Table1[[#This Row],[Column3]]+Table1[[#This Row],[Column2]]+Table1[[#This Row],[Column1]])","v":0},{"$nulls":5},{"$f":"SUM(Table1[[#This Row],[PO Employee]:[Other Employee]])","v":0},"N",{"$error":"#N/A"},{"$f":"IF(O1658>39,Table1[[#This Row],[Calc 1]],IF(O1658>1,\"Not counted as an Employee\",\"#NA\"))","v":"#NA"},{"$f":"MAX(Table1[[#This Row],[PO Employee]],Table1[[#This Row],[Other HZ Employee]],Table1[[#This Row],[Non HZ Employee]],Table1[[#This Row],[Job Site Employee]],Table1[[#This Row],[Other Employee]])","v":0},{"$f":"IF(Table1[[#This Row],[Total Hours per Month]]=Table1[[#This Row],[Column12]],\"Match\",\"Error\")","v":"Match"},{"$f":"IF(Table1[[#This Row],[Calc 2]]=\"#NA\",\"#NA\",IF(Table1[[#This Row],[Non HZ Employee]]=Table1[[#This Row],[Max calc]],\"Non HZ Employee\", Table1[[#This Row],[Calc 2]]))","v":"#NA"}]
[1642,null,1642,{"$nulls":5},{"$f":"SUM(Table1[[#This Row],[Column4]]+Table1[[#This Row],[Column3]]+Table1[[#This Row],[Column2]]+Table1[[#This Row],[Column1]])","v":0},{"$nulls":5},{"$f":"SUM(Table1[[#This Row],[PO Employee]:[Other Employee]])","v":0},"N",{"$error":"#N/A"},{"$f":"IF(O1659>39,Table1[[#This Row],[Calc 1]],IF(O1659>1,\"Not counted as an Employee\",\"#NA\"))","v":"#NA"},{"$f":"MAX(Table1[[#This Row],[PO Employee]],Table1[[#This Row],[Other HZ Employee]],Table1[[#This Row],[Non HZ Employee]],Table1[[#This Row],[Job Site Employee]],Table1[[#This Row],[Other Employee]])","v":0},{"$f":"IF(Table1[[#This Row],[Total Hours per Month]]=Table1[[#This Row],[Column12]],\"Match\",\"Error\")","v":"Match"},{"$f":"IF(Table1[[#This Row],[Calc 2]]=\"#NA\",\"#NA\",IF(Table1[[#This Row],[Non HZ Employee]]=Table1[[#This Row],[Max calc]],\"Non HZ Employee\", Table1[[#This Row],[Calc 2]]))","v":"#NA"}]
[1643,null,1643,{"$nulls":5},{"$f":"SUM(Table1[[#This Row],[Column4]]+Table1[[#This Row],[Column3]]+Table1[[#This Row],[Column2]]+Table1[[#This Row],[Column1]])","v":0},{"$nulls":5},{"$f":"SUM(Table1[[#This Row],[PO Employee]:[Other Employee]])","v":0},"N",{"$error":"#N/A"},{"$f":"IF(O1660>39,Table1[[#This Row],[Calc 1]],IF(O1660>1,\"Not counted as an Employee\",\"#NA\"))","v":"#NA"},{"$f":"MAX(Table1[[#This Row],[PO Employee]],Table1[[#This Row],[Other HZ Employee]],Table1[[#This Row],[Non HZ Employee]],Table1[[#This Row],[Job Site Employee]],Table1[[#This Row],[Other Employee]])","v":0},{"$f":"IF(Table1[[#This Row],[Total Hours per Month]]=Table1[[#This Row],[Column12]],\"Match\",\"Error\")","v":"Match"},{"$f":"IF(Table1[[#This Row],[Calc 2]]=\"#NA\",\"#NA\",IF(Table1[[#This Row],[Non HZ Employee]]=Table1[[#This Row],[Max calc]],\"Non HZ Employee\", Table1[[#This Row],[Calc 2]]))","v":"#NA"}]
[1644,null,1644,{"$nulls":5},{"$f":"SUM(Table1[[#This Row],[Column4]]+Table1[[#This Row],[Column3]]+Table1[[#This Row],[Column2]]+Table1[[#This Row],[Column1]])","v":0},{"$nulls":5},{"$f":"SUM(Table1[[#This Row],[PO Employee]:[Other Employee]])","v":0},"N",{"$error":"#N/A"},{"$f":"IF(O1661>39,Table1[[#This Row],[Calc 1]],IF(O1661>1,\"Not counted as an Employee\",\"#NA\"))","v":"#NA"},{"$f":"MAX(Table1[[#This Row],[PO Employee]],Table1[[#This Row],[Other HZ Employee]],Table1[[#This Row],[Non HZ Employee]],Table1[[#This Row],[Job Site Employee]],Table1[[#This Row],[Other Employee]])","v":0},{"$f":"IF(Table1[[#This Row],[Total Hours per Month]]=Table1[[#This Row],[Column12]],\"Match\",\"Error\")","v":"Match"},{"$f":"IF(Table1[[#This Row],[Calc 2]]=\"#NA\",\"#NA\",IF(Table1[[#This Row],[Non HZ Employee]]=Table1[[#This Row],[Max calc]],\"Non HZ Employee\", Table1[[#This Row],[Calc 2]]))","v":"#NA"}]
[1645,null,1645,{"$nulls":5},{"$f":"SUM(Table1[[#This Row],[Column4]]+Table1[[#This Row],[Column3]]+Table1[[#This Row],[Column2]]+Table1[[#This Row],[Column1]])","v":0},{"$nulls":5},{"$f":"SUM(Table1[[#This Row],[PO Employee]:[Other Employee]])","v":0},"N",{"$error":"#N/A"},{"$f":"IF(O1662>39,Table1[[#This Row],[Calc 1]],IF(O1662>1,\"Not counted as an Employee\",\"#NA\"))","v":"#NA"},{"$f":"MAX(Table1[[#This Row],[PO Employee]],Table1[[#This Row],[Other HZ Employee]],Table1[[#This Row],[Non HZ Employee]],Table1[[#This Row],[Job Site Employee]],Table1[[#This Row],[Other Employee]])","v":0},{"$f":"IF(Table1[[#This Row],[Total Hours per Month]]=Table1[[#This Row],[Column12]],\"Match\",\"Error\")","v":"Match"},{"$f":"IF(Table1[[#This Row],[Calc 2]]=\"#NA\",\"#NA\",IF(Table1[[#This Row],[Non HZ Employee]]=Table1[[#This Row],[Max calc]],\"Non HZ Employee\", Table1[[#This Row],[Calc 2]]))","v":"#NA"}]
[1646,null,1646,{"$nulls":5},{"$f":"SUM(Table1[[#This Row],[Column4]]+Table1[[#This Row],[Column3]]+Table1[[#This Row],[Column2]]+Table1[[#This Row],[Column1]])","v":0},{"$nulls":5},{"$f":"SUM(Table1[[#This Row],[PO Employee]:[Other Employee]])","v":0},"N",{"$error":"#N/A"},{"$f":"IF(O1663>39,Table1[[#This Row],[Calc 1]],IF(O1663>1,\"Not counted as an Employee\",\"#NA\"))","v":"#NA"},{"$f":"MAX(Table1[[#This Row],[PO Employee]],Table1[[#This Row],[Other HZ Employee]],Table1[[#This Row],[Non HZ Employee]],Table1[[#This Row],[Job Site Employee]],Table1[[#This Row],[Other Employee]])","v":0},{"$f":"IF(Table1[[#This Row],[Total Hours per Month]]=Table1[[#This Row],[Column12]],\"Match\",\"Error\")","v":"Match"},{"$f":"IF(Table1[[#This Row],[Calc 2]]=\"#NA\",\"#NA\",IF(Table1[[#This Row],[Non HZ Employee]]=Table1[[#This Row],[Max calc]],\"Non HZ Employee\", Table1[[#This Row],[Calc 2]]))","v":"#NA"}]
[1647,null,1647,{"$nulls":5},{"$f":"SUM(Table1[[#This Row],[Column4]]+Table1[[#This Row],[Column3]]+Table1[[#This Row],[Column2]]+Table1[[#This Row],[Column1]])","v":0},{"$nulls":5},{"$f":"SUM(Table1[[#This Row],[PO Employee]:[Other Employee]])","v":0},"N",{"$error":"#N/A"},{"$f":"IF(O1664>39,Table1[[#This Row],[Calc 1]],IF(O1664>1,\"Not counted as an Employee\",\"#NA\"))","v":"#NA"},{"$f":"MAX(Table1[[#This Row],[PO Employee]],Table1[[#This Row],[Other HZ Employee]],Table1[[#This Row],[Non HZ Employee]],Table1[[#This Row],[Job Site Employee]],Table1[[#This Row],[Other Employee]])","v":0},{"$f":"IF(Table1[[#This Row],[Total Hours per Month]]=Table1[[#This Row],[Column12]],\"Match\",\"Error\")","v":"Match"},{"$f":"IF(Table1[[#This Row],[Calc 2]]=\"#NA\",\"#NA\",IF(Table1[[#This Row],[Non HZ Employee]]=Table1[[#This Row],[Max calc]],\"Non HZ Employee\", Table1[[#This Row],[Calc 2]]))","v":"#NA"}]
[1648,null,1648,{"$nulls":5},{"$f":"SUM(Table1[[#This Row],[Column4]]+Table1[[#This Row],[Column3]]+Table1[[#This Row],[Column2]]+Table1[[#This Row],[Column1]])","v":0},{"$nulls":5},{"$f":"SUM(Table1[[#This Row],[PO Employee]:[Other Employee]])","v":0},"N",{"$error":"#N/A"},{"$f":"IF(O1665>39,Table1[[#This Row],[Calc 1]],IF(O1665>1,\"Not counted as an Employee\",\"#NA\"))","v":"#NA"},{"$f":"MAX(Table1[[#This Row],[PO Employee]],Table1[[#This Row],[Other HZ Employee]],Table1[[#This Row],[Non HZ Employee]],Table1[[#This Row],[Job Site Employee]],Table1[[#This Row],[Other Employee]])","v":0},{"$f":"IF(Table1[[#This Row],[Total Hours per Month]]=Table1[[#This Row],[Column12]],\"Match\",\"Error\")","v":"Match"},{"$f":"IF(Table1[[#This Row],[Calc 2]]=\"#NA\",\"#NA\",IF(Table1[[#This Row],[Non HZ Employee]]=Table1[[#This Row],[Max calc]],\"Non HZ Employee\", Table1[[#This Row],[Calc 2]]))","v":"#NA"}]
[1649,null,1649,{"$nulls":5},{"$f":"SUM(Table1[[#This Row],[Column4]]+Table1[[#This Row],[Column3]]+Table1[[#This Row],[Column2]]+Table1[[#This Row],[Column1]])","v":0},{"$nulls":5},{"$f":"SUM(Table1[[#This Row],[PO Employee]:[Other Employee]])","v":0},"N",{"$error":"#N/A"},{"$f":"IF(O1666>39,Table1[[#This Row],[Calc 1]],IF(O1666>1,\"Not counted as an Employee\",\"#NA\"))","v":"#NA"},{"$f":"MAX(Table1[[#This Row],[PO Employee]],Table1[[#This Row],[Other HZ Employee]],Table1[[#This Row],[Non HZ Employee]],Table1[[#This Row],[Job Site Employee]],Table1[[#This Row],[Other Employee]])","v":0},{"$f":"IF(Table1[[#This Row],[Total Hours per Month]]=Table1[[#This Row],[Column12]],\"Match\",\"Error\")","v":"Match"},{"$f":"IF(Table1[[#This Row],[Calc 2]]=\"#NA\",\"#NA\",IF(Table1[[#This Row],[Non HZ Employee]]=Table1[[#This Row],[Max calc]],\"Non HZ Employee\", Table1[[#This Row],[Calc 2]]))","v":"#NA"}]
[1650,null,1650,{"$nulls":5},{"$f":"SUM(Table1[[#This Row],[Column4]]+Table1[[#This Row],[Column3]]+Table1[[#This Row],[Column2]]+Table1[[#This Row],[Column1]])","v":0},{"$nulls":5},{"$f":"SUM(Table1[[#This Row],[PO Employee]:[Other Employee]])","v":0},"N",{"$error":"#N/A"},{"$f":"IF(O1667>39,Table1[[#This Row],[Calc 1]],IF(O1667>1,\"Not counted as an Employee\",\"#NA\"))","v":"#NA"},{"$f":"MAX(Table1[[#This Row],[PO Employee]],Table1[[#This Row],[Other HZ Employee]],Table1[[#This Row],[Non HZ Employee]],Table1[[#This Row],[Job Site Employee]],Table1[[#This Row],[Other Employee]])","v":0},{"$f":"IF(Table1[[#This Row],[Total Hours per Month]]=Table1[[#This Row],[Column12]],\"Match\",\"Error\")","v":"Match"},{"$f":"IF(Table1[[#This Row],[Calc 2]]=\"#NA\",\"#NA\",IF(Table1[[#This Row],[Non HZ Employee]]=Table1[[#This Row],[Max calc]],\"Non HZ Employee\", Table1[[#This Row],[Calc 2]]))","v":"#NA"}]
[1651,null,1651,{"$nulls":5},{"$f":"SUM(Table1[[#This Row],[Column4]]+Table1[[#This Row],[Column3]]+Table1[[#This Row],[Column2]]+Table1[[#This Row],[Column1]])","v":0},{"$nulls":5},{"$f":"SUM(Table1[[#This Row],[PO Employee]:[Other Employee]])","v":0},"N",{"$error":"#N/A"},{"$f":"IF(O1668>39,Table1[[#This Row],[Calc 1]],IF(O1668>1,\"Not counted as an Employee\",\"#NA\"))","v":"#NA"},{"$f":"MAX(Table1[[#This Row],[PO Employee]],Table1[[#This Row],[Other HZ Employee]],Table1[[#This Row],[Non HZ Employee]],Table1[[#This Row],[Job Site Employee]],Table1[[#This Row],[Other Employee]])","v":0},{"$f":"IF(Table1[[#This Row],[Total Hours per Month]]=Table1[[#This Row],[Column12]],\"Match\",\"Error\")","v":"Match"},{"$f":"IF(Table1[[#This Row],[Calc 2]]=\"#NA\",\"#NA\",IF(Table1[[#This Row],[Non HZ Employee]]=Table1[[#This Row],[Max calc]],\"Non HZ Employee\", Table1[[#This Row],[Calc 2]]))","v":"#NA"}]
[1652,null,1652,{"$nulls":5},{"$f":"SUM(Table1[[#This Row],[Column4]]+Table1[[#This Row],[Column3]]+Table1[[#This Row],[Column2]]+Table1[[#This Row],[Column1]])","v":0},{"$nulls":5},{"$f":"SUM(Table1[[#This Row],[PO Employee]:[Other Employee]])","v":0},"N",{"$error":"#N/A"},{"$f":"IF(O1669>39,Table1[[#This Row],[Calc 1]],IF(O1669>1,\"Not counted as an Employee\",\"#NA\"))","v":"#NA"},{"$f":"MAX(Table1[[#This Row],[PO Employee]],Table1[[#This Row],[Other HZ Employee]],Table1[[#This Row],[Non HZ Employee]],Table1[[#This Row],[Job Site Employee]],Table1[[#This Row],[Other Employee]])","v":0},{"$f":"IF(Table1[[#This Row],[Total Hours per Month]]=Table1[[#This Row],[Column12]],\"Match\",\"Error\")","v":"Match"},{"$f":"IF(Table1[[#This Row],[Calc 2]]=\"#NA\",\"#NA\",IF(Table1[[#This Row],[Non HZ Employee]]=Table1[[#This Row],[Max calc]],\"Non HZ Employee\", Table1[[#This Row],[Calc 2]]))","v":"#NA"}]
[1653,null,1653,{"$nulls":5},{"$f":"SUM(Table1[[#This Row],[Column4]]+Table1[[#This Row],[Column3]]+Table1[[#This Row],[Column2]]+Table1[[#This Row],[Column1]])","v":0},{"$nulls":5},{"$f":"SUM(Table1[[#This Row],[PO Employee]:[Other Employee]])","v":0},"N",{"$error":"#N/A"},{"$f":"IF(O1670>39,Table1[[#This Row],[Calc 1]],IF(O1670>1,\"Not counted as an Employee\",\"#NA\"))","v":"#NA"},{"$f":"MAX(Table1[[#This Row],[PO Employee]],Table1[[#This Row],[Other HZ Employee]],Table1[[#This Row],[Non HZ Employee]],Table1[[#This Row],[Job Site Employee]],Table1[[#This Row],[Other Employee]])","v":0},{"$f":"IF(Table1[[#This Row],[Total Hours per Month]]=Table1[[#This Row],[Column12]],\"Match\",\"Error\")","v":"Match"},{"$f":"IF(Table1[[#This Row],[Calc 2]]=\"#NA\",\"#NA\",IF(Table1[[#This Row],[Non HZ Employee]]=Table1[[#This Row],[Max calc]],\"Non HZ Employee\", Table1[[#This Row],[Calc 2]]))","v":"#NA"}]
[1654,null,1654,{"$nulls":5},{"$f":"SUM(Table1[[#This Row],[Column4]]+Table1[[#This Row],[Column3]]+Table1[[#This Row],[Column2]]+Table1[[#This Row],[Column1]])","v":0},{"$nulls":5},{"$f":"SUM(Table1[[#This Row],[PO Employee]:[Other Employee]])","v":0},"N",{"$error":"#N/A"},{"$f":"IF(O1671>39,Table1[[#This Row],[Calc 1]],IF(O1671>1,\"Not counted as an Employee\",\"#NA\"))","v":"#NA"},{"$f":"MAX(Table1[[#This Row],[PO Employee]],Table1[[#This Row],[Other HZ Employee]],Table1[[#This Row],[Non HZ Employee]],Table1[[#This Row],[Job Site Employee]],Table1[[#This Row],[Other Employee]])","v":0},{"$f":"IF(Table1[[#This Row],[Total Hours per Month]]=Table1[[#This Row],[Column12]],\"Match\",\"Error\")","v":"Match"},{"$f":"IF(Table1[[#This Row],[Calc 2]]=\"#NA\",\"#NA\",IF(Table1[[#This Row],[Non HZ Employee]]=Table1[[#This Row],[Max calc]],\"Non HZ Employee\", Table1[[#This Row],[Calc 2]]))","v":"#NA"}]
[1655,null,1655,{"$nulls":5},{"$f":"SUM(Table1[[#This Row],[Column4]]+Table1[[#This Row],[Column3]]+Table1[[#This Row],[Column2]]+Table1[[#This Row],[Column1]])","v":0},{"$nulls":5},{"$f":"SUM(Table1[[#This Row],[PO Employee]:[Other Employee]])","v":0},"N",{"$error":"#N/A"},{"$f":"IF(O1672>39,Table1[[#This Row],[Calc 1]],IF(O1672>1,\"Not counted as an Employee\",\"#NA\"))","v":"#NA"},{"$f":"MAX(Table1[[#This Row],[PO Employee]],Table1[[#This Row],[Other HZ Employee]],Table1[[#This Row],[Non HZ Employee]],Table1[[#This Row],[Job Site Employee]],Table1[[#This Row],[Other Employee]])","v":0},{"$f":"IF(Table1[[#This Row],[Total Hours per Month]]=Table1[[#This Row],[Column12]],\"Match\",\"Error\")","v":"Match"},{"$f":"IF(Table1[[#This Row],[Calc 2]]=\"#NA\",\"#NA\",IF(Table1[[#This Row],[Non HZ Employee]]=Table1[[#This Row],[Max calc]],\"Non HZ Employee\", Table1[[#This Row],[Calc 2]]))","v":"#NA"}]
[1656,null,1656,{"$nulls":5},{"$f":"SUM(Table1[[#This Row],[Column4]]+Table1[[#This Row],[Column3]]+Table1[[#This Row],[Column2]]+Table1[[#This Row],[Column1]])","v":0},{"$nulls":5},{"$f":"SUM(Table1[[#This Row],[PO Employee]:[Other Employee]])","v":0},"N",{"$error":"#N/A"},{"$f":"IF(O1673>39,Table1[[#This Row],[Calc 1]],IF(O1673>1,\"Not counted as an Employee\",\"#NA\"))","v":"#NA"},{"$f":"MAX(Table1[[#This Row],[PO Employee]],Table1[[#This Row],[Other HZ Employee]],Table1[[#This Row],[Non HZ Employee]],Table1[[#This Row],[Job Site Employee]],Table1[[#This Row],[Other Employee]])","v":0},{"$f":"IF(Table1[[#This Row],[Total Hours per Month]]=Table1[[#This Row],[Column12]],\"Match\",\"Error\")","v":"Match"},{"$f":"IF(Table1[[#This Row],[Calc 2]]=\"#NA\",\"#NA\",IF(Table1[[#This Row],[Non HZ Employee]]=Table1[[#This Row],[Max calc]],\"Non HZ Employee\", Table1[[#This Row],[Calc 2]]))","v":"#NA"}]
[1657,null,1657,{"$nulls":5},{"$f":"SUM(Table1[[#This Row],[Column4]]+Table1[[#This Row],[Column3]]+Table1[[#This Row],[Column2]]+Table1[[#This Row],[Column1]])","v":0},{"$nulls":5},{"$f":"SUM(Table1[[#This Row],[PO Employee]:[Other Employee]])","v":0},"N",{"$error":"#N/A"},{"$f":"IF(O1674>39,Table1[[#This Row],[Calc 1]],IF(O1674>1,\"Not counted as an Employee\",\"#NA\"))","v":"#NA"},{"$f":"MAX(Table1[[#This Row],[PO Employee]],Table1[[#This Row],[Other HZ Employee]],Table1[[#This Row],[Non HZ Employee]],Table1[[#This Row],[Job Site Employee]],Table1[[#This Row],[Other Employee]])","v":0},{"$f":"IF(Table1[[#This Row],[Total Hours per Month]]=Table1[[#This Row],[Column12]],\"Match\",\"Error\")","v":"Match"},{"$f":"IF(Table1[[#This Row],[Calc 2]]=\"#NA\",\"#NA\",IF(Table1[[#This Row],[Non HZ Employee]]=Table1[[#This Row],[Max calc]],\"Non HZ Employee\", Table1[[#This Row],[Calc 2]]))","v":"#NA"}]
[1658,null,1658,{"$nulls":5},{"$f":"SUM(Table1[[#This Row],[Column4]]+Table1[[#This Row],[Column3]]+Table1[[#This Row],[Column2]]+Table1[[#This Row],[Column1]])","v":0},{"$nulls":5},{"$f":"SUM(Table1[[#This Row],[PO Employee]:[Other Employee]])","v":0},"N",{"$error":"#N/A"},{"$f":"IF(O1675>39,Table1[[#This Row],[Calc 1]],IF(O1675>1,\"Not counted as an Employee\",\"#NA\"))","v":"#NA"},{"$f":"MAX(Table1[[#This Row],[PO Employee]],Table1[[#This Row],[Other HZ Employee]],Table1[[#This Row],[Non HZ Employee]],Table1[[#This Row],[Job Site Employee]],Table1[[#This Row],[Other Employee]])","v":0},{"$f":"IF(Table1[[#This Row],[Total Hours per Month]]=Table1[[#This Row],[Column12]],\"Match\",\"Error\")","v":"Match"},{"$f":"IF(Table1[[#This Row],[Calc 2]]=\"#NA\",\"#NA\",IF(Table1[[#This Row],[Non HZ Employee]]=Table1[[#This Row],[Max calc]],\"Non HZ Employee\", Table1[[#This Row],[Calc 2]]))","v":"#NA"}]
[1659,null,1659,{"$nulls":5},{"$f":"SUM(Table1[[#This Row],[Column4]]+Table1[[#This Row],[Column3]]+Table1[[#This Row],[Column2]]+Table1[[#This Row],[Column1]])","v":0},{"$nulls":5},{"$f":"SUM(Table1[[#This Row],[PO Employee]:[Other Employee]])","v":0},"N",{"$error":"#N/A"},{"$f":"IF(O1676>39,Table1[[#This Row],[Calc 1]],IF(O1676>1,\"Not counted as an Employee\",\"#NA\"))","v":"#NA"},{"$f":"MAX(Table1[[#This Row],[PO Employee]],Table1[[#This Row],[Other HZ Employee]],Table1[[#This Row],[Non HZ Employee]],Table1[[#This Row],[Job Site Employee]],Table1[[#This Row],[Other Employee]])","v":0},{"$f":"IF(Table1[[#This Row],[Total Hours per Month]]=Table1[[#This Row],[Column12]],\"Match\",\"Error\")","v":"Match"},{"$f":"IF(Table1[[#This Row],[Calc 2]]=\"#NA\",\"#NA\",IF(Table1[[#This Row],[Non HZ Employee]]=Table1[[#This Row],[Max calc]],\"Non HZ Employee\", Table1[[#This Row],[Calc 2]]))","v":"#NA"}]
[1660,null,1660,{"$nulls":5},{"$f":"SUM(Table1[[#This Row],[Column4]]+Table1[[#This Row],[Column3]]+Table1[[#This Row],[Column2]]+Table1[[#This Row],[Column1]])","v":0},{"$nulls":5},{"$f":"SUM(Table1[[#This Row],[PO Employee]:[Other Employee]])","v":0},"N",{"$error":"#N/A"},{"$f":"IF(O1677>39,Table1[[#This Row],[Calc 1]],IF(O1677>1,\"Not counted as an Employee\",\"#NA\"))","v":"#NA"},{"$f":"MAX(Table1[[#This Row],[PO Employee]],Table1[[#This Row],[Other HZ Employee]],Table1[[#This Row],[Non HZ Employee]],Table1[[#This Row],[Job Site Employee]],Table1[[#This Row],[Other Employee]])","v":0},{"$f":"IF(Table1[[#This Row],[Total Hours per Month]]=Table1[[#This Row],[Column12]],\"Match\",\"Error\")","v":"Match"},{"$f":"IF(Table1[[#This Row],[Calc 2]]=\"#NA\",\"#NA\",IF(Table1[[#This Row],[Non HZ Employee]]=Table1[[#This Row],[Max calc]],\"Non HZ Employee\", Table1[[#This Row],[Calc 2]]))","v":"#NA"}]
[1661,null,1661,{"$nulls":5},{"$f":"SUM(Table1[[#This Row],[Column4]]+Table1[[#This Row],[Column3]]+Table1[[#This Row],[Column2]]+Table1[[#This Row],[Column1]])","v":0},{"$nulls":5},{"$f":"SUM(Table1[[#This Row],[PO Employee]:[Other Employee]])","v":0},"N",{"$error":"#N/A"},{"$f":"IF(O1678>39,Table1[[#This Row],[Calc 1]],IF(O1678>1,\"Not counted as an Employee\",\"#NA\"))","v":"#NA"},{"$f":"MAX(Table1[[#This Row],[PO Employee]],Table1[[#This Row],[Other HZ Employee]],Table1[[#This Row],[Non HZ Employee]],Table1[[#This Row],[Job Site Employee]],Table1[[#This Row],[Other Employee]])","v":0},{"$f":"IF(Table1[[#This Row],[Total Hours per Month]]=Table1[[#This Row],[Column12]],\"Match\",\"Error\")","v":"Match"},{"$f":"IF(Table1[[#This Row],[Calc 2]]=\"#NA\",\"#NA\",IF(Table1[[#This Row],[Non HZ Employee]]=Table1[[#This Row],[Max calc]],\"Non HZ Employee\", Table1[[#This Row],[Calc 2]]))","v":"#NA"}]
[1662,null,1662,{"$nulls":5},{"$f":"SUM(Table1[[#This Row],[Column4]]+Table1[[#This Row],[Column3]]+Table1[[#This Row],[Column2]]+Table1[[#This Row],[Column1]])","v":0},{"$nulls":5},{"$f":"SUM(Table1[[#This Row],[PO Employee]:[Other Employee]])","v":0},"N",{"$error":"#N/A"},{"$f":"IF(O1679>39,Table1[[#This Row],[Calc 1]],IF(O1679>1,\"Not counted as an Employee\",\"#NA\"))","v":"#NA"},{"$f":"MAX(Table1[[#This Row],[PO Employee]],Table1[[#This Row],[Other HZ Employee]],Table1[[#This Row],[Non HZ Employee]],Table1[[#This Row],[Job Site Employee]],Table1[[#This Row],[Other Employee]])","v":0},{"$f":"IF(Table1[[#This Row],[Total Hours per Month]]=Table1[[#This Row],[Column12]],\"Match\",\"Error\")","v":"Match"},{"$f":"IF(Table1[[#This Row],[Calc 2]]=\"#NA\",\"#NA\",IF(Table1[[#This Row],[Non HZ Employee]]=Table1[[#This Row],[Max calc]],\"Non HZ Employee\", Table1[[#This Row],[Calc 2]]))","v":"#NA"}]
[1663,null,1663,{"$nulls":5},{"$f":"SUM(Table1[[#This Row],[Column4]]+Table1[[#This Row],[Column3]]+Table1[[#This Row],[Column2]]+Table1[[#This Row],[Column1]])","v":0},{"$nulls":5},{"$f":"SUM(Table1[[#This Row],[PO Employee]:[Other Employee]])","v":0},"N",{"$error":"#N/A"},{"$f":"IF(O1680>39,Table1[[#This Row],[Calc 1]],IF(O1680>1,\"Not counted as an Employee\",\"#NA\"))","v":"#NA"},{"$f":"MAX(Table1[[#This Row],[PO Employee]],Table1[[#This Row],[Other HZ Employee]],Table1[[#This Row],[Non HZ Employee]],Table1[[#This Row],[Job Site Employee]],Table1[[#This Row],[Other Employee]])","v":0},{"$f":"IF(Table1[[#This Row],[Total Hours per Month]]=Table1[[#This Row],[Column12]],\"Match\",\"Error\")","v":"Match"},{"$f":"IF(Table1[[#This Row],[Calc 2]]=\"#NA\",\"#NA\",IF(Table1[[#This Row],[Non HZ Employee]]=Table1[[#This Row],[Max calc]],\"Non HZ Employee\", Table1[[#This Row],[Calc 2]]))","v":"#NA"}]
[1664,null,1664,{"$nulls":5},{"$f":"SUM(Table1[[#This Row],[Column4]]+Table1[[#This Row],[Column3]]+Table1[[#This Row],[Column2]]+Table1[[#This Row],[Column1]])","v":0},{"$nulls":5},{"$f":"SUM(Table1[[#This Row],[PO Employee]:[Other Employee]])","v":0},"N",{"$error":"#N/A"},{"$f":"IF(O1681>39,Table1[[#This Row],[Calc 1]],IF(O1681>1,\"Not counted as an Employee\",\"#NA\"))","v":"#NA"},{"$f":"MAX(Table1[[#This Row],[PO Employee]],Table1[[#This Row],[Other HZ Employee]],Table1[[#This Row],[Non HZ Employee]],Table1[[#This Row],[Job Site Employee]],Table1[[#This Row],[Other Employee]])","v":0},{"$f":"IF(Table1[[#This Row],[Total Hours per Month]]=Table1[[#This Row],[Column12]],\"Match\",\"Error\")","v":"Match"},{"$f":"IF(Table1[[#This Row],[Calc 2]]=\"#NA\",\"#NA\",IF(Table1[[#This Row],[Non HZ Employee]]=Table1[[#This Row],[Max calc]],\"Non HZ Employee\", Table1[[#This Row],[Calc 2]]))","v":"#NA"}]
[1665,null,1665,{"$nulls":5},{"$f":"SUM(Table1[[#This Row],[Column4]]+Table1[[#This Row],[Column3]]+Table1[[#This Row],[Column2]]+Table1[[#This Row],[Column1]])","v":0},{"$nulls":5},{"$f":"SUM(Table1[[#This Row],[PO Employee]:[Other Employee]])","v":0},"N",{"$f":"INDEX($J$17:$N$17,MATCH(MAX(J1682:N1682),J1682:N1682,0))","v":{"$error":"#N/A"}},{"$f":"IF(O1682>39,Table1[[#This Row],[Calc 1]],IF(O1682>1,\"Not counted as an Employee\",\"#NA\"))","v":"#NA"},{"$f":"MAX(Table1[[#This Row],[PO Employee]],Table1[[#This Row],[Other HZ Employee]],Table1[[#This Row],[Non HZ Employee]],Table1[[#This Row],[Job Site Employee]],Table1[[#This Row],[Other Employee]])","v":0},{"$f":"IF(Table1[[#This Row],[Total Hours per Month]]=Table1[[#This Row],[Column12]],\"Match\",\"Error\")","v":"Match"},{"$f":"IF(Table1[[#This Row],[Calc 2]]=\"#NA\",\"#NA\",IF(Table1[[#This Row],[Non HZ Employee]]=Table1[[#This Row],[Max calc]],\"Non HZ Employee\", Table1[[#This Row],[Calc 2]]))","v":"#NA"}]
[1666,null,1666,{"$nulls":5},{"$f":"SUM(Table1[[#This Row],[Column4]]+Table1[[#This Row],[Column3]]+Table1[[#This Row],[Column2]]+Table1[[#This Row],[Column1]])","v":0},{"$nulls":5},{"$f":"SUM(Table1[[#This Row],[PO Employee]:[Other Employee]])","v":0},{"$f":"IF(O1683>=40,\"Y\",\"N\")","v":"N"},{"$error":"#N/A"},{"$f":"IF(O1683>39,Table1[[#This Row],[Calc 1]],IF(O1683>1,\"Not counted as an Employee\",\"#NA\"))","v":"#NA"},{"$f":"MAX(Table1[[#This Row],[PO Employee]],Table1[[#This Row],[Other HZ Employee]],Table1[[#This Row],[Non HZ Employee]],Table1[[#This Row],[Job Site Employee]],Table1[[#This Row],[Other Employee]])","v":0},{"$f":"IF(Table1[[#This Row],[Total Hours per Month]]=Table1[[#This Row],[Column12]],\"Match\",\"Error\")","v":"Match"},{"$f":"IF(Table1[[#This Row],[Calc 2]]=\"#NA\",\"#NA\",IF(Table1[[#This Row],[Non HZ Employee]]=Table1[[#This Row],[Max calc]],\"Non HZ Employee\", Table1[[#This Row],[Calc 2]]))","v":"#NA"}]
[1667,null,1667,{"$nulls":5},{"$f":"SUM(Table1[[#This Row],[Column4]]+Table1[[#This Row],[Column3]]+Table1[[#This Row],[Column2]]+Table1[[#This Row],[Column1]])","v":0},{"$nulls":5},{"$f":"SUM(Table1[[#This Row],[PO Employee]:[Other Employee]])","v":0},"N",{"$error":"#N/A"},{"$f":"IF(O1684>39,Table1[[#This Row],[Calc 1]],IF(O1684>1,\"Not counted as an Employee\",\"#NA\"))","v":"#NA"},{"$f":"MAX(Table1[[#This Row],[PO Employee]],Table1[[#This Row],[Other HZ Employee]],Table1[[#This Row],[Non HZ Employee]],Table1[[#This Row],[Job Site Employee]],Table1[[#This Row],[Other Employee]])","v":0},{"$f":"IF(Table1[[#This Row],[Total Hours per Month]]=Table1[[#This Row],[Column12]],\"Match\",\"Error\")","v":"Match"},{"$f":"IF(Table1[[#This Row],[Calc 2]]=\"#NA\",\"#NA\",IF(Table1[[#This Row],[Non HZ Employee]]=Table1[[#This Row],[Max calc]],\"Non HZ Employee\", Table1[[#This Row],[Calc 2]]))","v":"#NA"}]
[1668,null,1668,{"$nulls":5},{"$f":"SUM(Table1[[#This Row],[Column4]]+Table1[[#This Row],[Column3]]+Table1[[#This Row],[Column2]]+Table1[[#This Row],[Column1]])","v":0},{"$nulls":5},{"$f":"SUM(Table1[[#This Row],[PO Employee]:[Other Employee]])","v":0},"N",{"$error":"#N/A"},{"$f":"IF(O1685>39,Table1[[#This Row],[Calc 1]],IF(O1685>1,\"Not counted as an Employee\",\"#NA\"))","v":"#NA"},{"$f":"MAX(Table1[[#This Row],[PO Employee]],Table1[[#This Row],[Other HZ Employee]],Table1[[#This Row],[Non HZ Employee]],Table1[[#This Row],[Job Site Employee]],Table1[[#This Row],[Other Employee]])","v":0},{"$f":"IF(Table1[[#This Row],[Total Hours per Month]]=Table1[[#This Row],[Column12]],\"Match\",\"Error\")","v":"Match"},{"$f":"IF(Table1[[#This Row],[Calc 2]]=\"#NA\",\"#NA\",IF(Table1[[#This Row],[Non HZ Employee]]=Table1[[#This Row],[Max calc]],\"Non HZ Employee\", Table1[[#This Row],[Calc 2]]))","v":"#NA"}]
[1669,null,1669,{"$nulls":5},{"$f":"SUM(Table1[[#This Row],[Column4]]+Table1[[#This Row],[Column3]]+Table1[[#This Row],[Column2]]+Table1[[#This Row],[Column1]])","v":0},{"$nulls":5},{"$f":"SUM(Table1[[#This Row],[PO Employee]:[Other Employee]])","v":0},"N",{"$error":"#N/A"},{"$f":"IF(O1686>39,Table1[[#This Row],[Calc 1]],IF(O1686>1,\"Not counted as an Employee\",\"#NA\"))","v":"#NA"},{"$f":"MAX(Table1[[#This Row],[PO Employee]],Table1[[#This Row],[Other HZ Employee]],Table1[[#This Row],[Non HZ Employee]],Table1[[#This Row],[Job Site Employee]],Table1[[#This Row],[Other Employee]])","v":0},{"$f":"IF(Table1[[#This Row],[Total Hours per Month]]=Table1[[#This Row],[Column12]],\"Match\",\"Error\")","v":"Match"},{"$f":"IF(Table1[[#This Row],[Calc 2]]=\"#NA\",\"#NA\",IF(Table1[[#This Row],[Non HZ Employee]]=Table1[[#This Row],[Max calc]],\"Non HZ Employee\", Table1[[#This Row],[Calc 2]]))","v":"#NA"}]
[1670,null,1670,{"$nulls":5},{"$f":"SUM(Table1[[#This Row],[Column4]]+Table1[[#This Row],[Column3]]+Table1[[#This Row],[Column2]]+Table1[[#This Row],[Column1]])","v":0},{"$nulls":5},{"$f":"SUM(Table1[[#This Row],[PO Employee]:[Other Employee]])","v":0},"N",{"$error":"#N/A"},{"$f":"IF(O1687>39,Table1[[#This Row],[Calc 1]],IF(O1687>1,\"Not counted as an Employee\",\"#NA\"))","v":"#NA"},{"$f":"MAX(Table1[[#This Row],[PO Employee]],Table1[[#This Row],[Other HZ Employee]],Table1[[#This Row],[Non HZ Employee]],Table1[[#This Row],[Job Site Employee]],Table1[[#This Row],[Other Employee]])","v":0},{"$f":"IF(Table1[[#This Row],[Total Hours per Month]]=Table1[[#This Row],[Column12]],\"Match\",\"Error\")","v":"Match"},{"$f":"IF(Table1[[#This Row],[Calc 2]]=\"#NA\",\"#NA\",IF(Table1[[#This Row],[Non HZ Employee]]=Table1[[#This Row],[Max calc]],\"Non HZ Employee\", Table1[[#This Row],[Calc 2]]))","v":"#NA"}]
[1671,null,1671,{"$nulls":5},{"$f":"SUM(Table1[[#This Row],[Column4]]+Table1[[#This Row],[Column3]]+Table1[[#This Row],[Column2]]+Table1[[#This Row],[Column1]])","v":0},{"$nulls":5},{"$f":"SUM(Table1[[#This Row],[PO Employee]:[Other Employee]])","v":0},"N",{"$error":"#N/A"},{"$f":"IF(O1688>39,Table1[[#This Row],[Calc 1]],IF(O1688>1,\"Not counted as an Employee\",\"#NA\"))","v":"#NA"},{"$f":"MAX(Table1[[#This Row],[PO Employee]],Table1[[#This Row],[Other HZ Employee]],Table1[[#This Row],[Non HZ Employee]],Table1[[#This Row],[Job Site Employee]],Table1[[#This Row],[Other Employee]])","v":0},{"$f":"IF(Table1[[#This Row],[Total Hours per Month]]=Table1[[#This Row],[Column12]],\"Match\",\"Error\")","v":"Match"},{"$f":"IF(Table1[[#This Row],[Calc 2]]=\"#NA\",\"#NA\",IF(Table1[[#This Row],[Non HZ Employee]]=Table1[[#This Row],[Max calc]],\"Non HZ Employee\", Table1[[#This Row],[Calc 2]]))","v":"#NA"}]
[1672,null,1672,{"$nulls":5},{"$f":"SUM(Table1[[#This Row],[Column4]]+Table1[[#This Row],[Column3]]+Table1[[#This Row],[Column2]]+Table1[[#This Row],[Column1]])","v":0},{"$nulls":5},{"$f":"SUM(Table1[[#This Row],[PO Employee]:[Other Employee]])","v":0},"N",{"$error":"#N/A"},{"$f":"IF(O1689>39,Table1[[#This Row],[Calc 1]],IF(O1689>1,\"Not counted as an Employee\",\"#NA\"))","v":"#NA"},{"$f":"MAX(Table1[[#This Row],[PO Employee]],Table1[[#This Row],[Other HZ Employee]],Table1[[#This Row],[Non HZ Employee]],Table1[[#This Row],[Job Site Employee]],Table1[[#This Row],[Other Employee]])","v":0},{"$f":"IF(Table1[[#This Row],[Total Hours per Month]]=Table1[[#This Row],[Column12]],\"Match\",\"Error\")","v":"Match"},{"$f":"IF(Table1[[#This Row],[Calc 2]]=\"#NA\",\"#NA\",IF(Table1[[#This Row],[Non HZ Employee]]=Table1[[#This Row],[Max calc]],\"Non HZ Employee\", Table1[[#This Row],[Calc 2]]))","v":"#NA"}]
[1673,null,1673,{"$nulls":5},{"$f":"SUM(Table1[[#This Row],[Column4]]+Table1[[#This Row],[Column3]]+Table1[[#This Row],[Column2]]+Table1[[#This Row],[Column1]])","v":0},{"$nulls":5},{"$f":"SUM(Table1[[#This Row],[PO Employee]:[Other Employee]])","v":0},"N",{"$error":"#N/A"},{"$f":"IF(O1690>39,Table1[[#This Row],[Calc 1]],IF(O1690>1,\"Not counted as an Employee\",\"#NA\"))","v":"#NA"},{"$f":"MAX(Table1[[#This Row],[PO Employee]],Table1[[#This Row],[Other HZ Employee]],Table1[[#This Row],[Non HZ Employee]],Table1[[#This Row],[Job Site Employee]],Table1[[#This Row],[Other Employee]])","v":0},{"$f":"IF(Table1[[#This Row],[Total Hours per Month]]=Table1[[#This Row],[Column12]],\"Match\",\"Error\")","v":"Match"},{"$f":"IF(Table1[[#This Row],[Calc 2]]=\"#NA\",\"#NA\",IF(Table1[[#This Row],[Non HZ Employee]]=Table1[[#This Row],[Max calc]],\"Non HZ Employee\", Table1[[#This Row],[Calc 2]]))","v":"#NA"}]
[1674,null,1674,{"$nulls":5},{"$f":"SUM(Table1[[#This Row],[Column4]]+Table1[[#This Row],[Column3]]+Table1[[#This Row],[Column2]]+Table1[[#This Row],[Column1]])","v":0},{"$nulls":5},{"$f":"SUM(Table1[[#This Row],[PO Employee]:[Other Employee]])","v":0},"N",{"$error":"#N/A"},{"$f":"IF(O1691>39,Table1[[#This Row],[Calc 1]],IF(O1691>1,\"Not counted as an Employee\",\"#NA\"))","v":"#NA"},{"$f":"MAX(Table1[[#This Row],[PO Employee]],Table1[[#This Row],[Other HZ Employee]],Table1[[#This Row],[Non HZ Employee]],Table1[[#This Row],[Job Site Employee]],Table1[[#This Row],[Other Employee]])","v":0},{"$f":"IF(Table1[[#This Row],[Total Hours per Month]]=Table1[[#This Row],[Column12]],\"Match\",\"Error\")","v":"Match"},{"$f":"IF(Table1[[#This Row],[Calc 2]]=\"#NA\",\"#NA\",IF(Table1[[#This Row],[Non HZ Employee]]=Table1[[#This Row],[Max calc]],\"Non HZ Employee\", Table1[[#This Row],[Calc 2]]))","v":"#NA"}]
[1675,null,1675,{"$nulls":5},{"$f":"SUM(Table1[[#This Row],[Column4]]+Table1[[#This Row],[Column3]]+Table1[[#This Row],[Column2]]+Table1[[#This Row],[Column1]])","v":0},{"$nulls":5},{"$f":"SUM(Table1[[#This Row],[PO Employee]:[Other Employee]])","v":0},"N",{"$error":"#N/A"},{"$f":"IF(O1692>39,Table1[[#This Row],[Calc 1]],IF(O1692>1,\"Not counted as an Employee\",\"#NA\"))","v":"#NA"},{"$f":"MAX(Table1[[#This Row],[PO Employee]],Table1[[#This Row],[Other HZ Employee]],Table1[[#This Row],[Non HZ Employee]],Table1[[#This Row],[Job Site Employee]],Table1[[#This Row],[Other Employee]])","v":0},{"$f":"IF(Table1[[#This Row],[Total Hours per Month]]=Table1[[#This Row],[Column12]],\"Match\",\"Error\")","v":"Match"},{"$f":"IF(Table1[[#This Row],[Calc 2]]=\"#NA\",\"#NA\",IF(Table1[[#This Row],[Non HZ Employee]]=Table1[[#This Row],[Max calc]],\"Non HZ Employee\", Table1[[#This Row],[Calc 2]]))","v":"#NA"}]
[1676,null,1676,{"$nulls":5},{"$f":"SUM(Table1[[#This Row],[Column4]]+Table1[[#This Row],[Column3]]+Table1[[#This Row],[Column2]]+Table1[[#This Row],[Column1]])","v":0},{"$nulls":5},{"$f":"SUM(Table1[[#This Row],[PO Employee]:[Other Employee]])","v":0},"N",{"$error":"#N/A"},{"$f":"IF(O1693>39,Table1[[#This Row],[Calc 1]],IF(O1693>1,\"Not counted as an Employee\",\"#NA\"))","v":"#NA"},{"$f":"MAX(Table1[[#This Row],[PO Employee]],Table1[[#This Row],[Other HZ Employee]],Table1[[#This Row],[Non HZ Employee]],Table1[[#This Row],[Job Site Employee]],Table1[[#This Row],[Other Employee]])","v":0},{"$f":"IF(Table1[[#This Row],[Total Hours per Month]]=Table1[[#This Row],[Column12]],\"Match\",\"Error\")","v":"Match"},{"$f":"IF(Table1[[#This Row],[Calc 2]]=\"#NA\",\"#NA\",IF(Table1[[#This Row],[Non HZ Employee]]=Table1[[#This Row],[Max calc]],\"Non HZ Employee\", Table1[[#This Row],[Calc 2]]))","v":"#NA"}]
[1677,null,1677,{"$nulls":5},{"$f":"SUM(Table1[[#This Row],[Column4]]+Table1[[#This Row],[Column3]]+Table1[[#This Row],[Column2]]+Table1[[#This Row],[Column1]])","v":0},{"$nulls":5},{"$f":"SUM(Table1[[#This Row],[PO Employee]:[Other Employee]])","v":0},"N",{"$error":"#N/A"},{"$f":"IF(O1694>39,Table1[[#This Row],[Calc 1]],IF(O1694>1,\"Not counted as an Employee\",\"#NA\"))","v":"#NA"},{"$f":"MAX(Table1[[#This Row],[PO Employee]],Table1[[#This Row],[Other HZ Employee]],Table1[[#This Row],[Non HZ Employee]],Table1[[#This Row],[Job Site Employee]],Table1[[#This Row],[Other Employee]])","v":0},{"$f":"IF(Table1[[#This Row],[Total Hours per Month]]=Table1[[#This Row],[Column12]],\"Match\",\"Error\")","v":"Match"},{"$f":"IF(Table1[[#This Row],[Calc 2]]=\"#NA\",\"#NA\",IF(Table1[[#This Row],[Non HZ Employee]]=Table1[[#This Row],[Max calc]],\"Non HZ Employee\", Table1[[#This Row],[Calc 2]]))","v":"#NA"}]
[1678,null,1678,{"$nulls":5},{"$f":"SUM(Table1[[#This Row],[Column4]]+Table1[[#This Row],[Column3]]+Table1[[#This Row],[Column2]]+Table1[[#This Row],[Column1]])","v":0},{"$nulls":5},{"$f":"SUM(Table1[[#This Row],[PO Employee]:[Other Employee]])","v":0},"N",{"$error":"#N/A"},{"$f":"IF(O1695>39,Table1[[#This Row],[Calc 1]],IF(O1695>1,\"Not counted as an Employee\",\"#NA\"))","v":"#NA"},{"$f":"MAX(Table1[[#This Row],[PO Employee]],Table1[[#This Row],[Other HZ Employee]],Table1[[#This Row],[Non HZ Employee]],Table1[[#This Row],[Job Site Employee]],Table1[[#This Row],[Other Employee]])","v":0},{"$f":"IF(Table1[[#This Row],[Total Hours per Month]]=Table1[[#This Row],[Column12]],\"Match\",\"Error\")","v":"Match"},{"$f":"IF(Table1[[#This Row],[Calc 2]]=\"#NA\",\"#NA\",IF(Table1[[#This Row],[Non HZ Employee]]=Table1[[#This Row],[Max calc]],\"Non HZ Employee\", Table1[[#This Row],[Calc 2]]))","v":"#NA"}]
[1679,null,1679,{"$nulls":5},{"$f":"SUM(Table1[[#This Row],[Column4]]+Table1[[#This Row],[Column3]]+Table1[[#This Row],[Column2]]+Table1[[#This Row],[Column1]])","v":0},{"$nulls":5},{"$f":"SUM(Table1[[#This Row],[PO Employee]:[Other Employee]])","v":0},"N",{"$error":"#N/A"},{"$f":"IF(O1696>39,Table1[[#This Row],[Calc 1]],IF(O1696>1,\"Not counted as an Employee\",\"#NA\"))","v":"#NA"},{"$f":"MAX(Table1[[#This Row],[PO Employee]],Table1[[#This Row],[Other HZ Employee]],Table1[[#This Row],[Non HZ Employee]],Table1[[#This Row],[Job Site Employee]],Table1[[#This Row],[Other Employee]])","v":0},{"$f":"IF(Table1[[#This Row],[Total Hours per Month]]=Table1[[#This Row],[Column12]],\"Match\",\"Error\")","v":"Match"},{"$f":"IF(Table1[[#This Row],[Calc 2]]=\"#NA\",\"#NA\",IF(Table1[[#This Row],[Non HZ Employee]]=Table1[[#This Row],[Max calc]],\"Non HZ Employee\", Table1[[#This Row],[Calc 2]]))","v":"#NA"}]
[1680,null,1680,{"$nulls":5},{"$f":"SUM(Table1[[#This Row],[Column4]]+Table1[[#This Row],[Column3]]+Table1[[#This Row],[Column2]]+Table1[[#This Row],[Column1]])","v":0},{"$nulls":5},{"$f":"SUM(Table1[[#This Row],[PO Employee]:[Other Employee]])","v":0},"N",{"$error":"#N/A"},{"$f":"IF(O1697>39,Table1[[#This Row],[Calc 1]],IF(O1697>1,\"Not counted as an Employee\",\"#NA\"))","v":"#NA"},{"$f":"MAX(Table1[[#This Row],[PO Employee]],Table1[[#This Row],[Other HZ Employee]],Table1[[#This Row],[Non HZ Employee]],Table1[[#This Row],[Job Site Employee]],Table1[[#This Row],[Other Employee]])","v":0},{"$f":"IF(Table1[[#This Row],[Total Hours per Month]]=Table1[[#This Row],[Column12]],\"Match\",\"Error\")","v":"Match"},{"$f":"IF(Table1[[#This Row],[Calc 2]]=\"#NA\",\"#NA\",IF(Table1[[#This Row],[Non HZ Employee]]=Table1[[#This Row],[Max calc]],\"Non HZ Employee\", Table1[[#This Row],[Calc 2]]))","v":"#NA"}]
[1681,null,1681,{"$nulls":5},{"$f":"SUM(Table1[[#This Row],[Column4]]+Table1[[#This Row],[Column3]]+Table1[[#This Row],[Column2]]+Table1[[#This Row],[Column1]])","v":0},{"$nulls":5},{"$f":"SUM(Table1[[#This Row],[PO Employee]:[Other Employee]])","v":0},"N",{"$error":"#N/A"},{"$f":"IF(O1698>39,Table1[[#This Row],[Calc 1]],IF(O1698>1,\"Not counted as an Employee\",\"#NA\"))","v":"#NA"},{"$f":"MAX(Table1[[#This Row],[PO Employee]],Table1[[#This Row],[Other HZ Employee]],Table1[[#This Row],[Non HZ Employee]],Table1[[#This Row],[Job Site Employee]],Table1[[#This Row],[Other Employee]])","v":0},{"$f":"IF(Table1[[#This Row],[Total Hours per Month]]=Table1[[#This Row],[Column12]],\"Match\",\"Error\")","v":"Match"},{"$f":"IF(Table1[[#This Row],[Calc 2]]=\"#NA\",\"#NA\",IF(Table1[[#This Row],[Non HZ Employee]]=Table1[[#This Row],[Max calc]],\"Non HZ Employee\", Table1[[#This Row],[Calc 2]]))","v":"#NA"}]
[1682,null,1682,{"$nulls":5},{"$f":"SUM(Table1[[#This Row],[Column4]]+Table1[[#This Row],[Column3]]+Table1[[#This Row],[Column2]]+Table1[[#This Row],[Column1]])","v":0},{"$nulls":5},{"$f":"SUM(Table1[[#This Row],[PO Employee]:[Other Employee]])","v":0},"N",{"$error":"#N/A"},{"$f":"IF(O1699>39,Table1[[#This Row],[Calc 1]],IF(O1699>1,\"Not counted as an Employee\",\"#NA\"))","v":"#NA"},{"$f":"MAX(Table1[[#This Row],[PO Employee]],Table1[[#This Row],[Other HZ Employee]],Table1[[#This Row],[Non HZ Employee]],Table1[[#This Row],[Job Site Employee]],Table1[[#This Row],[Other Employee]])","v":0},{"$f":"IF(Table1[[#This Row],[Total Hours per Month]]=Table1[[#This Row],[Column12]],\"Match\",\"Error\")","v":"Match"},{"$f":"IF(Table1[[#This Row],[Calc 2]]=\"#NA\",\"#NA\",IF(Table1[[#This Row],[Non HZ Employee]]=Table1[[#This Row],[Max calc]],\"Non HZ Employee\", Table1[[#This Row],[Calc 2]]))","v":"#NA"}]
[1683,null,1683,{"$nulls":5},{"$f":"SUM(Table1[[#This Row],[Column4]]+Table1[[#This Row],[Column3]]+Table1[[#This Row],[Column2]]+Table1[[#This Row],[Column1]])","v":0},{"$nulls":5},{"$f":"SUM(Table1[[#This Row],[PO Employee]:[Other Employee]])","v":0},"N",{"$error":"#N/A"},{"$f":"IF(O1700>39,Table1[[#This Row],[Calc 1]],IF(O1700>1,\"Not counted as an Employee\",\"#NA\"))","v":"#NA"},{"$f":"MAX(Table1[[#This Row],[PO Employee]],Table1[[#This Row],[Other HZ Employee]],Table1[[#This Row],[Non HZ Employee]],Table1[[#This Row],[Job Site Employee]],Table1[[#This Row],[Other Employee]])","v":0},{"$f":"IF(Table1[[#This Row],[Total Hours per Month]]=Table1[[#This Row],[Column12]],\"Match\",\"Error\")","v":"Match"},{"$f":"IF(Table1[[#This Row],[Calc 2]]=\"#NA\",\"#NA\",IF(Table1[[#This Row],[Non HZ Employee]]=Table1[[#This Row],[Max calc]],\"Non HZ Employee\", Table1[[#This Row],[Calc 2]]))","v":"#NA"}]
[1684,null,1684,{"$nulls":5},{"$f":"SUM(Table1[[#This Row],[Column4]]+Table1[[#This Row],[Column3]]+Table1[[#This Row],[Column2]]+Table1[[#This Row],[Column1]])","v":0},{"$nulls":5},{"$f":"SUM(Table1[[#This Row],[PO Employee]:[Other Employee]])","v":0},"N",{"$error":"#N/A"},{"$f":"IF(O1701>39,Table1[[#This Row],[Calc 1]],IF(O1701>1,\"Not counted as an Employee\",\"#NA\"))","v":"#NA"},{"$f":"MAX(Table1[[#This Row],[PO Employee]],Table1[[#This Row],[Other HZ Employee]],Table1[[#This Row],[Non HZ Employee]],Table1[[#This Row],[Job Site Employee]],Table1[[#This Row],[Other Employee]])","v":0},{"$f":"IF(Table1[[#This Row],[Total Hours per Month]]=Table1[[#This Row],[Column12]],\"Match\",\"Error\")","v":"Match"},{"$f":"IF(Table1[[#This Row],[Calc 2]]=\"#NA\",\"#NA\",IF(Table1[[#This Row],[Non HZ Employee]]=Table1[[#This Row],[Max calc]],\"Non HZ Employee\", Table1[[#This Row],[Calc 2]]))","v":"#NA"}]
[1685,null,1685,{"$nulls":5},{"$f":"SUM(Table1[[#This Row],[Column4]]+Table1[[#This Row],[Column3]]+Table1[[#This Row],[Column2]]+Table1[[#This Row],[Column1]])","v":0},{"$nulls":5},{"$f":"SUM(Table1[[#This Row],[PO Employee]:[Other Employee]])","v":0},"N",{"$error":"#N/A"},{"$f":"IF(O1702>39,Table1[[#This Row],[Calc 1]],IF(O1702>1,\"Not counted as an Employee\",\"#NA\"))","v":"#NA"},{"$f":"MAX(Table1[[#This Row],[PO Employee]],Table1[[#This Row],[Other HZ Employee]],Table1[[#This Row],[Non HZ Employee]],Table1[[#This Row],[Job Site Employee]],Table1[[#This Row],[Other Employee]])","v":0},{"$f":"IF(Table1[[#This Row],[Total Hours per Month]]=Table1[[#This Row],[Column12]],\"Match\",\"Error\")","v":"Match"},{"$f":"IF(Table1[[#This Row],[Calc 2]]=\"#NA\",\"#NA\",IF(Table1[[#This Row],[Non HZ Employee]]=Table1[[#This Row],[Max calc]],\"Non HZ Employee\", Table1[[#This Row],[Calc 2]]))","v":"#NA"}]
[1686,null,1686,{"$nulls":5},{"$f":"SUM(Table1[[#This Row],[Column4]]+Table1[[#This Row],[Column3]]+Table1[[#This Row],[Column2]]+Table1[[#This Row],[Column1]])","v":0},{"$nulls":5},{"$f":"SUM(Table1[[#This Row],[PO Employee]:[Other Employee]])","v":0},"N",{"$error":"#N/A"},{"$f":"IF(O1703>39,Table1[[#This Row],[Calc 1]],IF(O1703>1,\"Not counted as an Employee\",\"#NA\"))","v":"#NA"},{"$f":"MAX(Table1[[#This Row],[PO Employee]],Table1[[#This Row],[Other HZ Employee]],Table1[[#This Row],[Non HZ Employee]],Table1[[#This Row],[Job Site Employee]],Table1[[#This Row],[Other Employee]])","v":0},{"$f":"IF(Table1[[#This Row],[Total Hours per Month]]=Table1[[#This Row],[Column12]],\"Match\",\"Error\")","v":"Match"},{"$f":"IF(Table1[[#This Row],[Calc 2]]=\"#NA\",\"#NA\",IF(Table1[[#This Row],[Non HZ Employee]]=Table1[[#This Row],[Max calc]],\"Non HZ Employee\", Table1[[#This Row],[Calc 2]]))","v":"#NA"}]
[1687,null,1687,{"$nulls":5},{"$f":"SUM(Table1[[#This Row],[Column4]]+Table1[[#This Row],[Column3]]+Table1[[#This Row],[Column2]]+Table1[[#This Row],[Column1]])","v":0},{"$nulls":5},{"$f":"SUM(Table1[[#This Row],[PO Employee]:[Other Employee]])","v":0},"N",{"$error":"#N/A"},{"$f":"IF(O1704>39,Table1[[#This Row],[Calc 1]],IF(O1704>1,\"Not counted as an Employee\",\"#NA\"))","v":"#NA"},{"$f":"MAX(Table1[[#This Row],[PO Employee]],Table1[[#This Row],[Other HZ Employee]],Table1[[#This Row],[Non HZ Employee]],Table1[[#This Row],[Job Site Employee]],Table1[[#This Row],[Other Employee]])","v":0},{"$f":"IF(Table1[[#This Row],[Total Hours per Month]]=Table1[[#This Row],[Column12]],\"Match\",\"Error\")","v":"Match"},{"$f":"IF(Table1[[#This Row],[Calc 2]]=\"#NA\",\"#NA\",IF(Table1[[#This Row],[Non HZ Employee]]=Table1[[#This Row],[Max calc]],\"Non HZ Employee\", Table1[[#This Row],[Calc 2]]))","v":"#NA"}]
[1688,null,1688,{"$nulls":5},{"$f":"SUM(Table1[[#This Row],[Column4]]+Table1[[#This Row],[Column3]]+Table1[[#This Row],[Column2]]+Table1[[#This Row],[Column1]])","v":0},{"$nulls":5},{"$f":"SUM(Table1[[#This Row],[PO Employee]:[Other Employee]])","v":0},"N",{"$error":"#N/A"},{"$f":"IF(O1705>39,Table1[[#This Row],[Calc 1]],IF(O1705>1,\"Not counted as an Employee\",\"#NA\"))","v":"#NA"},{"$f":"MAX(Table1[[#This Row],[PO Employee]],Table1[[#This Row],[Other HZ Employee]],Table1[[#This Row],[Non HZ Employee]],Table1[[#This Row],[Job Site Employee]],Table1[[#This Row],[Other Employee]])","v":0},{"$f":"IF(Table1[[#This Row],[Total Hours per Month]]=Table1[[#This Row],[Column12]],\"Match\",\"Error\")","v":"Match"},{"$f":"IF(Table1[[#This Row],[Calc 2]]=\"#NA\",\"#NA\",IF(Table1[[#This Row],[Non HZ Employee]]=Table1[[#This Row],[Max calc]],\"Non HZ Employee\", Table1[[#This Row],[Calc 2]]))","v":"#NA"}]
[1689,null,1689,{"$nulls":5},{"$f":"SUM(Table1[[#This Row],[Column4]]+Table1[[#This Row],[Column3]]+Table1[[#This Row],[Column2]]+Table1[[#This Row],[Column1]])","v":0},{"$nulls":5},{"$f":"SUM(Table1[[#This Row],[PO Employee]:[Other Employee]])","v":0},"N",{"$error":"#N/A"},{"$f":"IF(O1706>39,Table1[[#This Row],[Calc 1]],IF(O1706>1,\"Not counted as an Employee\",\"#NA\"))","v":"#NA"},{"$f":"MAX(Table1[[#This Row],[PO Employee]],Table1[[#This Row],[Other HZ Employee]],Table1[[#This Row],[Non HZ Employee]],Table1[[#This Row],[Job Site Employee]],Table1[[#This Row],[Other Employee]])","v":0},{"$f":"IF(Table1[[#This Row],[Total Hours per Month]]=Table1[[#This Row],[Column12]],\"Match\",\"Error\")","v":"Match"},{"$f":"IF(Table1[[#This Row],[Calc 2]]=\"#NA\",\"#NA\",IF(Table1[[#This Row],[Non HZ Employee]]=Table1[[#This Row],[Max calc]],\"Non HZ Employee\", Table1[[#This Row],[Calc 2]]))","v":"#NA"}]
[1690,null,1690,{"$nulls":5},{"$f":"SUM(Table1[[#This Row],[Column4]]+Table1[[#This Row],[Column3]]+Table1[[#This Row],[Column2]]+Table1[[#This Row],[Column1]])","v":0},{"$nulls":5},{"$f":"SUM(Table1[[#This Row],[PO Employee]:[Other Employee]])","v":0},"N",{"$error":"#N/A"},{"$f":"IF(O1707>39,Table1[[#This Row],[Calc 1]],IF(O1707>1,\"Not counted as an Employee\",\"#NA\"))","v":"#NA"},{"$f":"MAX(Table1[[#This Row],[PO Employee]],Table1[[#This Row],[Other HZ Employee]],Table1[[#This Row],[Non HZ Employee]],Table1[[#This Row],[Job Site Employee]],Table1[[#This Row],[Other Employee]])","v":0},{"$f":"IF(Table1[[#This Row],[Total Hours per Month]]=Table1[[#This Row],[Column12]],\"Match\",\"Error\")","v":"Match"},{"$f":"IF(Table1[[#This Row],[Calc 2]]=\"#NA\",\"#NA\",IF(Table1[[#This Row],[Non HZ Employee]]=Table1[[#This Row],[Max calc]],\"Non HZ Employee\", Table1[[#This Row],[Calc 2]]))","v":"#NA"}]
[1691,null,1691,{"$nulls":5},{"$f":"SUM(Table1[[#This Row],[Column4]]+Table1[[#This Row],[Column3]]+Table1[[#This Row],[Column2]]+Table1[[#This Row],[Column1]])","v":0},{"$nulls":5},{"$f":"SUM(Table1[[#This Row],[PO Employee]:[Other Employee]])","v":0},"N",{"$error":"#N/A"},{"$f":"IF(O1708>39,Table1[[#This Row],[Calc 1]],IF(O1708>1,\"Not counted as an Employee\",\"#NA\"))","v":"#NA"},{"$f":"MAX(Table1[[#This Row],[PO Employee]],Table1[[#This Row],[Other HZ Employee]],Table1[[#This Row],[Non HZ Employee]],Table1[[#This Row],[Job Site Employee]],Table1[[#This Row],[Other Employee]])","v":0},{"$f":"IF(Table1[[#This Row],[Total Hours per Month]]=Table1[[#This Row],[Column12]],\"Match\",\"Error\")","v":"Match"},{"$f":"IF(Table1[[#This Row],[Calc 2]]=\"#NA\",\"#NA\",IF(Table1[[#This Row],[Non HZ Employee]]=Table1[[#This Row],[Max calc]],\"Non HZ Employee\", Table1[[#This Row],[Calc 2]]))","v":"#NA"}]
[1692,null,1692,{"$nulls":5},{"$f":"SUM(Table1[[#This Row],[Column4]]+Table1[[#This Row],[Column3]]+Table1[[#This Row],[Column2]]+Table1[[#This Row],[Column1]])","v":0},{"$nulls":5},{"$f":"SUM(Table1[[#This Row],[PO Employee]:[Other Employee]])","v":0},"N",{"$error":"#N/A"},{"$f":"IF(O1709>39,Table1[[#This Row],[Calc 1]],IF(O1709>1,\"Not counted as an Employee\",\"#NA\"))","v":"#NA"},{"$f":"MAX(Table1[[#This Row],[PO Employee]],Table1[[#This Row],[Other HZ Employee]],Table1[[#This Row],[Non HZ Employee]],Table1[[#This Row],[Job Site Employee]],Table1[[#This Row],[Other Employee]])","v":0},{"$f":"IF(Table1[[#This Row],[Total Hours per Month]]=Table1[[#This Row],[Column12]],\"Match\",\"Error\")","v":"Match"},{"$f":"IF(Table1[[#This Row],[Calc 2]]=\"#NA\",\"#NA\",IF(Table1[[#This Row],[Non HZ Employee]]=Table1[[#This Row],[Max calc]],\"Non HZ Employee\", Table1[[#This Row],[Calc 2]]))","v":"#NA"}]
[1693,null,1693,{"$nulls":5},{"$f":"SUM(Table1[[#This Row],[Column4]]+Table1[[#This Row],[Column3]]+Table1[[#This Row],[Column2]]+Table1[[#This Row],[Column1]])","v":0},{"$nulls":5},{"$f":"SUM(Table1[[#This Row],[PO Employee]:[Other Employee]])","v":0},"N",{"$error":"#N/A"},{"$f":"IF(O1710>39,Table1[[#This Row],[Calc 1]],IF(O1710>1,\"Not counted as an Employee\",\"#NA\"))","v":"#NA"},{"$f":"MAX(Table1[[#This Row],[PO Employee]],Table1[[#This Row],[Other HZ Employee]],Table1[[#This Row],[Non HZ Employee]],Table1[[#This Row],[Job Site Employee]],Table1[[#This Row],[Other Employee]])","v":0},{"$f":"IF(Table1[[#This Row],[Total Hours per Month]]=Table1[[#This Row],[Column12]],\"Match\",\"Error\")","v":"Match"},{"$f":"IF(Table1[[#This Row],[Calc 2]]=\"#NA\",\"#NA\",IF(Table1[[#This Row],[Non HZ Employee]]=Table1[[#This Row],[Max calc]],\"Non HZ Employee\", Table1[[#This Row],[Calc 2]]))","v":"#NA"}]
[1694,null,1694,{"$nulls":5},{"$f":"SUM(Table1[[#This Row],[Column4]]+Table1[[#This Row],[Column3]]+Table1[[#This Row],[Column2]]+Table1[[#This Row],[Column1]])","v":0},{"$nulls":5},{"$f":"SUM(Table1[[#This Row],[PO Employee]:[Other Employee]])","v":0},"N",{"$error":"#N/A"},{"$f":"IF(O1711>39,Table1[[#This Row],[Calc 1]],IF(O1711>1,\"Not counted as an Employee\",\"#NA\"))","v":"#NA"},{"$f":"MAX(Table1[[#This Row],[PO Employee]],Table1[[#This Row],[Other HZ Employee]],Table1[[#This Row],[Non HZ Employee]],Table1[[#This Row],[Job Site Employee]],Table1[[#This Row],[Other Employee]])","v":0},{"$f":"IF(Table1[[#This Row],[Total Hours per Month]]=Table1[[#This Row],[Column12]],\"Match\",\"Error\")","v":"Match"},{"$f":"IF(Table1[[#This Row],[Calc 2]]=\"#NA\",\"#NA\",IF(Table1[[#This Row],[Non HZ Employee]]=Table1[[#This Row],[Max calc]],\"Non HZ Employee\", Table1[[#This Row],[Calc 2]]))","v":"#NA"}]
[1695,null,1695,{"$nulls":5},{"$f":"SUM(Table1[[#This Row],[Column4]]+Table1[[#This Row],[Column3]]+Table1[[#This Row],[Column2]]+Table1[[#This Row],[Column1]])","v":0},{"$nulls":5},{"$f":"SUM(Table1[[#This Row],[PO Employee]:[Other Employee]])","v":0},"N",{"$error":"#N/A"},{"$f":"IF(O1712>39,Table1[[#This Row],[Calc 1]],IF(O1712>1,\"Not counted as an Employee\",\"#NA\"))","v":"#NA"},{"$f":"MAX(Table1[[#This Row],[PO Employee]],Table1[[#This Row],[Other HZ Employee]],Table1[[#This Row],[Non HZ Employee]],Table1[[#This Row],[Job Site Employee]],Table1[[#This Row],[Other Employee]])","v":0},{"$f":"IF(Table1[[#This Row],[Total Hours per Month]]=Table1[[#This Row],[Column12]],\"Match\",\"Error\")","v":"Match"},{"$f":"IF(Table1[[#This Row],[Calc 2]]=\"#NA\",\"#NA\",IF(Table1[[#This Row],[Non HZ Employee]]=Table1[[#This Row],[Max calc]],\"Non HZ Employee\", Table1[[#This Row],[Calc 2]]))","v":"#NA"}]
[1696,null,1696,{"$nulls":5},{"$f":"SUM(Table1[[#This Row],[Column4]]+Table1[[#This Row],[Column3]]+Table1[[#This Row],[Column2]]+Table1[[#This Row],[Column1]])","v":0},{"$nulls":5},{"$f":"SUM(Table1[[#This Row],[PO Employee]:[Other Employee]])","v":0},"N",{"$error":"#N/A"},{"$f":"IF(O1713>39,Table1[[#This Row],[Calc 1]],IF(O1713>1,\"Not counted as an Employee\",\"#NA\"))","v":"#NA"},{"$f":"MAX(Table1[[#This Row],[PO Employee]],Table1[[#This Row],[Other HZ Employee]],Table1[[#This Row],[Non HZ Employee]],Table1[[#This Row],[Job Site Employee]],Table1[[#This Row],[Other Employee]])","v":0},{"$f":"IF(Table1[[#This Row],[Total Hours per Month]]=Table1[[#This Row],[Column12]],\"Match\",\"Error\")","v":"Match"},{"$f":"IF(Table1[[#This Row],[Calc 2]]=\"#NA\",\"#NA\",IF(Table1[[#This Row],[Non HZ Employee]]=Table1[[#This Row],[Max calc]],\"Non HZ Employee\", Table1[[#This Row],[Calc 2]]))","v":"#NA"}]
[1697,null,1697,{"$nulls":5},{"$f":"SUM(Table1[[#This Row],[Column4]]+Table1[[#This Row],[Column3]]+Table1[[#This Row],[Column2]]+Table1[[#This Row],[Column1]])","v":0},{"$nulls":5},{"$f":"SUM(Table1[[#This Row],[PO Employee]:[Other Employee]])","v":0},"N",{"$error":"#N/A"},{"$f":"IF(O1714>39,Table1[[#This Row],[Calc 1]],IF(O1714>1,\"Not counted as an Employee\",\"#NA\"))","v":"#NA"},{"$f":"MAX(Table1[[#This Row],[PO Employee]],Table1[[#This Row],[Other HZ Employee]],Table1[[#This Row],[Non HZ Employee]],Table1[[#This Row],[Job Site Employee]],Table1[[#This Row],[Other Employee]])","v":0},{"$f":"IF(Table1[[#This Row],[Total Hours per Month]]=Table1[[#This Row],[Column12]],\"Match\",\"Error\")","v":"Match"},{"$f":"IF(Table1[[#This Row],[Calc 2]]=\"#NA\",\"#NA\",IF(Table1[[#This Row],[Non HZ Employee]]=Table1[[#This Row],[Max calc]],\"Non HZ Employee\", Table1[[#This Row],[Calc 2]]))","v":"#NA"}]
[1698,null,1698,{"$nulls":5},{"$f":"SUM(Table1[[#This Row],[Column4]]+Table1[[#This Row],[Column3]]+Table1[[#This Row],[Column2]]+Table1[[#This Row],[Column1]])","v":0},{"$nulls":5},{"$f":"SUM(Table1[[#This Row],[PO Employee]:[Other Employee]])","v":0},"N",{"$error":"#N/A"},{"$f":"IF(O1715>39,Table1[[#This Row],[Calc 1]],IF(O1715>1,\"Not counted as an Employee\",\"#NA\"))","v":"#NA"},{"$f":"MAX(Table1[[#This Row],[PO Employee]],Table1[[#This Row],[Other HZ Employee]],Table1[[#This Row],[Non HZ Employee]],Table1[[#This Row],[Job Site Employee]],Table1[[#This Row],[Other Employee]])","v":0},{"$f":"IF(Table1[[#This Row],[Total Hours per Month]]=Table1[[#This Row],[Column12]],\"Match\",\"Error\")","v":"Match"},{"$f":"IF(Table1[[#This Row],[Calc 2]]=\"#NA\",\"#NA\",IF(Table1[[#This Row],[Non HZ Employee]]=Table1[[#This Row],[Max calc]],\"Non HZ Employee\", Table1[[#This Row],[Calc 2]]))","v":"#NA"}]
[1699,null,1699,{"$nulls":5},{"$f":"SUM(Table1[[#This Row],[Column4]]+Table1[[#This Row],[Column3]]+Table1[[#This Row],[Column2]]+Table1[[#This Row],[Column1]])","v":0},{"$nulls":5},{"$f":"SUM(Table1[[#This Row],[PO Employee]:[Other Employee]])","v":0},"N",{"$error":"#N/A"},{"$f":"IF(O1716>39,Table1[[#This Row],[Calc 1]],IF(O1716>1,\"Not counted as an Employee\",\"#NA\"))","v":"#NA"},{"$f":"MAX(Table1[[#This Row],[PO Employee]],Table1[[#This Row],[Other HZ Employee]],Table1[[#This Row],[Non HZ Employee]],Table1[[#This Row],[Job Site Employee]],Table1[[#This Row],[Other Employee]])","v":0},{"$f":"IF(Table1[[#This Row],[Total Hours per Month]]=Table1[[#This Row],[Column12]],\"Match\",\"Error\")","v":"Match"},{"$f":"IF(Table1[[#This Row],[Calc 2]]=\"#NA\",\"#NA\",IF(Table1[[#This Row],[Non HZ Employee]]=Table1[[#This Row],[Max calc]],\"Non HZ Employee\", Table1[[#This Row],[Calc 2]]))","v":"#NA"}]
[1700,null,1700,{"$nulls":5},{"$f":"SUM(Table1[[#This Row],[Column4]]+Table1[[#This Row],[Column3]]+Table1[[#This Row],[Column2]]+Table1[[#This Row],[Column1]])","v":0},{"$nulls":5},{"$f":"SUM(Table1[[#This Row],[PO Employee]:[Other Employee]])","v":0},"N",{"$error":"#N/A"},{"$f":"IF(O1717>39,Table1[[#This Row],[Calc 1]],IF(O1717>1,\"Not counted as an Employee\",\"#NA\"))","v":"#NA"},{"$f":"MAX(Table1[[#This Row],[PO Employee]],Table1[[#This Row],[Other HZ Employee]],Table1[[#This Row],[Non HZ Employee]],Table1[[#This Row],[Job Site Employee]],Table1[[#This Row],[Other Employee]])","v":0},{"$f":"IF(Table1[[#This Row],[Total Hours per Month]]=Table1[[#This Row],[Column12]],\"Match\",\"Error\")","v":"Match"},{"$f":"IF(Table1[[#This Row],[Calc 2]]=\"#NA\",\"#NA\",IF(Table1[[#This Row],[Non HZ Employee]]=Table1[[#This Row],[Max calc]],\"Non HZ Employee\", Table1[[#This Row],[Calc 2]]))","v":"#NA"}]
[1701,null,1701,{"$nulls":5},{"$f":"SUM(Table1[[#This Row],[Column4]]+Table1[[#This Row],[Column3]]+Table1[[#This Row],[Column2]]+Table1[[#This Row],[Column1]])","v":0},{"$nulls":5},{"$f":"SUM(Table1[[#This Row],[PO Employee]:[Other Employee]])","v":0},"N",{"$error":"#N/A"},{"$f":"IF(O1718>39,Table1[[#This Row],[Calc 1]],IF(O1718>1,\"Not counted as an Employee\",\"#NA\"))","v":"#NA"},{"$f":"MAX(Table1[[#This Row],[PO Employee]],Table1[[#This Row],[Other HZ Employee]],Table1[[#This Row],[Non HZ Employee]],Table1[[#This Row],[Job Site Employee]],Table1[[#This Row],[Other Employee]])","v":0},{"$f":"IF(Table1[[#This Row],[Total Hours per Month]]=Table1[[#This Row],[Column12]],\"Match\",\"Error\")","v":"Match"},{"$f":"IF(Table1[[#This Row],[Calc 2]]=\"#NA\",\"#NA\",IF(Table1[[#This Row],[Non HZ Employee]]=Table1[[#This Row],[Max calc]],\"Non HZ Employee\", Table1[[#This Row],[Calc 2]]))","v":"#NA"}]
[1702,null,1702,{"$nulls":5},{"$f":"SUM(Table1[[#This Row],[Column4]]+Table1[[#This Row],[Column3]]+Table1[[#This Row],[Column2]]+Table1[[#This Row],[Column1]])","v":0},{"$nulls":5},{"$f":"SUM(Table1[[#This Row],[PO Employee]:[Other Employee]])","v":0},"N",{"$error":"#N/A"},{"$f":"IF(O1719>39,Table1[[#This Row],[Calc 1]],IF(O1719>1,\"Not counted as an Employee\",\"#NA\"))","v":"#NA"},{"$f":"MAX(Table1[[#This Row],[PO Employee]],Table1[[#This Row],[Other HZ Employee]],Table1[[#This Row],[Non HZ Employee]],Table1[[#This Row],[Job Site Employee]],Table1[[#This Row],[Other Employee]])","v":0},{"$f":"IF(Table1[[#This Row],[Total Hours per Month]]=Table1[[#This Row],[Column12]],\"Match\",\"Error\")","v":"Match"},{"$f":"IF(Table1[[#This Row],[Calc 2]]=\"#NA\",\"#NA\",IF(Table1[[#This Row],[Non HZ Employee]]=Table1[[#This Row],[Max calc]],\"Non HZ Employee\", Table1[[#This Row],[Calc 2]]))","v":"#NA"}]
[1703,null,1703,{"$nulls":5},{"$f":"SUM(Table1[[#This Row],[Column4]]+Table1[[#This Row],[Column3]]+Table1[[#This Row],[Column2]]+Table1[[#This Row],[Column1]])","v":0},{"$nulls":5},{"$f":"SUM(Table1[[#This Row],[PO Employee]:[Other Employee]])","v":0},"N",{"$error":"#N/A"},{"$f":"IF(O1720>39,Table1[[#This Row],[Calc 1]],IF(O1720>1,\"Not counted as an Employee\",\"#NA\"))","v":"#NA"},{"$f":"MAX(Table1[[#This Row],[PO Employee]],Table1[[#This Row],[Other HZ Employee]],Table1[[#This Row],[Non HZ Employee]],Table1[[#This Row],[Job Site Employee]],Table1[[#This Row],[Other Employee]])","v":0},{"$f":"IF(Table1[[#This Row],[Total Hours per Month]]=Table1[[#This Row],[Column12]],\"Match\",\"Error\")","v":"Match"},{"$f":"IF(Table1[[#This Row],[Calc 2]]=\"#NA\",\"#NA\",IF(Table1[[#This Row],[Non HZ Employee]]=Table1[[#This Row],[Max calc]],\"Non HZ Employee\", Table1[[#This Row],[Calc 2]]))","v":"#NA"}]
[1704,null,1704,{"$nulls":5},{"$f":"SUM(Table1[[#This Row],[Column4]]+Table1[[#This Row],[Column3]]+Table1[[#This Row],[Column2]]+Table1[[#This Row],[Column1]])","v":0},{"$nulls":5},{"$f":"SUM(Table1[[#This Row],[PO Employee]:[Other Employee]])","v":0},"N",{"$error":"#N/A"},{"$f":"IF(O1721>39,Table1[[#This Row],[Calc 1]],IF(O1721>1,\"Not counted as an Employee\",\"#NA\"))","v":"#NA"},{"$f":"MAX(Table1[[#This Row],[PO Employee]],Table1[[#This Row],[Other HZ Employee]],Table1[[#This Row],[Non HZ Employee]],Table1[[#This Row],[Job Site Employee]],Table1[[#This Row],[Other Employee]])","v":0},{"$f":"IF(Table1[[#This Row],[Total Hours per Month]]=Table1[[#This Row],[Column12]],\"Match\",\"Error\")","v":"Match"},{"$f":"IF(Table1[[#This Row],[Calc 2]]=\"#NA\",\"#NA\",IF(Table1[[#This Row],[Non HZ Employee]]=Table1[[#This Row],[Max calc]],\"Non HZ Employee\", Table1[[#This Row],[Calc 2]]))","v":"#NA"}]
[1705,null,1705,{"$nulls":5},{"$f":"SUM(Table1[[#This Row],[Column4]]+Table1[[#This Row],[Column3]]+Table1[[#This Row],[Column2]]+Table1[[#This Row],[Column1]])","v":0},{"$nulls":5},{"$f":"SUM(Table1[[#This Row],[PO Employee]:[Other Employee]])","v":0},"N",{"$error":"#N/A"},{"$f":"IF(O1722>39,Table1[[#This Row],[Calc 1]],IF(O1722>1,\"Not counted as an Employee\",\"#NA\"))","v":"#NA"},{"$f":"MAX(Table1[[#This Row],[PO Employee]],Table1[[#This Row],[Other HZ Employee]],Table1[[#This Row],[Non HZ Employee]],Table1[[#This Row],[Job Site Employee]],Table1[[#This Row],[Other Employee]])","v":0},{"$f":"IF(Table1[[#This Row],[Total Hours per Month]]=Table1[[#This Row],[Column12]],\"Match\",\"Error\")","v":"Match"},{"$f":"IF(Table1[[#This Row],[Calc 2]]=\"#NA\",\"#NA\",IF(Table1[[#This Row],[Non HZ Employee]]=Table1[[#This Row],[Max calc]],\"Non HZ Employee\", Table1[[#This Row],[Calc 2]]))","v":"#NA"}]
[1706,null,1706,{"$nulls":5},{"$f":"SUM(Table1[[#This Row],[Column4]]+Table1[[#This Row],[Column3]]+Table1[[#This Row],[Column2]]+Table1[[#This Row],[Column1]])","v":0},{"$nulls":5},{"$f":"SUM(Table1[[#This Row],[PO Employee]:[Other Employee]])","v":0},"N",{"$error":"#N/A"},{"$f":"IF(O1723>39,Table1[[#This Row],[Calc 1]],IF(O1723>1,\"Not counted as an Employee\",\"#NA\"))","v":"#NA"},{"$f":"MAX(Table1[[#This Row],[PO Employee]],Table1[[#This Row],[Other HZ Employee]],Table1[[#This Row],[Non HZ Employee]],Table1[[#This Row],[Job Site Employee]],Table1[[#This Row],[Other Employee]])","v":0},{"$f":"IF(Table1[[#This Row],[Total Hours per Month]]=Table1[[#This Row],[Column12]],\"Match\",\"Error\")","v":"Match"},{"$f":"IF(Table1[[#This Row],[Calc 2]]=\"#NA\",\"#NA\",IF(Table1[[#This Row],[Non HZ Employee]]=Table1[[#This Row],[Max calc]],\"Non HZ Employee\", Table1[[#This Row],[Calc 2]]))","v":"#NA"}]
[1707,null,1707,{"$nulls":5},{"$f":"SUM(Table1[[#This Row],[Column4]]+Table1[[#This Row],[Column3]]+Table1[[#This Row],[Column2]]+Table1[[#This Row],[Column1]])","v":0},{"$nulls":5},{"$f":"SUM(Table1[[#This Row],[PO Employee]:[Other Employee]])","v":0},"N",{"$error":"#N/A"},{"$f":"IF(O1724>39,Table1[[#This Row],[Calc 1]],IF(O1724>1,\"Not counted as an Employee\",\"#NA\"))","v":"#NA"},{"$f":"MAX(Table1[[#This Row],[PO Employee]],Table1[[#This Row],[Other HZ Employee]],Table1[[#This Row],[Non HZ Employee]],Table1[[#This Row],[Job Site Employee]],Table1[[#This Row],[Other Employee]])","v":0},{"$f":"IF(Table1[[#This Row],[Total Hours per Month]]=Table1[[#This Row],[Column12]],\"Match\",\"Error\")","v":"Match"},{"$f":"IF(Table1[[#This Row],[Calc 2]]=\"#NA\",\"#NA\",IF(Table1[[#This Row],[Non HZ Employee]]=Table1[[#This Row],[Max calc]],\"Non HZ Employee\", Table1[[#This Row],[Calc 2]]))","v":"#NA"}]
[1708,null,1708,{"$nulls":5},{"$f":"SUM(Table1[[#This Row],[Column4]]+Table1[[#This Row],[Column3]]+Table1[[#This Row],[Column2]]+Table1[[#This Row],[Column1]])","v":0},{"$nulls":5},{"$f":"SUM(Table1[[#This Row],[PO Employee]:[Other Employee]])","v":0},"N",{"$error":"#N/A"},{"$f":"IF(O1725>39,Table1[[#This Row],[Calc 1]],IF(O1725>1,\"Not counted as an Employee\",\"#NA\"))","v":"#NA"},{"$f":"MAX(Table1[[#This Row],[PO Employee]],Table1[[#This Row],[Other HZ Employee]],Table1[[#This Row],[Non HZ Employee]],Table1[[#This Row],[Job Site Employee]],Table1[[#This Row],[Other Employee]])","v":0},{"$f":"IF(Table1[[#This Row],[Total Hours per Month]]=Table1[[#This Row],[Column12]],\"Match\",\"Error\")","v":"Match"},{"$f":"IF(Table1[[#This Row],[Calc 2]]=\"#NA\",\"#NA\",IF(Table1[[#This Row],[Non HZ Employee]]=Table1[[#This Row],[Max calc]],\"Non HZ Employee\", Table1[[#This Row],[Calc 2]]))","v":"#NA"}]
[1709,null,1709,{"$nulls":5},{"$f":"SUM(Table1[[#This Row],[Column4]]+Table1[[#This Row],[Column3]]+Table1[[#This Row],[Column2]]+Table1[[#This Row],[Column1]])","v":0},{"$nulls":5},{"$f":"SUM(Table1[[#This Row],[PO Employee]:[Other Employee]])","v":0},"N",{"$error":"#N/A"},{"$f":"IF(O1726>39,Table1[[#This Row],[Calc 1]],IF(O1726>1,\"Not counted as an Employee\",\"#NA\"))","v":"#NA"},{"$f":"MAX(Table1[[#This Row],[PO Employee]],Table1[[#This Row],[Other HZ Employee]],Table1[[#This Row],[Non HZ Employee]],Table1[[#This Row],[Job Site Employee]],Table1[[#This Row],[Other Employee]])","v":0},{"$f":"IF(Table1[[#This Row],[Total Hours per Month]]=Table1[[#This Row],[Column12]],\"Match\",\"Error\")","v":"Match"},{"$f":"IF(Table1[[#This Row],[Calc 2]]=\"#NA\",\"#NA\",IF(Table1[[#This Row],[Non HZ Employee]]=Table1[[#This Row],[Max calc]],\"Non HZ Employee\", Table1[[#This Row],[Calc 2]]))","v":"#NA"}]
[1710,null,1710,{"$nulls":5},{"$f":"SUM(Table1[[#This Row],[Column4]]+Table1[[#This Row],[Column3]]+Table1[[#This Row],[Column2]]+Table1[[#This Row],[Column1]])","v":0},{"$nulls":5},{"$f":"SUM(Table1[[#This Row],[PO Employee]:[Other Employee]])","v":0},"N",{"$error":"#N/A"},{"$f":"IF(O1727>39,Table1[[#This Row],[Calc 1]],IF(O1727>1,\"Not counted as an Employee\",\"#NA\"))","v":"#NA"},{"$f":"MAX(Table1[[#This Row],[PO Employee]],Table1[[#This Row],[Other HZ Employee]],Table1[[#This Row],[Non HZ Employee]],Table1[[#This Row],[Job Site Employee]],Table1[[#This Row],[Other Employee]])","v":0},{"$f":"IF(Table1[[#This Row],[Total Hours per Month]]=Table1[[#This Row],[Column12]],\"Match\",\"Error\")","v":"Match"},{"$f":"IF(Table1[[#This Row],[Calc 2]]=\"#NA\",\"#NA\",IF(Table1[[#This Row],[Non HZ Employee]]=Table1[[#This Row],[Max calc]],\"Non HZ Employee\", Table1[[#This Row],[Calc 2]]))","v":"#NA"}]
[1711,null,1711,{"$nulls":5},{"$f":"SUM(Table1[[#This Row],[Column4]]+Table1[[#This Row],[Column3]]+Table1[[#This Row],[Column2]]+Table1[[#This Row],[Column1]])","v":0},{"$nulls":5},{"$f":"SUM(Table1[[#This Row],[PO Employee]:[Other Employee]])","v":0},"N",{"$error":"#N/A"},{"$f":"IF(O1728>39,Table1[[#This Row],[Calc 1]],IF(O1728>1,\"Not counted as an Employee\",\"#NA\"))","v":"#NA"},{"$f":"MAX(Table1[[#This Row],[PO Employee]],Table1[[#This Row],[Other HZ Employee]],Table1[[#This Row],[Non HZ Employee]],Table1[[#This Row],[Job Site Employee]],Table1[[#This Row],[Other Employee]])","v":0},{"$f":"IF(Table1[[#This Row],[Total Hours per Month]]=Table1[[#This Row],[Column12]],\"Match\",\"Error\")","v":"Match"},{"$f":"IF(Table1[[#This Row],[Calc 2]]=\"#NA\",\"#NA\",IF(Table1[[#This Row],[Non HZ Employee]]=Table1[[#This Row],[Max calc]],\"Non HZ Employee\", Table1[[#This Row],[Calc 2]]))","v":"#NA"}]
[1712,null,1712,{"$nulls":5},{"$f":"SUM(Table1[[#This Row],[Column4]]+Table1[[#This Row],[Column3]]+Table1[[#This Row],[Column2]]+Table1[[#This Row],[Column1]])","v":0},{"$nulls":5},{"$f":"SUM(Table1[[#This Row],[PO Employee]:[Other Employee]])","v":0},"N",{"$error":"#N/A"},{"$f":"IF(O1729>39,Table1[[#This Row],[Calc 1]],IF(O1729>1,\"Not counted as an Employee\",\"#NA\"))","v":"#NA"},{"$f":"MAX(Table1[[#This Row],[PO Employee]],Table1[[#This Row],[Other HZ Employee]],Table1[[#This Row],[Non HZ Employee]],Table1[[#This Row],[Job Site Employee]],Table1[[#This Row],[Other Employee]])","v":0},{"$f":"IF(Table1[[#This Row],[Total Hours per Month]]=Table1[[#This Row],[Column12]],\"Match\",\"Error\")","v":"Match"},{"$f":"IF(Table1[[#This Row],[Calc 2]]=\"#NA\",\"#NA\",IF(Table1[[#This Row],[Non HZ Employee]]=Table1[[#This Row],[Max calc]],\"Non HZ Employee\", Table1[[#This Row],[Calc 2]]))","v":"#NA"}]
[1713,null,1713,{"$nulls":5},{"$f":"SUM(Table1[[#This Row],[Column4]]+Table1[[#This Row],[Column3]]+Table1[[#This Row],[Column2]]+Table1[[#This Row],[Column1]])","v":0},{"$nulls":5},{"$f":"SUM(Table1[[#This Row],[PO Employee]:[Other Employee]])","v":0},"N",{"$error":"#N/A"},{"$f":"IF(O1730>39,Table1[[#This Row],[Calc 1]],IF(O1730>1,\"Not counted as an Employee\",\"#NA\"))","v":"#NA"},{"$f":"MAX(Table1[[#This Row],[PO Employee]],Table1[[#This Row],[Other HZ Employee]],Table1[[#This Row],[Non HZ Employee]],Table1[[#This Row],[Job Site Employee]],Table1[[#This Row],[Other Employee]])","v":0},{"$f":"IF(Table1[[#This Row],[Total Hours per Month]]=Table1[[#This Row],[Column12]],\"Match\",\"Error\")","v":"Match"},{"$f":"IF(Table1[[#This Row],[Calc 2]]=\"#NA\",\"#NA\",IF(Table1[[#This Row],[Non HZ Employee]]=Table1[[#This Row],[Max calc]],\"Non HZ Employee\", Table1[[#This Row],[Calc 2]]))","v":"#NA"}]
[1714,null,1714,{"$nulls":5},{"$f":"SUM(Table1[[#This Row],[Column4]]+Table1[[#This Row],[Column3]]+Table1[[#This Row],[Column2]]+Table1[[#This Row],[Column1]])","v":0},{"$nulls":5},{"$f":"SUM(Table1[[#This Row],[PO Employee]:[Other Employee]])","v":0},"N",{"$error":"#N/A"},{"$f":"IF(O1731>39,Table1[[#This Row],[Calc 1]],IF(O1731>1,\"Not counted as an Employee\",\"#NA\"))","v":"#NA"},{"$f":"MAX(Table1[[#This Row],[PO Employee]],Table1[[#This Row],[Other HZ Employee]],Table1[[#This Row],[Non HZ Employee]],Table1[[#This Row],[Job Site Employee]],Table1[[#This Row],[Other Employee]])","v":0},{"$f":"IF(Table1[[#This Row],[Total Hours per Month]]=Table1[[#This Row],[Column12]],\"Match\",\"Error\")","v":"Match"},{"$f":"IF(Table1[[#This Row],[Calc 2]]=\"#NA\",\"#NA\",IF(Table1[[#This Row],[Non HZ Employee]]=Table1[[#This Row],[Max calc]],\"Non HZ Employee\", Table1[[#This Row],[Calc 2]]))","v":"#NA"}]
[1715,null,1715,{"$nulls":5},{"$f":"SUM(Table1[[#This Row],[Column4]]+Table1[[#This Row],[Column3]]+Table1[[#This Row],[Column2]]+Table1[[#This Row],[Column1]])","v":0},{"$nulls":5},{"$f":"SUM(Table1[[#This Row],[PO Employee]:[Other Employee]])","v":0},"N",{"$error":"#N/A"},{"$f":"IF(O1732>39,Table1[[#This Row],[Calc 1]],IF(O1732>1,\"Not counted as an Employee\",\"#NA\"))","v":"#NA"},{"$f":"MAX(Table1[[#This Row],[PO Employee]],Table1[[#This Row],[Other HZ Employee]],Table1[[#This Row],[Non HZ Employee]],Table1[[#This Row],[Job Site Employee]],Table1[[#This Row],[Other Employee]])","v":0},{"$f":"IF(Table1[[#This Row],[Total Hours per Month]]=Table1[[#This Row],[Column12]],\"Match\",\"Error\")","v":"Match"},{"$f":"IF(Table1[[#This Row],[Calc 2]]=\"#NA\",\"#NA\",IF(Table1[[#This Row],[Non HZ Employee]]=Table1[[#This Row],[Max calc]],\"Non HZ Employee\", Table1[[#This Row],[Calc 2]]))","v":"#NA"}]
[1716,null,1716,{"$nulls":5},{"$f":"SUM(Table1[[#This Row],[Column4]]+Table1[[#This Row],[Column3]]+Table1[[#This Row],[Column2]]+Table1[[#This Row],[Column1]])","v":0},{"$nulls":5},{"$f":"SUM(Table1[[#This Row],[PO Employee]:[Other Employee]])","v":0},"N",{"$error":"#N/A"},{"$f":"IF(O1733>39,Table1[[#This Row],[Calc 1]],IF(O1733>1,\"Not counted as an Employee\",\"#NA\"))","v":"#NA"},{"$f":"MAX(Table1[[#This Row],[PO Employee]],Table1[[#This Row],[Other HZ Employee]],Table1[[#This Row],[Non HZ Employee]],Table1[[#This Row],[Job Site Employee]],Table1[[#This Row],[Other Employee]])","v":0},{"$f":"IF(Table1[[#This Row],[Total Hours per Month]]=Table1[[#This Row],[Column12]],\"Match\",\"Error\")","v":"Match"},{"$f":"IF(Table1[[#This Row],[Calc 2]]=\"#NA\",\"#NA\",IF(Table1[[#This Row],[Non HZ Employee]]=Table1[[#This Row],[Max calc]],\"Non HZ Employee\", Table1[[#This Row],[Calc 2]]))","v":"#NA"}]
[1717,null,1717,{"$nulls":5},{"$f":"SUM(Table1[[#This Row],[Column4]]+Table1[[#This Row],[Column3]]+Table1[[#This Row],[Column2]]+Table1[[#This Row],[Column1]])","v":0},{"$nulls":5},{"$f":"SUM(Table1[[#This Row],[PO Employee]:[Other Employee]])","v":0},"N",{"$error":"#N/A"},{"$f":"IF(O1734>39,Table1[[#This Row],[Calc 1]],IF(O1734>1,\"Not counted as an Employee\",\"#NA\"))","v":"#NA"},{"$f":"MAX(Table1[[#This Row],[PO Employee]],Table1[[#This Row],[Other HZ Employee]],Table1[[#This Row],[Non HZ Employee]],Table1[[#This Row],[Job Site Employee]],Table1[[#This Row],[Other Employee]])","v":0},{"$f":"IF(Table1[[#This Row],[Total Hours per Month]]=Table1[[#This Row],[Column12]],\"Match\",\"Error\")","v":"Match"},{"$f":"IF(Table1[[#This Row],[Calc 2]]=\"#NA\",\"#NA\",IF(Table1[[#This Row],[Non HZ Employee]]=Table1[[#This Row],[Max calc]],\"Non HZ Employee\", Table1[[#This Row],[Calc 2]]))","v":"#NA"}]
[1718,null,1718,{"$nulls":5},{"$f":"SUM(Table1[[#This Row],[Column4]]+Table1[[#This Row],[Column3]]+Table1[[#This Row],[Column2]]+Table1[[#This Row],[Column1]])","v":0},{"$nulls":5},{"$f":"SUM(Table1[[#This Row],[PO Employee]:[Other Employee]])","v":0},"N",{"$error":"#N/A"},{"$f":"IF(O1735>39,Table1[[#This Row],[Calc 1]],IF(O1735>1,\"Not counted as an Employee\",\"#NA\"))","v":"#NA"},{"$f":"MAX(Table1[[#This Row],[PO Employee]],Table1[[#This Row],[Other HZ Employee]],Table1[[#This Row],[Non HZ Employee]],Table1[[#This Row],[Job Site Employee]],Table1[[#This Row],[Other Employee]])","v":0},{"$f":"IF(Table1[[#This Row],[Total Hours per Month]]=Table1[[#This Row],[Column12]],\"Match\",\"Error\")","v":"Match"},{"$f":"IF(Table1[[#This Row],[Calc 2]]=\"#NA\",\"#NA\",IF(Table1[[#This Row],[Non HZ Employee]]=Table1[[#This Row],[Max calc]],\"Non HZ Employee\", Table1[[#This Row],[Calc 2]]))","v":"#NA"}]
[1719,null,1719,{"$nulls":5},{"$f":"SUM(Table1[[#This Row],[Column4]]+Table1[[#This Row],[Column3]]+Table1[[#This Row],[Column2]]+Table1[[#This Row],[Column1]])","v":0},{"$nulls":5},{"$f":"SUM(Table1[[#This Row],[PO Employee]:[Other Employee]])","v":0},"N",{"$error":"#N/A"},{"$f":"IF(O1736>39,Table1[[#This Row],[Calc 1]],IF(O1736>1,\"Not counted as an Employee\",\"#NA\"))","v":"#NA"},{"$f":"MAX(Table1[[#This Row],[PO Employee]],Table1[[#This Row],[Other HZ Employee]],Table1[[#This Row],[Non HZ Employee]],Table1[[#This Row],[Job Site Employee]],Table1[[#This Row],[Other Employee]])","v":0},{"$f":"IF(Table1[[#This Row],[Total Hours per Month]]=Table1[[#This Row],[Column12]],\"Match\",\"Error\")","v":"Match"},{"$f":"IF(Table1[[#This Row],[Calc 2]]=\"#NA\",\"#NA\",IF(Table1[[#This Row],[Non HZ Employee]]=Table1[[#This Row],[Max calc]],\"Non HZ Employee\", Table1[[#This Row],[Calc 2]]))","v":"#NA"}]
[1720,null,1720,{"$nulls":5},{"$f":"SUM(Table1[[#This Row],[Column4]]+Table1[[#This Row],[Column3]]+Table1[[#This Row],[Column2]]+Table1[[#This Row],[Column1]])","v":0},{"$nulls":5},{"$f":"SUM(Table1[[#This Row],[PO Employee]:[Other Employee]])","v":0},"N",{"$error":"#N/A"},{"$f":"IF(O1737>39,Table1[[#This Row],[Calc 1]],IF(O1737>1,\"Not counted as an Employee\",\"#NA\"))","v":"#NA"},{"$f":"MAX(Table1[[#This Row],[PO Employee]],Table1[[#This Row],[Other HZ Employee]],Table1[[#This Row],[Non HZ Employee]],Table1[[#This Row],[Job Site Employee]],Table1[[#This Row],[Other Employee]])","v":0},{"$f":"IF(Table1[[#This Row],[Total Hours per Month]]=Table1[[#This Row],[Column12]],\"Match\",\"Error\")","v":"Match"},{"$f":"IF(Table1[[#This Row],[Calc 2]]=\"#NA\",\"#NA\",IF(Table1[[#This Row],[Non HZ Employee]]=Table1[[#This Row],[Max calc]],\"Non HZ Employee\", Table1[[#This Row],[Calc 2]]))","v":"#NA"}]
[1721,null,1721,{"$nulls":5},{"$f":"SUM(Table1[[#This Row],[Column4]]+Table1[[#This Row],[Column3]]+Table1[[#This Row],[Column2]]+Table1[[#This Row],[Column1]])","v":0},{"$nulls":5},{"$f":"SUM(Table1[[#This Row],[PO Employee]:[Other Employee]])","v":0},"N",{"$error":"#N/A"},{"$f":"IF(O1738>39,Table1[[#This Row],[Calc 1]],IF(O1738>1,\"Not counted as an Employee\",\"#NA\"))","v":"#NA"},{"$f":"MAX(Table1[[#This Row],[PO Employee]],Table1[[#This Row],[Other HZ Employee]],Table1[[#This Row],[Non HZ Employee]],Table1[[#This Row],[Job Site Employee]],Table1[[#This Row],[Other Employee]])","v":0},{"$f":"IF(Table1[[#This Row],[Total Hours per Month]]=Table1[[#This Row],[Column12]],\"Match\",\"Error\")","v":"Match"},{"$f":"IF(Table1[[#This Row],[Calc 2]]=\"#NA\",\"#NA\",IF(Table1[[#This Row],[Non HZ Employee]]=Table1[[#This Row],[Max calc]],\"Non HZ Employee\", Table1[[#This Row],[Calc 2]]))","v":"#NA"}]
[1722,null,1722,{"$nulls":5},{"$f":"SUM(Table1[[#This Row],[Column4]]+Table1[[#This Row],[Column3]]+Table1[[#This Row],[Column2]]+Table1[[#This Row],[Column1]])","v":0},{"$nulls":5},{"$f":"SUM(Table1[[#This Row],[PO Employee]:[Other Employee]])","v":0},"N",{"$error":"#N/A"},{"$f":"IF(O1739>39,Table1[[#This Row],[Calc 1]],IF(O1739>1,\"Not counted as an Employee\",\"#NA\"))","v":"#NA"},{"$f":"MAX(Table1[[#This Row],[PO Employee]],Table1[[#This Row],[Other HZ Employee]],Table1[[#This Row],[Non HZ Employee]],Table1[[#This Row],[Job Site Employee]],Table1[[#This Row],[Other Employee]])","v":0},{"$f":"IF(Table1[[#This Row],[Total Hours per Month]]=Table1[[#This Row],[Column12]],\"Match\",\"Error\")","v":"Match"},{"$f":"IF(Table1[[#This Row],[Calc 2]]=\"#NA\",\"#NA\",IF(Table1[[#This Row],[Non HZ Employee]]=Table1[[#This Row],[Max calc]],\"Non HZ Employee\", Table1[[#This Row],[Calc 2]]))","v":"#NA"}]
[1723,null,1723,{"$nulls":5},{"$f":"SUM(Table1[[#This Row],[Column4]]+Table1[[#This Row],[Column3]]+Table1[[#This Row],[Column2]]+Table1[[#This Row],[Column1]])","v":0},{"$nulls":5},{"$f":"SUM(Table1[[#This Row],[PO Employee]:[Other Employee]])","v":0},"N",{"$error":"#N/A"},{"$f":"IF(O1740>39,Table1[[#This Row],[Calc 1]],IF(O1740>1,\"Not counted as an Employee\",\"#NA\"))","v":"#NA"},{"$f":"MAX(Table1[[#This Row],[PO Employee]],Table1[[#This Row],[Other HZ Employee]],Table1[[#This Row],[Non HZ Employee]],Table1[[#This Row],[Job Site Employee]],Table1[[#This Row],[Other Employee]])","v":0},{"$f":"IF(Table1[[#This Row],[Total Hours per Month]]=Table1[[#This Row],[Column12]],\"Match\",\"Error\")","v":"Match"},{"$f":"IF(Table1[[#This Row],[Calc 2]]=\"#NA\",\"#NA\",IF(Table1[[#This Row],[Non HZ Employee]]=Table1[[#This Row],[Max calc]],\"Non HZ Employee\", Table1[[#This Row],[Calc 2]]))","v":"#NA"}]
[1724,null,1724,{"$nulls":5},{"$f":"SUM(Table1[[#This Row],[Column4]]+Table1[[#This Row],[Column3]]+Table1[[#This Row],[Column2]]+Table1[[#This Row],[Column1]])","v":0},{"$nulls":5},{"$f":"SUM(Table1[[#This Row],[PO Employee]:[Other Employee]])","v":0},"N",{"$error":"#N/A"},{"$f":"IF(O1741>39,Table1[[#This Row],[Calc 1]],IF(O1741>1,\"Not counted as an Employee\",\"#NA\"))","v":"#NA"},{"$f":"MAX(Table1[[#This Row],[PO Employee]],Table1[[#This Row],[Other HZ Employee]],Table1[[#This Row],[Non HZ Employee]],Table1[[#This Row],[Job Site Employee]],Table1[[#This Row],[Other Employee]])","v":0},{"$f":"IF(Table1[[#This Row],[Total Hours per Month]]=Table1[[#This Row],[Column12]],\"Match\",\"Error\")","v":"Match"},{"$f":"IF(Table1[[#This Row],[Calc 2]]=\"#NA\",\"#NA\",IF(Table1[[#This Row],[Non HZ Employee]]=Table1[[#This Row],[Max calc]],\"Non HZ Employee\", Table1[[#This Row],[Calc 2]]))","v":"#NA"}]
[1725,null,1725,{"$nulls":5},{"$f":"SUM(Table1[[#This Row],[Column4]]+Table1[[#This Row],[Column3]]+Table1[[#This Row],[Column2]]+Table1[[#This Row],[Column1]])","v":0},{"$nulls":5},{"$f":"SUM(Table1[[#This Row],[PO Employee]:[Other Employee]])","v":0},"N",{"$error":"#N/A"},{"$f":"IF(O1742>39,Table1[[#This Row],[Calc 1]],IF(O1742>1,\"Not counted as an Employee\",\"#NA\"))","v":"#NA"},{"$f":"MAX(Table1[[#This Row],[PO Employee]],Table1[[#This Row],[Other HZ Employee]],Table1[[#This Row],[Non HZ Employee]],Table1[[#This Row],[Job Site Employee]],Table1[[#This Row],[Other Employee]])","v":0},{"$f":"IF(Table1[[#This Row],[Total Hours per Month]]=Table1[[#This Row],[Column12]],\"Match\",\"Error\")","v":"Match"},{"$f":"IF(Table1[[#This Row],[Calc 2]]=\"#NA\",\"#NA\",IF(Table1[[#This Row],[Non HZ Employee]]=Table1[[#This Row],[Max calc]],\"Non HZ Employee\", Table1[[#This Row],[Calc 2]]))","v":"#NA"}]
[1726,null,1726,{"$nulls":5},{"$f":"SUM(Table1[[#This Row],[Column4]]+Table1[[#This Row],[Column3]]+Table1[[#This Row],[Column2]]+Table1[[#This Row],[Column1]])","v":0},{"$nulls":5},{"$f":"SUM(Table1[[#This Row],[PO Employee]:[Other Employee]])","v":0},"N",{"$error":"#N/A"},{"$f":"IF(O1743>39,Table1[[#This Row],[Calc 1]],IF(O1743>1,\"Not counted as an Employee\",\"#NA\"))","v":"#NA"},{"$f":"MAX(Table1[[#This Row],[PO Employee]],Table1[[#This Row],[Other HZ Employee]],Table1[[#This Row],[Non HZ Employee]],Table1[[#This Row],[Job Site Employee]],Table1[[#This Row],[Other Employee]])","v":0},{"$f":"IF(Table1[[#This Row],[Total Hours per Month]]=Table1[[#This Row],[Column12]],\"Match\",\"Error\")","v":"Match"},{"$f":"IF(Table1[[#This Row],[Calc 2]]=\"#NA\",\"#NA\",IF(Table1[[#This Row],[Non HZ Employee]]=Table1[[#This Row],[Max calc]],\"Non HZ Employee\", Table1[[#This Row],[Calc 2]]))","v":"#NA"}]
[1727,null,1727,{"$nulls":5},{"$f":"SUM(Table1[[#This Row],[Column4]]+Table1[[#This Row],[Column3]]+Table1[[#This Row],[Column2]]+Table1[[#This Row],[Column1]])","v":0},{"$nulls":5},{"$f":"SUM(Table1[[#This Row],[PO Employee]:[Other Employee]])","v":0},"N",{"$error":"#N/A"},{"$f":"IF(O1744>39,Table1[[#This Row],[Calc 1]],IF(O1744>1,\"Not counted as an Employee\",\"#NA\"))","v":"#NA"},{"$f":"MAX(Table1[[#This Row],[PO Employee]],Table1[[#This Row],[Other HZ Employee]],Table1[[#This Row],[Non HZ Employee]],Table1[[#This Row],[Job Site Employee]],Table1[[#This Row],[Other Employee]])","v":0},{"$f":"IF(Table1[[#This Row],[Total Hours per Month]]=Table1[[#This Row],[Column12]],\"Match\",\"Error\")","v":"Match"},{"$f":"IF(Table1[[#This Row],[Calc 2]]=\"#NA\",\"#NA\",IF(Table1[[#This Row],[Non HZ Employee]]=Table1[[#This Row],[Max calc]],\"Non HZ Employee\", Table1[[#This Row],[Calc 2]]))","v":"#NA"}]
[1728,null,1728,{"$nulls":5},{"$f":"SUM(Table1[[#This Row],[Column4]]+Table1[[#This Row],[Column3]]+Table1[[#This Row],[Column2]]+Table1[[#This Row],[Column1]])","v":0},{"$nulls":5},{"$f":"SUM(Table1[[#This Row],[PO Employee]:[Other Employee]])","v":0},"N",{"$error":"#N/A"},{"$f":"IF(O1745>39,Table1[[#This Row],[Calc 1]],IF(O1745>1,\"Not counted as an Employee\",\"#NA\"))","v":"#NA"},{"$f":"MAX(Table1[[#This Row],[PO Employee]],Table1[[#This Row],[Other HZ Employee]],Table1[[#This Row],[Non HZ Employee]],Table1[[#This Row],[Job Site Employee]],Table1[[#This Row],[Other Employee]])","v":0},{"$f":"IF(Table1[[#This Row],[Total Hours per Month]]=Table1[[#This Row],[Column12]],\"Match\",\"Error\")","v":"Match"},{"$f":"IF(Table1[[#This Row],[Calc 2]]=\"#NA\",\"#NA\",IF(Table1[[#This Row],[Non HZ Employee]]=Table1[[#This Row],[Max calc]],\"Non HZ Employee\", Table1[[#This Row],[Calc 2]]))","v":"#NA"}]
[1729,null,1729,{"$nulls":5},{"$f":"SUM(Table1[[#This Row],[Column4]]+Table1[[#This Row],[Column3]]+Table1[[#This Row],[Column2]]+Table1[[#This Row],[Column1]])","v":0},{"$nulls":5},{"$f":"SUM(Table1[[#This Row],[PO Employee]:[Other Employee]])","v":0},"N",{"$f":"INDEX($J$17:$N$17,MATCH(MAX(J1746:N1746),J1746:N1746,0))","v":{"$error":"#N/A"}},{"$f":"IF(O1746>39,Table1[[#This Row],[Calc 1]],IF(O1746>1,\"Not counted as an Employee\",\"#NA\"))","v":"#NA"},{"$f":"MAX(Table1[[#This Row],[PO Employee]],Table1[[#This Row],[Other HZ Employee]],Table1[[#This Row],[Non HZ Employee]],Table1[[#This Row],[Job Site Employee]],Table1[[#This Row],[Other Employee]])","v":0},{"$f":"IF(Table1[[#This Row],[Total Hours per Month]]=Table1[[#This Row],[Column12]],\"Match\",\"Error\")","v":"Match"},{"$f":"IF(Table1[[#This Row],[Calc 2]]=\"#NA\",\"#NA\",IF(Table1[[#This Row],[Non HZ Employee]]=Table1[[#This Row],[Max calc]],\"Non HZ Employee\", Table1[[#This Row],[Calc 2]]))","v":"#NA"}]
[1730,null,1730,{"$nulls":5},{"$f":"SUM(Table1[[#This Row],[Column4]]+Table1[[#This Row],[Column3]]+Table1[[#This Row],[Column2]]+Table1[[#This Row],[Column1]])","v":0},{"$nulls":5},{"$f":"SUM(Table1[[#This Row],[PO Employee]:[Other Employee]])","v":0},{"$f":"IF(O1747>=40,\"Y\",\"N\")","v":"N"},{"$error":"#N/A"},{"$f":"IF(O1747>39,Table1[[#This Row],[Calc 1]],IF(O1747>1,\"Not counted as an Employee\",\"#NA\"))","v":"#NA"},{"$f":"MAX(Table1[[#This Row],[PO Employee]],Table1[[#This Row],[Other HZ Employee]],Table1[[#This Row],[Non HZ Employee]],Table1[[#This Row],[Job Site Employee]],Table1[[#This Row],[Other Employee]])","v":0},{"$f":"IF(Table1[[#This Row],[Total Hours per Month]]=Table1[[#This Row],[Column12]],\"Match\",\"Error\")","v":"Match"},{"$f":"IF(Table1[[#This Row],[Calc 2]]=\"#NA\",\"#NA\",IF(Table1[[#This Row],[Non HZ Employee]]=Table1[[#This Row],[Max calc]],\"Non HZ Employee\", Table1[[#This Row],[Calc 2]]))","v":"#NA"}]
[1731,null,1731,{"$nulls":5},{"$f":"SUM(Table1[[#This Row],[Column4]]+Table1[[#This Row],[Column3]]+Table1[[#This Row],[Column2]]+Table1[[#This Row],[Column1]])","v":0},{"$nulls":5},{"$f":"SUM(Table1[[#This Row],[PO Employee]:[Other Employee]])","v":0},"N",{"$error":"#N/A"},{"$f":"IF(O1748>39,Table1[[#This Row],[Calc 1]],IF(O1748>1,\"Not counted as an Employee\",\"#NA\"))","v":"#NA"},{"$f":"MAX(Table1[[#This Row],[PO Employee]],Table1[[#This Row],[Other HZ Employee]],Table1[[#This Row],[Non HZ Employee]],Table1[[#This Row],[Job Site Employee]],Table1[[#This Row],[Other Employee]])","v":0},{"$f":"IF(Table1[[#This Row],[Total Hours per Month]]=Table1[[#This Row],[Column12]],\"Match\",\"Error\")","v":"Match"},{"$f":"IF(Table1[[#This Row],[Calc 2]]=\"#NA\",\"#NA\",IF(Table1[[#This Row],[Non HZ Employee]]=Table1[[#This Row],[Max calc]],\"Non HZ Employee\", Table1[[#This Row],[Calc 2]]))","v":"#NA"}]
[1732,null,1732,{"$nulls":5},{"$f":"SUM(Table1[[#This Row],[Column4]]+Table1[[#This Row],[Column3]]+Table1[[#This Row],[Column2]]+Table1[[#This Row],[Column1]])","v":0},{"$nulls":5},{"$f":"SUM(Table1[[#This Row],[PO Employee]:[Other Employee]])","v":0},"N",{"$error":"#N/A"},{"$f":"IF(O1749>39,Table1[[#This Row],[Calc 1]],IF(O1749>1,\"Not counted as an Employee\",\"#NA\"))","v":"#NA"},{"$f":"MAX(Table1[[#This Row],[PO Employee]],Table1[[#This Row],[Other HZ Employee]],Table1[[#This Row],[Non HZ Employee]],Table1[[#This Row],[Job Site Employee]],Table1[[#This Row],[Other Employee]])","v":0},{"$f":"IF(Table1[[#This Row],[Total Hours per Month]]=Table1[[#This Row],[Column12]],\"Match\",\"Error\")","v":"Match"},{"$f":"IF(Table1[[#This Row],[Calc 2]]=\"#NA\",\"#NA\",IF(Table1[[#This Row],[Non HZ Employee]]=Table1[[#This Row],[Max calc]],\"Non HZ Employee\", Table1[[#This Row],[Calc 2]]))","v":"#NA"}]
[1733,null,1733,{"$nulls":5},{"$f":"SUM(Table1[[#This Row],[Column4]]+Table1[[#This Row],[Column3]]+Table1[[#This Row],[Column2]]+Table1[[#This Row],[Column1]])","v":0},{"$nulls":5},{"$f":"SUM(Table1[[#This Row],[PO Employee]:[Other Employee]])","v":0},"N",{"$error":"#N/A"},{"$f":"IF(O1750>39,Table1[[#This Row],[Calc 1]],IF(O1750>1,\"Not counted as an Employee\",\"#NA\"))","v":"#NA"},{"$f":"MAX(Table1[[#This Row],[PO Employee]],Table1[[#This Row],[Other HZ Employee]],Table1[[#This Row],[Non HZ Employee]],Table1[[#This Row],[Job Site Employee]],Table1[[#This Row],[Other Employee]])","v":0},{"$f":"IF(Table1[[#This Row],[Total Hours per Month]]=Table1[[#This Row],[Column12]],\"Match\",\"Error\")","v":"Match"},{"$f":"IF(Table1[[#This Row],[Calc 2]]=\"#NA\",\"#NA\",IF(Table1[[#This Row],[Non HZ Employee]]=Table1[[#This Row],[Max calc]],\"Non HZ Employee\", Table1[[#This Row],[Calc 2]]))","v":"#NA"}]
[1734,null,1734,{"$nulls":5},{"$f":"SUM(Table1[[#This Row],[Column4]]+Table1[[#This Row],[Column3]]+Table1[[#This Row],[Column2]]+Table1[[#This Row],[Column1]])","v":0},{"$nulls":5},{"$f":"SUM(Table1[[#This Row],[PO Employee]:[Other Employee]])","v":0},"N",{"$error":"#N/A"},{"$f":"IF(O1751>39,Table1[[#This Row],[Calc 1]],IF(O1751>1,\"Not counted as an Employee\",\"#NA\"))","v":"#NA"},{"$f":"MAX(Table1[[#This Row],[PO Employee]],Table1[[#This Row],[Other HZ Employee]],Table1[[#This Row],[Non HZ Employee]],Table1[[#This Row],[Job Site Employee]],Table1[[#This Row],[Other Employee]])","v":0},{"$f":"IF(Table1[[#This Row],[Total Hours per Month]]=Table1[[#This Row],[Column12]],\"Match\",\"Error\")","v":"Match"},{"$f":"IF(Table1[[#This Row],[Calc 2]]=\"#NA\",\"#NA\",IF(Table1[[#This Row],[Non HZ Employee]]=Table1[[#This Row],[Max calc]],\"Non HZ Employee\", Table1[[#This Row],[Calc 2]]))","v":"#NA"}]
[1735,null,1735,{"$nulls":5},{"$f":"SUM(Table1[[#This Row],[Column4]]+Table1[[#This Row],[Column3]]+Table1[[#This Row],[Column2]]+Table1[[#This Row],[Column1]])","v":0},{"$nulls":5},{"$f":"SUM(Table1[[#This Row],[PO Employee]:[Other Employee]])","v":0},"N",{"$error":"#N/A"},{"$f":"IF(O1752>39,Table1[[#This Row],[Calc 1]],IF(O1752>1,\"Not counted as an Employee\",\"#NA\"))","v":"#NA"},{"$f":"MAX(Table1[[#This Row],[PO Employee]],Table1[[#This Row],[Other HZ Employee]],Table1[[#This Row],[Non HZ Employee]],Table1[[#This Row],[Job Site Employee]],Table1[[#This Row],[Other Employee]])","v":0},{"$f":"IF(Table1[[#This Row],[Total Hours per Month]]=Table1[[#This Row],[Column12]],\"Match\",\"Error\")","v":"Match"},{"$f":"IF(Table1[[#This Row],[Calc 2]]=\"#NA\",\"#NA\",IF(Table1[[#This Row],[Non HZ Employee]]=Table1[[#This Row],[Max calc]],\"Non HZ Employee\", Table1[[#This Row],[Calc 2]]))","v":"#NA"}]
[1736,null,1736,{"$nulls":5},{"$f":"SUM(Table1[[#This Row],[Column4]]+Table1[[#This Row],[Column3]]+Table1[[#This Row],[Column2]]+Table1[[#This Row],[Column1]])","v":0},{"$nulls":5},{"$f":"SUM(Table1[[#This Row],[PO Employee]:[Other Employee]])","v":0},"N",{"$error":"#N/A"},{"$f":"IF(O1753>39,Table1[[#This Row],[Calc 1]],IF(O1753>1,\"Not counted as an Employee\",\"#NA\"))","v":"#NA"},{"$f":"MAX(Table1[[#This Row],[PO Employee]],Table1[[#This Row],[Other HZ Employee]],Table1[[#This Row],[Non HZ Employee]],Table1[[#This Row],[Job Site Employee]],Table1[[#This Row],[Other Employee]])","v":0},{"$f":"IF(Table1[[#This Row],[Total Hours per Month]]=Table1[[#This Row],[Column12]],\"Match\",\"Error\")","v":"Match"},{"$f":"IF(Table1[[#This Row],[Calc 2]]=\"#NA\",\"#NA\",IF(Table1[[#This Row],[Non HZ Employee]]=Table1[[#This Row],[Max calc]],\"Non HZ Employee\", Table1[[#This Row],[Calc 2]]))","v":"#NA"}]
[1737,null,1737,{"$nulls":5},{"$f":"SUM(Table1[[#This Row],[Column4]]+Table1[[#This Row],[Column3]]+Table1[[#This Row],[Column2]]+Table1[[#This Row],[Column1]])","v":0},{"$nulls":5},{"$f":"SUM(Table1[[#This Row],[PO Employee]:[Other Employee]])","v":0},"N",{"$error":"#N/A"},{"$f":"IF(O1754>39,Table1[[#This Row],[Calc 1]],IF(O1754>1,\"Not counted as an Employee\",\"#NA\"))","v":"#NA"},{"$f":"MAX(Table1[[#This Row],[PO Employee]],Table1[[#This Row],[Other HZ Employee]],Table1[[#This Row],[Non HZ Employee]],Table1[[#This Row],[Job Site Employee]],Table1[[#This Row],[Other Employee]])","v":0},{"$f":"IF(Table1[[#This Row],[Total Hours per Month]]=Table1[[#This Row],[Column12]],\"Match\",\"Error\")","v":"Match"},{"$f":"IF(Table1[[#This Row],[Calc 2]]=\"#NA\",\"#NA\",IF(Table1[[#This Row],[Non HZ Employee]]=Table1[[#This Row],[Max calc]],\"Non HZ Employee\", Table1[[#This Row],[Calc 2]]))","v":"#NA"}]
[1738,null,1738,{"$nulls":5},{"$f":"SUM(Table1[[#This Row],[Column4]]+Table1[[#This Row],[Column3]]+Table1[[#This Row],[Column2]]+Table1[[#This Row],[Column1]])","v":0},{"$nulls":5},{"$f":"SUM(Table1[[#This Row],[PO Employee]:[Other Employee]])","v":0},"N",{"$error":"#N/A"},{"$f":"IF(O1755>39,Table1[[#This Row],[Calc 1]],IF(O1755>1,\"Not counted as an Employee\",\"#NA\"))","v":"#NA"},{"$f":"MAX(Table1[[#This Row],[PO Employee]],Table1[[#This Row],[Other HZ Employee]],Table1[[#This Row],[Non HZ Employee]],Table1[[#This Row],[Job Site Employee]],Table1[[#This Row],[Other Employee]])","v":0},{"$f":"IF(Table1[[#This Row],[Total Hours per Month]]=Table1[[#This Row],[Column12]],\"Match\",\"Error\")","v":"Match"},{"$f":"IF(Table1[[#This Row],[Calc 2]]=\"#NA\",\"#NA\",IF(Table1[[#This Row],[Non HZ Employee]]=Table1[[#This Row],[Max calc]],\"Non HZ Employee\", Table1[[#This Row],[Calc 2]]))","v":"#NA"}]
[1739,null,1739,{"$nulls":5},{"$f":"SUM(Table1[[#This Row],[Column4]]+Table1[[#This Row],[Column3]]+Table1[[#This Row],[Column2]]+Table1[[#This Row],[Column1]])","v":0},{"$nulls":5},{"$f":"SUM(Table1[[#This Row],[PO Employee]:[Other Employee]])","v":0},"N",{"$error":"#N/A"},{"$f":"IF(O1756>39,Table1[[#This Row],[Calc 1]],IF(O1756>1,\"Not counted as an Employee\",\"#NA\"))","v":"#NA"},{"$f":"MAX(Table1[[#This Row],[PO Employee]],Table1[[#This Row],[Other HZ Employee]],Table1[[#This Row],[Non HZ Employee]],Table1[[#This Row],[Job Site Employee]],Table1[[#This Row],[Other Employee]])","v":0},{"$f":"IF(Table1[[#This Row],[Total Hours per Month]]=Table1[[#This Row],[Column12]],\"Match\",\"Error\")","v":"Match"},{"$f":"IF(Table1[[#This Row],[Calc 2]]=\"#NA\",\"#NA\",IF(Table1[[#This Row],[Non HZ Employee]]=Table1[[#This Row],[Max calc]],\"Non HZ Employee\", Table1[[#This Row],[Calc 2]]))","v":"#NA"}]
[1740,null,1740,{"$nulls":5},{"$f":"SUM(Table1[[#This Row],[Column4]]+Table1[[#This Row],[Column3]]+Table1[[#This Row],[Column2]]+Table1[[#This Row],[Column1]])","v":0},{"$nulls":5},{"$f":"SUM(Table1[[#This Row],[PO Employee]:[Other Employee]])","v":0},"N",{"$error":"#N/A"},{"$f":"IF(O1757>39,Table1[[#This Row],[Calc 1]],IF(O1757>1,\"Not counted as an Employee\",\"#NA\"))","v":"#NA"},{"$f":"MAX(Table1[[#This Row],[PO Employee]],Table1[[#This Row],[Other HZ Employee]],Table1[[#This Row],[Non HZ Employee]],Table1[[#This Row],[Job Site Employee]],Table1[[#This Row],[Other Employee]])","v":0},{"$f":"IF(Table1[[#This Row],[Total Hours per Month]]=Table1[[#This Row],[Column12]],\"Match\",\"Error\")","v":"Match"},{"$f":"IF(Table1[[#This Row],[Calc 2]]=\"#NA\",\"#NA\",IF(Table1[[#This Row],[Non HZ Employee]]=Table1[[#This Row],[Max calc]],\"Non HZ Employee\", Table1[[#This Row],[Calc 2]]))","v":"#NA"}]
[1741,null,1741,{"$nulls":5},{"$f":"SUM(Table1[[#This Row],[Column4]]+Table1[[#This Row],[Column3]]+Table1[[#This Row],[Column2]]+Table1[[#This Row],[Column1]])","v":0},{"$nulls":5},{"$f":"SUM(Table1[[#This Row],[PO Employee]:[Other Employee]])","v":0},"N",{"$error":"#N/A"},{"$f":"IF(O1758>39,Table1[[#This Row],[Calc 1]],IF(O1758>1,\"Not counted as an Employee\",\"#NA\"))","v":"#NA"},{"$f":"MAX(Table1[[#This Row],[PO Employee]],Table1[[#This Row],[Other HZ Employee]],Table1[[#This Row],[Non HZ Employee]],Table1[[#This Row],[Job Site Employee]],Table1[[#This Row],[Other Employee]])","v":0},{"$f":"IF(Table1[[#This Row],[Total Hours per Month]]=Table1[[#This Row],[Column12]],\"Match\",\"Error\")","v":"Match"},{"$f":"IF(Table1[[#This Row],[Calc 2]]=\"#NA\",\"#NA\",IF(Table1[[#This Row],[Non HZ Employee]]=Table1[[#This Row],[Max calc]],\"Non HZ Employee\", Table1[[#This Row],[Calc 2]]))","v":"#NA"}]
[1742,null,1742,{"$nulls":5},{"$f":"SUM(Table1[[#This Row],[Column4]]+Table1[[#This Row],[Column3]]+Table1[[#This Row],[Column2]]+Table1[[#This Row],[Column1]])","v":0},{"$nulls":5},{"$f":"SUM(Table1[[#This Row],[PO Employee]:[Other Employee]])","v":0},"N",{"$error":"#N/A"},{"$f":"IF(O1759>39,Table1[[#This Row],[Calc 1]],IF(O1759>1,\"Not counted as an Employee\",\"#NA\"))","v":"#NA"},{"$f":"MAX(Table1[[#This Row],[PO Employee]],Table1[[#This Row],[Other HZ Employee]],Table1[[#This Row],[Non HZ Employee]],Table1[[#This Row],[Job Site Employee]],Table1[[#This Row],[Other Employee]])","v":0},{"$f":"IF(Table1[[#This Row],[Total Hours per Month]]=Table1[[#This Row],[Column12]],\"Match\",\"Error\")","v":"Match"},{"$f":"IF(Table1[[#This Row],[Calc 2]]=\"#NA\",\"#NA\",IF(Table1[[#This Row],[Non HZ Employee]]=Table1[[#This Row],[Max calc]],\"Non HZ Employee\", Table1[[#This Row],[Calc 2]]))","v":"#NA"}]
[1743,null,1743,{"$nulls":5},{"$f":"SUM(Table1[[#This Row],[Column4]]+Table1[[#This Row],[Column3]]+Table1[[#This Row],[Column2]]+Table1[[#This Row],[Column1]])","v":0},{"$nulls":5},{"$f":"SUM(Table1[[#This Row],[PO Employee]:[Other Employee]])","v":0},"N",{"$error":"#N/A"},{"$f":"IF(O1760>39,Table1[[#This Row],[Calc 1]],IF(O1760>1,\"Not counted as an Employee\",\"#NA\"))","v":"#NA"},{"$f":"MAX(Table1[[#This Row],[PO Employee]],Table1[[#This Row],[Other HZ Employee]],Table1[[#This Row],[Non HZ Employee]],Table1[[#This Row],[Job Site Employee]],Table1[[#This Row],[Other Employee]])","v":0},{"$f":"IF(Table1[[#This Row],[Total Hours per Month]]=Table1[[#This Row],[Column12]],\"Match\",\"Error\")","v":"Match"},{"$f":"IF(Table1[[#This Row],[Calc 2]]=\"#NA\",\"#NA\",IF(Table1[[#This Row],[Non HZ Employee]]=Table1[[#This Row],[Max calc]],\"Non HZ Employee\", Table1[[#This Row],[Calc 2]]))","v":"#NA"}]
[1744,null,1744,{"$nulls":5},{"$f":"SUM(Table1[[#This Row],[Column4]]+Table1[[#This Row],[Column3]]+Table1[[#This Row],[Column2]]+Table1[[#This Row],[Column1]])","v":0},{"$nulls":5},{"$f":"SUM(Table1[[#This Row],[PO Employee]:[Other Employee]])","v":0},"N",{"$error":"#N/A"},{"$f":"IF(O1761>39,Table1[[#This Row],[Calc 1]],IF(O1761>1,\"Not counted as an Employee\",\"#NA\"))","v":"#NA"},{"$f":"MAX(Table1[[#This Row],[PO Employee]],Table1[[#This Row],[Other HZ Employee]],Table1[[#This Row],[Non HZ Employee]],Table1[[#This Row],[Job Site Employee]],Table1[[#This Row],[Other Employee]])","v":0},{"$f":"IF(Table1[[#This Row],[Total Hours per Month]]=Table1[[#This Row],[Column12]],\"Match\",\"Error\")","v":"Match"},{"$f":"IF(Table1[[#This Row],[Calc 2]]=\"#NA\",\"#NA\",IF(Table1[[#This Row],[Non HZ Employee]]=Table1[[#This Row],[Max calc]],\"Non HZ Employee\", Table1[[#This Row],[Calc 2]]))","v":"#NA"}]
[1745,null,1745,{"$nulls":5},{"$f":"SUM(Table1[[#This Row],[Column4]]+Table1[[#This Row],[Column3]]+Table1[[#This Row],[Column2]]+Table1[[#This Row],[Column1]])","v":0},{"$nulls":5},{"$f":"SUM(Table1[[#This Row],[PO Employee]:[Other Employee]])","v":0},"N",{"$error":"#N/A"},{"$f":"IF(O1762>39,Table1[[#This Row],[Calc 1]],IF(O1762>1,\"Not counted as an Employee\",\"#NA\"))","v":"#NA"},{"$f":"MAX(Table1[[#This Row],[PO Employee]],Table1[[#This Row],[Other HZ Employee]],Table1[[#This Row],[Non HZ Employee]],Table1[[#This Row],[Job Site Employee]],Table1[[#This Row],[Other Employee]])","v":0},{"$f":"IF(Table1[[#This Row],[Total Hours per Month]]=Table1[[#This Row],[Column12]],\"Match\",\"Error\")","v":"Match"},{"$f":"IF(Table1[[#This Row],[Calc 2]]=\"#NA\",\"#NA\",IF(Table1[[#This Row],[Non HZ Employee]]=Table1[[#This Row],[Max calc]],\"Non HZ Employee\", Table1[[#This Row],[Calc 2]]))","v":"#NA"}]
[1746,null,1746,{"$nulls":5},{"$f":"SUM(Table1[[#This Row],[Column4]]+Table1[[#This Row],[Column3]]+Table1[[#This Row],[Column2]]+Table1[[#This Row],[Column1]])","v":0},{"$nulls":5},{"$f":"SUM(Table1[[#This Row],[PO Employee]:[Other Employee]])","v":0},"N",{"$error":"#N/A"},{"$f":"IF(O1763>39,Table1[[#This Row],[Calc 1]],IF(O1763>1,\"Not counted as an Employee\",\"#NA\"))","v":"#NA"},{"$f":"MAX(Table1[[#This Row],[PO Employee]],Table1[[#This Row],[Other HZ Employee]],Table1[[#This Row],[Non HZ Employee]],Table1[[#This Row],[Job Site Employee]],Table1[[#This Row],[Other Employee]])","v":0},{"$f":"IF(Table1[[#This Row],[Total Hours per Month]]=Table1[[#This Row],[Column12]],\"Match\",\"Error\")","v":"Match"},{"$f":"IF(Table1[[#This Row],[Calc 2]]=\"#NA\",\"#NA\",IF(Table1[[#This Row],[Non HZ Employee]]=Table1[[#This Row],[Max calc]],\"Non HZ Employee\", Table1[[#This Row],[Calc 2]]))","v":"#NA"}]
[1747,null,1747,{"$nulls":5},{"$f":"SUM(Table1[[#This Row],[Column4]]+Table1[[#This Row],[Column3]]+Table1[[#This Row],[Column2]]+Table1[[#This Row],[Column1]])","v":0},{"$nulls":5},{"$f":"SUM(Table1[[#This Row],[PO Employee]:[Other Employee]])","v":0},"N",{"$error":"#N/A"},{"$f":"IF(O1764>39,Table1[[#This Row],[Calc 1]],IF(O1764>1,\"Not counted as an Employee\",\"#NA\"))","v":"#NA"},{"$f":"MAX(Table1[[#This Row],[PO Employee]],Table1[[#This Row],[Other HZ Employee]],Table1[[#This Row],[Non HZ Employee]],Table1[[#This Row],[Job Site Employee]],Table1[[#This Row],[Other Employee]])","v":0},{"$f":"IF(Table1[[#This Row],[Total Hours per Month]]=Table1[[#This Row],[Column12]],\"Match\",\"Error\")","v":"Match"},{"$f":"IF(Table1[[#This Row],[Calc 2]]=\"#NA\",\"#NA\",IF(Table1[[#This Row],[Non HZ Employee]]=Table1[[#This Row],[Max calc]],\"Non HZ Employee\", Table1[[#This Row],[Calc 2]]))","v":"#NA"}]
[1748,null,1748,{"$nulls":5},{"$f":"SUM(Table1[[#This Row],[Column4]]+Table1[[#This Row],[Column3]]+Table1[[#This Row],[Column2]]+Table1[[#This Row],[Column1]])","v":0},{"$nulls":5},{"$f":"SUM(Table1[[#This Row],[PO Employee]:[Other Employee]])","v":0},"N",{"$error":"#N/A"},{"$f":"IF(O1765>39,Table1[[#This Row],[Calc 1]],IF(O1765>1,\"Not counted as an Employee\",\"#NA\"))","v":"#NA"},{"$f":"MAX(Table1[[#This Row],[PO Employee]],Table1[[#This Row],[Other HZ Employee]],Table1[[#This Row],[Non HZ Employee]],Table1[[#This Row],[Job Site Employee]],Table1[[#This Row],[Other Employee]])","v":0},{"$f":"IF(Table1[[#This Row],[Total Hours per Month]]=Table1[[#This Row],[Column12]],\"Match\",\"Error\")","v":"Match"},{"$f":"IF(Table1[[#This Row],[Calc 2]]=\"#NA\",\"#NA\",IF(Table1[[#This Row],[Non HZ Employee]]=Table1[[#This Row],[Max calc]],\"Non HZ Employee\", Table1[[#This Row],[Calc 2]]))","v":"#NA"}]
[1749,null,1749,{"$nulls":5},{"$f":"SUM(Table1[[#This Row],[Column4]]+Table1[[#This Row],[Column3]]+Table1[[#This Row],[Column2]]+Table1[[#This Row],[Column1]])","v":0},{"$nulls":5},{"$f":"SUM(Table1[[#This Row],[PO Employee]:[Other Employee]])","v":0},"N",{"$error":"#N/A"},{"$f":"IF(O1766>39,Table1[[#This Row],[Calc 1]],IF(O1766>1,\"Not counted as an Employee\",\"#NA\"))","v":"#NA"},{"$f":"MAX(Table1[[#This Row],[PO Employee]],Table1[[#This Row],[Other HZ Employee]],Table1[[#This Row],[Non HZ Employee]],Table1[[#This Row],[Job Site Employee]],Table1[[#This Row],[Other Employee]])","v":0},{"$f":"IF(Table1[[#This Row],[Total Hours per Month]]=Table1[[#This Row],[Column12]],\"Match\",\"Error\")","v":"Match"},{"$f":"IF(Table1[[#This Row],[Calc 2]]=\"#NA\",\"#NA\",IF(Table1[[#This Row],[Non HZ Employee]]=Table1[[#This Row],[Max calc]],\"Non HZ Employee\", Table1[[#This Row],[Calc 2]]))","v":"#NA"}]
[1750,null,1750,{"$nulls":5},{"$f":"SUM(Table1[[#This Row],[Column4]]+Table1[[#This Row],[Column3]]+Table1[[#This Row],[Column2]]+Table1[[#This Row],[Column1]])","v":0},{"$nulls":5},{"$f":"SUM(Table1[[#This Row],[PO Employee]:[Other Employee]])","v":0},"N",{"$error":"#N/A"},{"$f":"IF(O1767>39,Table1[[#This Row],[Calc 1]],IF(O1767>1,\"Not counted as an Employee\",\"#NA\"))","v":"#NA"},{"$f":"MAX(Table1[[#This Row],[PO Employee]],Table1[[#This Row],[Other HZ Employee]],Table1[[#This Row],[Non HZ Employee]],Table1[[#This Row],[Job Site Employee]],Table1[[#This Row],[Other Employee]])","v":0},{"$f":"IF(Table1[[#This Row],[Total Hours per Month]]=Table1[[#This Row],[Column12]],\"Match\",\"Error\")","v":"Match"},{"$f":"IF(Table1[[#This Row],[Calc 2]]=\"#NA\",\"#NA\",IF(Table1[[#This Row],[Non HZ Employee]]=Table1[[#This Row],[Max calc]],\"Non HZ Employee\", Table1[[#This Row],[Calc 2]]))","v":"#NA"}]
[1751,null,1751,{"$nulls":5},{"$f":"SUM(Table1[[#This Row],[Column4]]+Table1[[#This Row],[Column3]]+Table1[[#This Row],[Column2]]+Table1[[#This Row],[Column1]])","v":0},{"$nulls":5},{"$f":"SUM(Table1[[#This Row],[PO Employee]:[Other Employee]])","v":0},"N",{"$error":"#N/A"},{"$f":"IF(O1768>39,Table1[[#This Row],[Calc 1]],IF(O1768>1,\"Not counted as an Employee\",\"#NA\"))","v":"#NA"},{"$f":"MAX(Table1[[#This Row],[PO Employee]],Table1[[#This Row],[Other HZ Employee]],Table1[[#This Row],[Non HZ Employee]],Table1[[#This Row],[Job Site Employee]],Table1[[#This Row],[Other Employee]])","v":0},{"$f":"IF(Table1[[#This Row],[Total Hours per Month]]=Table1[[#This Row],[Column12]],\"Match\",\"Error\")","v":"Match"},{"$f":"IF(Table1[[#This Row],[Calc 2]]=\"#NA\",\"#NA\",IF(Table1[[#This Row],[Non HZ Employee]]=Table1[[#This Row],[Max calc]],\"Non HZ Employee\", Table1[[#This Row],[Calc 2]]))","v":"#NA"}]
[1752,null,1752,{"$nulls":5},{"$f":"SUM(Table1[[#This Row],[Column4]]+Table1[[#This Row],[Column3]]+Table1[[#This Row],[Column2]]+Table1[[#This Row],[Column1]])","v":0},{"$nulls":5},{"$f":"SUM(Table1[[#This Row],[PO Employee]:[Other Employee]])","v":0},"N",{"$error":"#N/A"},{"$f":"IF(O1769>39,Table1[[#This Row],[Calc 1]],IF(O1769>1,\"Not counted as an Employee\",\"#NA\"))","v":"#NA"},{"$f":"MAX(Table1[[#This Row],[PO Employee]],Table1[[#This Row],[Other HZ Employee]],Table1[[#This Row],[Non HZ Employee]],Table1[[#This Row],[Job Site Employee]],Table1[[#This Row],[Other Employee]])","v":0},{"$f":"IF(Table1[[#This Row],[Total Hours per Month]]=Table1[[#This Row],[Column12]],\"Match\",\"Error\")","v":"Match"},{"$f":"IF(Table1[[#This Row],[Calc 2]]=\"#NA\",\"#NA\",IF(Table1[[#This Row],[Non HZ Employee]]=Table1[[#This Row],[Max calc]],\"Non HZ Employee\", Table1[[#This Row],[Calc 2]]))","v":"#NA"}]
[1753,null,1753,{"$nulls":5},{"$f":"SUM(Table1[[#This Row],[Column4]]+Table1[[#This Row],[Column3]]+Table1[[#This Row],[Column2]]+Table1[[#This Row],[Column1]])","v":0},{"$nulls":5},{"$f":"SUM(Table1[[#This Row],[PO Employee]:[Other Employee]])","v":0},"N",{"$error":"#N/A"},{"$f":"IF(O1770>39,Table1[[#This Row],[Calc 1]],IF(O1770>1,\"Not counted as an Employee\",\"#NA\"))","v":"#NA"},{"$f":"MAX(Table1[[#This Row],[PO Employee]],Table1[[#This Row],[Other HZ Employee]],Table1[[#This Row],[Non HZ Employee]],Table1[[#This Row],[Job Site Employee]],Table1[[#This Row],[Other Employee]])","v":0},{"$f":"IF(Table1[[#This Row],[Total Hours per Month]]=Table1[[#This Row],[Column12]],\"Match\",\"Error\")","v":"Match"},{"$f":"IF(Table1[[#This Row],[Calc 2]]=\"#NA\",\"#NA\",IF(Table1[[#This Row],[Non HZ Employee]]=Table1[[#This Row],[Max calc]],\"Non HZ Employee\", Table1[[#This Row],[Calc 2]]))","v":"#NA"}]
[1754,null,1754,{"$nulls":5},{"$f":"SUM(Table1[[#This Row],[Column4]]+Table1[[#This Row],[Column3]]+Table1[[#This Row],[Column2]]+Table1[[#This Row],[Column1]])","v":0},{"$nulls":5},{"$f":"SUM(Table1[[#This Row],[PO Employee]:[Other Employee]])","v":0},"N",{"$error":"#N/A"},{"$f":"IF(O1771>39,Table1[[#This Row],[Calc 1]],IF(O1771>1,\"Not counted as an Employee\",\"#NA\"))","v":"#NA"},{"$f":"MAX(Table1[[#This Row],[PO Employee]],Table1[[#This Row],[Other HZ Employee]],Table1[[#This Row],[Non HZ Employee]],Table1[[#This Row],[Job Site Employee]],Table1[[#This Row],[Other Employee]])","v":0},{"$f":"IF(Table1[[#This Row],[Total Hours per Month]]=Table1[[#This Row],[Column12]],\"Match\",\"Error\")","v":"Match"},{"$f":"IF(Table1[[#This Row],[Calc 2]]=\"#NA\",\"#NA\",IF(Table1[[#This Row],[Non HZ Employee]]=Table1[[#This Row],[Max calc]],\"Non HZ Employee\", Table1[[#This Row],[Calc 2]]))","v":"#NA"}]
[1755,null,1755,{"$nulls":5},{"$f":"SUM(Table1[[#This Row],[Column4]]+Table1[[#This Row],[Column3]]+Table1[[#This Row],[Column2]]+Table1[[#This Row],[Column1]])","v":0},{"$nulls":5},{"$f":"SUM(Table1[[#This Row],[PO Employee]:[Other Employee]])","v":0},"N",{"$error":"#N/A"},{"$f":"IF(O1772>39,Table1[[#This Row],[Calc 1]],IF(O1772>1,\"Not counted as an Employee\",\"#NA\"))","v":"#NA"},{"$f":"MAX(Table1[[#This Row],[PO Employee]],Table1[[#This Row],[Other HZ Employee]],Table1[[#This Row],[Non HZ Employee]],Table1[[#This Row],[Job Site Employee]],Table1[[#This Row],[Other Employee]])","v":0},{"$f":"IF(Table1[[#This Row],[Total Hours per Month]]=Table1[[#This Row],[Column12]],\"Match\",\"Error\")","v":"Match"},{"$f":"IF(Table1[[#This Row],[Calc 2]]=\"#NA\",\"#NA\",IF(Table1[[#This Row],[Non HZ Employee]]=Table1[[#This Row],[Max calc]],\"Non HZ Employee\", Table1[[#This Row],[Calc 2]]))","v":"#NA"}]
[1756,null,1756,{"$nulls":5},{"$f":"SUM(Table1[[#This Row],[Column4]]+Table1[[#This Row],[Column3]]+Table1[[#This Row],[Column2]]+Table1[[#This Row],[Column1]])","v":0},{"$nulls":5},{"$f":"SUM(Table1[[#This Row],[PO Employee]:[Other Employee]])","v":0},"N",{"$error":"#N/A"},{"$f":"IF(O1773>39,Table1[[#This Row],[Calc 1]],IF(O1773>1,\"Not counted as an Employee\",\"#NA\"))","v":"#NA"},{"$f":"MAX(Table1[[#This Row],[PO Employee]],Table1[[#This Row],[Other HZ Employee]],Table1[[#This Row],[Non HZ Employee]],Table1[[#This Row],[Job Site Employee]],Table1[[#This Row],[Other Employee]])","v":0},{"$f":"IF(Table1[[#This Row],[Total Hours per Month]]=Table1[[#This Row],[Column12]],\"Match\",\"Error\")","v":"Match"},{"$f":"IF(Table1[[#This Row],[Calc 2]]=\"#NA\",\"#NA\",IF(Table1[[#This Row],[Non HZ Employee]]=Table1[[#This Row],[Max calc]],\"Non HZ Employee\", Table1[[#This Row],[Calc 2]]))","v":"#NA"}]
[1757,null,1757,{"$nulls":5},{"$f":"SUM(Table1[[#This Row],[Column4]]+Table1[[#This Row],[Column3]]+Table1[[#This Row],[Column2]]+Table1[[#This Row],[Column1]])","v":0},{"$nulls":5},{"$f":"SUM(Table1[[#This Row],[PO Employee]:[Other Employee]])","v":0},"N",{"$error":"#N/A"},{"$f":"IF(O1774>39,Table1[[#This Row],[Calc 1]],IF(O1774>1,\"Not counted as an Employee\",\"#NA\"))","v":"#NA"},{"$f":"MAX(Table1[[#This Row],[PO Employee]],Table1[[#This Row],[Other HZ Employee]],Table1[[#This Row],[Non HZ Employee]],Table1[[#This Row],[Job Site Employee]],Table1[[#This Row],[Other Employee]])","v":0},{"$f":"IF(Table1[[#This Row],[Total Hours per Month]]=Table1[[#This Row],[Column12]],\"Match\",\"Error\")","v":"Match"},{"$f":"IF(Table1[[#This Row],[Calc 2]]=\"#NA\",\"#NA\",IF(Table1[[#This Row],[Non HZ Employee]]=Table1[[#This Row],[Max calc]],\"Non HZ Employee\", Table1[[#This Row],[Calc 2]]))","v":"#NA"}]
[1758,null,1758,{"$nulls":5},{"$f":"SUM(Table1[[#This Row],[Column4]]+Table1[[#This Row],[Column3]]+Table1[[#This Row],[Column2]]+Table1[[#This Row],[Column1]])","v":0},{"$nulls":5},{"$f":"SUM(Table1[[#This Row],[PO Employee]:[Other Employee]])","v":0},"N",{"$error":"#N/A"},{"$f":"IF(O1775>39,Table1[[#This Row],[Calc 1]],IF(O1775>1,\"Not counted as an Employee\",\"#NA\"))","v":"#NA"},{"$f":"MAX(Table1[[#This Row],[PO Employee]],Table1[[#This Row],[Other HZ Employee]],Table1[[#This Row],[Non HZ Employee]],Table1[[#This Row],[Job Site Employee]],Table1[[#This Row],[Other Employee]])","v":0},{"$f":"IF(Table1[[#This Row],[Total Hours per Month]]=Table1[[#This Row],[Column12]],\"Match\",\"Error\")","v":"Match"},{"$f":"IF(Table1[[#This Row],[Calc 2]]=\"#NA\",\"#NA\",IF(Table1[[#This Row],[Non HZ Employee]]=Table1[[#This Row],[Max calc]],\"Non HZ Employee\", Table1[[#This Row],[Calc 2]]))","v":"#NA"}]
[1759,null,1759,{"$nulls":5},{"$f":"SUM(Table1[[#This Row],[Column4]]+Table1[[#This Row],[Column3]]+Table1[[#This Row],[Column2]]+Table1[[#This Row],[Column1]])","v":0},{"$nulls":5},{"$f":"SUM(Table1[[#This Row],[PO Employee]:[Other Employee]])","v":0},"N",{"$error":"#N/A"},{"$f":"IF(O1776>39,Table1[[#This Row],[Calc 1]],IF(O1776>1,\"Not counted as an Employee\",\"#NA\"))","v":"#NA"},{"$f":"MAX(Table1[[#This Row],[PO Employee]],Table1[[#This Row],[Other HZ Employee]],Table1[[#This Row],[Non HZ Employee]],Table1[[#This Row],[Job Site Employee]],Table1[[#This Row],[Other Employee]])","v":0},{"$f":"IF(Table1[[#This Row],[Total Hours per Month]]=Table1[[#This Row],[Column12]],\"Match\",\"Error\")","v":"Match"},{"$f":"IF(Table1[[#This Row],[Calc 2]]=\"#NA\",\"#NA\",IF(Table1[[#This Row],[Non HZ Employee]]=Table1[[#This Row],[Max calc]],\"Non HZ Employee\", Table1[[#This Row],[Calc 2]]))","v":"#NA"}]
[1760,null,1760,{"$nulls":5},{"$f":"SUM(Table1[[#This Row],[Column4]]+Table1[[#This Row],[Column3]]+Table1[[#This Row],[Column2]]+Table1[[#This Row],[Column1]])","v":0},{"$nulls":5},{"$f":"SUM(Table1[[#This Row],[PO Employee]:[Other Employee]])","v":0},"N",{"$error":"#N/A"},{"$f":"IF(O1777>39,Table1[[#This Row],[Calc 1]],IF(O1777>1,\"Not counted as an Employee\",\"#NA\"))","v":"#NA"},{"$f":"MAX(Table1[[#This Row],[PO Employee]],Table1[[#This Row],[Other HZ Employee]],Table1[[#This Row],[Non HZ Employee]],Table1[[#This Row],[Job Site Employee]],Table1[[#This Row],[Other Employee]])","v":0},{"$f":"IF(Table1[[#This Row],[Total Hours per Month]]=Table1[[#This Row],[Column12]],\"Match\",\"Error\")","v":"Match"},{"$f":"IF(Table1[[#This Row],[Calc 2]]=\"#NA\",\"#NA\",IF(Table1[[#This Row],[Non HZ Employee]]=Table1[[#This Row],[Max calc]],\"Non HZ Employee\", Table1[[#This Row],[Calc 2]]))","v":"#NA"}]
[1761,null,1761,{"$nulls":5},{"$f":"SUM(Table1[[#This Row],[Column4]]+Table1[[#This Row],[Column3]]+Table1[[#This Row],[Column2]]+Table1[[#This Row],[Column1]])","v":0},{"$nulls":5},{"$f":"SUM(Table1[[#This Row],[PO Employee]:[Other Employee]])","v":0},"N",{"$error":"#N/A"},{"$f":"IF(O1778>39,Table1[[#This Row],[Calc 1]],IF(O1778>1,\"Not counted as an Employee\",\"#NA\"))","v":"#NA"},{"$f":"MAX(Table1[[#This Row],[PO Employee]],Table1[[#This Row],[Other HZ Employee]],Table1[[#This Row],[Non HZ Employee]],Table1[[#This Row],[Job Site Employee]],Table1[[#This Row],[Other Employee]])","v":0},{"$f":"IF(Table1[[#This Row],[Total Hours per Month]]=Table1[[#This Row],[Column12]],\"Match\",\"Error\")","v":"Match"},{"$f":"IF(Table1[[#This Row],[Calc 2]]=\"#NA\",\"#NA\",IF(Table1[[#This Row],[Non HZ Employee]]=Table1[[#This Row],[Max calc]],\"Non HZ Employee\", Table1[[#This Row],[Calc 2]]))","v":"#NA"}]
[1762,null,1762,{"$nulls":5},{"$f":"SUM(Table1[[#This Row],[Column4]]+Table1[[#This Row],[Column3]]+Table1[[#This Row],[Column2]]+Table1[[#This Row],[Column1]])","v":0},{"$nulls":5},{"$f":"SUM(Table1[[#This Row],[PO Employee]:[Other Employee]])","v":0},"N",{"$error":"#N/A"},{"$f":"IF(O1779>39,Table1[[#This Row],[Calc 1]],IF(O1779>1,\"Not counted as an Employee\",\"#NA\"))","v":"#NA"},{"$f":"MAX(Table1[[#This Row],[PO Employee]],Table1[[#This Row],[Other HZ Employee]],Table1[[#This Row],[Non HZ Employee]],Table1[[#This Row],[Job Site Employee]],Table1[[#This Row],[Other Employee]])","v":0},{"$f":"IF(Table1[[#This Row],[Total Hours per Month]]=Table1[[#This Row],[Column12]],\"Match\",\"Error\")","v":"Match"},{"$f":"IF(Table1[[#This Row],[Calc 2]]=\"#NA\",\"#NA\",IF(Table1[[#This Row],[Non HZ Employee]]=Table1[[#This Row],[Max calc]],\"Non HZ Employee\", Table1[[#This Row],[Calc 2]]))","v":"#NA"}]
[1763,null,1763,{"$nulls":5},{"$f":"SUM(Table1[[#This Row],[Column4]]+Table1[[#This Row],[Column3]]+Table1[[#This Row],[Column2]]+Table1[[#This Row],[Column1]])","v":0},{"$nulls":5},{"$f":"SUM(Table1[[#This Row],[PO Employee]:[Other Employee]])","v":0},"N",{"$error":"#N/A"},{"$f":"IF(O1780>39,Table1[[#This Row],[Calc 1]],IF(O1780>1,\"Not counted as an Employee\",\"#NA\"))","v":"#NA"},{"$f":"MAX(Table1[[#This Row],[PO Employee]],Table1[[#This Row],[Other HZ Employee]],Table1[[#This Row],[Non HZ Employee]],Table1[[#This Row],[Job Site Employee]],Table1[[#This Row],[Other Employee]])","v":0},{"$f":"IF(Table1[[#This Row],[Total Hours per Month]]=Table1[[#This Row],[Column12]],\"Match\",\"Error\")","v":"Match"},{"$f":"IF(Table1[[#This Row],[Calc 2]]=\"#NA\",\"#NA\",IF(Table1[[#This Row],[Non HZ Employee]]=Table1[[#This Row],[Max calc]],\"Non HZ Employee\", Table1[[#This Row],[Calc 2]]))","v":"#NA"}]
[1764,null,1764,{"$nulls":5},{"$f":"SUM(Table1[[#This Row],[Column4]]+Table1[[#This Row],[Column3]]+Table1[[#This Row],[Column2]]+Table1[[#This Row],[Column1]])","v":0},{"$nulls":5},{"$f":"SUM(Table1[[#This Row],[PO Employee]:[Other Employee]])","v":0},"N",{"$error":"#N/A"},{"$f":"IF(O1781>39,Table1[[#This Row],[Calc 1]],IF(O1781>1,\"Not counted as an Employee\",\"#NA\"))","v":"#NA"},{"$f":"MAX(Table1[[#This Row],[PO Employee]],Table1[[#This Row],[Other HZ Employee]],Table1[[#This Row],[Non HZ Employee]],Table1[[#This Row],[Job Site Employee]],Table1[[#This Row],[Other Employee]])","v":0},{"$f":"IF(Table1[[#This Row],[Total Hours per Month]]=Table1[[#This Row],[Column12]],\"Match\",\"Error\")","v":"Match"},{"$f":"IF(Table1[[#This Row],[Calc 2]]=\"#NA\",\"#NA\",IF(Table1[[#This Row],[Non HZ Employee]]=Table1[[#This Row],[Max calc]],\"Non HZ Employee\", Table1[[#This Row],[Calc 2]]))","v":"#NA"}]
[1765,null,1765,{"$nulls":5},{"$f":"SUM(Table1[[#This Row],[Column4]]+Table1[[#This Row],[Column3]]+Table1[[#This Row],[Column2]]+Table1[[#This Row],[Column1]])","v":0},{"$nulls":5},{"$f":"SUM(Table1[[#This Row],[PO Employee]:[Other Employee]])","v":0},"N",{"$error":"#N/A"},{"$f":"IF(O1782>39,Table1[[#This Row],[Calc 1]],IF(O1782>1,\"Not counted as an Employee\",\"#NA\"))","v":"#NA"},{"$f":"MAX(Table1[[#This Row],[PO Employee]],Table1[[#This Row],[Other HZ Employee]],Table1[[#This Row],[Non HZ Employee]],Table1[[#This Row],[Job Site Employee]],Table1[[#This Row],[Other Employee]])","v":0},{"$f":"IF(Table1[[#This Row],[Total Hours per Month]]=Table1[[#This Row],[Column12]],\"Match\",\"Error\")","v":"Match"},{"$f":"IF(Table1[[#This Row],[Calc 2]]=\"#NA\",\"#NA\",IF(Table1[[#This Row],[Non HZ Employee]]=Table1[[#This Row],[Max calc]],\"Non HZ Employee\", Table1[[#This Row],[Calc 2]]))","v":"#NA"}]
[1766,null,1766,{"$nulls":5},{"$f":"SUM(Table1[[#This Row],[Column4]]+Table1[[#This Row],[Column3]]+Table1[[#This Row],[Column2]]+Table1[[#This Row],[Column1]])","v":0},{"$nulls":5},{"$f":"SUM(Table1[[#This Row],[PO Employee]:[Other Employee]])","v":0},"N",{"$error":"#N/A"},{"$f":"IF(O1783>39,Table1[[#This Row],[Calc 1]],IF(O1783>1,\"Not counted as an Employee\",\"#NA\"))","v":"#NA"},{"$f":"MAX(Table1[[#This Row],[PO Employee]],Table1[[#This Row],[Other HZ Employee]],Table1[[#This Row],[Non HZ Employee]],Table1[[#This Row],[Job Site Employee]],Table1[[#This Row],[Other Employee]])","v":0},{"$f":"IF(Table1[[#This Row],[Total Hours per Month]]=Table1[[#This Row],[Column12]],\"Match\",\"Error\")","v":"Match"},{"$f":"IF(Table1[[#This Row],[Calc 2]]=\"#NA\",\"#NA\",IF(Table1[[#This Row],[Non HZ Employee]]=Table1[[#This Row],[Max calc]],\"Non HZ Employee\", Table1[[#This Row],[Calc 2]]))","v":"#NA"}]
[1767,null,1767,{"$nulls":5},{"$f":"SUM(Table1[[#This Row],[Column4]]+Table1[[#This Row],[Column3]]+Table1[[#This Row],[Column2]]+Table1[[#This Row],[Column1]])","v":0},{"$nulls":5},{"$f":"SUM(Table1[[#This Row],[PO Employee]:[Other Employee]])","v":0},"N",{"$error":"#N/A"},{"$f":"IF(O1784>39,Table1[[#This Row],[Calc 1]],IF(O1784>1,\"Not counted as an Employee\",\"#NA\"))","v":"#NA"},{"$f":"MAX(Table1[[#This Row],[PO Employee]],Table1[[#This Row],[Other HZ Employee]],Table1[[#This Row],[Non HZ Employee]],Table1[[#This Row],[Job Site Employee]],Table1[[#This Row],[Other Employee]])","v":0},{"$f":"IF(Table1[[#This Row],[Total Hours per Month]]=Table1[[#This Row],[Column12]],\"Match\",\"Error\")","v":"Match"},{"$f":"IF(Table1[[#This Row],[Calc 2]]=\"#NA\",\"#NA\",IF(Table1[[#This Row],[Non HZ Employee]]=Table1[[#This Row],[Max calc]],\"Non HZ Employee\", Table1[[#This Row],[Calc 2]]))","v":"#NA"}]
[1768,null,1768,{"$nulls":5},{"$f":"SUM(Table1[[#This Row],[Column4]]+Table1[[#This Row],[Column3]]+Table1[[#This Row],[Column2]]+Table1[[#This Row],[Column1]])","v":0},{"$nulls":5},{"$f":"SUM(Table1[[#This Row],[PO Employee]:[Other Employee]])","v":0},"N",{"$error":"#N/A"},{"$f":"IF(O1785>39,Table1[[#This Row],[Calc 1]],IF(O1785>1,\"Not counted as an Employee\",\"#NA\"))","v":"#NA"},{"$f":"MAX(Table1[[#This Row],[PO Employee]],Table1[[#This Row],[Other HZ Employee]],Table1[[#This Row],[Non HZ Employee]],Table1[[#This Row],[Job Site Employee]],Table1[[#This Row],[Other Employee]])","v":0},{"$f":"IF(Table1[[#This Row],[Total Hours per Month]]=Table1[[#This Row],[Column12]],\"Match\",\"Error\")","v":"Match"},{"$f":"IF(Table1[[#This Row],[Calc 2]]=\"#NA\",\"#NA\",IF(Table1[[#This Row],[Non HZ Employee]]=Table1[[#This Row],[Max calc]],\"Non HZ Employee\", Table1[[#This Row],[Calc 2]]))","v":"#NA"}]
[1769,null,1769,{"$nulls":5},{"$f":"SUM(Table1[[#This Row],[Column4]]+Table1[[#This Row],[Column3]]+Table1[[#This Row],[Column2]]+Table1[[#This Row],[Column1]])","v":0},{"$nulls":5},{"$f":"SUM(Table1[[#This Row],[PO Employee]:[Other Employee]])","v":0},"N",{"$error":"#N/A"},{"$f":"IF(O1786>39,Table1[[#This Row],[Calc 1]],IF(O1786>1,\"Not counted as an Employee\",\"#NA\"))","v":"#NA"},{"$f":"MAX(Table1[[#This Row],[PO Employee]],Table1[[#This Row],[Other HZ Employee]],Table1[[#This Row],[Non HZ Employee]],Table1[[#This Row],[Job Site Employee]],Table1[[#This Row],[Other Employee]])","v":0},{"$f":"IF(Table1[[#This Row],[Total Hours per Month]]=Table1[[#This Row],[Column12]],\"Match\",\"Error\")","v":"Match"},{"$f":"IF(Table1[[#This Row],[Calc 2]]=\"#NA\",\"#NA\",IF(Table1[[#This Row],[Non HZ Employee]]=Table1[[#This Row],[Max calc]],\"Non HZ Employee\", Table1[[#This Row],[Calc 2]]))","v":"#NA"}]
[1770,null,1770,{"$nulls":5},{"$f":"SUM(Table1[[#This Row],[Column4]]+Table1[[#This Row],[Column3]]+Table1[[#This Row],[Column2]]+Table1[[#This Row],[Column1]])","v":0},{"$nulls":5},{"$f":"SUM(Table1[[#This Row],[PO Employee]:[Other Employee]])","v":0},"N",{"$error":"#N/A"},{"$f":"IF(O1787>39,Table1[[#This Row],[Calc 1]],IF(O1787>1,\"Not counted as an Employee\",\"#NA\"))","v":"#NA"},{"$f":"MAX(Table1[[#This Row],[PO Employee]],Table1[[#This Row],[Other HZ Employee]],Table1[[#This Row],[Non HZ Employee]],Table1[[#This Row],[Job Site Employee]],Table1[[#This Row],[Other Employee]])","v":0},{"$f":"IF(Table1[[#This Row],[Total Hours per Month]]=Table1[[#This Row],[Column12]],\"Match\",\"Error\")","v":"Match"},{"$f":"IF(Table1[[#This Row],[Calc 2]]=\"#NA\",\"#NA\",IF(Table1[[#This Row],[Non HZ Employee]]=Table1[[#This Row],[Max calc]],\"Non HZ Employee\", Table1[[#This Row],[Calc 2]]))","v":"#NA"}]
[1771,null,1771,{"$nulls":5},{"$f":"SUM(Table1[[#This Row],[Column4]]+Table1[[#This Row],[Column3]]+Table1[[#This Row],[Column2]]+Table1[[#This Row],[Column1]])","v":0},{"$nulls":5},{"$f":"SUM(Table1[[#This Row],[PO Employee]:[Other Employee]])","v":0},"N",{"$error":"#N/A"},{"$f":"IF(O1788>39,Table1[[#This Row],[Calc 1]],IF(O1788>1,\"Not counted as an Employee\",\"#NA\"))","v":"#NA"},{"$f":"MAX(Table1[[#This Row],[PO Employee]],Table1[[#This Row],[Other HZ Employee]],Table1[[#This Row],[Non HZ Employee]],Table1[[#This Row],[Job Site Employee]],Table1[[#This Row],[Other Employee]])","v":0},{"$f":"IF(Table1[[#This Row],[Total Hours per Month]]=Table1[[#This Row],[Column12]],\"Match\",\"Error\")","v":"Match"},{"$f":"IF(Table1[[#This Row],[Calc 2]]=\"#NA\",\"#NA\",IF(Table1[[#This Row],[Non HZ Employee]]=Table1[[#This Row],[Max calc]],\"Non HZ Employee\", Table1[[#This Row],[Calc 2]]))","v":"#NA"}]
[1772,null,1772,{"$nulls":5},{"$f":"SUM(Table1[[#This Row],[Column4]]+Table1[[#This Row],[Column3]]+Table1[[#This Row],[Column2]]+Table1[[#This Row],[Column1]])","v":0},{"$nulls":5},{"$f":"SUM(Table1[[#This Row],[PO Employee]:[Other Employee]])","v":0},"N",{"$error":"#N/A"},{"$f":"IF(O1789>39,Table1[[#This Row],[Calc 1]],IF(O1789>1,\"Not counted as an Employee\",\"#NA\"))","v":"#NA"},{"$f":"MAX(Table1[[#This Row],[PO Employee]],Table1[[#This Row],[Other HZ Employee]],Table1[[#This Row],[Non HZ Employee]],Table1[[#This Row],[Job Site Employee]],Table1[[#This Row],[Other Employee]])","v":0},{"$f":"IF(Table1[[#This Row],[Total Hours per Month]]=Table1[[#This Row],[Column12]],\"Match\",\"Error\")","v":"Match"},{"$f":"IF(Table1[[#This Row],[Calc 2]]=\"#NA\",\"#NA\",IF(Table1[[#This Row],[Non HZ Employee]]=Table1[[#This Row],[Max calc]],\"Non HZ Employee\", Table1[[#This Row],[Calc 2]]))","v":"#NA"}]
[1773,null,1773,{"$nulls":5},{"$f":"SUM(Table1[[#This Row],[Column4]]+Table1[[#This Row],[Column3]]+Table1[[#This Row],[Column2]]+Table1[[#This Row],[Column1]])","v":0},{"$nulls":5},{"$f":"SUM(Table1[[#This Row],[PO Employee]:[Other Employee]])","v":0},"N",{"$error":"#N/A"},{"$f":"IF(O1790>39,Table1[[#This Row],[Calc 1]],IF(O1790>1,\"Not counted as an Employee\",\"#NA\"))","v":"#NA"},{"$f":"MAX(Table1[[#This Row],[PO Employee]],Table1[[#This Row],[Other HZ Employee]],Table1[[#This Row],[Non HZ Employee]],Table1[[#This Row],[Job Site Employee]],Table1[[#This Row],[Other Employee]])","v":0},{"$f":"IF(Table1[[#This Row],[Total Hours per Month]]=Table1[[#This Row],[Column12]],\"Match\",\"Error\")","v":"Match"},{"$f":"IF(Table1[[#This Row],[Calc 2]]=\"#NA\",\"#NA\",IF(Table1[[#This Row],[Non HZ Employee]]=Table1[[#This Row],[Max calc]],\"Non HZ Employee\", Table1[[#This Row],[Calc 2]]))","v":"#NA"}]
[1774,null,1774,{"$nulls":5},{"$f":"SUM(Table1[[#This Row],[Column4]]+Table1[[#This Row],[Column3]]+Table1[[#This Row],[Column2]]+Table1[[#This Row],[Column1]])","v":0},{"$nulls":5},{"$f":"SUM(Table1[[#This Row],[PO Employee]:[Other Employee]])","v":0},"N",{"$error":"#N/A"},{"$f":"IF(O1791>39,Table1[[#This Row],[Calc 1]],IF(O1791>1,\"Not counted as an Employee\",\"#NA\"))","v":"#NA"},{"$f":"MAX(Table1[[#This Row],[PO Employee]],Table1[[#This Row],[Other HZ Employee]],Table1[[#This Row],[Non HZ Employee]],Table1[[#This Row],[Job Site Employee]],Table1[[#This Row],[Other Employee]])","v":0},{"$f":"IF(Table1[[#This Row],[Total Hours per Month]]=Table1[[#This Row],[Column12]],\"Match\",\"Error\")","v":"Match"},{"$f":"IF(Table1[[#This Row],[Calc 2]]=\"#NA\",\"#NA\",IF(Table1[[#This Row],[Non HZ Employee]]=Table1[[#This Row],[Max calc]],\"Non HZ Employee\", Table1[[#This Row],[Calc 2]]))","v":"#NA"}]
[1775,null,1775,{"$nulls":5},{"$f":"SUM(Table1[[#This Row],[Column4]]+Table1[[#This Row],[Column3]]+Table1[[#This Row],[Column2]]+Table1[[#This Row],[Column1]])","v":0},{"$nulls":5},{"$f":"SUM(Table1[[#This Row],[PO Employee]:[Other Employee]])","v":0},"N",{"$error":"#N/A"},{"$f":"IF(O1792>39,Table1[[#This Row],[Calc 1]],IF(O1792>1,\"Not counted as an Employee\",\"#NA\"))","v":"#NA"},{"$f":"MAX(Table1[[#This Row],[PO Employee]],Table1[[#This Row],[Other HZ Employee]],Table1[[#This Row],[Non HZ Employee]],Table1[[#This Row],[Job Site Employee]],Table1[[#This Row],[Other Employee]])","v":0},{"$f":"IF(Table1[[#This Row],[Total Hours per Month]]=Table1[[#This Row],[Column12]],\"Match\",\"Error\")","v":"Match"},{"$f":"IF(Table1[[#This Row],[Calc 2]]=\"#NA\",\"#NA\",IF(Table1[[#This Row],[Non HZ Employee]]=Table1[[#This Row],[Max calc]],\"Non HZ Employee\", Table1[[#This Row],[Calc 2]]))","v":"#NA"}]
[1776,null,1776,{"$nulls":5},{"$f":"SUM(Table1[[#This Row],[Column4]]+Table1[[#This Row],[Column3]]+Table1[[#This Row],[Column2]]+Table1[[#This Row],[Column1]])","v":0},{"$nulls":5},{"$f":"SUM(Table1[[#This Row],[PO Employee]:[Other Employee]])","v":0},"N",{"$error":"#N/A"},{"$f":"IF(O1793>39,Table1[[#This Row],[Calc 1]],IF(O1793>1,\"Not counted as an Employee\",\"#NA\"))","v":"#NA"},{"$f":"MAX(Table1[[#This Row],[PO Employee]],Table1[[#This Row],[Other HZ Employee]],Table1[[#This Row],[Non HZ Employee]],Table1[[#This Row],[Job Site Employee]],Table1[[#This Row],[Other Employee]])","v":0},{"$f":"IF(Table1[[#This Row],[Total Hours per Month]]=Table1[[#This Row],[Column12]],\"Match\",\"Error\")","v":"Match"},{"$f":"IF(Table1[[#This Row],[Calc 2]]=\"#NA\",\"#NA\",IF(Table1[[#This Row],[Non HZ Employee]]=Table1[[#This Row],[Max calc]],\"Non HZ Employee\", Table1[[#This Row],[Calc 2]]))","v":"#NA"}]
[1777,null,1777,{"$nulls":5},{"$f":"SUM(Table1[[#This Row],[Column4]]+Table1[[#This Row],[Column3]]+Table1[[#This Row],[Column2]]+Table1[[#This Row],[Column1]])","v":0},{"$nulls":5},{"$f":"SUM(Table1[[#This Row],[PO Employee]:[Other Employee]])","v":0},"N",{"$error":"#N/A"},{"$f":"IF(O1794>39,Table1[[#This Row],[Calc 1]],IF(O1794>1,\"Not counted as an Employee\",\"#NA\"))","v":"#NA"},{"$f":"MAX(Table1[[#This Row],[PO Employee]],Table1[[#This Row],[Other HZ Employee]],Table1[[#This Row],[Non HZ Employee]],Table1[[#This Row],[Job Site Employee]],Table1[[#This Row],[Other Employee]])","v":0},{"$f":"IF(Table1[[#This Row],[Total Hours per Month]]=Table1[[#This Row],[Column12]],\"Match\",\"Error\")","v":"Match"},{"$f":"IF(Table1[[#This Row],[Calc 2]]=\"#NA\",\"#NA\",IF(Table1[[#This Row],[Non HZ Employee]]=Table1[[#This Row],[Max calc]],\"Non HZ Employee\", Table1[[#This Row],[Calc 2]]))","v":"#NA"}]
[1778,null,1778,{"$nulls":5},{"$f":"SUM(Table1[[#This Row],[Column4]]+Table1[[#This Row],[Column3]]+Table1[[#This Row],[Column2]]+Table1[[#This Row],[Column1]])","v":0},{"$nulls":5},{"$f":"SUM(Table1[[#This Row],[PO Employee]:[Other Employee]])","v":0},"N",{"$error":"#N/A"},{"$f":"IF(O1795>39,Table1[[#This Row],[Calc 1]],IF(O1795>1,\"Not counted as an Employee\",\"#NA\"))","v":"#NA"},{"$f":"MAX(Table1[[#This Row],[PO Employee]],Table1[[#This Row],[Other HZ Employee]],Table1[[#This Row],[Non HZ Employee]],Table1[[#This Row],[Job Site Employee]],Table1[[#This Row],[Other Employee]])","v":0},{"$f":"IF(Table1[[#This Row],[Total Hours per Month]]=Table1[[#This Row],[Column12]],\"Match\",\"Error\")","v":"Match"},{"$f":"IF(Table1[[#This Row],[Calc 2]]=\"#NA\",\"#NA\",IF(Table1[[#This Row],[Non HZ Employee]]=Table1[[#This Row],[Max calc]],\"Non HZ Employee\", Table1[[#This Row],[Calc 2]]))","v":"#NA"}]
[1779,null,1779,{"$nulls":5},{"$f":"SUM(Table1[[#This Row],[Column4]]+Table1[[#This Row],[Column3]]+Table1[[#This Row],[Column2]]+Table1[[#This Row],[Column1]])","v":0},{"$nulls":5},{"$f":"SUM(Table1[[#This Row],[PO Employee]:[Other Employee]])","v":0},"N",{"$error":"#N/A"},{"$f":"IF(O1796>39,Table1[[#This Row],[Calc 1]],IF(O1796>1,\"Not counted as an Employee\",\"#NA\"))","v":"#NA"},{"$f":"MAX(Table1[[#This Row],[PO Employee]],Table1[[#This Row],[Other HZ Employee]],Table1[[#This Row],[Non HZ Employee]],Table1[[#This Row],[Job Site Employee]],Table1[[#This Row],[Other Employee]])","v":0},{"$f":"IF(Table1[[#This Row],[Total Hours per Month]]=Table1[[#This Row],[Column12]],\"Match\",\"Error\")","v":"Match"},{"$f":"IF(Table1[[#This Row],[Calc 2]]=\"#NA\",\"#NA\",IF(Table1[[#This Row],[Non HZ Employee]]=Table1[[#This Row],[Max calc]],\"Non HZ Employee\", Table1[[#This Row],[Calc 2]]))","v":"#NA"}]
[1780,null,1780,{"$nulls":5},{"$f":"SUM(Table1[[#This Row],[Column4]]+Table1[[#This Row],[Column3]]+Table1[[#This Row],[Column2]]+Table1[[#This Row],[Column1]])","v":0},{"$nulls":5},{"$f":"SUM(Table1[[#This Row],[PO Employee]:[Other Employee]])","v":0},"N",{"$error":"#N/A"},{"$f":"IF(O1797>39,Table1[[#This Row],[Calc 1]],IF(O1797>1,\"Not counted as an Employee\",\"#NA\"))","v":"#NA"},{"$f":"MAX(Table1[[#This Row],[PO Employee]],Table1[[#This Row],[Other HZ Employee]],Table1[[#This Row],[Non HZ Employee]],Table1[[#This Row],[Job Site Employee]],Table1[[#This Row],[Other Employee]])","v":0},{"$f":"IF(Table1[[#This Row],[Total Hours per Month]]=Table1[[#This Row],[Column12]],\"Match\",\"Error\")","v":"Match"},{"$f":"IF(Table1[[#This Row],[Calc 2]]=\"#NA\",\"#NA\",IF(Table1[[#This Row],[Non HZ Employee]]=Table1[[#This Row],[Max calc]],\"Non HZ Employee\", Table1[[#This Row],[Calc 2]]))","v":"#NA"}]
[1781,null,1781,{"$nulls":5},{"$f":"SUM(Table1[[#This Row],[Column4]]+Table1[[#This Row],[Column3]]+Table1[[#This Row],[Column2]]+Table1[[#This Row],[Column1]])","v":0},{"$nulls":5},{"$f":"SUM(Table1[[#This Row],[PO Employee]:[Other Employee]])","v":0},"N",{"$error":"#N/A"},{"$f":"IF(O1798>39,Table1[[#This Row],[Calc 1]],IF(O1798>1,\"Not counted as an Employee\",\"#NA\"))","v":"#NA"},{"$f":"MAX(Table1[[#This Row],[PO Employee]],Table1[[#This Row],[Other HZ Employee]],Table1[[#This Row],[Non HZ Employee]],Table1[[#This Row],[Job Site Employee]],Table1[[#This Row],[Other Employee]])","v":0},{"$f":"IF(Table1[[#This Row],[Total Hours per Month]]=Table1[[#This Row],[Column12]],\"Match\",\"Error\")","v":"Match"},{"$f":"IF(Table1[[#This Row],[Calc 2]]=\"#NA\",\"#NA\",IF(Table1[[#This Row],[Non HZ Employee]]=Table1[[#This Row],[Max calc]],\"Non HZ Employee\", Table1[[#This Row],[Calc 2]]))","v":"#NA"}]
[1782,null,1782,{"$nulls":5},{"$f":"SUM(Table1[[#This Row],[Column4]]+Table1[[#This Row],[Column3]]+Table1[[#This Row],[Column2]]+Table1[[#This Row],[Column1]])","v":0},{"$nulls":5},{"$f":"SUM(Table1[[#This Row],[PO Employee]:[Other Employee]])","v":0},"N",{"$error":"#N/A"},{"$f":"IF(O1799>39,Table1[[#This Row],[Calc 1]],IF(O1799>1,\"Not counted as an Employee\",\"#NA\"))","v":"#NA"},{"$f":"MAX(Table1[[#This Row],[PO Employee]],Table1[[#This Row],[Other HZ Employee]],Table1[[#This Row],[Non HZ Employee]],Table1[[#This Row],[Job Site Employee]],Table1[[#This Row],[Other Employee]])","v":0},{"$f":"IF(Table1[[#This Row],[Total Hours per Month]]=Table1[[#This Row],[Column12]],\"Match\",\"Error\")","v":"Match"},{"$f":"IF(Table1[[#This Row],[Calc 2]]=\"#NA\",\"#NA\",IF(Table1[[#This Row],[Non HZ Employee]]=Table1[[#This Row],[Max calc]],\"Non HZ Employee\", Table1[[#This Row],[Calc 2]]))","v":"#NA"}]
[1783,null,1783,{"$nulls":5},{"$f":"SUM(Table1[[#This Row],[Column4]]+Table1[[#This Row],[Column3]]+Table1[[#This Row],[Column2]]+Table1[[#This Row],[Column1]])","v":0},{"$nulls":5},{"$f":"SUM(Table1[[#This Row],[PO Employee]:[Other Employee]])","v":0},"N",{"$error":"#N/A"},{"$f":"IF(O1800>39,Table1[[#This Row],[Calc 1]],IF(O1800>1,\"Not counted as an Employee\",\"#NA\"))","v":"#NA"},{"$f":"MAX(Table1[[#This Row],[PO Employee]],Table1[[#This Row],[Other HZ Employee]],Table1[[#This Row],[Non HZ Employee]],Table1[[#This Row],[Job Site Employee]],Table1[[#This Row],[Other Employee]])","v":0},{"$f":"IF(Table1[[#This Row],[Total Hours per Month]]=Table1[[#This Row],[Column12]],\"Match\",\"Error\")","v":"Match"},{"$f":"IF(Table1[[#This Row],[Calc 2]]=\"#NA\",\"#NA\",IF(Table1[[#This Row],[Non HZ Employee]]=Table1[[#This Row],[Max calc]],\"Non HZ Employee\", Table1[[#This Row],[Calc 2]]))","v":"#NA"}]
[1784,null,1784,{"$nulls":5},{"$f":"SUM(Table1[[#This Row],[Column4]]+Table1[[#This Row],[Column3]]+Table1[[#This Row],[Column2]]+Table1[[#This Row],[Column1]])","v":0},{"$nulls":5},{"$f":"SUM(Table1[[#This Row],[PO Employee]:[Other Employee]])","v":0},"N",{"$error":"#N/A"},{"$f":"IF(O1801>39,Table1[[#This Row],[Calc 1]],IF(O1801>1,\"Not counted as an Employee\",\"#NA\"))","v":"#NA"},{"$f":"MAX(Table1[[#This Row],[PO Employee]],Table1[[#This Row],[Other HZ Employee]],Table1[[#This Row],[Non HZ Employee]],Table1[[#This Row],[Job Site Employee]],Table1[[#This Row],[Other Employee]])","v":0},{"$f":"IF(Table1[[#This Row],[Total Hours per Month]]=Table1[[#This Row],[Column12]],\"Match\",\"Error\")","v":"Match"},{"$f":"IF(Table1[[#This Row],[Calc 2]]=\"#NA\",\"#NA\",IF(Table1[[#This Row],[Non HZ Employee]]=Table1[[#This Row],[Max calc]],\"Non HZ Employee\", Table1[[#This Row],[Calc 2]]))","v":"#NA"}]
[1785,null,1785,{"$nulls":5},{"$f":"SUM(Table1[[#This Row],[Column4]]+Table1[[#This Row],[Column3]]+Table1[[#This Row],[Column2]]+Table1[[#This Row],[Column1]])","v":0},{"$nulls":5},{"$f":"SUM(Table1[[#This Row],[PO Employee]:[Other Employee]])","v":0},"N",{"$error":"#N/A"},{"$f":"IF(O1802>39,Table1[[#This Row],[Calc 1]],IF(O1802>1,\"Not counted as an Employee\",\"#NA\"))","v":"#NA"},{"$f":"MAX(Table1[[#This Row],[PO Employee]],Table1[[#This Row],[Other HZ Employee]],Table1[[#This Row],[Non HZ Employee]],Table1[[#This Row],[Job Site Employee]],Table1[[#This Row],[Other Employee]])","v":0},{"$f":"IF(Table1[[#This Row],[Total Hours per Month]]=Table1[[#This Row],[Column12]],\"Match\",\"Error\")","v":"Match"},{"$f":"IF(Table1[[#This Row],[Calc 2]]=\"#NA\",\"#NA\",IF(Table1[[#This Row],[Non HZ Employee]]=Table1[[#This Row],[Max calc]],\"Non HZ Employee\", Table1[[#This Row],[Calc 2]]))","v":"#NA"}]
[1786,null,1786,{"$nulls":5},{"$f":"SUM(Table1[[#This Row],[Column4]]+Table1[[#This Row],[Column3]]+Table1[[#This Row],[Column2]]+Table1[[#This Row],[Column1]])","v":0},{"$nulls":5},{"$f":"SUM(Table1[[#This Row],[PO Employee]:[Other Employee]])","v":0},"N",{"$error":"#N/A"},{"$f":"IF(O1803>39,Table1[[#This Row],[Calc 1]],IF(O1803>1,\"Not counted as an Employee\",\"#NA\"))","v":"#NA"},{"$f":"MAX(Table1[[#This Row],[PO Employee]],Table1[[#This Row],[Other HZ Employee]],Table1[[#This Row],[Non HZ Employee]],Table1[[#This Row],[Job Site Employee]],Table1[[#This Row],[Other Employee]])","v":0},{"$f":"IF(Table1[[#This Row],[Total Hours per Month]]=Table1[[#This Row],[Column12]],\"Match\",\"Error\")","v":"Match"},{"$f":"IF(Table1[[#This Row],[Calc 2]]=\"#NA\",\"#NA\",IF(Table1[[#This Row],[Non HZ Employee]]=Table1[[#This Row],[Max calc]],\"Non HZ Employee\", Table1[[#This Row],[Calc 2]]))","v":"#NA"}]
[1787,null,1787,{"$nulls":5},{"$f":"SUM(Table1[[#This Row],[Column4]]+Table1[[#This Row],[Column3]]+Table1[[#This Row],[Column2]]+Table1[[#This Row],[Column1]])","v":0},{"$nulls":5},{"$f":"SUM(Table1[[#This Row],[PO Employee]:[Other Employee]])","v":0},"N",{"$error":"#N/A"},{"$f":"IF(O1804>39,Table1[[#This Row],[Calc 1]],IF(O1804>1,\"Not counted as an Employee\",\"#NA\"))","v":"#NA"},{"$f":"MAX(Table1[[#This Row],[PO Employee]],Table1[[#This Row],[Other HZ Employee]],Table1[[#This Row],[Non HZ Employee]],Table1[[#This Row],[Job Site Employee]],Table1[[#This Row],[Other Employee]])","v":0},{"$f":"IF(Table1[[#This Row],[Total Hours per Month]]=Table1[[#This Row],[Column12]],\"Match\",\"Error\")","v":"Match"},{"$f":"IF(Table1[[#This Row],[Calc 2]]=\"#NA\",\"#NA\",IF(Table1[[#This Row],[Non HZ Employee]]=Table1[[#This Row],[Max calc]],\"Non HZ Employee\", Table1[[#This Row],[Calc 2]]))","v":"#NA"}]
[1788,null,1788,{"$nulls":5},{"$f":"SUM(Table1[[#This Row],[Column4]]+Table1[[#This Row],[Column3]]+Table1[[#This Row],[Column2]]+Table1[[#This Row],[Column1]])","v":0},{"$nulls":5},{"$f":"SUM(Table1[[#This Row],[PO Employee]:[Other Employee]])","v":0},"N",{"$error":"#N/A"},{"$f":"IF(O1805>39,Table1[[#This Row],[Calc 1]],IF(O1805>1,\"Not counted as an Employee\",\"#NA\"))","v":"#NA"},{"$f":"MAX(Table1[[#This Row],[PO Employee]],Table1[[#This Row],[Other HZ Employee]],Table1[[#This Row],[Non HZ Employee]],Table1[[#This Row],[Job Site Employee]],Table1[[#This Row],[Other Employee]])","v":0},{"$f":"IF(Table1[[#This Row],[Total Hours per Month]]=Table1[[#This Row],[Column12]],\"Match\",\"Error\")","v":"Match"},{"$f":"IF(Table1[[#This Row],[Calc 2]]=\"#NA\",\"#NA\",IF(Table1[[#This Row],[Non HZ Employee]]=Table1[[#This Row],[Max calc]],\"Non HZ Employee\", Table1[[#This Row],[Calc 2]]))","v":"#NA"}]
[1789,null,1789,{"$nulls":5},{"$f":"SUM(Table1[[#This Row],[Column4]]+Table1[[#This Row],[Column3]]+Table1[[#This Row],[Column2]]+Table1[[#This Row],[Column1]])","v":0},{"$nulls":5},{"$f":"SUM(Table1[[#This Row],[PO Employee]:[Other Employee]])","v":0},"N",{"$error":"#N/A"},{"$f":"IF(O1806>39,Table1[[#This Row],[Calc 1]],IF(O1806>1,\"Not counted as an Employee\",\"#NA\"))","v":"#NA"},{"$f":"MAX(Table1[[#This Row],[PO Employee]],Table1[[#This Row],[Other HZ Employee]],Table1[[#This Row],[Non HZ Employee]],Table1[[#This Row],[Job Site Employee]],Table1[[#This Row],[Other Employee]])","v":0},{"$f":"IF(Table1[[#This Row],[Total Hours per Month]]=Table1[[#This Row],[Column12]],\"Match\",\"Error\")","v":"Match"},{"$f":"IF(Table1[[#This Row],[Calc 2]]=\"#NA\",\"#NA\",IF(Table1[[#This Row],[Non HZ Employee]]=Table1[[#This Row],[Max calc]],\"Non HZ Employee\", Table1[[#This Row],[Calc 2]]))","v":"#NA"}]
[1790,null,1790,{"$nulls":5},{"$f":"SUM(Table1[[#This Row],[Column4]]+Table1[[#This Row],[Column3]]+Table1[[#This Row],[Column2]]+Table1[[#This Row],[Column1]])","v":0},{"$nulls":5},{"$f":"SUM(Table1[[#This Row],[PO Employee]:[Other Employee]])","v":0},"N",{"$error":"#N/A"},{"$f":"IF(O1807>39,Table1[[#This Row],[Calc 1]],IF(O1807>1,\"Not counted as an Employee\",\"#NA\"))","v":"#NA"},{"$f":"MAX(Table1[[#This Row],[PO Employee]],Table1[[#This Row],[Other HZ Employee]],Table1[[#This Row],[Non HZ Employee]],Table1[[#This Row],[Job Site Employee]],Table1[[#This Row],[Other Employee]])","v":0},{"$f":"IF(Table1[[#This Row],[Total Hours per Month]]=Table1[[#This Row],[Column12]],\"Match\",\"Error\")","v":"Match"},{"$f":"IF(Table1[[#This Row],[Calc 2]]=\"#NA\",\"#NA\",IF(Table1[[#This Row],[Non HZ Employee]]=Table1[[#This Row],[Max calc]],\"Non HZ Employee\", Table1[[#This Row],[Calc 2]]))","v":"#NA"}]
[1791,null,1791,{"$nulls":5},{"$f":"SUM(Table1[[#This Row],[Column4]]+Table1[[#This Row],[Column3]]+Table1[[#This Row],[Column2]]+Table1[[#This Row],[Column1]])","v":0},{"$nulls":5},{"$f":"SUM(Table1[[#This Row],[PO Employee]:[Other Employee]])","v":0},"N",{"$error":"#N/A"},{"$f":"IF(O1808>39,Table1[[#This Row],[Calc 1]],IF(O1808>1,\"Not counted as an Employee\",\"#NA\"))","v":"#NA"},{"$f":"MAX(Table1[[#This Row],[PO Employee]],Table1[[#This Row],[Other HZ Employee]],Table1[[#This Row],[Non HZ Employee]],Table1[[#This Row],[Job Site Employee]],Table1[[#This Row],[Other Employee]])","v":0},{"$f":"IF(Table1[[#This Row],[Total Hours per Month]]=Table1[[#This Row],[Column12]],\"Match\",\"Error\")","v":"Match"},{"$f":"IF(Table1[[#This Row],[Calc 2]]=\"#NA\",\"#NA\",IF(Table1[[#This Row],[Non HZ Employee]]=Table1[[#This Row],[Max calc]],\"Non HZ Employee\", Table1[[#This Row],[Calc 2]]))","v":"#NA"}]
[1792,null,1792,{"$nulls":5},{"$f":"SUM(Table1[[#This Row],[Column4]]+Table1[[#This Row],[Column3]]+Table1[[#This Row],[Column2]]+Table1[[#This Row],[Column1]])","v":0},{"$nulls":5},{"$f":"SUM(Table1[[#This Row],[PO Employee]:[Other Employee]])","v":0},"N",{"$error":"#N/A"},{"$f":"IF(O1809>39,Table1[[#This Row],[Calc 1]],IF(O1809>1,\"Not counted as an Employee\",\"#NA\"))","v":"#NA"},{"$f":"MAX(Table1[[#This Row],[PO Employee]],Table1[[#This Row],[Other HZ Employee]],Table1[[#This Row],[Non HZ Employee]],Table1[[#This Row],[Job Site Employee]],Table1[[#This Row],[Other Employee]])","v":0},{"$f":"IF(Table1[[#This Row],[Total Hours per Month]]=Table1[[#This Row],[Column12]],\"Match\",\"Error\")","v":"Match"},{"$f":"IF(Table1[[#This Row],[Calc 2]]=\"#NA\",\"#NA\",IF(Table1[[#This Row],[Non HZ Employee]]=Table1[[#This Row],[Max calc]],\"Non HZ Employee\", Table1[[#This Row],[Calc 2]]))","v":"#NA"}]
[1793,null,1793,{"$nulls":5},{"$f":"SUM(Table1[[#This Row],[Column4]]+Table1[[#This Row],[Column3]]+Table1[[#This Row],[Column2]]+Table1[[#This Row],[Column1]])","v":0},{"$nulls":5},{"$f":"SUM(Table1[[#This Row],[PO Employee]:[Other Employee]])","v":0},"N",{"$f":"INDEX($J$17:$N$17,MATCH(MAX(J1810:N1810),J1810:N1810,0))","v":{"$error":"#N/A"}},{"$f":"IF(O1810>39,Table1[[#This Row],[Calc 1]],IF(O1810>1,\"Not counted as an Employee\",\"#NA\"))","v":"#NA"},{"$f":"MAX(Table1[[#This Row],[PO Employee]],Table1[[#This Row],[Other HZ Employee]],Table1[[#This Row],[Non HZ Employee]],Table1[[#This Row],[Job Site Employee]],Table1[[#This Row],[Other Employee]])","v":0},{"$f":"IF(Table1[[#This Row],[Total Hours per Month]]=Table1[[#This Row],[Column12]],\"Match\",\"Error\")","v":"Match"},{"$f":"IF(Table1[[#This Row],[Calc 2]]=\"#NA\",\"#NA\",IF(Table1[[#This Row],[Non HZ Employee]]=Table1[[#This Row],[Max calc]],\"Non HZ Employee\", Table1[[#This Row],[Calc 2]]))","v":"#NA"}]
[1794,null,1794,{"$nulls":5},{"$f":"SUM(Table1[[#This Row],[Column4]]+Table1[[#This Row],[Column3]]+Table1[[#This Row],[Column2]]+Table1[[#This Row],[Column1]])","v":0},{"$nulls":5},{"$f":"SUM(Table1[[#This Row],[PO Employee]:[Other Employee]])","v":0},{"$f":"IF(O1811>=40,\"Y\",\"N\")","v":"N"},{"$error":"#N/A"},{"$f":"IF(O1811>39,Table1[[#This Row],[Calc 1]],IF(O1811>1,\"Not counted as an Employee\",\"#NA\"))","v":"#NA"},{"$f":"MAX(Table1[[#This Row],[PO Employee]],Table1[[#This Row],[Other HZ Employee]],Table1[[#This Row],[Non HZ Employee]],Table1[[#This Row],[Job Site Employee]],Table1[[#This Row],[Other Employee]])","v":0},{"$f":"IF(Table1[[#This Row],[Total Hours per Month]]=Table1[[#This Row],[Column12]],\"Match\",\"Error\")","v":"Match"},{"$f":"IF(Table1[[#This Row],[Calc 2]]=\"#NA\",\"#NA\",IF(Table1[[#This Row],[Non HZ Employee]]=Table1[[#This Row],[Max calc]],\"Non HZ Employee\", Table1[[#This Row],[Calc 2]]))","v":"#NA"}]
[1795,null,1795,{"$nulls":5},{"$f":"SUM(Table1[[#This Row],[Column4]]+Table1[[#This Row],[Column3]]+Table1[[#This Row],[Column2]]+Table1[[#This Row],[Column1]])","v":0},{"$nulls":5},{"$f":"SUM(Table1[[#This Row],[PO Employee]:[Other Employee]])","v":0},"N",{"$error":"#N/A"},{"$f":"IF(O1812>39,Table1[[#This Row],[Calc 1]],IF(O1812>1,\"Not counted as an Employee\",\"#NA\"))","v":"#NA"},{"$f":"MAX(Table1[[#This Row],[PO Employee]],Table1[[#This Row],[Other HZ Employee]],Table1[[#This Row],[Non HZ Employee]],Table1[[#This Row],[Job Site Employee]],Table1[[#This Row],[Other Employee]])","v":0},{"$f":"IF(Table1[[#This Row],[Total Hours per Month]]=Table1[[#This Row],[Column12]],\"Match\",\"Error\")","v":"Match"},{"$f":"IF(Table1[[#This Row],[Calc 2]]=\"#NA\",\"#NA\",IF(Table1[[#This Row],[Non HZ Employee]]=Table1[[#This Row],[Max calc]],\"Non HZ Employee\", Table1[[#This Row],[Calc 2]]))","v":"#NA"}]
[1796,null,1796,{"$nulls":5},{"$f":"SUM(Table1[[#This Row],[Column4]]+Table1[[#This Row],[Column3]]+Table1[[#This Row],[Column2]]+Table1[[#This Row],[Column1]])","v":0},{"$nulls":5},{"$f":"SUM(Table1[[#This Row],[PO Employee]:[Other Employee]])","v":0},"N",{"$error":"#N/A"},{"$f":"IF(O1813>39,Table1[[#This Row],[Calc 1]],IF(O1813>1,\"Not counted as an Employee\",\"#NA\"))","v":"#NA"},{"$f":"MAX(Table1[[#This Row],[PO Employee]],Table1[[#This Row],[Other HZ Employee]],Table1[[#This Row],[Non HZ Employee]],Table1[[#This Row],[Job Site Employee]],Table1[[#This Row],[Other Employee]])","v":0},{"$f":"IF(Table1[[#This Row],[Total Hours per Month]]=Table1[[#This Row],[Column12]],\"Match\",\"Error\")","v":"Match"},{"$f":"IF(Table1[[#This Row],[Calc 2]]=\"#NA\",\"#NA\",IF(Table1[[#This Row],[Non HZ Employee]]=Table1[[#This Row],[Max calc]],\"Non HZ Employee\", Table1[[#This Row],[Calc 2]]))","v":"#NA"}]
[1797,null,1797,{"$nulls":5},{"$f":"SUM(Table1[[#This Row],[Column4]]+Table1[[#This Row],[Column3]]+Table1[[#This Row],[Column2]]+Table1[[#This Row],[Column1]])","v":0},{"$nulls":5},{"$f":"SUM(Table1[[#This Row],[PO Employee]:[Other Employee]])","v":0},"N",{"$error":"#N/A"},{"$f":"IF(O1814>39,Table1[[#This Row],[Calc 1]],IF(O1814>1,\"Not counted as an Employee\",\"#NA\"))","v":"#NA"},{"$f":"MAX(Table1[[#This Row],[PO Employee]],Table1[[#This Row],[Other HZ Employee]],Table1[[#This Row],[Non HZ Employee]],Table1[[#This Row],[Job Site Employee]],Table1[[#This Row],[Other Employee]])","v":0},{"$f":"IF(Table1[[#This Row],[Total Hours per Month]]=Table1[[#This Row],[Column12]],\"Match\",\"Error\")","v":"Match"},{"$f":"IF(Table1[[#This Row],[Calc 2]]=\"#NA\",\"#NA\",IF(Table1[[#This Row],[Non HZ Employee]]=Table1[[#This Row],[Max calc]],\"Non HZ Employee\", Table1[[#This Row],[Calc 2]]))","v":"#NA"}]
[1798,null,1798,{"$nulls":5},{"$f":"SUM(Table1[[#This Row],[Column4]]+Table1[[#This Row],[Column3]]+Table1[[#This Row],[Column2]]+Table1[[#This Row],[Column1]])","v":0},{"$nulls":5},{"$f":"SUM(Table1[[#This Row],[PO Employee]:[Other Employee]])","v":0},"N",{"$error":"#N/A"},{"$f":"IF(O1815>39,Table1[[#This Row],[Calc 1]],IF(O1815>1,\"Not counted as an Employee\",\"#NA\"))","v":"#NA"},{"$f":"MAX(Table1[[#This Row],[PO Employee]],Table1[[#This Row],[Other HZ Employee]],Table1[[#This Row],[Non HZ Employee]],Table1[[#This Row],[Job Site Employee]],Table1[[#This Row],[Other Employee]])","v":0},{"$f":"IF(Table1[[#This Row],[Total Hours per Month]]=Table1[[#This Row],[Column12]],\"Match\",\"Error\")","v":"Match"},{"$f":"IF(Table1[[#This Row],[Calc 2]]=\"#NA\",\"#NA\",IF(Table1[[#This Row],[Non HZ Employee]]=Table1[[#This Row],[Max calc]],\"Non HZ Employee\", Table1[[#This Row],[Calc 2]]))","v":"#NA"}]
[1799,null,1799,{"$nulls":5},{"$f":"SUM(Table1[[#This Row],[Column4]]+Table1[[#This Row],[Column3]]+Table1[[#This Row],[Column2]]+Table1[[#This Row],[Column1]])","v":0},{"$nulls":5},{"$f":"SUM(Table1[[#This Row],[PO Employee]:[Other Employee]])","v":0},"N",{"$error":"#N/A"},{"$f":"IF(O1816>39,Table1[[#This Row],[Calc 1]],IF(O1816>1,\"Not counted as an Employee\",\"#NA\"))","v":"#NA"},{"$f":"MAX(Table1[[#This Row],[PO Employee]],Table1[[#This Row],[Other HZ Employee]],Table1[[#This Row],[Non HZ Employee]],Table1[[#This Row],[Job Site Employee]],Table1[[#This Row],[Other Employee]])","v":0},{"$f":"IF(Table1[[#This Row],[Total Hours per Month]]=Table1[[#This Row],[Column12]],\"Match\",\"Error\")","v":"Match"},{"$f":"IF(Table1[[#This Row],[Calc 2]]=\"#NA\",\"#NA\",IF(Table1[[#This Row],[Non HZ Employee]]=Table1[[#This Row],[Max calc]],\"Non HZ Employee\", Table1[[#This Row],[Calc 2]]))","v":"#NA"}]
[1800,null,1800,{"$nulls":5},{"$f":"SUM(Table1[[#This Row],[Column4]]+Table1[[#This Row],[Column3]]+Table1[[#This Row],[Column2]]+Table1[[#This Row],[Column1]])","v":0},{"$nulls":5},{"$f":"SUM(Table1[[#This Row],[PO Employee]:[Other Employee]])","v":0},"N",{"$error":"#N/A"},{"$f":"IF(O1817>39,Table1[[#This Row],[Calc 1]],IF(O1817>1,\"Not counted as an Employee\",\"#NA\"))","v":"#NA"},{"$f":"MAX(Table1[[#This Row],[PO Employee]],Table1[[#This Row],[Other HZ Employee]],Table1[[#This Row],[Non HZ Employee]],Table1[[#This Row],[Job Site Employee]],Table1[[#This Row],[Other Employee]])","v":0},{"$f":"IF(Table1[[#This Row],[Total Hours per Month]]=Table1[[#This Row],[Column12]],\"Match\",\"Error\")","v":"Match"},{"$f":"IF(Table1[[#This Row],[Calc 2]]=\"#NA\",\"#NA\",IF(Table1[[#This Row],[Non HZ Employee]]=Table1[[#This Row],[Max calc]],\"Non HZ Employee\", Table1[[#This Row],[Calc 2]]))","v":"#NA"}]
[1801,null,1801,{"$nulls":5},{"$f":"SUM(Table1[[#This Row],[Column4]]+Table1[[#This Row],[Column3]]+Table1[[#This Row],[Column2]]+Table1[[#This Row],[Column1]])","v":0},{"$nulls":5},{"$f":"SUM(Table1[[#This Row],[PO Employee]:[Other Employee]])","v":0},"N",{"$error":"#N/A"},{"$f":"IF(O1818>39,Table1[[#This Row],[Calc 1]],IF(O1818>1,\"Not counted as an Employee\",\"#NA\"))","v":"#NA"},{"$f":"MAX(Table1[[#This Row],[PO Employee]],Table1[[#This Row],[Other HZ Employee]],Table1[[#This Row],[Non HZ Employee]],Table1[[#This Row],[Job Site Employee]],Table1[[#This Row],[Other Employee]])","v":0},{"$f":"IF(Table1[[#This Row],[Total Hours per Month]]=Table1[[#This Row],[Column12]],\"Match\",\"Error\")","v":"Match"},{"$f":"IF(Table1[[#This Row],[Calc 2]]=\"#NA\",\"#NA\",IF(Table1[[#This Row],[Non HZ Employee]]=Table1[[#This Row],[Max calc]],\"Non HZ Employee\", Table1[[#This Row],[Calc 2]]))","v":"#NA"}]
[1802,null,1802,{"$nulls":5},{"$f":"SUM(Table1[[#This Row],[Column4]]+Table1[[#This Row],[Column3]]+Table1[[#This Row],[Column2]]+Table1[[#This Row],[Column1]])","v":0},{"$nulls":5},{"$f":"SUM(Table1[[#This Row],[PO Employee]:[Other Employee]])","v":0},"N",{"$error":"#N/A"},{"$f":"IF(O1819>39,Table1[[#This Row],[Calc 1]],IF(O1819>1,\"Not counted as an Employee\",\"#NA\"))","v":"#NA"},{"$f":"MAX(Table1[[#This Row],[PO Employee]],Table1[[#This Row],[Other HZ Employee]],Table1[[#This Row],[Non HZ Employee]],Table1[[#This Row],[Job Site Employee]],Table1[[#This Row],[Other Employee]])","v":0},{"$f":"IF(Table1[[#This Row],[Total Hours per Month]]=Table1[[#This Row],[Column12]],\"Match\",\"Error\")","v":"Match"},{"$f":"IF(Table1[[#This Row],[Calc 2]]=\"#NA\",\"#NA\",IF(Table1[[#This Row],[Non HZ Employee]]=Table1[[#This Row],[Max calc]],\"Non HZ Employee\", Table1[[#This Row],[Calc 2]]))","v":"#NA"}]
[1803,null,1803,{"$nulls":5},{"$f":"SUM(Table1[[#This Row],[Column4]]+Table1[[#This Row],[Column3]]+Table1[[#This Row],[Column2]]+Table1[[#This Row],[Column1]])","v":0},{"$nulls":5},{"$f":"SUM(Table1[[#This Row],[PO Employee]:[Other Employee]])","v":0},"N",{"$error":"#N/A"},{"$f":"IF(O1820>39,Table1[[#This Row],[Calc 1]],IF(O1820>1,\"Not counted as an Employee\",\"#NA\"))","v":"#NA"},{"$f":"MAX(Table1[[#This Row],[PO Employee]],Table1[[#This Row],[Other HZ Employee]],Table1[[#This Row],[Non HZ Employee]],Table1[[#This Row],[Job Site Employee]],Table1[[#This Row],[Other Employee]])","v":0},{"$f":"IF(Table1[[#This Row],[Total Hours per Month]]=Table1[[#This Row],[Column12]],\"Match\",\"Error\")","v":"Match"},{"$f":"IF(Table1[[#This Row],[Calc 2]]=\"#NA\",\"#NA\",IF(Table1[[#This Row],[Non HZ Employee]]=Table1[[#This Row],[Max calc]],\"Non HZ Employee\", Table1[[#This Row],[Calc 2]]))","v":"#NA"}]
[1804,null,1804,{"$nulls":5},{"$f":"SUM(Table1[[#This Row],[Column4]]+Table1[[#This Row],[Column3]]+Table1[[#This Row],[Column2]]+Table1[[#This Row],[Column1]])","v":0},{"$nulls":5},{"$f":"SUM(Table1[[#This Row],[PO Employee]:[Other Employee]])","v":0},"N",{"$error":"#N/A"},{"$f":"IF(O1821>39,Table1[[#This Row],[Calc 1]],IF(O1821>1,\"Not counted as an Employee\",\"#NA\"))","v":"#NA"},{"$f":"MAX(Table1[[#This Row],[PO Employee]],Table1[[#This Row],[Other HZ Employee]],Table1[[#This Row],[Non HZ Employee]],Table1[[#This Row],[Job Site Employee]],Table1[[#This Row],[Other Employee]])","v":0},{"$f":"IF(Table1[[#This Row],[Total Hours per Month]]=Table1[[#This Row],[Column12]],\"Match\",\"Error\")","v":"Match"},{"$f":"IF(Table1[[#This Row],[Calc 2]]=\"#NA\",\"#NA\",IF(Table1[[#This Row],[Non HZ Employee]]=Table1[[#This Row],[Max calc]],\"Non HZ Employee\", Table1[[#This Row],[Calc 2]]))","v":"#NA"}]
[1805,null,1805,{"$nulls":5},{"$f":"SUM(Table1[[#This Row],[Column4]]+Table1[[#This Row],[Column3]]+Table1[[#This Row],[Column2]]+Table1[[#This Row],[Column1]])","v":0},{"$nulls":5},{"$f":"SUM(Table1[[#This Row],[PO Employee]:[Other Employee]])","v":0},"N",{"$error":"#N/A"},{"$f":"IF(O1822>39,Table1[[#This Row],[Calc 1]],IF(O1822>1,\"Not counted as an Employee\",\"#NA\"))","v":"#NA"},{"$f":"MAX(Table1[[#This Row],[PO Employee]],Table1[[#This Row],[Other HZ Employee]],Table1[[#This Row],[Non HZ Employee]],Table1[[#This Row],[Job Site Employee]],Table1[[#This Row],[Other Employee]])","v":0},{"$f":"IF(Table1[[#This Row],[Total Hours per Month]]=Table1[[#This Row],[Column12]],\"Match\",\"Error\")","v":"Match"},{"$f":"IF(Table1[[#This Row],[Calc 2]]=\"#NA\",\"#NA\",IF(Table1[[#This Row],[Non HZ Employee]]=Table1[[#This Row],[Max calc]],\"Non HZ Employee\", Table1[[#This Row],[Calc 2]]))","v":"#NA"}]
[1806,null,1806,{"$nulls":5},{"$f":"SUM(Table1[[#This Row],[Column4]]+Table1[[#This Row],[Column3]]+Table1[[#This Row],[Column2]]+Table1[[#This Row],[Column1]])","v":0},{"$nulls":5},{"$f":"SUM(Table1[[#This Row],[PO Employee]:[Other Employee]])","v":0},"N",{"$error":"#N/A"},{"$f":"IF(O1823>39,Table1[[#This Row],[Calc 1]],IF(O1823>1,\"Not counted as an Employee\",\"#NA\"))","v":"#NA"},{"$f":"MAX(Table1[[#This Row],[PO Employee]],Table1[[#This Row],[Other HZ Employee]],Table1[[#This Row],[Non HZ Employee]],Table1[[#This Row],[Job Site Employee]],Table1[[#This Row],[Other Employee]])","v":0},{"$f":"IF(Table1[[#This Row],[Total Hours per Month]]=Table1[[#This Row],[Column12]],\"Match\",\"Error\")","v":"Match"},{"$f":"IF(Table1[[#This Row],[Calc 2]]=\"#NA\",\"#NA\",IF(Table1[[#This Row],[Non HZ Employee]]=Table1[[#This Row],[Max calc]],\"Non HZ Employee\", Table1[[#This Row],[Calc 2]]))","v":"#NA"}]
[1807,null,1807,{"$nulls":5},{"$f":"SUM(Table1[[#This Row],[Column4]]+Table1[[#This Row],[Column3]]+Table1[[#This Row],[Column2]]+Table1[[#This Row],[Column1]])","v":0},{"$nulls":5},{"$f":"SUM(Table1[[#This Row],[PO Employee]:[Other Employee]])","v":0},"N",{"$error":"#N/A"},{"$f":"IF(O1824>39,Table1[[#This Row],[Calc 1]],IF(O1824>1,\"Not counted as an Employee\",\"#NA\"))","v":"#NA"},{"$f":"MAX(Table1[[#This Row],[PO Employee]],Table1[[#This Row],[Other HZ Employee]],Table1[[#This Row],[Non HZ Employee]],Table1[[#This Row],[Job Site Employee]],Table1[[#This Row],[Other Employee]])","v":0},{"$f":"IF(Table1[[#This Row],[Total Hours per Month]]=Table1[[#This Row],[Column12]],\"Match\",\"Error\")","v":"Match"},{"$f":"IF(Table1[[#This Row],[Calc 2]]=\"#NA\",\"#NA\",IF(Table1[[#This Row],[Non HZ Employee]]=Table1[[#This Row],[Max calc]],\"Non HZ Employee\", Table1[[#This Row],[Calc 2]]))","v":"#NA"}]
[1808,null,1808,{"$nulls":5},{"$f":"SUM(Table1[[#This Row],[Column4]]+Table1[[#This Row],[Column3]]+Table1[[#This Row],[Column2]]+Table1[[#This Row],[Column1]])","v":0},{"$nulls":5},{"$f":"SUM(Table1[[#This Row],[PO Employee]:[Other Employee]])","v":0},"N",{"$error":"#N/A"},{"$f":"IF(O1825>39,Table1[[#This Row],[Calc 1]],IF(O1825>1,\"Not counted as an Employee\",\"#NA\"))","v":"#NA"},{"$f":"MAX(Table1[[#This Row],[PO Employee]],Table1[[#This Row],[Other HZ Employee]],Table1[[#This Row],[Non HZ Employee]],Table1[[#This Row],[Job Site Employee]],Table1[[#This Row],[Other Employee]])","v":0},{"$f":"IF(Table1[[#This Row],[Total Hours per Month]]=Table1[[#This Row],[Column12]],\"Match\",\"Error\")","v":"Match"},{"$f":"IF(Table1[[#This Row],[Calc 2]]=\"#NA\",\"#NA\",IF(Table1[[#This Row],[Non HZ Employee]]=Table1[[#This Row],[Max calc]],\"Non HZ Employee\", Table1[[#This Row],[Calc 2]]))","v":"#NA"}]
[1809,null,1809,{"$nulls":5},{"$f":"SUM(Table1[[#This Row],[Column4]]+Table1[[#This Row],[Column3]]+Table1[[#This Row],[Column2]]+Table1[[#This Row],[Column1]])","v":0},{"$nulls":5},{"$f":"SUM(Table1[[#This Row],[PO Employee]:[Other Employee]])","v":0},"N",{"$error":"#N/A"},{"$f":"IF(O1826>39,Table1[[#This Row],[Calc 1]],IF(O1826>1,\"Not counted as an Employee\",\"#NA\"))","v":"#NA"},{"$f":"MAX(Table1[[#This Row],[PO Employee]],Table1[[#This Row],[Other HZ Employee]],Table1[[#This Row],[Non HZ Employee]],Table1[[#This Row],[Job Site Employee]],Table1[[#This Row],[Other Employee]])","v":0},{"$f":"IF(Table1[[#This Row],[Total Hours per Month]]=Table1[[#This Row],[Column12]],\"Match\",\"Error\")","v":"Match"},{"$f":"IF(Table1[[#This Row],[Calc 2]]=\"#NA\",\"#NA\",IF(Table1[[#This Row],[Non HZ Employee]]=Table1[[#This Row],[Max calc]],\"Non HZ Employee\", Table1[[#This Row],[Calc 2]]))","v":"#NA"}]
[1810,null,1810,{"$nulls":5},{"$f":"SUM(Table1[[#This Row],[Column4]]+Table1[[#This Row],[Column3]]+Table1[[#This Row],[Column2]]+Table1[[#This Row],[Column1]])","v":0},{"$nulls":5},{"$f":"SUM(Table1[[#This Row],[PO Employee]:[Other Employee]])","v":0},"N",{"$error":"#N/A"},{"$f":"IF(O1827>39,Table1[[#This Row],[Calc 1]],IF(O1827>1,\"Not counted as an Employee\",\"#NA\"))","v":"#NA"},{"$f":"MAX(Table1[[#This Row],[PO Employee]],Table1[[#This Row],[Other HZ Employee]],Table1[[#This Row],[Non HZ Employee]],Table1[[#This Row],[Job Site Employee]],Table1[[#This Row],[Other Employee]])","v":0},{"$f":"IF(Table1[[#This Row],[Total Hours per Month]]=Table1[[#This Row],[Column12]],\"Match\",\"Error\")","v":"Match"},{"$f":"IF(Table1[[#This Row],[Calc 2]]=\"#NA\",\"#NA\",IF(Table1[[#This Row],[Non HZ Employee]]=Table1[[#This Row],[Max calc]],\"Non HZ Employee\", Table1[[#This Row],[Calc 2]]))","v":"#NA"}]
[1811,null,1811,{"$nulls":5},{"$f":"SUM(Table1[[#This Row],[Column4]]+Table1[[#This Row],[Column3]]+Table1[[#This Row],[Column2]]+Table1[[#This Row],[Column1]])","v":0},{"$nulls":5},{"$f":"SUM(Table1[[#This Row],[PO Employee]:[Other Employee]])","v":0},"N",{"$error":"#N/A"},{"$f":"IF(O1828>39,Table1[[#This Row],[Calc 1]],IF(O1828>1,\"Not counted as an Employee\",\"#NA\"))","v":"#NA"},{"$f":"MAX(Table1[[#This Row],[PO Employee]],Table1[[#This Row],[Other HZ Employee]],Table1[[#This Row],[Non HZ Employee]],Table1[[#This Row],[Job Site Employee]],Table1[[#This Row],[Other Employee]])","v":0},{"$f":"IF(Table1[[#This Row],[Total Hours per Month]]=Table1[[#This Row],[Column12]],\"Match\",\"Error\")","v":"Match"},{"$f":"IF(Table1[[#This Row],[Calc 2]]=\"#NA\",\"#NA\",IF(Table1[[#This Row],[Non HZ Employee]]=Table1[[#This Row],[Max calc]],\"Non HZ Employee\", Table1[[#This Row],[Calc 2]]))","v":"#NA"}]
[1812,null,1812,{"$nulls":5},{"$f":"SUM(Table1[[#This Row],[Column4]]+Table1[[#This Row],[Column3]]+Table1[[#This Row],[Column2]]+Table1[[#This Row],[Column1]])","v":0},{"$nulls":5},{"$f":"SUM(Table1[[#This Row],[PO Employee]:[Other Employee]])","v":0},"N",{"$error":"#N/A"},{"$f":"IF(O1829>39,Table1[[#This Row],[Calc 1]],IF(O1829>1,\"Not counted as an Employee\",\"#NA\"))","v":"#NA"},{"$f":"MAX(Table1[[#This Row],[PO Employee]],Table1[[#This Row],[Other HZ Employee]],Table1[[#This Row],[Non HZ Employee]],Table1[[#This Row],[Job Site Employee]],Table1[[#This Row],[Other Employee]])","v":0},{"$f":"IF(Table1[[#This Row],[Total Hours per Month]]=Table1[[#This Row],[Column12]],\"Match\",\"Error\")","v":"Match"},{"$f":"IF(Table1[[#This Row],[Calc 2]]=\"#NA\",\"#NA\",IF(Table1[[#This Row],[Non HZ Employee]]=Table1[[#This Row],[Max calc]],\"Non HZ Employee\", Table1[[#This Row],[Calc 2]]))","v":"#NA"}]
[1813,null,1813,{"$nulls":5},{"$f":"SUM(Table1[[#This Row],[Column4]]+Table1[[#This Row],[Column3]]+Table1[[#This Row],[Column2]]+Table1[[#This Row],[Column1]])","v":0},{"$nulls":5},{"$f":"SUM(Table1[[#This Row],[PO Employee]:[Other Employee]])","v":0},"N",{"$error":"#N/A"},{"$f":"IF(O1830>39,Table1[[#This Row],[Calc 1]],IF(O1830>1,\"Not counted as an Employee\",\"#NA\"))","v":"#NA"},{"$f":"MAX(Table1[[#This Row],[PO Employee]],Table1[[#This Row],[Other HZ Employee]],Table1[[#This Row],[Non HZ Employee]],Table1[[#This Row],[Job Site Employee]],Table1[[#This Row],[Other Employee]])","v":0},{"$f":"IF(Table1[[#This Row],[Total Hours per Month]]=Table1[[#This Row],[Column12]],\"Match\",\"Error\")","v":"Match"},{"$f":"IF(Table1[[#This Row],[Calc 2]]=\"#NA\",\"#NA\",IF(Table1[[#This Row],[Non HZ Employee]]=Table1[[#This Row],[Max calc]],\"Non HZ Employee\", Table1[[#This Row],[Calc 2]]))","v":"#NA"}]
[1814,null,1814,{"$nulls":5},{"$f":"SUM(Table1[[#This Row],[Column4]]+Table1[[#This Row],[Column3]]+Table1[[#This Row],[Column2]]+Table1[[#This Row],[Column1]])","v":0},{"$nulls":5},{"$f":"SUM(Table1[[#This Row],[PO Employee]:[Other Employee]])","v":0},"N",{"$error":"#N/A"},{"$f":"IF(O1831>39,Table1[[#This Row],[Calc 1]],IF(O1831>1,\"Not counted as an Employee\",\"#NA\"))","v":"#NA"},{"$f":"MAX(Table1[[#This Row],[PO Employee]],Table1[[#This Row],[Other HZ Employee]],Table1[[#This Row],[Non HZ Employee]],Table1[[#This Row],[Job Site Employee]],Table1[[#This Row],[Other Employee]])","v":0},{"$f":"IF(Table1[[#This Row],[Total Hours per Month]]=Table1[[#This Row],[Column12]],\"Match\",\"Error\")","v":"Match"},{"$f":"IF(Table1[[#This Row],[Calc 2]]=\"#NA\",\"#NA\",IF(Table1[[#This Row],[Non HZ Employee]]=Table1[[#This Row],[Max calc]],\"Non HZ Employee\", Table1[[#This Row],[Calc 2]]))","v":"#NA"}]
[1815,null,1815,{"$nulls":5},{"$f":"SUM(Table1[[#This Row],[Column4]]+Table1[[#This Row],[Column3]]+Table1[[#This Row],[Column2]]+Table1[[#This Row],[Column1]])","v":0},{"$nulls":5},{"$f":"SUM(Table1[[#This Row],[PO Employee]:[Other Employee]])","v":0},"N",{"$error":"#N/A"},{"$f":"IF(O1832>39,Table1[[#This Row],[Calc 1]],IF(O1832>1,\"Not counted as an Employee\",\"#NA\"))","v":"#NA"},{"$f":"MAX(Table1[[#This Row],[PO Employee]],Table1[[#This Row],[Other HZ Employee]],Table1[[#This Row],[Non HZ Employee]],Table1[[#This Row],[Job Site Employee]],Table1[[#This Row],[Other Employee]])","v":0},{"$f":"IF(Table1[[#This Row],[Total Hours per Month]]=Table1[[#This Row],[Column12]],\"Match\",\"Error\")","v":"Match"},{"$f":"IF(Table1[[#This Row],[Calc 2]]=\"#NA\",\"#NA\",IF(Table1[[#This Row],[Non HZ Employee]]=Table1[[#This Row],[Max calc]],\"Non HZ Employee\", Table1[[#This Row],[Calc 2]]))","v":"#NA"}]
[1816,null,1816,{"$nulls":5},{"$f":"SUM(Table1[[#This Row],[Column4]]+Table1[[#This Row],[Column3]]+Table1[[#This Row],[Column2]]+Table1[[#This Row],[Column1]])","v":0},{"$nulls":5},{"$f":"SUM(Table1[[#This Row],[PO Employee]:[Other Employee]])","v":0},"N",{"$error":"#N/A"},{"$f":"IF(O1833>39,Table1[[#This Row],[Calc 1]],IF(O1833>1,\"Not counted as an Employee\",\"#NA\"))","v":"#NA"},{"$f":"MAX(Table1[[#This Row],[PO Employee]],Table1[[#This Row],[Other HZ Employee]],Table1[[#This Row],[Non HZ Employee]],Table1[[#This Row],[Job Site Employee]],Table1[[#This Row],[Other Employee]])","v":0},{"$f":"IF(Table1[[#This Row],[Total Hours per Month]]=Table1[[#This Row],[Column12]],\"Match\",\"Error\")","v":"Match"},{"$f":"IF(Table1[[#This Row],[Calc 2]]=\"#NA\",\"#NA\",IF(Table1[[#This Row],[Non HZ Employee]]=Table1[[#This Row],[Max calc]],\"Non HZ Employee\", Table1[[#This Row],[Calc 2]]))","v":"#NA"}]
[1817,null,1817,{"$nulls":5},{"$f":"SUM(Table1[[#This Row],[Column4]]+Table1[[#This Row],[Column3]]+Table1[[#This Row],[Column2]]+Table1[[#This Row],[Column1]])","v":0},{"$nulls":5},{"$f":"SUM(Table1[[#This Row],[PO Employee]:[Other Employee]])","v":0},"N",{"$error":"#N/A"},{"$f":"IF(O1834>39,Table1[[#This Row],[Calc 1]],IF(O1834>1,\"Not counted as an Employee\",\"#NA\"))","v":"#NA"},{"$f":"MAX(Table1[[#This Row],[PO Employee]],Table1[[#This Row],[Other HZ Employee]],Table1[[#This Row],[Non HZ Employee]],Table1[[#This Row],[Job Site Employee]],Table1[[#This Row],[Other Employee]])","v":0},{"$f":"IF(Table1[[#This Row],[Total Hours per Month]]=Table1[[#This Row],[Column12]],\"Match\",\"Error\")","v":"Match"},{"$f":"IF(Table1[[#This Row],[Calc 2]]=\"#NA\",\"#NA\",IF(Table1[[#This Row],[Non HZ Employee]]=Table1[[#This Row],[Max calc]],\"Non HZ Employee\", Table1[[#This Row],[Calc 2]]))","v":"#NA"}]
[1818,null,1818,{"$nulls":5},{"$f":"SUM(Table1[[#This Row],[Column4]]+Table1[[#This Row],[Column3]]+Table1[[#This Row],[Column2]]+Table1[[#This Row],[Column1]])","v":0},{"$nulls":5},{"$f":"SUM(Table1[[#This Row],[PO Employee]:[Other Employee]])","v":0},"N",{"$error":"#N/A"},{"$f":"IF(O1835>39,Table1[[#This Row],[Calc 1]],IF(O1835>1,\"Not counted as an Employee\",\"#NA\"))","v":"#NA"},{"$f":"MAX(Table1[[#This Row],[PO Employee]],Table1[[#This Row],[Other HZ Employee]],Table1[[#This Row],[Non HZ Employee]],Table1[[#This Row],[Job Site Employee]],Table1[[#This Row],[Other Employee]])","v":0},{"$f":"IF(Table1[[#This Row],[Total Hours per Month]]=Table1[[#This Row],[Column12]],\"Match\",\"Error\")","v":"Match"},{"$f":"IF(Table1[[#This Row],[Calc 2]]=\"#NA\",\"#NA\",IF(Table1[[#This Row],[Non HZ Employee]]=Table1[[#This Row],[Max calc]],\"Non HZ Employee\", Table1[[#This Row],[Calc 2]]))","v":"#NA"}]
[1819,null,1819,{"$nulls":5},{"$f":"SUM(Table1[[#This Row],[Column4]]+Table1[[#This Row],[Column3]]+Table1[[#This Row],[Column2]]+Table1[[#This Row],[Column1]])","v":0},{"$nulls":5},{"$f":"SUM(Table1[[#This Row],[PO Employee]:[Other Employee]])","v":0},"N",{"$error":"#N/A"},{"$f":"IF(O1836>39,Table1[[#This Row],[Calc 1]],IF(O1836>1,\"Not counted as an Employee\",\"#NA\"))","v":"#NA"},{"$f":"MAX(Table1[[#This Row],[PO Employee]],Table1[[#This Row],[Other HZ Employee]],Table1[[#This Row],[Non HZ Employee]],Table1[[#This Row],[Job Site Employee]],Table1[[#This Row],[Other Employee]])","v":0},{"$f":"IF(Table1[[#This Row],[Total Hours per Month]]=Table1[[#This Row],[Column12]],\"Match\",\"Error\")","v":"Match"},{"$f":"IF(Table1[[#This Row],[Calc 2]]=\"#NA\",\"#NA\",IF(Table1[[#This Row],[Non HZ Employee]]=Table1[[#This Row],[Max calc]],\"Non HZ Employee\", Table1[[#This Row],[Calc 2]]))","v":"#NA"}]
[1820,null,1820,{"$nulls":5},{"$f":"SUM(Table1[[#This Row],[Column4]]+Table1[[#This Row],[Column3]]+Table1[[#This Row],[Column2]]+Table1[[#This Row],[Column1]])","v":0},{"$nulls":5},{"$f":"SUM(Table1[[#This Row],[PO Employee]:[Other Employee]])","v":0},"N",{"$error":"#N/A"},{"$f":"IF(O1837>39,Table1[[#This Row],[Calc 1]],IF(O1837>1,\"Not counted as an Employee\",\"#NA\"))","v":"#NA"},{"$f":"MAX(Table1[[#This Row],[PO Employee]],Table1[[#This Row],[Other HZ Employee]],Table1[[#This Row],[Non HZ Employee]],Table1[[#This Row],[Job Site Employee]],Table1[[#This Row],[Other Employee]])","v":0},{"$f":"IF(Table1[[#This Row],[Total Hours per Month]]=Table1[[#This Row],[Column12]],\"Match\",\"Error\")","v":"Match"},{"$f":"IF(Table1[[#This Row],[Calc 2]]=\"#NA\",\"#NA\",IF(Table1[[#This Row],[Non HZ Employee]]=Table1[[#This Row],[Max calc]],\"Non HZ Employee\", Table1[[#This Row],[Calc 2]]))","v":"#NA"}]
[1821,null,1821,{"$nulls":5},{"$f":"SUM(Table1[[#This Row],[Column4]]+Table1[[#This Row],[Column3]]+Table1[[#This Row],[Column2]]+Table1[[#This Row],[Column1]])","v":0},{"$nulls":5},{"$f":"SUM(Table1[[#This Row],[PO Employee]:[Other Employee]])","v":0},"N",{"$error":"#N/A"},{"$f":"IF(O1838>39,Table1[[#This Row],[Calc 1]],IF(O1838>1,\"Not counted as an Employee\",\"#NA\"))","v":"#NA"},{"$f":"MAX(Table1[[#This Row],[PO Employee]],Table1[[#This Row],[Other HZ Employee]],Table1[[#This Row],[Non HZ Employee]],Table1[[#This Row],[Job Site Employee]],Table1[[#This Row],[Other Employee]])","v":0},{"$f":"IF(Table1[[#This Row],[Total Hours per Month]]=Table1[[#This Row],[Column12]],\"Match\",\"Error\")","v":"Match"},{"$f":"IF(Table1[[#This Row],[Calc 2]]=\"#NA\",\"#NA\",IF(Table1[[#This Row],[Non HZ Employee]]=Table1[[#This Row],[Max calc]],\"Non HZ Employee\", Table1[[#This Row],[Calc 2]]))","v":"#NA"}]
[1822,null,1822,{"$nulls":5},{"$f":"SUM(Table1[[#This Row],[Column4]]+Table1[[#This Row],[Column3]]+Table1[[#This Row],[Column2]]+Table1[[#This Row],[Column1]])","v":0},{"$nulls":5},{"$f":"SUM(Table1[[#This Row],[PO Employee]:[Other Employee]])","v":0},"N",{"$error":"#N/A"},{"$f":"IF(O1839>39,Table1[[#This Row],[Calc 1]],IF(O1839>1,\"Not counted as an Employee\",\"#NA\"))","v":"#NA"},{"$f":"MAX(Table1[[#This Row],[PO Employee]],Table1[[#This Row],[Other HZ Employee]],Table1[[#This Row],[Non HZ Employee]],Table1[[#This Row],[Job Site Employee]],Table1[[#This Row],[Other Employee]])","v":0},{"$f":"IF(Table1[[#This Row],[Total Hours per Month]]=Table1[[#This Row],[Column12]],\"Match\",\"Error\")","v":"Match"},{"$f":"IF(Table1[[#This Row],[Calc 2]]=\"#NA\",\"#NA\",IF(Table1[[#This Row],[Non HZ Employee]]=Table1[[#This Row],[Max calc]],\"Non HZ Employee\", Table1[[#This Row],[Calc 2]]))","v":"#NA"}]
[1823,null,1823,{"$nulls":5},{"$f":"SUM(Table1[[#This Row],[Column4]]+Table1[[#This Row],[Column3]]+Table1[[#This Row],[Column2]]+Table1[[#This Row],[Column1]])","v":0},{"$nulls":5},{"$f":"SUM(Table1[[#This Row],[PO Employee]:[Other Employee]])","v":0},"N",{"$error":"#N/A"},{"$f":"IF(O1840>39,Table1[[#This Row],[Calc 1]],IF(O1840>1,\"Not counted as an Employee\",\"#NA\"))","v":"#NA"},{"$f":"MAX(Table1[[#This Row],[PO Employee]],Table1[[#This Row],[Other HZ Employee]],Table1[[#This Row],[Non HZ Employee]],Table1[[#This Row],[Job Site Employee]],Table1[[#This Row],[Other Employee]])","v":0},{"$f":"IF(Table1[[#This Row],[Total Hours per Month]]=Table1[[#This Row],[Column12]],\"Match\",\"Error\")","v":"Match"},{"$f":"IF(Table1[[#This Row],[Calc 2]]=\"#NA\",\"#NA\",IF(Table1[[#This Row],[Non HZ Employee]]=Table1[[#This Row],[Max calc]],\"Non HZ Employee\", Table1[[#This Row],[Calc 2]]))","v":"#NA"}]
[1824,null,1824,{"$nulls":5},{"$f":"SUM(Table1[[#This Row],[Column4]]+Table1[[#This Row],[Column3]]+Table1[[#This Row],[Column2]]+Table1[[#This Row],[Column1]])","v":0},{"$nulls":5},{"$f":"SUM(Table1[[#This Row],[PO Employee]:[Other Employee]])","v":0},"N",{"$error":"#N/A"},{"$f":"IF(O1841>39,Table1[[#This Row],[Calc 1]],IF(O1841>1,\"Not counted as an Employee\",\"#NA\"))","v":"#NA"},{"$f":"MAX(Table1[[#This Row],[PO Employee]],Table1[[#This Row],[Other HZ Employee]],Table1[[#This Row],[Non HZ Employee]],Table1[[#This Row],[Job Site Employee]],Table1[[#This Row],[Other Employee]])","v":0},{"$f":"IF(Table1[[#This Row],[Total Hours per Month]]=Table1[[#This Row],[Column12]],\"Match\",\"Error\")","v":"Match"},{"$f":"IF(Table1[[#This Row],[Calc 2]]=\"#NA\",\"#NA\",IF(Table1[[#This Row],[Non HZ Employee]]=Table1[[#This Row],[Max calc]],\"Non HZ Employee\", Table1[[#This Row],[Calc 2]]))","v":"#NA"}]
[1825,null,1825,{"$nulls":5},{"$f":"SUM(Table1[[#This Row],[Column4]]+Table1[[#This Row],[Column3]]+Table1[[#This Row],[Column2]]+Table1[[#This Row],[Column1]])","v":0},{"$nulls":5},{"$f":"SUM(Table1[[#This Row],[PO Employee]:[Other Employee]])","v":0},"N",{"$error":"#N/A"},{"$f":"IF(O1842>39,Table1[[#This Row],[Calc 1]],IF(O1842>1,\"Not counted as an Employee\",\"#NA\"))","v":"#NA"},{"$f":"MAX(Table1[[#This Row],[PO Employee]],Table1[[#This Row],[Other HZ Employee]],Table1[[#This Row],[Non HZ Employee]],Table1[[#This Row],[Job Site Employee]],Table1[[#This Row],[Other Employee]])","v":0},{"$f":"IF(Table1[[#This Row],[Total Hours per Month]]=Table1[[#This Row],[Column12]],\"Match\",\"Error\")","v":"Match"},{"$f":"IF(Table1[[#This Row],[Calc 2]]=\"#NA\",\"#NA\",IF(Table1[[#This Row],[Non HZ Employee]]=Table1[[#This Row],[Max calc]],\"Non HZ Employee\", Table1[[#This Row],[Calc 2]]))","v":"#NA"}]
[1826,null,1826,{"$nulls":5},{"$f":"SUM(Table1[[#This Row],[Column4]]+Table1[[#This Row],[Column3]]+Table1[[#This Row],[Column2]]+Table1[[#This Row],[Column1]])","v":0},{"$nulls":5},{"$f":"SUM(Table1[[#This Row],[PO Employee]:[Other Employee]])","v":0},"N",{"$error":"#N/A"},{"$f":"IF(O1843>39,Table1[[#This Row],[Calc 1]],IF(O1843>1,\"Not counted as an Employee\",\"#NA\"))","v":"#NA"},{"$f":"MAX(Table1[[#This Row],[PO Employee]],Table1[[#This Row],[Other HZ Employee]],Table1[[#This Row],[Non HZ Employee]],Table1[[#This Row],[Job Site Employee]],Table1[[#This Row],[Other Employee]])","v":0},{"$f":"IF(Table1[[#This Row],[Total Hours per Month]]=Table1[[#This Row],[Column12]],\"Match\",\"Error\")","v":"Match"},{"$f":"IF(Table1[[#This Row],[Calc 2]]=\"#NA\",\"#NA\",IF(Table1[[#This Row],[Non HZ Employee]]=Table1[[#This Row],[Max calc]],\"Non HZ Employee\", Table1[[#This Row],[Calc 2]]))","v":"#NA"}]
[1827,null,1827,{"$nulls":5},{"$f":"SUM(Table1[[#This Row],[Column4]]+Table1[[#This Row],[Column3]]+Table1[[#This Row],[Column2]]+Table1[[#This Row],[Column1]])","v":0},{"$nulls":5},{"$f":"SUM(Table1[[#This Row],[PO Employee]:[Other Employee]])","v":0},"N",{"$error":"#N/A"},{"$f":"IF(O1844>39,Table1[[#This Row],[Calc 1]],IF(O1844>1,\"Not counted as an Employee\",\"#NA\"))","v":"#NA"},{"$f":"MAX(Table1[[#This Row],[PO Employee]],Table1[[#This Row],[Other HZ Employee]],Table1[[#This Row],[Non HZ Employee]],Table1[[#This Row],[Job Site Employee]],Table1[[#This Row],[Other Employee]])","v":0},{"$f":"IF(Table1[[#This Row],[Total Hours per Month]]=Table1[[#This Row],[Column12]],\"Match\",\"Error\")","v":"Match"},{"$f":"IF(Table1[[#This Row],[Calc 2]]=\"#NA\",\"#NA\",IF(Table1[[#This Row],[Non HZ Employee]]=Table1[[#This Row],[Max calc]],\"Non HZ Employee\", Table1[[#This Row],[Calc 2]]))","v":"#NA"}]
[1828,null,1828,{"$nulls":5},{"$f":"SUM(Table1[[#This Row],[Column4]]+Table1[[#This Row],[Column3]]+Table1[[#This Row],[Column2]]+Table1[[#This Row],[Column1]])","v":0},{"$nulls":5},{"$f":"SUM(Table1[[#This Row],[PO Employee]:[Other Employee]])","v":0},"N",{"$error":"#N/A"},{"$f":"IF(O1845>39,Table1[[#This Row],[Calc 1]],IF(O1845>1,\"Not counted as an Employee\",\"#NA\"))","v":"#NA"},{"$f":"MAX(Table1[[#This Row],[PO Employee]],Table1[[#This Row],[Other HZ Employee]],Table1[[#This Row],[Non HZ Employee]],Table1[[#This Row],[Job Site Employee]],Table1[[#This Row],[Other Employee]])","v":0},{"$f":"IF(Table1[[#This Row],[Total Hours per Month]]=Table1[[#This Row],[Column12]],\"Match\",\"Error\")","v":"Match"},{"$f":"IF(Table1[[#This Row],[Calc 2]]=\"#NA\",\"#NA\",IF(Table1[[#This Row],[Non HZ Employee]]=Table1[[#This Row],[Max calc]],\"Non HZ Employee\", Table1[[#This Row],[Calc 2]]))","v":"#NA"}]
[1829,null,1829,{"$nulls":5},{"$f":"SUM(Table1[[#This Row],[Column4]]+Table1[[#This Row],[Column3]]+Table1[[#This Row],[Column2]]+Table1[[#This Row],[Column1]])","v":0},{"$nulls":5},{"$f":"SUM(Table1[[#This Row],[PO Employee]:[Other Employee]])","v":0},"N",{"$error":"#N/A"},{"$f":"IF(O1846>39,Table1[[#This Row],[Calc 1]],IF(O1846>1,\"Not counted as an Employee\",\"#NA\"))","v":"#NA"},{"$f":"MAX(Table1[[#This Row],[PO Employee]],Table1[[#This Row],[Other HZ Employee]],Table1[[#This Row],[Non HZ Employee]],Table1[[#This Row],[Job Site Employee]],Table1[[#This Row],[Other Employee]])","v":0},{"$f":"IF(Table1[[#This Row],[Total Hours per Month]]=Table1[[#This Row],[Column12]],\"Match\",\"Error\")","v":"Match"},{"$f":"IF(Table1[[#This Row],[Calc 2]]=\"#NA\",\"#NA\",IF(Table1[[#This Row],[Non HZ Employee]]=Table1[[#This Row],[Max calc]],\"Non HZ Employee\", Table1[[#This Row],[Calc 2]]))","v":"#NA"}]
[1830,null,1830,{"$nulls":5},{"$f":"SUM(Table1[[#This Row],[Column4]]+Table1[[#This Row],[Column3]]+Table1[[#This Row],[Column2]]+Table1[[#This Row],[Column1]])","v":0},{"$nulls":5},{"$f":"SUM(Table1[[#This Row],[PO Employee]:[Other Employee]])","v":0},"N",{"$error":"#N/A"},{"$f":"IF(O1847>39,Table1[[#This Row],[Calc 1]],IF(O1847>1,\"Not counted as an Employee\",\"#NA\"))","v":"#NA"},{"$f":"MAX(Table1[[#This Row],[PO Employee]],Table1[[#This Row],[Other HZ Employee]],Table1[[#This Row],[Non HZ Employee]],Table1[[#This Row],[Job Site Employee]],Table1[[#This Row],[Other Employee]])","v":0},{"$f":"IF(Table1[[#This Row],[Total Hours per Month]]=Table1[[#This Row],[Column12]],\"Match\",\"Error\")","v":"Match"},{"$f":"IF(Table1[[#This Row],[Calc 2]]=\"#NA\",\"#NA\",IF(Table1[[#This Row],[Non HZ Employee]]=Table1[[#This Row],[Max calc]],\"Non HZ Employee\", Table1[[#This Row],[Calc 2]]))","v":"#NA"}]
[1831,null,1831,{"$nulls":5},{"$f":"SUM(Table1[[#This Row],[Column4]]+Table1[[#This Row],[Column3]]+Table1[[#This Row],[Column2]]+Table1[[#This Row],[Column1]])","v":0},{"$nulls":5},{"$f":"SUM(Table1[[#This Row],[PO Employee]:[Other Employee]])","v":0},"N",{"$error":"#N/A"},{"$f":"IF(O1848>39,Table1[[#This Row],[Calc 1]],IF(O1848>1,\"Not counted as an Employee\",\"#NA\"))","v":"#NA"},{"$f":"MAX(Table1[[#This Row],[PO Employee]],Table1[[#This Row],[Other HZ Employee]],Table1[[#This Row],[Non HZ Employee]],Table1[[#This Row],[Job Site Employee]],Table1[[#This Row],[Other Employee]])","v":0},{"$f":"IF(Table1[[#This Row],[Total Hours per Month]]=Table1[[#This Row],[Column12]],\"Match\",\"Error\")","v":"Match"},{"$f":"IF(Table1[[#This Row],[Calc 2]]=\"#NA\",\"#NA\",IF(Table1[[#This Row],[Non HZ Employee]]=Table1[[#This Row],[Max calc]],\"Non HZ Employee\", Table1[[#This Row],[Calc 2]]))","v":"#NA"}]
[1832,null,1832,{"$nulls":5},{"$f":"SUM(Table1[[#This Row],[Column4]]+Table1[[#This Row],[Column3]]+Table1[[#This Row],[Column2]]+Table1[[#This Row],[Column1]])","v":0},{"$nulls":5},{"$f":"SUM(Table1[[#This Row],[PO Employee]:[Other Employee]])","v":0},"N",{"$error":"#N/A"},{"$f":"IF(O1849>39,Table1[[#This Row],[Calc 1]],IF(O1849>1,\"Not counted as an Employee\",\"#NA\"))","v":"#NA"},{"$f":"MAX(Table1[[#This Row],[PO Employee]],Table1[[#This Row],[Other HZ Employee]],Table1[[#This Row],[Non HZ Employee]],Table1[[#This Row],[Job Site Employee]],Table1[[#This Row],[Other Employee]])","v":0},{"$f":"IF(Table1[[#This Row],[Total Hours per Month]]=Table1[[#This Row],[Column12]],\"Match\",\"Error\")","v":"Match"},{"$f":"IF(Table1[[#This Row],[Calc 2]]=\"#NA\",\"#NA\",IF(Table1[[#This Row],[Non HZ Employee]]=Table1[[#This Row],[Max calc]],\"Non HZ Employee\", Table1[[#This Row],[Calc 2]]))","v":"#NA"}]
[1833,null,1833,{"$nulls":5},{"$f":"SUM(Table1[[#This Row],[Column4]]+Table1[[#This Row],[Column3]]+Table1[[#This Row],[Column2]]+Table1[[#This Row],[Column1]])","v":0},{"$nulls":5},{"$f":"SUM(Table1[[#This Row],[PO Employee]:[Other Employee]])","v":0},"N",{"$error":"#N/A"},{"$f":"IF(O1850>39,Table1[[#This Row],[Calc 1]],IF(O1850>1,\"Not counted as an Employee\",\"#NA\"))","v":"#NA"},{"$f":"MAX(Table1[[#This Row],[PO Employee]],Table1[[#This Row],[Other HZ Employee]],Table1[[#This Row],[Non HZ Employee]],Table1[[#This Row],[Job Site Employee]],Table1[[#This Row],[Other Employee]])","v":0},{"$f":"IF(Table1[[#This Row],[Total Hours per Month]]=Table1[[#This Row],[Column12]],\"Match\",\"Error\")","v":"Match"},{"$f":"IF(Table1[[#This Row],[Calc 2]]=\"#NA\",\"#NA\",IF(Table1[[#This Row],[Non HZ Employee]]=Table1[[#This Row],[Max calc]],\"Non HZ Employee\", Table1[[#This Row],[Calc 2]]))","v":"#NA"}]
[1834,null,1834,{"$nulls":5},{"$f":"SUM(Table1[[#This Row],[Column4]]+Table1[[#This Row],[Column3]]+Table1[[#This Row],[Column2]]+Table1[[#This Row],[Column1]])","v":0},{"$nulls":5},{"$f":"SUM(Table1[[#This Row],[PO Employee]:[Other Employee]])","v":0},"N",{"$error":"#N/A"},{"$f":"IF(O1851>39,Table1[[#This Row],[Calc 1]],IF(O1851>1,\"Not counted as an Employee\",\"#NA\"))","v":"#NA"},{"$f":"MAX(Table1[[#This Row],[PO Employee]],Table1[[#This Row],[Other HZ Employee]],Table1[[#This Row],[Non HZ Employee]],Table1[[#This Row],[Job Site Employee]],Table1[[#This Row],[Other Employee]])","v":0},{"$f":"IF(Table1[[#This Row],[Total Hours per Month]]=Table1[[#This Row],[Column12]],\"Match\",\"Error\")","v":"Match"},{"$f":"IF(Table1[[#This Row],[Calc 2]]=\"#NA\",\"#NA\",IF(Table1[[#This Row],[Non HZ Employee]]=Table1[[#This Row],[Max calc]],\"Non HZ Employee\", Table1[[#This Row],[Calc 2]]))","v":"#NA"}]
[1835,null,1835,{"$nulls":5},{"$f":"SUM(Table1[[#This Row],[Column4]]+Table1[[#This Row],[Column3]]+Table1[[#This Row],[Column2]]+Table1[[#This Row],[Column1]])","v":0},{"$nulls":5},{"$f":"SUM(Table1[[#This Row],[PO Employee]:[Other Employee]])","v":0},"N",{"$error":"#N/A"},{"$f":"IF(O1852>39,Table1[[#This Row],[Calc 1]],IF(O1852>1,\"Not counted as an Employee\",\"#NA\"))","v":"#NA"},{"$f":"MAX(Table1[[#This Row],[PO Employee]],Table1[[#This Row],[Other HZ Employee]],Table1[[#This Row],[Non HZ Employee]],Table1[[#This Row],[Job Site Employee]],Table1[[#This Row],[Other Employee]])","v":0},{"$f":"IF(Table1[[#This Row],[Total Hours per Month]]=Table1[[#This Row],[Column12]],\"Match\",\"Error\")","v":"Match"},{"$f":"IF(Table1[[#This Row],[Calc 2]]=\"#NA\",\"#NA\",IF(Table1[[#This Row],[Non HZ Employee]]=Table1[[#This Row],[Max calc]],\"Non HZ Employee\", Table1[[#This Row],[Calc 2]]))","v":"#NA"}]
[1836,null,1836,{"$nulls":5},{"$f":"SUM(Table1[[#This Row],[Column4]]+Table1[[#This Row],[Column3]]+Table1[[#This Row],[Column2]]+Table1[[#This Row],[Column1]])","v":0},{"$nulls":5},{"$f":"SUM(Table1[[#This Row],[PO Employee]:[Other Employee]])","v":0},"N",{"$error":"#N/A"},{"$f":"IF(O1853>39,Table1[[#This Row],[Calc 1]],IF(O1853>1,\"Not counted as an Employee\",\"#NA\"))","v":"#NA"},{"$f":"MAX(Table1[[#This Row],[PO Employee]],Table1[[#This Row],[Other HZ Employee]],Table1[[#This Row],[Non HZ Employee]],Table1[[#This Row],[Job Site Employee]],Table1[[#This Row],[Other Employee]])","v":0},{"$f":"IF(Table1[[#This Row],[Total Hours per Month]]=Table1[[#This Row],[Column12]],\"Match\",\"Error\")","v":"Match"},{"$f":"IF(Table1[[#This Row],[Calc 2]]=\"#NA\",\"#NA\",IF(Table1[[#This Row],[Non HZ Employee]]=Table1[[#This Row],[Max calc]],\"Non HZ Employee\", Table1[[#This Row],[Calc 2]]))","v":"#NA"}]
[1837,null,1837,{"$nulls":5},{"$f":"SUM(Table1[[#This Row],[Column4]]+Table1[[#This Row],[Column3]]+Table1[[#This Row],[Column2]]+Table1[[#This Row],[Column1]])","v":0},{"$nulls":5},{"$f":"SUM(Table1[[#This Row],[PO Employee]:[Other Employee]])","v":0},"N",{"$error":"#N/A"},{"$f":"IF(O1854>39,Table1[[#This Row],[Calc 1]],IF(O1854>1,\"Not counted as an Employee\",\"#NA\"))","v":"#NA"},{"$f":"MAX(Table1[[#This Row],[PO Employee]],Table1[[#This Row],[Other HZ Employee]],Table1[[#This Row],[Non HZ Employee]],Table1[[#This Row],[Job Site Employee]],Table1[[#This Row],[Other Employee]])","v":0},{"$f":"IF(Table1[[#This Row],[Total Hours per Month]]=Table1[[#This Row],[Column12]],\"Match\",\"Error\")","v":"Match"},{"$f":"IF(Table1[[#This Row],[Calc 2]]=\"#NA\",\"#NA\",IF(Table1[[#This Row],[Non HZ Employee]]=Table1[[#This Row],[Max calc]],\"Non HZ Employee\", Table1[[#This Row],[Calc 2]]))","v":"#NA"}]
[1838,null,1838,{"$nulls":5},{"$f":"SUM(Table1[[#This Row],[Column4]]+Table1[[#This Row],[Column3]]+Table1[[#This Row],[Column2]]+Table1[[#This Row],[Column1]])","v":0},{"$nulls":5},{"$f":"SUM(Table1[[#This Row],[PO Employee]:[Other Employee]])","v":0},"N",{"$error":"#N/A"},{"$f":"IF(O1855>39,Table1[[#This Row],[Calc 1]],IF(O1855>1,\"Not counted as an Employee\",\"#NA\"))","v":"#NA"},{"$f":"MAX(Table1[[#This Row],[PO Employee]],Table1[[#This Row],[Other HZ Employee]],Table1[[#This Row],[Non HZ Employee]],Table1[[#This Row],[Job Site Employee]],Table1[[#This Row],[Other Employee]])","v":0},{"$f":"IF(Table1[[#This Row],[Total Hours per Month]]=Table1[[#This Row],[Column12]],\"Match\",\"Error\")","v":"Match"},{"$f":"IF(Table1[[#This Row],[Calc 2]]=\"#NA\",\"#NA\",IF(Table1[[#This Row],[Non HZ Employee]]=Table1[[#This Row],[Max calc]],\"Non HZ Employee\", Table1[[#This Row],[Calc 2]]))","v":"#NA"}]
[1839,null,1839,{"$nulls":5},{"$f":"SUM(Table1[[#This Row],[Column4]]+Table1[[#This Row],[Column3]]+Table1[[#This Row],[Column2]]+Table1[[#This Row],[Column1]])","v":0},{"$nulls":5},{"$f":"SUM(Table1[[#This Row],[PO Employee]:[Other Employee]])","v":0},"N",{"$error":"#N/A"},{"$f":"IF(O1856>39,Table1[[#This Row],[Calc 1]],IF(O1856>1,\"Not counted as an Employee\",\"#NA\"))","v":"#NA"},{"$f":"MAX(Table1[[#This Row],[PO Employee]],Table1[[#This Row],[Other HZ Employee]],Table1[[#This Row],[Non HZ Employee]],Table1[[#This Row],[Job Site Employee]],Table1[[#This Row],[Other Employee]])","v":0},{"$f":"IF(Table1[[#This Row],[Total Hours per Month]]=Table1[[#This Row],[Column12]],\"Match\",\"Error\")","v":"Match"},{"$f":"IF(Table1[[#This Row],[Calc 2]]=\"#NA\",\"#NA\",IF(Table1[[#This Row],[Non HZ Employee]]=Table1[[#This Row],[Max calc]],\"Non HZ Employee\", Table1[[#This Row],[Calc 2]]))","v":"#NA"}]
[1840,null,1840,{"$nulls":5},{"$f":"SUM(Table1[[#This Row],[Column4]]+Table1[[#This Row],[Column3]]+Table1[[#This Row],[Column2]]+Table1[[#This Row],[Column1]])","v":0},{"$nulls":5},{"$f":"SUM(Table1[[#This Row],[PO Employee]:[Other Employee]])","v":0},"N",{"$error":"#N/A"},{"$f":"IF(O1857>39,Table1[[#This Row],[Calc 1]],IF(O1857>1,\"Not counted as an Employee\",\"#NA\"))","v":"#NA"},{"$f":"MAX(Table1[[#This Row],[PO Employee]],Table1[[#This Row],[Other HZ Employee]],Table1[[#This Row],[Non HZ Employee]],Table1[[#This Row],[Job Site Employee]],Table1[[#This Row],[Other Employee]])","v":0},{"$f":"IF(Table1[[#This Row],[Total Hours per Month]]=Table1[[#This Row],[Column12]],\"Match\",\"Error\")","v":"Match"},{"$f":"IF(Table1[[#This Row],[Calc 2]]=\"#NA\",\"#NA\",IF(Table1[[#This Row],[Non HZ Employee]]=Table1[[#This Row],[Max calc]],\"Non HZ Employee\", Table1[[#This Row],[Calc 2]]))","v":"#NA"}]
[1841,null,1841,{"$nulls":5},{"$f":"SUM(Table1[[#This Row],[Column4]]+Table1[[#This Row],[Column3]]+Table1[[#This Row],[Column2]]+Table1[[#This Row],[Column1]])","v":0},{"$nulls":5},{"$f":"SUM(Table1[[#This Row],[PO Employee]:[Other Employee]])","v":0},"N",{"$error":"#N/A"},{"$f":"IF(O1858>39,Table1[[#This Row],[Calc 1]],IF(O1858>1,\"Not counted as an Employee\",\"#NA\"))","v":"#NA"},{"$f":"MAX(Table1[[#This Row],[PO Employee]],Table1[[#This Row],[Other HZ Employee]],Table1[[#This Row],[Non HZ Employee]],Table1[[#This Row],[Job Site Employee]],Table1[[#This Row],[Other Employee]])","v":0},{"$f":"IF(Table1[[#This Row],[Total Hours per Month]]=Table1[[#This Row],[Column12]],\"Match\",\"Error\")","v":"Match"},{"$f":"IF(Table1[[#This Row],[Calc 2]]=\"#NA\",\"#NA\",IF(Table1[[#This Row],[Non HZ Employee]]=Table1[[#This Row],[Max calc]],\"Non HZ Employee\", Table1[[#This Row],[Calc 2]]))","v":"#NA"}]
[1842,null,1842,{"$nulls":5},{"$f":"SUM(Table1[[#This Row],[Column4]]+Table1[[#This Row],[Column3]]+Table1[[#This Row],[Column2]]+Table1[[#This Row],[Column1]])","v":0},{"$nulls":5},{"$f":"SUM(Table1[[#This Row],[PO Employee]:[Other Employee]])","v":0},"N",{"$error":"#N/A"},{"$f":"IF(O1859>39,Table1[[#This Row],[Calc 1]],IF(O1859>1,\"Not counted as an Employee\",\"#NA\"))","v":"#NA"},{"$f":"MAX(Table1[[#This Row],[PO Employee]],Table1[[#This Row],[Other HZ Employee]],Table1[[#This Row],[Non HZ Employee]],Table1[[#This Row],[Job Site Employee]],Table1[[#This Row],[Other Employee]])","v":0},{"$f":"IF(Table1[[#This Row],[Total Hours per Month]]=Table1[[#This Row],[Column12]],\"Match\",\"Error\")","v":"Match"},{"$f":"IF(Table1[[#This Row],[Calc 2]]=\"#NA\",\"#NA\",IF(Table1[[#This Row],[Non HZ Employee]]=Table1[[#This Row],[Max calc]],\"Non HZ Employee\", Table1[[#This Row],[Calc 2]]))","v":"#NA"}]
[1843,null,1843,{"$nulls":5},{"$f":"SUM(Table1[[#This Row],[Column4]]+Table1[[#This Row],[Column3]]+Table1[[#This Row],[Column2]]+Table1[[#This Row],[Column1]])","v":0},{"$nulls":5},{"$f":"SUM(Table1[[#This Row],[PO Employee]:[Other Employee]])","v":0},"N",{"$error":"#N/A"},{"$f":"IF(O1860>39,Table1[[#This Row],[Calc 1]],IF(O1860>1,\"Not counted as an Employee\",\"#NA\"))","v":"#NA"},{"$f":"MAX(Table1[[#This Row],[PO Employee]],Table1[[#This Row],[Other HZ Employee]],Table1[[#This Row],[Non HZ Employee]],Table1[[#This Row],[Job Site Employee]],Table1[[#This Row],[Other Employee]])","v":0},{"$f":"IF(Table1[[#This Row],[Total Hours per Month]]=Table1[[#This Row],[Column12]],\"Match\",\"Error\")","v":"Match"},{"$f":"IF(Table1[[#This Row],[Calc 2]]=\"#NA\",\"#NA\",IF(Table1[[#This Row],[Non HZ Employee]]=Table1[[#This Row],[Max calc]],\"Non HZ Employee\", Table1[[#This Row],[Calc 2]]))","v":"#NA"}]
[1844,null,1844,{"$nulls":5},{"$f":"SUM(Table1[[#This Row],[Column4]]+Table1[[#This Row],[Column3]]+Table1[[#This Row],[Column2]]+Table1[[#This Row],[Column1]])","v":0},{"$nulls":5},{"$f":"SUM(Table1[[#This Row],[PO Employee]:[Other Employee]])","v":0},"N",{"$error":"#N/A"},{"$f":"IF(O1861>39,Table1[[#This Row],[Calc 1]],IF(O1861>1,\"Not counted as an Employee\",\"#NA\"))","v":"#NA"},{"$f":"MAX(Table1[[#This Row],[PO Employee]],Table1[[#This Row],[Other HZ Employee]],Table1[[#This Row],[Non HZ Employee]],Table1[[#This Row],[Job Site Employee]],Table1[[#This Row],[Other Employee]])","v":0},{"$f":"IF(Table1[[#This Row],[Total Hours per Month]]=Table1[[#This Row],[Column12]],\"Match\",\"Error\")","v":"Match"},{"$f":"IF(Table1[[#This Row],[Calc 2]]=\"#NA\",\"#NA\",IF(Table1[[#This Row],[Non HZ Employee]]=Table1[[#This Row],[Max calc]],\"Non HZ Employee\", Table1[[#This Row],[Calc 2]]))","v":"#NA"}]
[1845,null,1845,{"$nulls":5},{"$f":"SUM(Table1[[#This Row],[Column4]]+Table1[[#This Row],[Column3]]+Table1[[#This Row],[Column2]]+Table1[[#This Row],[Column1]])","v":0},{"$nulls":5},{"$f":"SUM(Table1[[#This Row],[PO Employee]:[Other Employee]])","v":0},"N",{"$error":"#N/A"},{"$f":"IF(O1862>39,Table1[[#This Row],[Calc 1]],IF(O1862>1,\"Not counted as an Employee\",\"#NA\"))","v":"#NA"},{"$f":"MAX(Table1[[#This Row],[PO Employee]],Table1[[#This Row],[Other HZ Employee]],Table1[[#This Row],[Non HZ Employee]],Table1[[#This Row],[Job Site Employee]],Table1[[#This Row],[Other Employee]])","v":0},{"$f":"IF(Table1[[#This Row],[Total Hours per Month]]=Table1[[#This Row],[Column12]],\"Match\",\"Error\")","v":"Match"},{"$f":"IF(Table1[[#This Row],[Calc 2]]=\"#NA\",\"#NA\",IF(Table1[[#This Row],[Non HZ Employee]]=Table1[[#This Row],[Max calc]],\"Non HZ Employee\", Table1[[#This Row],[Calc 2]]))","v":"#NA"}]
[1846,null,1846,{"$nulls":5},{"$f":"SUM(Table1[[#This Row],[Column4]]+Table1[[#This Row],[Column3]]+Table1[[#This Row],[Column2]]+Table1[[#This Row],[Column1]])","v":0},{"$nulls":5},{"$f":"SUM(Table1[[#This Row],[PO Employee]:[Other Employee]])","v":0},"N",{"$error":"#N/A"},{"$f":"IF(O1863>39,Table1[[#This Row],[Calc 1]],IF(O1863>1,\"Not counted as an Employee\",\"#NA\"))","v":"#NA"},{"$f":"MAX(Table1[[#This Row],[PO Employee]],Table1[[#This Row],[Other HZ Employee]],Table1[[#This Row],[Non HZ Employee]],Table1[[#This Row],[Job Site Employee]],Table1[[#This Row],[Other Employee]])","v":0},{"$f":"IF(Table1[[#This Row],[Total Hours per Month]]=Table1[[#This Row],[Column12]],\"Match\",\"Error\")","v":"Match"},{"$f":"IF(Table1[[#This Row],[Calc 2]]=\"#NA\",\"#NA\",IF(Table1[[#This Row],[Non HZ Employee]]=Table1[[#This Row],[Max calc]],\"Non HZ Employee\", Table1[[#This Row],[Calc 2]]))","v":"#NA"}]
[1847,null,1847,{"$nulls":5},{"$f":"SUM(Table1[[#This Row],[Column4]]+Table1[[#This Row],[Column3]]+Table1[[#This Row],[Column2]]+Table1[[#This Row],[Column1]])","v":0},{"$nulls":5},{"$f":"SUM(Table1[[#This Row],[PO Employee]:[Other Employee]])","v":0},"N",{"$error":"#N/A"},{"$f":"IF(O1864>39,Table1[[#This Row],[Calc 1]],IF(O1864>1,\"Not counted as an Employee\",\"#NA\"))","v":"#NA"},{"$f":"MAX(Table1[[#This Row],[PO Employee]],Table1[[#This Row],[Other HZ Employee]],Table1[[#This Row],[Non HZ Employee]],Table1[[#This Row],[Job Site Employee]],Table1[[#This Row],[Other Employee]])","v":0},{"$f":"IF(Table1[[#This Row],[Total Hours per Month]]=Table1[[#This Row],[Column12]],\"Match\",\"Error\")","v":"Match"},{"$f":"IF(Table1[[#This Row],[Calc 2]]=\"#NA\",\"#NA\",IF(Table1[[#This Row],[Non HZ Employee]]=Table1[[#This Row],[Max calc]],\"Non HZ Employee\", Table1[[#This Row],[Calc 2]]))","v":"#NA"}]
[1848,null,1848,{"$nulls":5},{"$f":"SUM(Table1[[#This Row],[Column4]]+Table1[[#This Row],[Column3]]+Table1[[#This Row],[Column2]]+Table1[[#This Row],[Column1]])","v":0},{"$nulls":5},{"$f":"SUM(Table1[[#This Row],[PO Employee]:[Other Employee]])","v":0},"N",{"$error":"#N/A"},{"$f":"IF(O1865>39,Table1[[#This Row],[Calc 1]],IF(O1865>1,\"Not counted as an Employee\",\"#NA\"))","v":"#NA"},{"$f":"MAX(Table1[[#This Row],[PO Employee]],Table1[[#This Row],[Other HZ Employee]],Table1[[#This Row],[Non HZ Employee]],Table1[[#This Row],[Job Site Employee]],Table1[[#This Row],[Other Employee]])","v":0},{"$f":"IF(Table1[[#This Row],[Total Hours per Month]]=Table1[[#This Row],[Column12]],\"Match\",\"Error\")","v":"Match"},{"$f":"IF(Table1[[#This Row],[Calc 2]]=\"#NA\",\"#NA\",IF(Table1[[#This Row],[Non HZ Employee]]=Table1[[#This Row],[Max calc]],\"Non HZ Employee\", Table1[[#This Row],[Calc 2]]))","v":"#NA"}]
[1849,null,1849,{"$nulls":5},{"$f":"SUM(Table1[[#This Row],[Column4]]+Table1[[#This Row],[Column3]]+Table1[[#This Row],[Column2]]+Table1[[#This Row],[Column1]])","v":0},{"$nulls":5},{"$f":"SUM(Table1[[#This Row],[PO Employee]:[Other Employee]])","v":0},"N",{"$error":"#N/A"},{"$f":"IF(O1866>39,Table1[[#This Row],[Calc 1]],IF(O1866>1,\"Not counted as an Employee\",\"#NA\"))","v":"#NA"},{"$f":"MAX(Table1[[#This Row],[PO Employee]],Table1[[#This Row],[Other HZ Employee]],Table1[[#This Row],[Non HZ Employee]],Table1[[#This Row],[Job Site Employee]],Table1[[#This Row],[Other Employee]])","v":0},{"$f":"IF(Table1[[#This Row],[Total Hours per Month]]=Table1[[#This Row],[Column12]],\"Match\",\"Error\")","v":"Match"},{"$f":"IF(Table1[[#This Row],[Calc 2]]=\"#NA\",\"#NA\",IF(Table1[[#This Row],[Non HZ Employee]]=Table1[[#This Row],[Max calc]],\"Non HZ Employee\", Table1[[#This Row],[Calc 2]]))","v":"#NA"}]
[1850,null,1850,{"$nulls":5},{"$f":"SUM(Table1[[#This Row],[Column4]]+Table1[[#This Row],[Column3]]+Table1[[#This Row],[Column2]]+Table1[[#This Row],[Column1]])","v":0},{"$nulls":5},{"$f":"SUM(Table1[[#This Row],[PO Employee]:[Other Employee]])","v":0},"N",{"$error":"#N/A"},{"$f":"IF(O1867>39,Table1[[#This Row],[Calc 1]],IF(O1867>1,\"Not counted as an Employee\",\"#NA\"))","v":"#NA"},{"$f":"MAX(Table1[[#This Row],[PO Employee]],Table1[[#This Row],[Other HZ Employee]],Table1[[#This Row],[Non HZ Employee]],Table1[[#This Row],[Job Site Employee]],Table1[[#This Row],[Other Employee]])","v":0},{"$f":"IF(Table1[[#This Row],[Total Hours per Month]]=Table1[[#This Row],[Column12]],\"Match\",\"Error\")","v":"Match"},{"$f":"IF(Table1[[#This Row],[Calc 2]]=\"#NA\",\"#NA\",IF(Table1[[#This Row],[Non HZ Employee]]=Table1[[#This Row],[Max calc]],\"Non HZ Employee\", Table1[[#This Row],[Calc 2]]))","v":"#NA"}]
[1851,null,1851,{"$nulls":5},{"$f":"SUM(Table1[[#This Row],[Column4]]+Table1[[#This Row],[Column3]]+Table1[[#This Row],[Column2]]+Table1[[#This Row],[Column1]])","v":0},{"$nulls":5},{"$f":"SUM(Table1[[#This Row],[PO Employee]:[Other Employee]])","v":0},"N",{"$error":"#N/A"},{"$f":"IF(O1868>39,Table1[[#This Row],[Calc 1]],IF(O1868>1,\"Not counted as an Employee\",\"#NA\"))","v":"#NA"},{"$f":"MAX(Table1[[#This Row],[PO Employee]],Table1[[#This Row],[Other HZ Employee]],Table1[[#This Row],[Non HZ Employee]],Table1[[#This Row],[Job Site Employee]],Table1[[#This Row],[Other Employee]])","v":0},{"$f":"IF(Table1[[#This Row],[Total Hours per Month]]=Table1[[#This Row],[Column12]],\"Match\",\"Error\")","v":"Match"},{"$f":"IF(Table1[[#This Row],[Calc 2]]=\"#NA\",\"#NA\",IF(Table1[[#This Row],[Non HZ Employee]]=Table1[[#This Row],[Max calc]],\"Non HZ Employee\", Table1[[#This Row],[Calc 2]]))","v":"#NA"}]
[1852,null,1852,{"$nulls":5},{"$f":"SUM(Table1[[#This Row],[Column4]]+Table1[[#This Row],[Column3]]+Table1[[#This Row],[Column2]]+Table1[[#This Row],[Column1]])","v":0},{"$nulls":5},{"$f":"SUM(Table1[[#This Row],[PO Employee]:[Other Employee]])","v":0},"N",{"$error":"#N/A"},{"$f":"IF(O1869>39,Table1[[#This Row],[Calc 1]],IF(O1869>1,\"Not counted as an Employee\",\"#NA\"))","v":"#NA"},{"$f":"MAX(Table1[[#This Row],[PO Employee]],Table1[[#This Row],[Other HZ Employee]],Table1[[#This Row],[Non HZ Employee]],Table1[[#This Row],[Job Site Employee]],Table1[[#This Row],[Other Employee]])","v":0},{"$f":"IF(Table1[[#This Row],[Total Hours per Month]]=Table1[[#This Row],[Column12]],\"Match\",\"Error\")","v":"Match"},{"$f":"IF(Table1[[#This Row],[Calc 2]]=\"#NA\",\"#NA\",IF(Table1[[#This Row],[Non HZ Employee]]=Table1[[#This Row],[Max calc]],\"Non HZ Employee\", Table1[[#This Row],[Calc 2]]))","v":"#NA"}]
[1853,null,1853,{"$nulls":5},{"$f":"SUM(Table1[[#This Row],[Column4]]+Table1[[#This Row],[Column3]]+Table1[[#This Row],[Column2]]+Table1[[#This Row],[Column1]])","v":0},{"$nulls":5},{"$f":"SUM(Table1[[#This Row],[PO Employee]:[Other Employee]])","v":0},"N",{"$error":"#N/A"},{"$f":"IF(O1870>39,Table1[[#This Row],[Calc 1]],IF(O1870>1,\"Not counted as an Employee\",\"#NA\"))","v":"#NA"},{"$f":"MAX(Table1[[#This Row],[PO Employee]],Table1[[#This Row],[Other HZ Employee]],Table1[[#This Row],[Non HZ Employee]],Table1[[#This Row],[Job Site Employee]],Table1[[#This Row],[Other Employee]])","v":0},{"$f":"IF(Table1[[#This Row],[Total Hours per Month]]=Table1[[#This Row],[Column12]],\"Match\",\"Error\")","v":"Match"},{"$f":"IF(Table1[[#This Row],[Calc 2]]=\"#NA\",\"#NA\",IF(Table1[[#This Row],[Non HZ Employee]]=Table1[[#This Row],[Max calc]],\"Non HZ Employee\", Table1[[#This Row],[Calc 2]]))","v":"#NA"}]
[1854,null,1854,{"$nulls":5},{"$f":"SUM(Table1[[#This Row],[Column4]]+Table1[[#This Row],[Column3]]+Table1[[#This Row],[Column2]]+Table1[[#This Row],[Column1]])","v":0},{"$nulls":5},{"$f":"SUM(Table1[[#This Row],[PO Employee]:[Other Employee]])","v":0},"N",{"$error":"#N/A"},{"$f":"IF(O1871>39,Table1[[#This Row],[Calc 1]],IF(O1871>1,\"Not counted as an Employee\",\"#NA\"))","v":"#NA"},{"$f":"MAX(Table1[[#This Row],[PO Employee]],Table1[[#This Row],[Other HZ Employee]],Table1[[#This Row],[Non HZ Employee]],Table1[[#This Row],[Job Site Employee]],Table1[[#This Row],[Other Employee]])","v":0},{"$f":"IF(Table1[[#This Row],[Total Hours per Month]]=Table1[[#This Row],[Column12]],\"Match\",\"Error\")","v":"Match"},{"$f":"IF(Table1[[#This Row],[Calc 2]]=\"#NA\",\"#NA\",IF(Table1[[#This Row],[Non HZ Employee]]=Table1[[#This Row],[Max calc]],\"Non HZ Employee\", Table1[[#This Row],[Calc 2]]))","v":"#NA"}]
[1855,null,1855,{"$nulls":5},{"$f":"SUM(Table1[[#This Row],[Column4]]+Table1[[#This Row],[Column3]]+Table1[[#This Row],[Column2]]+Table1[[#This Row],[Column1]])","v":0},{"$nulls":5},{"$f":"SUM(Table1[[#This Row],[PO Employee]:[Other Employee]])","v":0},"N",{"$error":"#N/A"},{"$f":"IF(O1872>39,Table1[[#This Row],[Calc 1]],IF(O1872>1,\"Not counted as an Employee\",\"#NA\"))","v":"#NA"},{"$f":"MAX(Table1[[#This Row],[PO Employee]],Table1[[#This Row],[Other HZ Employee]],Table1[[#This Row],[Non HZ Employee]],Table1[[#This Row],[Job Site Employee]],Table1[[#This Row],[Other Employee]])","v":0},{"$f":"IF(Table1[[#This Row],[Total Hours per Month]]=Table1[[#This Row],[Column12]],\"Match\",\"Error\")","v":"Match"},{"$f":"IF(Table1[[#This Row],[Calc 2]]=\"#NA\",\"#NA\",IF(Table1[[#This Row],[Non HZ Employee]]=Table1[[#This Row],[Max calc]],\"Non HZ Employee\", Table1[[#This Row],[Calc 2]]))","v":"#NA"}]
[1856,null,1856,{"$nulls":5},{"$f":"SUM(Table1[[#This Row],[Column4]]+Table1[[#This Row],[Column3]]+Table1[[#This Row],[Column2]]+Table1[[#This Row],[Column1]])","v":0},{"$nulls":5},{"$f":"SUM(Table1[[#This Row],[PO Employee]:[Other Employee]])","v":0},"N",{"$error":"#N/A"},{"$f":"IF(O1873>39,Table1[[#This Row],[Calc 1]],IF(O1873>1,\"Not counted as an Employee\",\"#NA\"))","v":"#NA"},{"$f":"MAX(Table1[[#This Row],[PO Employee]],Table1[[#This Row],[Other HZ Employee]],Table1[[#This Row],[Non HZ Employee]],Table1[[#This Row],[Job Site Employee]],Table1[[#This Row],[Other Employee]])","v":0},{"$f":"IF(Table1[[#This Row],[Total Hours per Month]]=Table1[[#This Row],[Column12]],\"Match\",\"Error\")","v":"Match"},{"$f":"IF(Table1[[#This Row],[Calc 2]]=\"#NA\",\"#NA\",IF(Table1[[#This Row],[Non HZ Employee]]=Table1[[#This Row],[Max calc]],\"Non HZ Employee\", Table1[[#This Row],[Calc 2]]))","v":"#NA"}]
[1857,null,1857,{"$nulls":5},{"$f":"SUM(Table1[[#This Row],[Column4]]+Table1[[#This Row],[Column3]]+Table1[[#This Row],[Column2]]+Table1[[#This Row],[Column1]])","v":0},{"$nulls":5},{"$f":"SUM(Table1[[#This Row],[PO Employee]:[Other Employee]])","v":0},"N",{"$f":"INDEX($J$17:$N$17,MATCH(MAX(J1874:N1874),J1874:N1874,0))","v":{"$error":"#N/A"}},{"$f":"IF(O1874>39,Table1[[#This Row],[Calc 1]],IF(O1874>1,\"Not counted as an Employee\",\"#NA\"))","v":"#NA"},{"$f":"MAX(Table1[[#This Row],[PO Employee]],Table1[[#This Row],[Other HZ Employee]],Table1[[#This Row],[Non HZ Employee]],Table1[[#This Row],[Job Site Employee]],Table1[[#This Row],[Other Employee]])","v":0},{"$f":"IF(Table1[[#This Row],[Total Hours per Month]]=Table1[[#This Row],[Column12]],\"Match\",\"Error\")","v":"Match"},{"$f":"IF(Table1[[#This Row],[Calc 2]]=\"#NA\",\"#NA\",IF(Table1[[#This Row],[Non HZ Employee]]=Table1[[#This Row],[Max calc]],\"Non HZ Employee\", Table1[[#This Row],[Calc 2]]))","v":"#NA"}]
[1858,null,1858,{"$nulls":5},{"$f":"SUM(Table1[[#This Row],[Column4]]+Table1[[#This Row],[Column3]]+Table1[[#This Row],[Column2]]+Table1[[#This Row],[Column1]])","v":0},{"$nulls":5},{"$f":"SUM(Table1[[#This Row],[PO Employee]:[Other Employee]])","v":0},{"$f":"IF(O1875>=40,\"Y\",\"N\")","v":"N"},{"$error":"#N/A"},{"$f":"IF(O1875>39,Table1[[#This Row],[Calc 1]],IF(O1875>1,\"Not counted as an Employee\",\"#NA\"))","v":"#NA"},{"$f":"MAX(Table1[[#This Row],[PO Employee]],Table1[[#This Row],[Other HZ Employee]],Table1[[#This Row],[Non HZ Employee]],Table1[[#This Row],[Job Site Employee]],Table1[[#This Row],[Other Employee]])","v":0},{"$f":"IF(Table1[[#This Row],[Total Hours per Month]]=Table1[[#This Row],[Column12]],\"Match\",\"Error\")","v":"Match"},{"$f":"IF(Table1[[#This Row],[Calc 2]]=\"#NA\",\"#NA\",IF(Table1[[#This Row],[Non HZ Employee]]=Table1[[#This Row],[Max calc]],\"Non HZ Employee\", Table1[[#This Row],[Calc 2]]))","v":"#NA"}]
[1859,null,1859,{"$nulls":5},{"$f":"SUM(Table1[[#This Row],[Column4]]+Table1[[#This Row],[Column3]]+Table1[[#This Row],[Column2]]+Table1[[#This Row],[Column1]])","v":0},{"$nulls":5},{"$f":"SUM(Table1[[#This Row],[PO Employee]:[Other Employee]])","v":0},"N",{"$error":"#N/A"},{"$f":"IF(O1876>39,Table1[[#This Row],[Calc 1]],IF(O1876>1,\"Not counted as an Employee\",\"#NA\"))","v":"#NA"},{"$f":"MAX(Table1[[#This Row],[PO Employee]],Table1[[#This Row],[Other HZ Employee]],Table1[[#This Row],[Non HZ Employee]],Table1[[#This Row],[Job Site Employee]],Table1[[#This Row],[Other Employee]])","v":0},{"$f":"IF(Table1[[#This Row],[Total Hours per Month]]=Table1[[#This Row],[Column12]],\"Match\",\"Error\")","v":"Match"},{"$f":"IF(Table1[[#This Row],[Calc 2]]=\"#NA\",\"#NA\",IF(Table1[[#This Row],[Non HZ Employee]]=Table1[[#This Row],[Max calc]],\"Non HZ Employee\", Table1[[#This Row],[Calc 2]]))","v":"#NA"}]
[1860,null,1860,{"$nulls":5},{"$f":"SUM(Table1[[#This Row],[Column4]]+Table1[[#This Row],[Column3]]+Table1[[#This Row],[Column2]]+Table1[[#This Row],[Column1]])","v":0},{"$nulls":5},{"$f":"SUM(Table1[[#This Row],[PO Employee]:[Other Employee]])","v":0},"N",{"$error":"#N/A"},{"$f":"IF(O1877>39,Table1[[#This Row],[Calc 1]],IF(O1877>1,\"Not counted as an Employee\",\"#NA\"))","v":"#NA"},{"$f":"MAX(Table1[[#This Row],[PO Employee]],Table1[[#This Row],[Other HZ Employee]],Table1[[#This Row],[Non HZ Employee]],Table1[[#This Row],[Job Site Employee]],Table1[[#This Row],[Other Employee]])","v":0},{"$f":"IF(Table1[[#This Row],[Total Hours per Month]]=Table1[[#This Row],[Column12]],\"Match\",\"Error\")","v":"Match"},{"$f":"IF(Table1[[#This Row],[Calc 2]]=\"#NA\",\"#NA\",IF(Table1[[#This Row],[Non HZ Employee]]=Table1[[#This Row],[Max calc]],\"Non HZ Employee\", Table1[[#This Row],[Calc 2]]))","v":"#NA"}]
[1861,null,1861,{"$nulls":5},{"$f":"SUM(Table1[[#This Row],[Column4]]+Table1[[#This Row],[Column3]]+Table1[[#This Row],[Column2]]+Table1[[#This Row],[Column1]])","v":0},{"$nulls":5},{"$f":"SUM(Table1[[#This Row],[PO Employee]:[Other Employee]])","v":0},"N",{"$error":"#N/A"},{"$f":"IF(O1878>39,Table1[[#This Row],[Calc 1]],IF(O1878>1,\"Not counted as an Employee\",\"#NA\"))","v":"#NA"},{"$f":"MAX(Table1[[#This Row],[PO Employee]],Table1[[#This Row],[Other HZ Employee]],Table1[[#This Row],[Non HZ Employee]],Table1[[#This Row],[Job Site Employee]],Table1[[#This Row],[Other Employee]])","v":0},{"$f":"IF(Table1[[#This Row],[Total Hours per Month]]=Table1[[#This Row],[Column12]],\"Match\",\"Error\")","v":"Match"},{"$f":"IF(Table1[[#This Row],[Calc 2]]=\"#NA\",\"#NA\",IF(Table1[[#This Row],[Non HZ Employee]]=Table1[[#This Row],[Max calc]],\"Non HZ Employee\", Table1[[#This Row],[Calc 2]]))","v":"#NA"}]
[1862,null,1862,{"$nulls":5},{"$f":"SUM(Table1[[#This Row],[Column4]]+Table1[[#This Row],[Column3]]+Table1[[#This Row],[Column2]]+Table1[[#This Row],[Column1]])","v":0},{"$nulls":5},{"$f":"SUM(Table1[[#This Row],[PO Employee]:[Other Employee]])","v":0},"N",{"$error":"#N/A"},{"$f":"IF(O1879>39,Table1[[#This Row],[Calc 1]],IF(O1879>1,\"Not counted as an Employee\",\"#NA\"))","v":"#NA"},{"$f":"MAX(Table1[[#This Row],[PO Employee]],Table1[[#This Row],[Other HZ Employee]],Table1[[#This Row],[Non HZ Employee]],Table1[[#This Row],[Job Site Employee]],Table1[[#This Row],[Other Employee]])","v":0},{"$f":"IF(Table1[[#This Row],[Total Hours per Month]]=Table1[[#This Row],[Column12]],\"Match\",\"Error\")","v":"Match"},{"$f":"IF(Table1[[#This Row],[Calc 2]]=\"#NA\",\"#NA\",IF(Table1[[#This Row],[Non HZ Employee]]=Table1[[#This Row],[Max calc]],\"Non HZ Employee\", Table1[[#This Row],[Calc 2]]))","v":"#NA"}]
[1863,null,1863,{"$nulls":5},{"$f":"SUM(Table1[[#This Row],[Column4]]+Table1[[#This Row],[Column3]]+Table1[[#This Row],[Column2]]+Table1[[#This Row],[Column1]])","v":0},{"$nulls":5},{"$f":"SUM(Table1[[#This Row],[PO Employee]:[Other Employee]])","v":0},"N",{"$error":"#N/A"},{"$f":"IF(O1880>39,Table1[[#This Row],[Calc 1]],IF(O1880>1,\"Not counted as an Employee\",\"#NA\"))","v":"#NA"},{"$f":"MAX(Table1[[#This Row],[PO Employee]],Table1[[#This Row],[Other HZ Employee]],Table1[[#This Row],[Non HZ Employee]],Table1[[#This Row],[Job Site Employee]],Table1[[#This Row],[Other Employee]])","v":0},{"$f":"IF(Table1[[#This Row],[Total Hours per Month]]=Table1[[#This Row],[Column12]],\"Match\",\"Error\")","v":"Match"},{"$f":"IF(Table1[[#This Row],[Calc 2]]=\"#NA\",\"#NA\",IF(Table1[[#This Row],[Non HZ Employee]]=Table1[[#This Row],[Max calc]],\"Non HZ Employee\", Table1[[#This Row],[Calc 2]]))","v":"#NA"}]
[1864,null,1864,{"$nulls":5},{"$f":"SUM(Table1[[#This Row],[Column4]]+Table1[[#This Row],[Column3]]+Table1[[#This Row],[Column2]]+Table1[[#This Row],[Column1]])","v":0},{"$nulls":5},{"$f":"SUM(Table1[[#This Row],[PO Employee]:[Other Employee]])","v":0},"N",{"$error":"#N/A"},{"$f":"IF(O1881>39,Table1[[#This Row],[Calc 1]],IF(O1881>1,\"Not counted as an Employee\",\"#NA\"))","v":"#NA"},{"$f":"MAX(Table1[[#This Row],[PO Employee]],Table1[[#This Row],[Other HZ Employee]],Table1[[#This Row],[Non HZ Employee]],Table1[[#This Row],[Job Site Employee]],Table1[[#This Row],[Other Employee]])","v":0},{"$f":"IF(Table1[[#This Row],[Total Hours per Month]]=Table1[[#This Row],[Column12]],\"Match\",\"Error\")","v":"Match"},{"$f":"IF(Table1[[#This Row],[Calc 2]]=\"#NA\",\"#NA\",IF(Table1[[#This Row],[Non HZ Employee]]=Table1[[#This Row],[Max calc]],\"Non HZ Employee\", Table1[[#This Row],[Calc 2]]))","v":"#NA"}]
[1865,null,1865,{"$nulls":5},{"$f":"SUM(Table1[[#This Row],[Column4]]+Table1[[#This Row],[Column3]]+Table1[[#This Row],[Column2]]+Table1[[#This Row],[Column1]])","v":0},{"$nulls":5},{"$f":"SUM(Table1[[#This Row],[PO Employee]:[Other Employee]])","v":0},"N",{"$error":"#N/A"},{"$f":"IF(O1882>39,Table1[[#This Row],[Calc 1]],IF(O1882>1,\"Not counted as an Employee\",\"#NA\"))","v":"#NA"},{"$f":"MAX(Table1[[#This Row],[PO Employee]],Table1[[#This Row],[Other HZ Employee]],Table1[[#This Row],[Non HZ Employee]],Table1[[#This Row],[Job Site Employee]],Table1[[#This Row],[Other Employee]])","v":0},{"$f":"IF(Table1[[#This Row],[Total Hours per Month]]=Table1[[#This Row],[Column12]],\"Match\",\"Error\")","v":"Match"},{"$f":"IF(Table1[[#This Row],[Calc 2]]=\"#NA\",\"#NA\",IF(Table1[[#This Row],[Non HZ Employee]]=Table1[[#This Row],[Max calc]],\"Non HZ Employee\", Table1[[#This Row],[Calc 2]]))","v":"#NA"}]
[1866,null,1866,{"$nulls":5},{"$f":"SUM(Table1[[#This Row],[Column4]]+Table1[[#This Row],[Column3]]+Table1[[#This Row],[Column2]]+Table1[[#This Row],[Column1]])","v":0},{"$nulls":5},{"$f":"SUM(Table1[[#This Row],[PO Employee]:[Other Employee]])","v":0},"N",{"$error":"#N/A"},{"$f":"IF(O1883>39,Table1[[#This Row],[Calc 1]],IF(O1883>1,\"Not counted as an Employee\",\"#NA\"))","v":"#NA"},{"$f":"MAX(Table1[[#This Row],[PO Employee]],Table1[[#This Row],[Other HZ Employee]],Table1[[#This Row],[Non HZ Employee]],Table1[[#This Row],[Job Site Employee]],Table1[[#This Row],[Other Employee]])","v":0},{"$f":"IF(Table1[[#This Row],[Total Hours per Month]]=Table1[[#This Row],[Column12]],\"Match\",\"Error\")","v":"Match"},{"$f":"IF(Table1[[#This Row],[Calc 2]]=\"#NA\",\"#NA\",IF(Table1[[#This Row],[Non HZ Employee]]=Table1[[#This Row],[Max calc]],\"Non HZ Employee\", Table1[[#This Row],[Calc 2]]))","v":"#NA"}]
[1867,null,1867,{"$nulls":5},{"$f":"SUM(Table1[[#This Row],[Column4]]+Table1[[#This Row],[Column3]]+Table1[[#This Row],[Column2]]+Table1[[#This Row],[Column1]])","v":0},{"$nulls":5},{"$f":"SUM(Table1[[#This Row],[PO Employee]:[Other Employee]])","v":0},"N",{"$error":"#N/A"},{"$f":"IF(O1884>39,Table1[[#This Row],[Calc 1]],IF(O1884>1,\"Not counted as an Employee\",\"#NA\"))","v":"#NA"},{"$f":"MAX(Table1[[#This Row],[PO Employee]],Table1[[#This Row],[Other HZ Employee]],Table1[[#This Row],[Non HZ Employee]],Table1[[#This Row],[Job Site Employee]],Table1[[#This Row],[Other Employee]])","v":0},{"$f":"IF(Table1[[#This Row],[Total Hours per Month]]=Table1[[#This Row],[Column12]],\"Match\",\"Error\")","v":"Match"},{"$f":"IF(Table1[[#This Row],[Calc 2]]=\"#NA\",\"#NA\",IF(Table1[[#This Row],[Non HZ Employee]]=Table1[[#This Row],[Max calc]],\"Non HZ Employee\", Table1[[#This Row],[Calc 2]]))","v":"#NA"}]
[1868,null,1868,{"$nulls":5},{"$f":"SUM(Table1[[#This Row],[Column4]]+Table1[[#This Row],[Column3]]+Table1[[#This Row],[Column2]]+Table1[[#This Row],[Column1]])","v":0},{"$nulls":5},{"$f":"SUM(Table1[[#This Row],[PO Employee]:[Other Employee]])","v":0},"N",{"$error":"#N/A"},{"$f":"IF(O1885>39,Table1[[#This Row],[Calc 1]],IF(O1885>1,\"Not counted as an Employee\",\"#NA\"))","v":"#NA"},{"$f":"MAX(Table1[[#This Row],[PO Employee]],Table1[[#This Row],[Other HZ Employee]],Table1[[#This Row],[Non HZ Employee]],Table1[[#This Row],[Job Site Employee]],Table1[[#This Row],[Other Employee]])","v":0},{"$f":"IF(Table1[[#This Row],[Total Hours per Month]]=Table1[[#This Row],[Column12]],\"Match\",\"Error\")","v":"Match"},{"$f":"IF(Table1[[#This Row],[Calc 2]]=\"#NA\",\"#NA\",IF(Table1[[#This Row],[Non HZ Employee]]=Table1[[#This Row],[Max calc]],\"Non HZ Employee\", Table1[[#This Row],[Calc 2]]))","v":"#NA"}]
[1869,null,1869,{"$nulls":5},{"$f":"SUM(Table1[[#This Row],[Column4]]+Table1[[#This Row],[Column3]]+Table1[[#This Row],[Column2]]+Table1[[#This Row],[Column1]])","v":0},{"$nulls":5},{"$f":"SUM(Table1[[#This Row],[PO Employee]:[Other Employee]])","v":0},"N",{"$error":"#N/A"},{"$f":"IF(O1886>39,Table1[[#This Row],[Calc 1]],IF(O1886>1,\"Not counted as an Employee\",\"#NA\"))","v":"#NA"},{"$f":"MAX(Table1[[#This Row],[PO Employee]],Table1[[#This Row],[Other HZ Employee]],Table1[[#This Row],[Non HZ Employee]],Table1[[#This Row],[Job Site Employee]],Table1[[#This Row],[Other Employee]])","v":0},{"$f":"IF(Table1[[#This Row],[Total Hours per Month]]=Table1[[#This Row],[Column12]],\"Match\",\"Error\")","v":"Match"},{"$f":"IF(Table1[[#This Row],[Calc 2]]=\"#NA\",\"#NA\",IF(Table1[[#This Row],[Non HZ Employee]]=Table1[[#This Row],[Max calc]],\"Non HZ Employee\", Table1[[#This Row],[Calc 2]]))","v":"#NA"}]
[1870,null,1870,{"$nulls":5},{"$f":"SUM(Table1[[#This Row],[Column4]]+Table1[[#This Row],[Column3]]+Table1[[#This Row],[Column2]]+Table1[[#This Row],[Column1]])","v":0},{"$nulls":5},{"$f":"SUM(Table1[[#This Row],[PO Employee]:[Other Employee]])","v":0},"N",{"$error":"#N/A"},{"$f":"IF(O1887>39,Table1[[#This Row],[Calc 1]],IF(O1887>1,\"Not counted as an Employee\",\"#NA\"))","v":"#NA"},{"$f":"MAX(Table1[[#This Row],[PO Employee]],Table1[[#This Row],[Other HZ Employee]],Table1[[#This Row],[Non HZ Employee]],Table1[[#This Row],[Job Site Employee]],Table1[[#This Row],[Other Employee]])","v":0},{"$f":"IF(Table1[[#This Row],[Total Hours per Month]]=Table1[[#This Row],[Column12]],\"Match\",\"Error\")","v":"Match"},{"$f":"IF(Table1[[#This Row],[Calc 2]]=\"#NA\",\"#NA\",IF(Table1[[#This Row],[Non HZ Employee]]=Table1[[#This Row],[Max calc]],\"Non HZ Employee\", Table1[[#This Row],[Calc 2]]))","v":"#NA"}]
[1871,null,1871,{"$nulls":5},{"$f":"SUM(Table1[[#This Row],[Column4]]+Table1[[#This Row],[Column3]]+Table1[[#This Row],[Column2]]+Table1[[#This Row],[Column1]])","v":0},{"$nulls":5},{"$f":"SUM(Table1[[#This Row],[PO Employee]:[Other Employee]])","v":0},"N",{"$error":"#N/A"},{"$f":"IF(O1888>39,Table1[[#This Row],[Calc 1]],IF(O1888>1,\"Not counted as an Employee\",\"#NA\"))","v":"#NA"},{"$f":"MAX(Table1[[#This Row],[PO Employee]],Table1[[#This Row],[Other HZ Employee]],Table1[[#This Row],[Non HZ Employee]],Table1[[#This Row],[Job Site Employee]],Table1[[#This Row],[Other Employee]])","v":0},{"$f":"IF(Table1[[#This Row],[Total Hours per Month]]=Table1[[#This Row],[Column12]],\"Match\",\"Error\")","v":"Match"},{"$f":"IF(Table1[[#This Row],[Calc 2]]=\"#NA\",\"#NA\",IF(Table1[[#This Row],[Non HZ Employee]]=Table1[[#This Row],[Max calc]],\"Non HZ Employee\", Table1[[#This Row],[Calc 2]]))","v":"#NA"}]
[1872,null,1872,{"$nulls":5},{"$f":"SUM(Table1[[#This Row],[Column4]]+Table1[[#This Row],[Column3]]+Table1[[#This Row],[Column2]]+Table1[[#This Row],[Column1]])","v":0},{"$nulls":5},{"$f":"SUM(Table1[[#This Row],[PO Employee]:[Other Employee]])","v":0},"N",{"$error":"#N/A"},{"$f":"IF(O1889>39,Table1[[#This Row],[Calc 1]],IF(O1889>1,\"Not counted as an Employee\",\"#NA\"))","v":"#NA"},{"$f":"MAX(Table1[[#This Row],[PO Employee]],Table1[[#This Row],[Other HZ Employee]],Table1[[#This Row],[Non HZ Employee]],Table1[[#This Row],[Job Site Employee]],Table1[[#This Row],[Other Employee]])","v":0},{"$f":"IF(Table1[[#This Row],[Total Hours per Month]]=Table1[[#This Row],[Column12]],\"Match\",\"Error\")","v":"Match"},{"$f":"IF(Table1[[#This Row],[Calc 2]]=\"#NA\",\"#NA\",IF(Table1[[#This Row],[Non HZ Employee]]=Table1[[#This Row],[Max calc]],\"Non HZ Employee\", Table1[[#This Row],[Calc 2]]))","v":"#NA"}]
[1873,null,1873,{"$nulls":5},{"$f":"SUM(Table1[[#This Row],[Column4]]+Table1[[#This Row],[Column3]]+Table1[[#This Row],[Column2]]+Table1[[#This Row],[Column1]])","v":0},{"$nulls":5},{"$f":"SUM(Table1[[#This Row],[PO Employee]:[Other Employee]])","v":0},"N",{"$error":"#N/A"},{"$f":"IF(O1890>39,Table1[[#This Row],[Calc 1]],IF(O1890>1,\"Not counted as an Employee\",\"#NA\"))","v":"#NA"},{"$f":"MAX(Table1[[#This Row],[PO Employee]],Table1[[#This Row],[Other HZ Employee]],Table1[[#This Row],[Non HZ Employee]],Table1[[#This Row],[Job Site Employee]],Table1[[#This Row],[Other Employee]])","v":0},{"$f":"IF(Table1[[#This Row],[Total Hours per Month]]=Table1[[#This Row],[Column12]],\"Match\",\"Error\")","v":"Match"},{"$f":"IF(Table1[[#This Row],[Calc 2]]=\"#NA\",\"#NA\",IF(Table1[[#This Row],[Non HZ Employee]]=Table1[[#This Row],[Max calc]],\"Non HZ Employee\", Table1[[#This Row],[Calc 2]]))","v":"#NA"}]
[1874,null,1874,{"$nulls":5},{"$f":"SUM(Table1[[#This Row],[Column4]]+Table1[[#This Row],[Column3]]+Table1[[#This Row],[Column2]]+Table1[[#This Row],[Column1]])","v":0},{"$nulls":5},{"$f":"SUM(Table1[[#This Row],[PO Employee]:[Other Employee]])","v":0},"N",{"$error":"#N/A"},{"$f":"IF(O1891>39,Table1[[#This Row],[Calc 1]],IF(O1891>1,\"Not counted as an Employee\",\"#NA\"))","v":"#NA"},{"$f":"MAX(Table1[[#This Row],[PO Employee]],Table1[[#This Row],[Other HZ Employee]],Table1[[#This Row],[Non HZ Employee]],Table1[[#This Row],[Job Site Employee]],Table1[[#This Row],[Other Employee]])","v":0},{"$f":"IF(Table1[[#This Row],[Total Hours per Month]]=Table1[[#This Row],[Column12]],\"Match\",\"Error\")","v":"Match"},{"$f":"IF(Table1[[#This Row],[Calc 2]]=\"#NA\",\"#NA\",IF(Table1[[#This Row],[Non HZ Employee]]=Table1[[#This Row],[Max calc]],\"Non HZ Employee\", Table1[[#This Row],[Calc 2]]))","v":"#NA"}]
[1875,null,1875,{"$nulls":5},{"$f":"SUM(Table1[[#This Row],[Column4]]+Table1[[#This Row],[Column3]]+Table1[[#This Row],[Column2]]+Table1[[#This Row],[Column1]])","v":0},{"$nulls":5},{"$f":"SUM(Table1[[#This Row],[PO Employee]:[Other Employee]])","v":0},"N",{"$error":"#N/A"},{"$f":"IF(O1892>39,Table1[[#This Row],[Calc 1]],IF(O1892>1,\"Not counted as an Employee\",\"#NA\"))","v":"#NA"},{"$f":"MAX(Table1[[#This Row],[PO Employee]],Table1[[#This Row],[Other HZ Employee]],Table1[[#This Row],[Non HZ Employee]],Table1[[#This Row],[Job Site Employee]],Table1[[#This Row],[Other Employee]])","v":0},{"$f":"IF(Table1[[#This Row],[Total Hours per Month]]=Table1[[#This Row],[Column12]],\"Match\",\"Error\")","v":"Match"},{"$f":"IF(Table1[[#This Row],[Calc 2]]=\"#NA\",\"#NA\",IF(Table1[[#This Row],[Non HZ Employee]]=Table1[[#This Row],[Max calc]],\"Non HZ Employee\", Table1[[#This Row],[Calc 2]]))","v":"#NA"}]
[1876,null,1876,{"$nulls":5},{"$f":"SUM(Table1[[#This Row],[Column4]]+Table1[[#This Row],[Column3]]+Table1[[#This Row],[Column2]]+Table1[[#This Row],[Column1]])","v":0},{"$nulls":5},{"$f":"SUM(Table1[[#This Row],[PO Employee]:[Other Employee]])","v":0},"N",{"$error":"#N/A"},{"$f":"IF(O1893>39,Table1[[#This Row],[Calc 1]],IF(O1893>1,\"Not counted as an Employee\",\"#NA\"))","v":"#NA"},{"$f":"MAX(Table1[[#This Row],[PO Employee]],Table1[[#This Row],[Other HZ Employee]],Table1[[#This Row],[Non HZ Employee]],Table1[[#This Row],[Job Site Employee]],Table1[[#This Row],[Other Employee]])","v":0},{"$f":"IF(Table1[[#This Row],[Total Hours per Month]]=Table1[[#This Row],[Column12]],\"Match\",\"Error\")","v":"Match"},{"$f":"IF(Table1[[#This Row],[Calc 2]]=\"#NA\",\"#NA\",IF(Table1[[#This Row],[Non HZ Employee]]=Table1[[#This Row],[Max calc]],\"Non HZ Employee\", Table1[[#This Row],[Calc 2]]))","v":"#NA"}]
[1877,null,1877,{"$nulls":5},{"$f":"SUM(Table1[[#This Row],[Column4]]+Table1[[#This Row],[Column3]]+Table1[[#This Row],[Column2]]+Table1[[#This Row],[Column1]])","v":0},{"$nulls":5},{"$f":"SUM(Table1[[#This Row],[PO Employee]:[Other Employee]])","v":0},"N",{"$error":"#N/A"},{"$f":"IF(O1894>39,Table1[[#This Row],[Calc 1]],IF(O1894>1,\"Not counted as an Employee\",\"#NA\"))","v":"#NA"},{"$f":"MAX(Table1[[#This Row],[PO Employee]],Table1[[#This Row],[Other HZ Employee]],Table1[[#This Row],[Non HZ Employee]],Table1[[#This Row],[Job Site Employee]],Table1[[#This Row],[Other Employee]])","v":0},{"$f":"IF(Table1[[#This Row],[Total Hours per Month]]=Table1[[#This Row],[Column12]],\"Match\",\"Error\")","v":"Match"},{"$f":"IF(Table1[[#This Row],[Calc 2]]=\"#NA\",\"#NA\",IF(Table1[[#This Row],[Non HZ Employee]]=Table1[[#This Row],[Max calc]],\"Non HZ Employee\", Table1[[#This Row],[Calc 2]]))","v":"#NA"}]
[1878,null,1878,{"$nulls":5},{"$f":"SUM(Table1[[#This Row],[Column4]]+Table1[[#This Row],[Column3]]+Table1[[#This Row],[Column2]]+Table1[[#This Row],[Column1]])","v":0},{"$nulls":5},{"$f":"SUM(Table1[[#This Row],[PO Employee]:[Other Employee]])","v":0},"N",{"$error":"#N/A"},{"$f":"IF(O1895>39,Table1[[#This Row],[Calc 1]],IF(O1895>1,\"Not counted as an Employee\",\"#NA\"))","v":"#NA"},{"$f":"MAX(Table1[[#This Row],[PO Employee]],Table1[[#This Row],[Other HZ Employee]],Table1[[#This Row],[Non HZ Employee]],Table1[[#This Row],[Job Site Employee]],Table1[[#This Row],[Other Employee]])","v":0},{"$f":"IF(Table1[[#This Row],[Total Hours per Month]]=Table1[[#This Row],[Column12]],\"Match\",\"Error\")","v":"Match"},{"$f":"IF(Table1[[#This Row],[Calc 2]]=\"#NA\",\"#NA\",IF(Table1[[#This Row],[Non HZ Employee]]=Table1[[#This Row],[Max calc]],\"Non HZ Employee\", Table1[[#This Row],[Calc 2]]))","v":"#NA"}]
[1879,null,1879,{"$nulls":5},{"$f":"SUM(Table1[[#This Row],[Column4]]+Table1[[#This Row],[Column3]]+Table1[[#This Row],[Column2]]+Table1[[#This Row],[Column1]])","v":0},{"$nulls":5},{"$f":"SUM(Table1[[#This Row],[PO Employee]:[Other Employee]])","v":0},"N",{"$error":"#N/A"},{"$f":"IF(O1896>39,Table1[[#This Row],[Calc 1]],IF(O1896>1,\"Not counted as an Employee\",\"#NA\"))","v":"#NA"},{"$f":"MAX(Table1[[#This Row],[PO Employee]],Table1[[#This Row],[Other HZ Employee]],Table1[[#This Row],[Non HZ Employee]],Table1[[#This Row],[Job Site Employee]],Table1[[#This Row],[Other Employee]])","v":0},{"$f":"IF(Table1[[#This Row],[Total Hours per Month]]=Table1[[#This Row],[Column12]],\"Match\",\"Error\")","v":"Match"},{"$f":"IF(Table1[[#This Row],[Calc 2]]=\"#NA\",\"#NA\",IF(Table1[[#This Row],[Non HZ Employee]]=Table1[[#This Row],[Max calc]],\"Non HZ Employee\", Table1[[#This Row],[Calc 2]]))","v":"#NA"}]
[1880,null,1880,{"$nulls":5},{"$f":"SUM(Table1[[#This Row],[Column4]]+Table1[[#This Row],[Column3]]+Table1[[#This Row],[Column2]]+Table1[[#This Row],[Column1]])","v":0},{"$nulls":5},{"$f":"SUM(Table1[[#This Row],[PO Employee]:[Other Employee]])","v":0},"N",{"$error":"#N/A"},{"$f":"IF(O1897>39,Table1[[#This Row],[Calc 1]],IF(O1897>1,\"Not counted as an Employee\",\"#NA\"))","v":"#NA"},{"$f":"MAX(Table1[[#This Row],[PO Employee]],Table1[[#This Row],[Other HZ Employee]],Table1[[#This Row],[Non HZ Employee]],Table1[[#This Row],[Job Site Employee]],Table1[[#This Row],[Other Employee]])","v":0},{"$f":"IF(Table1[[#This Row],[Total Hours per Month]]=Table1[[#This Row],[Column12]],\"Match\",\"Error\")","v":"Match"},{"$f":"IF(Table1[[#This Row],[Calc 2]]=\"#NA\",\"#NA\",IF(Table1[[#This Row],[Non HZ Employee]]=Table1[[#This Row],[Max calc]],\"Non HZ Employee\", Table1[[#This Row],[Calc 2]]))","v":"#NA"}]
[1881,null,1881,{"$nulls":5},{"$f":"SUM(Table1[[#This Row],[Column4]]+Table1[[#This Row],[Column3]]+Table1[[#This Row],[Column2]]+Table1[[#This Row],[Column1]])","v":0},{"$nulls":5},{"$f":"SUM(Table1[[#This Row],[PO Employee]:[Other Employee]])","v":0},"N",{"$error":"#N/A"},{"$f":"IF(O1898>39,Table1[[#This Row],[Calc 1]],IF(O1898>1,\"Not counted as an Employee\",\"#NA\"))","v":"#NA"},{"$f":"MAX(Table1[[#This Row],[PO Employee]],Table1[[#This Row],[Other HZ Employee]],Table1[[#This Row],[Non HZ Employee]],Table1[[#This Row],[Job Site Employee]],Table1[[#This Row],[Other Employee]])","v":0},{"$f":"IF(Table1[[#This Row],[Total Hours per Month]]=Table1[[#This Row],[Column12]],\"Match\",\"Error\")","v":"Match"},{"$f":"IF(Table1[[#This Row],[Calc 2]]=\"#NA\",\"#NA\",IF(Table1[[#This Row],[Non HZ Employee]]=Table1[[#This Row],[Max calc]],\"Non HZ Employee\", Table1[[#This Row],[Calc 2]]))","v":"#NA"}]
[1882,null,1882,{"$nulls":5},{"$f":"SUM(Table1[[#This Row],[Column4]]+Table1[[#This Row],[Column3]]+Table1[[#This Row],[Column2]]+Table1[[#This Row],[Column1]])","v":0},{"$nulls":5},{"$f":"SUM(Table1[[#This Row],[PO Employee]:[Other Employee]])","v":0},"N",{"$error":"#N/A"},{"$f":"IF(O1899>39,Table1[[#This Row],[Calc 1]],IF(O1899>1,\"Not counted as an Employee\",\"#NA\"))","v":"#NA"},{"$f":"MAX(Table1[[#This Row],[PO Employee]],Table1[[#This Row],[Other HZ Employee]],Table1[[#This Row],[Non HZ Employee]],Table1[[#This Row],[Job Site Employee]],Table1[[#This Row],[Other Employee]])","v":0},{"$f":"IF(Table1[[#This Row],[Total Hours per Month]]=Table1[[#This Row],[Column12]],\"Match\",\"Error\")","v":"Match"},{"$f":"IF(Table1[[#This Row],[Calc 2]]=\"#NA\",\"#NA\",IF(Table1[[#This Row],[Non HZ Employee]]=Table1[[#This Row],[Max calc]],\"Non HZ Employee\", Table1[[#This Row],[Calc 2]]))","v":"#NA"}]
[1883,null,1883,{"$nulls":5},{"$f":"SUM(Table1[[#This Row],[Column4]]+Table1[[#This Row],[Column3]]+Table1[[#This Row],[Column2]]+Table1[[#This Row],[Column1]])","v":0},{"$nulls":5},{"$f":"SUM(Table1[[#This Row],[PO Employee]:[Other Employee]])","v":0},"N",{"$error":"#N/A"},{"$f":"IF(O1900>39,Table1[[#This Row],[Calc 1]],IF(O1900>1,\"Not counted as an Employee\",\"#NA\"))","v":"#NA"},{"$f":"MAX(Table1[[#This Row],[PO Employee]],Table1[[#This Row],[Other HZ Employee]],Table1[[#This Row],[Non HZ Employee]],Table1[[#This Row],[Job Site Employee]],Table1[[#This Row],[Other Employee]])","v":0},{"$f":"IF(Table1[[#This Row],[Total Hours per Month]]=Table1[[#This Row],[Column12]],\"Match\",\"Error\")","v":"Match"},{"$f":"IF(Table1[[#This Row],[Calc 2]]=\"#NA\",\"#NA\",IF(Table1[[#This Row],[Non HZ Employee]]=Table1[[#This Row],[Max calc]],\"Non HZ Employee\", Table1[[#This Row],[Calc 2]]))","v":"#NA"}]
[1884,null,1884,{"$nulls":5},{"$f":"SUM(Table1[[#This Row],[Column4]]+Table1[[#This Row],[Column3]]+Table1[[#This Row],[Column2]]+Table1[[#This Row],[Column1]])","v":0},{"$nulls":5},{"$f":"SUM(Table1[[#This Row],[PO Employee]:[Other Employee]])","v":0},"N",{"$error":"#N/A"},{"$f":"IF(O1901>39,Table1[[#This Row],[Calc 1]],IF(O1901>1,\"Not counted as an Employee\",\"#NA\"))","v":"#NA"},{"$f":"MAX(Table1[[#This Row],[PO Employee]],Table1[[#This Row],[Other HZ Employee]],Table1[[#This Row],[Non HZ Employee]],Table1[[#This Row],[Job Site Employee]],Table1[[#This Row],[Other Employee]])","v":0},{"$f":"IF(Table1[[#This Row],[Total Hours per Month]]=Table1[[#This Row],[Column12]],\"Match\",\"Error\")","v":"Match"},{"$f":"IF(Table1[[#This Row],[Calc 2]]=\"#NA\",\"#NA\",IF(Table1[[#This Row],[Non HZ Employee]]=Table1[[#This Row],[Max calc]],\"Non HZ Employee\", Table1[[#This Row],[Calc 2]]))","v":"#NA"}]
[1885,null,1885,{"$nulls":5},{"$f":"SUM(Table1[[#This Row],[Column4]]+Table1[[#This Row],[Column3]]+Table1[[#This Row],[Column2]]+Table1[[#This Row],[Column1]])","v":0},{"$nulls":5},{"$f":"SUM(Table1[[#This Row],[PO Employee]:[Other Employee]])","v":0},"N",{"$error":"#N/A"},{"$f":"IF(O1902>39,Table1[[#This Row],[Calc 1]],IF(O1902>1,\"Not counted as an Employee\",\"#NA\"))","v":"#NA"},{"$f":"MAX(Table1[[#This Row],[PO Employee]],Table1[[#This Row],[Other HZ Employee]],Table1[[#This Row],[Non HZ Employee]],Table1[[#This Row],[Job Site Employee]],Table1[[#This Row],[Other Employee]])","v":0},{"$f":"IF(Table1[[#This Row],[Total Hours per Month]]=Table1[[#This Row],[Column12]],\"Match\",\"Error\")","v":"Match"},{"$f":"IF(Table1[[#This Row],[Calc 2]]=\"#NA\",\"#NA\",IF(Table1[[#This Row],[Non HZ Employee]]=Table1[[#This Row],[Max calc]],\"Non HZ Employee\", Table1[[#This Row],[Calc 2]]))","v":"#NA"}]
[1886,null,1886,{"$nulls":5},{"$f":"SUM(Table1[[#This Row],[Column4]]+Table1[[#This Row],[Column3]]+Table1[[#This Row],[Column2]]+Table1[[#This Row],[Column1]])","v":0},{"$nulls":5},{"$f":"SUM(Table1[[#This Row],[PO Employee]:[Other Employee]])","v":0},"N",{"$error":"#N/A"},{"$f":"IF(O1903>39,Table1[[#This Row],[Calc 1]],IF(O1903>1,\"Not counted as an Employee\",\"#NA\"))","v":"#NA"},{"$f":"MAX(Table1[[#This Row],[PO Employee]],Table1[[#This Row],[Other HZ Employee]],Table1[[#This Row],[Non HZ Employee]],Table1[[#This Row],[Job Site Employee]],Table1[[#This Row],[Other Employee]])","v":0},{"$f":"IF(Table1[[#This Row],[Total Hours per Month]]=Table1[[#This Row],[Column12]],\"Match\",\"Error\")","v":"Match"},{"$f":"IF(Table1[[#This Row],[Calc 2]]=\"#NA\",\"#NA\",IF(Table1[[#This Row],[Non HZ Employee]]=Table1[[#This Row],[Max calc]],\"Non HZ Employee\", Table1[[#This Row],[Calc 2]]))","v":"#NA"}]
[1887,null,1887,{"$nulls":5},{"$f":"SUM(Table1[[#This Row],[Column4]]+Table1[[#This Row],[Column3]]+Table1[[#This Row],[Column2]]+Table1[[#This Row],[Column1]])","v":0},{"$nulls":5},{"$f":"SUM(Table1[[#This Row],[PO Employee]:[Other Employee]])","v":0},"N",{"$error":"#N/A"},{"$f":"IF(O1904>39,Table1[[#This Row],[Calc 1]],IF(O1904>1,\"Not counted as an Employee\",\"#NA\"))","v":"#NA"},{"$f":"MAX(Table1[[#This Row],[PO Employee]],Table1[[#This Row],[Other HZ Employee]],Table1[[#This Row],[Non HZ Employee]],Table1[[#This Row],[Job Site Employee]],Table1[[#This Row],[Other Employee]])","v":0},{"$f":"IF(Table1[[#This Row],[Total Hours per Month]]=Table1[[#This Row],[Column12]],\"Match\",\"Error\")","v":"Match"},{"$f":"IF(Table1[[#This Row],[Calc 2]]=\"#NA\",\"#NA\",IF(Table1[[#This Row],[Non HZ Employee]]=Table1[[#This Row],[Max calc]],\"Non HZ Employee\", Table1[[#This Row],[Calc 2]]))","v":"#NA"}]
[1888,null,1888,{"$nulls":5},{"$f":"SUM(Table1[[#This Row],[Column4]]+Table1[[#This Row],[Column3]]+Table1[[#This Row],[Column2]]+Table1[[#This Row],[Column1]])","v":0},{"$nulls":5},{"$f":"SUM(Table1[[#This Row],[PO Employee]:[Other Employee]])","v":0},"N",{"$error":"#N/A"},{"$f":"IF(O1905>39,Table1[[#This Row],[Calc 1]],IF(O1905>1,\"Not counted as an Employee\",\"#NA\"))","v":"#NA"},{"$f":"MAX(Table1[[#This Row],[PO Employee]],Table1[[#This Row],[Other HZ Employee]],Table1[[#This Row],[Non HZ Employee]],Table1[[#This Row],[Job Site Employee]],Table1[[#This Row],[Other Employee]])","v":0},{"$f":"IF(Table1[[#This Row],[Total Hours per Month]]=Table1[[#This Row],[Column12]],\"Match\",\"Error\")","v":"Match"},{"$f":"IF(Table1[[#This Row],[Calc 2]]=\"#NA\",\"#NA\",IF(Table1[[#This Row],[Non HZ Employee]]=Table1[[#This Row],[Max calc]],\"Non HZ Employee\", Table1[[#This Row],[Calc 2]]))","v":"#NA"}]
[1889,null,1889,{"$nulls":5},{"$f":"SUM(Table1[[#This Row],[Column4]]+Table1[[#This Row],[Column3]]+Table1[[#This Row],[Column2]]+Table1[[#This Row],[Column1]])","v":0},{"$nulls":5},{"$f":"SUM(Table1[[#This Row],[PO Employee]:[Other Employee]])","v":0},"N",{"$error":"#N/A"},{"$f":"IF(O1906>39,Table1[[#This Row],[Calc 1]],IF(O1906>1,\"Not counted as an Employee\",\"#NA\"))","v":"#NA"},{"$f":"MAX(Table1[[#This Row],[PO Employee]],Table1[[#This Row],[Other HZ Employee]],Table1[[#This Row],[Non HZ Employee]],Table1[[#This Row],[Job Site Employee]],Table1[[#This Row],[Other Employee]])","v":0},{"$f":"IF(Table1[[#This Row],[Total Hours per Month]]=Table1[[#This Row],[Column12]],\"Match\",\"Error\")","v":"Match"},{"$f":"IF(Table1[[#This Row],[Calc 2]]=\"#NA\",\"#NA\",IF(Table1[[#This Row],[Non HZ Employee]]=Table1[[#This Row],[Max calc]],\"Non HZ Employee\", Table1[[#This Row],[Calc 2]]))","v":"#NA"}]
[1890,null,1890,{"$nulls":5},{"$f":"SUM(Table1[[#This Row],[Column4]]+Table1[[#This Row],[Column3]]+Table1[[#This Row],[Column2]]+Table1[[#This Row],[Column1]])","v":0},{"$nulls":5},{"$f":"SUM(Table1[[#This Row],[PO Employee]:[Other Employee]])","v":0},"N",{"$error":"#N/A"},{"$f":"IF(O1907>39,Table1[[#This Row],[Calc 1]],IF(O1907>1,\"Not counted as an Employee\",\"#NA\"))","v":"#NA"},{"$f":"MAX(Table1[[#This Row],[PO Employee]],Table1[[#This Row],[Other HZ Employee]],Table1[[#This Row],[Non HZ Employee]],Table1[[#This Row],[Job Site Employee]],Table1[[#This Row],[Other Employee]])","v":0},{"$f":"IF(Table1[[#This Row],[Total Hours per Month]]=Table1[[#This Row],[Column12]],\"Match\",\"Error\")","v":"Match"},{"$f":"IF(Table1[[#This Row],[Calc 2]]=\"#NA\",\"#NA\",IF(Table1[[#This Row],[Non HZ Employee]]=Table1[[#This Row],[Max calc]],\"Non HZ Employee\", Table1[[#This Row],[Calc 2]]))","v":"#NA"}]
[1891,null,1891,{"$nulls":5},{"$f":"SUM(Table1[[#This Row],[Column4]]+Table1[[#This Row],[Column3]]+Table1[[#This Row],[Column2]]+Table1[[#This Row],[Column1]])","v":0},{"$nulls":5},{"$f":"SUM(Table1[[#This Row],[PO Employee]:[Other Employee]])","v":0},"N",{"$error":"#N/A"},{"$f":"IF(O1908>39,Table1[[#This Row],[Calc 1]],IF(O1908>1,\"Not counted as an Employee\",\"#NA\"))","v":"#NA"},{"$f":"MAX(Table1[[#This Row],[PO Employee]],Table1[[#This Row],[Other HZ Employee]],Table1[[#This Row],[Non HZ Employee]],Table1[[#This Row],[Job Site Employee]],Table1[[#This Row],[Other Employee]])","v":0},{"$f":"IF(Table1[[#This Row],[Total Hours per Month]]=Table1[[#This Row],[Column12]],\"Match\",\"Error\")","v":"Match"},{"$f":"IF(Table1[[#This Row],[Calc 2]]=\"#NA\",\"#NA\",IF(Table1[[#This Row],[Non HZ Employee]]=Table1[[#This Row],[Max calc]],\"Non HZ Employee\", Table1[[#This Row],[Calc 2]]))","v":"#NA"}]
[1892,null,1892,{"$nulls":5},{"$f":"SUM(Table1[[#This Row],[Column4]]+Table1[[#This Row],[Column3]]+Table1[[#This Row],[Column2]]+Table1[[#This Row],[Column1]])","v":0},{"$nulls":5},{"$f":"SUM(Table1[[#This Row],[PO Employee]:[Other Employee]])","v":0},"N",{"$error":"#N/A"},{"$f":"IF(O1909>39,Table1[[#This Row],[Calc 1]],IF(O1909>1,\"Not counted as an Employee\",\"#NA\"))","v":"#NA"},{"$f":"MAX(Table1[[#This Row],[PO Employee]],Table1[[#This Row],[Other HZ Employee]],Table1[[#This Row],[Non HZ Employee]],Table1[[#This Row],[Job Site Employee]],Table1[[#This Row],[Other Employee]])","v":0},{"$f":"IF(Table1[[#This Row],[Total Hours per Month]]=Table1[[#This Row],[Column12]],\"Match\",\"Error\")","v":"Match"},{"$f":"IF(Table1[[#This Row],[Calc 2]]=\"#NA\",\"#NA\",IF(Table1[[#This Row],[Non HZ Employee]]=Table1[[#This Row],[Max calc]],\"Non HZ Employee\", Table1[[#This Row],[Calc 2]]))","v":"#NA"}]
[1893,null,1893,{"$nulls":5},{"$f":"SUM(Table1[[#This Row],[Column4]]+Table1[[#This Row],[Column3]]+Table1[[#This Row],[Column2]]+Table1[[#This Row],[Column1]])","v":0},{"$nulls":5},{"$f":"SUM(Table1[[#This Row],[PO Employee]:[Other Employee]])","v":0},"N",{"$error":"#N/A"},{"$f":"IF(O1910>39,Table1[[#This Row],[Calc 1]],IF(O1910>1,\"Not counted as an Employee\",\"#NA\"))","v":"#NA"},{"$f":"MAX(Table1[[#This Row],[PO Employee]],Table1[[#This Row],[Other HZ Employee]],Table1[[#This Row],[Non HZ Employee]],Table1[[#This Row],[Job Site Employee]],Table1[[#This Row],[Other Employee]])","v":0},{"$f":"IF(Table1[[#This Row],[Total Hours per Month]]=Table1[[#This Row],[Column12]],\"Match\",\"Error\")","v":"Match"},{"$f":"IF(Table1[[#This Row],[Calc 2]]=\"#NA\",\"#NA\",IF(Table1[[#This Row],[Non HZ Employee]]=Table1[[#This Row],[Max calc]],\"Non HZ Employee\", Table1[[#This Row],[Calc 2]]))","v":"#NA"}]
[1894,null,1894,{"$nulls":5},{"$f":"SUM(Table1[[#This Row],[Column4]]+Table1[[#This Row],[Column3]]+Table1[[#This Row],[Column2]]+Table1[[#This Row],[Column1]])","v":0},{"$nulls":5},{"$f":"SUM(Table1[[#This Row],[PO Employee]:[Other Employee]])","v":0},"N",{"$error":"#N/A"},{"$f":"IF(O1911>39,Table1[[#This Row],[Calc 1]],IF(O1911>1,\"Not counted as an Employee\",\"#NA\"))","v":"#NA"},{"$f":"MAX(Table1[[#This Row],[PO Employee]],Table1[[#This Row],[Other HZ Employee]],Table1[[#This Row],[Non HZ Employee]],Table1[[#This Row],[Job Site Employee]],Table1[[#This Row],[Other Employee]])","v":0},{"$f":"IF(Table1[[#This Row],[Total Hours per Month]]=Table1[[#This Row],[Column12]],\"Match\",\"Error\")","v":"Match"},{"$f":"IF(Table1[[#This Row],[Calc 2]]=\"#NA\",\"#NA\",IF(Table1[[#This Row],[Non HZ Employee]]=Table1[[#This Row],[Max calc]],\"Non HZ Employee\", Table1[[#This Row],[Calc 2]]))","v":"#NA"}]
[1895,null,1895,{"$nulls":5},{"$f":"SUM(Table1[[#This Row],[Column4]]+Table1[[#This Row],[Column3]]+Table1[[#This Row],[Column2]]+Table1[[#This Row],[Column1]])","v":0},{"$nulls":5},{"$f":"SUM(Table1[[#This Row],[PO Employee]:[Other Employee]])","v":0},"N",{"$error":"#N/A"},{"$f":"IF(O1912>39,Table1[[#This Row],[Calc 1]],IF(O1912>1,\"Not counted as an Employee\",\"#NA\"))","v":"#NA"},{"$f":"MAX(Table1[[#This Row],[PO Employee]],Table1[[#This Row],[Other HZ Employee]],Table1[[#This Row],[Non HZ Employee]],Table1[[#This Row],[Job Site Employee]],Table1[[#This Row],[Other Employee]])","v":0},{"$f":"IF(Table1[[#This Row],[Total Hours per Month]]=Table1[[#This Row],[Column12]],\"Match\",\"Error\")","v":"Match"},{"$f":"IF(Table1[[#This Row],[Calc 2]]=\"#NA\",\"#NA\",IF(Table1[[#This Row],[Non HZ Employee]]=Table1[[#This Row],[Max calc]],\"Non HZ Employee\", Table1[[#This Row],[Calc 2]]))","v":"#NA"}]
[1896,null,1896,{"$nulls":5},{"$f":"SUM(Table1[[#This Row],[Column4]]+Table1[[#This Row],[Column3]]+Table1[[#This Row],[Column2]]+Table1[[#This Row],[Column1]])","v":0},{"$nulls":5},{"$f":"SUM(Table1[[#This Row],[PO Employee]:[Other Employee]])","v":0},"N",{"$error":"#N/A"},{"$f":"IF(O1913>39,Table1[[#This Row],[Calc 1]],IF(O1913>1,\"Not counted as an Employee\",\"#NA\"))","v":"#NA"},{"$f":"MAX(Table1[[#This Row],[PO Employee]],Table1[[#This Row],[Other HZ Employee]],Table1[[#This Row],[Non HZ Employee]],Table1[[#This Row],[Job Site Employee]],Table1[[#This Row],[Other Employee]])","v":0},{"$f":"IF(Table1[[#This Row],[Total Hours per Month]]=Table1[[#This Row],[Column12]],\"Match\",\"Error\")","v":"Match"},{"$f":"IF(Table1[[#This Row],[Calc 2]]=\"#NA\",\"#NA\",IF(Table1[[#This Row],[Non HZ Employee]]=Table1[[#This Row],[Max calc]],\"Non HZ Employee\", Table1[[#This Row],[Calc 2]]))","v":"#NA"}]
[1897,null,1897,{"$nulls":5},{"$f":"SUM(Table1[[#This Row],[Column4]]+Table1[[#This Row],[Column3]]+Table1[[#This Row],[Column2]]+Table1[[#This Row],[Column1]])","v":0},{"$nulls":5},{"$f":"SUM(Table1[[#This Row],[PO Employee]:[Other Employee]])","v":0},"N",{"$error":"#N/A"},{"$f":"IF(O1914>39,Table1[[#This Row],[Calc 1]],IF(O1914>1,\"Not counted as an Employee\",\"#NA\"))","v":"#NA"},{"$f":"MAX(Table1[[#This Row],[PO Employee]],Table1[[#This Row],[Other HZ Employee]],Table1[[#This Row],[Non HZ Employee]],Table1[[#This Row],[Job Site Employee]],Table1[[#This Row],[Other Employee]])","v":0},{"$f":"IF(Table1[[#This Row],[Total Hours per Month]]=Table1[[#This Row],[Column12]],\"Match\",\"Error\")","v":"Match"},{"$f":"IF(Table1[[#This Row],[Calc 2]]=\"#NA\",\"#NA\",IF(Table1[[#This Row],[Non HZ Employee]]=Table1[[#This Row],[Max calc]],\"Non HZ Employee\", Table1[[#This Row],[Calc 2]]))","v":"#NA"}]
[1898,null,1898,{"$nulls":5},{"$f":"SUM(Table1[[#This Row],[Column4]]+Table1[[#This Row],[Column3]]+Table1[[#This Row],[Column2]]+Table1[[#This Row],[Column1]])","v":0},{"$nulls":5},{"$f":"SUM(Table1[[#This Row],[PO Employee]:[Other Employee]])","v":0},"N",{"$error":"#N/A"},{"$f":"IF(O1915>39,Table1[[#This Row],[Calc 1]],IF(O1915>1,\"Not counted as an Employee\",\"#NA\"))","v":"#NA"},{"$f":"MAX(Table1[[#This Row],[PO Employee]],Table1[[#This Row],[Other HZ Employee]],Table1[[#This Row],[Non HZ Employee]],Table1[[#This Row],[Job Site Employee]],Table1[[#This Row],[Other Employee]])","v":0},{"$f":"IF(Table1[[#This Row],[Total Hours per Month]]=Table1[[#This Row],[Column12]],\"Match\",\"Error\")","v":"Match"},{"$f":"IF(Table1[[#This Row],[Calc 2]]=\"#NA\",\"#NA\",IF(Table1[[#This Row],[Non HZ Employee]]=Table1[[#This Row],[Max calc]],\"Non HZ Employee\", Table1[[#This Row],[Calc 2]]))","v":"#NA"}]
[1899,null,1899,{"$nulls":5},{"$f":"SUM(Table1[[#This Row],[Column4]]+Table1[[#This Row],[Column3]]+Table1[[#This Row],[Column2]]+Table1[[#This Row],[Column1]])","v":0},{"$nulls":5},{"$f":"SUM(Table1[[#This Row],[PO Employee]:[Other Employee]])","v":0},"N",{"$error":"#N/A"},{"$f":"IF(O1916>39,Table1[[#This Row],[Calc 1]],IF(O1916>1,\"Not counted as an Employee\",\"#NA\"))","v":"#NA"},{"$f":"MAX(Table1[[#This Row],[PO Employee]],Table1[[#This Row],[Other HZ Employee]],Table1[[#This Row],[Non HZ Employee]],Table1[[#This Row],[Job Site Employee]],Table1[[#This Row],[Other Employee]])","v":0},{"$f":"IF(Table1[[#This Row],[Total Hours per Month]]=Table1[[#This Row],[Column12]],\"Match\",\"Error\")","v":"Match"},{"$f":"IF(Table1[[#This Row],[Calc 2]]=\"#NA\",\"#NA\",IF(Table1[[#This Row],[Non HZ Employee]]=Table1[[#This Row],[Max calc]],\"Non HZ Employee\", Table1[[#This Row],[Calc 2]]))","v":"#NA"}]
[1900,null,1900,{"$nulls":5},{"$f":"SUM(Table1[[#This Row],[Column4]]+Table1[[#This Row],[Column3]]+Table1[[#This Row],[Column2]]+Table1[[#This Row],[Column1]])","v":0},{"$nulls":5},{"$f":"SUM(Table1[[#This Row],[PO Employee]:[Other Employee]])","v":0},"N",{"$error":"#N/A"},{"$f":"IF(O1917>39,Table1[[#This Row],[Calc 1]],IF(O1917>1,\"Not counted as an Employee\",\"#NA\"))","v":"#NA"},{"$f":"MAX(Table1[[#This Row],[PO Employee]],Table1[[#This Row],[Other HZ Employee]],Table1[[#This Row],[Non HZ Employee]],Table1[[#This Row],[Job Site Employee]],Table1[[#This Row],[Other Employee]])","v":0},{"$f":"IF(Table1[[#This Row],[Total Hours per Month]]=Table1[[#This Row],[Column12]],\"Match\",\"Error\")","v":"Match"},{"$f":"IF(Table1[[#This Row],[Calc 2]]=\"#NA\",\"#NA\",IF(Table1[[#This Row],[Non HZ Employee]]=Table1[[#This Row],[Max calc]],\"Non HZ Employee\", Table1[[#This Row],[Calc 2]]))","v":"#NA"}]
[1901,null,1901,{"$nulls":5},{"$f":"SUM(Table1[[#This Row],[Column4]]+Table1[[#This Row],[Column3]]+Table1[[#This Row],[Column2]]+Table1[[#This Row],[Column1]])","v":0},{"$nulls":5},{"$f":"SUM(Table1[[#This Row],[PO Employee]:[Other Employee]])","v":0},"N",{"$error":"#N/A"},{"$f":"IF(O1918>39,Table1[[#This Row],[Calc 1]],IF(O1918>1,\"Not counted as an Employee\",\"#NA\"))","v":"#NA"},{"$f":"MAX(Table1[[#This Row],[PO Employee]],Table1[[#This Row],[Other HZ Employee]],Table1[[#This Row],[Non HZ Employee]],Table1[[#This Row],[Job Site Employee]],Table1[[#This Row],[Other Employee]])","v":0},{"$f":"IF(Table1[[#This Row],[Total Hours per Month]]=Table1[[#This Row],[Column12]],\"Match\",\"Error\")","v":"Match"},{"$f":"IF(Table1[[#This Row],[Calc 2]]=\"#NA\",\"#NA\",IF(Table1[[#This Row],[Non HZ Employee]]=Table1[[#This Row],[Max calc]],\"Non HZ Employee\", Table1[[#This Row],[Calc 2]]))","v":"#NA"}]
[1902,null,1902,{"$nulls":5},{"$f":"SUM(Table1[[#This Row],[Column4]]+Table1[[#This Row],[Column3]]+Table1[[#This Row],[Column2]]+Table1[[#This Row],[Column1]])","v":0},{"$nulls":5},{"$f":"SUM(Table1[[#This Row],[PO Employee]:[Other Employee]])","v":0},"N",{"$error":"#N/A"},{"$f":"IF(O1919>39,Table1[[#This Row],[Calc 1]],IF(O1919>1,\"Not counted as an Employee\",\"#NA\"))","v":"#NA"},{"$f":"MAX(Table1[[#This Row],[PO Employee]],Table1[[#This Row],[Other HZ Employee]],Table1[[#This Row],[Non HZ Employee]],Table1[[#This Row],[Job Site Employee]],Table1[[#This Row],[Other Employee]])","v":0},{"$f":"IF(Table1[[#This Row],[Total Hours per Month]]=Table1[[#This Row],[Column12]],\"Match\",\"Error\")","v":"Match"},{"$f":"IF(Table1[[#This Row],[Calc 2]]=\"#NA\",\"#NA\",IF(Table1[[#This Row],[Non HZ Employee]]=Table1[[#This Row],[Max calc]],\"Non HZ Employee\", Table1[[#This Row],[Calc 2]]))","v":"#NA"}]
[1903,null,1903,{"$nulls":5},{"$f":"SUM(Table1[[#This Row],[Column4]]+Table1[[#This Row],[Column3]]+Table1[[#This Row],[Column2]]+Table1[[#This Row],[Column1]])","v":0},{"$nulls":5},{"$f":"SUM(Table1[[#This Row],[PO Employee]:[Other Employee]])","v":0},"N",{"$error":"#N/A"},{"$f":"IF(O1920>39,Table1[[#This Row],[Calc 1]],IF(O1920>1,\"Not counted as an Employee\",\"#NA\"))","v":"#NA"},{"$f":"MAX(Table1[[#This Row],[PO Employee]],Table1[[#This Row],[Other HZ Employee]],Table1[[#This Row],[Non HZ Employee]],Table1[[#This Row],[Job Site Employee]],Table1[[#This Row],[Other Employee]])","v":0},{"$f":"IF(Table1[[#This Row],[Total Hours per Month]]=Table1[[#This Row],[Column12]],\"Match\",\"Error\")","v":"Match"},{"$f":"IF(Table1[[#This Row],[Calc 2]]=\"#NA\",\"#NA\",IF(Table1[[#This Row],[Non HZ Employee]]=Table1[[#This Row],[Max calc]],\"Non HZ Employee\", Table1[[#This Row],[Calc 2]]))","v":"#NA"}]
[1904,null,1904,{"$nulls":5},{"$f":"SUM(Table1[[#This Row],[Column4]]+Table1[[#This Row],[Column3]]+Table1[[#This Row],[Column2]]+Table1[[#This Row],[Column1]])","v":0},{"$nulls":5},{"$f":"SUM(Table1[[#This Row],[PO Employee]:[Other Employee]])","v":0},"N",{"$error":"#N/A"},{"$f":"IF(O1921>39,Table1[[#This Row],[Calc 1]],IF(O1921>1,\"Not counted as an Employee\",\"#NA\"))","v":"#NA"},{"$f":"MAX(Table1[[#This Row],[PO Employee]],Table1[[#This Row],[Other HZ Employee]],Table1[[#This Row],[Non HZ Employee]],Table1[[#This Row],[Job Site Employee]],Table1[[#This Row],[Other Employee]])","v":0},{"$f":"IF(Table1[[#This Row],[Total Hours per Month]]=Table1[[#This Row],[Column12]],\"Match\",\"Error\")","v":"Match"},{"$f":"IF(Table1[[#This Row],[Calc 2]]=\"#NA\",\"#NA\",IF(Table1[[#This Row],[Non HZ Employee]]=Table1[[#This Row],[Max calc]],\"Non HZ Employee\", Table1[[#This Row],[Calc 2]]))","v":"#NA"}]
[1905,null,1905,{"$nulls":5},{"$f":"SUM(Table1[[#This Row],[Column4]]+Table1[[#This Row],[Column3]]+Table1[[#This Row],[Column2]]+Table1[[#This Row],[Column1]])","v":0},{"$nulls":5},{"$f":"SUM(Table1[[#This Row],[PO Employee]:[Other Employee]])","v":0},"N",{"$error":"#N/A"},{"$f":"IF(O1922>39,Table1[[#This Row],[Calc 1]],IF(O1922>1,\"Not counted as an Employee\",\"#NA\"))","v":"#NA"},{"$f":"MAX(Table1[[#This Row],[PO Employee]],Table1[[#This Row],[Other HZ Employee]],Table1[[#This Row],[Non HZ Employee]],Table1[[#This Row],[Job Site Employee]],Table1[[#This Row],[Other Employee]])","v":0},{"$f":"IF(Table1[[#This Row],[Total Hours per Month]]=Table1[[#This Row],[Column12]],\"Match\",\"Error\")","v":"Match"},{"$f":"IF(Table1[[#This Row],[Calc 2]]=\"#NA\",\"#NA\",IF(Table1[[#This Row],[Non HZ Employee]]=Table1[[#This Row],[Max calc]],\"Non HZ Employee\", Table1[[#This Row],[Calc 2]]))","v":"#NA"}]
[1906,null,1906,{"$nulls":5},{"$f":"SUM(Table1[[#This Row],[Column4]]+Table1[[#This Row],[Column3]]+Table1[[#This Row],[Column2]]+Table1[[#This Row],[Column1]])","v":0},{"$nulls":5},{"$f":"SUM(Table1[[#This Row],[PO Employee]:[Other Employee]])","v":0},"N",{"$error":"#N/A"},{"$f":"IF(O1923>39,Table1[[#This Row],[Calc 1]],IF(O1923>1,\"Not counted as an Employee\",\"#NA\"))","v":"#NA"},{"$f":"MAX(Table1[[#This Row],[PO Employee]],Table1[[#This Row],[Other HZ Employee]],Table1[[#This Row],[Non HZ Employee]],Table1[[#This Row],[Job Site Employee]],Table1[[#This Row],[Other Employee]])","v":0},{"$f":"IF(Table1[[#This Row],[Total Hours per Month]]=Table1[[#This Row],[Column12]],\"Match\",\"Error\")","v":"Match"},{"$f":"IF(Table1[[#This Row],[Calc 2]]=\"#NA\",\"#NA\",IF(Table1[[#This Row],[Non HZ Employee]]=Table1[[#This Row],[Max calc]],\"Non HZ Employee\", Table1[[#This Row],[Calc 2]]))","v":"#NA"}]
[1907,null,1907,{"$nulls":5},{"$f":"SUM(Table1[[#This Row],[Column4]]+Table1[[#This Row],[Column3]]+Table1[[#This Row],[Column2]]+Table1[[#This Row],[Column1]])","v":0},{"$nulls":5},{"$f":"SUM(Table1[[#This Row],[PO Employee]:[Other Employee]])","v":0},"N",{"$error":"#N/A"},{"$f":"IF(O1924>39,Table1[[#This Row],[Calc 1]],IF(O1924>1,\"Not counted as an Employee\",\"#NA\"))","v":"#NA"},{"$f":"MAX(Table1[[#This Row],[PO Employee]],Table1[[#This Row],[Other HZ Employee]],Table1[[#This Row],[Non HZ Employee]],Table1[[#This Row],[Job Site Employee]],Table1[[#This Row],[Other Employee]])","v":0},{"$f":"IF(Table1[[#This Row],[Total Hours per Month]]=Table1[[#This Row],[Column12]],\"Match\",\"Error\")","v":"Match"},{"$f":"IF(Table1[[#This Row],[Calc 2]]=\"#NA\",\"#NA\",IF(Table1[[#This Row],[Non HZ Employee]]=Table1[[#This Row],[Max calc]],\"Non HZ Employee\", Table1[[#This Row],[Calc 2]]))","v":"#NA"}]
[1908,null,1908,{"$nulls":5},{"$f":"SUM(Table1[[#This Row],[Column4]]+Table1[[#This Row],[Column3]]+Table1[[#This Row],[Column2]]+Table1[[#This Row],[Column1]])","v":0},{"$nulls":5},{"$f":"SUM(Table1[[#This Row],[PO Employee]:[Other Employee]])","v":0},"N",{"$error":"#N/A"},{"$f":"IF(O1925>39,Table1[[#This Row],[Calc 1]],IF(O1925>1,\"Not counted as an Employee\",\"#NA\"))","v":"#NA"},{"$f":"MAX(Table1[[#This Row],[PO Employee]],Table1[[#This Row],[Other HZ Employee]],Table1[[#This Row],[Non HZ Employee]],Table1[[#This Row],[Job Site Employee]],Table1[[#This Row],[Other Employee]])","v":0},{"$f":"IF(Table1[[#This Row],[Total Hours per Month]]=Table1[[#This Row],[Column12]],\"Match\",\"Error\")","v":"Match"},{"$f":"IF(Table1[[#This Row],[Calc 2]]=\"#NA\",\"#NA\",IF(Table1[[#This Row],[Non HZ Employee]]=Table1[[#This Row],[Max calc]],\"Non HZ Employee\", Table1[[#This Row],[Calc 2]]))","v":"#NA"}]
[1909,null,1909,{"$nulls":5},{"$f":"SUM(Table1[[#This Row],[Column4]]+Table1[[#This Row],[Column3]]+Table1[[#This Row],[Column2]]+Table1[[#This Row],[Column1]])","v":0},{"$nulls":5},{"$f":"SUM(Table1[[#This Row],[PO Employee]:[Other Employee]])","v":0},"N",{"$error":"#N/A"},{"$f":"IF(O1926>39,Table1[[#This Row],[Calc 1]],IF(O1926>1,\"Not counted as an Employee\",\"#NA\"))","v":"#NA"},{"$f":"MAX(Table1[[#This Row],[PO Employee]],Table1[[#This Row],[Other HZ Employee]],Table1[[#This Row],[Non HZ Employee]],Table1[[#This Row],[Job Site Employee]],Table1[[#This Row],[Other Employee]])","v":0},{"$f":"IF(Table1[[#This Row],[Total Hours per Month]]=Table1[[#This Row],[Column12]],\"Match\",\"Error\")","v":"Match"},{"$f":"IF(Table1[[#This Row],[Calc 2]]=\"#NA\",\"#NA\",IF(Table1[[#This Row],[Non HZ Employee]]=Table1[[#This Row],[Max calc]],\"Non HZ Employee\", Table1[[#This Row],[Calc 2]]))","v":"#NA"}]
[1910,null,1910,{"$nulls":5},{"$f":"SUM(Table1[[#This Row],[Column4]]+Table1[[#This Row],[Column3]]+Table1[[#This Row],[Column2]]+Table1[[#This Row],[Column1]])","v":0},{"$nulls":5},{"$f":"SUM(Table1[[#This Row],[PO Employee]:[Other Employee]])","v":0},"N",{"$error":"#N/A"},{"$f":"IF(O1927>39,Table1[[#This Row],[Calc 1]],IF(O1927>1,\"Not counted as an Employee\",\"#NA\"))","v":"#NA"},{"$f":"MAX(Table1[[#This Row],[PO Employee]],Table1[[#This Row],[Other HZ Employee]],Table1[[#This Row],[Non HZ Employee]],Table1[[#This Row],[Job Site Employee]],Table1[[#This Row],[Other Employee]])","v":0},{"$f":"IF(Table1[[#This Row],[Total Hours per Month]]=Table1[[#This Row],[Column12]],\"Match\",\"Error\")","v":"Match"},{"$f":"IF(Table1[[#This Row],[Calc 2]]=\"#NA\",\"#NA\",IF(Table1[[#This Row],[Non HZ Employee]]=Table1[[#This Row],[Max calc]],\"Non HZ Employee\", Table1[[#This Row],[Calc 2]]))","v":"#NA"}]
[1911,null,1911,{"$nulls":5},{"$f":"SUM(Table1[[#This Row],[Column4]]+Table1[[#This Row],[Column3]]+Table1[[#This Row],[Column2]]+Table1[[#This Row],[Column1]])","v":0},{"$nulls":5},{"$f":"SUM(Table1[[#This Row],[PO Employee]:[Other Employee]])","v":0},"N",{"$error":"#N/A"},{"$f":"IF(O1928>39,Table1[[#This Row],[Calc 1]],IF(O1928>1,\"Not counted as an Employee\",\"#NA\"))","v":"#NA"},{"$f":"MAX(Table1[[#This Row],[PO Employee]],Table1[[#This Row],[Other HZ Employee]],Table1[[#This Row],[Non HZ Employee]],Table1[[#This Row],[Job Site Employee]],Table1[[#This Row],[Other Employee]])","v":0},{"$f":"IF(Table1[[#This Row],[Total Hours per Month]]=Table1[[#This Row],[Column12]],\"Match\",\"Error\")","v":"Match"},{"$f":"IF(Table1[[#This Row],[Calc 2]]=\"#NA\",\"#NA\",IF(Table1[[#This Row],[Non HZ Employee]]=Table1[[#This Row],[Max calc]],\"Non HZ Employee\", Table1[[#This Row],[Calc 2]]))","v":"#NA"}]
[1912,null,1912,{"$nulls":5},{"$f":"SUM(Table1[[#This Row],[Column4]]+Table1[[#This Row],[Column3]]+Table1[[#This Row],[Column2]]+Table1[[#This Row],[Column1]])","v":0},{"$nulls":5},{"$f":"SUM(Table1[[#This Row],[PO Employee]:[Other Employee]])","v":0},"N",{"$error":"#N/A"},{"$f":"IF(O1929>39,Table1[[#This Row],[Calc 1]],IF(O1929>1,\"Not counted as an Employee\",\"#NA\"))","v":"#NA"},{"$f":"MAX(Table1[[#This Row],[PO Employee]],Table1[[#This Row],[Other HZ Employee]],Table1[[#This Row],[Non HZ Employee]],Table1[[#This Row],[Job Site Employee]],Table1[[#This Row],[Other Employee]])","v":0},{"$f":"IF(Table1[[#This Row],[Total Hours per Month]]=Table1[[#This Row],[Column12]],\"Match\",\"Error\")","v":"Match"},{"$f":"IF(Table1[[#This Row],[Calc 2]]=\"#NA\",\"#NA\",IF(Table1[[#This Row],[Non HZ Employee]]=Table1[[#This Row],[Max calc]],\"Non HZ Employee\", Table1[[#This Row],[Calc 2]]))","v":"#NA"}]
[1913,null,1913,{"$nulls":5},{"$f":"SUM(Table1[[#This Row],[Column4]]+Table1[[#This Row],[Column3]]+Table1[[#This Row],[Column2]]+Table1[[#This Row],[Column1]])","v":0},{"$nulls":5},{"$f":"SUM(Table1[[#This Row],[PO Employee]:[Other Employee]])","v":0},"N",{"$error":"#N/A"},{"$f":"IF(O1930>39,Table1[[#This Row],[Calc 1]],IF(O1930>1,\"Not counted as an Employee\",\"#NA\"))","v":"#NA"},{"$f":"MAX(Table1[[#This Row],[PO Employee]],Table1[[#This Row],[Other HZ Employee]],Table1[[#This Row],[Non HZ Employee]],Table1[[#This Row],[Job Site Employee]],Table1[[#This Row],[Other Employee]])","v":0},{"$f":"IF(Table1[[#This Row],[Total Hours per Month]]=Table1[[#This Row],[Column12]],\"Match\",\"Error\")","v":"Match"},{"$f":"IF(Table1[[#This Row],[Calc 2]]=\"#NA\",\"#NA\",IF(Table1[[#This Row],[Non HZ Employee]]=Table1[[#This Row],[Max calc]],\"Non HZ Employee\", Table1[[#This Row],[Calc 2]]))","v":"#NA"}]
[1914,null,1914,{"$nulls":5},{"$f":"SUM(Table1[[#This Row],[Column4]]+Table1[[#This Row],[Column3]]+Table1[[#This Row],[Column2]]+Table1[[#This Row],[Column1]])","v":0},{"$nulls":5},{"$f":"SUM(Table1[[#This Row],[PO Employee]:[Other Employee]])","v":0},"N",{"$error":"#N/A"},{"$f":"IF(O1931>39,Table1[[#This Row],[Calc 1]],IF(O1931>1,\"Not counted as an Employee\",\"#NA\"))","v":"#NA"},{"$f":"MAX(Table1[[#This Row],[PO Employee]],Table1[[#This Row],[Other HZ Employee]],Table1[[#This Row],[Non HZ Employee]],Table1[[#This Row],[Job Site Employee]],Table1[[#This Row],[Other Employee]])","v":0},{"$f":"IF(Table1[[#This Row],[Total Hours per Month]]=Table1[[#This Row],[Column12]],\"Match\",\"Error\")","v":"Match"},{"$f":"IF(Table1[[#This Row],[Calc 2]]=\"#NA\",\"#NA\",IF(Table1[[#This Row],[Non HZ Employee]]=Table1[[#This Row],[Max calc]],\"Non HZ Employee\", Table1[[#This Row],[Calc 2]]))","v":"#NA"}]
[1915,null,1915,{"$nulls":5},{"$f":"SUM(Table1[[#This Row],[Column4]]+Table1[[#This Row],[Column3]]+Table1[[#This Row],[Column2]]+Table1[[#This Row],[Column1]])","v":0},{"$nulls":5},{"$f":"SUM(Table1[[#This Row],[PO Employee]:[Other Employee]])","v":0},"N",{"$error":"#N/A"},{"$f":"IF(O1932>39,Table1[[#This Row],[Calc 1]],IF(O1932>1,\"Not counted as an Employee\",\"#NA\"))","v":"#NA"},{"$f":"MAX(Table1[[#This Row],[PO Employee]],Table1[[#This Row],[Other HZ Employee]],Table1[[#This Row],[Non HZ Employee]],Table1[[#This Row],[Job Site Employee]],Table1[[#This Row],[Other Employee]])","v":0},{"$f":"IF(Table1[[#This Row],[Total Hours per Month]]=Table1[[#This Row],[Column12]],\"Match\",\"Error\")","v":"Match"},{"$f":"IF(Table1[[#This Row],[Calc 2]]=\"#NA\",\"#NA\",IF(Table1[[#This Row],[Non HZ Employee]]=Table1[[#This Row],[Max calc]],\"Non HZ Employee\", Table1[[#This Row],[Calc 2]]))","v":"#NA"}]
[1916,null,1916,{"$nulls":5},{"$f":"SUM(Table1[[#This Row],[Column4]]+Table1[[#This Row],[Column3]]+Table1[[#This Row],[Column2]]+Table1[[#This Row],[Column1]])","v":0},{"$nulls":5},{"$f":"SUM(Table1[[#This Row],[PO Employee]:[Other Employee]])","v":0},"N",{"$error":"#N/A"},{"$f":"IF(O1933>39,Table1[[#This Row],[Calc 1]],IF(O1933>1,\"Not counted as an Employee\",\"#NA\"))","v":"#NA"},{"$f":"MAX(Table1[[#This Row],[PO Employee]],Table1[[#This Row],[Other HZ Employee]],Table1[[#This Row],[Non HZ Employee]],Table1[[#This Row],[Job Site Employee]],Table1[[#This Row],[Other Employee]])","v":0},{"$f":"IF(Table1[[#This Row],[Total Hours per Month]]=Table1[[#This Row],[Column12]],\"Match\",\"Error\")","v":"Match"},{"$f":"IF(Table1[[#This Row],[Calc 2]]=\"#NA\",\"#NA\",IF(Table1[[#This Row],[Non HZ Employee]]=Table1[[#This Row],[Max calc]],\"Non HZ Employee\", Table1[[#This Row],[Calc 2]]))","v":"#NA"}]
[1917,null,1917,{"$nulls":5},{"$f":"SUM(Table1[[#This Row],[Column4]]+Table1[[#This Row],[Column3]]+Table1[[#This Row],[Column2]]+Table1[[#This Row],[Column1]])","v":0},{"$nulls":5},{"$f":"SUM(Table1[[#This Row],[PO Employee]:[Other Employee]])","v":0},"N",{"$error":"#N/A"},{"$f":"IF(O1934>39,Table1[[#This Row],[Calc 1]],IF(O1934>1,\"Not counted as an Employee\",\"#NA\"))","v":"#NA"},{"$f":"MAX(Table1[[#This Row],[PO Employee]],Table1[[#This Row],[Other HZ Employee]],Table1[[#This Row],[Non HZ Employee]],Table1[[#This Row],[Job Site Employee]],Table1[[#This Row],[Other Employee]])","v":0},{"$f":"IF(Table1[[#This Row],[Total Hours per Month]]=Table1[[#This Row],[Column12]],\"Match\",\"Error\")","v":"Match"},{"$f":"IF(Table1[[#This Row],[Calc 2]]=\"#NA\",\"#NA\",IF(Table1[[#This Row],[Non HZ Employee]]=Table1[[#This Row],[Max calc]],\"Non HZ Employee\", Table1[[#This Row],[Calc 2]]))","v":"#NA"}]
[1918,null,1918,{"$nulls":5},{"$f":"SUM(Table1[[#This Row],[Column4]]+Table1[[#This Row],[Column3]]+Table1[[#This Row],[Column2]]+Table1[[#This Row],[Column1]])","v":0},{"$nulls":5},{"$f":"SUM(Table1[[#This Row],[PO Employee]:[Other Employee]])","v":0},"N",{"$error":"#N/A"},{"$f":"IF(O1935>39,Table1[[#This Row],[Calc 1]],IF(O1935>1,\"Not counted as an Employee\",\"#NA\"))","v":"#NA"},{"$f":"MAX(Table1[[#This Row],[PO Employee]],Table1[[#This Row],[Other HZ Employee]],Table1[[#This Row],[Non HZ Employee]],Table1[[#This Row],[Job Site Employee]],Table1[[#This Row],[Other Employee]])","v":0},{"$f":"IF(Table1[[#This Row],[Total Hours per Month]]=Table1[[#This Row],[Column12]],\"Match\",\"Error\")","v":"Match"},{"$f":"IF(Table1[[#This Row],[Calc 2]]=\"#NA\",\"#NA\",IF(Table1[[#This Row],[Non HZ Employee]]=Table1[[#This Row],[Max calc]],\"Non HZ Employee\", Table1[[#This Row],[Calc 2]]))","v":"#NA"}]
[1919,null,1919,{"$nulls":5},{"$f":"SUM(Table1[[#This Row],[Column4]]+Table1[[#This Row],[Column3]]+Table1[[#This Row],[Column2]]+Table1[[#This Row],[Column1]])","v":0},{"$nulls":5},{"$f":"SUM(Table1[[#This Row],[PO Employee]:[Other Employee]])","v":0},"N",{"$error":"#N/A"},{"$f":"IF(O1936>39,Table1[[#This Row],[Calc 1]],IF(O1936>1,\"Not counted as an Employee\",\"#NA\"))","v":"#NA"},{"$f":"MAX(Table1[[#This Row],[PO Employee]],Table1[[#This Row],[Other HZ Employee]],Table1[[#This Row],[Non HZ Employee]],Table1[[#This Row],[Job Site Employee]],Table1[[#This Row],[Other Employee]])","v":0},{"$f":"IF(Table1[[#This Row],[Total Hours per Month]]=Table1[[#This Row],[Column12]],\"Match\",\"Error\")","v":"Match"},{"$f":"IF(Table1[[#This Row],[Calc 2]]=\"#NA\",\"#NA\",IF(Table1[[#This Row],[Non HZ Employee]]=Table1[[#This Row],[Max calc]],\"Non HZ Employee\", Table1[[#This Row],[Calc 2]]))","v":"#NA"}]
[1920,null,1920,{"$nulls":5},{"$f":"SUM(Table1[[#This Row],[Column4]]+Table1[[#This Row],[Column3]]+Table1[[#This Row],[Column2]]+Table1[[#This Row],[Column1]])","v":0},{"$nulls":5},{"$f":"SUM(Table1[[#This Row],[PO Employee]:[Other Employee]])","v":0},"N",{"$error":"#N/A"},{"$f":"IF(O1937>39,Table1[[#This Row],[Calc 1]],IF(O1937>1,\"Not counted as an Employee\",\"#NA\"))","v":"#NA"},{"$f":"MAX(Table1[[#This Row],[PO Employee]],Table1[[#This Row],[Other HZ Employee]],Table1[[#This Row],[Non HZ Employee]],Table1[[#This Row],[Job Site Employee]],Table1[[#This Row],[Other Employee]])","v":0},{"$f":"IF(Table1[[#This Row],[Total Hours per Month]]=Table1[[#This Row],[Column12]],\"Match\",\"Error\")","v":"Match"},{"$f":"IF(Table1[[#This Row],[Calc 2]]=\"#NA\",\"#NA\",IF(Table1[[#This Row],[Non HZ Employee]]=Table1[[#This Row],[Max calc]],\"Non HZ Employee\", Table1[[#This Row],[Calc 2]]))","v":"#NA"}]
[1921,null,1921,{"$nulls":5},{"$f":"SUM(Table1[[#This Row],[Column4]]+Table1[[#This Row],[Column3]]+Table1[[#This Row],[Column2]]+Table1[[#This Row],[Column1]])","v":0},{"$nulls":5},{"$f":"SUM(Table1[[#This Row],[PO Employee]:[Other Employee]])","v":0},"N",{"$f":"INDEX($J$17:$N$17,MATCH(MAX(J1938:N1938),J1938:N1938,0))","v":{"$error":"#N/A"}},{"$f":"IF(O1938>39,Table1[[#This Row],[Calc 1]],IF(O1938>1,\"Not counted as an Employee\",\"#NA\"))","v":"#NA"},{"$f":"MAX(Table1[[#This Row],[PO Employee]],Table1[[#This Row],[Other HZ Employee]],Table1[[#This Row],[Non HZ Employee]],Table1[[#This Row],[Job Site Employee]],Table1[[#This Row],[Other Employee]])","v":0},{"$f":"IF(Table1[[#This Row],[Total Hours per Month]]=Table1[[#This Row],[Column12]],\"Match\",\"Error\")","v":"Match"},{"$f":"IF(Table1[[#This Row],[Calc 2]]=\"#NA\",\"#NA\",IF(Table1[[#This Row],[Non HZ Employee]]=Table1[[#This Row],[Max calc]],\"Non HZ Employee\", Table1[[#This Row],[Calc 2]]))","v":"#NA"}]
[1922,null,1922,{"$nulls":5},{"$f":"SUM(Table1[[#This Row],[Column4]]+Table1[[#This Row],[Column3]]+Table1[[#This Row],[Column2]]+Table1[[#This Row],[Column1]])","v":0},{"$nulls":5},{"$f":"SUM(Table1[[#This Row],[PO Employee]:[Other Employee]])","v":0},{"$f":"IF(O1939>=40,\"Y\",\"N\")","v":"N"},{"$error":"#N/A"},{"$f":"IF(O1939>39,Table1[[#This Row],[Calc 1]],IF(O1939>1,\"Not counted as an Employee\",\"#NA\"))","v":"#NA"},{"$f":"MAX(Table1[[#This Row],[PO Employee]],Table1[[#This Row],[Other HZ Employee]],Table1[[#This Row],[Non HZ Employee]],Table1[[#This Row],[Job Site Employee]],Table1[[#This Row],[Other Employee]])","v":0},{"$f":"IF(Table1[[#This Row],[Total Hours per Month]]=Table1[[#This Row],[Column12]],\"Match\",\"Error\")","v":"Match"},{"$f":"IF(Table1[[#This Row],[Calc 2]]=\"#NA\",\"#NA\",IF(Table1[[#This Row],[Non HZ Employee]]=Table1[[#This Row],[Max calc]],\"Non HZ Employee\", Table1[[#This Row],[Calc 2]]))","v":"#NA"}]
[1923,null,1923,{"$nulls":5},{"$f":"SUM(Table1[[#This Row],[Column4]]+Table1[[#This Row],[Column3]]+Table1[[#This Row],[Column2]]+Table1[[#This Row],[Column1]])","v":0},{"$nulls":5},{"$f":"SUM(Table1[[#This Row],[PO Employee]:[Other Employee]])","v":0},"N",{"$error":"#N/A"},{"$f":"IF(O1940>39,Table1[[#This Row],[Calc 1]],IF(O1940>1,\"Not counted as an Employee\",\"#NA\"))","v":"#NA"},{"$f":"MAX(Table1[[#This Row],[PO Employee]],Table1[[#This Row],[Other HZ Employee]],Table1[[#This Row],[Non HZ Employee]],Table1[[#This Row],[Job Site Employee]],Table1[[#This Row],[Other Employee]])","v":0},{"$f":"IF(Table1[[#This Row],[Total Hours per Month]]=Table1[[#This Row],[Column12]],\"Match\",\"Error\")","v":"Match"},{"$f":"IF(Table1[[#This Row],[Calc 2]]=\"#NA\",\"#NA\",IF(Table1[[#This Row],[Non HZ Employee]]=Table1[[#This Row],[Max calc]],\"Non HZ Employee\", Table1[[#This Row],[Calc 2]]))","v":"#NA"}]
[1924,null,1924,{"$nulls":5},{"$f":"SUM(Table1[[#This Row],[Column4]]+Table1[[#This Row],[Column3]]+Table1[[#This Row],[Column2]]+Table1[[#This Row],[Column1]])","v":0},{"$nulls":5},{"$f":"SUM(Table1[[#This Row],[PO Employee]:[Other Employee]])","v":0},"N",{"$error":"#N/A"},{"$f":"IF(O1941>39,Table1[[#This Row],[Calc 1]],IF(O1941>1,\"Not counted as an Employee\",\"#NA\"))","v":"#NA"},{"$f":"MAX(Table1[[#This Row],[PO Employee]],Table1[[#This Row],[Other HZ Employee]],Table1[[#This Row],[Non HZ Employee]],Table1[[#This Row],[Job Site Employee]],Table1[[#This Row],[Other Employee]])","v":0},{"$f":"IF(Table1[[#This Row],[Total Hours per Month]]=Table1[[#This Row],[Column12]],\"Match\",\"Error\")","v":"Match"},{"$f":"IF(Table1[[#This Row],[Calc 2]]=\"#NA\",\"#NA\",IF(Table1[[#This Row],[Non HZ Employee]]=Table1[[#This Row],[Max calc]],\"Non HZ Employee\", Table1[[#This Row],[Calc 2]]))","v":"#NA"}]
[1925,null,1925,{"$nulls":5},{"$f":"SUM(Table1[[#This Row],[Column4]]+Table1[[#This Row],[Column3]]+Table1[[#This Row],[Column2]]+Table1[[#This Row],[Column1]])","v":0},{"$nulls":5},{"$f":"SUM(Table1[[#This Row],[PO Employee]:[Other Employee]])","v":0},"N",{"$error":"#N/A"},{"$f":"IF(O1942>39,Table1[[#This Row],[Calc 1]],IF(O1942>1,\"Not counted as an Employee\",\"#NA\"))","v":"#NA"},{"$f":"MAX(Table1[[#This Row],[PO Employee]],Table1[[#This Row],[Other HZ Employee]],Table1[[#This Row],[Non HZ Employee]],Table1[[#This Row],[Job Site Employee]],Table1[[#This Row],[Other Employee]])","v":0},{"$f":"IF(Table1[[#This Row],[Total Hours per Month]]=Table1[[#This Row],[Column12]],\"Match\",\"Error\")","v":"Match"},{"$f":"IF(Table1[[#This Row],[Calc 2]]=\"#NA\",\"#NA\",IF(Table1[[#This Row],[Non HZ Employee]]=Table1[[#This Row],[Max calc]],\"Non HZ Employee\", Table1[[#This Row],[Calc 2]]))","v":"#NA"}]
[1926,null,1926,{"$nulls":5},{"$f":"SUM(Table1[[#This Row],[Column4]]+Table1[[#This Row],[Column3]]+Table1[[#This Row],[Column2]]+Table1[[#This Row],[Column1]])","v":0},{"$nulls":5},{"$f":"SUM(Table1[[#This Row],[PO Employee]:[Other Employee]])","v":0},"N",{"$error":"#N/A"},{"$f":"IF(O1943>39,Table1[[#This Row],[Calc 1]],IF(O1943>1,\"Not counted as an Employee\",\"#NA\"))","v":"#NA"},{"$f":"MAX(Table1[[#This Row],[PO Employee]],Table1[[#This Row],[Other HZ Employee]],Table1[[#This Row],[Non HZ Employee]],Table1[[#This Row],[Job Site Employee]],Table1[[#This Row],[Other Employee]])","v":0},{"$f":"IF(Table1[[#This Row],[Total Hours per Month]]=Table1[[#This Row],[Column12]],\"Match\",\"Error\")","v":"Match"},{"$f":"IF(Table1[[#This Row],[Calc 2]]=\"#NA\",\"#NA\",IF(Table1[[#This Row],[Non HZ Employee]]=Table1[[#This Row],[Max calc]],\"Non HZ Employee\", Table1[[#This Row],[Calc 2]]))","v":"#NA"}]
[1927,null,1927,{"$nulls":5},{"$f":"SUM(Table1[[#This Row],[Column4]]+Table1[[#This Row],[Column3]]+Table1[[#This Row],[Column2]]+Table1[[#This Row],[Column1]])","v":0},{"$nulls":5},{"$f":"SUM(Table1[[#This Row],[PO Employee]:[Other Employee]])","v":0},"N",{"$error":"#N/A"},{"$f":"IF(O1944>39,Table1[[#This Row],[Calc 1]],IF(O1944>1,\"Not counted as an Employee\",\"#NA\"))","v":"#NA"},{"$f":"MAX(Table1[[#This Row],[PO Employee]],Table1[[#This Row],[Other HZ Employee]],Table1[[#This Row],[Non HZ Employee]],Table1[[#This Row],[Job Site Employee]],Table1[[#This Row],[Other Employee]])","v":0},{"$f":"IF(Table1[[#This Row],[Total Hours per Month]]=Table1[[#This Row],[Column12]],\"Match\",\"Error\")","v":"Match"},{"$f":"IF(Table1[[#This Row],[Calc 2]]=\"#NA\",\"#NA\",IF(Table1[[#This Row],[Non HZ Employee]]=Table1[[#This Row],[Max calc]],\"Non HZ Employee\", Table1[[#This Row],[Calc 2]]))","v":"#NA"}]
[1928,null,1928,{"$nulls":5},{"$f":"SUM(Table1[[#This Row],[Column4]]+Table1[[#This Row],[Column3]]+Table1[[#This Row],[Column2]]+Table1[[#This Row],[Column1]])","v":0},{"$nulls":5},{"$f":"SUM(Table1[[#This Row],[PO Employee]:[Other Employee]])","v":0},"N",{"$error":"#N/A"},{"$f":"IF(O1945>39,Table1[[#This Row],[Calc 1]],IF(O1945>1,\"Not counted as an Employee\",\"#NA\"))","v":"#NA"},{"$f":"MAX(Table1[[#This Row],[PO Employee]],Table1[[#This Row],[Other HZ Employee]],Table1[[#This Row],[Non HZ Employee]],Table1[[#This Row],[Job Site Employee]],Table1[[#This Row],[Other Employee]])","v":0},{"$f":"IF(Table1[[#This Row],[Total Hours per Month]]=Table1[[#This Row],[Column12]],\"Match\",\"Error\")","v":"Match"},{"$f":"IF(Table1[[#This Row],[Calc 2]]=\"#NA\",\"#NA\",IF(Table1[[#This Row],[Non HZ Employee]]=Table1[[#This Row],[Max calc]],\"Non HZ Employee\", Table1[[#This Row],[Calc 2]]))","v":"#NA"}]
[1929,null,1929,{"$nulls":5},{"$f":"SUM(Table1[[#This Row],[Column4]]+Table1[[#This Row],[Column3]]+Table1[[#This Row],[Column2]]+Table1[[#This Row],[Column1]])","v":0},{"$nulls":5},{"$f":"SUM(Table1[[#This Row],[PO Employee]:[Other Employee]])","v":0},"N",{"$error":"#N/A"},{"$f":"IF(O1946>39,Table1[[#This Row],[Calc 1]],IF(O1946>1,\"Not counted as an Employee\",\"#NA\"))","v":"#NA"},{"$f":"MAX(Table1[[#This Row],[PO Employee]],Table1[[#This Row],[Other HZ Employee]],Table1[[#This Row],[Non HZ Employee]],Table1[[#This Row],[Job Site Employee]],Table1[[#This Row],[Other Employee]])","v":0},{"$f":"IF(Table1[[#This Row],[Total Hours per Month]]=Table1[[#This Row],[Column12]],\"Match\",\"Error\")","v":"Match"},{"$f":"IF(Table1[[#This Row],[Calc 2]]=\"#NA\",\"#NA\",IF(Table1[[#This Row],[Non HZ Employee]]=Table1[[#This Row],[Max calc]],\"Non HZ Employee\", Table1[[#This Row],[Calc 2]]))","v":"#NA"}]
[1930,null,1930,{"$nulls":5},{"$f":"SUM(Table1[[#This Row],[Column4]]+Table1[[#This Row],[Column3]]+Table1[[#This Row],[Column2]]+Table1[[#This Row],[Column1]])","v":0},{"$nulls":5},{"$f":"SUM(Table1[[#This Row],[PO Employee]:[Other Employee]])","v":0},"N",{"$error":"#N/A"},{"$f":"IF(O1947>39,Table1[[#This Row],[Calc 1]],IF(O1947>1,\"Not counted as an Employee\",\"#NA\"))","v":"#NA"},{"$f":"MAX(Table1[[#This Row],[PO Employee]],Table1[[#This Row],[Other HZ Employee]],Table1[[#This Row],[Non HZ Employee]],Table1[[#This Row],[Job Site Employee]],Table1[[#This Row],[Other Employee]])","v":0},{"$f":"IF(Table1[[#This Row],[Total Hours per Month]]=Table1[[#This Row],[Column12]],\"Match\",\"Error\")","v":"Match"},{"$f":"IF(Table1[[#This Row],[Calc 2]]=\"#NA\",\"#NA\",IF(Table1[[#This Row],[Non HZ Employee]]=Table1[[#This Row],[Max calc]],\"Non HZ Employee\", Table1[[#This Row],[Calc 2]]))","v":"#NA"}]
[1931,null,1931,{"$nulls":5},{"$f":"SUM(Table1[[#This Row],[Column4]]+Table1[[#This Row],[Column3]]+Table1[[#This Row],[Column2]]+Table1[[#This Row],[Column1]])","v":0},{"$nulls":5},{"$f":"SUM(Table1[[#This Row],[PO Employee]:[Other Employee]])","v":0},"N",{"$error":"#N/A"},{"$f":"IF(O1948>39,Table1[[#This Row],[Calc 1]],IF(O1948>1,\"Not counted as an Employee\",\"#NA\"))","v":"#NA"},{"$f":"MAX(Table1[[#This Row],[PO Employee]],Table1[[#This Row],[Other HZ Employee]],Table1[[#This Row],[Non HZ Employee]],Table1[[#This Row],[Job Site Employee]],Table1[[#This Row],[Other Employee]])","v":0},{"$f":"IF(Table1[[#This Row],[Total Hours per Month]]=Table1[[#This Row],[Column12]],\"Match\",\"Error\")","v":"Match"},{"$f":"IF(Table1[[#This Row],[Calc 2]]=\"#NA\",\"#NA\",IF(Table1[[#This Row],[Non HZ Employee]]=Table1[[#This Row],[Max calc]],\"Non HZ Employee\", Table1[[#This Row],[Calc 2]]))","v":"#NA"}]
[1932,null,1932,{"$nulls":5},{"$f":"SUM(Table1[[#This Row],[Column4]]+Table1[[#This Row],[Column3]]+Table1[[#This Row],[Column2]]+Table1[[#This Row],[Column1]])","v":0},{"$nulls":5},{"$f":"SUM(Table1[[#This Row],[PO Employee]:[Other Employee]])","v":0},"N",{"$error":"#N/A"},{"$f":"IF(O1949>39,Table1[[#This Row],[Calc 1]],IF(O1949>1,\"Not counted as an Employee\",\"#NA\"))","v":"#NA"},{"$f":"MAX(Table1[[#This Row],[PO Employee]],Table1[[#This Row],[Other HZ Employee]],Table1[[#This Row],[Non HZ Employee]],Table1[[#This Row],[Job Site Employee]],Table1[[#This Row],[Other Employee]])","v":0},{"$f":"IF(Table1[[#This Row],[Total Hours per Month]]=Table1[[#This Row],[Column12]],\"Match\",\"Error\")","v":"Match"},{"$f":"IF(Table1[[#This Row],[Calc 2]]=\"#NA\",\"#NA\",IF(Table1[[#This Row],[Non HZ Employee]]=Table1[[#This Row],[Max calc]],\"Non HZ Employee\", Table1[[#This Row],[Calc 2]]))","v":"#NA"}]
[1933,null,1933,{"$nulls":5},{"$f":"SUM(Table1[[#This Row],[Column4]]+Table1[[#This Row],[Column3]]+Table1[[#This Row],[Column2]]+Table1[[#This Row],[Column1]])","v":0},{"$nulls":5},{"$f":"SUM(Table1[[#This Row],[PO Employee]:[Other Employee]])","v":0},"N",{"$error":"#N/A"},{"$f":"IF(O1950>39,Table1[[#This Row],[Calc 1]],IF(O1950>1,\"Not counted as an Employee\",\"#NA\"))","v":"#NA"},{"$f":"MAX(Table1[[#This Row],[PO Employee]],Table1[[#This Row],[Other HZ Employee]],Table1[[#This Row],[Non HZ Employee]],Table1[[#This Row],[Job Site Employee]],Table1[[#This Row],[Other Employee]])","v":0},{"$f":"IF(Table1[[#This Row],[Total Hours per Month]]=Table1[[#This Row],[Column12]],\"Match\",\"Error\")","v":"Match"},{"$f":"IF(Table1[[#This Row],[Calc 2]]=\"#NA\",\"#NA\",IF(Table1[[#This Row],[Non HZ Employee]]=Table1[[#This Row],[Max calc]],\"Non HZ Employee\", Table1[[#This Row],[Calc 2]]))","v":"#NA"}]
[1934,null,1934,{"$nulls":5},{"$f":"SUM(Table1[[#This Row],[Column4]]+Table1[[#This Row],[Column3]]+Table1[[#This Row],[Column2]]+Table1[[#This Row],[Column1]])","v":0},{"$nulls":5},{"$f":"SUM(Table1[[#This Row],[PO Employee]:[Other Employee]])","v":0},"N",{"$error":"#N/A"},{"$f":"IF(O1951>39,Table1[[#This Row],[Calc 1]],IF(O1951>1,\"Not counted as an Employee\",\"#NA\"))","v":"#NA"},{"$f":"MAX(Table1[[#This Row],[PO Employee]],Table1[[#This Row],[Other HZ Employee]],Table1[[#This Row],[Non HZ Employee]],Table1[[#This Row],[Job Site Employee]],Table1[[#This Row],[Other Employee]])","v":0},{"$f":"IF(Table1[[#This Row],[Total Hours per Month]]=Table1[[#This Row],[Column12]],\"Match\",\"Error\")","v":"Match"},{"$f":"IF(Table1[[#This Row],[Calc 2]]=\"#NA\",\"#NA\",IF(Table1[[#This Row],[Non HZ Employee]]=Table1[[#This Row],[Max calc]],\"Non HZ Employee\", Table1[[#This Row],[Calc 2]]))","v":"#NA"}]
[1935,null,1935,{"$nulls":5},{"$f":"SUM(Table1[[#This Row],[Column4]]+Table1[[#This Row],[Column3]]+Table1[[#This Row],[Column2]]+Table1[[#This Row],[Column1]])","v":0},{"$nulls":5},{"$f":"SUM(Table1[[#This Row],[PO Employee]:[Other Employee]])","v":0},"N",{"$error":"#N/A"},{"$f":"IF(O1952>39,Table1[[#This Row],[Calc 1]],IF(O1952>1,\"Not counted as an Employee\",\"#NA\"))","v":"#NA"},{"$f":"MAX(Table1[[#This Row],[PO Employee]],Table1[[#This Row],[Other HZ Employee]],Table1[[#This Row],[Non HZ Employee]],Table1[[#This Row],[Job Site Employee]],Table1[[#This Row],[Other Employee]])","v":0},{"$f":"IF(Table1[[#This Row],[Total Hours per Month]]=Table1[[#This Row],[Column12]],\"Match\",\"Error\")","v":"Match"},{"$f":"IF(Table1[[#This Row],[Calc 2]]=\"#NA\",\"#NA\",IF(Table1[[#This Row],[Non HZ Employee]]=Table1[[#This Row],[Max calc]],\"Non HZ Employee\", Table1[[#This Row],[Calc 2]]))","v":"#NA"}]
[1936,null,1936,{"$nulls":5},{"$f":"SUM(Table1[[#This Row],[Column4]]+Table1[[#This Row],[Column3]]+Table1[[#This Row],[Column2]]+Table1[[#This Row],[Column1]])","v":0},{"$nulls":5},{"$f":"SUM(Table1[[#This Row],[PO Employee]:[Other Employee]])","v":0},"N",{"$error":"#N/A"},{"$f":"IF(O1953>39,Table1[[#This Row],[Calc 1]],IF(O1953>1,\"Not counted as an Employee\",\"#NA\"))","v":"#NA"},{"$f":"MAX(Table1[[#This Row],[PO Employee]],Table1[[#This Row],[Other HZ Employee]],Table1[[#This Row],[Non HZ Employee]],Table1[[#This Row],[Job Site Employee]],Table1[[#This Row],[Other Employee]])","v":0},{"$f":"IF(Table1[[#This Row],[Total Hours per Month]]=Table1[[#This Row],[Column12]],\"Match\",\"Error\")","v":"Match"},{"$f":"IF(Table1[[#This Row],[Calc 2]]=\"#NA\",\"#NA\",IF(Table1[[#This Row],[Non HZ Employee]]=Table1[[#This Row],[Max calc]],\"Non HZ Employee\", Table1[[#This Row],[Calc 2]]))","v":"#NA"}]
[1937,null,1937,{"$nulls":5},{"$f":"SUM(Table1[[#This Row],[Column4]]+Table1[[#This Row],[Column3]]+Table1[[#This Row],[Column2]]+Table1[[#This Row],[Column1]])","v":0},{"$nulls":5},{"$f":"SUM(Table1[[#This Row],[PO Employee]:[Other Employee]])","v":0},"N",{"$error":"#N/A"},{"$f":"IF(O1954>39,Table1[[#This Row],[Calc 1]],IF(O1954>1,\"Not counted as an Employee\",\"#NA\"))","v":"#NA"},{"$f":"MAX(Table1[[#This Row],[PO Employee]],Table1[[#This Row],[Other HZ Employee]],Table1[[#This Row],[Non HZ Employee]],Table1[[#This Row],[Job Site Employee]],Table1[[#This Row],[Other Employee]])","v":0},{"$f":"IF(Table1[[#This Row],[Total Hours per Month]]=Table1[[#This Row],[Column12]],\"Match\",\"Error\")","v":"Match"},{"$f":"IF(Table1[[#This Row],[Calc 2]]=\"#NA\",\"#NA\",IF(Table1[[#This Row],[Non HZ Employee]]=Table1[[#This Row],[Max calc]],\"Non HZ Employee\", Table1[[#This Row],[Calc 2]]))","v":"#NA"}]
[1938,null,1938,{"$nulls":5},{"$f":"SUM(Table1[[#This Row],[Column4]]+Table1[[#This Row],[Column3]]+Table1[[#This Row],[Column2]]+Table1[[#This Row],[Column1]])","v":0},{"$nulls":5},{"$f":"SUM(Table1[[#This Row],[PO Employee]:[Other Employee]])","v":0},"N",{"$error":"#N/A"},{"$f":"IF(O1955>39,Table1[[#This Row],[Calc 1]],IF(O1955>1,\"Not counted as an Employee\",\"#NA\"))","v":"#NA"},{"$f":"MAX(Table1[[#This Row],[PO Employee]],Table1[[#This Row],[Other HZ Employee]],Table1[[#This Row],[Non HZ Employee]],Table1[[#This Row],[Job Site Employee]],Table1[[#This Row],[Other Employee]])","v":0},{"$f":"IF(Table1[[#This Row],[Total Hours per Month]]=Table1[[#This Row],[Column12]],\"Match\",\"Error\")","v":"Match"},{"$f":"IF(Table1[[#This Row],[Calc 2]]=\"#NA\",\"#NA\",IF(Table1[[#This Row],[Non HZ Employee]]=Table1[[#This Row],[Max calc]],\"Non HZ Employee\", Table1[[#This Row],[Calc 2]]))","v":"#NA"}]
[1939,null,1939,{"$nulls":5},{"$f":"SUM(Table1[[#This Row],[Column4]]+Table1[[#This Row],[Column3]]+Table1[[#This Row],[Column2]]+Table1[[#This Row],[Column1]])","v":0},{"$nulls":5},{"$f":"SUM(Table1[[#This Row],[PO Employee]:[Other Employee]])","v":0},"N",{"$error":"#N/A"},{"$f":"IF(O1956>39,Table1[[#This Row],[Calc 1]],IF(O1956>1,\"Not counted as an Employee\",\"#NA\"))","v":"#NA"},{"$f":"MAX(Table1[[#This Row],[PO Employee]],Table1[[#This Row],[Other HZ Employee]],Table1[[#This Row],[Non HZ Employee]],Table1[[#This Row],[Job Site Employee]],Table1[[#This Row],[Other Employee]])","v":0},{"$f":"IF(Table1[[#This Row],[Total Hours per Month]]=Table1[[#This Row],[Column12]],\"Match\",\"Error\")","v":"Match"},{"$f":"IF(Table1[[#This Row],[Calc 2]]=\"#NA\",\"#NA\",IF(Table1[[#This Row],[Non HZ Employee]]=Table1[[#This Row],[Max calc]],\"Non HZ Employee\", Table1[[#This Row],[Calc 2]]))","v":"#NA"}]
[1940,null,1940,{"$nulls":5},{"$f":"SUM(Table1[[#This Row],[Column4]]+Table1[[#This Row],[Column3]]+Table1[[#This Row],[Column2]]+Table1[[#This Row],[Column1]])","v":0},{"$nulls":5},{"$f":"SUM(Table1[[#This Row],[PO Employee]:[Other Employee]])","v":0},"N",{"$error":"#N/A"},{"$f":"IF(O1957>39,Table1[[#This Row],[Calc 1]],IF(O1957>1,\"Not counted as an Employee\",\"#NA\"))","v":"#NA"},{"$f":"MAX(Table1[[#This Row],[PO Employee]],Table1[[#This Row],[Other HZ Employee]],Table1[[#This Row],[Non HZ Employee]],Table1[[#This Row],[Job Site Employee]],Table1[[#This Row],[Other Employee]])","v":0},{"$f":"IF(Table1[[#This Row],[Total Hours per Month]]=Table1[[#This Row],[Column12]],\"Match\",\"Error\")","v":"Match"},{"$f":"IF(Table1[[#This Row],[Calc 2]]=\"#NA\",\"#NA\",IF(Table1[[#This Row],[Non HZ Employee]]=Table1[[#This Row],[Max calc]],\"Non HZ Employee\", Table1[[#This Row],[Calc 2]]))","v":"#NA"}]
[1941,null,1941,{"$nulls":5},{"$f":"SUM(Table1[[#This Row],[Column4]]+Table1[[#This Row],[Column3]]+Table1[[#This Row],[Column2]]+Table1[[#This Row],[Column1]])","v":0},{"$nulls":5},{"$f":"SUM(Table1[[#This Row],[PO Employee]:[Other Employee]])","v":0},"N",{"$error":"#N/A"},{"$f":"IF(O1958>39,Table1[[#This Row],[Calc 1]],IF(O1958>1,\"Not counted as an Employee\",\"#NA\"))","v":"#NA"},{"$f":"MAX(Table1[[#This Row],[PO Employee]],Table1[[#This Row],[Other HZ Employee]],Table1[[#This Row],[Non HZ Employee]],Table1[[#This Row],[Job Site Employee]],Table1[[#This Row],[Other Employee]])","v":0},{"$f":"IF(Table1[[#This Row],[Total Hours per Month]]=Table1[[#This Row],[Column12]],\"Match\",\"Error\")","v":"Match"},{"$f":"IF(Table1[[#This Row],[Calc 2]]=\"#NA\",\"#NA\",IF(Table1[[#This Row],[Non HZ Employee]]=Table1[[#This Row],[Max calc]],\"Non HZ Employee\", Table1[[#This Row],[Calc 2]]))","v":"#NA"}]
[1942,null,1942,{"$nulls":5},{"$f":"SUM(Table1[[#This Row],[Column4]]+Table1[[#This Row],[Column3]]+Table1[[#This Row],[Column2]]+Table1[[#This Row],[Column1]])","v":0},{"$nulls":5},{"$f":"SUM(Table1[[#This Row],[PO Employee]:[Other Employee]])","v":0},"N",{"$error":"#N/A"},{"$f":"IF(O1959>39,Table1[[#This Row],[Calc 1]],IF(O1959>1,\"Not counted as an Employee\",\"#NA\"))","v":"#NA"},{"$f":"MAX(Table1[[#This Row],[PO Employee]],Table1[[#This Row],[Other HZ Employee]],Table1[[#This Row],[Non HZ Employee]],Table1[[#This Row],[Job Site Employee]],Table1[[#This Row],[Other Employee]])","v":0},{"$f":"IF(Table1[[#This Row],[Total Hours per Month]]=Table1[[#This Row],[Column12]],\"Match\",\"Error\")","v":"Match"},{"$f":"IF(Table1[[#This Row],[Calc 2]]=\"#NA\",\"#NA\",IF(Table1[[#This Row],[Non HZ Employee]]=Table1[[#This Row],[Max calc]],\"Non HZ Employee\", Table1[[#This Row],[Calc 2]]))","v":"#NA"}]
[1943,null,1943,{"$nulls":5},{"$f":"SUM(Table1[[#This Row],[Column4]]+Table1[[#This Row],[Column3]]+Table1[[#This Row],[Column2]]+Table1[[#This Row],[Column1]])","v":0},{"$nulls":5},{"$f":"SUM(Table1[[#This Row],[PO Employee]:[Other Employee]])","v":0},"N",{"$error":"#N/A"},{"$f":"IF(O1960>39,Table1[[#This Row],[Calc 1]],IF(O1960>1,\"Not counted as an Employee\",\"#NA\"))","v":"#NA"},{"$f":"MAX(Table1[[#This Row],[PO Employee]],Table1[[#This Row],[Other HZ Employee]],Table1[[#This Row],[Non HZ Employee]],Table1[[#This Row],[Job Site Employee]],Table1[[#This Row],[Other Employee]])","v":0},{"$f":"IF(Table1[[#This Row],[Total Hours per Month]]=Table1[[#This Row],[Column12]],\"Match\",\"Error\")","v":"Match"},{"$f":"IF(Table1[[#This Row],[Calc 2]]=\"#NA\",\"#NA\",IF(Table1[[#This Row],[Non HZ Employee]]=Table1[[#This Row],[Max calc]],\"Non HZ Employee\", Table1[[#This Row],[Calc 2]]))","v":"#NA"}]
[1944,null,1944,{"$nulls":5},{"$f":"SUM(Table1[[#This Row],[Column4]]+Table1[[#This Row],[Column3]]+Table1[[#This Row],[Column2]]+Table1[[#This Row],[Column1]])","v":0},{"$nulls":5},{"$f":"SUM(Table1[[#This Row],[PO Employee]:[Other Employee]])","v":0},"N",{"$error":"#N/A"},{"$f":"IF(O1961>39,Table1[[#This Row],[Calc 1]],IF(O1961>1,\"Not counted as an Employee\",\"#NA\"))","v":"#NA"},{"$f":"MAX(Table1[[#This Row],[PO Employee]],Table1[[#This Row],[Other HZ Employee]],Table1[[#This Row],[Non HZ Employee]],Table1[[#This Row],[Job Site Employee]],Table1[[#This Row],[Other Employee]])","v":0},{"$f":"IF(Table1[[#This Row],[Total Hours per Month]]=Table1[[#This Row],[Column12]],\"Match\",\"Error\")","v":"Match"},{"$f":"IF(Table1[[#This Row],[Calc 2]]=\"#NA\",\"#NA\",IF(Table1[[#This Row],[Non HZ Employee]]=Table1[[#This Row],[Max calc]],\"Non HZ Employee\", Table1[[#This Row],[Calc 2]]))","v":"#NA"}]
[1945,null,1945,{"$nulls":5},{"$f":"SUM(Table1[[#This Row],[Column4]]+Table1[[#This Row],[Column3]]+Table1[[#This Row],[Column2]]+Table1[[#This Row],[Column1]])","v":0},{"$nulls":5},{"$f":"SUM(Table1[[#This Row],[PO Employee]:[Other Employee]])","v":0},"N",{"$error":"#N/A"},{"$f":"IF(O1962>39,Table1[[#This Row],[Calc 1]],IF(O1962>1,\"Not counted as an Employee\",\"#NA\"))","v":"#NA"},{"$f":"MAX(Table1[[#This Row],[PO Employee]],Table1[[#This Row],[Other HZ Employee]],Table1[[#This Row],[Non HZ Employee]],Table1[[#This Row],[Job Site Employee]],Table1[[#This Row],[Other Employee]])","v":0},{"$f":"IF(Table1[[#This Row],[Total Hours per Month]]=Table1[[#This Row],[Column12]],\"Match\",\"Error\")","v":"Match"},{"$f":"IF(Table1[[#This Row],[Calc 2]]=\"#NA\",\"#NA\",IF(Table1[[#This Row],[Non HZ Employee]]=Table1[[#This Row],[Max calc]],\"Non HZ Employee\", Table1[[#This Row],[Calc 2]]))","v":"#NA"}]
[1946,null,1946,{"$nulls":5},{"$f":"SUM(Table1[[#This Row],[Column4]]+Table1[[#This Row],[Column3]]+Table1[[#This Row],[Column2]]+Table1[[#This Row],[Column1]])","v":0},{"$nulls":5},{"$f":"SUM(Table1[[#This Row],[PO Employee]:[Other Employee]])","v":0},"N",{"$error":"#N/A"},{"$f":"IF(O1963>39,Table1[[#This Row],[Calc 1]],IF(O1963>1,\"Not counted as an Employee\",\"#NA\"))","v":"#NA"},{"$f":"MAX(Table1[[#This Row],[PO Employee]],Table1[[#This Row],[Other HZ Employee]],Table1[[#This Row],[Non HZ Employee]],Table1[[#This Row],[Job Site Employee]],Table1[[#This Row],[Other Employee]])","v":0},{"$f":"IF(Table1[[#This Row],[Total Hours per Month]]=Table1[[#This Row],[Column12]],\"Match\",\"Error\")","v":"Match"},{"$f":"IF(Table1[[#This Row],[Calc 2]]=\"#NA\",\"#NA\",IF(Table1[[#This Row],[Non HZ Employee]]=Table1[[#This Row],[Max calc]],\"Non HZ Employee\", Table1[[#This Row],[Calc 2]]))","v":"#NA"}]
[1947,null,1947,{"$nulls":5},{"$f":"SUM(Table1[[#This Row],[Column4]]+Table1[[#This Row],[Column3]]+Table1[[#This Row],[Column2]]+Table1[[#This Row],[Column1]])","v":0},{"$nulls":5},{"$f":"SUM(Table1[[#This Row],[PO Employee]:[Other Employee]])","v":0},"N",{"$error":"#N/A"},{"$f":"IF(O1964>39,Table1[[#This Row],[Calc 1]],IF(O1964>1,\"Not counted as an Employee\",\"#NA\"))","v":"#NA"},{"$f":"MAX(Table1[[#This Row],[PO Employee]],Table1[[#This Row],[Other HZ Employee]],Table1[[#This Row],[Non HZ Employee]],Table1[[#This Row],[Job Site Employee]],Table1[[#This Row],[Other Employee]])","v":0},{"$f":"IF(Table1[[#This Row],[Total Hours per Month]]=Table1[[#This Row],[Column12]],\"Match\",\"Error\")","v":"Match"},{"$f":"IF(Table1[[#This Row],[Calc 2]]=\"#NA\",\"#NA\",IF(Table1[[#This Row],[Non HZ Employee]]=Table1[[#This Row],[Max calc]],\"Non HZ Employee\", Table1[[#This Row],[Calc 2]]))","v":"#NA"}]
[1948,null,1948,{"$nulls":5},{"$f":"SUM(Table1[[#This Row],[Column4]]+Table1[[#This Row],[Column3]]+Table1[[#This Row],[Column2]]+Table1[[#This Row],[Column1]])","v":0},{"$nulls":5},{"$f":"SUM(Table1[[#This Row],[PO Employee]:[Other Employee]])","v":0},"N",{"$error":"#N/A"},{"$f":"IF(O1965>39,Table1[[#This Row],[Calc 1]],IF(O1965>1,\"Not counted as an Employee\",\"#NA\"))","v":"#NA"},{"$f":"MAX(Table1[[#This Row],[PO Employee]],Table1[[#This Row],[Other HZ Employee]],Table1[[#This Row],[Non HZ Employee]],Table1[[#This Row],[Job Site Employee]],Table1[[#This Row],[Other Employee]])","v":0},{"$f":"IF(Table1[[#This Row],[Total Hours per Month]]=Table1[[#This Row],[Column12]],\"Match\",\"Error\")","v":"Match"},{"$f":"IF(Table1[[#This Row],[Calc 2]]=\"#NA\",\"#NA\",IF(Table1[[#This Row],[Non HZ Employee]]=Table1[[#This Row],[Max calc]],\"Non HZ Employee\", Table1[[#This Row],[Calc 2]]))","v":"#NA"}]
[1949,null,1949,{"$nulls":5},{"$f":"SUM(Table1[[#This Row],[Column4]]+Table1[[#This Row],[Column3]]+Table1[[#This Row],[Column2]]+Table1[[#This Row],[Column1]])","v":0},{"$nulls":5},{"$f":"SUM(Table1[[#This Row],[PO Employee]:[Other Employee]])","v":0},"N",{"$error":"#N/A"},{"$f":"IF(O1966>39,Table1[[#This Row],[Calc 1]],IF(O1966>1,\"Not counted as an Employee\",\"#NA\"))","v":"#NA"},{"$f":"MAX(Table1[[#This Row],[PO Employee]],Table1[[#This Row],[Other HZ Employee]],Table1[[#This Row],[Non HZ Employee]],Table1[[#This Row],[Job Site Employee]],Table1[[#This Row],[Other Employee]])","v":0},{"$f":"IF(Table1[[#This Row],[Total Hours per Month]]=Table1[[#This Row],[Column12]],\"Match\",\"Error\")","v":"Match"},{"$f":"IF(Table1[[#This Row],[Calc 2]]=\"#NA\",\"#NA\",IF(Table1[[#This Row],[Non HZ Employee]]=Table1[[#This Row],[Max calc]],\"Non HZ Employee\", Table1[[#This Row],[Calc 2]]))","v":"#NA"}]
[1950,null,1950,{"$nulls":5},{"$f":"SUM(Table1[[#This Row],[Column4]]+Table1[[#This Row],[Column3]]+Table1[[#This Row],[Column2]]+Table1[[#This Row],[Column1]])","v":0},{"$nulls":5},{"$f":"SUM(Table1[[#This Row],[PO Employee]:[Other Employee]])","v":0},"N",{"$error":"#N/A"},{"$f":"IF(O1967>39,Table1[[#This Row],[Calc 1]],IF(O1967>1,\"Not counted as an Employee\",\"#NA\"))","v":"#NA"},{"$f":"MAX(Table1[[#This Row],[PO Employee]],Table1[[#This Row],[Other HZ Employee]],Table1[[#This Row],[Non HZ Employee]],Table1[[#This Row],[Job Site Employee]],Table1[[#This Row],[Other Employee]])","v":0},{"$f":"IF(Table1[[#This Row],[Total Hours per Month]]=Table1[[#This Row],[Column12]],\"Match\",\"Error\")","v":"Match"},{"$f":"IF(Table1[[#This Row],[Calc 2]]=\"#NA\",\"#NA\",IF(Table1[[#This Row],[Non HZ Employee]]=Table1[[#This Row],[Max calc]],\"Non HZ Employee\", Table1[[#This Row],[Calc 2]]))","v":"#NA"}]
[1951,null,1951,{"$nulls":5},{"$f":"SUM(Table1[[#This Row],[Column4]]+Table1[[#This Row],[Column3]]+Table1[[#This Row],[Column2]]+Table1[[#This Row],[Column1]])","v":0},{"$nulls":5},{"$f":"SUM(Table1[[#This Row],[PO Employee]:[Other Employee]])","v":0},"N",{"$error":"#N/A"},{"$f":"IF(O1968>39,Table1[[#This Row],[Calc 1]],IF(O1968>1,\"Not counted as an Employee\",\"#NA\"))","v":"#NA"},{"$f":"MAX(Table1[[#This Row],[PO Employee]],Table1[[#This Row],[Other HZ Employee]],Table1[[#This Row],[Non HZ Employee]],Table1[[#This Row],[Job Site Employee]],Table1[[#This Row],[Other Employee]])","v":0},{"$f":"IF(Table1[[#This Row],[Total Hours per Month]]=Table1[[#This Row],[Column12]],\"Match\",\"Error\")","v":"Match"},{"$f":"IF(Table1[[#This Row],[Calc 2]]=\"#NA\",\"#NA\",IF(Table1[[#This Row],[Non HZ Employee]]=Table1[[#This Row],[Max calc]],\"Non HZ Employee\", Table1[[#This Row],[Calc 2]]))","v":"#NA"}]
[1952,null,1952,{"$nulls":5},{"$f":"SUM(Table1[[#This Row],[Column4]]+Table1[[#This Row],[Column3]]+Table1[[#This Row],[Column2]]+Table1[[#This Row],[Column1]])","v":0},{"$nulls":5},{"$f":"SUM(Table1[[#This Row],[PO Employee]:[Other Employee]])","v":0},"N",{"$error":"#N/A"},{"$f":"IF(O1969>39,Table1[[#This Row],[Calc 1]],IF(O1969>1,\"Not counted as an Employee\",\"#NA\"))","v":"#NA"},{"$f":"MAX(Table1[[#This Row],[PO Employee]],Table1[[#This Row],[Other HZ Employee]],Table1[[#This Row],[Non HZ Employee]],Table1[[#This Row],[Job Site Employee]],Table1[[#This Row],[Other Employee]])","v":0},{"$f":"IF(Table1[[#This Row],[Total Hours per Month]]=Table1[[#This Row],[Column12]],\"Match\",\"Error\")","v":"Match"},{"$f":"IF(Table1[[#This Row],[Calc 2]]=\"#NA\",\"#NA\",IF(Table1[[#This Row],[Non HZ Employee]]=Table1[[#This Row],[Max calc]],\"Non HZ Employee\", Table1[[#This Row],[Calc 2]]))","v":"#NA"}]
[1953,null,1953,{"$nulls":5},{"$f":"SUM(Table1[[#This Row],[Column4]]+Table1[[#This Row],[Column3]]+Table1[[#This Row],[Column2]]+Table1[[#This Row],[Column1]])","v":0},{"$nulls":5},{"$f":"SUM(Table1[[#This Row],[PO Employee]:[Other Employee]])","v":0},"N",{"$error":"#N/A"},{"$f":"IF(O1970>39,Table1[[#This Row],[Calc 1]],IF(O1970>1,\"Not counted as an Employee\",\"#NA\"))","v":"#NA"},{"$f":"MAX(Table1[[#This Row],[PO Employee]],Table1[[#This Row],[Other HZ Employee]],Table1[[#This Row],[Non HZ Employee]],Table1[[#This Row],[Job Site Employee]],Table1[[#This Row],[Other Employee]])","v":0},{"$f":"IF(Table1[[#This Row],[Total Hours per Month]]=Table1[[#This Row],[Column12]],\"Match\",\"Error\")","v":"Match"},{"$f":"IF(Table1[[#This Row],[Calc 2]]=\"#NA\",\"#NA\",IF(Table1[[#This Row],[Non HZ Employee]]=Table1[[#This Row],[Max calc]],\"Non HZ Employee\", Table1[[#This Row],[Calc 2]]))","v":"#NA"}]
[1954,null,1954,{"$nulls":5},{"$f":"SUM(Table1[[#This Row],[Column4]]+Table1[[#This Row],[Column3]]+Table1[[#This Row],[Column2]]+Table1[[#This Row],[Column1]])","v":0},{"$nulls":5},{"$f":"SUM(Table1[[#This Row],[PO Employee]:[Other Employee]])","v":0},"N",{"$error":"#N/A"},{"$f":"IF(O1971>39,Table1[[#This Row],[Calc 1]],IF(O1971>1,\"Not counted as an Employee\",\"#NA\"))","v":"#NA"},{"$f":"MAX(Table1[[#This Row],[PO Employee]],Table1[[#This Row],[Other HZ Employee]],Table1[[#This Row],[Non HZ Employee]],Table1[[#This Row],[Job Site Employee]],Table1[[#This Row],[Other Employee]])","v":0},{"$f":"IF(Table1[[#This Row],[Total Hours per Month]]=Table1[[#This Row],[Column12]],\"Match\",\"Error\")","v":"Match"},{"$f":"IF(Table1[[#This Row],[Calc 2]]=\"#NA\",\"#NA\",IF(Table1[[#This Row],[Non HZ Employee]]=Table1[[#This Row],[Max calc]],\"Non HZ Employee\", Table1[[#This Row],[Calc 2]]))","v":"#NA"}]
[1955,null,1955,{"$nulls":5},{"$f":"SUM(Table1[[#This Row],[Column4]]+Table1[[#This Row],[Column3]]+Table1[[#This Row],[Column2]]+Table1[[#This Row],[Column1]])","v":0},{"$nulls":5},{"$f":"SUM(Table1[[#This Row],[PO Employee]:[Other Employee]])","v":0},"N",{"$error":"#N/A"},{"$f":"IF(O1972>39,Table1[[#This Row],[Calc 1]],IF(O1972>1,\"Not counted as an Employee\",\"#NA\"))","v":"#NA"},{"$f":"MAX(Table1[[#This Row],[PO Employee]],Table1[[#This Row],[Other HZ Employee]],Table1[[#This Row],[Non HZ Employee]],Table1[[#This Row],[Job Site Employee]],Table1[[#This Row],[Other Employee]])","v":0},{"$f":"IF(Table1[[#This Row],[Total Hours per Month]]=Table1[[#This Row],[Column12]],\"Match\",\"Error\")","v":"Match"},{"$f":"IF(Table1[[#This Row],[Calc 2]]=\"#NA\",\"#NA\",IF(Table1[[#This Row],[Non HZ Employee]]=Table1[[#This Row],[Max calc]],\"Non HZ Employee\", Table1[[#This Row],[Calc 2]]))","v":"#NA"}]
[1956,null,1956,{"$nulls":5},{"$f":"SUM(Table1[[#This Row],[Column4]]+Table1[[#This Row],[Column3]]+Table1[[#This Row],[Column2]]+Table1[[#This Row],[Column1]])","v":0},{"$nulls":5},{"$f":"SUM(Table1[[#This Row],[PO Employee]:[Other Employee]])","v":0},"N",{"$error":"#N/A"},{"$f":"IF(O1973>39,Table1[[#This Row],[Calc 1]],IF(O1973>1,\"Not counted as an Employee\",\"#NA\"))","v":"#NA"},{"$f":"MAX(Table1[[#This Row],[PO Employee]],Table1[[#This Row],[Other HZ Employee]],Table1[[#This Row],[Non HZ Employee]],Table1[[#This Row],[Job Site Employee]],Table1[[#This Row],[Other Employee]])","v":0},{"$f":"IF(Table1[[#This Row],[Total Hours per Month]]=Table1[[#This Row],[Column12]],\"Match\",\"Error\")","v":"Match"},{"$f":"IF(Table1[[#This Row],[Calc 2]]=\"#NA\",\"#NA\",IF(Table1[[#This Row],[Non HZ Employee]]=Table1[[#This Row],[Max calc]],\"Non HZ Employee\", Table1[[#This Row],[Calc 2]]))","v":"#NA"}]
[1957,null,1957,{"$nulls":5},{"$f":"SUM(Table1[[#This Row],[Column4]]+Table1[[#This Row],[Column3]]+Table1[[#This Row],[Column2]]+Table1[[#This Row],[Column1]])","v":0},{"$nulls":5},{"$f":"SUM(Table1[[#This Row],[PO Employee]:[Other Employee]])","v":0},"N",{"$error":"#N/A"},{"$f":"IF(O1974>39,Table1[[#This Row],[Calc 1]],IF(O1974>1,\"Not counted as an Employee\",\"#NA\"))","v":"#NA"},{"$f":"MAX(Table1[[#This Row],[PO Employee]],Table1[[#This Row],[Other HZ Employee]],Table1[[#This Row],[Non HZ Employee]],Table1[[#This Row],[Job Site Employee]],Table1[[#This Row],[Other Employee]])","v":0},{"$f":"IF(Table1[[#This Row],[Total Hours per Month]]=Table1[[#This Row],[Column12]],\"Match\",\"Error\")","v":"Match"},{"$f":"IF(Table1[[#This Row],[Calc 2]]=\"#NA\",\"#NA\",IF(Table1[[#This Row],[Non HZ Employee]]=Table1[[#This Row],[Max calc]],\"Non HZ Employee\", Table1[[#This Row],[Calc 2]]))","v":"#NA"}]
[1958,null,1958,{"$nulls":5},{"$f":"SUM(Table1[[#This Row],[Column4]]+Table1[[#This Row],[Column3]]+Table1[[#This Row],[Column2]]+Table1[[#This Row],[Column1]])","v":0},{"$nulls":5},{"$f":"SUM(Table1[[#This Row],[PO Employee]:[Other Employee]])","v":0},"N",{"$error":"#N/A"},{"$f":"IF(O1975>39,Table1[[#This Row],[Calc 1]],IF(O1975>1,\"Not counted as an Employee\",\"#NA\"))","v":"#NA"},{"$f":"MAX(Table1[[#This Row],[PO Employee]],Table1[[#This Row],[Other HZ Employee]],Table1[[#This Row],[Non HZ Employee]],Table1[[#This Row],[Job Site Employee]],Table1[[#This Row],[Other Employee]])","v":0},{"$f":"IF(Table1[[#This Row],[Total Hours per Month]]=Table1[[#This Row],[Column12]],\"Match\",\"Error\")","v":"Match"},{"$f":"IF(Table1[[#This Row],[Calc 2]]=\"#NA\",\"#NA\",IF(Table1[[#This Row],[Non HZ Employee]]=Table1[[#This Row],[Max calc]],\"Non HZ Employee\", Table1[[#This Row],[Calc 2]]))","v":"#NA"}]
[1959,null,1959,{"$nulls":5},{"$f":"SUM(Table1[[#This Row],[Column4]]+Table1[[#This Row],[Column3]]+Table1[[#This Row],[Column2]]+Table1[[#This Row],[Column1]])","v":0},{"$nulls":5},{"$f":"SUM(Table1[[#This Row],[PO Employee]:[Other Employee]])","v":0},"N",{"$error":"#N/A"},{"$f":"IF(O1976>39,Table1[[#This Row],[Calc 1]],IF(O1976>1,\"Not counted as an Employee\",\"#NA\"))","v":"#NA"},{"$f":"MAX(Table1[[#This Row],[PO Employee]],Table1[[#This Row],[Other HZ Employee]],Table1[[#This Row],[Non HZ Employee]],Table1[[#This Row],[Job Site Employee]],Table1[[#This Row],[Other Employee]])","v":0},{"$f":"IF(Table1[[#This Row],[Total Hours per Month]]=Table1[[#This Row],[Column12]],\"Match\",\"Error\")","v":"Match"},{"$f":"IF(Table1[[#This Row],[Calc 2]]=\"#NA\",\"#NA\",IF(Table1[[#This Row],[Non HZ Employee]]=Table1[[#This Row],[Max calc]],\"Non HZ Employee\", Table1[[#This Row],[Calc 2]]))","v":"#NA"}]
[1960,null,1960,{"$nulls":5},{"$f":"SUM(Table1[[#This Row],[Column4]]+Table1[[#This Row],[Column3]]+Table1[[#This Row],[Column2]]+Table1[[#This Row],[Column1]])","v":0},{"$nulls":5},{"$f":"SUM(Table1[[#This Row],[PO Employee]:[Other Employee]])","v":0},"N",{"$error":"#N/A"},{"$f":"IF(O1977>39,Table1[[#This Row],[Calc 1]],IF(O1977>1,\"Not counted as an Employee\",\"#NA\"))","v":"#NA"},{"$f":"MAX(Table1[[#This Row],[PO Employee]],Table1[[#This Row],[Other HZ Employee]],Table1[[#This Row],[Non HZ Employee]],Table1[[#This Row],[Job Site Employee]],Table1[[#This Row],[Other Employee]])","v":0},{"$f":"IF(Table1[[#This Row],[Total Hours per Month]]=Table1[[#This Row],[Column12]],\"Match\",\"Error\")","v":"Match"},{"$f":"IF(Table1[[#This Row],[Calc 2]]=\"#NA\",\"#NA\",IF(Table1[[#This Row],[Non HZ Employee]]=Table1[[#This Row],[Max calc]],\"Non HZ Employee\", Table1[[#This Row],[Calc 2]]))","v":"#NA"}]
[1961,null,1961,{"$nulls":5},{"$f":"SUM(Table1[[#This Row],[Column4]]+Table1[[#This Row],[Column3]]+Table1[[#This Row],[Column2]]+Table1[[#This Row],[Column1]])","v":0},{"$nulls":5},{"$f":"SUM(Table1[[#This Row],[PO Employee]:[Other Employee]])","v":0},"N",{"$error":"#N/A"},{"$f":"IF(O1978>39,Table1[[#This Row],[Calc 1]],IF(O1978>1,\"Not counted as an Employee\",\"#NA\"))","v":"#NA"},{"$f":"MAX(Table1[[#This Row],[PO Employee]],Table1[[#This Row],[Other HZ Employee]],Table1[[#This Row],[Non HZ Employee]],Table1[[#This Row],[Job Site Employee]],Table1[[#This Row],[Other Employee]])","v":0},{"$f":"IF(Table1[[#This Row],[Total Hours per Month]]=Table1[[#This Row],[Column12]],\"Match\",\"Error\")","v":"Match"},{"$f":"IF(Table1[[#This Row],[Calc 2]]=\"#NA\",\"#NA\",IF(Table1[[#This Row],[Non HZ Employee]]=Table1[[#This Row],[Max calc]],\"Non HZ Employee\", Table1[[#This Row],[Calc 2]]))","v":"#NA"}]
[1962,null,1962,{"$nulls":5},{"$f":"SUM(Table1[[#This Row],[Column4]]+Table1[[#This Row],[Column3]]+Table1[[#This Row],[Column2]]+Table1[[#This Row],[Column1]])","v":0},{"$nulls":5},{"$f":"SUM(Table1[[#This Row],[PO Employee]:[Other Employee]])","v":0},"N",{"$error":"#N/A"},{"$f":"IF(O1979>39,Table1[[#This Row],[Calc 1]],IF(O1979>1,\"Not counted as an Employee\",\"#NA\"))","v":"#NA"},{"$f":"MAX(Table1[[#This Row],[PO Employee]],Table1[[#This Row],[Other HZ Employee]],Table1[[#This Row],[Non HZ Employee]],Table1[[#This Row],[Job Site Employee]],Table1[[#This Row],[Other Employee]])","v":0},{"$f":"IF(Table1[[#This Row],[Total Hours per Month]]=Table1[[#This Row],[Column12]],\"Match\",\"Error\")","v":"Match"},{"$f":"IF(Table1[[#This Row],[Calc 2]]=\"#NA\",\"#NA\",IF(Table1[[#This Row],[Non HZ Employee]]=Table1[[#This Row],[Max calc]],\"Non HZ Employee\", Table1[[#This Row],[Calc 2]]))","v":"#NA"}]
[1963,null,1963,{"$nulls":5},{"$f":"SUM(Table1[[#This Row],[Column4]]+Table1[[#This Row],[Column3]]+Table1[[#This Row],[Column2]]+Table1[[#This Row],[Column1]])","v":0},{"$nulls":5},{"$f":"SUM(Table1[[#This Row],[PO Employee]:[Other Employee]])","v":0},"N",{"$error":"#N/A"},{"$f":"IF(O1980>39,Table1[[#This Row],[Calc 1]],IF(O1980>1,\"Not counted as an Employee\",\"#NA\"))","v":"#NA"},{"$f":"MAX(Table1[[#This Row],[PO Employee]],Table1[[#This Row],[Other HZ Employee]],Table1[[#This Row],[Non HZ Employee]],Table1[[#This Row],[Job Site Employee]],Table1[[#This Row],[Other Employee]])","v":0},{"$f":"IF(Table1[[#This Row],[Total Hours per Month]]=Table1[[#This Row],[Column12]],\"Match\",\"Error\")","v":"Match"},{"$f":"IF(Table1[[#This Row],[Calc 2]]=\"#NA\",\"#NA\",IF(Table1[[#This Row],[Non HZ Employee]]=Table1[[#This Row],[Max calc]],\"Non HZ Employee\", Table1[[#This Row],[Calc 2]]))","v":"#NA"}]
[1964,null,1964,{"$nulls":5},{"$f":"SUM(Table1[[#This Row],[Column4]]+Table1[[#This Row],[Column3]]+Table1[[#This Row],[Column2]]+Table1[[#This Row],[Column1]])","v":0},{"$nulls":5},{"$f":"SUM(Table1[[#This Row],[PO Employee]:[Other Employee]])","v":0},"N",{"$error":"#N/A"},{"$f":"IF(O1981>39,Table1[[#This Row],[Calc 1]],IF(O1981>1,\"Not counted as an Employee\",\"#NA\"))","v":"#NA"},{"$f":"MAX(Table1[[#This Row],[PO Employee]],Table1[[#This Row],[Other HZ Employee]],Table1[[#This Row],[Non HZ Employee]],Table1[[#This Row],[Job Site Employee]],Table1[[#This Row],[Other Employee]])","v":0},{"$f":"IF(Table1[[#This Row],[Total Hours per Month]]=Table1[[#This Row],[Column12]],\"Match\",\"Error\")","v":"Match"},{"$f":"IF(Table1[[#This Row],[Calc 2]]=\"#NA\",\"#NA\",IF(Table1[[#This Row],[Non HZ Employee]]=Table1[[#This Row],[Max calc]],\"Non HZ Employee\", Table1[[#This Row],[Calc 2]]))","v":"#NA"}]
[1965,null,1965,{"$nulls":5},{"$f":"SUM(Table1[[#This Row],[Column4]]+Table1[[#This Row],[Column3]]+Table1[[#This Row],[Column2]]+Table1[[#This Row],[Column1]])","v":0},{"$nulls":5},{"$f":"SUM(Table1[[#This Row],[PO Employee]:[Other Employee]])","v":0},"N",{"$error":"#N/A"},{"$f":"IF(O1982>39,Table1[[#This Row],[Calc 1]],IF(O1982>1,\"Not counted as an Employee\",\"#NA\"))","v":"#NA"},{"$f":"MAX(Table1[[#This Row],[PO Employee]],Table1[[#This Row],[Other HZ Employee]],Table1[[#This Row],[Non HZ Employee]],Table1[[#This Row],[Job Site Employee]],Table1[[#This Row],[Other Employee]])","v":0},{"$f":"IF(Table1[[#This Row],[Total Hours per Month]]=Table1[[#This Row],[Column12]],\"Match\",\"Error\")","v":"Match"},{"$f":"IF(Table1[[#This Row],[Calc 2]]=\"#NA\",\"#NA\",IF(Table1[[#This Row],[Non HZ Employee]]=Table1[[#This Row],[Max calc]],\"Non HZ Employee\", Table1[[#This Row],[Calc 2]]))","v":"#NA"}]
[1966,null,1966,{"$nulls":5},{"$f":"SUM(Table1[[#This Row],[Column4]]+Table1[[#This Row],[Column3]]+Table1[[#This Row],[Column2]]+Table1[[#This Row],[Column1]])","v":0},{"$nulls":5},{"$f":"SUM(Table1[[#This Row],[PO Employee]:[Other Employee]])","v":0},"N",{"$error":"#N/A"},{"$f":"IF(O1983>39,Table1[[#This Row],[Calc 1]],IF(O1983>1,\"Not counted as an Employee\",\"#NA\"))","v":"#NA"},{"$f":"MAX(Table1[[#This Row],[PO Employee]],Table1[[#This Row],[Other HZ Employee]],Table1[[#This Row],[Non HZ Employee]],Table1[[#This Row],[Job Site Employee]],Table1[[#This Row],[Other Employee]])","v":0},{"$f":"IF(Table1[[#This Row],[Total Hours per Month]]=Table1[[#This Row],[Column12]],\"Match\",\"Error\")","v":"Match"},{"$f":"IF(Table1[[#This Row],[Calc 2]]=\"#NA\",\"#NA\",IF(Table1[[#This Row],[Non HZ Employee]]=Table1[[#This Row],[Max calc]],\"Non HZ Employee\", Table1[[#This Row],[Calc 2]]))","v":"#NA"}]
[1967,null,1967,{"$nulls":5},{"$f":"SUM(Table1[[#This Row],[Column4]]+Table1[[#This Row],[Column3]]+Table1[[#This Row],[Column2]]+Table1[[#This Row],[Column1]])","v":0},{"$nulls":5},{"$f":"SUM(Table1[[#This Row],[PO Employee]:[Other Employee]])","v":0},"N",{"$error":"#N/A"},{"$f":"IF(O1984>39,Table1[[#This Row],[Calc 1]],IF(O1984>1,\"Not counted as an Employee\",\"#NA\"))","v":"#NA"},{"$f":"MAX(Table1[[#This Row],[PO Employee]],Table1[[#This Row],[Other HZ Employee]],Table1[[#This Row],[Non HZ Employee]],Table1[[#This Row],[Job Site Employee]],Table1[[#This Row],[Other Employee]])","v":0},{"$f":"IF(Table1[[#This Row],[Total Hours per Month]]=Table1[[#This Row],[Column12]],\"Match\",\"Error\")","v":"Match"},{"$f":"IF(Table1[[#This Row],[Calc 2]]=\"#NA\",\"#NA\",IF(Table1[[#This Row],[Non HZ Employee]]=Table1[[#This Row],[Max calc]],\"Non HZ Employee\", Table1[[#This Row],[Calc 2]]))","v":"#NA"}]
[1968,null,1968,{"$nulls":5},{"$f":"SUM(Table1[[#This Row],[Column4]]+Table1[[#This Row],[Column3]]+Table1[[#This Row],[Column2]]+Table1[[#This Row],[Column1]])","v":0},{"$nulls":5},{"$f":"SUM(Table1[[#This Row],[PO Employee]:[Other Employee]])","v":0},"N",{"$error":"#N/A"},{"$f":"IF(O1985>39,Table1[[#This Row],[Calc 1]],IF(O1985>1,\"Not counted as an Employee\",\"#NA\"))","v":"#NA"},{"$f":"MAX(Table1[[#This Row],[PO Employee]],Table1[[#This Row],[Other HZ Employee]],Table1[[#This Row],[Non HZ Employee]],Table1[[#This Row],[Job Site Employee]],Table1[[#This Row],[Other Employee]])","v":0},{"$f":"IF(Table1[[#This Row],[Total Hours per Month]]=Table1[[#This Row],[Column12]],\"Match\",\"Error\")","v":"Match"},{"$f":"IF(Table1[[#This Row],[Calc 2]]=\"#NA\",\"#NA\",IF(Table1[[#This Row],[Non HZ Employee]]=Table1[[#This Row],[Max calc]],\"Non HZ Employee\", Table1[[#This Row],[Calc 2]]))","v":"#NA"}]
[1969,null,1969,{"$nulls":5},{"$f":"SUM(Table1[[#This Row],[Column4]]+Table1[[#This Row],[Column3]]+Table1[[#This Row],[Column2]]+Table1[[#This Row],[Column1]])","v":0},{"$nulls":5},{"$f":"SUM(Table1[[#This Row],[PO Employee]:[Other Employee]])","v":0},"N",{"$error":"#N/A"},{"$f":"IF(O1986>39,Table1[[#This Row],[Calc 1]],IF(O1986>1,\"Not counted as an Employee\",\"#NA\"))","v":"#NA"},{"$f":"MAX(Table1[[#This Row],[PO Employee]],Table1[[#This Row],[Other HZ Employee]],Table1[[#This Row],[Non HZ Employee]],Table1[[#This Row],[Job Site Employee]],Table1[[#This Row],[Other Employee]])","v":0},{"$f":"IF(Table1[[#This Row],[Total Hours per Month]]=Table1[[#This Row],[Column12]],\"Match\",\"Error\")","v":"Match"},{"$f":"IF(Table1[[#This Row],[Calc 2]]=\"#NA\",\"#NA\",IF(Table1[[#This Row],[Non HZ Employee]]=Table1[[#This Row],[Max calc]],\"Non HZ Employee\", Table1[[#This Row],[Calc 2]]))","v":"#NA"}]
[1970,null,1970,{"$nulls":5},{"$f":"SUM(Table1[[#This Row],[Column4]]+Table1[[#This Row],[Column3]]+Table1[[#This Row],[Column2]]+Table1[[#This Row],[Column1]])","v":0},{"$nulls":5},{"$f":"SUM(Table1[[#This Row],[PO Employee]:[Other Employee]])","v":0},"N",{"$error":"#N/A"},{"$f":"IF(O1987>39,Table1[[#This Row],[Calc 1]],IF(O1987>1,\"Not counted as an Employee\",\"#NA\"))","v":"#NA"},{"$f":"MAX(Table1[[#This Row],[PO Employee]],Table1[[#This Row],[Other HZ Employee]],Table1[[#This Row],[Non HZ Employee]],Table1[[#This Row],[Job Site Employee]],Table1[[#This Row],[Other Employee]])","v":0},{"$f":"IF(Table1[[#This Row],[Total Hours per Month]]=Table1[[#This Row],[Column12]],\"Match\",\"Error\")","v":"Match"},{"$f":"IF(Table1[[#This Row],[Calc 2]]=\"#NA\",\"#NA\",IF(Table1[[#This Row],[Non HZ Employee]]=Table1[[#This Row],[Max calc]],\"Non HZ Employee\", Table1[[#This Row],[Calc 2]]))","v":"#NA"}]
[1971,null,1971,{"$nulls":5},{"$f":"SUM(Table1[[#This Row],[Column4]]+Table1[[#This Row],[Column3]]+Table1[[#This Row],[Column2]]+Table1[[#This Row],[Column1]])","v":0},{"$nulls":5},{"$f":"SUM(Table1[[#This Row],[PO Employee]:[Other Employee]])","v":0},"N",{"$error":"#N/A"},{"$f":"IF(O1988>39,Table1[[#This Row],[Calc 1]],IF(O1988>1,\"Not counted as an Employee\",\"#NA\"))","v":"#NA"},{"$f":"MAX(Table1[[#This Row],[PO Employee]],Table1[[#This Row],[Other HZ Employee]],Table1[[#This Row],[Non HZ Employee]],Table1[[#This Row],[Job Site Employee]],Table1[[#This Row],[Other Employee]])","v":0},{"$f":"IF(Table1[[#This Row],[Total Hours per Month]]=Table1[[#This Row],[Column12]],\"Match\",\"Error\")","v":"Match"},{"$f":"IF(Table1[[#This Row],[Calc 2]]=\"#NA\",\"#NA\",IF(Table1[[#This Row],[Non HZ Employee]]=Table1[[#This Row],[Max calc]],\"Non HZ Employee\", Table1[[#This Row],[Calc 2]]))","v":"#NA"}]
[1972,null,1972,{"$nulls":5},{"$f":"SUM(Table1[[#This Row],[Column4]]+Table1[[#This Row],[Column3]]+Table1[[#This Row],[Column2]]+Table1[[#This Row],[Column1]])","v":0},{"$nulls":5},{"$f":"SUM(Table1[[#This Row],[PO Employee]:[Other Employee]])","v":0},"N",{"$error":"#N/A"},{"$f":"IF(O1989>39,Table1[[#This Row],[Calc 1]],IF(O1989>1,\"Not counted as an Employee\",\"#NA\"))","v":"#NA"},{"$f":"MAX(Table1[[#This Row],[PO Employee]],Table1[[#This Row],[Other HZ Employee]],Table1[[#This Row],[Non HZ Employee]],Table1[[#This Row],[Job Site Employee]],Table1[[#This Row],[Other Employee]])","v":0},{"$f":"IF(Table1[[#This Row],[Total Hours per Month]]=Table1[[#This Row],[Column12]],\"Match\",\"Error\")","v":"Match"},{"$f":"IF(Table1[[#This Row],[Calc 2]]=\"#NA\",\"#NA\",IF(Table1[[#This Row],[Non HZ Employee]]=Table1[[#This Row],[Max calc]],\"Non HZ Employee\", Table1[[#This Row],[Calc 2]]))","v":"#NA"}]
[1973,null,1973,{"$nulls":5},{"$f":"SUM(Table1[[#This Row],[Column4]]+Table1[[#This Row],[Column3]]+Table1[[#This Row],[Column2]]+Table1[[#This Row],[Column1]])","v":0},{"$nulls":5},{"$f":"SUM(Table1[[#This Row],[PO Employee]:[Other Employee]])","v":0},"N",{"$error":"#N/A"},{"$f":"IF(O1990>39,Table1[[#This Row],[Calc 1]],IF(O1990>1,\"Not counted as an Employee\",\"#NA\"))","v":"#NA"},{"$f":"MAX(Table1[[#This Row],[PO Employee]],Table1[[#This Row],[Other HZ Employee]],Table1[[#This Row],[Non HZ Employee]],Table1[[#This Row],[Job Site Employee]],Table1[[#This Row],[Other Employee]])","v":0},{"$f":"IF(Table1[[#This Row],[Total Hours per Month]]=Table1[[#This Row],[Column12]],\"Match\",\"Error\")","v":"Match"},{"$f":"IF(Table1[[#This Row],[Calc 2]]=\"#NA\",\"#NA\",IF(Table1[[#This Row],[Non HZ Employee]]=Table1[[#This Row],[Max calc]],\"Non HZ Employee\", Table1[[#This Row],[Calc 2]]))","v":"#NA"}]
[1974,null,1974,{"$nulls":5},{"$f":"SUM(Table1[[#This Row],[Column4]]+Table1[[#This Row],[Column3]]+Table1[[#This Row],[Column2]]+Table1[[#This Row],[Column1]])","v":0},{"$nulls":5},{"$f":"SUM(Table1[[#This Row],[PO Employee]:[Other Employee]])","v":0},"N",{"$error":"#N/A"},{"$f":"IF(O1991>39,Table1[[#This Row],[Calc 1]],IF(O1991>1,\"Not counted as an Employee\",\"#NA\"))","v":"#NA"},{"$f":"MAX(Table1[[#This Row],[PO Employee]],Table1[[#This Row],[Other HZ Employee]],Table1[[#This Row],[Non HZ Employee]],Table1[[#This Row],[Job Site Employee]],Table1[[#This Row],[Other Employee]])","v":0},{"$f":"IF(Table1[[#This Row],[Total Hours per Month]]=Table1[[#This Row],[Column12]],\"Match\",\"Error\")","v":"Match"},{"$f":"IF(Table1[[#This Row],[Calc 2]]=\"#NA\",\"#NA\",IF(Table1[[#This Row],[Non HZ Employee]]=Table1[[#This Row],[Max calc]],\"Non HZ Employee\", Table1[[#This Row],[Calc 2]]))","v":"#NA"}]
[1975,null,1975,{"$nulls":5},{"$f":"SUM(Table1[[#This Row],[Column4]]+Table1[[#This Row],[Column3]]+Table1[[#This Row],[Column2]]+Table1[[#This Row],[Column1]])","v":0},{"$nulls":5},{"$f":"SUM(Table1[[#This Row],[PO Employee]:[Other Employee]])","v":0},"N",{"$error":"#N/A"},{"$f":"IF(O1992>39,Table1[[#This Row],[Calc 1]],IF(O1992>1,\"Not counted as an Employee\",\"#NA\"))","v":"#NA"},{"$f":"MAX(Table1[[#This Row],[PO Employee]],Table1[[#This Row],[Other HZ Employee]],Table1[[#This Row],[Non HZ Employee]],Table1[[#This Row],[Job Site Employee]],Table1[[#This Row],[Other Employee]])","v":0},{"$f":"IF(Table1[[#This Row],[Total Hours per Month]]=Table1[[#This Row],[Column12]],\"Match\",\"Error\")","v":"Match"},{"$f":"IF(Table1[[#This Row],[Calc 2]]=\"#NA\",\"#NA\",IF(Table1[[#This Row],[Non HZ Employee]]=Table1[[#This Row],[Max calc]],\"Non HZ Employee\", Table1[[#This Row],[Calc 2]]))","v":"#NA"}]
[1976,null,1976,{"$nulls":5},{"$f":"SUM(Table1[[#This Row],[Column4]]+Table1[[#This Row],[Column3]]+Table1[[#This Row],[Column2]]+Table1[[#This Row],[Column1]])","v":0},{"$nulls":5},{"$f":"SUM(Table1[[#This Row],[PO Employee]:[Other Employee]])","v":0},"N",{"$error":"#N/A"},{"$f":"IF(O1993>39,Table1[[#This Row],[Calc 1]],IF(O1993>1,\"Not counted as an Employee\",\"#NA\"))","v":"#NA"},{"$f":"MAX(Table1[[#This Row],[PO Employee]],Table1[[#This Row],[Other HZ Employee]],Table1[[#This Row],[Non HZ Employee]],Table1[[#This Row],[Job Site Employee]],Table1[[#This Row],[Other Employee]])","v":0},{"$f":"IF(Table1[[#This Row],[Total Hours per Month]]=Table1[[#This Row],[Column12]],\"Match\",\"Error\")","v":"Match"},{"$f":"IF(Table1[[#This Row],[Calc 2]]=\"#NA\",\"#NA\",IF(Table1[[#This Row],[Non HZ Employee]]=Table1[[#This Row],[Max calc]],\"Non HZ Employee\", Table1[[#This Row],[Calc 2]]))","v":"#NA"}]
[1977,null,1977,{"$nulls":5},{"$f":"SUM(Table1[[#This Row],[Column4]]+Table1[[#This Row],[Column3]]+Table1[[#This Row],[Column2]]+Table1[[#This Row],[Column1]])","v":0},{"$nulls":5},{"$f":"SUM(Table1[[#This Row],[PO Employee]:[Other Employee]])","v":0},"N",{"$error":"#N/A"},{"$f":"IF(O1994>39,Table1[[#This Row],[Calc 1]],IF(O1994>1,\"Not counted as an Employee\",\"#NA\"))","v":"#NA"},{"$f":"MAX(Table1[[#This Row],[PO Employee]],Table1[[#This Row],[Other HZ Employee]],Table1[[#This Row],[Non HZ Employee]],Table1[[#This Row],[Job Site Employee]],Table1[[#This Row],[Other Employee]])","v":0},{"$f":"IF(Table1[[#This Row],[Total Hours per Month]]=Table1[[#This Row],[Column12]],\"Match\",\"Error\")","v":"Match"},{"$f":"IF(Table1[[#This Row],[Calc 2]]=\"#NA\",\"#NA\",IF(Table1[[#This Row],[Non HZ Employee]]=Table1[[#This Row],[Max calc]],\"Non HZ Employee\", Table1[[#This Row],[Calc 2]]))","v":"#NA"}]
[1978,null,1978,{"$nulls":5},{"$f":"SUM(Table1[[#This Row],[Column4]]+Table1[[#This Row],[Column3]]+Table1[[#This Row],[Column2]]+Table1[[#This Row],[Column1]])","v":0},{"$nulls":5},{"$f":"SUM(Table1[[#This Row],[PO Employee]:[Other Employee]])","v":0},"N",{"$error":"#N/A"},{"$f":"IF(O1995>39,Table1[[#This Row],[Calc 1]],IF(O1995>1,\"Not counted as an Employee\",\"#NA\"))","v":"#NA"},{"$f":"MAX(Table1[[#This Row],[PO Employee]],Table1[[#This Row],[Other HZ Employee]],Table1[[#This Row],[Non HZ Employee]],Table1[[#This Row],[Job Site Employee]],Table1[[#This Row],[Other Employee]])","v":0},{"$f":"IF(Table1[[#This Row],[Total Hours per Month]]=Table1[[#This Row],[Column12]],\"Match\",\"Error\")","v":"Match"},{"$f":"IF(Table1[[#This Row],[Calc 2]]=\"#NA\",\"#NA\",IF(Table1[[#This Row],[Non HZ Employee]]=Table1[[#This Row],[Max calc]],\"Non HZ Employee\", Table1[[#This Row],[Calc 2]]))","v":"#NA"}]
[1979,null,1979,{"$nulls":5},{"$f":"SUM(Table1[[#This Row],[Column4]]+Table1[[#This Row],[Column3]]+Table1[[#This Row],[Column2]]+Table1[[#This Row],[Column1]])","v":0},{"$nulls":5},{"$f":"SUM(Table1[[#This Row],[PO Employee]:[Other Employee]])","v":0},"N",{"$error":"#N/A"},{"$f":"IF(O1996>39,Table1[[#This Row],[Calc 1]],IF(O1996>1,\"Not counted as an Employee\",\"#NA\"))","v":"#NA"},{"$f":"MAX(Table1[[#This Row],[PO Employee]],Table1[[#This Row],[Other HZ Employee]],Table1[[#This Row],[Non HZ Employee]],Table1[[#This Row],[Job Site Employee]],Table1[[#This Row],[Other Employee]])","v":0},{"$f":"IF(Table1[[#This Row],[Total Hours per Month]]=Table1[[#This Row],[Column12]],\"Match\",\"Error\")","v":"Match"},{"$f":"IF(Table1[[#This Row],[Calc 2]]=\"#NA\",\"#NA\",IF(Table1[[#This Row],[Non HZ Employee]]=Table1[[#This Row],[Max calc]],\"Non HZ Employee\", Table1[[#This Row],[Calc 2]]))","v":"#NA"}]
[1980,null,1980,{"$nulls":5},{"$f":"SUM(Table1[[#This Row],[Column4]]+Table1[[#This Row],[Column3]]+Table1[[#This Row],[Column2]]+Table1[[#This Row],[Column1]])","v":0},{"$nulls":5},{"$f":"SUM(Table1[[#This Row],[PO Employee]:[Other Employee]])","v":0},"N",{"$error":"#N/A"},{"$f":"IF(O1997>39,Table1[[#This Row],[Calc 1]],IF(O1997>1,\"Not counted as an Employee\",\"#NA\"))","v":"#NA"},{"$f":"MAX(Table1[[#This Row],[PO Employee]],Table1[[#This Row],[Other HZ Employee]],Table1[[#This Row],[Non HZ Employee]],Table1[[#This Row],[Job Site Employee]],Table1[[#This Row],[Other Employee]])","v":0},{"$f":"IF(Table1[[#This Row],[Total Hours per Month]]=Table1[[#This Row],[Column12]],\"Match\",\"Error\")","v":"Match"},{"$f":"IF(Table1[[#This Row],[Calc 2]]=\"#NA\",\"#NA\",IF(Table1[[#This Row],[Non HZ Employee]]=Table1[[#This Row],[Max calc]],\"Non HZ Employee\", Table1[[#This Row],[Calc 2]]))","v":"#NA"}]
[1981,null,1981,{"$nulls":5},{"$f":"SUM(Table1[[#This Row],[Column4]]+Table1[[#This Row],[Column3]]+Table1[[#This Row],[Column2]]+Table1[[#This Row],[Column1]])","v":0},{"$nulls":5},{"$f":"SUM(Table1[[#This Row],[PO Employee]:[Other Employee]])","v":0},"N",{"$error":"#N/A"},{"$f":"IF(O1998>39,Table1[[#This Row],[Calc 1]],IF(O1998>1,\"Not counted as an Employee\",\"#NA\"))","v":"#NA"},{"$f":"MAX(Table1[[#This Row],[PO Employee]],Table1[[#This Row],[Other HZ Employee]],Table1[[#This Row],[Non HZ Employee]],Table1[[#This Row],[Job Site Employee]],Table1[[#This Row],[Other Employee]])","v":0},{"$f":"IF(Table1[[#This Row],[Total Hours per Month]]=Table1[[#This Row],[Column12]],\"Match\",\"Error\")","v":"Match"},{"$f":"IF(Table1[[#This Row],[Calc 2]]=\"#NA\",\"#NA\",IF(Table1[[#This Row],[Non HZ Employee]]=Table1[[#This Row],[Max calc]],\"Non HZ Employee\", Table1[[#This Row],[Calc 2]]))","v":"#NA"}]
[1982,null,1982,{"$nulls":5},{"$f":"SUM(Table1[[#This Row],[Column4]]+Table1[[#This Row],[Column3]]+Table1[[#This Row],[Column2]]+Table1[[#This Row],[Column1]])","v":0},{"$nulls":5},{"$f":"SUM(Table1[[#This Row],[PO Employee]:[Other Employee]])","v":0},"N",{"$error":"#N/A"},{"$f":"IF(O1999>39,Table1[[#This Row],[Calc 1]],IF(O1999>1,\"Not counted as an Employee\",\"#NA\"))","v":"#NA"},{"$f":"MAX(Table1[[#This Row],[PO Employee]],Table1[[#This Row],[Other HZ Employee]],Table1[[#This Row],[Non HZ Employee]],Table1[[#This Row],[Job Site Employee]],Table1[[#This Row],[Other Employee]])","v":0},{"$f":"IF(Table1[[#This Row],[Total Hours per Month]]=Table1[[#This Row],[Column12]],\"Match\",\"Error\")","v":"Match"},{"$f":"IF(Table1[[#This Row],[Calc 2]]=\"#NA\",\"#NA\",IF(Table1[[#This Row],[Non HZ Employee]]=Table1[[#This Row],[Max calc]],\"Non HZ Employee\", Table1[[#This Row],[Calc 2]]))","v":"#NA"}]
[1983,null,1983,{"$nulls":5},{"$f":"SUM(Table1[[#This Row],[Column4]]+Table1[[#This Row],[Column3]]+Table1[[#This Row],[Column2]]+Table1[[#This Row],[Column1]])","v":0},{"$nulls":5},{"$f":"SUM(Table1[[#This Row],[PO Employee]:[Other Employee]])","v":0},"N",{"$error":"#N/A"},{"$f":"IF(O2000>39,Table1[[#This Row],[Calc 1]],IF(O2000>1,\"Not counted as an Employee\",\"#NA\"))","v":"#NA"},{"$f":"MAX(Table1[[#This Row],[PO Employee]],Table1[[#This Row],[Other HZ Employee]],Table1[[#This Row],[Non HZ Employee]],Table1[[#This Row],[Job Site Employee]],Table1[[#This Row],[Other Employee]])","v":0},{"$f":"IF(Table1[[#This Row],[Total Hours per Month]]=Table1[[#This Row],[Column12]],\"Match\",\"Error\")","v":"Match"},{"$f":"IF(Table1[[#This Row],[Calc 2]]=\"#NA\",\"#NA\",IF(Table1[[#This Row],[Non HZ Employee]]=Table1[[#This Row],[Max calc]],\"Non HZ Employee\", Table1[[#This Row],[Calc 2]]))","v":"#NA"}]
[1984,null,1984,{"$nulls":5},{"$f":"SUM(Table1[[#This Row],[Column4]]+Table1[[#This Row],[Column3]]+Table1[[#This Row],[Column2]]+Table1[[#This Row],[Column1]])","v":0},{"$nulls":5},{"$f":"SUM(Table1[[#This Row],[PO Employee]:[Other Employee]])","v":0},"N",{"$error":"#N/A"},{"$f":"IF(O2001>39,Table1[[#This Row],[Calc 1]],IF(O2001>1,\"Not counted as an Employee\",\"#NA\"))","v":"#NA"},{"$f":"MAX(Table1[[#This Row],[PO Employee]],Table1[[#This Row],[Other HZ Employee]],Table1[[#This Row],[Non HZ Employee]],Table1[[#This Row],[Job Site Employee]],Table1[[#This Row],[Other Employee]])","v":0},{"$f":"IF(Table1[[#This Row],[Total Hours per Month]]=Table1[[#This Row],[Column12]],\"Match\",\"Error\")","v":"Match"},{"$f":"IF(Table1[[#This Row],[Calc 2]]=\"#NA\",\"#NA\",IF(Table1[[#This Row],[Non HZ Employee]]=Table1[[#This Row],[Max calc]],\"Non HZ Employee\", Table1[[#This Row],[Calc 2]]))","v":"#NA"}]
[1985,null,1985,{"$nulls":5},{"$f":"SUM(Table1[[#This Row],[Column4]]+Table1[[#This Row],[Column3]]+Table1[[#This Row],[Column2]]+Table1[[#This Row],[Column1]])","v":0},{"$nulls":5},{"$f":"SUM(Table1[[#This Row],[PO Employee]:[Other Employee]])","v":0},"N",{"$f":"INDEX($J$17:$N$17,MATCH(MAX(J2002:N2002),J2002:N2002,0))","v":{"$error":"#N/A"}},{"$f":"IF(O2002>39,Table1[[#This Row],[Calc 1]],IF(O2002>1,\"Not counted as an Employee\",\"#NA\"))","v":"#NA"},{"$f":"MAX(Table1[[#This Row],[PO Employee]],Table1[[#This Row],[Other HZ Employee]],Table1[[#This Row],[Non HZ Employee]],Table1[[#This Row],[Job Site Employee]],Table1[[#This Row],[Other Employee]])","v":0},{"$f":"IF(Table1[[#This Row],[Total Hours per Month]]=Table1[[#This Row],[Column12]],\"Match\",\"Error\")","v":"Match"},{"$f":"IF(Table1[[#This Row],[Calc 2]]=\"#NA\",\"#NA\",IF(Table1[[#This Row],[Non HZ Employee]]=Table1[[#This Row],[Max calc]],\"Non HZ Employee\", Table1[[#This Row],[Calc 2]]))","v":"#NA"}]
[1986,null,1986,{"$nulls":5},{"$f":"SUM(Table1[[#This Row],[Column4]]+Table1[[#This Row],[Column3]]+Table1[[#This Row],[Column2]]+Table1[[#This Row],[Column1]])","v":0},{"$nulls":5},{"$f":"SUM(Table1[[#This Row],[PO Employee]:[Other Employee]])","v":0},{"$f":"IF(O2003>=40,\"Y\",\"N\")","v":"N"},{"$error":"#N/A"},{"$f":"IF(O2003>39,Table1[[#This Row],[Calc 1]],IF(O2003>1,\"Not counted as an Employee\",\"#NA\"))","v":"#NA"},{"$f":"MAX(Table1[[#This Row],[PO Employee]],Table1[[#This Row],[Other HZ Employee]],Table1[[#This Row],[Non HZ Employee]],Table1[[#This Row],[Job Site Employee]],Table1[[#This Row],[Other Employee]])","v":0},{"$f":"IF(Table1[[#This Row],[Total Hours per Month]]=Table1[[#This Row],[Column12]],\"Match\",\"Error\")","v":"Match"},{"$f":"IF(Table1[[#This Row],[Calc 2]]=\"#NA\",\"#NA\",IF(Table1[[#This Row],[Non HZ Employee]]=Table1[[#This Row],[Max calc]],\"Non HZ Employee\", Table1[[#This Row],[Calc 2]]))","v":"#NA"}]
[1987,null,1987,{"$nulls":5},{"$f":"SUM(Table1[[#This Row],[Column4]]+Table1[[#This Row],[Column3]]+Table1[[#This Row],[Column2]]+Table1[[#This Row],[Column1]])","v":0},{"$nulls":5},{"$f":"SUM(Table1[[#This Row],[PO Employee]:[Other Employee]])","v":0},"N",{"$error":"#N/A"},{"$f":"IF(O2004>39,Table1[[#This Row],[Calc 1]],IF(O2004>1,\"Not counted as an Employee\",\"#NA\"))","v":"#NA"},{"$f":"MAX(Table1[[#This Row],[PO Employee]],Table1[[#This Row],[Other HZ Employee]],Table1[[#This Row],[Non HZ Employee]],Table1[[#This Row],[Job Site Employee]],Table1[[#This Row],[Other Employee]])","v":0},{"$f":"IF(Table1[[#This Row],[Total Hours per Month]]=Table1[[#This Row],[Column12]],\"Match\",\"Error\")","v":"Match"},{"$f":"IF(Table1[[#This Row],[Calc 2]]=\"#NA\",\"#NA\",IF(Table1[[#This Row],[Non HZ Employee]]=Table1[[#This Row],[Max calc]],\"Non HZ Employee\", Table1[[#This Row],[Calc 2]]))","v":"#NA"}]
[1988,null,1988,{"$nulls":5},{"$f":"SUM(Table1[[#This Row],[Column4]]+Table1[[#This Row],[Column3]]+Table1[[#This Row],[Column2]]+Table1[[#This Row],[Column1]])","v":0},{"$nulls":5},{"$f":"SUM(Table1[[#This Row],[PO Employee]:[Other Employee]])","v":0},"N",{"$error":"#N/A"},{"$f":"IF(O2005>39,Table1[[#This Row],[Calc 1]],IF(O2005>1,\"Not counted as an Employee\",\"#NA\"))","v":"#NA"},{"$f":"MAX(Table1[[#This Row],[PO Employee]],Table1[[#This Row],[Other HZ Employee]],Table1[[#This Row],[Non HZ Employee]],Table1[[#This Row],[Job Site Employee]],Table1[[#This Row],[Other Employee]])","v":0},{"$f":"IF(Table1[[#This Row],[Total Hours per Month]]=Table1[[#This Row],[Column12]],\"Match\",\"Error\")","v":"Match"},{"$f":"IF(Table1[[#This Row],[Calc 2]]=\"#NA\",\"#NA\",IF(Table1[[#This Row],[Non HZ Employee]]=Table1[[#This Row],[Max calc]],\"Non HZ Employee\", Table1[[#This Row],[Calc 2]]))","v":"#NA"}]
[1989,null,1989,{"$nulls":5},{"$f":"SUM(Table1[[#This Row],[Column4]]+Table1[[#This Row],[Column3]]+Table1[[#This Row],[Column2]]+Table1[[#This Row],[Column1]])","v":0},{"$nulls":5},{"$f":"SUM(Table1[[#This Row],[PO Employee]:[Other Employee]])","v":0},"N",{"$error":"#N/A"},{"$f":"IF(O2006>39,Table1[[#This Row],[Calc 1]],IF(O2006>1,\"Not counted as an Employee\",\"#NA\"))","v":"#NA"},{"$f":"MAX(Table1[[#This Row],[PO Employee]],Table1[[#This Row],[Other HZ Employee]],Table1[[#This Row],[Non HZ Employee]],Table1[[#This Row],[Job Site Employee]],Table1[[#This Row],[Other Employee]])","v":0},{"$f":"IF(Table1[[#This Row],[Total Hours per Month]]=Table1[[#This Row],[Column12]],\"Match\",\"Error\")","v":"Match"},{"$f":"IF(Table1[[#This Row],[Calc 2]]=\"#NA\",\"#NA\",IF(Table1[[#This Row],[Non HZ Employee]]=Table1[[#This Row],[Max calc]],\"Non HZ Employee\", Table1[[#This Row],[Calc 2]]))","v":"#NA"}]
[1990,null,1990,{"$nulls":5},{"$f":"SUM(Table1[[#This Row],[Column4]]+Table1[[#This Row],[Column3]]+Table1[[#This Row],[Column2]]+Table1[[#This Row],[Column1]])","v":0},{"$nulls":5},{"$f":"SUM(Table1[[#This Row],[PO Employee]:[Other Employee]])","v":0},"N",{"$error":"#N/A"},{"$f":"IF(O2007>39,Table1[[#This Row],[Calc 1]],IF(O2007>1,\"Not counted as an Employee\",\"#NA\"))","v":"#NA"},{"$f":"MAX(Table1[[#This Row],[PO Employee]],Table1[[#This Row],[Other HZ Employee]],Table1[[#This Row],[Non HZ Employee]],Table1[[#This Row],[Job Site Employee]],Table1[[#This Row],[Other Employee]])","v":0},{"$f":"IF(Table1[[#This Row],[Total Hours per Month]]=Table1[[#This Row],[Column12]],\"Match\",\"Error\")","v":"Match"},{"$f":"IF(Table1[[#This Row],[Calc 2]]=\"#NA\",\"#NA\",IF(Table1[[#This Row],[Non HZ Employee]]=Table1[[#This Row],[Max calc]],\"Non HZ Employee\", Table1[[#This Row],[Calc 2]]))","v":"#NA"}]
[1991,null,1991,{"$nulls":5},{"$f":"SUM(Table1[[#This Row],[Column4]]+Table1[[#This Row],[Column3]]+Table1[[#This Row],[Column2]]+Table1[[#This Row],[Column1]])","v":0},{"$nulls":5},{"$f":"SUM(Table1[[#This Row],[PO Employee]:[Other Employee]])","v":0},"N",{"$error":"#N/A"},{"$f":"IF(O2008>39,Table1[[#This Row],[Calc 1]],IF(O2008>1,\"Not counted as an Employee\",\"#NA\"))","v":"#NA"},{"$f":"MAX(Table1[[#This Row],[PO Employee]],Table1[[#This Row],[Other HZ Employee]],Table1[[#This Row],[Non HZ Employee]],Table1[[#This Row],[Job Site Employee]],Table1[[#This Row],[Other Employee]])","v":0},{"$f":"IF(Table1[[#This Row],[Total Hours per Month]]=Table1[[#This Row],[Column12]],\"Match\",\"Error\")","v":"Match"},{"$f":"IF(Table1[[#This Row],[Calc 2]]=\"#NA\",\"#NA\",IF(Table1[[#This Row],[Non HZ Employee]]=Table1[[#This Row],[Max calc]],\"Non HZ Employee\", Table1[[#This Row],[Calc 2]]))","v":"#NA"}]
[1992,null,1992,{"$nulls":5},{"$f":"SUM(Table1[[#This Row],[Column4]]+Table1[[#This Row],[Column3]]+Table1[[#This Row],[Column2]]+Table1[[#This Row],[Column1]])","v":0},{"$nulls":5},{"$f":"SUM(Table1[[#This Row],[PO Employee]:[Other Employee]])","v":0},"N",{"$error":"#N/A"},{"$f":"IF(O2009>39,Table1[[#This Row],[Calc 1]],IF(O2009>1,\"Not counted as an Employee\",\"#NA\"))","v":"#NA"},{"$f":"MAX(Table1[[#This Row],[PO Employee]],Table1[[#This Row],[Other HZ Employee]],Table1[[#This Row],[Non HZ Employee]],Table1[[#This Row],[Job Site Employee]],Table1[[#This Row],[Other Employee]])","v":0},{"$f":"IF(Table1[[#This Row],[Total Hours per Month]]=Table1[[#This Row],[Column12]],\"Match\",\"Error\")","v":"Match"},{"$f":"IF(Table1[[#This Row],[Calc 2]]=\"#NA\",\"#NA\",IF(Table1[[#This Row],[Non HZ Employee]]=Table1[[#This Row],[Max calc]],\"Non HZ Employee\", Table1[[#This Row],[Calc 2]]))","v":"#NA"}]
[1993,null,1993,{"$nulls":5},{"$f":"SUM(Table1[[#This Row],[Column4]]+Table1[[#This Row],[Column3]]+Table1[[#This Row],[Column2]]+Table1[[#This Row],[Column1]])","v":0},{"$nulls":5},{"$f":"SUM(Table1[[#This Row],[PO Employee]:[Other Employee]])","v":0},"N",{"$error":"#N/A"},{"$f":"IF(O2010>39,Table1[[#This Row],[Calc 1]],IF(O2010>1,\"Not counted as an Employee\",\"#NA\"))","v":"#NA"},{"$f":"MAX(Table1[[#This Row],[PO Employee]],Table1[[#This Row],[Other HZ Employee]],Table1[[#This Row],[Non HZ Employee]],Table1[[#This Row],[Job Site Employee]],Table1[[#This Row],[Other Employee]])","v":0},{"$f":"IF(Table1[[#This Row],[Total Hours per Month]]=Table1[[#This Row],[Column12]],\"Match\",\"Error\")","v":"Match"},{"$f":"IF(Table1[[#This Row],[Calc 2]]=\"#NA\",\"#NA\",IF(Table1[[#This Row],[Non HZ Employee]]=Table1[[#This Row],[Max calc]],\"Non HZ Employee\", Table1[[#This Row],[Calc 2]]))","v":"#NA"}]
[1994,null,1994,{"$nulls":5},{"$f":"SUM(Table1[[#This Row],[Column4]]+Table1[[#This Row],[Column3]]+Table1[[#This Row],[Column2]]+Table1[[#This Row],[Column1]])","v":0},{"$nulls":5},{"$f":"SUM(Table1[[#This Row],[PO Employee]:[Other Employee]])","v":0},"N",{"$error":"#N/A"},{"$f":"IF(O2011>39,Table1[[#This Row],[Calc 1]],IF(O2011>1,\"Not counted as an Employee\",\"#NA\"))","v":"#NA"},{"$f":"MAX(Table1[[#This Row],[PO Employee]],Table1[[#This Row],[Other HZ Employee]],Table1[[#This Row],[Non HZ Employee]],Table1[[#This Row],[Job Site Employee]],Table1[[#This Row],[Other Employee]])","v":0},{"$f":"IF(Table1[[#This Row],[Total Hours per Month]]=Table1[[#This Row],[Column12]],\"Match\",\"Error\")","v":"Match"},{"$f":"IF(Table1[[#This Row],[Calc 2]]=\"#NA\",\"#NA\",IF(Table1[[#This Row],[Non HZ Employee]]=Table1[[#This Row],[Max calc]],\"Non HZ Employee\", Table1[[#This Row],[Calc 2]]))","v":"#NA"}]
[1995,null,1995,{"$nulls":5},{"$f":"SUM(Table1[[#This Row],[Column4]]+Table1[[#This Row],[Column3]]+Table1[[#This Row],[Column2]]+Table1[[#This Row],[Column1]])","v":0},{"$nulls":5},{"$f":"SUM(Table1[[#This Row],[PO Employee]:[Other Employee]])","v":0},"N",{"$error":"#N/A"},{"$f":"IF(O2012>39,Table1[[#This Row],[Calc 1]],IF(O2012>1,\"Not counted as an Employee\",\"#NA\"))","v":"#NA"},{"$f":"MAX(Table1[[#This Row],[PO Employee]],Table1[[#This Row],[Other HZ Employee]],Table1[[#This Row],[Non HZ Employee]],Table1[[#This Row],[Job Site Employee]],Table1[[#This Row],[Other Employee]])","v":0},{"$f":"IF(Table1[[#This Row],[Total Hours per Month]]=Table1[[#This Row],[Column12]],\"Match\",\"Error\")","v":"Match"},{"$f":"IF(Table1[[#This Row],[Calc 2]]=\"#NA\",\"#NA\",IF(Table1[[#This Row],[Non HZ Employee]]=Table1[[#This Row],[Max calc]],\"Non HZ Employee\", Table1[[#This Row],[Calc 2]]))","v":"#NA"}]
[1996,null,1996,{"$nulls":5},{"$f":"SUM(Table1[[#This Row],[Column4]]+Table1[[#This Row],[Column3]]+Table1[[#This Row],[Column2]]+Table1[[#This Row],[Column1]])","v":0},{"$nulls":5},{"$f":"SUM(Table1[[#This Row],[PO Employee]:[Other Employee]])","v":0},"N",{"$error":"#N/A"},{"$f":"IF(O2013>39,Table1[[#This Row],[Calc 1]],IF(O2013>1,\"Not counted as an Employee\",\"#NA\"))","v":"#NA"},{"$f":"MAX(Table1[[#This Row],[PO Employee]],Table1[[#This Row],[Other HZ Employee]],Table1[[#This Row],[Non HZ Employee]],Table1[[#This Row],[Job Site Employee]],Table1[[#This Row],[Other Employee]])","v":0},{"$f":"IF(Table1[[#This Row],[Total Hours per Month]]=Table1[[#This Row],[Column12]],\"Match\",\"Error\")","v":"Match"},{"$f":"IF(Table1[[#This Row],[Calc 2]]=\"#NA\",\"#NA\",IF(Table1[[#This Row],[Non HZ Employee]]=Table1[[#This Row],[Max calc]],\"Non HZ Employee\", Table1[[#This Row],[Calc 2]]))","v":"#NA"}]
[1997,null,1997,{"$nulls":5},{"$f":"SUM(Table1[[#This Row],[Column4]]+Table1[[#This Row],[Column3]]+Table1[[#This Row],[Column2]]+Table1[[#This Row],[Column1]])","v":0},{"$nulls":5},{"$f":"SUM(Table1[[#This Row],[PO Employee]:[Other Employee]])","v":0},"N",{"$error":"#N/A"},{"$f":"IF(O2014>39,Table1[[#This Row],[Calc 1]],IF(O2014>1,\"Not counted as an Employee\",\"#NA\"))","v":"#NA"},{"$f":"MAX(Table1[[#This Row],[PO Employee]],Table1[[#This Row],[Other HZ Employee]],Table1[[#This Row],[Non HZ Employee]],Table1[[#This Row],[Job Site Employee]],Table1[[#This Row],[Other Employee]])","v":0},{"$f":"IF(Table1[[#This Row],[Total Hours per Month]]=Table1[[#This Row],[Column12]],\"Match\",\"Error\")","v":"Match"},{"$f":"IF(Table1[[#This Row],[Calc 2]]=\"#NA\",\"#NA\",IF(Table1[[#This Row],[Non HZ Employee]]=Table1[[#This Row],[Max calc]],\"Non HZ Employee\", Table1[[#This Row],[Calc 2]]))","v":"#NA"}]
[1998,null,1998,{"$nulls":5},{"$f":"SUM(Table1[[#This Row],[Column4]]+Table1[[#This Row],[Column3]]+Table1[[#This Row],[Column2]]+Table1[[#This Row],[Column1]])","v":0},{"$nulls":5},{"$f":"SUM(Table1[[#This Row],[PO Employee]:[Other Employee]])","v":0},"N",{"$error":"#N/A"},{"$f":"IF(O2015>39,Table1[[#This Row],[Calc 1]],IF(O2015>1,\"Not counted as an Employee\",\"#NA\"))","v":"#NA"},{"$f":"MAX(Table1[[#This Row],[PO Employee]],Table1[[#This Row],[Other HZ Employee]],Table1[[#This Row],[Non HZ Employee]],Table1[[#This Row],[Job Site Employee]],Table1[[#This Row],[Other Employee]])","v":0},{"$f":"IF(Table1[[#This Row],[Total Hours per Month]]=Table1[[#This Row],[Column12]],\"Match\",\"Error\")","v":"Match"},{"$f":"IF(Table1[[#This Row],[Calc 2]]=\"#NA\",\"#NA\",IF(Table1[[#This Row],[Non HZ Employee]]=Table1[[#This Row],[Max calc]],\"Non HZ Employee\", Table1[[#This Row],[Calc 2]]))","v":"#NA"}]
[1999,null,1999,{"$nulls":5},{"$f":"SUM(Table1[[#This Row],[Column4]]+Table1[[#This Row],[Column3]]+Table1[[#This Row],[Column2]]+Table1[[#This Row],[Column1]])","v":0},{"$nulls":5},{"$f":"SUM(Table1[[#This Row],[PO Employee]:[Other Employee]])","v":0},"N",{"$error":"#N/A"},{"$f":"IF(O2016>39,Table1[[#This Row],[Calc 1]],IF(O2016>1,\"Not counted as an Employee\",\"#NA\"))","v":"#NA"},{"$f":"MAX(Table1[[#This Row],[PO Employee]],Table1[[#This Row],[Other HZ Employee]],Table1[[#This Row],[Non HZ Employee]],Table1[[#This Row],[Job Site Employee]],Table1[[#This Row],[Other Employee]])","v":0},{"$f":"IF(Table1[[#This Row],[Total Hours per Month]]=Table1[[#This Row],[Column12]],\"Match\",\"Error\")","v":"Match"},{"$f":"IF(Table1[[#This Row],[Calc 2]]=\"#NA\",\"#NA\",IF(Table1[[#This Row],[Non HZ Employee]]=Table1[[#This Row],[Max calc]],\"Non HZ Employee\", Table1[[#This Row],[Calc 2]]))","v":"#NA"}]
[2000,null,2000,{"$nulls":5},{"$f":"SUM(Table1[[#This Row],[Column4]]+Table1[[#This Row],[Column3]]+Table1[[#This Row],[Column2]]+Table1[[#This Row],[Column1]])","v":0},{"$nulls":5},{"$f":"SUM(Table1[[#This Row],[PO Employee]:[Other Employee]])","v":0},"N",{"$error":"#N/A"},{"$f":"IF(O2017>39,Table1[[#This Row],[Calc 1]],IF(O2017>1,\"Not counted as an Employee\",\"#NA\"))","v":"#NA"},{"$f":"MAX(Table1[[#This Row],[PO Employee]],Table1[[#This Row],[Other HZ Employee]],Table1[[#This Row],[Non HZ Employee]],Table1[[#This Row],[Job Site Employee]],Table1[[#This Row],[Other Employee]])","v":0},{"$f":"IF(Table1[[#This Row],[Total Hours per Month]]=Table1[[#This Row],[Column12]],\"Match\",\"Error\")","v":"Match"},{"$f":"IF(Table1[[#This Row],[Calc 2]]=\"#NA\",\"#NA\",IF(Table1[[#This Row],[Non HZ Employee]]=Table1[[#This Row],[Max calc]],\"Non HZ Employee\", Table1[[#This Row],[Calc 2]]))","v":"#NA"}]

{"sheet":"Step 3 HUBZone Employee List","index":4,"n_rows":2042,"n_cols":21,"rows_kept":2042,"merged":[[1040,20,1040,22],[1041,20,1041,22],[1042,20,1042,22],[1043,20,1043,22],[1046,20,1046,22],[1047,20,1047,22],[1048,20,1048,22],[1049,20,1049,22],[1050,20,1050,22],[1051,20,1051,22],[1052,20,1052,22],[1053,20,1053,22],[1054,20,1054,22],[1055,20,1055,22],[1056,20,1056,22],[1057,20,1057,22],[1058,20,1058,22],[1059,20,1059,22],[1060,20,1060,22],[1061,20,1061,22],[1062,20,1062,22],[1063,20,1063,22],[1064,20,1064,22],[1065,20,1065,22],[1066,20,1066,22],[1067,20,1067,22],[1068,20,1068,22],[1069,20,1069,22],[1070,20,1070,22],[1071,20,1071,22],[1072,20,1072,22],[1073,20,1073,22],[1074,20,1074,22],[1075,20,1075,22],[1076,20,1076,22],[1077,20,1077,22],[1078,20,1078,22],[1079,20,1079,22],[1080,20,1080,22],[1081,20,1081,22],[1082,20,1082,22],[1083,20,1083,22],[1084,20,1084,22],[1085,20,1085,22],[1086,20,1086,22],[1087,20,1087,22],[1088,20,1088,22],[1089,20,1089,22],[1090,20,1090,22],[1091,20,1091,22],[1092,20,1092,22],[1093,20,1093,22],[1094,20,1094,22],[1095,20,1095,22],[1096,20,1096,22],[1097,20,1097,22],[1098,20,1098,22],[1099,20,1099,22],[1100,20,1100,22],[1101,20,1101,22],[1102,20,1102,22],[1103,20,1103,22],[1104,20,1104,22],[1105,20,1105,22],[1106,20,1106,22],[1107,20,1107,22],[1108,20,1108,22],[1109,20,1109,22],[1110,20,1110,22],[1111,20,1111,22],[1112,20,1112,22],[1113,20,1113,22],[1114,20,1114,22],[1115,20,1115,22],[1116,20,1116,22],[1117,20,1117,22],[1118,20,1118,22],[1119,20,1119,22],[1120,20,1120,22],[1121,20,1121,22],[1122,20,1122,22],[1123,20,1123,22],[1124,20,1124,22],[1125,20,1125,22],[1126,20,1126,22],[1127,20,1127,22],[1128,20,1128,22],[1129,20,1129,22],[1130,20,1130,22],[1131,20,1131,22],[1132,20,1132,22],[1133,20,1133,22],[1134,20,1134,22],[1135,20,1135,22],[1136,20,1136,22],[1137,20,1137,22],[1138,20,1138,22],[1139,20,1139,22],[1140,20,1140,22],[1141,20,1141,22],[1142,20,1142,22],[1143,20,1143,22],[1144,20,1144,22],[1145,20,1145,22],[1146,20,1146,22],[1147,20,1147,22],[1148,20,1148,22],[1149,20,1149,22],[1150,20,1150,22],[1151,20,1151,22],[1152,20,1152,22],[1153,20,1153,22],[1154,20,1154,22],[1155,20,1155,22],[1156,20,1156,22],[1157,20,1157,22],[1158,20,1158,22],[1159,20,1159,22],[1160,20,1160,22],[1161,20,1161,22],[1162,20,1162,22],[1163,20,1163,22],[1164,20,1164,22],[1165,20,1165,22],[1166,20,1166,22],[1167,20,1167,22],[1168,20,1168,22],[1169,20,1169,22],[1170,20,1170,22],[1171,20,1171,22],[1172,20,1172,22],[1173,20,1173,22],[1174,20,1174,22],[1175,20,1175,22],[1176,20,1176,22],[1177,20,1177,22],[1178,20,1178,22],[1179,20,1179,22],[1180,20,1180,22],[1181,20,1181,22],[1182,20,1182,22],[1183,20,1183,22],[1184,20,1184,22],[1185,20,1185,22],[1186,20,1186,22],[1187,20,1187,22],[1188,20,1188,22],[1189,20,1189,22],[1190,20,1190,22],[1191,20,1191,22],[1192,20,1192,22],[1193,20,1193,22],[1194,20,1194,22],[1195,20,1195,22],[1196,20,1196,22],[1197,20,1197,22],[1198,20,1198,22],[1199,20,1199,22],[1200,20,1200,22],[1201,20,1201,22],[1202,20,1202,22],[1203,20,1203,22],[1204,20,1204,22],[1205,20,1205,22],[1206,20,1206,22],[1207,20,1207,22],[1208,20,1208,22],[1209,20,1209,22],[1210,20,1210,22],[1211,20,1211,22],[1212,20,1212,22],[1213,20,1213,22],[1214,20,1214,22],[1215,20,1215,22],[1216,20,1216,22],[1217,20,1217,22],[1218,20,1218,22],[1219,20,1219,22],[1220,20,1220,22],[1221,20,1221,22],[1222,20,1222,22],[1223,20,1223,22],[1224,20,1224,22],[1225,20,1225,22],[1226,20,1226,22],[1227,20,1227,22],[1228,20,1228,22],[1229,20,1229,22],[1230,20,1230,22],[1231,20,1231,22],[1232,20,1232,22],[1233,20,1233,22],[1234,20,1234,22],[1235,20,1235,22],[1236,20,1236,22],[1237,20,1237,22],[1238,20,1238,22],[1239,20,1239,22],[1240,20,1240,22],[1241,20,1241,22],[1242,20,1242,22],[1243,20,1243,22],[1244,20,1244,22],[1245,20,1245,22],[1246,20,1246,22],[1247,20,1247,22],[1248,20,1248,22],[1249,20,1249,22],[1250,20,1250,22],[1251,20,1251,22],[1252,20,1252,22],[1253,20,1253,22],[1254,20,1254,22],[1255,20,1255,22],[1256,20,1256,22],[1257,20,1257,22],[1258,20,1258,22],[1259,20,1259,22],[1260,20,1260,22],[1261,20,1261,22],[1262,20,1262,22],[1263,20,1263,22],[1264,20,1264,22],[1265,20,1265,22],[1266,20,1266,22],[1267,20,1267,22],[1268,20,1268,22],[1269,20,1269,22],[1270,20,1270,22],[1271,20,1271,22],[1272,20,1272,22],[1273,20,1273,22],[1274,20,1274,22],[1275,20,1275,22],[1276,20,1276,22],[1277,20,1277,22],[1278,20,1278,22],[1279,20,1279,22],[1280,20,1280,22],[1281,20,1281,22],[1282,20,1282,22],[1283,20,1283,22],[1284,20,1284,22],[1285,20,1285,22],[1286,20,1286,22],[1287,20,1287,22],[1288,20,1288,22],[1289,20,1289,22],[1290,20,1290,22],[1291,20,1291,22],[1292,20,1292,22],[1293,20,1293,22],[1294,20,1294,22],[1295,20,1295,22],[1296,20,1296,22],[1297,20,1297,22],[1298,20,1298,22],[1299,20,1299,22],[1300,20,1300,22],[1301,20,1301,22],[1302,20,1302,22],[1303,20,1303,22],[1304,20,1304,22],[1305,20,1305,22],[1306,20,1306,22],[1307,20,1307,22],[1308,20,1308,22],[1309,20,1309,22],[1310,20,1310,22],[1311,20,1311,22],[1312,20,1312,22],[1313,20,1313,22],[1314,20,1314,22],[1315,20,1315,22],[1316,20,1316,22],[1317,20,1317,22],[1318,20,1318,22],[1319,20,1319,22],[1320,20,1320,22],[1321,20,1321,22],[1322,20,1322,22],[1323,20,1323,22],[1324,20,1324,22],[1325,20,1325,22],[1326,20,1326,22],[1327,20,1327,22],[1328,20,1328,22],[1329,20,1329,22],[1330,20,1330,22],[1331,20,1331,22],[1332,20,1332,22],[1333,20,1333,22],[1334,20,1334,22],[1335,20,1335,22],[1336,20,1336,22],[1337,20,1337,22],[1338,20,1338,22],[1339,20,1339,22],[1340,20,1340,22],[1341,20,1341,22],[1342,20,1342,22],[1343,20,1343,22],[1344,20,1344,22],[1345,20,1345,22],[1346,20,1346,22],[1347,20,1347,22],[1348,20,1348,22],[1349,20,1349,22],[1350,20,1350,22],[1351,20,1351,22],[1352,20,1352,22],[1353,20,1353,22],[1354,20,1354,22],[1355,20,1355,22],[1356,20,1356,22],[1357,20,1357,22],[1358,20,1358,22],[1359,20,1359,22],[1360,20,1360,22],[1361,20,1361,22],[1362,20,1362,22],[1363,20,1363,22],[1364,20,1364,22],[1365,20,1365,22],[1366,20,1366,22],[1367,20,1367,22],[1368,20,1368,22],[1369,20,1369,22],[1370,20,1370,22],[1371,20,1371,22],[1372,20,1372,22],[1373,20,1373,22],[1374,20,1374,22],[1375,20,1375,22],[1376,20,1376,22],[1377,20,1377,22],[1378,20,1378,22],[1379,20,1379,22],[1380,20,1380,22],[1381,20,1381,22],[1382,20,1382,22],[1383,20,1383,22],[1384,20,1384,22],[1385,20,1385,22],[1386,20,1386,22],[1387,20,1387,22],[1388,20,1388,22],[1389,20,1389,22],[1390,20,1390,22],[1391,20,1391,22],[1392,20,1392,22],[1393,20,1393,22],[1394,20,1394,22],[1395,20,1395,22],[1396,20,1396,22],[1397,20,1397,22],[1398,20,1398,22],[1399,20,1399,22],[1400,20,1400,22],[1401,20,1401,22],[1402,20,1402,22],[1403,20,1403,22],[1404,20,1404,22],[1405,20,1405,22],[1406,20,1406,22],[1407,20,1407,22],[1408,20,1408,22],[1409,20,1409,22],[1410,20,1410,22],[1411,20,1411,22],[1412,20,1412,22],[1413,20,1413,22],[1414,20,1414,22],[1415,20,1415,22],[1416,20,1416,22],[1417,20,1417,22],[1418,20,1418,22],[1419,20,1419,22],[1420,20,1420,22],[1421,20,1421,22],[1422,20,1422,22],[1423,20,1423,22],[1424,20,1424,22],[1425,20,1425,22],[1426,20,1426,22],[1427,20,1427,22],[1428,20,1428,22],[1429,20,1429,22],[1430,20,1430,22],[1431,20,1431,22],[1432,20,1432,22],[1433,20,1433,22],[1434,20,1434,22],[1435,20,1435,22],[1436,20,1436,22],[1437,20,1437,22],[1438,20,1438,22],[1439,20,1439,22],[1440,20,1440,22],[1441,20,1441,22],[1442,20,1442,22],[1443,20,1443,22],[1444,20,1444,22],[1445,20,1445,22],[1446,20,1446,22],[1447,20,1447,22],[1448,20,1448,22],[1449,20,1449,22],[1450,20,1450,22],[1451,20,1451,22],[1452,20,1452,22],[1453,20,1453,22],[1454,20,1454,22],[1455,20,1455,22],[1456,20,1456,22],[1457,20,1457,22],[1458,20,1458,22],[1459,20,1459,22],[1460,20,1460,22],[1461,20,1461,22],[1462,20,1462,22],[1463,20,1463,22],[1464,20,1464,22],[1465,20,1465,22],[1466,20,1466,22],[1467,20,1467,22],[1468,20,1468,22],[1469,20,1469,22],[1470,20,1470,22],[1471,20,1471,22],[1472,20,1472,22],[1473,20,1473,22],[1474,20,1474,22],[1475,20,1475,22],[1476,20,1476,22],[1477,20,1477,22],[1478,20,1478,22],[1479,20,1479,22],[1480,20,1480,22],[1481,20,1481,22],[1482,20,1482,22],[1483,20,1483,22],[1484,20,1484,22],[1485,20,1485,22],[1486,20,1486,22],[1487,20,1487,22],[1488,20,1488,22],[1489,20,1489,22],[1490,20,1490,22],[1491,20,1491,22],[1492,20,1492,22],[1493,20,1493,22],[1494,20,1494,22],[1495,20,1495,22],[1496,20,1496,22],[1497,20,1497,22],[1498,20,1498,22],[1499,20,1499,22],[1500,20,1500,22],[1501,20,1501,22],[1502,20,1502,22],[1503,20,1503,22],[1504,20,1504,22],[1505,20,1505,22],[1506,20,1506,22],[1507,20,1507,22],[1508,20,1508,22],[1509,20,1509,22],[1510,20,1510,22],[1511,20,1511,22],[1512,20,1512,22],[1513,20,1513,22],[1514,20,1514,22],[1515,20,1515,22],[1516,20,1516,22],[1517,20,1517,22],[1518,20,1518,22],[1519,20,1519,22],[1520,20,1520,22],[1521,20,1521,22],[1522,20,1522,22],[1523,20,1523,22],[1524,20,1524,22],[1525,20,1525,22],[1526,20,1526,22],[1527,20,1527,22],[1528,20,1528,22],[1529,20,1529,22],[1530,20,1530,22],[1531,20,1531,22],[1532,20,1532,22],[1533,20,1533,22],[1534,20,1534,22],[1535,20,1535,22],[1536,20,1536,22],[1537,20,1537,22],[1538,20,1538,22],[1539,20,1539,22],[1540,20,1540,22],[1541,20,1541,22],[1542,20,1542,22],[1543,20,1543,22],[1544,20,1544,22],[1545,20,1545,22],[1546,20,1546,22],[1547,20,1547,22],[1548,20,1548,22],[1549,20,1549,22],[1550,20,1550,22],[1551,20,1551,22],[1552,20,1552,22],[1553,20,1553,22],[1554,20,1554,22],[1555,20,1555,22],[1556,20,1556,22],[1557,20,1557,22],[1558,20,1558,22],[1559,20,1559,22],[1560,20,1560,22],[1561,20,1561,22],[1562,20,1562,22],[1563,20,1563,22],[1564,20,1564,22],[1565,20,1565,22],[1566,20,1566,22],[1567,20,1567,22],[1568,20,1568,22],[1569,20,1569,22],[1570,20,1570,22],[1571,20,1571,22],[1572,20,1572,22],[1573,20,1573,22],[1574,20,1574,22],[1575,20,1575,22],[1576,20,1576,22],[1577,20,1577,22],[1578,20,1578,22],[1579,20,1579,22],[1580,20,1580,22],[1581,20,1581,22],[1582,20,1582,22],[1583,20,1583,22],[1584,20,1584,22],[1585,20,1585,22],[1586,20,1586,22],[1587,20,1587,22],[1588,20,1588,22],[1589,20,1589,22],[1590,20,1590,22],[1591,20,1591,22],[1592,20,1592,22],[1593,20,1593,22],[1594,20,1594,22],[1595,20,1595,22],[1596,20,1596,22],[1597,20,1597,22],[1598,20,1598,22],[1599,20,1599,22],[1600,20,1600,22],[1601,20,1601,22],[1602,20,1602,22],[1603,20,1603,22],[1604,20,1604,22],[1605,20,1605,22],[1606,20,1606,22],[1607,20,1607,22],[1608,20,1608,22],[1609,20,1609,22],[1610,20,1610,22],[1611,20,1611,22],[1612,20,1612,22],[1613,20,1613,22],[1614,20,1614,22],[1615,20,1615,22],[1616,20,1616,22],[1617,20,1617,22],[1618,20,1618,22],[1619,20,1619,22],[1620,20,1620,22],[1621,20,1621,22],[1622,20,1622,22],[1623,20,1623,22],[1624,20,1624,22],[1625,20,1625,22],[1626,20,1626,22],[1627,20,1627,22],[1628,20,1628,22],[1629,20,1629,22],[1630,20,1630,22],[1631,20,1631,22],[1632,20,1632,22],[1633,20,1633,22],[1634,20,1634,22],[1635,20,1635,22],[1636,20,1636,22],[1637,20,1637,22],[1638,20,1638,22],[1639,20,1639,22],[1640,20,1640,22],[1641,20,1641,22],[1642,20,1642,22],[1643,20,1643,22],[1644,20,1644,22],[1645,20,1645,22],[1646,20,1646,22],[1647,20,1647,22],[1648,20,1648,22],[1649,20,1649,22],[1650,20,1650,22],[1651,20,1651,22],[1652,20,1652,22],[1653,20,1653,22],[1654,20,1654,22],[1655,20,1655,22],[1656,20,1656,22],[1657,20,1657,22],[1658,20,1658,22],[1659,20,1659,22],[1660,20,1660,22],[1661,20,1661,22],[1662,20,1662,22],[1663,20,1663,22],[1664,20,1664,22],[1665,20,1665,22],[1666,20,1666,22],[1667,20,1667,22],[1668,20,1668,22],[1669,20,1669,22],[1670,20,1670,22],[1671,20,1671,22],[1672,20,1672,22],[1673,20,1673,22],[1674,20,1674,22],[1675,20,1675,22],[1676,20,1676,22],[1677,20,1677,22],[1678,20,1678,22],[1679,20,1679,22],[1680,20,1680,22],[1681,20,1681,22],[1682,20,1682,22],[1683,20,1683,22],[1684,20,1684,22],[1685,20,1685,22],[1686,20,1686,22],[1687,20,1687,22],[1688,20,1688,22],[1689,20,1689,22],[1690,20,1690,22],[1691,20,1691,22],[1692,20,1692,22],[1693,20,1693,22],[1694,20,1694,22],[1695,20,1695,22],[1696,20,1696,22],[1697,20,1697,22],[1698,20,1698,22],[1699,20,1699,22],[1700,20,1700,22],[1701,20,1701,22],[1702,20,1702,22],[1703,20,1703,22],[1704,20,1704,22],[1705,20,1705,22],[1706,20,1706,22],[1707,20,1707,22],[1708,20,1708,22],[1709,20,1709,22],[1710,20,1710,22],[1711,20,1711,22],[1712,20,1712,22],[1713,20,1713,22],[1714,20,1714,22],[1715,20,1715,22],[1716,20,1716,22],[1717,20,1717,22],[1718,20,1718,22],[1719,20,1719,22],[1720,20,1720,22],[1721,20,1721,22],[1722,20,1722,22],[1723,20,1723,22],[1724,20,1724,22],[1725,20,1725,22],[1726,20,1726,22],[1727,20,1727,22],[1728,20,1728,22],[1729,20,1729,22],[1730,20,1730,22],[1731,20,1731,22],[1732,20,1732,22],[1733,20,1733,22],[1734,20,1734,22],[1735,20,1735,22],[1736,20,1736,22],[1737,20,1737,22],[1738,20,1738,22],[1739,20,1739,22],[1740,20,1740,22],[1741,20,1741,22],[1742,20,1742,22],[1743,20,1743,22],[1744,20,1744,22],[1745,20,1745,22],[1746,20,1746,22],[1747,20,1747,22],[1748,20,1748,22],[1749,20,1749,22],[1750,20,1750,22],[1751,20,1751,22],[1752,20,1752,22],[1753,20,1753,22],[1754,20,1754,22],[1755,20,1755,22],[1756,20,1756,22],[1757,20,1757,22],[1758,20,1758,22],[1759,20,1759,22],[1760,20,1760,22],[1761,20,1761,22],[1762,20,1762,22],[1763,20,1763,22],[1764,20,1764,22],[1765,20,1765,22],[1766,20,1766,22],[1767,20,1767,22],[1768,20,1768,22],[1769,20,1769,22],[1770,20,1770,22],[1771,20,1771,22],[1772,20,1772,22],[1773,20,1773,22],[1774,20,1774,22],[1775,20,1775,22],[1776,20,1776,22],[1777,20,1777,22],[1778,20,1778,22],[1779,20,1779,22],[1780,20,1780,22],[1781,20,1781,22],[1782,20,1782,22],[1783,20,1783,22],[1784,20,1784,22],[1785,20,1785,22],[1786,20,1786,22],[1787,20,1787,22],[1788,20,1788,22],[1789,20,1789,22],[1790,20,1790,22],[1791,20,1791,22],[1792,20,1792,22],[1793,20,1793,22],[1794,20,1794,22],[1795,20,1795,22],[1796,20,1796,22],[1797,20,1797,22],[1798,20,1798,22],[1799,20,1799,22],[1800,20,1800,22],[1801,20,1801,22],[1802,20,1802,22],[1803,20,1803,22],[1804,20,1804,22],[1805,20,1805,22],[1806,20,1806,22],[1807,20,1807,22],[1808,20,1808,22],[1809,20,1809,22],[1810,20,1810,22],[1811,20,1811,22],[1812,20,1812,22],[1813,20,1813,22],[1814,20,1814,22],[1815,20,1815,22],[1816,20,1816,22],[1817,20,1817,22],[1818,20,1818,22],[1819,20,1819,22],[1820,20,1820,22],[1821,20,1821,22],[1822,20,1822,22],[1823,20,1823,22],[1824,20,1824,22],[1825,20,1825,22],[1826,20,1826,22],[1827,20,1827,22],[1828,20,1828,22],[1829,20,1829,22],[1830,20,1830,22],[1831,20,1831,22],[1832,20,1832,22],[1833,20,1833,22],[1834,20,1834,22],[1835,20,1835,22],[1836,20,1836,22],[1837,20,1837,22],[1838,20,1838,22],[1839,20,1839,22],[1840,20,1840,22],[1841,20,1841,22],[1842,20,1842,22],[1843,20,1843,22],[1844,20,1844,22],[1845,20,1845,22],[1846,20,1846,22],[1847,20,1847,22],[1848,20,1848,22],[1849,20,1849,22],[1850,20,1850,22],[1851,20,1851,22],[1852,20,1852,22],[1853,20,1853,22],[1854,20,1854,22],[1855,20,1855,22],[1856,20,1856,22],[1857,20,1857,22],[1858,20,1858,22],[1859,20,1859,22],[1860,20,1860,22],[1861,20,1861,22],[1862,20,1862,22],[1863,20,1863,22],[1864,20,1864,22],[1865,20,1865,22],[1866,20,1866,22],[1867,20,1867,22],[1868,20,1868,22],[1869,20,1869,22],[1870,20,1870,22],[1871,20,1871,22],[1872,20,1872,22],[1873,20,1873,22],[1874,20,1874,22],[1875,20,1875,22],[1876,20,1876,22],[1877,20,1877,22],[1878,20,1878,22],[1879,20,1879,22],[1880,20,1880,22],[1881,20,1881,22],[1882,20,1882,22],[1883,20,1883,22],[1884,20,1884,22],[1885,20,1885,22],[1886,20,1886,22],[1887,20,1887,22],[1888,20,1888,22],[1889,20,1889,22],[1890,20,1890,22],[1891,20,1891,22],[1892,20,1892,22],[1893,20,1893,22],[1894,20,1894,22],[1895,20,1895,22],[1896,20,1896,22],[1897,20,1897,22],[1898,20,1898,22],[1899,20,1899,22],[1900,20,1900,22],[1901,20,1901,22],[1902,20,1902,22],[1903,20,1903,22],[1904,20,1904,22],[1905,20,1905,22],[1906,20,1906,22],[1907,20,1907,22],[1908,20,1908,22],[1909,20,1909,22],[1910,20,1910,22],[1911,20,1911,22],[1912,20,1912,22],[1913,20,1913,22],[1914,20,1914,22],[1915,20,1915,22],[1916,20,1916,22],[1917,20,1917,22],[1918,20,1918,22],[1919,20,1919,22],[1920,20,1920,22],[1921,20,1921,22],[1922,20,1922,22],[1923,20,1923,22],[1924,20,1924,22],[1925,20,1925,22],[1926,20,1926,22],[1927,20,1927,22],[1928,20,1928,22],[1929,20,1929,22],[1930,20,1930,22],[1931,20,1931,22],[1932,20,1932,22],[1933,20,1933,22],[1934,20,1934,22],[1935,20,1935,22],[1936,20,1936,22],[1937,20,1937,22],[1938,20,1938,22],[1939,20,1939,22],[1940,20,1940,22],[1941,20,1941,22],[1942,20,1942,22],[1943,20,1943,22],[1944,20,1944,22],[1945,20,1945,22],[1946,20,1946,22],[1947,20,1947,22],[1948,20,1948,22],[1949,20,1949,22],[1950,20,1950,22],[1951,20,1951,22],[1952,20,1952,22],[1953,20,1953,22],[1954,20,1954,22],[1955,20,1955,22],[1956,20,1956,22],[1957,20,1957,22],[1958,20,1958,22],[1959,20,1959,22],[1960,20,1960,22],[1961,20,1961,22],[1962,20,1962,22],[1963,20,1963,22],[1964,20,1964,22],[1965,20,1965,22],[1966,20,1966,22],[1967,20,1967,22],[1968,20,1968,22],[1969,20,1969,22],[1970,20,1970,22],[1971,20,1971,22],[1972,20,1972,22],[1973,20,1973,22],[1974,20,1974,22],[1975,20,1975,22],[1976,20,1976,22],[1977,20,1977,22],[1978,20,1978,22],[1979,20,1979,22],[1980,20,1980,22],[1981,20,1981,22],[1982,20,1982,22],[1983,20,1983,22],[1984,20,1984,22],[1985,20,1985,22],[1986,20,1986,22],[1987,20,1987,22],[1988,20,1988,22],[1989,20,1989,22],[1990,20,1990,22],[1991,20,1991,22],[1992,20,1992,22],[1993,20,1993,22],[1994,20,1994,22],[1995,20,1995,22],[1996,20,1996,22],[1997,20,1997,22],[1998,20,1998,22],[1999,20,1999,22],[2000,20,2000,22],[2001,20,2001,22],[2002,20,2002,22],[2003,20,2003,22],[2004,20,2004,22],[2005,20,2005,22],[2006,20,2006,22],[2007,20,2007,22],[2008,20,2008,22],[2009,20,2009,22],[2010,20,2010,22],[2011,20,2011,22],[2012,20,2012,22],[2013,20,2013,22],[2014,20,2014,22],[2015,20,2015,22],[2016,20,2016,22],[2017,20,2017,22],[2018,20,2018,22],[2019,20,2019,22],[2020,20,2020,22],[2021,20,2021,22],[2022,20,2022,22],[2023,20,2023,22],[2024,20,2024,22],[2025,20,2025,22],[2026,20,2026,22],[2027,20,2027,22],[2028,20,2028,22],[2029,20,2029,22],[2030,20,2030,22],[2031,20,2031,22],[2032,20,2032,22],[2033,20,2033,22],[2034,20,2034,22],[2035,20,2035,22],[2036,20,2036,22],[2037,20,2037,22],[2038,20,2038,22],[2039,20,2039,22],[2040,20,2040,22],[2041,20,2041,22]],"merged_total":6114,"flags":["merged_cut"]}
["Step 3: HUBZone Employee List"]
[]
[]
[]
[]
["App No.",null,null,"Firm Name",{"$nulls":4},"Electronic Verification Date (EVD)","Appears to meet 35%",null,"Number of Employees that Appear to Qualify as HUBZone Employees",{"$nulls":4},"Number of Employees",{"$nulls":3},"35% Threshold"]
[]
[{"$f":"'Step 2 PO Calculator'!E5","v":0},null,null,{"$f":"'Step 2 PO Calculator'!E4","v":0},{"$nulls":4},{"$f":"IF(ISBLANK('Step 2 PO Calculator'!E6),\"\",'Step 2 PO Calculator'!E6)","v":""},{"$f":"IF(AND(L8>=$U8,$U8>0),\"Yes\",\"No\")","v":"No"},null,{"$f":"COUNTIF($T:$T,\"=Yes\")","v":0},{"$nulls":4},{"$f":"'Step 2 PO Calculator'!K9","v":0},{"$nulls":3},{"$f":"IF((Q8*0.35)<1,1,(ROUND($Q8*0.35,0)))","v":1}]
[]
[null,"Employee Name",null,null,"Address on Residency Doc.",{"$nulls":3},"Issue or Start Date ",null,"Expiration, End or EVD Date",null,null,"Issue or start date is at least 180 days before EVD",null,"Exp. or end date is not prior to EVD","Meets date requirements","Map verifies address is in a HZ",null,"Appears to qualify as HUBZone Employee","Notes"]
["Residency Document Type"]
[]
[null,{"$f":"IF(AND( 'Step 2 PO Calculator'!B18=\"Yes\",'Step 2 PO Calculator'!P18=\"Y\"),VLOOKUP('drop down'!$A$2,'Step 2 PO Calculator'!B18:D2017,3,FALSE),\"Leave this line blank\")","v":"Leave this line blank"},{"$nulls":11},{"$f":"IF(I13=\"\",\"\",IF(_xlfn.DAYS(I$8,I13)>=180,\"X\",\"\"))","v":""},null,{"$f":"IF(K13=\"\",\"\",IF(_xlfn.DAYS(K13,I$8)<0,\"\",\"X\"))","v":""},{"$f":"IF(AND(N13=\"X\",P13=\"X\"),\"Yes\",\"No\")","v":"No"}," ",null,{"$f":"IF(AND(N13=\"X\",P13=\"X\",R13=\"Yes\"),\"Yes\",\"No\")","v":"No"}]
[null,{"$f":"IF(AND( 'Step 2 PO Calculator'!B19=\"Yes\",'Step 2 PO Calculator'!P19=\"Y\"),VLOOKUP('drop down'!$A$2,'Step 2 PO Calculator'!B19:D2018,3,FALSE),\"Leave this line blank\")","v":"Leave this line blank"},{"$nulls":11},{"$f":"IF(I14=\"\",\"\",IF(_xlfn.DAYS(I$8,I14)>=180,\"X\",\"\"))","v":""},null,{"$f":"IF(K14=\"\",\"\",IF(_xlfn.DAYS(K14,I$8)<0,\"\",\"X\"))","v":""},{"$f":"IF(AND(N14=\"X\",P14=\"X\"),\"Yes\",\"No\")","v":"No"},null,null,"No"]
[null,{"$f":"IF(AND( 'Step 2 PO Calculator'!B20=\"Yes\",'Step 2 PO Calculator'!P20=\"Y\"),VLOOKUP('drop down'!$A$2,'Step 2 PO Calculator'!B20:D2019,3,FALSE),\"Leave this line blank\")","v":"Leave this line blank"},{"$nulls":11},"",null,"","No",null,null,"No"]
[null,{"$f":"IF(AND( 'Step 2 PO Calculator'!B21=\"Yes\",'Step 2 PO Calculator'!P21=\"Y\"),VLOOKUP('drop down'!$A$2,'Step 2 PO Calculator'!B21:D2020,3,FALSE),\"Leave this line blank\")","v":"Leave this line blank"},{"$nulls":11},"",null,"","No",null,null,"No"]
[null,{"$f":"IF(AND( 'Step 2 PO Calculator'!B22=\"Yes\",'Step 2 PO Calculator'!P22=\"Y\"),VLOOKUP('drop down'!$A$2,'Step 2 PO Calculator'!B22:D2021,3,FALSE),\"Leave this line blank\")","v":"Leave this line blank"},{"$nulls":11},"",null,"","No",null,null,"No"]
[null,{"$f":"IF(AND( 'Step 2 PO Calculator'!B23=\"Yes\",'Step 2 PO Calculator'!P23=\"Y\"),VLOOKUP('drop down'!$A$2,'Step 2 PO Calculator'!B23:D2022,3,FALSE),\"Leave this line blank\")","v":"Leave this line blank"},{"$nulls":11},"",null,"","No",null,null,"No"]
[null,{"$f":"IF(AND( 'Step 2 PO Calculator'!B24=\"Yes\",'Step 2 PO Calculator'!P24=\"Y\"),VLOOKUP('drop down'!$A$2,'Step 2 PO Calculator'!B24:D2023,3,FALSE),\"Leave this line blank\")","v":"Leave this line blank"},{"$nulls":11},"",null,"","No",null,null,"No"]
[null,{"$f":"IF(AND( 'Step 2 PO Calculator'!B25=\"Yes\",'Step 2 PO Calculator'!P25=\"Y\"),VLOOKUP('drop down'!$A$2,'Step 2 PO Calculator'!B25:D2024,3,FALSE),\"Leave this line blank\")","v":"Leave this line blank"},{"$nulls":11},"",null,"","No",null,null,"No"]
[null,{"$f":"IF(AND( 'Step 2 PO Calculator'!B26=\"Yes\",'Step 2 PO Calculator'!P26=\"Y\"),VLOOKUP('drop down'!$A$2,'Step 2 PO Calculator'!B26:D2025,3,FALSE),\"Leave this line blank\")","v":"Leave this line blank"},{"$nulls":11},"",null,"","No",null,null,"No"]
[null,{"$f":"IF(AND( 'Step 2 PO Calculator'!B27=\"Yes\",'Step 2 PO Calculator'!P27=\"Y\"),VLOOKUP('drop down'!$A$2,'Step 2 PO Calculator'!B27:D2026,3,FALSE),\"Leave this line blank\")","v":"Leave this line blank"},{"$nulls":11},"",null,"","No",null,null,"No"]
[null,{"$f":"IF(AND( 'Step 2 PO Calculator'!B28=\"Yes\",'Step 2 PO Calculator'!P28=\"Y\"),VLOOKUP('drop down'!$A$2,'Step 2 PO Calculator'!B28:D2027,3,FALSE),\"Leave this line blank\")","v":"Leave this line blank"},{"$nulls":11},"",null,"","No",null,null,"No"]
[null,{"$f":"IF(AND( 'Step 2 PO Calculator'!B29=\"Yes\",'Step 2 PO Calculator'!P29=\"Y\"),VLOOKUP('drop down'!$A$2,'Step 2 PO Calculator'!B29:D2028,3,FALSE),\"Leave this line blank\")","v":"Leave this line blank"},{"$nulls":11},"",null,"","No",null,null,"No"]
[null,{"$f":"IF(AND( 'Step 2 PO Calculator'!B30=\"Yes\",'Step 2 PO Calculator'!P30=\"Y\"),VLOOKUP('drop down'!$A$2,'Step 2 PO Calculator'!B30:D2029,3,FALSE),\"Leave this line blank\")","v":"Leave this line blank"},{"$nulls":11},"",null,"","No",null,null,"No"]
[null,{"$f":"IF(AND( 'Step 2 PO Calculator'!B31=\"Yes\",'Step 2 PO Calculator'!P31=\"Y\"),VLOOKUP('drop down'!$A$2,'Step 2 PO Calculator'!B31:D2030,3,FALSE),\"Leave this line blank\")","v":"Leave this line blank"},{"$nulls":11},"",null,"","No",null,null,"No"]
[null,{"$f":"IF(AND( 'Step 2 PO Calculator'!B32=\"Yes\",'Step 2 PO Calculator'!P32=\"Y\"),VLOOKUP('drop down'!$A$2,'Step 2 PO Calculator'!B32:D2031,3,FALSE),\"Leave this line blank\")","v":"Leave this line blank"},{"$nulls":11},"",null,"","No",null,null,"No"]
[null,{"$f":"IF(AND( 'Step 2 PO Calculator'!B33=\"Yes\",'Step 2 PO Calculator'!P33=\"Y\"),VLOOKUP('drop down'!$A$2,'Step 2 PO Calculator'!B33:D2032,3,FALSE),\"Leave this line blank\")","v":"Leave this line blank"},{"$nulls":11},"",null,"","No",null,null,"No"]
[null,{"$f":"IF(AND( 'Step 2 PO Calculator'!B34=\"Yes\",'Step 2 PO Calculator'!P34=\"Y\"),VLOOKUP('drop down'!$A$2,'Step 2 PO Calculator'!B34:D2033,3,FALSE),\"Leave this line blank\")","v":"Leave this line blank"},{"$nulls":11},"",null,"","No",null,null,"No"]
[null,{"$f":"IF(AND( 'Step 2 PO Calculator'!B35=\"Yes\",'Step 2 PO Calculator'!P35=\"Y\"),VLOOKUP('drop down'!$A$2,'Step 2 PO Calculator'!B35:D2034,3,FALSE),\"Leave this line blank\")","v":"Leave this line blank"},{"$nulls":11},"",null,"","No",null,null,"No"]
[null,{"$f":"IF('Step 2 PO Calculator'!B36=\"Yes\",VLOOKUP('drop down'!$A$2,'Step 2 PO Calculator'!B36:D2035,3,FALSE),\"Leave this line blank\")","v":"Leave this line blank"},{"$nulls":11},"",null,"","No",null,null,"No"]
[null,{"$f":"IF('Step 2 PO Calculator'!B37=\"Yes\",VLOOKUP('drop down'!$A$2,'Step 2 PO Calculator'!B37:D2036,3,FALSE),\"Leave this line blank\")","v":"Leave this line blank"},{"$nulls":11},"",null,"","No",null,null,"No"]
[null,{"$f":"IF('Step 2 PO Calculator'!B38=\"Yes\",VLOOKUP('drop down'!$A$2,'Step 2 PO Calculator'!B38:D2037,3,FALSE),\"Leave this line blank\")","v":"Leave this line blank"},{"$nulls":11},"",null,"","No",null,null,"No"]
[null,{"$f":"IF('Step 2 PO Calculator'!B39=\"Yes\",VLOOKUP('drop down'!$A$2,'Step 2 PO Calculator'!B39:D2038,3,FALSE),\"Leave this line blank\")","v":"Leave this line blank"},{"$nulls":11},"",null,"","No",null,null,"No"]
[null,{"$f":"IF('Step 2 PO Calculator'!B40=\"Yes\",VLOOKUP('drop down'!$A$2,'Step 2 PO Calculator'!B40:D2039,3,FALSE),\"Leave this line blank\")","v":"Leave this line blank"},{"$nulls":11},"",null,"","No",null,null,"No"]
[null,{"$f":"IF('Step 2 PO Calculator'!B41=\"Yes\",VLOOKUP('drop down'!$A$2,'Step 2 PO Calculator'!B41:D2040,3,FALSE),\"Leave this line blank\")","v":"Leave this line blank"},{"$nulls":11},"",null,"","No",null,null,"No"]
[null,{"$f":"IF('Step 2 PO Calculator'!B42=\"Yes\",VLOOKUP('drop down'!$A$2,'Step 2 PO Calculator'!B42:D2041,3,FALSE),\"Leave this line blank\")","v":"Leave this line blank"},{"$nulls":11},"",null,"","No",null,null,"No"]
[null,{"$f":"IF('Step 2 PO Calculator'!B43=\"Yes\",VLOOKUP('drop down'!$A$2,'Step 2 PO Calculator'!B43:D2042,3,FALSE),\"Leave this line blank\")","v":"Leave this line blank"},{"$nulls":11},"",null,"","No",null,null,"No"]
[null,{"$f":"IF('Step 2 PO Calculator'!B44=\"Yes\",VLOOKUP('drop down'!$A$2,'Step 2 PO Calculator'!B44:D2043,3,FALSE),\"Leave this line blank\")","v":"Leave this line blank"},{"$nulls":11},"",null,"","No",null,null,"No"]
[null,{"$f":"IF('Step 2 PO Calculator'!B45=\"Yes\",VLOOKUP('drop down'!$A$2,'Step 2 PO Calculator'!B45:D2044,3,FALSE),\"Leave this line blank\")","v":"Leave this line blank"},{"$nulls":11},"",null,"","No",null,null,"No"]
[null,{"$f":"IF('Step 2 PO Calculator'!B46=\"Yes\",VLOOKUP('drop down'!$A$2,'Step 2 PO Calculator'!B46:D2045,3,FALSE),\"Leave this line blank\")","v":"Leave this line blank"},{"$nulls":11},"",null,"","No",null,null,"No"]
[null,{"$f":"IF('Step 2 PO Calculator'!B47=\"Yes\",VLOOKUP('drop down'!$A$2,'Step 2 PO Calculator'!B47:D2046,3,FALSE),\"Leave this line blank\")","v":"Leave this line blank"},{"$nulls":11},"",null,"","No",null,null,"No"]
[null,{"$f":"IF('Step 2 PO Calculator'!B48=\"Yes\",VLOOKUP('drop down'!$A$2,'Step 2 PO Calculator'!B48:D2047,3,FALSE),\"Leave this line blank\")","v":"Leave this line blank"},{"$nulls":11},"",null,"","No",null,null,"No"]
[null,{"$f":"IF('Step 2 PO Calculator'!B49=\"Yes\",VLOOKUP('drop down'!$A$2,'Step 2 PO Calculator'!B49:D2048,3,FALSE),\"Leave this line blank\")","v":"Leave this line blank"},{"$nulls":11},"",null,"","No",null,null,"No"]
[null,{"$f":"IF('Step 2 PO Calculator'!B50=\"Yes\",VLOOKUP('drop down'!$A$2,'Step 2 PO Calculator'!B50:D2049,3,FALSE),\"Leave this line blank\")","v":"Leave this line blank"},{"$nulls":11},"",null,"","No",null,null,"No"]
[null,{"$f":"IF('Step 2 PO Calculator'!B51=\"Yes\",VLOOKUP('drop down'!$A$2,'Step 2 PO Calculator'!B51:D2050,3,FALSE),\"Leave this line blank\")","v":"Leave this line blank"},{"$nulls":11},"",null,"","No",null,null,"No"]
[null,{"$f":"IF('Step 2 PO Calculator'!B52=\"Yes\",VLOOKUP('drop down'!$A$2,'Step 2 PO Calculator'!B52:D2051,3,FALSE),\"Leave this line blank\")","v":"Leave this line blank"},{"$nulls":11},"",null,"","No",null,null,"No"]
[null,{"$f":"IF('Step 2 PO Calculator'!B53=\"Yes\",VLOOKUP('drop down'!$A$2,'Step 2 PO Calculator'!B53:D2052,3,FALSE),\"Leave this line blank\")","v":"Leave this line blank"},{"$nulls":11},"",null,"","No",null,null,"No"]
[null,{"$f":"IF('Step 2 PO Calculator'!B54=\"Yes\",VLOOKUP('drop down'!$A$2,'Step 2 PO Calculator'!B54:D2053,3,FALSE),\"Leave this line blank\")","v":"Leave this line blank"},{"$nulls":11},"",null,"","No",null,null,"No"]
[null,{"$f":"IF('Step 2 PO Calculator'!B55=\"Yes\",VLOOKUP('drop down'!$A$2,'Step 2 PO Calculator'!B55:D2054,3,FALSE),\"Leave this line blank\")","v":"Leave this line blank"},{"$nulls":11},"",null,"","No",null,null,"No"]
[null,{"$f":"IF('Step 2 PO Calculator'!B56=\"Yes\",VLOOKUP('drop down'!$A$2,'Step 2 PO Calculator'!B56:D2055,3,FALSE),\"Leave this line blank\")","v":"Leave this line blank"},{"$nulls":11},"",null,"","No",null,null,"No"]
[null,{"$f":"IF('Step 2 PO Calculator'!B57=\"Yes\",VLOOKUP('drop down'!$A$2,'Step 2 PO Calculator'!B57:D2056,3,FALSE),\"Leave this line blank\")","v":"Leave this line blank"},{"$nulls":11},"",null,"","No",null,null,"No"]
[null,{"$f":"IF('Step 2 PO Calculator'!B58=\"Yes\",VLOOKUP('drop down'!$A$2,'Step 2 PO Calculator'!B58:D2057,3,FALSE),\"Leave this line blank\")","v":"Leave this line blank"},{"$nulls":11},"",null,"","No",null,null,"No"]
[null,{"$f":"IF('Step 2 PO Calculator'!B59=\"Yes\",VLOOKUP('drop down'!$A$2,'Step 2 PO Calculator'!B59:D2058,3,FALSE),\"Leave this line blank\")","v":"Leave this line blank"},{"$nulls":11},"",null,"","No",null,null,"No"]
[null,{"$f":"IF('Step 2 PO Calculator'!B60=\"Yes\",VLOOKUP('drop down'!$A$2,'Step 2 PO Calculator'!B60:D2059,3,FALSE),\"Leave this line blank\")","v":"Leave this line blank"},{"$nulls":11},"",null,"","No",null,null,"No"]
[null,{"$f":"IF('Step 2 PO Calculator'!B61=\"Yes\",VLOOKUP('drop down'!$A$2,'Step 2 PO Calculator'!B61:D2060,3,FALSE),\"Leave this line blank\")","v":"Leave this line blank"},{"$nulls":11},"",null,"","No",null,null,"No"]
[null,{"$f":"IF('Step 2 PO Calculator'!B62=\"Yes\",VLOOKUP('drop down'!$A$2,'Step 2 PO Calculator'!B62:D2061,3,FALSE),\"Leave this line blank\")","v":"Leave this line blank"},{"$nulls":11},"",null,"","No",null,null,"No"]
[null,{"$f":"IF('Step 2 PO Calculator'!B63=\"Yes\",VLOOKUP('drop down'!$A$2,'Step 2 PO Calculator'!B63:D2062,3,FALSE),\"Leave this line blank\")","v":"Leave this line blank"},{"$nulls":11},"",null,"","No",null,null,"No"]
[null,{"$f":"IF('Step 2 PO Calculator'!B64=\"Yes\",VLOOKUP('drop down'!$A$2,'Step 2 PO Calculator'!B64:D2063,3,FALSE),\"Leave this line blank\")","v":"Leave this line blank"},{"$nulls":11},"",null,"","No",null,null,"No"]
[null,{"$f":"IF('Step 2 PO Calculator'!B65=\"Yes\",VLOOKUP('drop down'!$A$2,'Step 2 PO Calculator'!B65:D2064,3,FALSE),\"Leave this line blank\")","v":"Leave this line blank"},{"$nulls":11},"",null,"","No",null,null,"No"]
[null,{"$f":"IF('Step 2 PO Calculator'!B66=\"Yes\",VLOOKUP('drop down'!$A$2,'Step 2 PO Calculator'!B66:D2065,3,FALSE),\"Leave this line blank\")","v":"Leave this line blank"},{"$nulls":11},"",null,"","No",null,null,"No"]
[null,{"$f":"IF('Step 2 PO Calculator'!B67=\"Yes\",VLOOKUP('drop down'!$A$2,'Step 2 PO Calculator'!B67:D2066,3,FALSE),\"Leave this line blank\")","v":"Leave this line blank"},{"$nulls":11},"",null,"","No",null,null,"No"]
[null,{"$f":"IF('Step 2 PO Calculator'!B68=\"Yes\",VLOOKUP('drop down'!$A$2,'Step 2 PO Calculator'!B68:D2067,3,FALSE),\"Leave this line blank\")","v":"Leave this line blank"},{"$nulls":11},"",null,"","No",null,null,"No"]
[null,{"$f":"IF('Step 2 PO Calculator'!B69=\"Yes\",VLOOKUP('drop down'!$A$2,'Step 2 PO Calculator'!B69:D2068,3,FALSE),\"Leave this line blank\")","v":"Leave this line blank"},{"$nulls":11},"",null,"","No",null,null,"No"]
[null,{"$f":"IF('Step 2 PO Calculator'!B70=\"Yes\",VLOOKUP('drop down'!$A$2,'Step 2 PO Calculator'!B70:D2069,3,FALSE),\"Leave this line blank\")","v":"Leave this line blank"},{"$nulls":11},"",null,"","No",null,null,"No"]
[null,{"$f":"IF('Step 2 PO Calculator'!B71=\"Yes\",VLOOKUP('drop down'!$A$2,'Step 2 PO Calculator'!B71:D2070,3,FALSE),\"Leave this line blank\")","v":"Leave this line blank"},{"$nulls":11},"",null,"","No",null,null,"No"]
[null,{"$f":"IF('Step 2 PO Calculator'!B72=\"Yes\",VLOOKUP('drop down'!$A$2,'Step 2 PO Calculator'!B72:D2071,3,FALSE),\"Leave this line blank\")","v":"Leave this line blank"},{"$nulls":11},"",null,"","No",null,null,"No"]
[null,{"$f":"IF('Step 2 PO Calculator'!B73=\"Yes\",VLOOKUP('drop down'!$A$2,'Step 2 PO Calculator'!B73:D2072,3,FALSE),\"Leave this line blank\")","v":"Leave this line blank"},{"$nulls":11},"",null,"","No",null,null,"No"]
[null,{"$f":"IF('Step 2 PO Calculator'!B74=\"Yes\",VLOOKUP('drop down'!$A$2,'Step 2 PO Calculator'!B74:D2073,3,FALSE),\"Leave this line blank\")","v":"Leave this line blank"},{"$nulls":11},"",null,"","No",null,null,"No"]
[null,{"$f":"IF('Step 2 PO Calculator'!B75=\"Yes\",VLOOKUP('drop down'!$A$2,'Step 2 PO Calculator'!B75:D2074,3,FALSE),\"Leave this line blank\")","v":"Leave this line blank"},{"$nulls":11},"",null,"","No",null,null,"No"]
[null,{"$f":"IF('Step 2 PO Calculator'!B76=\"Yes\",VLOOKUP('drop down'!$A$2,'Step 2 PO Calculator'!B76:D2075,3,FALSE),\"Leave this line blank\")","v":"Leave this line blank"},{"$nulls":11},"",null,"","No",null,null,"No"]
[null,{"$f":"IF('Step 2 PO Calculator'!B77=\"Yes\",VLOOKUP('drop down'!$A$2,'Step 2 PO Calculator'!B77:D2076,3,FALSE),\"Leave this line blank\")","v":"Leave this line blank"},{"$nulls":11},"",null,"","No",null,null,"No"]
[null,{"$f":"IF('Step 2 PO Calculator'!B78=\"Yes\",VLOOKUP('drop down'!$A$2,'Step 2 PO Calculator'!B78:D2077,3,FALSE),\"Leave this line blank\")","v":"Leave this line blank"},{"$nulls":11},"",null,"","No",null,null,"No"]
[null,{"$f":"IF('Step 2 PO Calculator'!B79=\"Yes\",VLOOKUP('drop down'!$A$2,'Step 2 PO Calculator'!B79:D2078,3,FALSE),\"Leave this line blank\")","v":"Leave this line blank"},{"$nulls":11},"",null,"","No",null,null,"No"]
[null,{"$f":"IF('Step 2 PO Calculator'!B80=\"Yes\",VLOOKUP('drop down'!$A$2,'Step 2 PO Calculator'!B80:D2079,3,FALSE),\"Leave this line blank\")","v":"Leave this line blank"},{"$nulls":11},"",null,"","No",null,null,"No"]
[null,{"$f":"IF('Step 2 PO Calculator'!B81=\"Yes\",VLOOKUP('drop down'!$A$2,'Step 2 PO Calculator'!B81:D2080,3,FALSE),\"Leave this line blank\")","v":"Leave this line blank"},{"$nulls":11},"",null,"","No",null,null,"No"]
[null,{"$f":"IF('Step 2 PO Calculator'!B82=\"Yes\",VLOOKUP('drop down'!$A$2,'Step 2 PO Calculator'!B82:D2081,3,FALSE),\"Leave this line blank\")","v":"Leave this line blank"},{"$nulls":11},"",null,"","No",null,null,"No"]
[null,{"$f":"IF('Step 2 PO Calculator'!B83=\"Yes\",VLOOKUP('drop down'!$A$2,'Step 2 PO Calculator'!B83:D2082,3,FALSE),\"Leave this line blank\")","v":"Leave this line blank"},{"$nulls":11},{"$f":"IF(I78=\"\",\"\",IF(_xlfn.DAYS(I$8,I78)>=180,\"X\",\"\"))","v":""},null,{"$f":"IF(K78=\"\",\"\",IF(_xlfn.DAYS(K78,I$8)<0,\"\",\"X\"))","v":""},{"$f":"IF(AND(N78=\"X\",P78=\"X\"),\"Yes\",\"No\")","v":"No"},null,null,{"$f":"IF(AND(N78=\"X\",P78=\"X\",R78=\"Yes\"),\"Yes\",\"No\")","v":"No"}]
[null,{"$f":"IF('Step 2 PO Calculator'!B84=\"Yes\",VLOOKUP('drop down'!$A$2,'Step 2 PO Calculator'!B84:D2083,3,FALSE),\"Leave this line blank\")","v":"Leave this line blank"},{"$nulls":11},"",null,"","No",null,null,"No"]
[null,{"$f":"IF('Step 2 PO Calculator'!B85=\"Yes\",VLOOKUP('drop down'!$A$2,'Step 2 PO Calculator'!B85:D2084,3,FALSE),\"Leave this line blank\")","v":"Leave this line blank"},{"$nulls":11},"",null,"","No",null,null,"No"]
[null,{"$f":"IF('Step 2 PO Calculator'!B86=\"Yes\",VLOOKUP('drop down'!$A$2,'Step 2 PO Calculator'!B86:D2085,3,FALSE),\"Leave this line blank\")","v":"Leave this line blank"},{"$nulls":11},"",null,"","No",null,null,"No"]
[null,{"$f":"IF('Step 2 PO Calculator'!B87=\"Yes\",VLOOKUP('drop down'!$A$2,'Step 2 PO Calculator'!B87:D2086,3,FALSE),\"Leave this line blank\")","v":"Leave this line blank"},{"$nulls":11},"",null,"","No",null,null,"No"]
[null,{"$f":"IF('Step 2 PO Calculator'!B88=\"Yes\",VLOOKUP('drop down'!$A$2,'Step 2 PO Calculator'!B88:D2087,3,FALSE),\"Leave this line blank\")","v":"Leave this line blank"},{"$nulls":11},"",null,"","No",null,null,"No"]
[null,{"$f":"IF('Step 2 PO Calculator'!B89=\"Yes\",VLOOKUP('drop down'!$A$2,'Step 2 PO Calculator'!B89:D2088,3,FALSE),\"Leave this line blank\")","v":"Leave this line blank"},{"$nulls":11},"",null,"","No",null,null,"No"]
[null,{"$f":"IF('Step 2 PO Calculator'!B90=\"Yes\",VLOOKUP('drop down'!$A$2,'Step 2 PO Calculator'!B90:D2089,3,FALSE),\"Leave this line blank\")","v":"Leave this line blank"},{"$nulls":11},"",null,"","No",null,null,"No"]
[null,{"$f":"IF('Step 2 PO Calculator'!B91=\"Yes\",VLOOKUP('drop down'!$A$2,'Step 2 PO Calculator'!B91:D2090,3,FALSE),\"Leave this line blank\")","v":"Leave this line blank"},{"$nulls":11},"",null,"","No",null,null,"No"]
[null,{"$f":"IF('Step 2 PO Calculator'!B92=\"Yes\",VLOOKUP('drop down'!$A$2,'Step 2 PO Calculator'!B92:D2091,3,FALSE),\"Leave this line blank\")","v":"Leave this line blank"},{"$nulls":11},"",null,"","No",null,null,"No"]
[null,{"$f":"IF('Step 2 PO Calculator'!B93=\"Yes\",VLOOKUP('drop down'!$A$2,'Step 2 PO Calculator'!B93:D2092,3,FALSE),\"Leave this line blank\")","v":"Leave this line blank"},{"$nulls":11},"",null,"","No",null,null,"No"]
[null,{"$f":"IF('Step 2 PO Calculator'!B94=\"Yes\",VLOOKUP('drop down'!$A$2,'Step 2 PO Calculator'!B94:D2093,3,FALSE),\"Leave this line blank\")","v":"Leave this line blank"},{"$nulls":11},"",null,"","No",null,null,"No"]
[null,{"$f":"IF('Step 2 PO Calculator'!B95=\"Yes\",VLOOKUP('drop down'!$A$2,'Step 2 PO Calculator'!B95:D2094,3,FALSE),\"Leave this line blank\")","v":"Leave this line blank"},{"$nulls":11},"",null,"","No",null,null,"No"]
[null,{"$f":"IF('Step 2 PO Calculator'!B96=\"Yes\",VLOOKUP('drop down'!$A$2,'Step 2 PO Calculator'!B96:D2095,3,FALSE),\"Leave this line blank\")","v":"Leave this line blank"},{"$nulls":11},"",null,"","No",null,null,"No"]
[null,{"$f":"IF('Step 2 PO Calculator'!B97=\"Yes\",VLOOKUP('drop down'!$A$2,'Step 2 PO Calculator'!B97:D2096,3,FALSE),\"Leave this line blank\")","v":"Leave this line blank"},{"$nulls":11},"",null,"","No",null,null,"No"]
[null,{"$f":"IF('Step 2 PO Calculator'!B98=\"Yes\",VLOOKUP('drop down'!$A$2,'Step 2 PO Calculator'!B98:D2097,3,FALSE),\"Leave this line blank\")","v":"Leave this line blank"},{"$nulls":11},"",null,"","No",null,null,"No"]
[null,{"$f":"IF('Step 2 PO Calculator'!B99=\"Yes\",VLOOKUP('drop down'!$A$2,'Step 2 PO Calculator'!B99:D2098,3,FALSE),\"Leave this line blank\")","v":"Leave this line blank"},{"$nulls":11},"",null,"","No",null,null,"No"]
[null,{"$f":"IF('Step 2 PO Calculator'!B100=\"Yes\",VLOOKUP('drop down'!$A$2,'Step 2 PO Calculator'!B100:D2099,3,FALSE),\"Leave this line blank\")","v":"Leave this line blank"},{"$nulls":11},"",null,"","No",null,null,"No"]
[null,{"$f":"IF('Step 2 PO Calculator'!B101=\"Yes\",VLOOKUP('drop down'!$A$2,'Step 2 PO Calculator'!B101:D2100,3,FALSE),\"Leave this line blank\")","v":"Leave this line blank"},{"$nulls":11},"",null,"","No",null,null,"No"]
[null,{"$f":"IF('Step 2 PO Calculator'!B102=\"Yes\",VLOOKUP('drop down'!$A$2,'Step 2 PO Calculator'!B102:D2101,3,FALSE),\"Leave this line blank\")","v":"Leave this line blank"},{"$nulls":11},"",null,"","No",null,null,"No"]
[null,{"$f":"IF('Step 2 PO Calculator'!B103=\"Yes\",VLOOKUP('drop down'!$A$2,'Step 2 PO Calculator'!B103:D2102,3,FALSE),\"Leave this line blank\")","v":"Leave this line blank"},{"$nulls":11},"",null,"","No",null,null,"No"]
[null,{"$f":"IF('Step 2 PO Calculator'!B104=\"Yes\",VLOOKUP('drop down'!$A$2,'Step 2 PO Calculator'!B104:D2103,3,FALSE),\"Leave this line blank\")","v":"Leave this line blank"},{"$nulls":11},"",null,"","No",null,null,"No"]
[null,{"$f":"IF('Step 2 PO Calculator'!B105=\"Yes\",VLOOKUP('drop down'!$A$2,'Step 2 PO Calculator'!B105:D2104,3,FALSE),\"Leave this line blank\")","v":"Leave this line blank"},{"$nulls":11},"",null,"","No",null,null,"No"]
[null,{"$f":"IF('Step 2 PO Calculator'!B106=\"Yes\",VLOOKUP('drop down'!$A$2,'Step 2 PO Calculator'!B106:D2105,3,FALSE),\"Leave this line blank\")","v":"Leave this line blank"},{"$nulls":11},"",null,"","No",null,null,"No"]
[null,{"$f":"IF('Step 2 PO Calculator'!B107=\"Yes\",VLOOKUP('drop down'!$A$2,'Step 2 PO Calculator'!B107:D2106,3,FALSE),\"Leave this line blank\")","v":"Leave this line blank"},{"$nulls":11},"",null,"","No",null,null,"No"]
[null,{"$f":"IF('Step 2 PO Calculator'!B108=\"Yes\",VLOOKUP('drop down'!$A$2,'Step 2 PO Calculator'!B108:D2107,3,FALSE),\"Leave this line blank\")","v":"Leave this line blank"},{"$nulls":11},"",null,"","No",null,null,"No"]
[null,{"$f":"IF('Step 2 PO Calculator'!B109=\"Yes\",VLOOKUP('drop down'!$A$2,'Step 2 PO Calculator'!B109:D2108,3,FALSE),\"Leave this line blank\")","v":"Leave this line blank"},{"$nulls":11},"",null,"","No",null,null,"No"]
[null,{"$f":"IF('Step 2 PO Calculator'!B110=\"Yes\",VLOOKUP('drop down'!$A$2,'Step 2 PO Calculator'!B110:D2109,3,FALSE),\"Leave this line blank\")","v":"Leave this line blank"},{"$nulls":11},"",null,"","No",null,null,"No"]
[null,{"$f":"IF('Step 2 PO Calculator'!B111=\"Yes\",VLOOKUP('drop down'!$A$2,'Step 2 PO Calculator'!B111:D2110,3,FALSE),\"Leave this line blank\")","v":"Leave this line blank"},{"$nulls":11},"",null,"","No",null,null,"No"]
[null,{"$f":"IF('Step 2 PO Calculator'!B112=\"Yes\",VLOOKUP('drop down'!$A$2,'Step 2 PO Calculator'!B112:D2111,3,FALSE),\"Leave this line blank\")","v":"Leave this line blank"},{"$nulls":11},"",null,"","No",null,null,"No"]
[null,{"$f":"IF('Step 2 PO Calculator'!B113=\"Yes\",VLOOKUP('drop down'!$A$2,'Step 2 PO Calculator'!B113:D2112,3,FALSE),\"Leave this line blank\")","v":"Leave this line blank"},{"$nulls":11},"",null,"","No",null,null,"No"]
[null,{"$f":"IF('Step 2 PO Calculator'!B114=\"Yes\",VLOOKUP('drop down'!$A$2,'Step 2 PO Calculator'!B114:D2113,3,FALSE),\"Leave this line blank\")","v":"Leave this line blank"},{"$nulls":11},"",null,"","No",null,null,"No"]
[null,{"$f":"IF('Step 2 PO Calculator'!B115=\"Yes\",VLOOKUP('drop down'!$A$2,'Step 2 PO Calculator'!B115:D2114,3,FALSE),\"Leave this line blank\")","v":"Leave this line blank"},{"$nulls":11},"",null,"","No",null,null,"No"]
[null,{"$f":"IF('Step 2 PO Calculator'!B116=\"Yes\",VLOOKUP('drop down'!$A$2,'Step 2 PO Calculator'!B116:D2115,3,FALSE),\"Leave this line blank\")","v":"Leave this line blank"},{"$nulls":11},"",null,"","No",null,null,"No"]
[null,{"$f":"IF('Step 2 PO Calculator'!B117=\"Yes\",VLOOKUP('drop down'!$A$2,'Step 2 PO Calculator'!B117:D2116,3,FALSE),\"Leave this line blank\")","v":"Leave this line blank"},{"$nulls":11},"",null,"","No",null,null,"No"]
[null,{"$f":"IF('Step 2 PO Calculator'!B118=\"Yes\",VLOOKUP('drop down'!$A$2,'Step 2 PO Calculator'!B118:D2117,3,FALSE),\"Leave this line blank\")","v":"Leave this line blank"},{"$nulls":11},"",null,"","No",null,null,"No"]
[null,{"$f":"IF('Step 2 PO Calculator'!B119=\"Yes\",VLOOKUP('drop down'!$A$2,'Step 2 PO Calculator'!B119:D2118,3,FALSE),\"Leave this line blank\")","v":"Leave this line blank"},{"$nulls":11},"",null,"","No",null,null,"No"]
[null,{"$f":"IF('Step 2 PO Calculator'!B120=\"Yes\",VLOOKUP('drop down'!$A$2,'Step 2 PO Calculator'!B120:D2119,3,FALSE),\"Leave this line blank\")","v":"Leave this line blank"},{"$nulls":11},"",null,"","No",null,null,"No"]
[null,{"$f":"IF('Step 2 PO Calculator'!B121=\"Yes\",VLOOKUP('drop down'!$A$2,'Step 2 PO Calculator'!B121:D2120,3,FALSE),\"Leave this line blank\")","v":"Leave this line blank"},{"$nulls":11},"",null,"","No",null,null,"No"]
[null,{"$f":"IF('Step 2 PO Calculator'!B122=\"Yes\",VLOOKUP('drop down'!$A$2,'Step 2 PO Calculator'!B122:D2121,3,FALSE),\"Leave this line blank\")","v":"Leave this line blank"},{"$nulls":11},"",null,"","No",null,null,"No"]
[null,{"$f":"IF('Step 2 PO Calculator'!B123=\"Yes\",VLOOKUP('drop down'!$A$2,'Step 2 PO Calculator'!B123:D2122,3,FALSE),\"Leave this line blank\")","v":"Leave this line blank"},{"$nulls":11},"",null,"","No",null,null,"No"]
[null,{"$f":"IF('Step 2 PO Calculator'!B124=\"Yes\",VLOOKUP('drop down'!$A$2,'Step 2 PO Calculator'!B124:D2123,3,FALSE),\"Leave this line blank\")","v":"Leave this line blank"},{"$nulls":11},"",null,"","No",null,null,"No"]
[null,{"$f":"IF('Step 2 PO Calculator'!B125=\"Yes\",VLOOKUP('drop down'!$A$2,'Step 2 PO Calculator'!B125:D2124,3,FALSE),\"Leave this line blank\")","v":"Leave this line blank"},{"$nulls":11},"",null,"","No",null,null,"No"]
[null,{"$f":"IF('Step 2 PO Calculator'!B126=\"Yes\",VLOOKUP('drop down'!$A$2,'Step 2 PO Calculator'!B126:D2125,3,FALSE),\"Leave this line blank\")","v":"Leave this line blank"},{"$nulls":11},"",null,"","No",null,null,"No"]
[null,{"$f":"IF('Step 2 PO Calculator'!B127=\"Yes\",VLOOKUP('drop down'!$A$2,'Step 2 PO Calculator'!B127:D2126,3,FALSE),\"Leave this line blank\")","v":"Leave this line blank"},{"$nulls":11},"",null,"","No",null,null,"No"]
[null,{"$f":"IF('Step 2 PO Calculator'!B128=\"Yes\",VLOOKUP('drop down'!$A$2,'Step 2 PO Calculator'!B128:D2127,3,FALSE),\"Leave this line blank\")","v":"Leave this line blank"},{"$nulls":11},"",null,"","No",null,null,"No"]
[null,{"$f":"IF('Step 2 PO Calculator'!B129=\"Yes\",VLOOKUP('drop down'!$A$2,'Step 2 PO Calculator'!B129:D2128,3,FALSE),\"Leave this line blank\")","v":"Leave this line blank"},{"$nulls":11},"",null,"","No",null,null,"No"]
[null,{"$f":"IF('Step 2 PO Calculator'!B130=\"Yes\",VLOOKUP('drop down'!$A$2,'Step 2 PO Calculator'!B130:D2129,3,FALSE),\"Leave this line blank\")","v":"Leave this line blank"},{"$nulls":11},"",null,"","No",null,null,"No"]
[null,{"$f":"IF('Step 2 PO Calculator'!B131=\"Yes\",VLOOKUP('drop down'!$A$2,'Step 2 PO Calculator'!B131:D2130,3,FALSE),\"Leave this line blank\")","v":"Leave this line blank"},{"$nulls":11},"",null,"","No",null,null,"No"]
[null,{"$f":"IF('Step 2 PO Calculator'!B132=\"Yes\",VLOOKUP('drop down'!$A$2,'Step 2 PO Calculator'!B132:D2131,3,FALSE),\"Leave this line blank\")","v":"Leave this line blank"},{"$nulls":11},"",null,"","No",null,null,"No"]
[null,{"$f":"IF('Step 2 PO Calculator'!B133=\"Yes\",VLOOKUP('drop down'!$A$2,'Step 2 PO Calculator'!B133:D2132,3,FALSE),\"Leave this line blank\")","v":"Leave this line blank"},{"$nulls":11},"",null,"","No",null,null,"No"]
[null,{"$f":"IF('Step 2 PO Calculator'!B134=\"Yes\",VLOOKUP('drop down'!$A$2,'Step 2 PO Calculator'!B134:D2133,3,FALSE),\"Leave this line blank\")","v":"Leave this line blank"},{"$nulls":11},"",null,"","No",null,null,"No"]
[null,{"$f":"IF('Step 2 PO Calculator'!B135=\"Yes\",VLOOKUP('drop down'!$A$2,'Step 2 PO Calculator'!B135:D2134,3,FALSE),\"Leave this line blank\")","v":"Leave this line blank"},{"$nulls":11},"",null,"","No",null,null,"No"]
[null,{"$f":"IF('Step 2 PO Calculator'!B136=\"Yes\",VLOOKUP('drop down'!$A$2,'Step 2 PO Calculator'!B136:D2135,3,FALSE),\"Leave this line blank\")","v":"Leave this line blank"},{"$nulls":11},"",null,"","No",null,null,"No"]
[null,{"$f":"IF('Step 2 PO Calculator'!B137=\"Yes\",VLOOKUP('drop down'!$A$2,'Step 2 PO Calculator'!B137:D2136,3,FALSE),\"Leave this line blank\")","v":"Leave this line blank"},{"$nulls":11},"",null,"","No",null,null,"No"]
[null,{"$f":"IF('Step 2 PO Calculator'!B138=\"Yes\",VLOOKUP('drop down'!$A$2,'Step 2 PO Calculator'!B138:D2137,3,FALSE),\"Leave this line blank\")","v":"Leave this line blank"},{"$nulls":11},"",null,"","No",null,null,"No"]
[null,{"$f":"IF('Step 2 PO Calculator'!B139=\"Yes\",VLOOKUP('drop down'!$A$2,'Step 2 PO Calculator'!B139:D2138,3,FALSE),\"Leave this line blank\")","v":"Leave this line blank"},{"$nulls":11},"",null,"","No",null,null,"No"]
[null,{"$f":"IF('Step 2 PO Calculator'!B140=\"Yes\",VLOOKUP('drop down'!$A$2,'Step 2 PO Calculator'!B140:D2139,3,FALSE),\"Leave this line blank\")","v":"Leave this line blank"},{"$nulls":11},"",null,"","No",null,null,"No"]
[null,{"$f":"IF('Step 2 PO Calculator'!B141=\"Yes\",VLOOKUP('drop down'!$A$2,'Step 2 PO Calculator'!B141:D2140,3,FALSE),\"Leave this line blank\")","v":"Leave this line blank"},{"$nulls":11},"",null,"","No",null,null,"No"]
[null,{"$f":"IF('Step 2 PO Calculator'!B142=\"Yes\",VLOOKUP('drop down'!$A$2,'Step 2 PO Calculator'!B142:D2141,3,FALSE),\"Leave this line blank\")","v":"Leave this line blank"},{"$nulls":11},"",null,"","No",null,null,"No"]
[null,{"$f":"IF('Step 2 PO Calculator'!B143=\"Yes\",VLOOKUP('drop down'!$A$2,'Step 2 PO Calculator'!B143:D2142,3,FALSE),\"Leave this line blank\")","v":"Leave this line blank"},{"$nulls":11},"",null,"","No",null,null,"No"]
[null,{"$f":"IF('Step 2 PO Calculator'!B144=\"Yes\",VLOOKUP('drop down'!$A$2,'Step 2 PO Calculator'!B144:D2143,3,FALSE),\"Leave this line blank\")","v":"Leave this line blank"},{"$nulls":11},"",null,"","No",null,null,"No"]
[null,{"$f":"IF('Step 2 PO Calculator'!B145=\"Yes\",VLOOKUP('drop down'!$A$2,'Step 2 PO Calculator'!B145:D2144,3,FALSE),\"Leave this line blank\")","v":"Leave this line blank"},{"$nulls":11},"",null,"","No",null,null,"No"]
[null,{"$f":"IF('Step 2 PO Calculator'!B146=\"Yes\",VLOOKUP('drop down'!$A$2,'Step 2 PO Calculator'!B146:D2145,3,FALSE),\"Leave this line blank\")","v":"Leave this line blank"},{"$nulls":11},"",null,"","No",null,null,"No"]
[null,{"$f":"IF('Step 2 PO Calculator'!B147=\"Yes\",VLOOKUP('drop down'!$A$2,'Step 2 PO Calculator'!B147:D2146,3,FALSE),\"Leave this line blank\")","v":"Leave this line blank"},{"$nulls":11},{"$f":"IF(I142=\"\",\"\",IF(_xlfn.DAYS(I$8,I142)>=180,\"X\",\"\"))","v":""},null,{"$f":"IF(K142=\"\",\"\",IF(_xlfn.DAYS(K142,I$8)<0,\"\",\"X\"))","v":""},{"$f":"IF(AND(N142=\"X\",P142=\"X\"),\"Yes\",\"No\")","v":"No"},null,null,{"$f":"IF(AND(N142=\"X\",P142=\"X\",R142=\"Yes\"),\"Yes\",\"No\")","v":"No"}]
[null,{"$f":"IF('Step 2 PO Calculator'!B148=\"Yes\",VLOOKUP('drop down'!$A$2,'Step 2 PO Calculator'!B148:D2147,3,FALSE),\"Leave this line blank\")","v":"Leave this line blank"},{"$nulls":11},"",null,"","No",null,null,"No"]
[null,{"$f":"IF('Step 2 PO Calculator'!B149=\"Yes\",VLOOKUP('drop down'!$A$2,'Step 2 PO Calculator'!B149:D2148,3,FALSE),\"Leave this line blank\")","v":"Leave this line blank"},{"$nulls":11},"",null,"","No",null,null,"No"]
[null,{"$f":"IF('Step 2 PO Calculator'!B150=\"Yes\",VLOOKUP('drop down'!$A$2,'Step 2 PO Calculator'!B150:D2149,3,FALSE),\"Leave this line blank\")","v":"Leave this line blank"},{"$nulls":11},"",null,"","No",null,null,"No"]
[null,{"$f":"IF('Step 2 PO Calculator'!B151=\"Yes\",VLOOKUP('drop down'!$A$2,'Step 2 PO Calculator'!B151:D2150,3,FALSE),\"Leave this line blank\")","v":"Leave this line blank"},{"$nulls":11},"",null,"","No",null,null,"No"]
[null,{"$f":"IF('Step 2 PO Calculator'!B152=\"Yes\",VLOOKUP('drop down'!$A$2,'Step 2 PO Calculator'!B152:D2151,3,FALSE),\"Leave this line blank\")","v":"Leave this line blank"},{"$nulls":11},"",null,"","No",null,null,"No"]
[null,{"$f":"IF('Step 2 PO Calculator'!B153=\"Yes\",VLOOKUP('drop down'!$A$2,'Step 2 PO Calculator'!B153:D2152,3,FALSE),\"Leave this line blank\")","v":"Leave this line blank"},{"$nulls":11},"",null,"","No",null,null,"No"]
[null,{"$f":"IF('Step 2 PO Calculator'!B154=\"Yes\",VLOOKUP('drop down'!$A$2,'Step 2 PO Calculator'!B154:D2153,3,FALSE),\"Leave this line blank\")","v":"Leave this line blank"},{"$nulls":11},"",null,"","No",null,null,"No"]
[null,{"$f":"IF('Step 2 PO Calculator'!B155=\"Yes\",VLOOKUP('drop down'!$A$2,'Step 2 PO Calculator'!B155:D2154,3,FALSE),\"Leave this line blank\")","v":"Leave this line blank"},{"$nulls":11},"",null,"","No",null,null,"No"]
[null,{"$f":"IF('Step 2 PO Calculator'!B156=\"Yes\",VLOOKUP('drop down'!$A$2,'Step 2 PO Calculator'!B156:D2155,3,FALSE),\"Leave this line blank\")","v":"Leave this line blank"},{"$nulls":11},"",null,"","No",null,null,"No"]
[null,{"$f":"IF('Step 2 PO Calculator'!B157=\"Yes\",VLOOKUP('drop down'!$A$2,'Step 2 PO Calculator'!B157:D2156,3,FALSE),\"Leave this line blank\")","v":"Leave this line blank"},{"$nulls":11},"",null,"","No",null,null,"No"]
[null,{"$f":"IF('Step 2 PO Calculator'!B158=\"Yes\",VLOOKUP('drop down'!$A$2,'Step 2 PO Calculator'!B158:D2157,3,FALSE),\"Leave this line blank\")","v":"Leave this line blank"},{"$nulls":11},"",null,"","No",null,null,"No"]
[null,{"$f":"IF('Step 2 PO Calculator'!B159=\"Yes\",VLOOKUP('drop down'!$A$2,'Step 2 PO Calculator'!B159:D2158,3,FALSE),\"Leave this line blank\")","v":"Leave this line blank"},{"$nulls":11},"",null,"","No",null,null,"No"]
[null,{"$f":"IF('Step 2 PO Calculator'!B160=\"Yes\",VLOOKUP('drop down'!$A$2,'Step 2 PO Calculator'!B160:D2159,3,FALSE),\"Leave this line blank\")","v":"Leave this line blank"},{"$nulls":11},"",null,"","No",null,null,"No"]
[null,{"$f":"IF('Step 2 PO Calculator'!B161=\"Yes\",VLOOKUP('drop down'!$A$2,'Step 2 PO Calculator'!B161:D2160,3,FALSE),\"Leave this line blank\")","v":"Leave this line blank"},{"$nulls":11},"",null,"","No",null,null,"No"]
[null,{"$f":"IF('Step 2 PO Calculator'!B162=\"Yes\",VLOOKUP('drop down'!$A$2,'Step 2 PO Calculator'!B162:D2161,3,FALSE),\"Leave this line blank\")","v":"Leave this line blank"},{"$nulls":11},"",null,"","No",null,null,"No"]
[null,{"$f":"IF('Step 2 PO Calculator'!B163=\"Yes\",VLOOKUP('drop down'!$A$2,'Step 2 PO Calculator'!B163:D2162,3,FALSE),\"Leave this line blank\")","v":"Leave this line blank"},{"$nulls":11},"",null,"","No",null,null,"No"]
[null,{"$f":"IF('Step 2 PO Calculator'!B164=\"Yes\",VLOOKUP('drop down'!$A$2,'Step 2 PO Calculator'!B164:D2163,3,FALSE),\"Leave this line blank\")","v":"Leave this line blank"},{"$nulls":11},"",null,"","No",null,null,"No"]
[null,{"$f":"IF('Step 2 PO Calculator'!B165=\"Yes\",VLOOKUP('drop down'!$A$2,'Step 2 PO Calculator'!B165:D2164,3,FALSE),\"Leave this line blank\")","v":"Leave this line blank"},{"$nulls":11},"",null,"","No",null,null,"No"]
[null,{"$f":"IF('Step 2 PO Calculator'!B166=\"Yes\",VLOOKUP('drop down'!$A$2,'Step 2 PO Calculator'!B166:D2165,3,FALSE),\"Leave this line blank\")","v":"Leave this line blank"},{"$nulls":11},"",null,"","No",null,null,"No"]
[null,{"$f":"IF('Step 2 PO Calculator'!B167=\"Yes\",VLOOKUP('drop down'!$A$2,'Step 2 PO Calculator'!B167:D2166,3,FALSE),\"Leave this line blank\")","v":"Leave this line blank"},{"$nulls":11},"",null,"","No",null,null,"No"]
[null,{"$f":"IF('Step 2 PO Calculator'!B168=\"Yes\",VLOOKUP('drop down'!$A$2,'Step 2 PO Calculator'!B168:D2167,3,FALSE),\"Leave this line blank\")","v":"Leave this line blank"},{"$nulls":11},"",null,"","No",null,null,"No"]
[null,{"$f":"IF('Step 2 PO Calculator'!B169=\"Yes\",VLOOKUP('drop down'!$A$2,'Step 2 PO Calculator'!B169:D2168,3,FALSE),\"Leave this line blank\")","v":"Leave this line blank"},{"$nulls":11},"",null,"","No",null,null,"No"]
[null,{"$f":"IF('Step 2 PO Calculator'!B170=\"Yes\",VLOOKUP('drop down'!$A$2,'Step 2 PO Calculator'!B170:D2169,3,FALSE),\"Leave this line blank\")","v":"Leave this line blank"},{"$nulls":11},"",null,"","No",null,null,"No"]
[null,{"$f":"IF('Step 2 PO Calculator'!B171=\"Yes\",VLOOKUP('drop down'!$A$2,'Step 2 PO Calculator'!B171:D2170,3,FALSE),\"Leave this line blank\")","v":"Leave this line blank"},{"$nulls":11},"",null,"","No",null,null,"No"]
[null,{"$f":"IF('Step 2 PO Calculator'!B172=\"Yes\",VLOOKUP('drop down'!$A$2,'Step 2 PO Calculator'!B172:D2171,3,FALSE),\"Leave this line blank\")","v":"Leave this line blank"},{"$nulls":11},"",null,"","No",null,null,"No"]
[null,{"$f":"IF('Step 2 PO Calculator'!B173=\"Yes\",VLOOKUP('drop down'!$A$2,'Step 2 PO Calculator'!B173:D2172,3,FALSE),\"Leave this line blank\")","v":"Leave this line blank"},{"$nulls":11},"",null,"","No",null,null,"No"]
[null,{"$f":"IF('Step 2 PO Calculator'!B174=\"Yes\",VLOOKUP('drop down'!$A$2,'Step 2 PO Calculator'!B174:D2173,3,FALSE),\"Leave this line blank\")","v":"Leave this line blank"},{"$nulls":11},"",null,"","No",null,null,"No"]
[null,{"$f":"IF('Step 2 PO Calculator'!B175=\"Yes\",VLOOKUP('drop down'!$A$2,'Step 2 PO Calculator'!B175:D2174,3,FALSE),\"Leave this line blank\")","v":"Leave this line blank"},{"$nulls":11},"",null,"","No",null,null,"No"]
[null,{"$f":"IF('Step 2 PO Calculator'!B176=\"Yes\",VLOOKUP('drop down'!$A$2,'Step 2 PO Calculator'!B176:D2175,3,FALSE),\"Leave this line blank\")","v":"Leave this line blank"},{"$nulls":11},"",null,"","No",null,null,"No"]
[null,{"$f":"IF('Step 2 PO Calculator'!B177=\"Yes\",VLOOKUP('drop down'!$A$2,'Step 2 PO Calculator'!B177:D2176,3,FALSE),\"Leave this line blank\")","v":"Leave this line blank"},{"$nulls":11},"",null,"","No",null,null,"No"]
[null,{"$f":"IF('Step 2 PO Calculator'!B178=\"Yes\",VLOOKUP('drop down'!$A$2,'Step 2 PO Calculator'!B178:D2177,3,FALSE),\"Leave this line blank\")","v":"Leave this line blank"},{"$nulls":11},"",null,"","No",null,null,"No"]
[null,{"$f":"IF('Step 2 PO Calculator'!B179=\"Yes\",VLOOKUP('drop down'!$A$2,'Step 2 PO Calculator'!B179:D2178,3,FALSE),\"Leave this line blank\")","v":"Leave this line blank"},{"$nulls":11},"",null,"","No",null,null,"No"]
[null,{"$f":"IF('Step 2 PO Calculator'!B180=\"Yes\",VLOOKUP('drop down'!$A$2,'Step 2 PO Calculator'!B180:D2179,3,FALSE),\"Leave this line blank\")","v":"Leave this line blank"},{"$nulls":11},"",null,"","No",null,null,"No"]
[null,{"$f":"IF('Step 2 PO Calculator'!B181=\"Yes\",VLOOKUP('drop down'!$A$2,'Step 2 PO Calculator'!B181:D2180,3,FALSE),\"Leave this line blank\")","v":"Leave this line blank"},{"$nulls":11},"",null,"","No",null,null,"No"]
[null,{"$f":"IF('Step 2 PO Calculator'!B182=\"Yes\",VLOOKUP('drop down'!$A$2,'Step 2 PO Calculator'!B182:D2181,3,FALSE),\"Leave this line blank\")","v":"Leave this line blank"},{"$nulls":11},"",null,"","No",null,null,"No"]
[null,{"$f":"IF('Step 2 PO Calculator'!B183=\"Yes\",VLOOKUP('drop down'!$A$2,'Step 2 PO Calculator'!B183:D2182,3,FALSE),\"Leave this line blank\")","v":"Leave this line blank"},{"$nulls":11},"",null,"","No",null,null,"No"]
[null,{"$f":"IF('Step 2 PO Calculator'!B184=\"Yes\",VLOOKUP('drop down'!$A$2,'Step 2 PO Calculator'!B184:D2183,3,FALSE),\"Leave this line blank\")","v":"Leave this line blank"},{"$nulls":11},"",null,"","No",null,null,"No"]
[null,{"$f":"IF('Step 2 PO Calculator'!B185=\"Yes\",VLOOKUP('drop down'!$A$2,'Step 2 PO Calculator'!B185:D2184,3,FALSE),\"Leave this line blank\")","v":"Leave this line blank"},{"$nulls":11},"",null,"","No",null,null,"No"]
[null,{"$f":"IF('Step 2 PO Calculator'!B186=\"Yes\",VLOOKUP('drop down'!$A$2,'Step 2 PO Calculator'!B186:D2185,3,FALSE),\"Leave this line blank\")","v":"Leave this line blank"},{"$nulls":11},"",null,"","No",null,null,"No"]
[null,{"$f":"IF('Step 2 PO Calculator'!B187=\"Yes\",VLOOKUP('drop down'!$A$2,'Step 2 PO Calculator'!B187:D2186,3,FALSE),\"Leave this line blank\")","v":"Leave this line blank"},{"$nulls":11},"",null,"","No",null,null,"No"]
[null,{"$f":"IF('Step 2 PO Calculator'!B188=\"Yes\",VLOOKUP('drop down'!$A$2,'Step 2 PO Calculator'!B188:D2187,3,FALSE),\"Leave this line blank\")","v":"Leave this line blank"},{"$nulls":11},"",null,"","No",null,null,"No"]
[null,{"$f":"IF('Step 2 PO Calculator'!B189=\"Yes\",VLOOKUP('drop down'!$A$2,'Step 2 PO Calculator'!B189:D2188,3,FALSE),\"Leave this line blank\")","v":"Leave this line blank"},{"$nulls":11},"",null,"","No",null,null,"No"]
[null,{"$f":"IF('Step 2 PO Calculator'!B190=\"Yes\",VLOOKUP('drop down'!$A$2,'Step 2 PO Calculator'!B190:D2189,3,FALSE),\"Leave this line blank\")","v":"Leave this line blank"},{"$nulls":11},"",null,"","No",null,null,"No"]
[null,{"$f":"IF('Step 2 PO Calculator'!B191=\"Yes\",VLOOKUP('drop down'!$A$2,'Step 2 PO Calculator'!B191:D2190,3,FALSE),\"Leave this line blank\")","v":"Leave this line blank"},{"$nulls":11},"",null,"","No",null,null,"No"]
[null,{"$f":"IF('Step 2 PO Calculator'!B192=\"Yes\",VLOOKUP('drop down'!$A$2,'Step 2 PO Calculator'!B192:D2191,3,FALSE),\"Leave this line blank\")","v":"Leave this line blank"},{"$nulls":11},"",null,"","No",null,null,"No"]
[null,{"$f":"IF('Step 2 PO Calculator'!B193=\"Yes\",VLOOKUP('drop down'!$A$2,'Step 2 PO Calculator'!B193:D2192,3,FALSE),\"Leave this line blank\")","v":"Leave this line blank"},{"$nulls":11},"",null,"","No",null,null,"No"]
[null,{"$f":"IF('Step 2 PO Calculator'!B194=\"Yes\",VLOOKUP('drop down'!$A$2,'Step 2 PO Calculator'!B194:D2193,3,FALSE),\"Leave this line blank\")","v":"Leave this line blank"},{"$nulls":11},"",null,"","No",null,null,"No"]
[null,{"$f":"IF('Step 2 PO Calculator'!B195=\"Yes\",VLOOKUP('drop down'!$A$2,'Step 2 PO Calculator'!B195:D2194,3,FALSE),\"Leave this line blank\")","v":"Leave this line blank"},{"$nulls":11},"",null,"","No",null,null,"No"]
[null,{"$f":"IF('Step 2 PO Calculator'!B196=\"Yes\",VLOOKUP('drop down'!$A$2,'Step 2 PO Calculator'!B196:D2195,3,FALSE),\"Leave this line blank\")","v":"Leave this line blank"},{"$nulls":11},"",null,"","No",null,null,"No"]
[null,{"$f":"IF('Step 2 PO Calculator'!B197=\"Yes\",VLOOKUP('drop down'!$A$2,'Step 2 PO Calculator'!B197:D2196,3,FALSE),\"Leave this line blank\")","v":"Leave this line blank"},{"$nulls":11},"",null,"","No",null,null,"No"]
[null,{"$f":"IF('Step 2 PO Calculator'!B198=\"Yes\",VLOOKUP('drop down'!$A$2,'Step 2 PO Calculator'!B198:D2197,3,FALSE),\"Leave this line blank\")","v":"Leave this line blank"},{"$nulls":11},"",null,"","No",null,null,"No"]
[null,{"$f":"IF('Step 2 PO Calculator'!B199=\"Yes\",VLOOKUP('drop down'!$A$2,'Step 2 PO Calculator'!B199:D2198,3,FALSE),\"Leave this line blank\")","v":"Leave this line blank"},{"$nulls":11},"",null,"","No",null,null,"No"]
[null,{"$f":"IF('Step 2 PO Calculator'!B200=\"Yes\",VLOOKUP('drop down'!$A$2,'Step 2 PO Calculator'!B200:D2199,3,FALSE),\"Leave this line blank\")","v":"Leave this line blank"},{"$nulls":11},"",null,"","No",null,null,"No"]
[null,{"$f":"IF('Step 2 PO Calculator'!B201=\"Yes\",VLOOKUP('drop down'!$A$2,'Step 2 PO Calculator'!B201:D2200,3,FALSE),\"Leave this line blank\")","v":"Leave this line blank"},{"$nulls":11},"",null,"","No",null,null,"No"]
[null,{"$f":"IF('Step 2 PO Calculator'!B202=\"Yes\",VLOOKUP('drop down'!$A$2,'Step 2 PO Calculator'!B202:D2201,3,FALSE),\"Leave this line blank\")","v":"Leave this line blank"},{"$nulls":11},"",null,"","No",null,null,"No"]
[null,{"$f":"IF('Step 2 PO Calculator'!B203=\"Yes\",VLOOKUP('drop down'!$A$2,'Step 2 PO Calculator'!B203:D2202,3,FALSE),\"Leave this line blank\")","v":"Leave this line blank"},{"$nulls":11},"",null,"","No",null,null,"No"]
[null,{"$f":"IF('Step 2 PO Calculator'!B204=\"Yes\",VLOOKUP('drop down'!$A$2,'Step 2 PO Calculator'!B204:D2203,3,FALSE),\"Leave this line blank\")","v":"Leave this line blank"},{"$nulls":11},"",null,"","No",null,null,"No"]
[null,{"$f":"IF('Step 2 PO Calculator'!B205=\"Yes\",VLOOKUP('drop down'!$A$2,'Step 2 PO Calculator'!B205:D2204,3,FALSE),\"Leave this line blank\")","v":"Leave this line blank"},{"$nulls":11},"",null,"","No",null,null,"No"]
[null,{"$f":"IF('Step 2 PO Calculator'!B206=\"Yes\",VLOOKUP('drop down'!$A$2,'Step 2 PO Calculator'!B206:D2205,3,FALSE),\"Leave this line blank\")","v":"Leave this line blank"},{"$nulls":11},"",null,"","No",null,null,"No"]
[null,{"$f":"IF('Step 2 PO Calculator'!B207=\"Yes\",VLOOKUP('drop down'!$A$2,'Step 2 PO Calculator'!B207:D2206,3,FALSE),\"Leave this line blank\")","v":"Leave this line blank"},{"$nulls":11},"",null,"","No",null,null,"No"]
[null,{"$f":"IF('Step 2 PO Calculator'!B208=\"Yes\",VLOOKUP('drop down'!$A$2,'Step 2 PO Calculator'!B208:D2207,3,FALSE),\"Leave this line blank\")","v":"Leave this line blank"},{"$nulls":11},"",null,"","No",null,null,"No"]
[null,{"$f":"IF('Step 2 PO Calculator'!B209=\"Yes\",VLOOKUP('drop down'!$A$2,'Step 2 PO Calculator'!B209:D2208,3,FALSE),\"Leave this line blank\")","v":"Leave this line blank"},{"$nulls":11},"",null,"","No",null,null,"No"]
[null,{"$f":"IF('Step 2 PO Calculator'!B210=\"Yes\",VLOOKUP('drop down'!$A$2,'Step 2 PO Calculator'!B210:D2209,3,FALSE),\"Leave this line blank\")","v":"Leave this line blank"},{"$nulls":11},"",null,"","No",null,null,"No"]
[null,{"$f":"IF('Step 2 PO Calculator'!B211=\"Yes\",VLOOKUP('drop down'!$A$2,'Step 2 PO Calculator'!B211:D2210,3,FALSE),\"Leave this line blank\")","v":"Leave this line blank"},{"$nulls":11},{"$f":"IF(I206=\"\",\"\",IF(_xlfn.DAYS(I$8,I206)>=180,\"X\",\"\"))","v":""},null,{"$f":"IF(K206=\"\",\"\",IF(_xlfn.DAYS(K206,I$8)<0,\"\",\"X\"))","v":""},{"$f":"IF(AND(N206=\"X\",P206=\"X\"),\"Yes\",\"No\")","v":"No"},null,null,{"$f":"IF(AND(N206=\"X\",P206=\"X\",R206=\"Yes\"),\"Yes\",\"No\")","v":"No"}]
[null,{"$f":"IF('Step 2 PO Calculator'!B212=\"Yes\",VLOOKUP('drop down'!$A$2,'Step 2 PO Calculator'!B212:D2211,3,FALSE),\"Leave this line blank\")","v":"Leave this line blank"},{"$nulls":11},"",null,"","No",null,null,"No"]
[null,{"$f":"IF('Step 2 PO Calculator'!B213=\"Yes\",VLOOKUP('drop down'!$A$2,'Step 2 PO Calculator'!B213:D2212,3,FALSE),\"Leave this line blank\")","v":"Leave this line blank"},{"$nulls":11},"",null,"","No",null,null,"No"]
[null,{"$f":"IF('Step 2 PO Calculator'!B214=\"Yes\",VLOOKUP('drop down'!$A$2,'Step 2 PO Calculator'!B214:D2213,3,FALSE),\"Leave this line blank\")","v":"Leave this line blank"},{"$nulls":11},"",null,"","No",null,null,"No"]
[null,{"$f":"IF('Step 2 PO Calculator'!B215=\"Yes\",VLOOKUP('drop down'!$A$2,'Step 2 PO Calculator'!B215:D2214,3,FALSE),\"Leave this line blank\")","v":"Leave this line blank"},{"$nulls":11},"",null,"","No",null,null,"No"]
[null,{"$f":"IF('Step 2 PO Calculator'!B216=\"Yes\",VLOOKUP('drop down'!$A$2,'Step 2 PO Calculator'!B216:D2215,3,FALSE),\"Leave this line blank\")","v":"Leave this line blank"},{"$nulls":11},"",null,"","No",null,null,"No"]
[null,{"$f":"IF('Step 2 PO Calculator'!B217=\"Yes\",VLOOKUP('drop down'!$A$2,'Step 2 PO Calculator'!B217:D2216,3,FALSE),\"Leave this line blank\")","v":"Leave this line blank"},{"$nulls":11},"",null,"","No",null,null,"No"]
[null,{"$f":"IF('Step 2 PO Calculator'!B218=\"Yes\",VLOOKUP('drop down'!$A$2,'Step 2 PO Calculator'!B218:D2217,3,FALSE),\"Leave this line blank\")","v":"Leave this line blank"},{"$nulls":11},"",null,"","No",null,null,"No"]
[null,{"$f":"IF('Step 2 PO Calculator'!B219=\"Yes\",VLOOKUP('drop down'!$A$2,'Step 2 PO Calculator'!B219:D2218,3,FALSE),\"Leave this line blank\")","v":"Leave this line blank"},{"$nulls":11},"",null,"","No",null,null,"No"]
[null,{"$f":"IF('Step 2 PO Calculator'!B220=\"Yes\",VLOOKUP('drop down'!$A$2,'Step 2 PO Calculator'!B220:D2219,3,FALSE),\"Leave this line blank\")","v":"Leave this line blank"},{"$nulls":11},"",null,"","No",null,null,"No"]
[null,{"$f":"IF('Step 2 PO Calculator'!B221=\"Yes\",VLOOKUP('drop down'!$A$2,'Step 2 PO Calculator'!B221:D2220,3,FALSE),\"Leave this line blank\")","v":"Leave this line blank"},{"$nulls":11},"",null,"","No",null,null,"No"]
[null,{"$f":"IF('Step 2 PO Calculator'!B222=\"Yes\",VLOOKUP('drop down'!$A$2,'Step 2 PO Calculator'!B222:D2221,3,FALSE),\"Leave this line blank\")","v":"Leave this line blank"},{"$nulls":11},"",null,"","No",null,null,"No"]
[null,{"$f":"IF('Step 2 PO Calculator'!B223=\"Yes\",VLOOKUP('drop down'!$A$2,'Step 2 PO Calculator'!B223:D2222,3,FALSE),\"Leave this line blank\")","v":"Leave this line blank"},{"$nulls":11},"",null,"","No",null,null,"No"]
[null,{"$f":"IF('Step 2 PO Calculator'!B224=\"Yes\",VLOOKUP('drop down'!$A$2,'Step 2 PO Calculator'!B224:D2223,3,FALSE),\"Leave this line blank\")","v":"Leave this line blank"},{"$nulls":11},"",null,"","No",null,null,"No"]
[null,{"$f":"IF('Step 2 PO Calculator'!B225=\"Yes\",VLOOKUP('drop down'!$A$2,'Step 2 PO Calculator'!B225:D2224,3,FALSE),\"Leave this line blank\")","v":"Leave this line blank"},{"$nulls":11},"",null,"","No",null,null,"No"]
[null,{"$f":"IF('Step 2 PO Calculator'!B226=\"Yes\",VLOOKUP('drop down'!$A$2,'Step 2 PO Calculator'!B226:D2225,3,FALSE),\"Leave this line blank\")","v":"Leave this line blank"},{"$nulls":11},"",null,"","No",null,null,"No"]
[null,{"$f":"IF('Step 2 PO Calculator'!B227=\"Yes\",VLOOKUP('drop down'!$A$2,'Step 2 PO Calculator'!B227:D2226,3,FALSE),\"Leave this line blank\")","v":"Leave this line blank"},{"$nulls":11},"",null,"","No",null,null,"No"]
[null,{"$f":"IF('Step 2 PO Calculator'!B228=\"Yes\",VLOOKUP('drop down'!$A$2,'Step 2 PO Calculator'!B228:D2227,3,FALSE),\"Leave this line blank\")","v":"Leave this line blank"},{"$nulls":11},"",null,"","No",null,null,"No"]
[null,{"$f":"IF('Step 2 PO Calculator'!B229=\"Yes\",VLOOKUP('drop down'!$A$2,'Step 2 PO Calculator'!B229:D2228,3,FALSE),\"Leave this line blank\")","v":"Leave this line blank"},{"$nulls":11},"",null,"","No",null,null,"No"]
[null,{"$f":"IF('Step 2 PO Calculator'!B230=\"Yes\",VLOOKUP('drop down'!$A$2,'Step 2 PO Calculator'!B230:D2229,3,FALSE),\"Leave this line blank\")","v":"Leave this line blank"},{"$nulls":11},"",null,"","No",null,null,"No"]
[null,{"$f":"IF('Step 2 PO Calculator'!B231=\"Yes\",VLOOKUP('drop down'!$A$2,'Step 2 PO Calculator'!B231:D2230,3,FALSE),\"Leave this line blank\")","v":"Leave this line blank"},{"$nulls":11},"",null,"","No",null,null,"No"]
[null,{"$f":"IF('Step 2 PO Calculator'!B232=\"Yes\",VLOOKUP('drop down'!$A$2,'Step 2 PO Calculator'!B232:D2231,3,FALSE),\"Leave this line blank\")","v":"Leave this line blank"},{"$nulls":11},"",null,"","No",null,null,"No"]
[null,{"$f":"IF('Step 2 PO Calculator'!B233=\"Yes\",VLOOKUP('drop down'!$A$2,'Step 2 PO Calculator'!B233:D2232,3,FALSE),\"Leave this line blank\")","v":"Leave this line blank"},{"$nulls":11},"",null,"","No",null,null,"No"]
[null,{"$f":"IF('Step 2 PO Calculator'!B234=\"Yes\",VLOOKUP('drop down'!$A$2,'Step 2 PO Calculator'!B234:D2233,3,FALSE),\"Leave this line blank\")","v":"Leave this line blank"},{"$nulls":11},"",null,"","No",null,null,"No"]
[null,{"$f":"IF('Step 2 PO Calculator'!B235=\"Yes\",VLOOKUP('drop down'!$A$2,'Step 2 PO Calculator'!B235:D2234,3,FALSE),\"Leave this line blank\")","v":"Leave this line blank"},{"$nulls":11},"",null,"","No",null,null,"No"]
[null,{"$f":"IF('Step 2 PO Calculator'!B236=\"Yes\",VLOOKUP('drop down'!$A$2,'Step 2 PO Calculator'!B236:D2235,3,FALSE),\"Leave this line blank\")","v":"Leave this line blank"},{"$nulls":11},"",null,"","No",null,null,"No"]
[null,{"$f":"IF('Step 2 PO Calculator'!B237=\"Yes\",VLOOKUP('drop down'!$A$2,'Step 2 PO Calculator'!B237:D2236,3,FALSE),\"Leave this line blank\")","v":"Leave this line blank"},{"$nulls":11},"",null,"","No",null,null,"No"]
[null,{"$f":"IF('Step 2 PO Calculator'!B238=\"Yes\",VLOOKUP('drop down'!$A$2,'Step 2 PO Calculator'!B238:D2237,3,FALSE),\"Leave this line blank\")","v":"Leave this line blank"},{"$nulls":11},"",null,"","No",null,null,"No"]
[null,{"$f":"IF('Step 2 PO Calculator'!B239=\"Yes\",VLOOKUP('drop down'!$A$2,'Step 2 PO Calculator'!B239:D2238,3,FALSE),\"Leave this line blank\")","v":"Leave this line blank"},{"$nulls":11},"",null,"","No",null,null,"No"]
[null,{"$f":"IF('Step 2 PO Calculator'!B240=\"Yes\",VLOOKUP('drop down'!$A$2,'Step 2 PO Calculator'!B240:D2239,3,FALSE),\"Leave this line blank\")","v":"Leave this line blank"},{"$nulls":11},"",null,"","No",null,null,"No"]
[null,{"$f":"IF('Step 2 PO Calculator'!B241=\"Yes\",VLOOKUP('drop down'!$A$2,'Step 2 PO Calculator'!B241:D2240,3,FALSE),\"Leave this line blank\")","v":"Leave this line blank"},{"$nulls":11},"",null,"","No",null,null,"No"]
[null,{"$f":"IF('Step 2 PO Calculator'!B242=\"Yes\",VLOOKUP('drop down'!$A$2,'Step 2 PO Calculator'!B242:D2241,3,FALSE),\"Leave this line blank\")","v":"Leave this line blank"},{"$nulls":11},"",null,"","No",null,null,"No"]
[null,{"$f":"IF('Step 2 PO Calculator'!B243=\"Yes\",VLOOKUP('drop down'!$A$2,'Step 2 PO Calculator'!B243:D2242,3,FALSE),\"Leave this line blank\")","v":"Leave this line blank"},{"$nulls":11},"",null,"","No",null,null,"No"]
[null,{"$f":"IF('Step 2 PO Calculator'!B244=\"Yes\",VLOOKUP('drop down'!$A$2,'Step 2 PO Calculator'!B244:D2243,3,FALSE),\"Leave this line blank\")","v":"Leave this line blank"},{"$nulls":11},"",null,"","No",null,null,"No"]
[null,{"$f":"IF('Step 2 PO Calculator'!B245=\"Yes\",VLOOKUP('drop down'!$A$2,'Step 2 PO Calculator'!B245:D2244,3,FALSE),\"Leave this line blank\")","v":"Leave this line blank"},{"$nulls":11},"",null,"","No",null,null,"No"]
[null,{"$f":"IF('Step 2 PO Calculator'!B246=\"Yes\",VLOOKUP('drop down'!$A$2,'Step 2 PO Calculator'!B246:D2245,3,FALSE),\"Leave this line blank\")","v":"Leave this line blank"},{"$nulls":11},"",null,"","No",null,null,"No"]
[null,{"$f":"IF('Step 2 PO Calculator'!B247=\"Yes\",VLOOKUP('drop down'!$A$2,'Step 2 PO Calculator'!B247:D2246,3,FALSE),\"Leave this line blank\")","v":"Leave this line blank"},{"$nulls":11},"",null,"","No",null,null,"No"]
[null,{"$f":"IF('Step 2 PO Calculator'!B248=\"Yes\",VLOOKUP('drop down'!$A$2,'Step 2 PO Calculator'!B248:D2247,3,FALSE),\"Leave this line blank\")","v":"Leave this line blank"},{"$nulls":11},"",null,"","No",null,null,"No"]
[null,{"$f":"IF('Step 2 PO Calculator'!B249=\"Yes\",VLOOKUP('drop down'!$A$2,'Step 2 PO Calculator'!B249:D2248,3,FALSE),\"Leave this line blank\")","v":"Leave this line blank"},{"$nulls":11},"",null,"","No",null,null,"No"]
[null,{"$f":"IF('Step 2 PO Calculator'!B250=\"Yes\",VLOOKUP('drop down'!$A$2,'Step 2 PO Calculator'!B250:D2249,3,FALSE),\"Leave this line blank\")","v":"Leave this line blank"},{"$nulls":11},"",null,"","No",null,null,"No"]
[null,{"$f":"IF('Step 2 PO Calculator'!B251=\"Yes\",VLOOKUP('drop down'!$A$2,'Step 2 PO Calculator'!B251:D2250,3,FALSE),\"Leave this line blank\")","v":"Leave this line blank"},{"$nulls":11},"",null,"","No",null,null,"No"]
[null,{"$f":"IF('Step 2 PO Calculator'!B252=\"Yes\",VLOOKUP('drop down'!$A$2,'Step 2 PO Calculator'!B252:D2251,3,FALSE),\"Leave this line blank\")","v":"Leave this line blank"},{"$nulls":11},"",null,"","No",null,null,"No"]
[null,{"$f":"IF('Step 2 PO Calculator'!B253=\"Yes\",VLOOKUP('drop down'!$A$2,'Step 2 PO Calculator'!B253:D2252,3,FALSE),\"Leave this line blank\")","v":"Leave this line blank"},{"$nulls":11},"",null,"","No",null,null,"No"]
[null,{"$f":"IF('Step 2 PO Calculator'!B254=\"Yes\",VLOOKUP('drop down'!$A$2,'Step 2 PO Calculator'!B254:D2253,3,FALSE),\"Leave this line blank\")","v":"Leave this line blank"},{"$nulls":11},"",null,"","No",null,null,"No"]
[null,{"$f":"IF('Step 2 PO Calculator'!B255=\"Yes\",VLOOKUP('drop down'!$A$2,'Step 2 PO Calculator'!B255:D2254,3,FALSE),\"Leave this line blank\")","v":"Leave this line blank"},{"$nulls":11},"",null,"","No",null,null,"No"]
[null,{"$f":"IF('Step 2 PO Calculator'!B256=\"Yes\",VLOOKUP('drop down'!$A$2,'Step 2 PO Calculator'!B256:D2255,3,FALSE),\"Leave this line blank\")","v":"Leave this line blank"},{"$nulls":11},"",null,"","No",null,null,"No"]
[null,{"$f":"IF('Step 2 PO Calculator'!B257=\"Yes\",VLOOKUP('drop down'!$A$2,'Step 2 PO Calculator'!B257:D2256,3,FALSE),\"Leave this line blank\")","v":"Leave this line blank"},{"$nulls":11},"",null,"","No",null,null,"No"]
[null,{"$f":"IF('Step 2 PO Calculator'!B258=\"Yes\",VLOOKUP('drop down'!$A$2,'Step 2 PO Calculator'!B258:D2257,3,FALSE),\"Leave this line blank\")","v":"Leave this line blank"},{"$nulls":11},"",null,"","No",null,null,"No"]
[null,{"$f":"IF('Step 2 PO Calculator'!B259=\"Yes\",VLOOKUP('drop down'!$A$2,'Step 2 PO Calculator'!B259:D2258,3,FALSE),\"Leave this line blank\")","v":"Leave this line blank"},{"$nulls":11},"",null,"","No",null,null,"No"]
[null,{"$f":"IF('Step 2 PO Calculator'!B260=\"Yes\",VLOOKUP('drop down'!$A$2,'Step 2 PO Calculator'!B260:D2259,3,FALSE),\"Leave this line blank\")","v":"Leave this line blank"},{"$nulls":11},"",null,"","No",null,null,"No"]
[null,{"$f":"IF('Step 2 PO Calculator'!B261=\"Yes\",VLOOKUP('drop down'!$A$2,'Step 2 PO Calculator'!B261:D2260,3,FALSE),\"Leave this line blank\")","v":"Leave this line blank"},{"$nulls":11},"",null,"","No",null,null,"No"]
[null,{"$f":"IF('Step 2 PO Calculator'!B262=\"Yes\",VLOOKUP('drop down'!$A$2,'Step 2 PO Calculator'!B262:D2261,3,FALSE),\"Leave this line blank\")","v":"Leave this line blank"},{"$nulls":11},"",null,"","No",null,null,"No"]
[null,{"$f":"IF('Step 2 PO Calculator'!B263=\"Yes\",VLOOKUP('drop down'!$A$2,'Step 2 PO Calculator'!B263:D2262,3,FALSE),\"Leave this line blank\")","v":"Leave this line blank"},{"$nulls":11},"",null,"","No",null,null,"No"]
[null,{"$f":"IF('Step 2 PO Calculator'!B264=\"Yes\",VLOOKUP('drop down'!$A$2,'Step 2 PO Calculator'!B264:D2263,3,FALSE),\"Leave this line blank\")","v":"Leave this line blank"},{"$nulls":11},"",null,"","No",null,null,"No"]
[null,{"$f":"IF('Step 2 PO Calculator'!B265=\"Yes\",VLOOKUP('drop down'!$A$2,'Step 2 PO Calculator'!B265:D2264,3,FALSE),\"Leave this line blank\")","v":"Leave this line blank"},{"$nulls":11},"",null,"","No",null,null,"No"]
[null,{"$f":"IF('Step 2 PO Calculator'!B266=\"Yes\",VLOOKUP('drop down'!$A$2,'Step 2 PO Calculator'!B266:D2265,3,FALSE),\"Leave this line blank\")","v":"Leave this line blank"},{"$nulls":11},"",null,"","No",null,null,"No"]
[null,{"$f":"IF('Step 2 PO Calculator'!B267=\"Yes\",VLOOKUP('drop down'!$A$2,'Step 2 PO Calculator'!B267:D2266,3,FALSE),\"Leave this line blank\")","v":"Leave this line blank"},{"$nulls":11},"",null,"","No",null,null,"No"]
[null,{"$f":"IF('Step 2 PO Calculator'!B268=\"Yes\",VLOOKUP('drop down'!$A$2,'Step 2 PO Calculator'!B268:D2267,3,FALSE),\"Leave this line blank\")","v":"Leave this line blank"},{"$nulls":11},"",null,"","No",null,null,"No"]
[null,{"$f":"IF('Step 2 PO Calculator'!B269=\"Yes\",VLOOKUP('drop down'!$A$2,'Step 2 PO Calculator'!B269:D2268,3,FALSE),\"Leave this line blank\")","v":"Leave this line blank"},{"$nulls":11},"",null,"","No",null,null,"No"]
[null,{"$f":"IF('Step 2 PO Calculator'!B270=\"Yes\",VLOOKUP('drop down'!$A$2,'Step 2 PO Calculator'!B270:D2269,3,FALSE),\"Leave this line blank\")","v":"Leave this line blank"},{"$nulls":11},"",null,"","No",null,null,"No"]
[null,{"$f":"IF('Step 2 PO Calculator'!B271=\"Yes\",VLOOKUP('drop down'!$A$2,'Step 2 PO Calculator'!B271:D2270,3,FALSE),\"Leave this line blank\")","v":"Leave this line blank"},{"$nulls":11},"",null,"","No",null,null,"No"]
[null,{"$f":"IF('Step 2 PO Calculator'!B272=\"Yes\",VLOOKUP('drop down'!$A$2,'Step 2 PO Calculator'!B272:D2271,3,FALSE),\"Leave this line blank\")","v":"Leave this line blank"},{"$nulls":11},"",null,"","No",null,null,"No"]
[null,{"$f":"IF('Step 2 PO Calculator'!B273=\"Yes\",VLOOKUP('drop down'!$A$2,'Step 2 PO Calculator'!B273:D2272,3,FALSE),\"Leave this line blank\")","v":"Leave this line blank"},{"$nulls":11},"",null,"","No",null,null,"No"]
[null,{"$f":"IF('Step 2 PO Calculator'!B274=\"Yes\",VLOOKUP('drop down'!$A$2,'Step 2 PO Calculator'!B274:D2273,3,FALSE),\"Leave this line blank\")","v":"Leave this line blank"},{"$nulls":11},"",null,"","No",null,null,"No"]
[null,{"$f":"IF('Step 2 PO Calculator'!B275=\"Yes\",VLOOKUP('drop down'!$A$2,'Step 2 PO Calculator'!B275:D2274,3,FALSE),\"Leave this line blank\")","v":"Leave this line blank"},{"$nulls":11},{"$f":"IF(I270=\"\",\"\",IF(_xlfn.DAYS(I$8,I270)>=180,\"X\",\"\"))","v":""},null,{"$f":"IF(K270=\"\",\"\",IF(_xlfn.DAYS(K270,I$8)<0,\"\",\"X\"))","v":""},{"$f":"IF(AND(N270=\"X\",P270=\"X\"),\"Yes\",\"No\")","v":"No"},null,null,{"$f":"IF(AND(N270=\"X\",P270=\"X\",R270=\"Yes\"),\"Yes\",\"No\")","v":"No"}]
[null,{"$f":"IF('Step 2 PO Calculator'!B276=\"Yes\",VLOOKUP('drop down'!$A$2,'Step 2 PO Calculator'!B276:D2275,3,FALSE),\"Leave this line blank\")","v":"Leave this line blank"},{"$nulls":11},"",null,"","No",null,null,"No"]
[null,{"$f":"IF('Step 2 PO Calculator'!B277=\"Yes\",VLOOKUP('drop down'!$A$2,'Step 2 PO Calculator'!B277:D2276,3,FALSE),\"Leave this line blank\")","v":"Leave this line blank"},{"$nulls":11},"",null,"","No",null,null,"No"]
[null,{"$f":"IF('Step 2 PO Calculator'!B278=\"Yes\",VLOOKUP('drop down'!$A$2,'Step 2 PO Calculator'!B278:D2277,3,FALSE),\"Leave this line blank\")","v":"Leave this line blank"},{"$nulls":11},"",null,"","No",null,null,"No"]
[null,{"$f":"IF('Step 2 PO Calculator'!B279=\"Yes\",VLOOKUP('drop down'!$A$2,'Step 2 PO Calculator'!B279:D2278,3,FALSE),\"Leave this line blank\")","v":"Leave this line blank"},{"$nulls":11},"",null,"","No",null,null,"No"]
[null,{"$f":"IF('Step 2 PO Calculator'!B280=\"Yes\",VLOOKUP('drop down'!$A$2,'Step 2 PO Calculator'!B280:D2279,3,FALSE),\"Leave this line blank\")","v":"Leave this line blank"},{"$nulls":11},"",null,"","No",null,null,"No"]
[null,{"$f":"IF('Step 2 PO Calculator'!B281=\"Yes\",VLOOKUP('drop down'!$A$2,'Step 2 PO Calculator'!B281:D2280,3,FALSE),\"Leave this line blank\")","v":"Leave this line blank"},{"$nulls":11},"",null,"","No",null,null,"No"]
[null,{"$f":"IF('Step 2 PO Calculator'!B282=\"Yes\",VLOOKUP('drop down'!$A$2,'Step 2 PO Calculator'!B282:D2281,3,FALSE),\"Leave this line blank\")","v":"Leave this line blank"},{"$nulls":11},"",null,"","No",null,null,"No"]
[null,{"$f":"IF('Step 2 PO Calculator'!B283=\"Yes\",VLOOKUP('drop down'!$A$2,'Step 2 PO Calculator'!B283:D2282,3,FALSE),\"Leave this line blank\")","v":"Leave this line blank"},{"$nulls":11},"",null,"","No",null,null,"No"]
[null,{"$f":"IF('Step 2 PO Calculator'!B284=\"Yes\",VLOOKUP('drop down'!$A$2,'Step 2 PO Calculator'!B284:D2283,3,FALSE),\"Leave this line blank\")","v":"Leave this line blank"},{"$nulls":11},"",null,"","No",null,null,"No"]
[null,{"$f":"IF('Step 2 PO Calculator'!B285=\"Yes\",VLOOKUP('drop down'!$A$2,'Step 2 PO Calculator'!B285:D2284,3,FALSE),\"Leave this line blank\")","v":"Leave this line blank"},{"$nulls":11},"",null,"","No",null,null,"No"]
[null,{"$f":"IF('Step 2 PO Calculator'!B286=\"Yes\",VLOOKUP('drop down'!$A$2,'Step 2 PO Calculator'!B286:D2285,3,FALSE),\"Leave this line blank\")","v":"Leave this line blank"},{"$nulls":11},"",null,"","No",null,null,"No"]
[null,{"$f":"IF('Step 2 PO Calculator'!B287=\"Yes\",VLOOKUP('drop down'!$A$2,'Step 2 PO Calculator'!B287:D2286,3,FALSE),\"Leave this line blank\")","v":"Leave this line blank"},{"$nulls":11},"",null,"","No",null,null,"No"]
[null,{"$f":"IF('Step 2 PO Calculator'!B288=\"Yes\",VLOOKUP('drop down'!$A$2,'Step 2 PO Calculator'!B288:D2287,3,FALSE),\"Leave this line blank\")","v":"Leave this line blank"},{"$nulls":11},"",null,"","No",null,null,"No"]
[null,{"$f":"IF('Step 2 PO Calculator'!B289=\"Yes\",VLOOKUP('drop down'!$A$2,'Step 2 PO Calculator'!B289:D2288,3,FALSE),\"Leave this line blank\")","v":"Leave this line blank"},{"$nulls":11},"",null,"","No",null,null,"No"]
[null,{"$f":"IF('Step 2 PO Calculator'!B290=\"Yes\",VLOOKUP('drop down'!$A$2,'Step 2 PO Calculator'!B290:D2289,3,FALSE),\"Leave this line blank\")","v":"Leave this line blank"},{"$nulls":11},"",null,"","No",null,null,"No"]
[null,{"$f":"IF('Step 2 PO Calculator'!B291=\"Yes\",VLOOKUP('drop down'!$A$2,'Step 2 PO Calculator'!B291:D2290,3,FALSE),\"Leave this line blank\")","v":"Leave this line blank"},{"$nulls":11},"",null,"","No",null,null,"No"]
[null,{"$f":"IF('Step 2 PO Calculator'!B292=\"Yes\",VLOOKUP('drop down'!$A$2,'Step 2 PO Calculator'!B292:D2291,3,FALSE),\"Leave this line blank\")","v":"Leave this line blank"},{"$nulls":11},"",null,"","No",null,null,"No"]
[null,{"$f":"IF('Step 2 PO Calculator'!B293=\"Yes\",VLOOKUP('drop down'!$A$2,'Step 2 PO Calculator'!B293:D2292,3,FALSE),\"Leave this line blank\")","v":"Leave this line blank"},{"$nulls":11},"",null,"","No",null,null,"No"]
[null,{"$f":"IF('Step 2 PO Calculator'!B294=\"Yes\",VLOOKUP('drop down'!$A$2,'Step 2 PO Calculator'!B294:D2293,3,FALSE),\"Leave this line blank\")","v":"Leave this line blank"},{"$nulls":11},"",null,"","No",null,null,"No"]
[null,{"$f":"IF('Step 2 PO Calculator'!B295=\"Yes\",VLOOKUP('drop down'!$A$2,'Step 2 PO Calculator'!B295:D2294,3,FALSE),\"Leave this line blank\")","v":"Leave this line blank"},{"$nulls":11},"",null,"","No",null,null,"No"]
[null,{"$f":"IF('Step 2 PO Calculator'!B296=\"Yes\",VLOOKUP('drop down'!$A$2,'Step 2 PO Calculator'!B296:D2295,3,FALSE),\"Leave this line blank\")","v":"Leave this line blank"},{"$nulls":11},"",null,"","No",null,null,"No"]
[null,{"$f":"IF('Step 2 PO Calculator'!B297=\"Yes\",VLOOKUP('drop down'!$A$2,'Step 2 PO Calculator'!B297:D2296,3,FALSE),\"Leave this line blank\")","v":"Leave this line blank"},{"$nulls":11},"",null,"","No",null,null,"No"]
[null,{"$f":"IF('Step 2 PO Calculator'!B298=\"Yes\",VLOOKUP('drop down'!$A$2,'Step 2 PO Calculator'!B298:D2297,3,FALSE),\"Leave this line blank\")","v":"Leave this line blank"},{"$nulls":11},"",null,"","No",null,null,"No"]
[null,{"$f":"IF('Step 2 PO Calculator'!B299=\"Yes\",VLOOKUP('drop down'!$A$2,'Step 2 PO Calculator'!B299:D2298,3,FALSE),\"Leave this line blank\")","v":"Leave this line blank"},{"$nulls":11},"",null,"","No",null,null,"No"]
[null,{"$f":"IF('Step 2 PO Calculator'!B300=\"Yes\",VLOOKUP('drop down'!$A$2,'Step 2 PO Calculator'!B300:D2299,3,FALSE),\"Leave this line blank\")","v":"Leave this line blank"},{"$nulls":11},"",null,"","No",null,null,"No"]
[null,{"$f":"IF('Step 2 PO Calculator'!B301=\"Yes\",VLOOKUP('drop down'!$A$2,'Step 2 PO Calculator'!B301:D2300,3,FALSE),\"Leave this line blank\")","v":"Leave this line blank"},{"$nulls":11},"",null,"","No",null,null,"No"]
[null,{"$f":"IF('Step 2 PO Calculator'!B302=\"Yes\",VLOOKUP('drop down'!$A$2,'Step 2 PO Calculator'!B302:D2301,3,FALSE),\"Leave this line blank\")","v":"Leave this line blank"},{"$nulls":11},"",null,"","No",null,null,"No"]
[null,{"$f":"IF('Step 2 PO Calculator'!B303=\"Yes\",VLOOKUP('drop down'!$A$2,'Step 2 PO Calculator'!B303:D2302,3,FALSE),\"Leave this line blank\")","v":"Leave this line blank"},{"$nulls":11},"",null,"","No",null,null,"No"]
[null,{"$f":"IF('Step 2 PO Calculator'!B304=\"Yes\",VLOOKUP('drop down'!$A$2,'Step 2 PO Calculator'!B304:D2303,3,FALSE),\"Leave this line blank\")","v":"Leave this line blank"},{"$nulls":11},"",null,"","No",null,null,"No"]
[null,{"$f":"IF('Step 2 PO Calculator'!B305=\"Yes\",VLOOKUP('drop down'!$A$2,'Step 2 PO Calculator'!B305:D2304,3,FALSE),\"Leave this line blank\")","v":"Leave this line blank"},{"$nulls":11},"",null,"","No",null,null,"No"]
[null,{"$f":"IF('Step 2 PO Calculator'!B306=\"Yes\",VLOOKUP('drop down'!$A$2,'Step 2 PO Calculator'!B306:D2305,3,FALSE),\"Leave this line blank\")","v":"Leave this line blank"},{"$nulls":11},"",null,"","No",null,null,"No"]
[null,{"$f":"IF('Step 2 PO Calculator'!B307=\"Yes\",VLOOKUP('drop down'!$A$2,'Step 2 PO Calculator'!B307:D2306,3,FALSE),\"Leave this line blank\")","v":"Leave this line blank"},{"$nulls":11},"",null,"","No",null,null,"No"]
[null,{"$f":"IF('Step 2 PO Calculator'!B308=\"Yes\",VLOOKUP('drop down'!$A$2,'Step 2 PO Calculator'!B308:D2307,3,FALSE),\"Leave this line blank\")","v":"Leave this line blank"},{"$nulls":11},"",null,"","No",null,null,"No"]
[null,{"$f":"IF('Step 2 PO Calculator'!B309=\"Yes\",VLOOKUP('drop down'!$A$2,'Step 2 PO Calculator'!B309:D2308,3,FALSE),\"Leave this line blank\")","v":"Leave this line blank"},{"$nulls":11},"",null,"","No",null,null,"No"]
[null,{"$f":"IF('Step 2 PO Calculator'!B310=\"Yes\",VLOOKUP('drop down'!$A$2,'Step 2 PO Calculator'!B310:D2309,3,FALSE),\"Leave this line blank\")","v":"Leave this line blank"},{"$nulls":11},"",null,"","No",null,null,"No"]
[null,{"$f":"IF('Step 2 PO Calculator'!B311=\"Yes\",VLOOKUP('drop down'!$A$2,'Step 2 PO Calculator'!B311:D2310,3,FALSE),\"Leave this line blank\")","v":"Leave this line blank"},{"$nulls":11},"",null,"","No",null,null,"No"]
[null,{"$f":"IF('Step 2 PO Calculator'!B312=\"Yes\",VLOOKUP('drop down'!$A$2,'Step 2 PO Calculator'!B312:D2311,3,FALSE),\"Leave this line blank\")","v":"Leave this line blank"},{"$nulls":11},"",null,"","No",null,null,"No"]
[null,{"$f":"IF('Step 2 PO Calculator'!B313=\"Yes\",VLOOKUP('drop down'!$A$2,'Step 2 PO Calculator'!B313:D2312,3,FALSE),\"Leave this line blank\")","v":"Leave this line blank"},{"$nulls":11},"",null,"","No",null,null,"No"]
[null,{"$f":"IF('Step 2 PO Calculator'!B314=\"Yes\",VLOOKUP('drop down'!$A$2,'Step 2 PO Calculator'!B314:D2313,3,FALSE),\"Leave this line blank\")","v":"Leave this line blank"},{"$nulls":11},"",null,"","No",null,null,"No"]
[null,{"$f":"IF('Step 2 PO Calculator'!B315=\"Yes\",VLOOKUP('drop down'!$A$2,'Step 2 PO Calculator'!B315:D2314,3,FALSE),\"Leave this line blank\")","v":"Leave this line blank"},{"$nulls":11},"",null,"","No",null,null,"No"]
[null,{"$f":"IF('Step 2 PO Calculator'!B316=\"Yes\",VLOOKUP('drop down'!$A$2,'Step 2 PO Calculator'!B316:D2315,3,FALSE),\"Leave this line blank\")","v":"Leave this line blank"},{"$nulls":11},"",null,"","No",null,null,"No"]
[null,{"$f":"IF('Step 2 PO Calculator'!B317=\"Yes\",VLOOKUP('drop down'!$A$2,'Step 2 PO Calculator'!B317:D2316,3,FALSE),\"Leave this line blank\")","v":"Leave this line blank"},{"$nulls":11},"",null,"","No",null,null,"No"]
[null,{"$f":"IF('Step 2 PO Calculator'!B318=\"Yes\",VLOOKUP('drop down'!$A$2,'Step 2 PO Calculator'!B318:D2317,3,FALSE),\"Leave this line blank\")","v":"Leave this line blank"},{"$nulls":11},"",null,"","No",null,null,"No"]
[null,{"$f":"IF('Step 2 PO Calculator'!B319=\"Yes\",VLOOKUP('drop down'!$A$2,'Step 2 PO Calculator'!B319:D2318,3,FALSE),\"Leave this line blank\")","v":"Leave this line blank"},{"$nulls":11},"",null,"","No",null,null,"No"]
[null,{"$f":"IF('Step 2 PO Calculator'!B320=\"Yes\",VLOOKUP('drop down'!$A$2,'Step 2 PO Calculator'!B320:D2319,3,FALSE),\"Leave this line blank\")","v":"Leave this line blank"},{"$nulls":11},"",null,"","No",null,null,"No"]
[null,{"$f":"IF('Step 2 PO Calculator'!B321=\"Yes\",VLOOKUP('drop down'!$A$2,'Step 2 PO Calculator'!B321:D2320,3,FALSE),\"Leave this line blank\")","v":"Leave this line blank"},{"$nulls":11},"",null,"","No",null,null,"No"]
[null,{"$f":"IF('Step 2 PO Calculator'!B322=\"Yes\",VLOOKUP('drop down'!$A$2,'Step 2 PO Calculator'!B322:D2321,3,FALSE),\"Leave this line blank\")","v":"Leave this line blank"},{"$nulls":11},"",null,"","No",null,null,"No"]
[null,{"$f":"IF('Step 2 PO Calculator'!B323=\"Yes\",VLOOKUP('drop down'!$A$2,'Step 2 PO Calculator'!B323:D2322,3,FALSE),\"Leave this line blank\")","v":"Leave this line blank"},{"$nulls":11},"",null,"","No",null,null,"No"]
[null,{"$f":"IF('Step 2 PO Calculator'!B324=\"Yes\",VLOOKUP('drop down'!$A$2,'Step 2 PO Calculator'!B324:D2323,3,FALSE),\"Leave this line blank\")","v":"Leave this line blank"},{"$nulls":11},"",null,"","No",null,null,"No"]
[null,{"$f":"IF('Step 2 PO Calculator'!B325=\"Yes\",VLOOKUP('drop down'!$A$2,'Step 2 PO Calculator'!B325:D2324,3,FALSE),\"Leave this line blank\")","v":"Leave this line blank"},{"$nulls":11},"",null,"","No",null,null,"No"]
[null,{"$f":"IF('Step 2 PO Calculator'!B326=\"Yes\",VLOOKUP('drop down'!$A$2,'Step 2 PO Calculator'!B326:D2325,3,FALSE),\"Leave this line blank\")","v":"Leave this line blank"},{"$nulls":11},"",null,"","No",null,null,"No"]
[null,{"$f":"IF('Step 2 PO Calculator'!B327=\"Yes\",VLOOKUP('drop down'!$A$2,'Step 2 PO Calculator'!B327:D2326,3,FALSE),\"Leave this line blank\")","v":"Leave this line blank"},{"$nulls":11},"",null,"","No",null,null,"No"]
[null,{"$f":"IF('Step 2 PO Calculator'!B328=\"Yes\",VLOOKUP('drop down'!$A$2,'Step 2 PO Calculator'!B328:D2327,3,FALSE),\"Leave this line blank\")","v":"Leave this line blank"},{"$nulls":11},"",null,"","No",null,null,"No"]
[null,{"$f":"IF('Step 2 PO Calculator'!B329=\"Yes\",VLOOKUP('drop down'!$A$2,'Step 2 PO Calculator'!B329:D2328,3,FALSE),\"Leave this line blank\")","v":"Leave this line blank"},{"$nulls":11},"",null,"","No",null,null,"No"]
[null,{"$f":"IF('Step 2 PO Calculator'!B330=\"Yes\",VLOOKUP('drop down'!$A$2,'Step 2 PO Calculator'!B330:D2329,3,FALSE),\"Leave this line blank\")","v":"Leave this line blank"},{"$nulls":11},"",null,"","No",null,null,"No"]
[null,{"$f":"IF('Step 2 PO Calculator'!B331=\"Yes\",VLOOKUP('drop down'!$A$2,'Step 2 PO Calculator'!B331:D2330,3,FALSE),\"Leave this line blank\")","v":"Leave this line blank"},{"$nulls":11},"",null,"","No",null,null,"No"]
[null,{"$f":"IF('Step 2 PO Calculator'!B332=\"Yes\",VLOOKUP('drop down'!$A$2,'Step 2 PO Calculator'!B332:D2331,3,FALSE),\"Leave this line blank\")","v":"Leave this line blank"},{"$nulls":11},"",null,"","No",null,null,"No"]
[null,{"$f":"IF('Step 2 PO Calculator'!B333=\"Yes\",VLOOKUP('drop down'!$A$2,'Step 2 PO Calculator'!B333:D2332,3,FALSE),\"Leave this line blank\")","v":"Leave this line blank"},{"$nulls":11},"",null,"","No",null,null,"No"]
[null,{"$f":"IF('Step 2 PO Calculator'!B334=\"Yes\",VLOOKUP('drop down'!$A$2,'Step 2 PO Calculator'!B334:D2333,3,FALSE),\"Leave this line blank\")","v":"Leave this line blank"},{"$nulls":11},"",null,"","No",null,null,"No"]
[null,{"$f":"IF('Step 2 PO Calculator'!B335=\"Yes\",VLOOKUP('drop down'!$A$2,'Step 2 PO Calculator'!B335:D2334,3,FALSE),\"Leave this line blank\")","v":"Leave this line blank"},{"$nulls":11},"",null,"","No",null,null,"No"]
[null,{"$f":"IF('Step 2 PO Calculator'!B336=\"Yes\",VLOOKUP('drop down'!$A$2,'Step 2 PO Calculator'!B336:D2335,3,FALSE),\"Leave this line blank\")","v":"Leave this line blank"},{"$nulls":11},"",null,"","No",null,null,"No"]
[null,{"$f":"IF('Step 2 PO Calculator'!B337=\"Yes\",VLOOKUP('drop down'!$A$2,'Step 2 PO Calculator'!B337:D2336,3,FALSE),\"Leave this line blank\")","v":"Leave this line blank"},{"$nulls":11},"",null,"","No",null,null,"No"]
[null,{"$f":"IF('Step 2 PO Calculator'!B338=\"Yes\",VLOOKUP('drop down'!$A$2,'Step 2 PO Calculator'!B338:D2337,3,FALSE),\"Leave this line blank\")","v":"Leave this line blank"},{"$nulls":11},"",null,"","No",null,null,"No"]
[null,{"$f":"IF('Step 2 PO Calculator'!B339=\"Yes\",VLOOKUP('drop down'!$A$2,'Step 2 PO Calculator'!B339:D2338,3,FALSE),\"Leave this line blank\")","v":"Leave this line blank"},{"$nulls":11},{"$f":"IF(I334=\"\",\"\",IF(_xlfn.DAYS(I$8,I334)>=180,\"X\",\"\"))","v":""},null,{"$f":"IF(K334=\"\",\"\",IF(_xlfn.DAYS(K334,I$8)<0,\"\",\"X\"))","v":""},{"$f":"IF(AND(N334=\"X\",P334=\"X\"),\"Yes\",\"No\")","v":"No"},null,null,{"$f":"IF(AND(N334=\"X\",P334=\"X\",R334=\"Yes\"),\"Yes\",\"No\")","v":"No"}]
[null,{"$f":"IF('Step 2 PO Calculator'!B340=\"Yes\",VLOOKUP('drop down'!$A$2,'Step 2 PO Calculator'!B340:D2339,3,FALSE),\"Leave this line blank\")","v":"Leave this line blank"},{"$nulls":11},"",null,"","No",null,null,"No"]
[null,{"$f":"IF('Step 2 PO Calculator'!B341=\"Yes\",VLOOKUP('drop down'!$A$2,'Step 2 PO Calculator'!B341:D2340,3,FALSE),\"Leave this line blank\")","v":"Leave this line blank"},{"$nulls":11},"",null,"","No",null,null,"No"]
[null,{"$f":"IF('Step 2 PO Calculator'!B342=\"Yes\",VLOOKUP('drop down'!$A$2,'Step 2 PO Calculator'!B342:D2341,3,FALSE),\"Leave this line blank\")","v":"Leave this line blank"},{"$nulls":11},"",null,"","No",null,null,"No"]
[null,{"$f":"IF('Step 2 PO Calculator'!B343=\"Yes\",VLOOKUP('drop down'!$A$2,'Step 2 PO Calculator'!B343:D2342,3,FALSE),\"Leave this line blank\")","v":"Leave this line blank"},{"$nulls":11},"",null,"","No",null,null,"No"]
[null,{"$f":"IF('Step 2 PO Calculator'!B344=\"Yes\",VLOOKUP('drop down'!$A$2,'Step 2 PO Calculator'!B344:D2343,3,FALSE),\"Leave this line blank\")","v":"Leave this line blank"},{"$nulls":11},"",null,"","No",null,null,"No"]
[null,{"$f":"IF('Step 2 PO Calculator'!B345=\"Yes\",VLOOKUP('drop down'!$A$2,'Step 2 PO Calculator'!B345:D2344,3,FALSE),\"Leave this line blank\")","v":"Leave this line blank"},{"$nulls":11},"",null,"","No",null,null,"No"]
[null,{"$f":"IF('Step 2 PO Calculator'!B346=\"Yes\",VLOOKUP('drop down'!$A$2,'Step 2 PO Calculator'!B346:D2345,3,FALSE),\"Leave this line blank\")","v":"Leave this line blank"},{"$nulls":11},"",null,"","No",null,null,"No"]
[null,{"$f":"IF('Step 2 PO Calculator'!B347=\"Yes\",VLOOKUP('drop down'!$A$2,'Step 2 PO Calculator'!B347:D2346,3,FALSE),\"Leave this line blank\")","v":"Leave this line blank"},{"$nulls":11},"",null,"","No",null,null,"No"]
[null,{"$f":"IF('Step 2 PO Calculator'!B348=\"Yes\",VLOOKUP('drop down'!$A$2,'Step 2 PO Calculator'!B348:D2347,3,FALSE),\"Leave this line blank\")","v":"Leave this line blank"},{"$nulls":11},"",null,"","No",null,null,"No"]
[null,{"$f":"IF('Step 2 PO Calculator'!B349=\"Yes\",VLOOKUP('drop down'!$A$2,'Step 2 PO Calculator'!B349:D2348,3,FALSE),\"Leave this line blank\")","v":"Leave this line blank"},{"$nulls":11},"",null,"","No",null,null,"No"]
[null,{"$f":"IF('Step 2 PO Calculator'!B350=\"Yes\",VLOOKUP('drop down'!$A$2,'Step 2 PO Calculator'!B350:D2349,3,FALSE),\"Leave this line blank\")","v":"Leave this line blank"},{"$nulls":11},"",null,"","No",null,null,"No"]
[null,{"$f":"IF('Step 2 PO Calculator'!B351=\"Yes\",VLOOKUP('drop down'!$A$2,'Step 2 PO Calculator'!B351:D2350,3,FALSE),\"Leave this line blank\")","v":"Leave this line blank"},{"$nulls":11},"",null,"","No",null,null,"No"]
[null,{"$f":"IF('Step 2 PO Calculator'!B352=\"Yes\",VLOOKUP('drop down'!$A$2,'Step 2 PO Calculator'!B352:D2351,3,FALSE),\"Leave this line blank\")","v":"Leave this line blank"},{"$nulls":11},"",null,"","No",null,null,"No"]
[null,{"$f":"IF('Step 2 PO Calculator'!B353=\"Yes\",VLOOKUP('drop down'!$A$2,'Step 2 PO Calculator'!B353:D2352,3,FALSE),\"Leave this line blank\")","v":"Leave this line blank"},{"$nulls":11},"",null,"","No",null,null,"No"]
[null,{"$f":"IF('Step 2 PO Calculator'!B354=\"Yes\",VLOOKUP('drop down'!$A$2,'Step 2 PO Calculator'!B354:D2353,3,FALSE),\"Leave this line blank\")","v":"Leave this line blank"},{"$nulls":11},"",null,"","No",null,null,"No"]
[null,{"$f":"IF('Step 2 PO Calculator'!B355=\"Yes\",VLOOKUP('drop down'!$A$2,'Step 2 PO Calculator'!B355:D2354,3,FALSE),\"Leave this line blank\")","v":"Leave this line blank"},{"$nulls":11},"",null,"","No",null,null,"No"]
[null,{"$f":"IF('Step 2 PO Calculator'!B356=\"Yes\",VLOOKUP('drop down'!$A$2,'Step 2 PO Calculator'!B356:D2355,3,FALSE),\"Leave this line blank\")","v":"Leave this line blank"},{"$nulls":11},"",null,"","No",null,null,"No"]
[null,{"$f":"IF('Step 2 PO Calculator'!B357=\"Yes\",VLOOKUP('drop down'!$A$2,'Step 2 PO Calculator'!B357:D2356,3,FALSE),\"Leave this line blank\")","v":"Leave this line blank"},{"$nulls":11},"",null,"","No",null,null,"No"]
[null,{"$f":"IF('Step 2 PO Calculator'!B358=\"Yes\",VLOOKUP('drop down'!$A$2,'Step 2 PO Calculator'!B358:D2357,3,FALSE),\"Leave this line blank\")","v":"Leave this line blank"},{"$nulls":11},"",null,"","No",null,null,"No"]
[null,{"$f":"IF('Step 2 PO Calculator'!B359=\"Yes\",VLOOKUP('drop down'!$A$2,'Step 2 PO Calculator'!B359:D2358,3,FALSE),\"Leave this line blank\")","v":"Leave this line blank"},{"$nulls":11},"",null,"","No",null,null,"No"]
[null,{"$f":"IF('Step 2 PO Calculator'!B360=\"Yes\",VLOOKUP('drop down'!$A$2,'Step 2 PO Calculator'!B360:D2359,3,FALSE),\"Leave this line blank\")","v":"Leave this line blank"},{"$nulls":11},"",null,"","No",null,null,"No"]
[null,{"$f":"IF('Step 2 PO Calculator'!B361=\"Yes\",VLOOKUP('drop down'!$A$2,'Step 2 PO Calculator'!B361:D2360,3,FALSE),\"Leave this line blank\")","v":"Leave this line blank"},{"$nulls":11},"",null,"","No",null,null,"No"]
[null,{"$f":"IF('Step 2 PO Calculator'!B362=\"Yes\",VLOOKUP('drop down'!$A$2,'Step 2 PO Calculator'!B362:D2361,3,FALSE),\"Leave this line blank\")","v":"Leave this line blank"},{"$nulls":11},"",null,"","No",null,null,"No"]
[null,{"$f":"IF('Step 2 PO Calculator'!B363=\"Yes\",VLOOKUP('drop down'!$A$2,'Step 2 PO Calculator'!B363:D2362,3,FALSE),\"Leave this line blank\")","v":"Leave this line blank"},{"$nulls":11},"",null,"","No",null,null,"No"]
[null,{"$f":"IF('Step 2 PO Calculator'!B364=\"Yes\",VLOOKUP('drop down'!$A$2,'Step 2 PO Calculator'!B364:D2363,3,FALSE),\"Leave this line blank\")","v":"Leave this line blank"},{"$nulls":11},"",null,"","No",null,null,"No"]
[null,{"$f":"IF('Step 2 PO Calculator'!B365=\"Yes\",VLOOKUP('drop down'!$A$2,'Step 2 PO Calculator'!B365:D2364,3,FALSE),\"Leave this line blank\")","v":"Leave this line blank"},{"$nulls":11},"",null,"","No",null,null,"No"]
[null,{"$f":"IF('Step 2 PO Calculator'!B366=\"Yes\",VLOOKUP('drop down'!$A$2,'Step 2 PO Calculator'!B366:D2365,3,FALSE),\"Leave this line blank\")","v":"Leave this line blank"},{"$nulls":11},"",null,"","No",null,null,"No"]
[null,{"$f":"IF('Step 2 PO Calculator'!B367=\"Yes\",VLOOKUP('drop down'!$A$2,'Step 2 PO Calculator'!B367:D2366,3,FALSE),\"Leave this line blank\")","v":"Leave this line blank"},{"$nulls":11},"",null,"","No",null,null,"No"]
[null,{"$f":"IF('Step 2 PO Calculator'!B368=\"Yes\",VLOOKUP('drop down'!$A$2,'Step 2 PO Calculator'!B368:D2367,3,FALSE),\"Leave this line blank\")","v":"Leave this line blank"},{"$nulls":11},"",null,"","No",null,null,"No"]
[null,{"$f":"IF('Step 2 PO Calculator'!B369=\"Yes\",VLOOKUP('drop down'!$A$2,'Step 2 PO Calculator'!B369:D2368,3,FALSE),\"Leave this line blank\")","v":"Leave this line blank"},{"$nulls":11},"",null,"","No",null,null,"No"]
[null,{"$f":"IF('Step 2 PO Calculator'!B370=\"Yes\",VLOOKUP('drop down'!$A$2,'Step 2 PO Calculator'!B370:D2369,3,FALSE),\"Leave this line blank\")","v":"Leave this line blank"},{"$nulls":11},"",null,"","No",null,null,"No"]
[null,{"$f":"IF('Step 2 PO Calculator'!B371=\"Yes\",VLOOKUP('drop down'!$A$2,'Step 2 PO Calculator'!B371:D2370,3,FALSE),\"Leave this line blank\")","v":"Leave this line blank"},{"$nulls":11},"",null,"","No",null,null,"No"]
[null,{"$f":"IF('Step 2 PO Calculator'!B372=\"Yes\",VLOOKUP('drop down'!$A$2,'Step 2 PO Calculator'!B372:D2371,3,FALSE),\"Leave this line blank\")","v":"Leave this line blank"},{"$nulls":11},"",null,"","No",null,null,"No"]
[null,{"$f":"IF('Step 2 PO Calculator'!B373=\"Yes\",VLOOKUP('drop down'!$A$2,'Step 2 PO Calculator'!B373:D2372,3,FALSE),\"Leave this line blank\")","v":"Leave this line blank"},{"$nulls":11},"",null,"","No",null,null,"No"]
[null,{"$f":"IF('Step 2 PO Calculator'!B374=\"Yes\",VLOOKUP('drop down'!$A$2,'Step 2 PO Calculator'!B374:D2373,3,FALSE),\"Leave this line blank\")","v":"Leave this line blank"},{"$nulls":11},"",null,"","No",null,null,"No"]
[null,{"$f":"IF('Step 2 PO Calculator'!B375=\"Yes\",VLOOKUP('drop down'!$A$2,'Step 2 PO Calculator'!B375:D2374,3,FALSE),\"Leave this line blank\")","v":"Leave this line blank"},{"$nulls":11},"",null,"","No",null,null,"No"]
[null,{"$f":"IF('Step 2 PO Calculator'!B376=\"Yes\",VLOOKUP('drop down'!$A$2,'Step 2 PO Calculator'!B376:D2375,3,FALSE),\"Leave this line blank\")","v":"Leave this line blank"},{"$nulls":11},"",null,"","No",null,null,"No"]
[null,{"$f":"IF('Step 2 PO Calculator'!B377=\"Yes\",VLOOKUP('drop down'!$A$2,'Step 2 PO Calculator'!B377:D2376,3,FALSE),\"Leave this line blank\")","v":"Leave this line blank"},{"$nulls":11},"",null,"","No",null,null,"No"]
[null,{"$f":"IF('Step 2 PO Calculator'!B378=\"Yes\",VLOOKUP('drop down'!$A$2,'Step 2 PO Calculator'!B378:D2377,3,FALSE),\"Leave this line blank\")","v":"Leave this line blank"},{"$nulls":11},"",null,"","No",null,null,"No"]
[null,{"$f":"IF('Step 2 PO Calculator'!B379=\"Yes\",VLOOKUP('drop down'!$A$2,'Step 2 PO Calculator'!B379:D2378,3,FALSE),\"Leave this line blank\")","v":"Leave this line blank"},{"$nulls":11},"",null,"","No",null,null,"No"]
[null,{"$f":"IF('Step 2 PO Calculator'!B380=\"Yes\",VLOOKUP('drop down'!$A$2,'Step 2 PO Calculator'!B380:D2379,3,FALSE),\"Leave this line blank\")","v":"Leave this line blank"},{"$nulls":11},"",null,"","No",null,null,"No"]
[null,{"$f":"IF('Step 2 PO Calculator'!B381=\"Yes\",VLOOKUP('drop down'!$A$2,'Step 2 PO Calculator'!B381:D2380,3,FALSE),\"Leave this line blank\")","v":"Leave this line blank"},{"$nulls":11},"",null,"","No",null,null,"No"]
[null,{"$f":"IF('Step 2 PO Calculator'!B382=\"Yes\",VLOOKUP('drop down'!$A$2,'Step 2 PO Calculator'!B382:D2381,3,FALSE),\"Leave this line blank\")","v":"Leave this line blank"},{"$nulls":11},"",null,"","No",null,null,"No"]
[null,{"$f":"IF('Step 2 PO Calculator'!B383=\"Yes\",VLOOKUP('drop down'!$A$2,'Step 2 PO Calculator'!B383:D2382,3,FALSE),\"Leave this line blank\")","v":"Leave this line blank"},{"$nulls":11},"",null,"","No",null,null,"No"]
[null,{"$f":"IF('Step 2 PO Calculator'!B384=\"Yes\",VLOOKUP('drop down'!$A$2,'Step 2 PO Calculator'!B384:D2383,3,FALSE),\"Leave this line blank\")","v":"Leave this line blank"},{"$nulls":11},"",null,"","No",null,null,"No"]
[null,{"$f":"IF('Step 2 PO Calculator'!B385=\"Yes\",VLOOKUP('drop down'!$A$2,'Step 2 PO Calculator'!B385:D2384,3,FALSE),\"Leave this line blank\")","v":"Leave this line blank"},{"$nulls":11},"",null,"","No",null,null,"No"]
[null,{"$f":"IF('Step 2 PO Calculator'!B386=\"Yes\",VLOOKUP('drop down'!$A$2,'Step 2 PO Calculator'!B386:D2385,3,FALSE),\"Leave this line blank\")","v":"Leave this line blank"},{"$nulls":11},"",null,"","No",null,null,"No"]
[null,{"$f":"IF('Step 2 PO Calculator'!B387=\"Yes\",VLOOKUP('drop down'!$A$2,'Step 2 PO Calculator'!B387:D2386,3,FALSE),\"Leave this line blank\")","v":"Leave this line blank"},{"$nulls":11},"",null,"","No",null,null,"No"]
[null,{"$f":"IF('Step 2 PO Calculator'!B388=\"Yes\",VLOOKUP('drop down'!$A$2,'Step 2 PO Calculator'!B388:D2387,3,FALSE),\"Leave this line blank\")","v":"Leave this line blank"},{"$nulls":11},"",null,"","No",null,null,"No"]
[null,{"$f":"IF('Step 2 PO Calculator'!B389=\"Yes\",VLOOKUP('drop down'!$A$2,'Step 2 PO Calculator'!B389:D2388,3,FALSE),\"Leave this line blank\")","v":"Leave this line blank"},{"$nulls":11},"",null,"","No",null,null,"No"]
[null,{"$f":"IF('Step 2 PO Calculator'!B390=\"Yes\",VLOOKUP('drop down'!$A$2,'Step 2 PO Calculator'!B390:D2389,3,FALSE),\"Leave this line blank\")","v":"Leave this line blank"},{"$nulls":11},"",null,"","No",null,null,"No"]
[null,{"$f":"IF('Step 2 PO Calculator'!B391=\"Yes\",VLOOKUP('drop down'!$A$2,'Step 2 PO Calculator'!B391:D2390,3,FALSE),\"Leave this line blank\")","v":"Leave this line blank"},{"$nulls":11},"",null,"","No",null,null,"No"]
[null,{"$f":"IF('Step 2 PO Calculator'!B392=\"Yes\",VLOOKUP('drop down'!$A$2,'Step 2 PO Calculator'!B392:D2391,3,FALSE),\"Leave this line blank\")","v":"Leave this line blank"},{"$nulls":11},"",null,"","No",null,null,"No"]
[null,{"$f":"IF('Step 2 PO Calculator'!B393=\"Yes\",VLOOKUP('drop down'!$A$2,'Step 2 PO Calculator'!B393:D2392,3,FALSE),\"Leave this line blank\")","v":"Leave this line blank"},{"$nulls":11},"",null,"","No",null,null,"No"]
[null,{"$f":"IF('Step 2 PO Calculator'!B394=\"Yes\",VLOOKUP('drop down'!$A$2,'Step 2 PO Calculator'!B394:D2393,3,FALSE),\"Leave this line blank\")","v":"Leave this line blank"},{"$nulls":11},"",null,"","No",null,null,"No"]
[null,{"$f":"IF('Step 2 PO Calculator'!B395=\"Yes\",VLOOKUP('drop down'!$A$2,'Step 2 PO Calculator'!B395:D2394,3,FALSE),\"Leave this line blank\")","v":"Leave this line blank"},{"$nulls":11},"",null,"","No",null,null,"No"]
[null,{"$f":"IF('Step 2 PO Calculator'!B396=\"Yes\",VLOOKUP('drop down'!$A$2,'Step 2 PO Calculator'!B396:D2395,3,FALSE),\"Leave this line blank\")","v":"Leave this line blank"},{"$nulls":11},"",null,"","No",null,null,"No"]
[null,{"$f":"IF('Step 2 PO Calculator'!B397=\"Yes\",VLOOKUP('drop down'!$A$2,'Step 2 PO Calculator'!B397:D2396,3,FALSE),\"Leave this line blank\")","v":"Leave this line blank"},{"$nulls":11},"",null,"","No",null,null,"No"]
[null,{"$f":"IF('Step 2 PO Calculator'!B398=\"Yes\",VLOOKUP('drop down'!$A$2,'Step 2 PO Calculator'!B398:D2397,3,FALSE),\"Leave this line blank\")","v":"Leave this line blank"},{"$nulls":11},"",null,"","No",null,null,"No"]
[null,{"$f":"IF('Step 2 PO Calculator'!B399=\"Yes\",VLOOKUP('drop down'!$A$2,'Step 2 PO Calculator'!B399:D2398,3,FALSE),\"Leave this line blank\")","v":"Leave this line blank"},{"$nulls":11},"",null,"","No",null,null,"No"]
[null,{"$f":"IF('Step 2 PO Calculator'!B400=\"Yes\",VLOOKUP('drop down'!$A$2,'Step 2 PO Calculator'!B400:D2399,3,FALSE),\"Leave this line blank\")","v":"Leave this line blank"},{"$nulls":11},"",null,"","No",null,null,"No"]
[null,{"$f":"IF('Step 2 PO Calculator'!B401=\"Yes\",VLOOKUP('drop down'!$A$2,'Step 2 PO Calculator'!B401:D2400,3,FALSE),\"Leave this line blank\")","v":"Leave this line blank"},{"$nulls":11},"",null,"","No",null,null,"No"]
[null,{"$f":"IF('Step 2 PO Calculator'!B402=\"Yes\",VLOOKUP('drop down'!$A$2,'Step 2 PO Calculator'!B402:D2401,3,FALSE),\"Leave this line blank\")","v":"Leave this line blank"},{"$nulls":11},"",null,"","No",null,null,"No"]
[null,{"$f":"IF('Step 2 PO Calculator'!B403=\"Yes\",VLOOKUP('drop down'!$A$2,'Step 2 PO Calculator'!B403:D2402,3,FALSE),\"Leave this line blank\")","v":"Leave this line blank"},{"$nulls":11},{"$f":"IF(I398=\"\",\"\",IF(_xlfn.DAYS(I$8,I398)>=180,\"X\",\"\"))","v":""},null,{"$f":"IF(K398=\"\",\"\",IF(_xlfn.DAYS(K398,I$8)<0,\"\",\"X\"))","v":""},{"$f":"IF(AND(N398=\"X\",P398=\"X\"),\"Yes\",\"No\")","v":"No"},null,null,{"$f":"IF(AND(N398=\"X\",P398=\"X\",R398=\"Yes\"),\"Yes\",\"No\")","v":"No"}]
[null,{"$f":"IF('Step 2 PO Calculator'!B404=\"Yes\",VLOOKUP('drop down'!$A$2,'Step 2 PO Calculator'!B404:D2403,3,FALSE),\"Leave this line blank\")","v":"Leave this line blank"},{"$nulls":11},"",null,"","No",null,null,"No"]
[null,{"$f":"IF('Step 2 PO Calculator'!B405=\"Yes\",VLOOKUP('drop down'!$A$2,'Step 2 PO Calculator'!B405:D2404,3,FALSE),\"Leave this line blank\")","v":"Leave this line blank"},{"$nulls":11},"",null,"","No",null,null,"No"]
[null,{"$f":"IF('Step 2 PO Calculator'!B406=\"Yes\",VLOOKUP('drop down'!$A$2,'Step 2 PO Calculator'!B406:D2405,3,FALSE),\"Leave this line blank\")","v":"Leave this line blank"},{"$nulls":11},"",null,"","No",null,null,"No"]
[null,{"$f":"IF('Step 2 PO Calculator'!B407=\"Yes\",VLOOKUP('drop down'!$A$2,'Step 2 PO Calculator'!B407:D2406,3,FALSE),\"Leave this line blank\")","v":"Leave this line blank"},{"$nulls":11},"",null,"","No",null,null,"No"]
[null,{"$f":"IF('Step 2 PO Calculator'!B408=\"Yes\",VLOOKUP('drop down'!$A$2,'Step 2 PO Calculator'!B408:D2407,3,FALSE),\"Leave this line blank\")","v":"Leave this line blank"},{"$nulls":11},"",null,"","No",null,null,"No"]
[null,{"$f":"IF('Step 2 PO Calculator'!B409=\"Yes\",VLOOKUP('drop down'!$A$2,'Step 2 PO Calculator'!B409:D2408,3,FALSE),\"Leave this line blank\")","v":"Leave this line blank"},{"$nulls":11},"",null,"","No",null,null,"No"]
[null,{"$f":"IF('Step 2 PO Calculator'!B410=\"Yes\",VLOOKUP('drop down'!$A$2,'Step 2 PO Calculator'!B410:D2409,3,FALSE),\"Leave this line blank\")","v":"Leave this line blank"},{"$nulls":11},"",null,"","No",null,null,"No"]
[null,{"$f":"IF('Step 2 PO Calculator'!B411=\"Yes\",VLOOKUP('drop down'!$A$2,'Step 2 PO Calculator'!B411:D2410,3,FALSE),\"Leave this line blank\")","v":"Leave this line blank"},{"$nulls":11},"",null,"","No",null,null,"No"]
[null,{"$f":"IF('Step 2 PO Calculator'!B412=\"Yes\",VLOOKUP('drop down'!$A$2,'Step 2 PO Calculator'!B412:D2411,3,FALSE),\"Leave this line blank\")","v":"Leave this line blank"},{"$nulls":11},"",null,"","No",null,null,"No"]
[null,{"$f":"IF('Step 2 PO Calculator'!B413=\"Yes\",VLOOKUP('drop down'!$A$2,'Step 2 PO Calculator'!B413:D2412,3,FALSE),\"Leave this line blank\")","v":"Leave this line blank"},{"$nulls":11},"",null,"","No",null,null,"No"]
[null,{"$f":"IF('Step 2 PO Calculator'!B414=\"Yes\",VLOOKUP('drop down'!$A$2,'Step 2 PO Calculator'!B414:D2413,3,FALSE),\"Leave this line blank\")","v":"Leave this line blank"},{"$nulls":11},"",null,"","No",null,null,"No"]
[null,{"$f":"IF('Step 2 PO Calculator'!B415=\"Yes\",VLOOKUP('drop down'!$A$2,'Step 2 PO Calculator'!B415:D2414,3,FALSE),\"Leave this line blank\")","v":"Leave this line blank"},{"$nulls":11},"",null,"","No",null,null,"No"]
[null,{"$f":"IF('Step 2 PO Calculator'!B416=\"Yes\",VLOOKUP('drop down'!$A$2,'Step 2 PO Calculator'!B416:D2415,3,FALSE),\"Leave this line blank\")","v":"Leave this line blank"},{"$nulls":11},"",null,"","No",null,null,"No"]
[null,{"$f":"IF('Step 2 PO Calculator'!B417=\"Yes\",VLOOKUP('drop down'!$A$2,'Step 2 PO Calculator'!B417:D2416,3,FALSE),\"Leave this line blank\")","v":"Leave this line blank"},{"$nulls":11},"",null,"","No",null,null,"No"]
[null,{"$f":"IF('Step 2 PO Calculator'!B418=\"Yes\",VLOOKUP('drop down'!$A$2,'Step 2 PO Calculator'!B418:D2417,3,FALSE),\"Leave this line blank\")","v":"Leave this line blank"},{"$nulls":11},"",null,"","No",null,null,"No"]
[null,{"$f":"IF('Step 2 PO Calculator'!B419=\"Yes\",VLOOKUP('drop down'!$A$2,'Step 2 PO Calculator'!B419:D2418,3,FALSE),\"Leave this line blank\")","v":"Leave this line blank"},{"$nulls":11},"",null,"","No",null,null,"No"]
[null,{"$f":"IF('Step 2 PO Calculator'!B420=\"Yes\",VLOOKUP('drop down'!$A$2,'Step 2 PO Calculator'!B420:D2419,3,FALSE),\"Leave this line blank\")","v":"Leave this line blank"},{"$nulls":11},"",null,"","No",null,null,"No"]
[null,{"$f":"IF('Step 2 PO Calculator'!B421=\"Yes\",VLOOKUP('drop down'!$A$2,'Step 2 PO Calculator'!B421:D2420,3,FALSE),\"Leave this line blank\")","v":"Leave this line blank"},{"$nulls":11},"",null,"","No",null,null,"No"]
[null,{"$f":"IF('Step 2 PO Calculator'!B422=\"Yes\",VLOOKUP('drop down'!$A$2,'Step 2 PO Calculator'!B422:D2421,3,FALSE),\"Leave this line blank\")","v":"Leave this line blank"},{"$nulls":11},"",null,"","No",null,null,"No"]
[null,{"$f":"IF('Step 2 PO Calculator'!B423=\"Yes\",VLOOKUP('drop down'!$A$2,'Step 2 PO Calculator'!B423:D2422,3,FALSE),\"Leave this line blank\")","v":"Leave this line blank"},{"$nulls":11},"",null,"","No",null,null,"No"]
[null,{"$f":"IF('Step 2 PO Calculator'!B424=\"Yes\",VLOOKUP('drop down'!$A$2,'Step 2 PO Calculator'!B424:D2423,3,FALSE),\"Leave this line blank\")","v":"Leave this line blank"},{"$nulls":11},"",null,"","No",null,null,"No"]
[null,{"$f":"IF('Step 2 PO Calculator'!B425=\"Yes\",VLOOKUP('drop down'!$A$2,'Step 2 PO Calculator'!B425:D2424,3,FALSE),\"Leave this line blank\")","v":"Leave this line blank"},{"$nulls":11},"",null,"","No",null,null,"No"]
[null,{"$f":"IF('Step 2 PO Calculator'!B426=\"Yes\",VLOOKUP('drop down'!$A$2,'Step 2 PO Calculator'!B426:D2425,3,FALSE),\"Leave this line blank\")","v":"Leave this line blank"},{"$nulls":11},"",null,"","No",null,null,"No"]
[null,{"$f":"IF('Step 2 PO Calculator'!B427=\"Yes\",VLOOKUP('drop down'!$A$2,'Step 2 PO Calculator'!B427:D2426,3,FALSE),\"Leave this line blank\")","v":"Leave this line blank"},{"$nulls":11},"",null,"","No",null,null,"No"]
[null,{"$f":"IF('Step 2 PO Calculator'!B428=\"Yes\",VLOOKUP('drop down'!$A$2,'Step 2 PO Calculator'!B428:D2427,3,FALSE),\"Leave this line blank\")","v":"Leave this line blank"},{"$nulls":11},"",null,"","No",null,null,"No"]
[null,{"$f":"IF('Step 2 PO Calculator'!B429=\"Yes\",VLOOKUP('drop down'!$A$2,'Step 2 PO Calculator'!B429:D2428,3,FALSE),\"Leave this line blank\")","v":"Leave this line blank"},{"$nulls":11},"",null,"","No",null,null,"No"]
[null,{"$f":"IF('Step 2 PO Calculator'!B430=\"Yes\",VLOOKUP('drop down'!$A$2,'Step 2 PO Calculator'!B430:D2429,3,FALSE),\"Leave this line blank\")","v":"Leave this line blank"},{"$nulls":11},"",null,"","No",null,null,"No"]
[null,{"$f":"IF('Step 2 PO Calculator'!B431=\"Yes\",VLOOKUP('drop down'!$A$2,'Step 2 PO Calculator'!B431:D2430,3,FALSE),\"Leave this line blank\")","v":"Leave this line blank"},{"$nulls":11},"",null,"","No",null,null,"No"]
[null,{"$f":"IF('Step 2 PO Calculator'!B432=\"Yes\",VLOOKUP('drop down'!$A$2,'Step 2 PO Calculator'!B432:D2431,3,FALSE),\"Leave this line blank\")","v":"Leave this line blank"},{"$nulls":11},"",null,"","No",null,null,"No"]
[null,{"$f":"IF('Step 2 PO Calculator'!B433=\"Yes\",VLOOKUP('drop down'!$A$2,'Step 2 PO Calculator'!B433:D2432,3,FALSE),\"Leave this line blank\")","v":"Leave this line blank"},{"$nulls":11},"",null,"","No",null,null,"No"]
[null,{"$f":"IF('Step 2 PO Calculator'!B434=\"Yes\",VLOOKUP('drop down'!$A$2,'Step 2 PO Calculator'!B434:D2433,3,FALSE),\"Leave this line blank\")","v":"Leave this line blank"},{"$nulls":11},"",null,"","No",null,null,"No"]
[null,{"$f":"IF('Step 2 PO Calculator'!B435=\"Yes\",VLOOKUP('drop down'!$A$2,'Step 2 PO Calculator'!B435:D2434,3,FALSE),\"Leave this line blank\")","v":"Leave this line blank"},{"$nulls":11},"",null,"","No",null,null,"No"]
[null,{"$f":"IF('Step 2 PO Calculator'!B436=\"Yes\",VLOOKUP('drop down'!$A$2,'Step 2 PO Calculator'!B436:D2435,3,FALSE),\"Leave this line blank\")","v":"Leave this line blank"},{"$nulls":11},"",null,"","No",null,null,"No"]
[null,{"$f":"IF('Step 2 PO Calculator'!B437=\"Yes\",VLOOKUP('drop down'!$A$2,'Step 2 PO Calculator'!B437:D2436,3,FALSE),\"Leave this line blank\")","v":"Leave this line blank"},{"$nulls":11},"",null,"","No",null,null,"No"]
[null,{"$f":"IF('Step 2 PO Calculator'!B438=\"Yes\",VLOOKUP('drop down'!$A$2,'Step 2 PO Calculator'!B438:D2437,3,FALSE),\"Leave this line blank\")","v":"Leave this line blank"},{"$nulls":11},"",null,"","No",null,null,"No"]
[null,{"$f":"IF('Step 2 PO Calculator'!B439=\"Yes\",VLOOKUP('drop down'!$A$2,'Step 2 PO Calculator'!B439:D2438,3,FALSE),\"Leave this line blank\")","v":"Leave this line blank"},{"$nulls":11},"",null,"","No",null,null,"No"]
[null,{"$f":"IF('Step 2 PO Calculator'!B440=\"Yes\",VLOOKUP('drop down'!$A$2,'Step 2 PO Calculator'!B440:D2439,3,FALSE),\"Leave this line blank\")","v":"Leave this line blank"},{"$nulls":11},"",null,"","No",null,null,"No"]
[null,{"$f":"IF('Step 2 PO Calculator'!B441=\"Yes\",VLOOKUP('drop down'!$A$2,'Step 2 PO Calculator'!B441:D2440,3,FALSE),\"Leave this line blank\")","v":"Leave this line blank"},{"$nulls":11},"",null,"","No",null,null,"No"]
[null,{"$f":"IF('Step 2 PO Calculator'!B442=\"Yes\",VLOOKUP('drop down'!$A$2,'Step 2 PO Calculator'!B442:D2441,3,FALSE),\"Leave this line blank\")","v":"Leave this line blank"},{"$nulls":11},"",null,"","No",null,null,"No"]
[null,{"$f":"IF('Step 2 PO Calculator'!B443=\"Yes\",VLOOKUP('drop down'!$A$2,'Step 2 PO Calculator'!B443:D2442,3,FALSE),\"Leave this line blank\")","v":"Leave this line blank"},{"$nulls":11},"",null,"","No",null,null,"No"]
[null,{"$f":"IF('Step 2 PO Calculator'!B444=\"Yes\",VLOOKUP('drop down'!$A$2,'Step 2 PO Calculator'!B444:D2443,3,FALSE),\"Leave this line blank\")","v":"Leave this line blank"},{"$nulls":11},"",null,"","No",null,null,"No"]
[null,{"$f":"IF('Step 2 PO Calculator'!B445=\"Yes\",VLOOKUP('drop down'!$A$2,'Step 2 PO Calculator'!B445:D2444,3,FALSE),\"Leave this line blank\")","v":"Leave this line blank"},{"$nulls":11},"",null,"","No",null,null,"No"]
[null,{"$f":"IF('Step 2 PO Calculator'!B446=\"Yes\",VLOOKUP('drop down'!$A$2,'Step 2 PO Calculator'!B446:D2445,3,FALSE),\"Leave this line blank\")","v":"Leave this line blank"},{"$nulls":11},"",null,"","No",null,null,"No"]
[null,{"$f":"IF('Step 2 PO Calculator'!B447=\"Yes\",VLOOKUP('drop down'!$A$2,'Step 2 PO Calculator'!B447:D2446,3,FALSE),\"Leave this line blank\")","v":"Leave this line blank"},{"$nulls":11},"",null,"","No",null,null,"No"]
[null,{"$f":"IF('Step 2 PO Calculator'!B448=\"Yes\",VLOOKUP('drop down'!$A$2,'Step 2 PO Calculator'!B448:D2447,3,FALSE),\"Leave this line blank\")","v":"Leave this line blank"},{"$nulls":11},"",null,"","No",null,null,"No"]
[null,{"$f":"IF('Step 2 PO Calculator'!B449=\"Yes\",VLOOKUP('drop down'!$A$2,'Step 2 PO Calculator'!B449:D2448,3,FALSE),\"Leave this line blank\")","v":"Leave this line blank"},{"$nulls":11},"",null,"","No",null,null,"No"]
[null,{"$f":"IF('Step 2 PO Calculator'!B450=\"Yes\",VLOOKUP('drop down'!$A$2,'Step 2 PO Calculator'!B450:D2449,3,FALSE),\"Leave this line blank\")","v":"Leave this line blank"},{"$nulls":11},"",null,"","No",null,null,"No"]
[null,{"$f":"IF('Step 2 PO Calculator'!B451=\"Yes\",VLOOKUP('drop down'!$A$2,'Step 2 PO Calculator'!B451:D2450,3,FALSE),\"Leave this line blank\")","v":"Leave this line blank"},{"$nulls":11},"",null,"","No",null,null,"No"]
[null,{"$f":"IF('Step 2 PO Calculator'!B452=\"Yes\",VLOOKUP('drop down'!$A$2,'Step 2 PO Calculator'!B452:D2451,3,FALSE),\"Leave this line blank\")","v":"Leave this line blank"},{"$nulls":11},"",null,"","No",null,null,"No"]
[null,{"$f":"IF('Step 2 PO Calculator'!B453=\"Yes\",VLOOKUP('drop down'!$A$2,'Step 2 PO Calculator'!B453:D2452,3,FALSE),\"Leave this line blank\")","v":"Leave this line blank"},{"$nulls":11},"",null,"","No",null,null,"No"]
[null,{"$f":"IF('Step 2 PO Calculator'!B454=\"Yes\",VLOOKUP('drop down'!$A$2,'Step 2 PO Calculator'!B454:D2453,3,FALSE),\"Leave this line blank\")","v":"Leave this line blank"},{"$nulls":11},"",null,"","No",null,null,"No"]
[null,{"$f":"IF('Step 2 PO Calculator'!B455=\"Yes\",VLOOKUP('drop down'!$A$2,'Step 2 PO Calculator'!B455:D2454,3,FALSE),\"Leave this line blank\")","v":"Leave this line blank"},{"$nulls":11},"",null,"","No",null,null,"No"]
[null,{"$f":"IF('Step 2 PO Calculator'!B456=\"Yes\",VLOOKUP('drop down'!$A$2,'Step 2 PO Calculator'!B456:D2455,3,FALSE),\"Leave this line blank\")","v":"Leave this line blank"},{"$nulls":11},"",null,"","No",null,null,"No"]
[null,{"$f":"IF('Step 2 PO Calculator'!B457=\"Yes\",VLOOKUP('drop down'!$A$2,'Step 2 PO Calculator'!B457:D2456,3,FALSE),\"Leave this line blank\")","v":"Leave this line blank"},{"$nulls":11},"",null,"","No",null,null,"No"]
[null,{"$f":"IF('Step 2 PO Calculator'!B458=\"Yes\",VLOOKUP('drop down'!$A$2,'Step 2 PO Calculator'!B458:D2457,3,FALSE),\"Leave this line blank\")","v":"Leave this line blank"},{"$nulls":11},"",null,"","No",null,null,"No"]
[null,{"$f":"IF('Step 2 PO Calculator'!B459=\"Yes\",VLOOKUP('drop down'!$A$2,'Step 2 PO Calculator'!B459:D2458,3,FALSE),\"Leave this line blank\")","v":"Leave this line blank"},{"$nulls":11},"",null,"","No",null,null,"No"]
[null,{"$f":"IF('Step 2 PO Calculator'!B460=\"Yes\",VLOOKUP('drop down'!$A$2,'Step 2 PO Calculator'!B460:D2459,3,FALSE),\"Leave this line blank\")","v":"Leave this line blank"},{"$nulls":11},"",null,"","No",null,null,"No"]
[null,{"$f":"IF('Step 2 PO Calculator'!B461=\"Yes\",VLOOKUP('drop down'!$A$2,'Step 2 PO Calculator'!B461:D2460,3,FALSE),\"Leave this line blank\")","v":"Leave this line blank"},{"$nulls":11},"",null,"","No",null,null,"No"]
[null,{"$f":"IF('Step 2 PO Calculator'!B462=\"Yes\",VLOOKUP('drop down'!$A$2,'Step 2 PO Calculator'!B462:D2461,3,FALSE),\"Leave this line blank\")","v":"Leave this line blank"},{"$nulls":11},"",null,"","No",null,null,"No"]
[null,{"$f":"IF('Step 2 PO Calculator'!B463=\"Yes\",VLOOKUP('drop down'!$A$2,'Step 2 PO Calculator'!B463:D2462,3,FALSE),\"Leave this line blank\")","v":"Leave this line blank"},{"$nulls":11},"",null,"","No",null,null,"No"]
[null,{"$f":"IF('Step 2 PO Calculator'!B464=\"Yes\",VLOOKUP('drop down'!$A$2,'Step 2 PO Calculator'!B464:D2463,3,FALSE),\"Leave this line blank\")","v":"Leave this line blank"},{"$nulls":11},"",null,"","No",null,null,"No"]
[null,{"$f":"IF('Step 2 PO Calculator'!B465=\"Yes\",VLOOKUP('drop down'!$A$2,'Step 2 PO Calculator'!B465:D2464,3,FALSE),\"Leave this line blank\")","v":"Leave this line blank"},{"$nulls":11},"",null,"","No",null,null,"No"]
[null,{"$f":"IF('Step 2 PO Calculator'!B466=\"Yes\",VLOOKUP('drop down'!$A$2,'Step 2 PO Calculator'!B466:D2465,3,FALSE),\"Leave this line blank\")","v":"Leave this line blank"},{"$nulls":11},"",null,"","No",null,null,"No"]
[null,{"$f":"IF('Step 2 PO Calculator'!B467=\"Yes\",VLOOKUP('drop down'!$A$2,'Step 2 PO Calculator'!B467:D2466,3,FALSE),\"Leave this line blank\")","v":"Leave this line blank"},{"$nulls":11},{"$f":"IF(I462=\"\",\"\",IF(_xlfn.DAYS(I$8,I462)>=180,\"X\",\"\"))","v":""},null,{"$f":"IF(K462=\"\",\"\",IF(_xlfn.DAYS(K462,I$8)<0,\"\",\"X\"))","v":""},{"$f":"IF(AND(N462=\"X\",P462=\"X\"),\"Yes\",\"No\")","v":"No"},null,null,{"$f":"IF(AND(N462=\"X\",P462=\"X\",R462=\"Yes\"),\"Yes\",\"No\")","v":"No"}]
[null,{"$f":"IF('Step 2 PO Calculator'!B468=\"Yes\",VLOOKUP('drop down'!$A$2,'Step 2 PO Calculator'!B468:D2467,3,FALSE),\"Leave this line blank\")","v":"Leave this line blank"},{"$nulls":11},"",null,"","No",null,null,"No"]
[null,{"$f":"IF('Step 2 PO Calculator'!B469=\"Yes\",VLOOKUP('drop down'!$A$2,'Step 2 PO Calculator'!B469:D2468,3,FALSE),\"Leave this line blank\")","v":"Leave this line blank"},{"$nulls":11},"",null,"","No",null,null,"No"]
[null,{"$f":"IF('Step 2 PO Calculator'!B470=\"Yes\",VLOOKUP('drop down'!$A$2,'Step 2 PO Calculator'!B470:D2469,3,FALSE),\"Leave this line blank\")","v":"Leave this line blank"},{"$nulls":11},"",null,"","No",null,null,"No"]
[null,{"$f":"IF('Step 2 PO Calculator'!B471=\"Yes\",VLOOKUP('drop down'!$A$2,'Step 2 PO Calculator'!B471:D2470,3,FALSE),\"Leave this line blank\")","v":"Leave this line blank"},{"$nulls":11},"",null,"","No",null,null,"No"]
[null,{"$f":"IF('Step 2 PO Calculator'!B472=\"Yes\",VLOOKUP('drop down'!$A$2,'Step 2 PO Calculator'!B472:D2471,3,FALSE),\"Leave this line blank\")","v":"Leave this line blank"},{"$nulls":11},"",null,"","No",null,null,"No"]
[null,{"$f":"IF('Step 2 PO Calculator'!B473=\"Yes\",VLOOKUP('drop down'!$A$2,'Step 2 PO Calculator'!B473:D2472,3,FALSE),\"Leave this line blank\")","v":"Leave this line blank"},{"$nulls":11},"",null,"","No",null,null,"No"]
[null,{"$f":"IF('Step 2 PO Calculator'!B474=\"Yes\",VLOOKUP('drop down'!$A$2,'Step 2 PO Calculator'!B474:D2473,3,FALSE),\"Leave this line blank\")","v":"Leave this line blank"},{"$nulls":11},"",null,"","No",null,null,"No"]
[null,{"$f":"IF('Step 2 PO Calculator'!B475=\"Yes\",VLOOKUP('drop down'!$A$2,'Step 2 PO Calculator'!B475:D2474,3,FALSE),\"Leave this line blank\")","v":"Leave this line blank"},{"$nulls":11},"",null,"","No",null,null,"No"]
[null,{"$f":"IF('Step 2 PO Calculator'!B476=\"Yes\",VLOOKUP('drop down'!$A$2,'Step 2 PO Calculator'!B476:D2475,3,FALSE),\"Leave this line blank\")","v":"Leave this line blank"},{"$nulls":11},"",null,"","No",null,null,"No"]
[null,{"$f":"IF('Step 2 PO Calculator'!B477=\"Yes\",VLOOKUP('drop down'!$A$2,'Step 2 PO Calculator'!B477:D2476,3,FALSE),\"Leave this line blank\")","v":"Leave this line blank"},{"$nulls":11},"",null,"","No",null,null,"No"]
[null,{"$f":"IF('Step 2 PO Calculator'!B478=\"Yes\",VLOOKUP('drop down'!$A$2,'Step 2 PO Calculator'!B478:D2477,3,FALSE),\"Leave this line blank\")","v":"Leave this line blank"},{"$nulls":11},"",null,"","No",null,null,"No"]
[null,{"$f":"IF('Step 2 PO Calculator'!B479=\"Yes\",VLOOKUP('drop down'!$A$2,'Step 2 PO Calculator'!B479:D2478,3,FALSE),\"Leave this line blank\")","v":"Leave this line blank"},{"$nulls":11},"",null,"","No",null,null,"No"]
[null,{"$f":"IF('Step 2 PO Calculator'!B480=\"Yes\",VLOOKUP('drop down'!$A$2,'Step 2 PO Calculator'!B480:D2479,3,FALSE),\"Leave this line blank\")","v":"Leave this line blank"},{"$nulls":11},"",null,"","No",null,null,"No"]
[null,{"$f":"IF('Step 2 PO Calculator'!B481=\"Yes\",VLOOKUP('drop down'!$A$2,'Step 2 PO Calculator'!B481:D2480,3,FALSE),\"Leave this line blank\")","v":"Leave this line blank"},{"$nulls":11},"",null,"","No",null,null,"No"]
[null,{"$f":"IF('Step 2 PO Calculator'!B482=\"Yes\",VLOOKUP('drop down'!$A$2,'Step 2 PO Calculator'!B482:D2481,3,FALSE),\"Leave this line blank\")","v":"Leave this line blank"},{"$nulls":11},"",null,"","No",null,null,"No"]
[null,{"$f":"IF('Step 2 PO Calculator'!B483=\"Yes\",VLOOKUP('drop down'!$A$2,'Step 2 PO Calculator'!B483:D2482,3,FALSE),\"Leave this line blank\")","v":"Leave this line blank"},{"$nulls":11},"",null,"","No",null,null,"No"]
[null,{"$f":"IF('Step 2 PO Calculator'!B484=\"Yes\",VLOOKUP('drop down'!$A$2,'Step 2 PO Calculator'!B484:D2483,3,FALSE),\"Leave this line blank\")","v":"Leave this line blank"},{"$nulls":11},"",null,"","No",null,null,"No"]
[null,{"$f":"IF('Step 2 PO Calculator'!B485=\"Yes\",VLOOKUP('drop down'!$A$2,'Step 2 PO Calculator'!B485:D2484,3,FALSE),\"Leave this line blank\")","v":"Leave this line blank"},{"$nulls":11},"",null,"","No",null,null,"No"]
[null,{"$f":"IF('Step 2 PO Calculator'!B486=\"Yes\",VLOOKUP('drop down'!$A$2,'Step 2 PO Calculator'!B486:D2485,3,FALSE),\"Leave this line blank\")","v":"Leave this line blank"},{"$nulls":11},"",null,"","No",null,null,"No"]
[null,{"$f":"IF('Step 2 PO Calculator'!B487=\"Yes\",VLOOKUP('drop down'!$A$2,'Step 2 PO Calculator'!B487:D2486,3,FALSE),\"Leave this line blank\")","v":"Leave this line blank"},{"$nulls":11},"",null,"","No",null,null,"No"]
[null,{"$f":"IF('Step 2 PO Calculator'!B488=\"Yes\",VLOOKUP('drop down'!$A$2,'Step 2 PO Calculator'!B488:D2487,3,FALSE),\"Leave this line blank\")","v":"Leave this line blank"},{"$nulls":11},"",null,"","No",null,null,"No"]
[null,{"$f":"IF('Step 2 PO Calculator'!B489=\"Yes\",VLOOKUP('drop down'!$A$2,'Step 2 PO Calculator'!B489:D2488,3,FALSE),\"Leave this line blank\")","v":"Leave this line blank"},{"$nulls":11},"",null,"","No",null,null,"No"]
[null,{"$f":"IF('Step 2 PO Calculator'!B490=\"Yes\",VLOOKUP('drop down'!$A$2,'Step 2 PO Calculator'!B490:D2489,3,FALSE),\"Leave this line blank\")","v":"Leave this line blank"},{"$nulls":11},"",null,"","No",null,null,"No"]
[null,{"$f":"IF('Step 2 PO Calculator'!B491=\"Yes\",VLOOKUP('drop down'!$A$2,'Step 2 PO Calculator'!B491:D2490,3,FALSE),\"Leave this line blank\")","v":"Leave this line blank"},{"$nulls":11},"",null,"","No",null,null,"No"]
[null,{"$f":"IF('Step 2 PO Calculator'!B492=\"Yes\",VLOOKUP('drop down'!$A$2,'Step 2 PO Calculator'!B492:D2491,3,FALSE),\"Leave this line blank\")","v":"Leave this line blank"},{"$nulls":11},"",null,"","No",null,null,"No"]
[null,{"$f":"IF('Step 2 PO Calculator'!B493=\"Yes\",VLOOKUP('drop down'!$A$2,'Step 2 PO Calculator'!B493:D2492,3,FALSE),\"Leave this line blank\")","v":"Leave this line blank"},{"$nulls":11},"",null,"","No",null,null,"No"]
[null,{"$f":"IF('Step 2 PO Calculator'!B494=\"Yes\",VLOOKUP('drop down'!$A$2,'Step 2 PO Calculator'!B494:D2493,3,FALSE),\"Leave this line blank\")","v":"Leave this line blank"},{"$nulls":11},"",null,"","No",null,null,"No"]
[null,{"$f":"IF('Step 2 PO Calculator'!B495=\"Yes\",VLOOKUP('drop down'!$A$2,'Step 2 PO Calculator'!B495:D2494,3,FALSE),\"Leave this line blank\")","v":"Leave this line blank"},{"$nulls":11},"",null,"","No",null,null,"No"]
[null,{"$f":"IF('Step 2 PO Calculator'!B496=\"Yes\",VLOOKUP('drop down'!$A$2,'Step 2 PO Calculator'!B496:D2495,3,FALSE),\"Leave this line blank\")","v":"Leave this line blank"},{"$nulls":11},"",null,"","No",null,null,"No"]
[null,{"$f":"IF('Step 2 PO Calculator'!B497=\"Yes\",VLOOKUP('drop down'!$A$2,'Step 2 PO Calculator'!B497:D2496,3,FALSE),\"Leave this line blank\")","v":"Leave this line blank"},{"$nulls":11},"",null,"","No",null,null,"No"]
[null,{"$f":"IF('Step 2 PO Calculator'!B498=\"Yes\",VLOOKUP('drop down'!$A$2,'Step 2 PO Calculator'!B498:D2497,3,FALSE),\"Leave this line blank\")","v":"Leave this line blank"},{"$nulls":11},"",null,"","No",null,null,"No"]
[null,{"$f":"IF('Step 2 PO Calculator'!B499=\"Yes\",VLOOKUP('drop down'!$A$2,'Step 2 PO Calculator'!B499:D2498,3,FALSE),\"Leave this line blank\")","v":"Leave this line blank"},{"$nulls":11},"",null,"","No",null,null,"No"]
[null,{"$f":"IF('Step 2 PO Calculator'!B500=\"Yes\",VLOOKUP('drop down'!$A$2,'Step 2 PO Calculator'!B500:D2499,3,FALSE),\"Leave this line blank\")","v":"Leave this line blank"},{"$nulls":11},"",null,"","No",null,null,"No"]
[null,{"$f":"IF('Step 2 PO Calculator'!B501=\"Yes\",VLOOKUP('drop down'!$A$2,'Step 2 PO Calculator'!B501:D2500,3,FALSE),\"Leave this line blank\")","v":"Leave this line blank"},{"$nulls":11},"",null,"","No",null,null,"No"]
[null,{"$f":"IF('Step 2 PO Calculator'!B502=\"Yes\",VLOOKUP('drop down'!$A$2,'Step 2 PO Calculator'!B502:D2501,3,FALSE),\"Leave this line blank\")","v":"Leave this line blank"},{"$nulls":11},"",null,"","No",null,null,"No"]
[null,{"$f":"IF('Step 2 PO Calculator'!B503=\"Yes\",VLOOKUP('drop down'!$A$2,'Step 2 PO Calculator'!B503:D2502,3,FALSE),\"Leave this line blank\")","v":"Leave this line blank"},{"$nulls":11},"",null,"","No",null,null,"No"]
[null,{"$f":"IF('Step 2 PO Calculator'!B504=\"Yes\",VLOOKUP('drop down'!$A$2,'Step 2 PO Calculator'!B504:D2503,3,FALSE),\"Leave this line blank\")","v":"Leave this line blank"},{"$nulls":11},"",null,"","No",null,null,"No"]
[null,{"$f":"IF('Step 2 PO Calculator'!B505=\"Yes\",VLOOKUP('drop down'!$A$2,'Step 2 PO Calculator'!B505:D2504,3,FALSE),\"Leave this line blank\")","v":"Leave this line blank"},{"$nulls":11},"",null,"","No",null,null,"No"]
[null,{"$f":"IF('Step 2 PO Calculator'!B506=\"Yes\",VLOOKUP('drop down'!$A$2,'Step 2 PO Calculator'!B506:D2505,3,FALSE),\"Leave this line blank\")","v":"Leave this line blank"},{"$nulls":11},"",null,"","No",null,null,"No"]
[null,{"$f":"IF('Step 2 PO Calculator'!B507=\"Yes\",VLOOKUP('drop down'!$A$2,'Step 2 PO Calculator'!B507:D2506,3,FALSE),\"Leave this line blank\")","v":"Leave this line blank"},{"$nulls":11},"",null,"","No",null,null,"No"]
[null,{"$f":"IF('Step 2 PO Calculator'!B508=\"Yes\",VLOOKUP('drop down'!$A$2,'Step 2 PO Calculator'!B508:D2507,3,FALSE),\"Leave this line blank\")","v":"Leave this line blank"},{"$nulls":11},"",null,"","No",null,null,"No"]
[null,{"$f":"IF('Step 2 PO Calculator'!B509=\"Yes\",VLOOKUP('drop down'!$A$2,'Step 2 PO Calculator'!B509:D2508,3,FALSE),\"Leave this line blank\")","v":"Leave this line blank"},{"$nulls":11},"",null,"","No",null,null,"No"]
[null,{"$f":"IF('Step 2 PO Calculator'!B510=\"Yes\",VLOOKUP('drop down'!$A$2,'Step 2 PO Calculator'!B510:D2509,3,FALSE),\"Leave this line blank\")","v":"Leave this line blank"},{"$nulls":11},"",null,"","No",null,null,"No"]
[null,{"$f":"IF('Step 2 PO Calculator'!B511=\"Yes\",VLOOKUP('drop down'!$A$2,'Step 2 PO Calculator'!B511:D2510,3,FALSE),\"Leave this line blank\")","v":"Leave this line blank"},{"$nulls":11},"",null,"","No",null,null,"No"]
[null,{"$f":"IF('Step 2 PO Calculator'!B512=\"Yes\",VLOOKUP('drop down'!$A$2,'Step 2 PO Calculator'!B512:D2511,3,FALSE),\"Leave this line blank\")","v":"Leave this line blank"},{"$nulls":11},"",null,"","No",null,null,"No"]
[null,{"$f":"IF('Step 2 PO Calculator'!B513=\"Yes\",VLOOKUP('drop down'!$A$2,'Step 2 PO Calculator'!B513:D2512,3,FALSE),\"Leave this line blank\")","v":"Leave this line blank"},{"$nulls":11},"",null,"","No",null,null,"No"]
[null,{"$f":"IF('Step 2 PO Calculator'!B514=\"Yes\",VLOOKUP('drop down'!$A$2,'Step 2 PO Calculator'!B514:D2513,3,FALSE),\"Leave this line blank\")","v":"Leave this line blank"},{"$nulls":11},"",null,"","No",null,null,"No"]
[null,{"$f":"IF('Step 2 PO Calculator'!B515=\"Yes\",VLOOKUP('drop down'!$A$2,'Step 2 PO Calculator'!B515:D2514,3,FALSE),\"Leave this line blank\")","v":"Leave this line blank"},{"$nulls":11},"",null,"","No",null,null,"No"]
[null,{"$f":"IF('Step 2 PO Calculator'!B516=\"Yes\",VLOOKUP('drop down'!$A$2,'Step 2 PO Calculator'!B516:D2515,3,FALSE),\"Leave this line blank\")","v":"Leave this line blank"},{"$nulls":11},"",null,"","No",null,null,"No"]
[null,{"$f":"IF('Step 2 PO Calculator'!B517=\"Yes\",VLOOKUP('drop down'!$A$2,'Step 2 PO Calculator'!B517:D2516,3,FALSE),\"Leave this line blank\")","v":"Leave this line blank"},{"$nulls":11},"",null,"","No",null,null,"No"]
[null,{"$f":"IF('Step 2 PO Calculator'!B518=\"Yes\",VLOOKUP('drop down'!$A$2,'Step 2 PO Calculator'!B518:D2517,3,FALSE),\"Leave this line blank\")","v":"Leave this line blank"},{"$nulls":11},"",null,"","No",null,null,"No"]
[null,{"$f":"IF('Step 2 PO Calculator'!B519=\"Yes\",VLOOKUP('drop down'!$A$2,'Step 2 PO Calculator'!B519:D2518,3,FALSE),\"Leave this line blank\")","v":"Leave this line blank"},{"$nulls":11},"",null,"","No",null,null,"No"]
[null,{"$f":"IF('Step 2 PO Calculator'!B520=\"Yes\",VLOOKUP('drop down'!$A$2,'Step 2 PO Calculator'!B520:D2519,3,FALSE),\"Leave this line blank\")","v":"Leave this line blank"},{"$nulls":11},"",null,"","No",null,null,"No"]
[null,{"$f":"IF('Step 2 PO Calculator'!B521=\"Yes\",VLOOKUP('drop down'!$A$2,'Step 2 PO Calculator'!B521:D2520,3,FALSE),\"Leave this line blank\")","v":"Leave this line blank"},{"$nulls":11},"",null,"","No",null,null,"No"]
[null,{"$f":"IF('Step 2 PO Calculator'!B522=\"Yes\",VLOOKUP('drop down'!$A$2,'Step 2 PO Calculator'!B522:D2521,3,FALSE),\"Leave this line blank\")","v":"Leave this line blank"},{"$nulls":11},"",null,"","No",null,null,"No"]
[null,{"$f":"IF('Step 2 PO Calculator'!B523=\"Yes\",VLOOKUP('drop down'!$A$2,'Step 2 PO Calculator'!B523:D2522,3,FALSE),\"Leave this line blank\")","v":"Leave this line blank"},{"$nulls":11},"",null,"","No",null,null,"No"]
[null,{"$f":"IF('Step 2 PO Calculator'!B524=\"Yes\",VLOOKUP('drop down'!$A$2,'Step 2 PO Calculator'!B524:D2523,3,FALSE),\"Leave this line blank\")","v":"Leave this line blank"},{"$nulls":11},"",null,"","No",null,null,"No"]
[null,{"$f":"IF('Step 2 PO Calculator'!B525=\"Yes\",VLOOKUP('drop down'!$A$2,'Step 2 PO Calculator'!B525:D2524,3,FALSE),\"Leave this line blank\")","v":"Leave this line blank"},{"$nulls":11},"",null,"","No",null,null,"No"]
[null,{"$f":"IF('Step 2 PO Calculator'!B526=\"Yes\",VLOOKUP('drop down'!$A$2,'Step 2 PO Calculator'!B526:D2525,3,FALSE),\"Leave this line blank\")","v":"Leave this line blank"},{"$nulls":11},"",null,"","No",null,null,"No"]
[null,{"$f":"IF('Step 2 PO Calculator'!B527=\"Yes\",VLOOKUP('drop down'!$A$2,'Step 2 PO Calculator'!B527:D2526,3,FALSE),\"Leave this line blank\")","v":"Leave this line blank"},{"$nulls":11},"",null,"","No",null,null,"No"]
[null,{"$f":"IF('Step 2 PO Calculator'!B528=\"Yes\",VLOOKUP('drop down'!$A$2,'Step 2 PO Calculator'!B528:D2527,3,FALSE),\"Leave this line blank\")","v":"Leave this line blank"},{"$nulls":11},"",null,"","No",null,null,"No"]
[null,{"$f":"IF('Step 2 PO Calculator'!B529=\"Yes\",VLOOKUP('drop down'!$A$2,'Step 2 PO Calculator'!B529:D2528,3,FALSE),\"Leave this line blank\")","v":"Leave this line blank"},{"$nulls":11},"",null,"","No",null,null,"No"]
[null,{"$f":"IF('Step 2 PO Calculator'!B530=\"Yes\",VLOOKUP('drop down'!$A$2,'Step 2 PO Calculator'!B530:D2529,3,FALSE),\"Leave this line blank\")","v":"Leave this line blank"},{"$nulls":11},"",null,"","No",null,null,"No"]
[null,{"$f":"IF('Step 2 PO Calculator'!B531=\"Yes\",VLOOKUP('drop down'!$A$2,'Step 2 PO Calculator'!B531:D2530,3,FALSE),\"Leave this line blank\")","v":"Leave this line blank"},{"$nulls":11},{"$f":"IF(I526=\"\",\"\",IF(_xlfn.DAYS(I$8,I526)>=180,\"X\",\"\"))","v":""},null,{"$f":"IF(K526=\"\",\"\",IF(_xlfn.DAYS(K526,I$8)<0,\"\",\"X\"))","v":""},{"$f":"IF(AND(N526=\"X\",P526=\"X\"),\"Yes\",\"No\")","v":"No"},null,null,{"$f":"IF(AND(N526=\"X\",P526=\"X\",R526=\"Yes\"),\"Yes\",\"No\")","v":"No"}]
[null,{"$f":"IF('Step 2 PO Calculator'!B532=\"Yes\",VLOOKUP('drop down'!$A$2,'Step 2 PO Calculator'!B532:D2531,3,FALSE),\"Leave this line blank\")","v":"Leave this line blank"},{"$nulls":11},"",null,"","No",null,null,"No"]
[null,{"$f":"IF('Step 2 PO Calculator'!B533=\"Yes\",VLOOKUP('drop down'!$A$2,'Step 2 PO Calculator'!B533:D2532,3,FALSE),\"Leave this line blank\")","v":"Leave this line blank"},{"$nulls":11},"",null,"","No",null,null,"No"]
[null,{"$f":"IF('Step 2 PO Calculator'!B534=\"Yes\",VLOOKUP('drop down'!$A$2,'Step 2 PO Calculator'!B534:D2533,3,FALSE),\"Leave this line blank\")","v":"Leave this line blank"},{"$nulls":11},"",null,"","No",null,null,"No"]
[null,{"$f":"IF('Step 2 PO Calculator'!B535=\"Yes\",VLOOKUP('drop down'!$A$2,'Step 2 PO Calculator'!B535:D2534,3,FALSE),\"Leave this line blank\")","v":"Leave this line blank"},{"$nulls":11},"",null,"","No",null,null,"No"]
[null,{"$f":"IF('Step 2 PO Calculator'!B536=\"Yes\",VLOOKUP('drop down'!$A$2,'Step 2 PO Calculator'!B536:D2535,3,FALSE),\"Leave this line blank\")","v":"Leave this line blank"},{"$nulls":11},"",null,"","No",null,null,"No"]
[null,{"$f":"IF('Step 2 PO Calculator'!B537=\"Yes\",VLOOKUP('drop down'!$A$2,'Step 2 PO Calculator'!B537:D2536,3,FALSE),\"Leave this line blank\")","v":"Leave this line blank"},{"$nulls":11},"",null,"","No",null,null,"No"]
[null,{"$f":"IF('Step 2 PO Calculator'!B538=\"Yes\",VLOOKUP('drop down'!$A$2,'Step 2 PO Calculator'!B538:D2537,3,FALSE),\"Leave this line blank\")","v":"Leave this line blank"},{"$nulls":11},"",null,"","No",null,null,"No"]
[null,{"$f":"IF('Step 2 PO Calculator'!B539=\"Yes\",VLOOKUP('drop down'!$A$2,'Step 2 PO Calculator'!B539:D2538,3,FALSE),\"Leave this line blank\")","v":"Leave this line blank"},{"$nulls":11},"",null,"","No",null,null,"No"]
[null,{"$f":"IF('Step 2 PO Calculator'!B540=\"Yes\",VLOOKUP('drop down'!$A$2,'Step 2 PO Calculator'!B540:D2539,3,FALSE),\"Leave this line blank\")","v":"Leave this line blank"},{"$nulls":11},"",null,"","No",null,null,"No"]
[null,{"$f":"IF('Step 2 PO Calculator'!B541=\"Yes\",VLOOKUP('drop down'!$A$2,'Step 2 PO Calculator'!B541:D2540,3,FALSE),\"Leave this line blank\")","v":"Leave this line blank"},{"$nulls":11},"",null,"","No",null,null,"No"]
[null,{"$f":"IF('Step 2 PO Calculator'!B542=\"Yes\",VLOOKUP('drop down'!$A$2,'Step 2 PO Calculator'!B542:D2541,3,FALSE),\"Leave this line blank\")","v":"Leave this line blank"},{"$nulls":11},"",null,"","No",null,null,"No"]
[null,{"$f":"IF('Step 2 PO Calculator'!B543=\"Yes\",VLOOKUP('drop down'!$A$2,'Step 2 PO Calculator'!B543:D2542,3,FALSE),\"Leave this line blank\")","v":"Leave this line blank"},{"$nulls":11},"",null,"","No",null,null,"No"]
[null,{"$f":"IF('Step 2 PO Calculator'!B544=\"Yes\",VLOOKUP('drop down'!$A$2,'Step 2 PO Calculator'!B544:D2543,3,FALSE),\"Leave this line blank\")","v":"Leave this line blank"},{"$nulls":11},"",null,"","No",null,null,"No"]
[null,{"$f":"IF('Step 2 PO Calculator'!B545=\"Yes\",VLOOKUP('drop down'!$A$2,'Step 2 PO Calculator'!B545:D2544,3,FALSE),\"Leave this line blank\")","v":"Leave this line blank"},{"$nulls":11},"",null,"","No",null,null,"No"]
[null,{"$f":"IF('Step 2 PO Calculator'!B546=\"Yes\",VLOOKUP('drop down'!$A$2,'Step 2 PO Calculator'!B546:D2545,3,FALSE),\"Leave this line blank\")","v":"Leave this line blank"},{"$nulls":11},"",null,"","No",null,null,"No"]
[null,{"$f":"IF('Step 2 PO Calculator'!B547=\"Yes\",VLOOKUP('drop down'!$A$2,'Step 2 PO Calculator'!B547:D2546,3,FALSE),\"Leave this line blank\")","v":"Leave this line blank"},{"$nulls":11},"",null,"","No",null,null,"No"]
[null,{"$f":"IF('Step 2 PO Calculator'!B548=\"Yes\",VLOOKUP('drop down'!$A$2,'Step 2 PO Calculator'!B548:D2547,3,FALSE),\"Leave this line blank\")","v":"Leave this line blank"},{"$nulls":11},"",null,"","No",null,null,"No"]
[null,{"$f":"IF('Step 2 PO Calculator'!B549=\"Yes\",VLOOKUP('drop down'!$A$2,'Step 2 PO Calculator'!B549:D2548,3,FALSE),\"Leave this line blank\")","v":"Leave this line blank"},{"$nulls":11},"",null,"","No",null,null,"No"]
[null,{"$f":"IF('Step 2 PO Calculator'!B550=\"Yes\",VLOOKUP('drop down'!$A$2,'Step 2 PO Calculator'!B550:D2549,3,FALSE),\"Leave this line blank\")","v":"Leave this line blank"},{"$nulls":11},"",null,"","No",null,null,"No"]
[null,{"$f":"IF('Step 2 PO Calculator'!B551=\"Yes\",VLOOKUP('drop down'!$A$2,'Step 2 PO Calculator'!B551:D2550,3,FALSE),\"Leave this line blank\")","v":"Leave this line blank"},{"$nulls":11},"",null,"","No",null,null,"No"]
[null,{"$f":"IF('Step 2 PO Calculator'!B552=\"Yes\",VLOOKUP('drop down'!$A$2,'Step 2 PO Calculator'!B552:D2551,3,FALSE),\"Leave this line blank\")","v":"Leave this line blank"},{"$nulls":11},"",null,"","No",null,null,"No"]
[null,{"$f":"IF('Step 2 PO Calculator'!B553=\"Yes\",VLOOKUP('drop down'!$A$2,'Step 2 PO Calculator'!B553:D2552,3,FALSE),\"Leave this line blank\")","v":"Leave this line blank"},{"$nulls":11},"",null,"","No",null,null,"No"]
[null,{"$f":"IF('Step 2 PO Calculator'!B2018=\"Yes\",VLOOKUP('drop down'!$A$2,'Step 2 PO Calculator'!B2018:D2553,3,FALSE),\"Leave this line blank\")","v":"Leave this line blank"},{"$nulls":11},"",null,"","No",null,null,"No"]
[null,{"$f":"IF('Step 2 PO Calculator'!B2019=\"Yes\",VLOOKUP('drop down'!$A$2,'Step 2 PO Calculator'!B2019:D2554,3,FALSE),\"Leave this line blank\")","v":"Leave this line blank"},{"$nulls":11},"",null,"","No",null,null,"No"]
[null,{"$f":"IF('Step 2 PO Calculator'!B2020=\"Yes\",VLOOKUP('drop down'!$A$2,'Step 2 PO Calculator'!B2020:D2555,3,FALSE),\"Leave this line blank\")","v":"Leave this line blank"},{"$nulls":11},"",null,"","No",null,null,"No"]
[null,{"$f":"IF('Step 2 PO Calculator'!B2021=\"Yes\",VLOOKUP('drop down'!$A$2,'Step 2 PO Calculator'!B2021:D2556,3,FALSE),\"Leave this line blank\")","v":"Leave this line blank"},{"$nulls":11},"",null,"","No",null,null,"No"]
[null,{"$f":"IF('Step 2 PO Calculator'!B2022=\"Yes\",VLOOKUP('drop down'!$A$2,'Step 2 PO Calculator'!B2022:D2557,3,FALSE),\"Leave this line blank\")","v":"Leave this line blank"},{"$nulls":11},"",null,"","No",null,null,"No"]
[null,{"$f":"IF('Step 2 PO Calculator'!B2023=\"Yes\",VLOOKUP('drop down'!$A$2,'Step 2 PO Calculator'!B2023:D2558,3,FALSE),\"Leave this line blank\")","v":"Leave this line blank"},{"$nulls":11},"",null,"","No",null,null,"No"]
[null,{"$f":"IF('Step 2 PO Calculator'!B2024=\"Yes\",VLOOKUP('drop down'!$A$2,'Step 2 PO Calculator'!B2024:D2559,3,FALSE),\"Leave this line blank\")","v":"Leave this line blank"},{"$nulls":11},"",null,"","No",null,null,"No"]
[null,{"$f":"IF('Step 2 PO Calculator'!B2025=\"Yes\",VLOOKUP('drop down'!$A$2,'Step 2 PO Calculator'!B2025:D2560,3,FALSE),\"Leave this line blank\")","v":"Leave this line blank"},{"$nulls":11},"",null,"","No",null,null,"No"]
[null,{"$f":"IF('Step 2 PO Calculator'!B2026=\"Yes\",VLOOKUP('drop down'!$A$2,'Step 2 PO Calculator'!B2026:D2561,3,FALSE),\"Leave this line blank\")","v":"Leave this line blank"},{"$nulls":11},"",null,"","No",null,null,"No"]
[null,{"$f":"IF('Step 2 PO Calculator'!B2027=\"Yes\",VLOOKUP('drop down'!$A$2,'Step 2 PO Calculator'!B2027:D2562,3,FALSE),\"Leave this line blank\")","v":"Leave this line blank"},{"$nulls":11},"",null,"","No",null,null,"No"]
[null,{"$f":"IF('Step 2 PO Calculator'!B2028=\"Yes\",VLOOKUP('drop down'!$A$2,'Step 2 PO Calculator'!B2028:D2563,3,FALSE),\"Leave this line blank\")","v":"Leave this line blank"},{"$nulls":11},"",null,"","No",null,null,"No"]
[null,{"$f":"IF('Step 2 PO Calculator'!B2029=\"Yes\",VLOOKUP('drop down'!$A$2,'Step 2 PO Calculator'!B2029:D2564,3,FALSE),\"Leave this line blank\")","v":"Leave this line blank"},{"$nulls":11},"",null,"","No",null,null,"No"]
[null,{"$f":"IF('Step 2 PO Calculator'!B2030=\"Yes\",VLOOKUP('drop down'!$A$2,'Step 2 PO Calculator'!B2030:D2565,3,FALSE),\"Leave this line blank\")","v":"Leave this line blank"},{"$nulls":11},"",null,"","No",null,null,"No"]
[null,{"$f":"IF('Step 2 PO Calculator'!B2031=\"Yes\",VLOOKUP('drop down'!$A$2,'Step 2 PO Calculator'!B2031:D2566,3,FALSE),\"Leave this line blank\")","v":"Leave this line blank"},{"$nulls":11},"",null,"","No",null,null,"No"]
[null,{"$f":"IF('Step 2 PO Calculator'!B2032=\"Yes\",VLOOKUP('drop down'!$A$2,'Step 2 PO Calculator'!B2032:D2567,3,FALSE),\"Leave this line blank\")","v":"Leave this line blank"},{"$nulls":11},"",null,"","No",null,null,"No"]
[null,{"$f":"IF('Step 2 PO Calculator'!B2033=\"Yes\",VLOOKUP('drop down'!$A$2,'Step 2 PO Calculator'!B2033:D2568,3,FALSE),\"Leave this line blank\")","v":"Leave this line blank"},{"$nulls":11},"",null,"","No",null,null,"No"]
[null,{"$f":"IF('Step 2 PO Calculator'!B2034=\"Yes\",VLOOKUP('drop down'!$A$2,'Step 2 PO Calculator'!B2034:D2569,3,FALSE),\"Leave this line blank\")","v":"Leave this line blank"},{"$nulls":11},"",null,"","No",null,null,"No"]
[null,{"$f":"IF('Step 2 PO Calculator'!B2035=\"Yes\",VLOOKUP('drop down'!$A$2,'Step 2 PO Calculator'!B2035:D2570,3,FALSE),\"Leave this line blank\")","v":"Leave this line blank"},{"$nulls":11},"",null,"","No",null,null,"No"]
[null,{"$f":"IF('Step 2 PO Calculator'!B2036=\"Yes\",VLOOKUP('drop down'!$A$2,'Step 2 PO Calculator'!B2036:D2571,3,FALSE),\"Leave this line blank\")","v":"Leave this line blank"},{"$nulls":11},"",null,"","No",null,null,"No"]
[null,{"$f":"IF('Step 2 PO Calculator'!B2037=\"Yes\",VLOOKUP('drop down'!$A$2,'Step 2 PO Calculator'!B2037:D2572,3,FALSE),\"Leave this line blank\")","v":"Leave this line blank"},{"$nulls":11},"",null,"","No",null,null,"No"]
[null,{"$f":"IF('Step 2 PO Calculator'!B2038=\"Yes\",VLOOKUP('drop down'!$A$2,'Step 2 PO Calculator'!B2038:D2573,3,FALSE),\"Leave this line blank\")","v":"Leave this line blank"},{"$nulls":11},"",null,"","No",null,null,"No"]
[null,{"$f":"IF('Step 2 PO Calculator'!B2039=\"Yes\",VLOOKUP('drop down'!$A$2,'Step 2 PO Calculator'!B2039:D2574,3,FALSE),\"Leave this line blank\")","v":"Leave this line blank"},{"$nulls":11},"",null,"","No",null,null,"No"]
[null,{"$f":"IF('Step 2 PO Calculator'!B2040=\"Yes\",VLOOKUP('drop down'!$A$2,'Step 2 PO Calculator'!B2040:D2575,3,FALSE),\"Leave this line blank\")","v":"Leave this line blank"},{"$nulls":11},"",null,"","No",null,null,"No"]
[null,{"$f":"IF('Step 2 PO Calculator'!B2041=\"Yes\",VLOOKUP('drop down'!$A$2,'Step 2 PO Calculator'!B2041:D2576,3,FALSE),\"Leave this line blank\")","v":"Leave this line blank"},{"$nulls":11},"",null,"","No",null,null,"No"]
[null,{"$f":"IF('Step 2 PO Calculator'!B2042=\"Yes\",VLOOKUP('drop down'!$A$2,'Step 2 PO Calculator'!B2042:D2577,3,FALSE),\"Leave this line blank\")","v":"Leave this line blank"},{"$nulls":11},"",null,"","No",null,null,"No"]
[null,{"$f":"IF('Step 2 PO Calculator'!B2043=\"Yes\",VLOOKUP('drop down'!$A$2,'Step 2 PO Calculator'!B2043:D2578,3,FALSE),\"Leave this line blank\")","v":"Leave this line blank"},{"$nulls":11},"",null,"","No",null,null,"No"]
[null,{"$f":"IF('Step 2 PO Calculator'!B2044=\"Yes\",VLOOKUP('drop down'!$A$2,'Step 2 PO Calculator'!B2044:D2579,3,FALSE),\"Leave this line blank\")","v":"Leave this line blank"},{"$nulls":11},"",null,"","No",null,null,"No"]
[null,{"$f":"IF('Step 2 PO Calculator'!B2045=\"Yes\",VLOOKUP('drop down'!$A$2,'Step 2 PO Calculator'!B2045:D2580,3,FALSE),\"Leave this line blank\")","v":"Leave this line blank"},{"$nulls":11},"",null,"","No",null,null,"No"]
[null,{"$f":"IF('Step 2 PO Calculator'!B2046=\"Yes\",VLOOKUP('drop down'!$A$2,'Step 2 PO Calculator'!B2046:D2581,3,FALSE),\"Leave this line blank\")","v":"Leave this line blank"},{"$nulls":11},"",null,"","No",null,null,"No"]
[null,{"$f":"IF('Step 2 PO Calculator'!B2047=\"Yes\",VLOOKUP('drop down'!$A$2,'Step 2 PO Calculator'!B2047:D2582,3,FALSE),\"Leave this line blank\")","v":"Leave this line blank"},{"$nulls":11},"",null,"","No",null,null,"No"]
[null,{"$f":"IF('Step 2 PO Calculator'!B2048=\"Yes\",VLOOKUP('drop down'!$A$2,'Step 2 PO Calculator'!B2048:D2583,3,FALSE),\"Leave this line blank\")","v":"Leave this line blank"},{"$nulls":11},"",null,"","No",null,null,"No"]
[null,{"$f":"IF('Step 2 PO Calculator'!B2049=\"Yes\",VLOOKUP('drop down'!$A$2,'Step 2 PO Calculator'!B2049:D2584,3,FALSE),\"Leave this line blank\")","v":"Leave this line blank"},{"$nulls":11},"",null,"","No",null,null,"No"]
[null,{"$f":"IF('Step 2 PO Calculator'!B2050=\"Yes\",VLOOKUP('drop down'!$A$2,'Step 2 PO Calculator'!B2050:D2585,3,FALSE),\"Leave this line blank\")","v":"Leave this line blank"},{"$nulls":11},"",null,"","No",null,null,"No"]
[null,{"$f":"IF('Step 2 PO Calculator'!B2051=\"Yes\",VLOOKUP('drop down'!$A$2,'Step 2 PO Calculator'!B2051:D2586,3,FALSE),\"Leave this line blank\")","v":"Leave this line blank"},{"$nulls":11},"",null,"","No",null,null,"No"]
[null,{"$f":"IF('Step 2 PO Calculator'!B2052=\"Yes\",VLOOKUP('drop down'!$A$2,'Step 2 PO Calculator'!B2052:D2587,3,FALSE),\"Leave this line blank\")","v":"Leave this line blank"},{"$nulls":11},"",null,"","No",null,null,"No"]
[null,{"$f":"IF('Step 2 PO Calculator'!B2053=\"Yes\",VLOOKUP('drop down'!$A$2,'Step 2 PO Calculator'!B2053:D2588,3,FALSE),\"Leave this line blank\")","v":"Leave this line blank"},{"$nulls":11},"",null,"","No",null,null,"No"]
[null,{"$f":"IF('Step 2 PO Calculator'!B2054=\"Yes\",VLOOKUP('drop down'!$A$2,'Step 2 PO Calculator'!B2054:D2589,3,FALSE),\"Leave this line blank\")","v":"Leave this line blank"},{"$nulls":11},"",null,"","No",null,null,"No"]
[null,{"$f":"IF('Step 2 PO Calculator'!B2055=\"Yes\",VLOOKUP('drop down'!$A$2,'Step 2 PO Calculator'!B2055:D2590,3,FALSE),\"Leave this line blank\")","v":"Leave this line blank"},{"$nulls":11},"",null,"","No",null,null,"No"]
[null,{"$f":"IF('Step 2 PO Calculator'!B2056=\"Yes\",VLOOKUP('drop down'!$A$2,'Step 2 PO Calculator'!B2056:D2591,3,FALSE),\"Leave this line blank\")","v":"Leave this line blank"},{"$nulls":11},"",null,"","No",null,null,"No"]
[null,{"$f":"IF('Step 2 PO Calculator'!B2057=\"Yes\",VLOOKUP('drop down'!$A$2,'Step 2 PO Calculator'!B2057:D2592,3,FALSE),\"Leave this line blank\")","v":"Leave this line blank"},{"$nulls":11},"",null,"","No",null,null,"No"]
[null,{"$f":"IF('Step 2 PO Calculator'!B2058=\"Yes\",VLOOKUP('drop down'!$A$2,'Step 2 PO Calculator'!B2058:D2593,3,FALSE),\"Leave this line blank\")","v":"Leave this line blank"},{"$nulls":11},"",null,"","No",null,null,"No"]
[null,{"$f":"IF('Step 2 PO Calculator'!B2059=\"Yes\",VLOOKUP('drop down'!$A$2,'Step 2 PO Calculator'!B2059:D2594,3,FALSE),\"Leave this line blank\")","v":"Leave this line blank"},{"$nulls":11},{"$f":"IF(I590=\"\",\"\",IF(_xlfn.DAYS(I$8,I590)>=180,\"X\",\"\"))","v":""},null,{"$f":"IF(K590=\"\",\"\",IF(_xlfn.DAYS(K590,I$8)<0,\"\",\"X\"))","v":""},{"$f":"IF(AND(N590=\"X\",P590=\"X\"),\"Yes\",\"No\")","v":"No"},null,null,{"$f":"IF(AND(N590=\"X\",P590=\"X\",R590=\"Yes\"),\"Yes\",\"No\")","v":"No"}]
[null,{"$f":"IF('Step 2 PO Calculator'!B2060=\"Yes\",VLOOKUP('drop down'!$A$2,'Step 2 PO Calculator'!B2060:D2595,3,FALSE),\"Leave this line blank\")","v":"Leave this line blank"},{"$nulls":11},"",null,"","No",null,null,"No"]
[null,{"$f":"IF('Step 2 PO Calculator'!B2061=\"Yes\",VLOOKUP('drop down'!$A$2,'Step 2 PO Calculator'!B2061:D2596,3,FALSE),\"Leave this line blank\")","v":"Leave this line blank"},{"$nulls":11},"",null,"","No",null,null,"No"]
[null,{"$f":"IF('Step 2 PO Calculator'!B2062=\"Yes\",VLOOKUP('drop down'!$A$2,'Step 2 PO Calculator'!B2062:D2597,3,FALSE),\"Leave this line blank\")","v":"Leave this line blank"},{"$nulls":11},"",null,"","No",null,null,"No"]
[null,{"$f":"IF('Step 2 PO Calculator'!B2063=\"Yes\",VLOOKUP('drop down'!$A$2,'Step 2 PO Calculator'!B2063:D2598,3,FALSE),\"Leave this line blank\")","v":"Leave this line blank"},{"$nulls":11},"",null,"","No",null,null,"No"]
[null,{"$f":"IF('Step 2 PO Calculator'!B2064=\"Yes\",VLOOKUP('drop down'!$A$2,'Step 2 PO Calculator'!B2064:D2599,3,FALSE),\"Leave this line blank\")","v":"Leave this line blank"},{"$nulls":11},"",null,"","No",null,null,"No"]
[null,{"$f":"IF('Step 2 PO Calculator'!B2065=\"Yes\",VLOOKUP('drop down'!$A$2,'Step 2 PO Calculator'!B2065:D2600,3,FALSE),\"Leave this line blank\")","v":"Leave this line blank"},{"$nulls":11},"",null,"","No",null,null,"No"]
[null,{"$f":"IF('Step 2 PO Calculator'!B2066=\"Yes\",VLOOKUP('drop down'!$A$2,'Step 2 PO Calculator'!B2066:D2601,3,FALSE),\"Leave this line blank\")","v":"Leave this line blank"},{"$nulls":11},"",null,"","No",null,null,"No"]
[null,{"$f":"IF('Step 2 PO Calculator'!B2067=\"Yes\",VLOOKUP('drop down'!$A$2,'Step 2 PO Calculator'!B2067:D2602,3,FALSE),\"Leave this line blank\")","v":"Leave this line blank"},{"$nulls":11},"",null,"","No",null,null,"No"]
[null,{"$f":"IF('Step 2 PO Calculator'!B2068=\"Yes\",VLOOKUP('drop down'!$A$2,'Step 2 PO Calculator'!B2068:D2603,3,FALSE),\"Leave this line blank\")","v":"Leave this line blank"},{"$nulls":11},"",null,"","No",null,null,"No"]
[null,{"$f":"IF('Step 2 PO Calculator'!B2069=\"Yes\",VLOOKUP('drop down'!$A$2,'Step 2 PO Calculator'!B2069:D2604,3,FALSE),\"Leave this line blank\")","v":"Leave this line blank"},{"$nulls":11},"",null,"","No",null,null,"No"]
[null,{"$f":"IF('Step 2 PO Calculator'!B2070=\"Yes\",VLOOKUP('drop down'!$A$2,'Step 2 PO Calculator'!B2070:D2605,3,FALSE),\"Leave this line blank\")","v":"Leave this line blank"},{"$nulls":11},"",null,"","No",null,null,"No"]
[null,{"$f":"IF('Step 2 PO Calculator'!B2071=\"Yes\",VLOOKUP('drop down'!$A$2,'Step 2 PO Calculator'!B2071:D2606,3,FALSE),\"Leave this line blank\")","v":"Leave this line blank"},{"$nulls":11},"",null,"","No",null,null,"No"]
[null,{"$f":"IF('Step 2 PO Calculator'!B2072=\"Yes\",VLOOKUP('drop down'!$A$2,'Step 2 PO Calculator'!B2072:D2607,3,FALSE),\"Leave this line blank\")","v":"Leave this line blank"},{"$nulls":11},"",null,"","No",null,null,"No"]
[null,{"$f":"IF('Step 2 PO Calculator'!B2073=\"Yes\",VLOOKUP('drop down'!$A$2,'Step 2 PO Calculator'!B2073:D2608,3,FALSE),\"Leave this line blank\")","v":"Leave this line blank"},{"$nulls":11},"",null,"","No",null,null,"No"]
[null,{"$f":"IF('Step 2 PO Calculator'!B2074=\"Yes\",VLOOKUP('drop down'!$A$2,'Step 2 PO Calculator'!B2074:D2609,3,FALSE),\"Leave this line blank\")","v":"Leave this line blank"},{"$nulls":11},"",null,"","No",null,null,"No"]
[null,{"$f":"IF('Step 2 PO Calculator'!B2075=\"Yes\",VLOOKUP('drop down'!$A$2,'Step 2 PO Calculator'!B2075:D2610,3,FALSE),\"Leave this line blank\")","v":"Leave this line blank"},{"$nulls":11},"",null,"","No",null,null,"No"]
[null,{"$f":"IF('Step 2 PO Calculator'!B2076=\"Yes\",VLOOKUP('drop down'!$A$2,'Step 2 PO Calculator'!B2076:D2611,3,FALSE),\"Leave this line blank\")","v":"Leave this line blank"},{"$nulls":11},"",null,"","No",null,null,"No"]
[null,{"$f":"IF('Step 2 PO Calculator'!B2077=\"Yes\",VLOOKUP('drop down'!$A$2,'Step 2 PO Calculator'!B2077:D2612,3,FALSE),\"Leave this line blank\")","v":"Leave this line blank"},{"$nulls":11},"",null,"","No",null,null,"No"]
[null,{"$f":"IF('Step 2 PO Calculator'!B2078=\"Yes\",VLOOKUP('drop down'!$A$2,'Step 2 PO Calculator'!B2078:D2613,3,FALSE),\"Leave this line blank\")","v":"Leave this line blank"},{"$nulls":11},"",null,"","No",null,null,"No"]
[null,{"$f":"IF('Step 2 PO Calculator'!B2079=\"Yes\",VLOOKUP('drop down'!$A$2,'Step 2 PO Calculator'!B2079:D2614,3,FALSE),\"Leave this line blank\")","v":"Leave this line blank"},{"$nulls":11},"",null,"","No",null,null,"No"]
[null,{"$f":"IF('Step 2 PO Calculator'!B2080=\"Yes\",VLOOKUP('drop down'!$A$2,'Step 2 PO Calculator'!B2080:D2615,3,FALSE),\"Leave this line blank\")","v":"Leave this line blank"},{"$nulls":11},"",null,"","No",null,null,"No"]
[null,{"$f":"IF('Step 2 PO Calculator'!B2081=\"Yes\",VLOOKUP('drop down'!$A$2,'Step 2 PO Calculator'!B2081:D2616,3,FALSE),\"Leave this line blank\")","v":"Leave this line blank"},{"$nulls":11},"",null,"","No",null,null,"No"]
[null,{"$f":"IF('Step 2 PO Calculator'!B2082=\"Yes\",VLOOKUP('drop down'!$A$2,'Step 2 PO Calculator'!B2082:D2617,3,FALSE),\"Leave this line blank\")","v":"Leave this line blank"},{"$nulls":11},"",null,"","No",null,null,"No"]
[null,{"$f":"IF('Step 2 PO Calculator'!B2083=\"Yes\",VLOOKUP('drop down'!$A$2,'Step 2 PO Calculator'!B2083:D2618,3,FALSE),\"Leave this line blank\")","v":"Leave this line blank"},{"$nulls":11},"",null,"","No",null,null,"No"]
[null,{"$f":"IF('Step 2 PO Calculator'!B2084=\"Yes\",VLOOKUP('drop down'!$A$2,'Step 2 PO Calculator'!B2084:D2619,3,FALSE),\"Leave this line blank\")","v":"Leave this line blank"},{"$nulls":11},"",null,"","No",null,null,"No"]
[null,{"$f":"IF('Step 2 PO Calculator'!B2085=\"Yes\",VLOOKUP('drop down'!$A$2,'Step 2 PO Calculator'!B2085:D2620,3,FALSE),\"Leave this line blank\")","v":"Leave this line blank"},{"$nulls":11},"",null,"","No",null,null,"No"]
[null,{"$f":"IF('Step 2 PO Calculator'!B2086=\"Yes\",VLOOKUP('drop down'!$A$2,'Step 2 PO Calculator'!B2086:D2621,3,FALSE),\"Leave this line blank\")","v":"Leave this line blank"},{"$nulls":11},"",null,"","No",null,null,"No"]
[null,{"$f":"IF('Step 2 PO Calculator'!B2087=\"Yes\",VLOOKUP('drop down'!$A$2,'Step 2 PO Calculator'!B2087:D2622,3,FALSE),\"Leave this line blank\")","v":"Leave this line blank"},{"$nulls":11},"",null,"","No",null,null,"No"]
[null,{"$f":"IF('Step 2 PO Calculator'!B2088=\"Yes\",VLOOKUP('drop down'!$A$2,'Step 2 PO Calculator'!B2088:D2623,3,FALSE),\"Leave this line blank\")","v":"Leave this line blank"},{"$nulls":11},"",null,"","No",null,null,"No"]
[null,{"$f":"IF('Step 2 PO Calculator'!B2089=\"Yes\",VLOOKUP('drop down'!$A$2,'Step 2 PO Calculator'!B2089:D2624,3,FALSE),\"Leave this line blank\")","v":"Leave this line blank"},{"$nulls":11},"",null,"","No",null,null,"No"]
[null,{"$f":"IF('Step 2 PO Calculator'!B2090=\"Yes\",VLOOKUP('drop down'!$A$2,'Step 2 PO Calculator'!B2090:D2625,3,FALSE),\"Leave this line blank\")","v":"Leave this line blank"},{"$nulls":11},"",null,"","No",null,null,"No"]
[null,{"$f":"IF('Step 2 PO Calculator'!B2091=\"Yes\",VLOOKUP('drop down'!$A$2,'Step 2 PO Calculator'!B2091:D2626,3,FALSE),\"Leave this line blank\")","v":"Leave this line blank"},{"$nulls":11},"",null,"","No",null,null,"No"]
[null,{"$f":"IF('Step 2 PO Calculator'!B2092=\"Yes\",VLOOKUP('drop down'!$A$2,'Step 2 PO Calculator'!B2092:D2627,3,FALSE),\"Leave this line blank\")","v":"Leave this line blank"},{"$nulls":11},"",null,"","No",null,null,"No"]
[null,{"$f":"IF('Step 2 PO Calculator'!B2093=\"Yes\",VLOOKUP('drop down'!$A$2,'Step 2 PO Calculator'!B2093:D2628,3,FALSE),\"Leave this line blank\")","v":"Leave this line blank"},{"$nulls":11},"",null,"","No",null,null,"No"]
[null,{"$f":"IF('Step 2 PO Calculator'!B2094=\"Yes\",VLOOKUP('drop down'!$A$2,'Step 2 PO Calculator'!B2094:D2629,3,FALSE),\"Leave this line blank\")","v":"Leave this line blank"},{"$nulls":11},"",null,"","No",null,null,"No"]
[null,{"$f":"IF('Step 2 PO Calculator'!B2095=\"Yes\",VLOOKUP('drop down'!$A$2,'Step 2 PO Calculator'!B2095:D2630,3,FALSE),\"Leave this line blank\")","v":"Leave this line blank"},{"$nulls":11},"",null,"","No",null,null,"No"]
[null,{"$f":"IF('Step 2 PO Calculator'!B2096=\"Yes\",VLOOKUP('drop down'!$A$2,'Step 2 PO Calculator'!B2096:D2631,3,FALSE),\"Leave this line blank\")","v":"Leave this line blank"},{"$nulls":11},"",null,"","No",null,null,"No"]
[null,{"$f":"IF('Step 2 PO Calculator'!B2097=\"Yes\",VLOOKUP('drop down'!$A$2,'Step 2 PO Calculator'!B2097:D2632,3,FALSE),\"Leave this line blank\")","v":"Leave this line blank"},{"$nulls":11},"",null,"","No",null,null,"No"]
[null,{"$f":"IF('Step 2 PO Calculator'!B2098=\"Yes\",VLOOKUP('drop down'!$A$2,'Step 2 PO Calculator'!B2098:D2633,3,FALSE),\"Leave this line blank\")","v":"Leave this line blank"},{"$nulls":11},"",null,"","No",null,null,"No"]
[null,{"$f":"IF('Step 2 PO Calculator'!B2099=\"Yes\",VLOOKUP('drop down'!$A$2,'Step 2 PO Calculator'!B2099:D2634,3,FALSE),\"Leave this line blank\")","v":"Leave this line blank"},{"$nulls":11},"",null,"","No",null,null,"No"]
[null,{"$f":"IF('Step 2 PO Calculator'!B2100=\"Yes\",VLOOKUP('drop down'!$A$2,'Step 2 PO Calculator'!B2100:D2635,3,FALSE),\"Leave this line blank\")","v":"Leave this line blank"},{"$nulls":11},"",null,"","No",null,null,"No"]
[null,{"$f":"IF('Step 2 PO Calculator'!B2101=\"Yes\",VLOOKUP('drop down'!$A$2,'Step 2 PO Calculator'!B2101:D2636,3,FALSE),\"Leave this line blank\")","v":"Leave this line blank"},{"$nulls":11},"",null,"","No",null,null,"No"]
[null,{"$f":"IF('Step 2 PO Calculator'!B2102=\"Yes\",VLOOKUP('drop down'!$A$2,'Step 2 PO Calculator'!B2102:D2637,3,FALSE),\"Leave this line blank\")","v":"Leave this line blank"},{"$nulls":11},"",null,"","No",null,null,"No"]
[null,{"$f":"IF('Step 2 PO Calculator'!B2103=\"Yes\",VLOOKUP('drop down'!$A$2,'Step 2 PO Calculator'!B2103:D2638,3,FALSE),\"Leave this line blank\")","v":"Leave this line blank"},{"$nulls":11},"",null,"","No",null,null,"No"]
[null,{"$f":"IF('Step 2 PO Calculator'!B2104=\"Yes\",VLOOKUP('drop down'!$A$2,'Step 2 PO Calculator'!B2104:D2639,3,FALSE),\"Leave this line blank\")","v":"Leave this line blank"},{"$nulls":11},"",null,"","No",null,null,"No"]
[null,{"$f":"IF('Step 2 PO Calculator'!B2105=\"Yes\",VLOOKUP('drop down'!$A$2,'Step 2 PO Calculator'!B2105:D2640,3,FALSE),\"Leave this line blank\")","v":"Leave this line blank"},{"$nulls":11},"",null,"","No",null,null,"No"]
[null,{"$f":"IF('Step 2 PO Calculator'!B2106=\"Yes\",VLOOKUP('drop down'!$A$2,'Step 2 PO Calculator'!B2106:D2641,3,FALSE),\"Leave this line blank\")","v":"Leave this line blank"},{"$nulls":11},"",null,"","No",null,null,"No"]
[null,{"$f":"IF('Step 2 PO Calculator'!B2107=\"Yes\",VLOOKUP('drop down'!$A$2,'Step 2 PO Calculator'!B2107:D2642,3,FALSE),\"Leave this line blank\")","v":"Leave this line blank"},{"$nulls":11},"",null,"","No",null,null,"No"]
[null,{"$f":"IF('Step 2 PO Calculator'!B2108=\"Yes\",VLOOKUP('drop down'!$A$2,'Step 2 PO Calculator'!B2108:D2643,3,FALSE),\"Leave this line blank\")","v":"Leave this line blank"},{"$nulls":11},"",null,"","No",null,null,"No"]
[null,{"$f":"IF('Step 2 PO Calculator'!B2109=\"Yes\",VLOOKUP('drop down'!$A$2,'Step 2 PO Calculator'!B2109:D2644,3,FALSE),\"Leave this line blank\")","v":"Leave this line blank"},{"$nulls":11},"",null,"","No",null,null,"No"]
[null,{"$f":"IF('Step 2 PO Calculator'!B2110=\"Yes\",VLOOKUP('drop down'!$A$2,'Step 2 PO Calculator'!B2110:D2645,3,FALSE),\"Leave this line blank\")","v":"Leave this line blank"},{"$nulls":11},"",null,"","No",null,null,"No"]
[null,{"$f":"IF('Step 2 PO Calculator'!B2111=\"Yes\",VLOOKUP('drop down'!$A$2,'Step 2 PO Calculator'!B2111:D2646,3,FALSE),\"Leave this line blank\")","v":"Leave this line blank"},{"$nulls":11},"",null,"","No",null,null,"No"]
[null,{"$f":"IF('Step 2 PO Calculator'!B2112=\"Yes\",VLOOKUP('drop down'!$A$2,'Step 2 PO Calculator'!B2112:D2647,3,FALSE),\"Leave this line blank\")","v":"Leave this line blank"},{"$nulls":11},"",null,"","No",null,null,"No"]
[null,{"$f":"IF('Step 2 PO Calculator'!B2113=\"Yes\",VLOOKUP('drop down'!$A$2,'Step 2 PO Calculator'!B2113:D2648,3,FALSE),\"Leave this line blank\")","v":"Leave this line blank"},{"$nulls":11},"",null,"","No",null,null,"No"]
[null,{"$f":"IF('Step 2 PO Calculator'!B2114=\"Yes\",VLOOKUP('drop down'!$A$2,'Step 2 PO Calculator'!B2114:D2649,3,FALSE),\"Leave this line blank\")","v":"Leave this line blank"},{"$nulls":11},"",null,"","No",null,null,"No"]
[null,{"$f":"IF('Step 2 PO Calculator'!B2115=\"Yes\",VLOOKUP('drop down'!$A$2,'Step 2 PO Calculator'!B2115:D2650,3,FALSE),\"Leave this line blank\")","v":"Leave this line blank"},{"$nulls":11},"",null,"","No",null,null,"No"]
[null,{"$f":"IF('Step 2 PO Calculator'!B2116=\"Yes\",VLOOKUP('drop down'!$A$2,'Step 2 PO Calculator'!B2116:D2651,3,FALSE),\"Leave this line blank\")","v":"Leave this line blank"},{"$nulls":11},"",null,"","No",null,null,"No"]
[null,{"$f":"IF('Step 2 PO Calculator'!B2117=\"Yes\",VLOOKUP('drop down'!$A$2,'Step 2 PO Calculator'!B2117:D2652,3,FALSE),\"Leave this line blank\")","v":"Leave this line blank"},{"$nulls":11},"",null,"","No",null,null,"No"]
[null,{"$f":"IF('Step 2 PO Calculator'!B2118=\"Yes\",VLOOKUP('drop down'!$A$2,'Step 2 PO Calculator'!B2118:D2653,3,FALSE),\"Leave this line blank\")","v":"Leave this line blank"},{"$nulls":11},"",null,"","No",null,null,"No"]
[null,{"$f":"IF('Step 2 PO Calculator'!B2119=\"Yes\",VLOOKUP('drop down'!$A$2,'Step 2 PO Calculator'!B2119:D2654,3,FALSE),\"Leave this line blank\")","v":"Leave this line blank"},{"$nulls":11},"",null,"","No",null,null,"No"]
[null,{"$f":"IF('Step 2 PO Calculator'!B2120=\"Yes\",VLOOKUP('drop down'!$A$2,'Step 2 PO Calculator'!B2120:D2655,3,FALSE),\"Leave this line blank\")","v":"Leave this line blank"},{"$nulls":11},"",null,"","No",null,null,"No"]
[null,{"$f":"IF('Step 2 PO Calculator'!B2121=\"Yes\",VLOOKUP('drop down'!$A$2,'Step 2 PO Calculator'!B2121:D2656,3,FALSE),\"Leave this line blank\")","v":"Leave this line blank"},{"$nulls":11},"",null,"","No",null,null,"No"]
[null,{"$f":"IF('Step 2 PO Calculator'!B2122=\"Yes\",VLOOKUP('drop down'!$A$2,'Step 2 PO Calculator'!B2122:D2657,3,FALSE),\"Leave this line blank\")","v":"Leave this line blank"},{"$nulls":11},"",null,"","No",null,null,"No"]
[null,{"$f":"IF('Step 2 PO Calculator'!B2123=\"Yes\",VLOOKUP('drop down'!$A$2,'Step 2 PO Calculator'!B2123:D2658,3,FALSE),\"Leave this line blank\")","v":"Leave this line blank"},{"$nulls":11},{"$f":"IF(I654=\"\",\"\",IF(_xlfn.DAYS(I$8,I654)>=180,\"X\",\"\"))","v":""},null,{"$f":"IF(K654=\"\",\"\",IF(_xlfn.DAYS(K654,I$8)<0,\"\",\"X\"))","v":""},{"$f":"IF(AND(N654=\"X\",P654=\"X\"),\"Yes\",\"No\")","v":"No"},null,null,{"$f":"IF(AND(N654=\"X\",P654=\"X\",R654=\"Yes\"),\"Yes\",\"No\")","v":"No"}]
[null,{"$f":"IF('Step 2 PO Calculator'!B2124=\"Yes\",VLOOKUP('drop down'!$A$2,'Step 2 PO Calculator'!B2124:D2659,3,FALSE),\"Leave this line blank\")","v":"Leave this line blank"},{"$nulls":11},"",null,"","No",null,null,"No"]
[null,{"$f":"IF('Step 2 PO Calculator'!B2125=\"Yes\",VLOOKUP('drop down'!$A$2,'Step 2 PO Calculator'!B2125:D2660,3,FALSE),\"Leave this line blank\")","v":"Leave this line blank"},{"$nulls":11},"",null,"","No",null,null,"No"]
[null,{"$f":"IF('Step 2 PO Calculator'!B2126=\"Yes\",VLOOKUP('drop down'!$A$2,'Step 2 PO Calculator'!B2126:D2661,3,FALSE),\"Leave this line blank\")","v":"Leave this line blank"},{"$nulls":11},"",null,"","No",null,null,"No"]
[null,{"$f":"IF('Step 2 PO Calculator'!B2127=\"Yes\",VLOOKUP('drop down'!$A$2,'Step 2 PO Calculator'!B2127:D2662,3,FALSE),\"Leave this line blank\")","v":"Leave this line blank"},{"$nulls":11},"",null,"","No",null,null,"No"]
[null,{"$f":"IF('Step 2 PO Calculator'!B2128=\"Yes\",VLOOKUP('drop down'!$A$2,'Step 2 PO Calculator'!B2128:D2663,3,FALSE),\"Leave this line blank\")","v":"Leave this line blank"},{"$nulls":11},"",null,"","No",null,null,"No"]
[null,{"$f":"IF('Step 2 PO Calculator'!B2129=\"Yes\",VLOOKUP('drop down'!$A$2,'Step 2 PO Calculator'!B2129:D2664,3,FALSE),\"Leave this line blank\")","v":"Leave this line blank"},{"$nulls":11},"",null,"","No",null,null,"No"]
[null,{"$f":"IF('Step 2 PO Calculator'!B2130=\"Yes\",VLOOKUP('drop down'!$A$2,'Step 2 PO Calculator'!B2130:D2665,3,FALSE),\"Leave this line blank\")","v":"Leave this line blank"},{"$nulls":11},"",null,"","No",null,null,"No"]
[null,{"$f":"IF('Step 2 PO Calculator'!B2131=\"Yes\",VLOOKUP('drop down'!$A$2,'Step 2 PO Calculator'!B2131:D2666,3,FALSE),\"Leave this line blank\")","v":"Leave this line blank"},{"$nulls":11},"",null,"","No",null,null,"No"]
[null,{"$f":"IF('Step 2 PO Calculator'!B2132=\"Yes\",VLOOKUP('drop down'!$A$2,'Step 2 PO Calculator'!B2132:D2667,3,FALSE),\"Leave this line blank\")","v":"Leave this line blank"},{"$nulls":11},"",null,"","No",null,null,"No"]
[null,{"$f":"IF('Step 2 PO Calculator'!B2133=\"Yes\",VLOOKUP('drop down'!$A$2,'Step 2 PO Calculator'!B2133:D2668,3,FALSE),\"Leave this line blank\")","v":"Leave this line blank"},{"$nulls":11},"",null,"","No",null,null,"No"]
[null,{"$f":"IF('Step 2 PO Calculator'!B2134=\"Yes\",VLOOKUP('drop down'!$A$2,'Step 2 PO Calculator'!B2134:D2669,3,FALSE),\"Leave this line blank\")","v":"Leave this line blank"},{"$nulls":11},"",null,"","No",null,null,"No"]
[null,{"$f":"IF('Step 2 PO Calculator'!B2135=\"Yes\",VLOOKUP('drop down'!$A$2,'Step 2 PO Calculator'!B2135:D2670,3,FALSE),\"Leave this line blank\")","v":"Leave this line blank"},{"$nulls":11},"",null,"","No",null,null,"No"]
[null,{"$f":"IF('Step 2 PO Calculator'!B2136=\"Yes\",VLOOKUP('drop down'!$A$2,'Step 2 PO Calculator'!B2136:D2671,3,FALSE),\"Leave this line blank\")","v":"Leave this line blank"},{"$nulls":11},"",null,"","No",null,null,"No"]
[null,{"$f":"IF('Step 2 PO Calculator'!B2137=\"Yes\",VLOOKUP('drop down'!$A$2,'Step 2 PO Calculator'!B2137:D2672,3,FALSE),\"Leave this line blank\")","v":"Leave this line blank"},{"$nulls":11},"",null,"","No",null,null,"No"]
[null,{"$f":"IF('Step 2 PO Calculator'!B2138=\"Yes\",VLOOKUP('drop down'!$A$2,'Step 2 PO Calculator'!B2138:D2673,3,FALSE),\"Leave this line blank\")","v":"Leave this line blank"},{"$nulls":11},"",null,"","No",null,null,"No"]
[null,{"$f":"IF('Step 2 PO Calculator'!B2139=\"Yes\",VLOOKUP('drop down'!$A$2,'Step 2 PO Calculator'!B2139:D2674,3,FALSE),\"Leave this line blank\")","v":"Leave this line blank"},{"$nulls":11},"",null,"","No",null,null,"No"]
[null,{"$f":"IF('Step 2 PO Calculator'!B2140=\"Yes\",VLOOKUP('drop down'!$A$2,'Step 2 PO Calculator'!B2140:D2675,3,FALSE),\"Leave this line blank\")","v":"Leave this line blank"},{"$nulls":11},"",null,"","No",null,null,"No"]
[null,{"$f":"IF('Step 2 PO Calculator'!B2141=\"Yes\",VLOOKUP('drop down'!$A$2,'Step 2 PO Calculator'!B2141:D2676,3,FALSE),\"Leave this line blank\")","v":"Leave this line blank"},{"$nulls":11},"",null,"","No",null,null,"No"]
[null,{"$f":"IF('Step 2 PO Calculator'!B2142=\"Yes\",VLOOKUP('drop down'!$A$2,'Step 2 PO Calculator'!B2142:D2677,3,FALSE),\"Leave this line blank\")","v":"Leave this line blank"},{"$nulls":11},"",null,"","No",null,null,"No"]
[null,{"$f":"IF('Step 2 PO Calculator'!B2143=\"Yes\",VLOOKUP('drop down'!$A$2,'Step 2 PO Calculator'!B2143:D2678,3,FALSE),\"Leave this line blank\")","v":"Leave this line blank"},{"$nulls":11},"",null,"","No",null,null,"No"]
[null,{"$f":"IF('Step 2 PO Calculator'!B2144=\"Yes\",VLOOKUP('drop down'!$A$2,'Step 2 PO Calculator'!B2144:D2679,3,FALSE),\"Leave this line blank\")","v":"Leave this line blank"},{"$nulls":11},"",null,"","No",null,null,"No"]
[null,{"$f":"IF('Step 2 PO Calculator'!B2145=\"Yes\",VLOOKUP('drop down'!$A$2,'Step 2 PO Calculator'!B2145:D2680,3,FALSE),\"Leave this line blank\")","v":"Leave this line blank"},{"$nulls":11},"",null,"","No",null,null,"No"]
[null,{"$f":"IF('Step 2 PO Calculator'!B2146=\"Yes\",VLOOKUP('drop down'!$A$2,'Step 2 PO Calculator'!B2146:D2681,3,FALSE),\"Leave this line blank\")","v":"Leave this line blank"},{"$nulls":11},"",null,"","No",null,null,"No"]
[null,{"$f":"IF('Step 2 PO Calculator'!B2147=\"Yes\",VLOOKUP('drop down'!$A$2,'Step 2 PO Calculator'!B2147:D2682,3,FALSE),\"Leave this line blank\")","v":"Leave this line blank"},{"$nulls":11},"",null,"","No",null,null,"No"]
[null,{"$f":"IF('Step 2 PO Calculator'!B2148=\"Yes\",VLOOKUP('drop down'!$A$2,'Step 2 PO Calculator'!B2148:D2683,3,FALSE),\"Leave this line blank\")","v":"Leave this line blank"},{"$nulls":11},"",null,"","No",null,null,"No"]
[null,{"$f":"IF('Step 2 PO Calculator'!B2149=\"Yes\",VLOOKUP('drop down'!$A$2,'Step 2 PO Calculator'!B2149:D2684,3,FALSE),\"Leave this line blank\")","v":"Leave this line blank"},{"$nulls":11},"",null,"","No",null,null,"No"]
[null,{"$f":"IF('Step 2 PO Calculator'!B2150=\"Yes\",VLOOKUP('drop down'!$A$2,'Step 2 PO Calculator'!B2150:D2685,3,FALSE),\"Leave this line blank\")","v":"Leave this line blank"},{"$nulls":11},"",null,"","No",null,null,"No"]
[null,{"$f":"IF('Step 2 PO Calculator'!B2151=\"Yes\",VLOOKUP('drop down'!$A$2,'Step 2 PO Calculator'!B2151:D2686,3,FALSE),\"Leave this line blank\")","v":"Leave this line blank"},{"$nulls":11},"",null,"","No",null,null,"No"]
[null,{"$f":"IF('Step 2 PO Calculator'!B2152=\"Yes\",VLOOKUP('drop down'!$A$2,'Step 2 PO Calculator'!B2152:D2687,3,FALSE),\"Leave this line blank\")","v":"Leave this line blank"},{"$nulls":11},"",null,"","No",null,null,"No"]
[null,{"$f":"IF('Step 2 PO Calculator'!B2153=\"Yes\",VLOOKUP('drop down'!$A$2,'Step 2 PO Calculator'!B2153:D2688,3,FALSE),\"Leave this line blank\")","v":"Leave this line blank"},{"$nulls":11},"",null,"","No",null,null,"No"]
[null,{"$f":"IF('Step 2 PO Calculator'!B2154=\"Yes\",VLOOKUP('drop down'!$A$2,'Step 2 PO Calculator'!B2154:D2689,3,FALSE),\"Leave this line blank\")","v":"Leave this line blank"},{"$nulls":11},"",null,"","No",null,null,"No"]
[null,{"$f":"IF('Step 2 PO Calculator'!B2155=\"Yes\",VLOOKUP('drop down'!$A$2,'Step 2 PO Calculator'!B2155:D2690,3,FALSE),\"Leave this line blank\")","v":"Leave this line blank"},{"$nulls":11},"",null,"","No",null,null,"No"]
[null,{"$f":"IF('Step 2 PO Calculator'!B2156=\"Yes\",VLOOKUP('drop down'!$A$2,'Step 2 PO Calculator'!B2156:D2691,3,FALSE),\"Leave this line blank\")","v":"Leave this line blank"},{"$nulls":11},"",null,"","No",null,null,"No"]
[null,{"$f":"IF('Step 2 PO Calculator'!B2157=\"Yes\",VLOOKUP('drop down'!$A$2,'Step 2 PO Calculator'!B2157:D2692,3,FALSE),\"Leave this line blank\")","v":"Leave this line blank"},{"$nulls":11},"",null,"","No",null,null,"No"]
[null,{"$f":"IF('Step 2 PO Calculator'!B2158=\"Yes\",VLOOKUP('drop down'!$A$2,'Step 2 PO Calculator'!B2158:D2693,3,FALSE),\"Leave this line blank\")","v":"Leave this line blank"},{"$nulls":11},"",null,"","No",null,null,"No"]
[null,{"$f":"IF('Step 2 PO Calculator'!B2159=\"Yes\",VLOOKUP('drop down'!$A$2,'Step 2 PO Calculator'!B2159:D2694,3,FALSE),\"Leave this line blank\")","v":"Leave this line blank"},{"$nulls":11},"",null,"","No",null,null,"No"]
[null,{"$f":"IF('Step 2 PO Calculator'!B2160=\"Yes\",VLOOKUP('drop down'!$A$2,'Step 2 PO Calculator'!B2160:D2695,3,FALSE),\"Leave this line blank\")","v":"Leave this line blank"},{"$nulls":11},"",null,"","No",null,null,"No"]
[null,{"$f":"IF('Step 2 PO Calculator'!B2161=\"Yes\",VLOOKUP('drop down'!$A$2,'Step 2 PO Calculator'!B2161:D2696,3,FALSE),\"Leave this line blank\")","v":"Leave this line blank"},{"$nulls":11},"",null,"","No",null,null,"No"]
[null,{"$f":"IF('Step 2 PO Calculator'!B2162=\"Yes\",VLOOKUP('drop down'!$A$2,'Step 2 PO Calculator'!B2162:D2697,3,FALSE),\"Leave this line blank\")","v":"Leave this line blank"},{"$nulls":11},"",null,"","No",null,null,"No"]
[null,{"$f":"IF('Step 2 PO Calculator'!B2163=\"Yes\",VLOOKUP('drop down'!$A$2,'Step 2 PO Calculator'!B2163:D2698,3,FALSE),\"Leave this line blank\")","v":"Leave this line blank"},{"$nulls":11},"",null,"","No",null,null,"No"]
[null,{"$f":"IF('Step 2 PO Calculator'!B2164=\"Yes\",VLOOKUP('drop down'!$A$2,'Step 2 PO Calculator'!B2164:D2699,3,FALSE),\"Leave this line blank\")","v":"Leave this line blank"},{"$nulls":11},"",null,"","No",null,null,"No"]
[null,{"$f":"IF('Step 2 PO Calculator'!B2165=\"Yes\",VLOOKUP('drop down'!$A$2,'Step 2 PO Calculator'!B2165:D2700,3,FALSE),\"Leave this line blank\")","v":"Leave this line blank"},{"$nulls":11},"",null,"","No",null,null,"No"]
[null,{"$f":"IF('Step 2 PO Calculator'!B2166=\"Yes\",VLOOKUP('drop down'!$A$2,'Step 2 PO Calculator'!B2166:D2701,3,FALSE),\"Leave this line blank\")","v":"Leave this line blank"},{"$nulls":11},"",null,"","No",null,null,"No"]
[null,{"$f":"IF('Step 2 PO Calculator'!B2167=\"Yes\",VLOOKUP('drop down'!$A$2,'Step 2 PO Calculator'!B2167:D2702,3,FALSE),\"Leave this line blank\")","v":"Leave this line blank"},{"$nulls":11},"",null,"","No",null,null,"No"]
[null,{"$f":"IF('Step 2 PO Calculator'!B2168=\"Yes\",VLOOKUP('drop down'!$A$2,'Step 2 PO Calculator'!B2168:D2703,3,FALSE),\"Leave this line blank\")","v":"Leave this line blank"},{"$nulls":11},"",null,"","No",null,null,"No"]
[null,{"$f":"IF('Step 2 PO Calculator'!B2169=\"Yes\",VLOOKUP('drop down'!$A$2,'Step 2 PO Calculator'!B2169:D2704,3,FALSE),\"Leave this line blank\")","v":"Leave this line blank"},{"$nulls":11},"",null,"","No",null,null,"No"]
[null,{"$f":"IF('Step 2 PO Calculator'!B2170=\"Yes\",VLOOKUP('drop down'!$A$2,'Step 2 PO Calculator'!B2170:D2705,3,FALSE),\"Leave this line blank\")","v":"Leave this line blank"},{"$nulls":11},"",null,"","No",null,null,"No"]
[null,{"$f":"IF('Step 2 PO Calculator'!B2171=\"Yes\",VLOOKUP('drop down'!$A$2,'Step 2 PO Calculator'!B2171:D2706,3,FALSE),\"Leave this line blank\")","v":"Leave this line blank"},{"$nulls":11},"",null,"","No",null,null,"No"]
[null,{"$f":"IF('Step 2 PO Calculator'!B2172=\"Yes\",VLOOKUP('drop down'!$A$2,'Step 2 PO Calculator'!B2172:D2707,3,FALSE),\"Leave this line blank\")","v":"Leave this line blank"},{"$nulls":11},"",null,"","No",null,null,"No"]
[null,{"$f":"IF('Step 2 PO Calculator'!B2173=\"Yes\",VLOOKUP('drop down'!$A$2,'Step 2 PO Calculator'!B2173:D2708,3,FALSE),\"Leave this line blank\")","v":"Leave this line blank"},{"$nulls":11},"",null,"","No",null,null,"No"]
[null,{"$f":"IF('Step 2 PO Calculator'!B2174=\"Yes\",VLOOKUP('drop down'!$A$2,'Step 2 PO Calculator'!B2174:D2709,3,FALSE),\"Leave this line blank\")","v":"Leave this line blank"},{"$nulls":11},"",null,"","No",null,null,"No"]
[null,{"$f":"IF('Step 2 PO Calculator'!B2175=\"Yes\",VLOOKUP('drop down'!$A$2,'Step 2 PO Calculator'!B2175:D2710,3,FALSE),\"Leave this line blank\")","v":"Leave this line blank"},{"$nulls":11},"",null,"","No",null,null,"No"]
[null,{"$f":"IF('Step 2 PO Calculator'!B2176=\"Yes\",VLOOKUP('drop down'!$A$2,'Step 2 PO Calculator'!B2176:D2711,3,FALSE),\"Leave this line blank\")","v":"Leave this line blank"},{"$nulls":11},"",null,"","No",null,null,"No"]
[null,{"$f":"IF('Step 2 PO Calculator'!B2177=\"Yes\",VLOOKUP('drop down'!$A$2,'Step 2 PO Calculator'!B2177:D2712,3,FALSE),\"Leave this line blank\")","v":"Leave this line blank"},{"$nulls":11},"",null,"","No",null,null,"No"]
[null,{"$f":"IF('Step 2 PO Calculator'!B2178=\"Yes\",VLOOKUP('drop down'!$A$2,'Step 2 PO Calculator'!B2178:D2713,3,FALSE),\"Leave this line blank\")","v":"Leave this line blank"},{"$nulls":11},"",null,"","No",null,null,"No"]
[null,{"$f":"IF('Step 2 PO Calculator'!B2179=\"Yes\",VLOOKUP('drop down'!$A$2,'Step 2 PO Calculator'!B2179:D2714,3,FALSE),\"Leave this line blank\")","v":"Leave this line blank"},{"$nulls":11},"",null,"","No",null,null,"No"]
[null,{"$f":"IF('Step 2 PO Calculator'!B2180=\"Yes\",VLOOKUP('drop down'!$A$2,'Step 2 PO Calculator'!B2180:D2715,3,FALSE),\"Leave this line blank\")","v":"Leave this line blank"},{"$nulls":11},"",null,"","No",null,null,"No"]
[null,{"$f":"IF('Step 2 PO Calculator'!B2181=\"Yes\",VLOOKUP('drop down'!$A$2,'Step 2 PO Calculator'!B2181:D2716,3,FALSE),\"Leave this line blank\")","v":"Leave this line blank"},{"$nulls":11},"",null,"","No",null,null,"No"]
[null,{"$f":"IF('Step 2 PO Calculator'!B2182=\"Yes\",VLOOKUP('drop down'!$A$2,'Step 2 PO Calculator'!B2182:D2717,3,FALSE),\"Leave this line blank\")","v":"Leave this line blank"},{"$nulls":11},"",null,"","No",null,null,"No"]
[null,{"$f":"IF('Step 2 PO Calculator'!B2183=\"Yes\",VLOOKUP('drop down'!$A$2,'Step 2 PO Calculator'!B2183:D2718,3,FALSE),\"Leave this line blank\")","v":"Leave this line blank"},{"$nulls":11},"",null,"","No",null,null,"No"]
[null,{"$f":"IF('Step 2 PO Calculator'!B2184=\"Yes\",VLOOKUP('drop down'!$A$2,'Step 2 PO Calculator'!B2184:D2719,3,FALSE),\"Leave this line blank\")","v":"Leave this line blank"},{"$nulls":11},"",null,"","No",null,null,"No"]
[null,{"$f":"IF('Step 2 PO Calculator'!B2185=\"Yes\",VLOOKUP('drop down'!$A$2,'Step 2 PO Calculator'!B2185:D2720,3,FALSE),\"Leave this line blank\")","v":"Leave this line blank"},{"$nulls":11},"",null,"","No",null,null,"No"]
[null,{"$f":"IF('Step 2 PO Calculator'!B2186=\"Yes\",VLOOKUP('drop down'!$A$2,'Step 2 PO Calculator'!B2186:D2721,3,FALSE),\"Leave this line blank\")","v":"Leave this line blank"},{"$nulls":11},"",null,"","No",null,null,"No"]
[null,{"$f":"IF('Step 2 PO Calculator'!B2187=\"Yes\",VLOOKUP('drop down'!$A$2,'Step 2 PO Calculator'!B2187:D2722,3,FALSE),\"Leave this line blank\")","v":"Leave this line blank"},{"$nulls":11},{"$f":"IF(I718=\"\",\"\",IF(_xlfn.DAYS(I$8,I718)>=180,\"X\",\"\"))","v":""},null,{"$f":"IF(K718=\"\",\"\",IF(_xlfn.DAYS(K718,I$8)<0,\"\",\"X\"))","v":""},{"$f":"IF(AND(N718=\"X\",P718=\"X\"),\"Yes\",\"No\")","v":"No"},null,null,{"$f":"IF(AND(N718=\"X\",P718=\"X\",R718=\"Yes\"),\"Yes\",\"No\")","v":"No"}]
[null,{"$f":"IF('Step 2 PO Calculator'!B2188=\"Yes\",VLOOKUP('drop down'!$A$2,'Step 2 PO Calculator'!B2188:D2723,3,FALSE),\"Leave this line blank\")","v":"Leave this line blank"},{"$nulls":11},"",null,"","No",null,null,"No"]
[null,{"$f":"IF('Step 2 PO Calculator'!B2189=\"Yes\",VLOOKUP('drop down'!$A$2,'Step 2 PO Calculator'!B2189:D2724,3,FALSE),\"Leave this line blank\")","v":"Leave this line blank"},{"$nulls":11},"",null,"","No",null,null,"No"]
[null,{"$f":"IF('Step 2 PO Calculator'!B2190=\"Yes\",VLOOKUP('drop down'!$A$2,'Step 2 PO Calculator'!B2190:D2725,3,FALSE),\"Leave this line blank\")","v":"Leave this line blank"},{"$nulls":11},"",null,"","No",null,null,"No"]
[null,{"$f":"IF('Step 2 PO Calculator'!B2191=\"Yes\",VLOOKUP('drop down'!$A$2,'Step 2 PO Calculator'!B2191:D2726,3,FALSE),\"Leave this line blank\")","v":"Leave this line blank"},{"$nulls":11},"",null,"","No",null,null,"No"]
[null,{"$f":"IF('Step 2 PO Calculator'!B2192=\"Yes\",VLOOKUP('drop down'!$A$2,'Step 2 PO Calculator'!B2192:D2727,3,FALSE),\"Leave this line blank\")","v":"Leave this line blank"},{"$nulls":11},"",null,"","No",null,null,"No"]
[null,{"$f":"IF('Step 2 PO Calculator'!B2193=\"Yes\",VLOOKUP('drop down'!$A$2,'Step 2 PO Calculator'!B2193:D2728,3,FALSE),\"Leave this line blank\")","v":"Leave this line blank"},{"$nulls":11},"",null,"","No",null,null,"No"]
[null,{"$f":"IF('Step 2 PO Calculator'!B2194=\"Yes\",VLOOKUP('drop down'!$A$2,'Step 2 PO Calculator'!B2194:D2729,3,FALSE),\"Leave this line blank\")","v":"Leave this line blank"},{"$nulls":11},"",null,"","No",null,null,"No"]
[null,{"$f":"IF('Step 2 PO Calculator'!B2195=\"Yes\",VLOOKUP('drop down'!$A$2,'Step 2 PO Calculator'!B2195:D2730,3,FALSE),\"Leave this line blank\")","v":"Leave this line blank"},{"$nulls":11},"",null,"","No",null,null,"No"]
[null,{"$f":"IF('Step 2 PO Calculator'!B2196=\"Yes\",VLOOKUP('drop down'!$A$2,'Step 2 PO Calculator'!B2196:D2731,3,FALSE),\"Leave this line blank\")","v":"Leave this line blank"},{"$nulls":11},"",null,"","No",null,null,"No"]
[null,{"$f":"IF('Step 2 PO Calculator'!B2197=\"Yes\",VLOOKUP('drop down'!$A$2,'Step 2 PO Calculator'!B2197:D2732,3,FALSE),\"Leave this line blank\")","v":"Leave this line blank"},{"$nulls":11},"",null,"","No",null,null,"No"]
[null,{"$f":"IF('Step 2 PO Calculator'!B2198=\"Yes\",VLOOKUP('drop down'!$A$2,'Step 2 PO Calculator'!B2198:D2733,3,FALSE),\"Leave this line blank\")","v":"Leave this line blank"},{"$nulls":11},"",null,"","No",null,null,"No"]
[null,{"$f":"IF('Step 2 PO Calculator'!B2199=\"Yes\",VLOOKUP('drop down'!$A$2,'Step 2 PO Calculator'!B2199:D2734,3,FALSE),\"Leave this line blank\")","v":"Leave this line blank"},{"$nulls":11},"",null,"","No",null,null,"No"]
[null,{"$f":"IF('Step 2 PO Calculator'!B2200=\"Yes\",VLOOKUP('drop down'!$A$2,'Step 2 PO Calculator'!B2200:D2735,3,FALSE),\"Leave this line blank\")","v":"Leave this line blank"},{"$nulls":11},"",null,"","No",null,null,"No"]
[null,{"$f":"IF('Step 2 PO Calculator'!B2201=\"Yes\",VLOOKUP('drop down'!$A$2,'Step 2 PO Calculator'!B2201:D2736,3,FALSE),\"Leave this line blank\")","v":"Leave this line blank"},{"$nulls":11},"",null,"","No",null,null,"No"]
[null,{"$f":"IF('Step 2 PO Calculator'!B2202=\"Yes\",VLOOKUP('drop down'!$A$2,'Step 2 PO Calculator'!B2202:D2737,3,FALSE),\"Leave this line blank\")","v":"Leave this line blank"},{"$nulls":11},"",null,"","No",null,null,"No"]
[null,{"$f":"IF('Step 2 PO Calculator'!B2203=\"Yes\",VLOOKUP('drop down'!$A$2,'Step 2 PO Calculator'!B2203:D2738,3,FALSE),\"Leave this line blank\")","v":"Leave this line blank"},{"$nulls":11},"",null,"","No",null,null,"No"]
[null,{"$f":"IF('Step 2 PO Calculator'!B2204=\"Yes\",VLOOKUP('drop down'!$A$2,'Step 2 PO Calculator'!B2204:D2739,3,FALSE),\"Leave this line blank\")","v":"Leave this line blank"},{"$nulls":11},"",null,"","No",null,null,"No"]
[null,{"$f":"IF('Step 2 PO Calculator'!B2205=\"Yes\",VLOOKUP('drop down'!$A$2,'Step 2 PO Calculator'!B2205:D2740,3,FALSE),\"Leave this line blank\")","v":"Leave this line blank"},{"$nulls":11},"",null,"","No",null,null,"No"]
[null,{"$f":"IF('Step 2 PO Calculator'!B2206=\"Yes\",VLOOKUP('drop down'!$A$2,'Step 2 PO Calculator'!B2206:D2741,3,FALSE),\"Leave this line blank\")","v":"Leave this line blank"},{"$nulls":11},"",null,"","No",null,null,"No"]
[null,{"$f":"IF('Step 2 PO Calculator'!B2207=\"Yes\",VLOOKUP('drop down'!$A$2,'Step 2 PO Calculator'!B2207:D2742,3,FALSE),\"Leave this line blank\")","v":"Leave this line blank"},{"$nulls":11},"",null,"","No",null,null,"No"]
[null,{"$f":"IF('Step 2 PO Calculator'!B2208=\"Yes\",VLOOKUP('drop down'!$A$2,'Step 2 PO Calculator'!B2208:D2743,3,FALSE),\"Leave this line blank\")","v":"Leave this line blank"},{"$nulls":11},"",null,"","No",null,null,"No"]
[null,{"$f":"IF('Step 2 PO Calculator'!B2209=\"Yes\",VLOOKUP('drop down'!$A$2,'Step 2 PO Calculator'!B2209:D2744,3,FALSE),\"Leave this line blank\")","v":"Leave this line blank"},{"$nulls":11},"",null,"","No",null,null,"No"]
[null,{"$f":"IF('Step 2 PO Calculator'!B2210=\"Yes\",VLOOKUP('drop down'!$A$2,'Step 2 PO Calculator'!B2210:D2745,3,FALSE),\"Leave this line blank\")","v":"Leave this line blank"},{"$nulls":11},"",null,"","No",null,null,"No"]
[null,{"$f":"IF('Step 2 PO Calculator'!B2211=\"Yes\",VLOOKUP('drop down'!$A$2,'Step 2 PO Calculator'!B2211:D2746,3,FALSE),\"Leave this line blank\")","v":"Leave this line blank"},{"$nulls":11},"",null,"","No",null,null,"No"]
[null,{"$f":"IF('Step 2 PO Calculator'!B2212=\"Yes\",VLOOKUP('drop down'!$A$2,'Step 2 PO Calculator'!B2212:D2747,3,FALSE),\"Leave this line blank\")","v":"Leave this line blank"},{"$nulls":11},"",null,"","No",null,null,"No"]
[null,{"$f":"IF('Step 2 PO Calculator'!B2213=\"Yes\",VLOOKUP('drop down'!$A$2,'Step 2 PO Calculator'!B2213:D2748,3,FALSE),\"Leave this line blank\")","v":"Leave this line blank"},{"$nulls":11},"",null,"","No",null,null,"No"]
[null,{"$f":"IF('Step 2 PO Calculator'!B2214=\"Yes\",VLOOKUP('drop down'!$A$2,'Step 2 PO Calculator'!B2214:D2749,3,FALSE),\"Leave this line blank\")","v":"Leave this line blank"},{"$nulls":11},"",null,"","No",null,null,"No"]
[null,{"$f":"IF('Step 2 PO Calculator'!B2215=\"Yes\",VLOOKUP('drop down'!$A$2,'Step 2 PO Calculator'!B2215:D2750,3,FALSE),\"Leave this line blank\")","v":"Leave this line blank"},{"$nulls":11},"",null,"","No",null,null,"No"]
[null,{"$f":"IF('Step 2 PO Calculator'!B2216=\"Yes\",VLOOKUP('drop down'!$A$2,'Step 2 PO Calculator'!B2216:D2751,3,FALSE),\"Leave this line blank\")","v":"Leave this line blank"},{"$nulls":11},"",null,"","No",null,null,"No"]
[null,{"$f":"IF('Step 2 PO Calculator'!B2217=\"Yes\",VLOOKUP('drop down'!$A$2,'Step 2 PO Calculator'!B2217:D2752,3,FALSE),\"Leave this line blank\")","v":"Leave this line blank"},{"$nulls":11},"",null,"","No",null,null,"No"]
[null,{"$f":"IF('Step 2 PO Calculator'!B2218=\"Yes\",VLOOKUP('drop down'!$A$2,'Step 2 PO Calculator'!B2218:D2753,3,FALSE),\"Leave this line blank\")","v":"Leave this line blank"},{"$nulls":11},"",null,"","No",null,null,"No"]
[null,{"$f":"IF('Step 2 PO Calculator'!B2219=\"Yes\",VLOOKUP('drop down'!$A$2,'Step 2 PO Calculator'!B2219:D2754,3,FALSE),\"Leave this line blank\")","v":"Leave this line blank"},{"$nulls":11},"",null,"","No",null,null,"No"]
[null,{"$f":"IF('Step 2 PO Calculator'!B2220=\"Yes\",VLOOKUP('drop down'!$A$2,'Step 2 PO Calculator'!B2220:D2755,3,FALSE),\"Leave this line blank\")","v":"Leave this line blank"},{"$nulls":11},"",null,"","No",null,null,"No"]
[null,{"$f":"IF('Step 2 PO Calculator'!B2221=\"Yes\",VLOOKUP('drop down'!$A$2,'Step 2 PO Calculator'!B2221:D2756,3,FALSE),\"Leave this line blank\")","v":"Leave this line blank"},{"$nulls":11},"",null,"","No",null,null,"No"]
[null,{"$f":"IF('Step 2 PO Calculator'!B2222=\"Yes\",VLOOKUP('drop down'!$A$2,'Step 2 PO Calculator'!B2222:D2757,3,FALSE),\"Leave this line blank\")","v":"Leave this line blank"},{"$nulls":11},"",null,"","No",null,null,"No"]
[null,{"$f":"IF('Step 2 PO Calculator'!B2223=\"Yes\",VLOOKUP('drop down'!$A$2,'Step 2 PO Calculator'!B2223:D2758,3,FALSE),\"Leave this line blank\")","v":"Leave this line blank"},{"$nulls":11},"",null,"","No",null,null,"No"]
[null,{"$f":"IF('Step 2 PO Calculator'!B2224=\"Yes\",VLOOKUP('drop down'!$A$2,'Step 2 PO Calculator'!B2224:D2759,3,FALSE),\"Leave this line blank\")","v":"Leave this line blank"},{"$nulls":11},"",null,"","No",null,null,"No"]
[null,{"$f":"IF('Step 2 PO Calculator'!B2225=\"Yes\",VLOOKUP('drop down'!$A$2,'Step 2 PO Calculator'!B2225:D2760,3,FALSE),\"Leave this line blank\")","v":"Leave this line blank"},{"$nulls":11},"",null,"","No",null,null,"No"]
[null,{"$f":"IF('Step 2 PO Calculator'!B2226=\"Yes\",VLOOKUP('drop down'!$A$2,'Step 2 PO Calculator'!B2226:D2761,3,FALSE),\"Leave this line blank\")","v":"Leave this line blank"},{"$nulls":11},"",null,"","No",null,null,"No"]
[null,{"$f":"IF('Step 2 PO Calculator'!B2227=\"Yes\",VLOOKUP('drop down'!$A$2,'Step 2 PO Calculator'!B2227:D2762,3,FALSE),\"Leave this line blank\")","v":"Leave this line blank"},{"$nulls":11},"",null,"","No",null,null,"No"]
[null,{"$f":"IF('Step 2 PO Calculator'!B2228=\"Yes\",VLOOKUP('drop down'!$A$2,'Step 2 PO Calculator'!B2228:D2763,3,FALSE),\"Leave this line blank\")","v":"Leave this line blank"},{"$nulls":11},"",null,"","No",null,null,"No"]
[null,{"$f":"IF('Step 2 PO Calculator'!B2229=\"Yes\",VLOOKUP('drop down'!$A$2,'Step 2 PO Calculator'!B2229:D2764,3,FALSE),\"Leave this line blank\")","v":"Leave this line blank"},{"$nulls":11},"",null,"","No",null,null,"No"]
[null,{"$f":"IF('Step 2 PO Calculator'!B2230=\"Yes\",VLOOKUP('drop down'!$A$2,'Step 2 PO Calculator'!B2230:D2765,3,FALSE),\"Leave this line blank\")","v":"Leave this line blank"},{"$nulls":11},"",null,"","No",null,null,"No"]
[null,{"$f":"IF('Step 2 PO Calculator'!B2231=\"Yes\",VLOOKUP('drop down'!$A$2,'Step 2 PO Calculator'!B2231:D2766,3,FALSE),\"Leave this line blank\")","v":"Leave this line blank"},{"$nulls":11},"",null,"","No",null,null,"No"]
[null,{"$f":"IF('Step 2 PO Calculator'!B2232=\"Yes\",VLOOKUP('drop down'!$A$2,'Step 2 PO Calculator'!B2232:D2767,3,FALSE),\"Leave this line blank\")","v":"Leave this line blank"},{"$nulls":11},"",null,"","No",null,null,"No"]
[null,{"$f":"IF('Step 2 PO Calculator'!B2233=\"Yes\",VLOOKUP('drop down'!$A$2,'Step 2 PO Calculator'!B2233:D2768,3,FALSE),\"Leave this line blank\")","v":"Leave this line blank"},{"$nulls":11},"",null,"","No",null,null,"No"]
[null,{"$f":"IF('Step 2 PO Calculator'!B2234=\"Yes\",VLOOKUP('drop down'!$A$2,'Step 2 PO Calculator'!B2234:D2769,3,FALSE),\"Leave this line blank\")","v":"Leave this line blank"},{"$nulls":11},"",null,"","No",null,null,"No"]
[null,{"$f":"IF('Step 2 PO Calculator'!B2235=\"Yes\",VLOOKUP('drop down'!$A$2,'Step 2 PO Calculator'!B2235:D2770,3,FALSE),\"Leave this line blank\")","v":"Leave this line blank"},{"$nulls":11},"",null,"","No",null,null,"No"]
[null,{"$f":"IF('Step 2 PO Calculator'!B2236=\"Yes\",VLOOKUP('drop down'!$A$2,'Step 2 PO Calculator'!B2236:D2771,3,FALSE),\"Leave this line blank\")","v":"Leave this line blank"},{"$nulls":11},"",null,"","No",null,null,"No"]
[null,{"$f":"IF('Step 2 PO Calculator'!B2237=\"Yes\",VLOOKUP('drop down'!$A$2,'Step 2 PO Calculator'!B2237:D2772,3,FALSE),\"Leave this line blank\")","v":"Leave this line blank"},{"$nulls":11},"",null,"","No",null,null,"No"]
[null,{"$f":"IF('Step 2 PO Calculator'!B2238=\"Yes\",VLOOKUP('drop down'!$A$2,'Step 2 PO Calculator'!B2238:D2773,3,FALSE),\"Leave this line blank\")","v":"Leave this line blank"},{"$nulls":11},"",null,"","No",null,null,"No"]
[null,{"$f":"IF('Step 2 PO Calculator'!B2239=\"Yes\",VLOOKUP('drop down'!$A$2,'Step 2 PO Calculator'!B2239:D2774,3,FALSE),\"Leave this line blank\")","v":"Leave this line blank"},{"$nulls":11},"",null,"","No",null,null,"No"]
[null,{"$f":"IF('Step 2 PO Calculator'!B2240=\"Yes\",VLOOKUP('drop down'!$A$2,'Step 2 PO Calculator'!B2240:D2775,3,FALSE),\"Leave this line blank\")","v":"Leave this line blank"},{"$nulls":11},"",null,"","No",null,null,"No"]
[null,{"$f":"IF('Step 2 PO Calculator'!B2241=\"Yes\",VLOOKUP('drop down'!$A$2,'Step 2 PO Calculator'!B2241:D2776,3,FALSE),\"Leave this line blank\")","v":"Leave this line blank"},{"$nulls":11},"",null,"","No",null,null,"No"]
[null,{"$f":"IF('Step 2 PO Calculator'!B2242=\"Yes\",VLOOKUP('drop down'!$A$2,'Step 2 PO Calculator'!B2242:D2777,3,FALSE),\"Leave this line blank\")","v":"Leave this line blank"},{"$nulls":11},"",null,"","No",null,null,"No"]
[null,{"$f":"IF('Step 2 PO Calculator'!B2243=\"Yes\",VLOOKUP('drop down'!$A$2,'Step 2 PO Calculator'!B2243:D2778,3,FALSE),\"Leave this line blank\")","v":"Leave this line blank"},{"$nulls":11},"",null,"","No",null,null,"No"]
[null,{"$f":"IF('Step 2 PO Calculator'!B2244=\"Yes\",VLOOKUP('drop down'!$A$2,'Step 2 PO Calculator'!B2244:D2779,3,FALSE),\"Leave this line blank\")","v":"Leave this line blank"},{"$nulls":11},"",null,"","No",null,null,"No"]
[null,{"$f":"IF('Step 2 PO Calculator'!B2245=\"Yes\",VLOOKUP('drop down'!$A$2,'Step 2 PO Calculator'!B2245:D2780,3,FALSE),\"Leave this line blank\")","v":"Leave this line blank"},{"$nulls":11},"",null,"","No",null,null,"No"]
[null,{"$f":"IF('Step 2 PO Calculator'!B2246=\"Yes\",VLOOKUP('drop down'!$A$2,'Step 2 PO Calculator'!B2246:D2781,3,FALSE),\"Leave this line blank\")","v":"Leave this line blank"},{"$nulls":11},"",null,"","No",null,null,"No"]
[null,{"$f":"IF('Step 2 PO Calculator'!B2247=\"Yes\",VLOOKUP('drop down'!$A$2,'Step 2 PO Calculator'!B2247:D2782,3,FALSE),\"Leave this line blank\")","v":"Leave this line blank"},{"$nulls":11},"",null,"","No",null,null,"No"]
[null,{"$f":"IF('Step 2 PO Calculator'!B2248=\"Yes\",VLOOKUP('drop down'!$A$2,'Step 2 PO Calculator'!B2248:D2783,3,FALSE),\"Leave this line blank\")","v":"Leave this line blank"},{"$nulls":11},"",null,"","No",null,null,"No"]
[null,{"$f":"IF('Step 2 PO Calculator'!B2249=\"Yes\",VLOOKUP('drop down'!$A$2,'Step 2 PO Calculator'!B2249:D2784,3,FALSE),\"Leave this line blank\")","v":"Leave this line blank"},{"$nulls":11},"",null,"","No",null,null,"No"]
[null,{"$f":"IF('Step 2 PO Calculator'!B2250=\"Yes\",VLOOKUP('drop down'!$A$2,'Step 2 PO Calculator'!B2250:D2785,3,FALSE),\"Leave this line blank\")","v":"Leave this line blank"},{"$nulls":11},"",null,"","No",null,null,"No"]
[null,{"$f":"IF('Step 2 PO Calculator'!B2251=\"Yes\",VLOOKUP('drop down'!$A$2,'Step 2 PO Calculator'!B2251:D2786,3,FALSE),\"Leave this line blank\")","v":"Leave this line blank"},{"$nulls":11},{"$f":"IF(I782=\"\",\"\",IF(_xlfn.DAYS(I$8,I782)>=180,\"X\",\"\"))","v":""},null,{"$f":"IF(K782=\"\",\"\",IF(_xlfn.DAYS(K782,I$8)<0,\"\",\"X\"))","v":""},{"$f":"IF(AND(N782=\"X\",P782=\"X\"),\"Yes\",\"No\")","v":"No"},null,null,{"$f":"IF(AND(N782=\"X\",P782=\"X\",R782=\"Yes\"),\"Yes\",\"No\")","v":"No"}]
[null,{"$f":"IF('Step 2 PO Calculator'!B2252=\"Yes\",VLOOKUP('drop down'!$A$2,'Step 2 PO Calculator'!B2252:D2787,3,FALSE),\"Leave this line blank\")","v":"Leave this line blank"},{"$nulls":11},"",null,"","No",null,null,"No"]
[null,{"$f":"IF('Step 2 PO Calculator'!B2253=\"Yes\",VLOOKUP('drop down'!$A$2,'Step 2 PO Calculator'!B2253:D2788,3,FALSE),\"Leave this line blank\")","v":"Leave this line blank"},{"$nulls":11},"",null,"","No",null,null,"No"]
[null,{"$f":"IF('Step 2 PO Calculator'!B2254=\"Yes\",VLOOKUP('drop down'!$A$2,'Step 2 PO Calculator'!B2254:D2789,3,FALSE),\"Leave this line blank\")","v":"Leave this line blank"},{"$nulls":11},"",null,"","No",null,null,"No"]
[null,{"$f":"IF('Step 2 PO Calculator'!B2255=\"Yes\",VLOOKUP('drop down'!$A$2,'Step 2 PO Calculator'!B2255:D2790,3,FALSE),\"Leave this line blank\")","v":"Leave this line blank"},{"$nulls":11},"",null,"","No",null,null,"No"]
[null,{"$f":"IF('Step 2 PO Calculator'!B2256=\"Yes\",VLOOKUP('drop down'!$A$2,'Step 2 PO Calculator'!B2256:D2791,3,FALSE),\"Leave this line blank\")","v":"Leave this line blank"},{"$nulls":11},"",null,"","No",null,null,"No"]
[null,{"$f":"IF('Step 2 PO Calculator'!B2257=\"Yes\",VLOOKUP('drop down'!$A$2,'Step 2 PO Calculator'!B2257:D2792,3,FALSE),\"Leave this line blank\")","v":"Leave this line blank"},{"$nulls":11},"",null,"","No",null,null,"No"]
[null,{"$f":"IF('Step 2 PO Calculator'!B2258=\"Yes\",VLOOKUP('drop down'!$A$2,'Step 2 PO Calculator'!B2258:D2793,3,FALSE),\"Leave this line blank\")","v":"Leave this line blank"},{"$nulls":11},"",null,"","No",null,null,"No"]
[null,{"$f":"IF('Step 2 PO Calculator'!B2259=\"Yes\",VLOOKUP('drop down'!$A$2,'Step 2 PO Calculator'!B2259:D2794,3,FALSE),\"Leave this line blank\")","v":"Leave this line blank"},{"$nulls":11},"",null,"","No",null,null,"No"]
[null,{"$f":"IF('Step 2 PO Calculator'!B2260=\"Yes\",VLOOKUP('drop down'!$A$2,'Step 2 PO Calculator'!B2260:D2795,3,FALSE),\"Leave this line blank\")","v":"Leave this line blank"},{"$nulls":11},"",null,"","No",null,null,"No"]
[null,{"$f":"IF('Step 2 PO Calculator'!B2261=\"Yes\",VLOOKUP('drop down'!$A$2,'Step 2 PO Calculator'!B2261:D2796,3,FALSE),\"Leave this line blank\")","v":"Leave this line blank"},{"$nulls":11},"",null,"","No",null,null,"No"]
[null,{"$f":"IF('Step 2 PO Calculator'!B2262=\"Yes\",VLOOKUP('drop down'!$A$2,'Step 2 PO Calculator'!B2262:D2797,3,FALSE),\"Leave this line blank\")","v":"Leave this line blank"},{"$nulls":11},"",null,"","No",null,null,"No"]
[null,{"$f":"IF('Step 2 PO Calculator'!B2263=\"Yes\",VLOOKUP('drop down'!$A$2,'Step 2 PO Calculator'!B2263:D2798,3,FALSE),\"Leave this line blank\")","v":"Leave this line blank"},{"$nulls":11},"",null,"","No",null,null,"No"]
[null,{"$f":"IF('Step 2 PO Calculator'!B2264=\"Yes\",VLOOKUP('drop down'!$A$2,'Step 2 PO Calculator'!B2264:D2799,3,FALSE),\"Leave this line blank\")","v":"Leave this line blank"},{"$nulls":11},"",null,"","No",null,null,"No"]
[null,{"$f":"IF('Step 2 PO Calculator'!B2265=\"Yes\",VLOOKUP('drop down'!$A$2,'Step 2 PO Calculator'!B2265:D2800,3,FALSE),\"Leave this line blank\")","v":"Leave this line blank"},{"$nulls":11},"",null,"","No",null,null,"No"]
[null,{"$f":"IF('Step 2 PO Calculator'!B2266=\"Yes\",VLOOKUP('drop down'!$A$2,'Step 2 PO Calculator'!B2266:D2801,3,FALSE),\"Leave this line blank\")","v":"Leave this line blank"},{"$nulls":11},"",null,"","No",null,null,"No"]
[null,{"$f":"IF('Step 2 PO Calculator'!B2267=\"Yes\",VLOOKUP('drop down'!$A$2,'Step 2 PO Calculator'!B2267:D2802,3,FALSE),\"Leave this line blank\")","v":"Leave this line blank"},{"$nulls":11},"",null,"","No",null,null,"No"]
[null,{"$f":"IF('Step 2 PO Calculator'!B2268=\"Yes\",VLOOKUP('drop down'!$A$2,'Step 2 PO Calculator'!B2268:D2803,3,FALSE),\"Leave this line blank\")","v":"Leave this line blank"},{"$nulls":11},"",null,"","No",null,null,"No"]
[null,{"$f":"IF('Step 2 PO Calculator'!B2269=\"Yes\",VLOOKUP('drop down'!$A$2,'Step 2 PO Calculator'!B2269:D2804,3,FALSE),\"Leave this line blank\")","v":"Leave this line blank"},{"$nulls":11},"",null,"","No",null,null,"No"]
[null,{"$f":"IF('Step 2 PO Calculator'!B2270=\"Yes\",VLOOKUP('drop down'!$A$2,'Step 2 PO Calculator'!B2270:D2805,3,FALSE),\"Leave this line blank\")","v":"Leave this line blank"},{"$nulls":11},"",null,"","No",null,null,"No"]
[null,{"$f":"IF('Step 2 PO Calculator'!B2271=\"Yes\",VLOOKUP('drop down'!$A$2,'Step 2 PO Calculator'!B2271:D2806,3,FALSE),\"Leave this line blank\")","v":"Leave this line blank"},{"$nulls":11},"",null,"","No",null,null,"No"]
[null,{"$f":"IF('Step 2 PO Calculator'!B2272=\"Yes\",VLOOKUP('drop down'!$A$2,'Step 2 PO Calculator'!B2272:D2807,3,FALSE),\"Leave this line blank\")","v":"Leave this line blank"},{"$nulls":11},"",null,"","No",null,null,"No"]
[null,{"$f":"IF('Step 2 PO Calculator'!B2273=\"Yes\",VLOOKUP('drop down'!$A$2,'Step 2 PO Calculator'!B2273:D2808,3,FALSE),\"Leave this line blank\")","v":"Leave this line blank"},{"$nulls":11},"",null,"","No",null,null,"No"]
[null,{"$f":"IF('Step 2 PO Calculator'!B2274=\"Yes\",VLOOKUP('drop down'!$A$2,'Step 2 PO Calculator'!B2274:D2809,3,FALSE),\"Leave this line blank\")","v":"Leave this line blank"},{"$nulls":11},"",null,"","No",null,null,"No"]
[null,{"$f":"IF('Step 2 PO Calculator'!B2275=\"Yes\",VLOOKUP('drop down'!$A$2,'Step 2 PO Calculator'!B2275:D2810,3,FALSE),\"Leave this line blank\")","v":"Leave this line blank"},{"$nulls":11},"",null,"","No",null,null,"No"]
[null,{"$f":"IF('Step 2 PO Calculator'!B2276=\"Yes\",VLOOKUP('drop down'!$A$2,'Step 2 PO Calculator'!B2276:D2811,3,FALSE),\"Leave this line blank\")","v":"Leave this line blank"},{"$nulls":11},"",null,"","No",null,null,"No"]
[null,{"$f":"IF('Step 2 PO Calculator'!B2277=\"Yes\",VLOOKUP('drop down'!$A$2,'Step 2 PO Calculator'!B2277:D2812,3,FALSE),\"Leave this line blank\")","v":"Leave this line blank"},{"$nulls":11},"",null,"","No",null,null,"No"]
[null,{"$f":"IF('Step 2 PO Calculator'!B2278=\"Yes\",VLOOKUP('drop down'!$A$2,'Step 2 PO Calculator'!B2278:D2813,3,FALSE),\"Leave this line blank\")","v":"Leave this line blank"},{"$nulls":11},"",null,"","No",null,null,"No"]
[null,{"$f":"IF('Step 2 PO Calculator'!B2279=\"Yes\",VLOOKUP('drop down'!$A$2,'Step 2 PO Calculator'!B2279:D2814,3,FALSE),\"Leave this line blank\")","v":"Leave this line blank"},{"$nulls":11},"",null,"","No",null,null,"No"]
[null,{"$f":"IF('Step 2 PO Calculator'!B2280=\"Yes\",VLOOKUP('drop down'!$A$2,'Step 2 PO Calculator'!B2280:D2815,3,FALSE),\"Leave this line blank\")","v":"Leave this line blank"},{"$nulls":11},"",null,"","No",null,null,"No"]
[null,{"$f":"IF('Step 2 PO Calculator'!B2281=\"Yes\",VLOOKUP('drop down'!$A$2,'Step 2 PO Calculator'!B2281:D2816,3,FALSE),\"Leave this line blank\")","v":"Leave this line blank"},{"$nulls":11},"",null,"","No",null,null,"No"]
[null,{"$f":"IF('Step 2 PO Calculator'!B2282=\"Yes\",VLOOKUP('drop down'!$A$2,'Step 2 PO Calculator'!B2282:D2817,3,FALSE),\"Leave this line blank\")","v":"Leave this line blank"},{"$nulls":11},"",null,"","No",null,null,"No"]
[null,{"$f":"IF('Step 2 PO Calculator'!B2283=\"Yes\",VLOOKUP('drop down'!$A$2,'Step 2 PO Calculator'!B2283:D2818,3,FALSE),\"Leave this line blank\")","v":"Leave this line blank"},{"$nulls":11},"",null,"","No",null,null,"No"]
[null,{"$f":"IF('Step 2 PO Calculator'!B2284=\"Yes\",VLOOKUP('drop down'!$A$2,'Step 2 PO Calculator'!B2284:D2819,3,FALSE),\"Leave this line blank\")","v":"Leave this line blank"},{"$nulls":11},"",null,"","No",null,null,"No"]
[null,{"$f":"IF('Step 2 PO Calculator'!B2285=\"Yes\",VLOOKUP('drop down'!$A$2,'Step 2 PO Calculator'!B2285:D2820,3,FALSE),\"Leave this line blank\")","v":"Leave this line blank"},{"$nulls":11},"",null,"","No",null,null,"No"]
[null,{"$f":"IF('Step 2 PO Calculator'!B2286=\"Yes\",VLOOKUP('drop down'!$A$2,'Step 2 PO Calculator'!B2286:D2821,3,FALSE),\"Leave this line blank\")","v":"Leave this line blank"},{"$nulls":11},"",null,"","No",null,null,"No"]
[null,{"$f":"IF('Step 2 PO Calculator'!B2287=\"Yes\",VLOOKUP('drop down'!$A$2,'Step 2 PO Calculator'!B2287:D2822,3,FALSE),\"Leave this line blank\")","v":"Leave this line blank"},{"$nulls":11},"",null,"","No",null,null,"No"]
[null,{"$f":"IF('Step 2 PO Calculator'!B2288=\"Yes\",VLOOKUP('drop down'!$A$2,'Step 2 PO Calculator'!B2288:D2823,3,FALSE),\"Leave this line blank\")","v":"Leave this line blank"},{"$nulls":11},"",null,"","No",null,null,"No"]
[null,{"$f":"IF('Step 2 PO Calculator'!B2289=\"Yes\",VLOOKUP('drop down'!$A$2,'Step 2 PO Calculator'!B2289:D2824,3,FALSE),\"Leave this line blank\")","v":"Leave this line blank"},{"$nulls":11},"",null,"","No",null,null,"No"]
[null,{"$f":"IF('Step 2 PO Calculator'!B2290=\"Yes\",VLOOKUP('drop down'!$A$2,'Step 2 PO Calculator'!B2290:D2825,3,FALSE),\"Leave this line blank\")","v":"Leave this line blank"},{"$nulls":11},"",null,"","No",null,null,"No"]
[null,{"$f":"IF('Step 2 PO Calculator'!B2291=\"Yes\",VLOOKUP('drop down'!$A$2,'Step 2 PO Calculator'!B2291:D2826,3,FALSE),\"Leave this line blank\")","v":"Leave this line blank"},{"$nulls":11},"",null,"","No",null,null,"No"]
[null,{"$f":"IF('Step 2 PO Calculator'!B2292=\"Yes\",VLOOKUP('drop down'!$A$2,'Step 2 PO Calculator'!B2292:D2827,3,FALSE),\"Leave this line blank\")","v":"Leave this line blank"},{"$nulls":11},"",null,"","No",null,null,"No"]
[null,{"$f":"IF('Step 2 PO Calculator'!B2293=\"Yes\",VLOOKUP('drop down'!$A$2,'Step 2 PO Calculator'!B2293:D2828,3,FALSE),\"Leave this line blank\")","v":"Leave this line blank"},{"$nulls":11},"",null,"","No",null,null,"No"]
[null,{"$f":"IF('Step 2 PO Calculator'!B2294=\"Yes\",VLOOKUP('drop down'!$A$2,'Step 2 PO Calculator'!B2294:D2829,3,FALSE),\"Leave this line blank\")","v":"Leave this line blank"},{"$nulls":11},"",null,"","No",null,null,"No"]
[null,{"$f":"IF('Step 2 PO Calculator'!B2295=\"Yes\",VLOOKUP('drop down'!$A$2,'Step 2 PO Calculator'!B2295:D2830,3,FALSE),\"Leave this line blank\")","v":"Leave this line blank"},{"$nulls":11},"",null,"","No",null,null,"No"]
[null,{"$f":"IF('Step 2 PO Calculator'!B2296=\"Yes\",VLOOKUP('drop down'!$A$2,'Step 2 PO Calculator'!B2296:D2831,3,FALSE),\"Leave this line blank\")","v":"Leave this line blank"},{"$nulls":11},"",null,"","No",null,null,"No"]
[null,{"$f":"IF('Step 2 PO Calculator'!B2297=\"Yes\",VLOOKUP('drop down'!$A$2,'Step 2 PO Calculator'!B2297:D2832,3,FALSE),\"Leave this line blank\")","v":"Leave this line blank"},{"$nulls":11},"",null,"","No",null,null,"No"]
[null,{"$f":"IF('Step 2 PO Calculator'!B2298=\"Yes\",VLOOKUP('drop down'!$A$2,'Step 2 PO Calculator'!B2298:D2833,3,FALSE),\"Leave this line blank\")","v":"Leave this line blank"},{"$nulls":11},"",null,"","No",null,null,"No"]
[null,{"$f":"IF('Step 2 PO Calculator'!B2299=\"Yes\",VLOOKUP('drop down'!$A$2,'Step 2 PO Calculator'!B2299:D2834,3,FALSE),\"Leave this line blank\")","v":"Leave this line blank"},{"$nulls":11},"",null,"","No",null,null,"No"]
[null,{"$f":"IF('Step 2 PO Calculator'!B2300=\"Yes\",VLOOKUP('drop down'!$A$2,'Step 2 PO Calculator'!B2300:D2835,3,FALSE),\"Leave this line blank\")","v":"Leave this line blank"},{"$nulls":11},"",null,"","No",null,null,"No"]
[null,{"$f":"IF('Step 2 PO Calculator'!B2301=\"Yes\",VLOOKUP('drop down'!$A$2,'Step 2 PO Calculator'!B2301:D2836,3,FALSE),\"Leave this line blank\")","v":"Leave this line blank"},{"$nulls":11},"",null,"","No",null,null,"No"]
[null,{"$f":"IF('Step 2 PO Calculator'!B2302=\"Yes\",VLOOKUP('drop down'!$A$2,'Step 2 PO Calculator'!B2302:D2837,3,FALSE),\"Leave this line blank\")","v":"Leave this line blank"},{"$nulls":11},"",null,"","No",null,null,"No"]
[null,{"$f":"IF('Step 2 PO Calculator'!B2303=\"Yes\",VLOOKUP('drop down'!$A$2,'Step 2 PO Calculator'!B2303:D2838,3,FALSE),\"Leave this line blank\")","v":"Leave this line blank"},{"$nulls":11},"",null,"","No",null,null,"No"]
[null,{"$f":"IF('Step 2 PO Calculator'!B2304=\"Yes\",VLOOKUP('drop down'!$A$2,'Step 2 PO Calculator'!B2304:D2839,3,FALSE),\"Leave this line blank\")","v":"Leave this line blank"},{"$nulls":11},"",null,"","No",null,null,"No"]
[null,{"$f":"IF('Step 2 PO Calculator'!B2305=\"Yes\",VLOOKUP('drop down'!$A$2,'Step 2 PO Calculator'!B2305:D2840,3,FALSE),\"Leave this line blank\")","v":"Leave this line blank"},{"$nulls":11},"",null,"","No",null,null,"No"]
[null,{"$f":"IF('Step 2 PO Calculator'!B2306=\"Yes\",VLOOKUP('drop down'!$A$2,'Step 2 PO Calculator'!B2306:D2841,3,FALSE),\"Leave this line blank\")","v":"Leave this line blank"},{"$nulls":11},"",null,"","No",null,null,"No"]
[null,{"$f":"IF('Step 2 PO Calculator'!B2307=\"Yes\",VLOOKUP('drop down'!$A$2,'Step 2 PO Calculator'!B2307:D2842,3,FALSE),\"Leave this line blank\")","v":"Leave this line blank"},{"$nulls":11},"",null,"","No",null,null,"No"]
[null,{"$f":"IF('Step 2 PO Calculator'!B2308=\"Yes\",VLOOKUP('drop down'!$A$2,'Step 2 PO Calculator'!B2308:D2843,3,FALSE),\"Leave this line blank\")","v":"Leave this line blank"},{"$nulls":11},"",null,"","No",null,null,"No"]
[null,{"$f":"IF('Step 2 PO Calculator'!B2309=\"Yes\",VLOOKUP('drop down'!$A$2,'Step 2 PO Calculator'!B2309:D2844,3,FALSE),\"Leave this line blank\")","v":"Leave this line blank"},{"$nulls":11},"",null,"","No",null,null,"No"]
[null,{"$f":"IF('Step 2 PO Calculator'!B2310=\"Yes\",VLOOKUP('drop down'!$A$2,'Step 2 PO Calculator'!B2310:D2845,3,FALSE),\"Leave this line blank\")","v":"Leave this line blank"},{"$nulls":11},"",null,"","No",null,null,"No"]
[null,{"$f":"IF('Step 2 PO Calculator'!B2311=\"Yes\",VLOOKUP('drop down'!$A$2,'Step 2 PO Calculator'!B2311:D2846,3,FALSE),\"Leave this line blank\")","v":"Leave this line blank"},{"$nulls":11},"",null,"","No",null,null,"No"]
[null,{"$f":"IF('Step 2 PO Calculator'!B2312=\"Yes\",VLOOKUP('drop down'!$A$2,'Step 2 PO Calculator'!B2312:D2847,3,FALSE),\"Leave this line blank\")","v":"Leave this line blank"},{"$nulls":11},"",null,"","No",null,null,"No"]
[null,{"$f":"IF('Step 2 PO Calculator'!B2313=\"Yes\",VLOOKUP('drop down'!$A$2,'Step 2 PO Calculator'!B2313:D2848,3,FALSE),\"Leave this line blank\")","v":"Leave this line blank"},{"$nulls":11},"",null,"","No",null,null,"No"]
[null,{"$f":"IF('Step 2 PO Calculator'!B2314=\"Yes\",VLOOKUP('drop down'!$A$2,'Step 2 PO Calculator'!B2314:D2849,3,FALSE),\"Leave this line blank\")","v":"Leave this line blank"},{"$nulls":11},"",null,"","No",null,null,"No"]
[null,{"$f":"IF('Step 2 PO Calculator'!B2315=\"Yes\",VLOOKUP('drop down'!$A$2,'Step 2 PO Calculator'!B2315:D2850,3,FALSE),\"Leave this line blank\")","v":"Leave this line blank"},{"$nulls":11},{"$f":"IF(I846=\"\",\"\",IF(_xlfn.DAYS(I$8,I846)>=180,\"X\",\"\"))","v":""},null,{"$f":"IF(K846=\"\",\"\",IF(_xlfn.DAYS(K846,I$8)<0,\"\",\"X\"))","v":""},{"$f":"IF(AND(N846=\"X\",P846=\"X\"),\"Yes\",\"No\")","v":"No"},null,null,{"$f":"IF(AND(N846=\"X\",P846=\"X\",R846=\"Yes\"),\"Yes\",\"No\")","v":"No"}]
[null,{"$f":"IF('Step 2 PO Calculator'!B2316=\"Yes\",VLOOKUP('drop down'!$A$2,'Step 2 PO Calculator'!B2316:D2851,3,FALSE),\"Leave this line blank\")","v":"Leave this line blank"},{"$nulls":11},"",null,"","No",null,null,"No"]
[null,{"$f":"IF('Step 2 PO Calculator'!B2317=\"Yes\",VLOOKUP('drop down'!$A$2,'Step 2 PO Calculator'!B2317:D2852,3,FALSE),\"Leave this line blank\")","v":"Leave this line blank"},{"$nulls":11},"",null,"","No",null,null,"No"]
[null,{"$f":"IF('Step 2 PO Calculator'!B2318=\"Yes\",VLOOKUP('drop down'!$A$2,'Step 2 PO Calculator'!B2318:D2853,3,FALSE),\"Leave this line blank\")","v":"Leave this line blank"},{"$nulls":11},"",null,"","No",null,null,"No"]
[null,{"$f":"IF('Step 2 PO Calculator'!B2319=\"Yes\",VLOOKUP('drop down'!$A$2,'Step 2 PO Calculator'!B2319:D2854,3,FALSE),\"Leave this line blank\")","v":"Leave this line blank"},{"$nulls":11},"",null,"","No",null,null,"No"]
[null,{"$f":"IF('Step 2 PO Calculator'!B2320=\"Yes\",VLOOKUP('drop down'!$A$2,'Step 2 PO Calculator'!B2320:D2855,3,FALSE),\"Leave this line blank\")","v":"Leave this line blank"},{"$nulls":11},"",null,"","No",null,null,"No"]
[null,{"$f":"IF('Step 2 PO Calculator'!B2321=\"Yes\",VLOOKUP('drop down'!$A$2,'Step 2 PO Calculator'!B2321:D2856,3,FALSE),\"Leave this line blank\")","v":"Leave this line blank"},{"$nulls":11},"",null,"","No",null,null,"No"]
[null,{"$f":"IF('Step 2 PO Calculator'!B2322=\"Yes\",VLOOKUP('drop down'!$A$2,'Step 2 PO Calculator'!B2322:D2857,3,FALSE),\"Leave this line blank\")","v":"Leave this line blank"},{"$nulls":11},"",null,"","No",null,null,"No"]
[null,{"$f":"IF('Step 2 PO Calculator'!B2323=\"Yes\",VLOOKUP('drop down'!$A$2,'Step 2 PO Calculator'!B2323:D2858,3,FALSE),\"Leave this line blank\")","v":"Leave this line blank"},{"$nulls":11},"",null,"","No",null,null,"No"]
[null,{"$f":"IF('Step 2 PO Calculator'!B2324=\"Yes\",VLOOKUP('drop down'!$A$2,'Step 2 PO Calculator'!B2324:D2859,3,FALSE),\"Leave this line blank\")","v":"Leave this line blank"},{"$nulls":11},"",null,"","No",null,null,"No"]
[null,{"$f":"IF('Step 2 PO Calculator'!B2325=\"Yes\",VLOOKUP('drop down'!$A$2,'Step 2 PO Calculator'!B2325:D2860,3,FALSE),\"Leave this line blank\")","v":"Leave this line blank"},{"$nulls":11},"",null,"","No",null,null,"No"]
[null,{"$f":"IF('Step 2 PO Calculator'!B2326=\"Yes\",VLOOKUP('drop down'!$A$2,'Step 2 PO Calculator'!B2326:D2861,3,FALSE),\"Leave this line blank\")","v":"Leave this line blank"},{"$nulls":11},"",null,"","No",null,null,"No"]
[null,{"$f":"IF('Step 2 PO Calculator'!B2327=\"Yes\",VLOOKUP('drop down'!$A$2,'Step 2 PO Calculator'!B2327:D2862,3,FALSE),\"Leave this line blank\")","v":"Leave this line blank"},{"$nulls":11},"",null,"","No",null,null,"No"]
[null,{"$f":"IF('Step 2 PO Calculator'!B2328=\"Yes\",VLOOKUP('drop down'!$A$2,'Step 2 PO Calculator'!B2328:D2863,3,FALSE),\"Leave this line blank\")","v":"Leave this line blank"},{"$nulls":11},"",null,"","No",null,null,"No"]
[null,{"$f":"IF('Step 2 PO Calculator'!B2329=\"Yes\",VLOOKUP('drop down'!$A$2,'Step 2 PO Calculator'!B2329:D2864,3,FALSE),\"Leave this line blank\")","v":"Leave this line blank"},{"$nulls":11},"",null,"","No",null,null,"No"]
[null,{"$f":"IF('Step 2 PO Calculator'!B2330=\"Yes\",VLOOKUP('drop down'!$A$2,'Step 2 PO Calculator'!B2330:D2865,3,FALSE),\"Leave this line blank\")","v":"Leave this line blank"},{"$nulls":11},"",null,"","No",null,null,"No"]
[null,{"$f":"IF('Step 2 PO Calculator'!B2331=\"Yes\",VLOOKUP('drop down'!$A$2,'Step 2 PO Calculator'!B2331:D2866,3,FALSE),\"Leave this line blank\")","v":"Leave this line blank"},{"$nulls":11},"",null,"","No",null,null,"No"]
[null,{"$f":"IF('Step 2 PO Calculator'!B2332=\"Yes\",VLOOKUP('drop down'!$A$2,'Step 2 PO Calculator'!B2332:D2867,3,FALSE),\"Leave this line blank\")","v":"Leave this line blank"},{"$nulls":11},"",null,"","No",null,null,"No"]
[null,{"$f":"IF('Step 2 PO Calculator'!B2333=\"Yes\",VLOOKUP('drop down'!$A$2,'Step 2 PO Calculator'!B2333:D2868,3,FALSE),\"Leave this line blank\")","v":"Leave this line blank"},{"$nulls":11},"",null,"","No",null,null,"No"]
[null,{"$f":"IF('Step 2 PO Calculator'!B2334=\"Yes\",VLOOKUP('drop down'!$A$2,'Step 2 PO Calculator'!B2334:D2869,3,FALSE),\"Leave this line blank\")","v":"Leave this line blank"},{"$nulls":11},"",null,"","No",null,null,"No"]
[null,{"$f":"IF('Step 2 PO Calculator'!B2335=\"Yes\",VLOOKUP('drop down'!$A$2,'Step 2 PO Calculator'!B2335:D2870,3,FALSE),\"Leave this line blank\")","v":"Leave this line blank"},{"$nulls":11},"",null,"","No",null,null,"No"]
[null,{"$f":"IF('Step 2 PO Calculator'!B2336=\"Yes\",VLOOKUP('drop down'!$A$2,'Step 2 PO Calculator'!B2336:D2871,3,FALSE),\"Leave this line blank\")","v":"Leave this line blank"},{"$nulls":11},"",null,"","No",null,null,"No"]
[null,{"$f":"IF('Step 2 PO Calculator'!B2337=\"Yes\",VLOOKUP('drop down'!$A$2,'Step 2 PO Calculator'!B2337:D2872,3,FALSE),\"Leave this line blank\")","v":"Leave this line blank"},{"$nulls":11},"",null,"","No",null,null,"No"]
[null,{"$f":"IF('Step 2 PO Calculator'!B2338=\"Yes\",VLOOKUP('drop down'!$A$2,'Step 2 PO Calculator'!B2338:D2873,3,FALSE),\"Leave this line blank\")","v":"Leave this line blank"},{"$nulls":11},"",null,"","No",null,null,"No"]
[null,{"$f":"IF('Step 2 PO Calculator'!B2339=\"Yes\",VLOOKUP('drop down'!$A$2,'Step 2 PO Calculator'!B2339:D2874,3,FALSE),\"Leave this line blank\")","v":"Leave this line blank"},{"$nulls":11},"",null,"","No",null,null,"No"]
[null,{"$f":"IF('Step 2 PO Calculator'!B2340=\"Yes\",VLOOKUP('drop down'!$A$2,'Step 2 PO Calculator'!B2340:D2875,3,FALSE),\"Leave this line blank\")","v":"Leave this line blank"},{"$nulls":11},"",null,"","No",null,null,"No"]
[null,{"$f":"IF('Step 2 PO Calculator'!B2341=\"Yes\",VLOOKUP('drop down'!$A$2,'Step 2 PO Calculator'!B2341:D2876,3,FALSE),\"Leave this line blank\")","v":"Leave this line blank"},{"$nulls":11},"",null,"","No",null,null,"No"]
[null,{"$f":"IF('Step 2 PO Calculator'!B2342=\"Yes\",VLOOKUP('drop down'!$A$2,'Step 2 PO Calculator'!B2342:D2877,3,FALSE),\"Leave this line blank\")","v":"Leave this line blank"},{"$nulls":11},"",null,"","No",null,null,"No"]
[null,{"$f":"IF('Step 2 PO Calculator'!B2343=\"Yes\",VLOOKUP('drop down'!$A$2,'Step 2 PO Calculator'!B2343:D2878,3,FALSE),\"Leave this line blank\")","v":"Leave this line blank"},{"$nulls":11},"",null,"","No",null,null,"No"]
[null,{"$f":"IF('Step 2 PO Calculator'!B2344=\"Yes\",VLOOKUP('drop down'!$A$2,'Step 2 PO Calculator'!B2344:D2879,3,FALSE),\"Leave this line blank\")","v":"Leave this line blank"},{"$nulls":11},"",null,"","No",null,null,"No"]
[null,{"$f":"IF('Step 2 PO Calculator'!B2345=\"Yes\",VLOOKUP('drop down'!$A$2,'Step 2 PO Calculator'!B2345:D2880,3,FALSE),\"Leave this line blank\")","v":"Leave this line blank"},{"$nulls":11},"",null,"","No",null,null,"No"]
[null,{"$f":"IF('Step 2 PO Calculator'!B2346=\"Yes\",VLOOKUP('drop down'!$A$2,'Step 2 PO Calculator'!B2346:D2881,3,FALSE),\"Leave this line blank\")","v":"Leave this line blank"},{"$nulls":11},"",null,"","No",null,null,"No"]
[null,{"$f":"IF('Step 2 PO Calculator'!B2347=\"Yes\",VLOOKUP('drop down'!$A$2,'Step 2 PO Calculator'!B2347:D2882,3,FALSE),\"Leave this line blank\")","v":"Leave this line blank"},{"$nulls":11},"",null,"","No",null,null,"No"]
[null,{"$f":"IF('Step 2 PO Calculator'!B2348=\"Yes\",VLOOKUP('drop down'!$A$2,'Step 2 PO Calculator'!B2348:D2883,3,FALSE),\"Leave this line blank\")","v":"Leave this line blank"},{"$nulls":11},"",null,"","No",null,null,"No"]
[null,{"$f":"IF('Step 2 PO Calculator'!B2349=\"Yes\",VLOOKUP('drop down'!$A$2,'Step 2 PO Calculator'!B2349:D2884,3,FALSE),\"Leave this line blank\")","v":"Leave this line blank"},{"$nulls":11},"",null,"","No",null,null,"No"]
[null,{"$f":"IF('Step 2 PO Calculator'!B2350=\"Yes\",VLOOKUP('drop down'!$A$2,'Step 2 PO Calculator'!B2350:D2885,3,FALSE),\"Leave this line blank\")","v":"Leave this line blank"},{"$nulls":11},"",null,"","No",null,null,"No"]
[null,{"$f":"IF('Step 2 PO Calculator'!B2351=\"Yes\",VLOOKUP('drop down'!$A$2,'Step 2 PO Calculator'!B2351:D2886,3,FALSE),\"Leave this line blank\")","v":"Leave this line blank"},{"$nulls":11},"",null,"","No",null,null,"No"]
[null,{"$f":"IF('Step 2 PO Calculator'!B2352=\"Yes\",VLOOKUP('drop down'!$A$2,'Step 2 PO Calculator'!B2352:D2887,3,FALSE),\"Leave this line blank\")","v":"Leave this line blank"},{"$nulls":11},"",null,"","No",null,null,"No"]
[null,{"$f":"IF('Step 2 PO Calculator'!B2353=\"Yes\",VLOOKUP('drop down'!$A$2,'Step 2 PO Calculator'!B2353:D2888,3,FALSE),\"Leave this line blank\")","v":"Leave this line blank"},{"$nulls":11},"",null,"","No",null,null,"No"]
[null,{"$f":"IF('Step 2 PO Calculator'!B2354=\"Yes\",VLOOKUP('drop down'!$A$2,'Step 2 PO Calculator'!B2354:D2889,3,FALSE),\"Leave this line blank\")","v":"Leave this line blank"},{"$nulls":11},"",null,"","No",null,null,"No"]
[null,{"$f":"IF('Step 2 PO Calculator'!B2355=\"Yes\",VLOOKUP('drop down'!$A$2,'Step 2 PO Calculator'!B2355:D2890,3,FALSE),\"Leave this line blank\")","v":"Leave this line blank"},{"$nulls":11},"",null,"","No",null,null,"No"]
[null,{"$f":"IF('Step 2 PO Calculator'!B2356=\"Yes\",VLOOKUP('drop down'!$A$2,'Step 2 PO Calculator'!B2356:D2891,3,FALSE),\"Leave this line blank\")","v":"Leave this line blank"},{"$nulls":11},"",null,"","No",null,null,"No"]
[null,{"$f":"IF('Step 2 PO Calculator'!B2357=\"Yes\",VLOOKUP('drop down'!$A$2,'Step 2 PO Calculator'!B2357:D2892,3,FALSE),\"Leave this line blank\")","v":"Leave this line blank"},{"$nulls":11},"",null,"","No",null,null,"No"]
[null,{"$f":"IF('Step 2 PO Calculator'!B2358=\"Yes\",VLOOKUP('drop down'!$A$2,'Step 2 PO Calculator'!B2358:D2893,3,FALSE),\"Leave this line blank\")","v":"Leave this line blank"},{"$nulls":11},"",null,"","No",null,null,"No"]
[null,{"$f":"IF('Step 2 PO Calculator'!B2359=\"Yes\",VLOOKUP('drop down'!$A$2,'Step 2 PO Calculator'!B2359:D2894,3,FALSE),\"Leave this line blank\")","v":"Leave this line blank"},{"$nulls":11},"",null,"","No",null,null,"No"]
[null,{"$f":"IF('Step 2 PO Calculator'!B2360=\"Yes\",VLOOKUP('drop down'!$A$2,'Step 2 PO Calculator'!B2360:D2895,3,FALSE),\"Leave this line blank\")","v":"Leave this line blank"},{"$nulls":11},"",null,"","No",null,null,"No"]
[null,{"$f":"IF('Step 2 PO Calculator'!B2361=\"Yes\",VLOOKUP('drop down'!$A$2,'Step 2 PO Calculator'!B2361:D2896,3,FALSE),\"Leave this line blank\")","v":"Leave this line blank"},{"$nulls":11},"",null,"","No",null,null,"No"]
[null,{"$f":"IF('Step 2 PO Calculator'!B2362=\"Yes\",VLOOKUP('drop down'!$A$2,'Step 2 PO Calculator'!B2362:D2897,3,FALSE),\"Leave this line blank\")","v":"Leave this line blank"},{"$nulls":11},"",null,"","No",null,null,"No"]
[null,{"$f":"IF('Step 2 PO Calculator'!B2363=\"Yes\",VLOOKUP('drop down'!$A$2,'Step 2 PO Calculator'!B2363:D2898,3,FALSE),\"Leave this line blank\")","v":"Leave this line blank"},{"$nulls":11},"",null,"","No",null,null,"No"]
[null,{"$f":"IF('Step 2 PO Calculator'!B2364=\"Yes\",VLOOKUP('drop down'!$A$2,'Step 2 PO Calculator'!B2364:D2899,3,FALSE),\"Leave this line blank\")","v":"Leave this line blank"},{"$nulls":11},"",null,"","No",null,null,"No"]
[null,{"$f":"IF('Step 2 PO Calculator'!B2365=\"Yes\",VLOOKUP('drop down'!$A$2,'Step 2 PO Calculator'!B2365:D2900,3,FALSE),\"Leave this line blank\")","v":"Leave this line blank"},{"$nulls":11},"",null,"","No",null,null,"No"]
[null,{"$f":"IF('Step 2 PO Calculator'!B2366=\"Yes\",VLOOKUP('drop down'!$A$2,'Step 2 PO Calculator'!B2366:D2901,3,FALSE),\"Leave this line blank\")","v":"Leave this line blank"},{"$nulls":11},"",null,"","No",null,null,"No"]
[null,{"$f":"IF('Step 2 PO Calculator'!B2367=\"Yes\",VLOOKUP('drop down'!$A$2,'Step 2 PO Calculator'!B2367:D2902,3,FALSE),\"Leave this line blank\")","v":"Leave this line blank"},{"$nulls":11},"",null,"","No",null,null,"No"]
[null,{"$f":"IF('Step 2 PO Calculator'!B2368=\"Yes\",VLOOKUP('drop down'!$A$2,'Step 2 PO Calculator'!B2368:D2903,3,FALSE),\"Leave this line blank\")","v":"Leave this line blank"},{"$nulls":11},"",null,"","No",null,null,"No"]
[null,{"$f":"IF('Step 2 PO Calculator'!B2369=\"Yes\",VLOOKUP('drop down'!$A$2,'Step 2 PO Calculator'!B2369:D2904,3,FALSE),\"Leave this line blank\")","v":"Leave this line blank"},{"$nulls":11},"",null,"","No",null,null,"No"]
[null,{"$f":"IF('Step 2 PO Calculator'!B2370=\"Yes\",VLOOKUP('drop down'!$A$2,'Step 2 PO Calculator'!B2370:D2905,3,FALSE),\"Leave this line blank\")","v":"Leave this line blank"},{"$nulls":11},"",null,"","No",null,null,"No"]
[null,{"$f":"IF('Step 2 PO Calculator'!B2371=\"Yes\",VLOOKUP('drop down'!$A$2,'Step 2 PO Calculator'!B2371:D2906,3,FALSE),\"Leave this line blank\")","v":"Leave this line blank"},{"$nulls":11},"",null,"","No",null,null,"No"]
[null,{"$f":"IF('Step 2 PO Calculator'!B2372=\"Yes\",VLOOKUP('drop down'!$A$2,'Step 2 PO Calculator'!B2372:D2907,3,FALSE),\"Leave this line blank\")","v":"Leave this line blank"},{"$nulls":11},"",null,"","No",null,null,"No"]
[null,{"$f":"IF('Step 2 PO Calculator'!B2373=\"Yes\",VLOOKUP('drop down'!$A$2,'Step 2 PO Calculator'!B2373:D2908,3,FALSE),\"Leave this line blank\")","v":"Leave this line blank"},{"$nulls":11},"",null,"","No",null,null,"No"]
[null,{"$f":"IF('Step 2 PO Calculator'!B2374=\"Yes\",VLOOKUP('drop down'!$A$2,'Step 2 PO Calculator'!B2374:D2909,3,FALSE),\"Leave this line blank\")","v":"Leave this line blank"},{"$nulls":11},"",null,"","No",null,null,"No"]
[null,{"$f":"IF('Step 2 PO Calculator'!B2375=\"Yes\",VLOOKUP('drop down'!$A$2,'Step 2 PO Calculator'!B2375:D2910,3,FALSE),\"Leave this line blank\")","v":"Leave this line blank"},{"$nulls":11},"",null,"","No",null,null,"No"]
[null,{"$f":"IF('Step 2 PO Calculator'!B2376=\"Yes\",VLOOKUP('drop down'!$A$2,'Step 2 PO Calculator'!B2376:D2911,3,FALSE),\"Leave this line blank\")","v":"Leave this line blank"},{"$nulls":11},"",null,"","No",null,null,"No"]
[null,{"$f":"IF('Step 2 PO Calculator'!B2377=\"Yes\",VLOOKUP('drop down'!$A$2,'Step 2 PO Calculator'!B2377:D2912,3,FALSE),\"Leave this line blank\")","v":"Leave this line blank"},{"$nulls":11},"",null,"","No",null,null,"No"]
[null,{"$f":"IF('Step 2 PO Calculator'!B2378=\"Yes\",VLOOKUP('drop down'!$A$2,'Step 2 PO Calculator'!B2378:D2913,3,FALSE),\"Leave this line blank\")","v":"Leave this line blank"},{"$nulls":11},"",null,"","No",null,null,"No"]
[null,{"$f":"IF('Step 2 PO Calculator'!B2379=\"Yes\",VLOOKUP('drop down'!$A$2,'Step 2 PO Calculator'!B2379:D2914,3,FALSE),\"Leave this line blank\")","v":"Leave this line blank"},{"$nulls":11},{"$f":"IF(I910=\"\",\"\",IF(_xlfn.DAYS(I$8,I910)>=180,\"X\",\"\"))","v":""},null,{"$f":"IF(K910=\"\",\"\",IF(_xlfn.DAYS(K910,I$8)<0,\"\",\"X\"))","v":""},{"$f":"IF(AND(N910=\"X\",P910=\"X\"),\"Yes\",\"No\")","v":"No"},null,null,{"$f":"IF(AND(N910=\"X\",P910=\"X\",R910=\"Yes\"),\"Yes\",\"No\")","v":"No"}]
[null,{"$f":"IF('Step 2 PO Calculator'!B2380=\"Yes\",VLOOKUP('drop down'!$A$2,'Step 2 PO Calculator'!B2380:D2915,3,FALSE),\"Leave this line blank\")","v":"Leave this line blank"},{"$nulls":11},"",null,"","No",null,null,"No"]
[null,{"$f":"IF('Step 2 PO Calculator'!B2381=\"Yes\",VLOOKUP('drop down'!$A$2,'Step 2 PO Calculator'!B2381:D2916,3,FALSE),\"Leave this line blank\")","v":"Leave this line blank"},{"$nulls":11},"",null,"","No",null,null,"No"]
[null,{"$f":"IF('Step 2 PO Calculator'!B2382=\"Yes\",VLOOKUP('drop down'!$A$2,'Step 2 PO Calculator'!B2382:D2917,3,FALSE),\"Leave this line blank\")","v":"Leave this line blank"},{"$nulls":11},"",null,"","No",null,null,"No"]
[null,{"$f":"IF('Step 2 PO Calculator'!B2383=\"Yes\",VLOOKUP('drop down'!$A$2,'Step 2 PO Calculator'!B2383:D2918,3,FALSE),\"Leave this line blank\")","v":"Leave this line blank"},{"$nulls":11},"",null,"","No",null,null,"No"]
[null,{"$f":"IF('Step 2 PO Calculator'!B2384=\"Yes\",VLOOKUP('drop down'!$A$2,'Step 2 PO Calculator'!B2384:D2919,3,FALSE),\"Leave this line blank\")","v":"Leave this line blank"},{"$nulls":11},"",null,"","No",null,null,"No"]
[null,{"$f":"IF('Step 2 PO Calculator'!B2385=\"Yes\",VLOOKUP('drop down'!$A$2,'Step 2 PO Calculator'!B2385:D2920,3,FALSE),\"Leave this line blank\")","v":"Leave this line blank"},{"$nulls":11},"",null,"","No",null,null,"No"]
[null,{"$f":"IF('Step 2 PO Calculator'!B2386=\"Yes\",VLOOKUP('drop down'!$A$2,'Step 2 PO Calculator'!B2386:D2921,3,FALSE),\"Leave this line blank\")","v":"Leave this line blank"},{"$nulls":11},"",null,"","No",null,null,"No"]
[null,{"$f":"IF('Step 2 PO Calculator'!B2387=\"Yes\",VLOOKUP('drop down'!$A$2,'Step 2 PO Calculator'!B2387:D2922,3,FALSE),\"Leave this line blank\")","v":"Leave this line blank"},{"$nulls":11},"",null,"","No",null,null,"No"]
[null,{"$f":"IF('Step 2 PO Calculator'!B2388=\"Yes\",VLOOKUP('drop down'!$A$2,'Step 2 PO Calculator'!B2388:D2923,3,FALSE),\"Leave this line blank\")","v":"Leave this line blank"},{"$nulls":11},"",null,"","No",null,null,"No"]
[null,{"$f":"IF('Step 2 PO Calculator'!B2389=\"Yes\",VLOOKUP('drop down'!$A$2,'Step 2 PO Calculator'!B2389:D2924,3,FALSE),\"Leave this line blank\")","v":"Leave this line blank"},{"$nulls":11},"",null,"","No",null,null,"No"]
[null,{"$f":"IF('Step 2 PO Calculator'!B2390=\"Yes\",VLOOKUP('drop down'!$A$2,'Step 2 PO Calculator'!B2390:D2925,3,FALSE),\"Leave this line blank\")","v":"Leave this line blank"},{"$nulls":11},"",null,"","No",null,null,"No"]
[null,{"$f":"IF('Step 2 PO Calculator'!B2391=\"Yes\",VLOOKUP('drop down'!$A$2,'Step 2 PO Calculator'!B2391:D2926,3,FALSE),\"Leave this line blank\")","v":"Leave this line blank"},{"$nulls":11},"",null,"","No",null,null,"No"]
[null,{"$f":"IF('Step 2 PO Calculator'!B2392=\"Yes\",VLOOKUP('drop down'!$A$2,'Step 2 PO Calculator'!B2392:D2927,3,FALSE),\"Leave this line blank\")","v":"Leave this line blank"},{"$nulls":11},"",null,"","No",null,null,"No"]
[null,{"$f":"IF('Step 2 PO Calculator'!B2393=\"Yes\",VLOOKUP('drop down'!$A$2,'Step 2 PO Calculator'!B2393:D2928,3,FALSE),\"Leave this line blank\")","v":"Leave this line blank"},{"$nulls":11},"",null,"","No",null,null,"No"]
[null,{"$f":"IF('Step 2 PO Calculator'!B2394=\"Yes\",VLOOKUP('drop down'!$A$2,'Step 2 PO Calculator'!B2394:D2929,3,FALSE),\"Leave this line blank\")","v":"Leave this line blank"},{"$nulls":11},"",null,"","No",null,null,"No"]
[null,{"$f":"IF('Step 2 PO Calculator'!B2395=\"Yes\",VLOOKUP('drop down'!$A$2,'Step 2 PO Calculator'!B2395:D2930,3,FALSE),\"Leave this line blank\")","v":"Leave this line blank"},{"$nulls":11},"",null,"","No",null,null,"No"]
[null,{"$f":"IF('Step 2 PO Calculator'!B2396=\"Yes\",VLOOKUP('drop down'!$A$2,'Step 2 PO Calculator'!B2396:D2931,3,FALSE),\"Leave this line blank\")","v":"Leave this line blank"},{"$nulls":11},"",null,"","No",null,null,"No"]
[null,{"$f":"IF('Step 2 PO Calculator'!B2397=\"Yes\",VLOOKUP('drop down'!$A$2,'Step 2 PO Calculator'!B2397:D2932,3,FALSE),\"Leave this line blank\")","v":"Leave this line blank"},{"$nulls":11},"",null,"","No",null,null,"No"]
[null,{"$f":"IF('Step 2 PO Calculator'!B2398=\"Yes\",VLOOKUP('drop down'!$A$2,'Step 2 PO Calculator'!B2398:D2933,3,FALSE),\"Leave this line blank\")","v":"Leave this line blank"},{"$nulls":11},"",null,"","No",null,null,"No"]
[null,{"$f":"IF('Step 2 PO Calculator'!B2399=\"Yes\",VLOOKUP('drop down'!$A$2,'Step 2 PO Calculator'!B2399:D2934,3,FALSE),\"Leave this line blank\")","v":"Leave this line blank"},{"$nulls":11},"",null,"","No",null,null,"No"]
[null,{"$f":"IF('Step 2 PO Calculator'!B2400=\"Yes\",VLOOKUP('drop down'!$A$2,'Step 2 PO Calculator'!B2400:D2935,3,FALSE),\"Leave this line blank\")","v":"Leave this line blank"},{"$nulls":11},"",null,"","No",null,null,"No"]
[null,{"$f":"IF('Step 2 PO Calculator'!B2401=\"Yes\",VLOOKUP('drop down'!$A$2,'Step 2 PO Calculator'!B2401:D2936,3,FALSE),\"Leave this line blank\")","v":"Leave this line blank"},{"$nulls":11},"",null,"","No",null,null,"No"]
[null,{"$f":"IF('Step 2 PO Calculator'!B2402=\"Yes\",VLOOKUP('drop down'!$A$2,'Step 2 PO Calculator'!B2402:D2937,3,FALSE),\"Leave this line blank\")","v":"Leave this line blank"},{"$nulls":11},"",null,"","No",null,null,"No"]
[null,{"$f":"IF('Step 2 PO Calculator'!B2403=\"Yes\",VLOOKUP('drop down'!$A$2,'Step 2 PO Calculator'!B2403:D2938,3,FALSE),\"Leave this line blank\")","v":"Leave this line blank"},{"$nulls":11},"",null,"","No",null,null,"No"]
[null,{"$f":"IF('Step 2 PO Calculator'!B2404=\"Yes\",VLOOKUP('drop down'!$A$2,'Step 2 PO Calculator'!B2404:D2939,3,FALSE),\"Leave this line blank\")","v":"Leave this line blank"},{"$nulls":11},"",null,"","No",null,null,"No"]
[null,{"$f":"IF('Step 2 PO Calculator'!B2405=\"Yes\",VLOOKUP('drop down'!$A$2,'Step 2 PO Calculator'!B2405:D2940,3,FALSE),\"Leave this line blank\")","v":"Leave this line blank"},{"$nulls":11},"",null,"","No",null,null,"No"]
[null,{"$f":"IF('Step 2 PO Calculator'!B2406=\"Yes\",VLOOKUP('drop down'!$A$2,'Step 2 PO Calculator'!B2406:D2941,3,FALSE),\"Leave this line blank\")","v":"Leave this line blank"},{"$nulls":11},"",null,"","No",null,null,"No"]
[null,{"$f":"IF('Step 2 PO Calculator'!B2407=\"Yes\",VLOOKUP('drop down'!$A$2,'Step 2 PO Calculator'!B2407:D2942,3,FALSE),\"Leave this line blank\")","v":"Leave this line blank"},{"$nulls":11},"",null,"","No",null,null,"No"]
[null,{"$f":"IF('Step 2 PO Calculator'!B2408=\"Yes\",VLOOKUP('drop down'!$A$2,'Step 2 PO Calculator'!B2408:D2943,3,FALSE),\"Leave this line blank\")","v":"Leave this line blank"},{"$nulls":11},"",null,"","No",null,null,"No"]
[null,{"$f":"IF('Step 2 PO Calculator'!B2409=\"Yes\",VLOOKUP('drop down'!$A$2,'Step 2 PO Calculator'!B2409:D2944,3,FALSE),\"Leave this line blank\")","v":"Leave this line blank"},{"$nulls":11},"",null,"","No",null,null,"No"]
[null,{"$f":"IF('Step 2 PO Calculator'!B2410=\"Yes\",VLOOKUP('drop down'!$A$2,'Step 2 PO Calculator'!B2410:D2945,3,FALSE),\"Leave this line blank\")","v":"Leave this line blank"},{"$nulls":11},"",null,"","No",null,null,"No"]
[null,{"$f":"IF('Step 2 PO Calculator'!B2411=\"Yes\",VLOOKUP('drop down'!$A$2,'Step 2 PO Calculator'!B2411:D2946,3,FALSE),\"Leave this line blank\")","v":"Leave this line blank"},{"$nulls":11},"",null,"","No",null,null,"No"]
[null,{"$f":"IF('Step 2 PO Calculator'!B2412=\"Yes\",VLOOKUP('drop down'!$A$2,'Step 2 PO Calculator'!B2412:D2947,3,FALSE),\"Leave this line blank\")","v":"Leave this line blank"},{"$nulls":11},"",null,"","No",null,null,"No"]
[null,{"$f":"IF('Step 2 PO Calculator'!B2413=\"Yes\",VLOOKUP('drop down'!$A$2,'Step 2 PO Calculator'!B2413:D2948,3,FALSE),\"Leave this line blank\")","v":"Leave this line blank"},{"$nulls":11},"",null,"","No",null,null,"No"]
[null,{"$f":"IF('Step 2 PO Calculator'!B2414=\"Yes\",VLOOKUP('drop down'!$A$2,'Step 2 PO Calculator'!B2414:D2949,3,FALSE),\"Leave this line blank\")","v":"Leave this line blank"},{"$nulls":11},"",null,"","No",null,null,"No"]
[null,{"$f":"IF('Step 2 PO Calculator'!B2415=\"Yes\",VLOOKUP('drop down'!$A$2,'Step 2 PO Calculator'!B2415:D2950,3,FALSE),\"Leave this line blank\")","v":"Leave this line blank"},{"$nulls":11},"",null,"","No",null,null,"No"]
[null,{"$f":"IF('Step 2 PO Calculator'!B2416=\"Yes\",VLOOKUP('drop down'!$A$2,'Step 2 PO Calculator'!B2416:D2951,3,FALSE),\"Leave this line blank\")","v":"Leave this line blank"},{"$nulls":11},"",null,"","No",null,null,"No"]
[null,{"$f":"IF('Step 2 PO Calculator'!B2417=\"Yes\",VLOOKUP('drop down'!$A$2,'Step 2 PO Calculator'!B2417:D2952,3,FALSE),\"Leave this line blank\")","v":"Leave this line blank"},{"$nulls":11},"",null,"","No",null,null,"No"]
[null,{"$f":"IF('Step 2 PO Calculator'!B2418=\"Yes\",VLOOKUP('drop down'!$A$2,'Step 2 PO Calculator'!B2418:D2953,3,FALSE),\"Leave this line blank\")","v":"Leave this line blank"},{"$nulls":11},"",null,"","No",null,null,"No"]
[null,{"$f":"IF('Step 2 PO Calculator'!B2419=\"Yes\",VLOOKUP('drop down'!$A$2,'Step 2 PO Calculator'!B2419:D2954,3,FALSE),\"Leave this line blank\")","v":"Leave this line blank"},{"$nulls":11},"",null,"","No",null,null,"No"]
[null,{"$f":"IF('Step 2 PO Calculator'!B2420=\"Yes\",VLOOKUP('drop down'!$A$2,'Step 2 PO Calculator'!B2420:D2955,3,FALSE),\"Leave this line blank\")","v":"Leave this line blank"},{"$nulls":11},"",null,"","No",null,null,"No"]
[null,{"$f":"IF('Step 2 PO Calculator'!B2421=\"Yes\",VLOOKUP('drop down'!$A$2,'Step 2 PO Calculator'!B2421:D2956,3,FALSE),\"Leave this line blank\")","v":"Leave this line blank"},{"$nulls":11},"",null,"","No",null,null,"No"]
[null,{"$f":"IF('Step 2 PO Calculator'!B2422=\"Yes\",VLOOKUP('drop down'!$A$2,'Step 2 PO Calculator'!B2422:D2957,3,FALSE),\"Leave this line blank\")","v":"Leave this line blank"},{"$nulls":11},"",null,"","No",null,null,"No"]
[null,{"$f":"IF('Step 2 PO Calculator'!B2423=\"Yes\",VLOOKUP('drop down'!$A$2,'Step 2 PO Calculator'!B2423:D2958,3,FALSE),\"Leave this line blank\")","v":"Leave this line blank"},{"$nulls":11},"",null,"","No",null,null,"No"]
[null,{"$f":"IF('Step 2 PO Calculator'!B2424=\"Yes\",VLOOKUP('drop down'!$A$2,'Step 2 PO Calculator'!B2424:D2959,3,FALSE),\"Leave this line blank\")","v":"Leave this line blank"},{"$nulls":11},"",null,"","No",null,null,"No"]
[null,{"$f":"IF('Step 2 PO Calculator'!B2425=\"Yes\",VLOOKUP('drop down'!$A$2,'Step 2 PO Calculator'!B2425:D2960,3,FALSE),\"Leave this line blank\")","v":"Leave this line blank"},{"$nulls":11},"",null,"","No",null,null,"No"]
[null,{"$f":"IF('Step 2 PO Calculator'!B2426=\"Yes\",VLOOKUP('drop down'!$A$2,'Step 2 PO Calculator'!B2426:D2961,3,FALSE),\"Leave this line blank\")","v":"Leave this line blank"},{"$nulls":11},"",null,"","No",null,null,"No"]
[null,{"$f":"IF('Step 2 PO Calculator'!B2427=\"Yes\",VLOOKUP('drop down'!$A$2,'Step 2 PO Calculator'!B2427:D2962,3,FALSE),\"Leave this line blank\")","v":"Leave this line blank"},{"$nulls":11},"",null,"","No",null,null,"No"]
[null,{"$f":"IF('Step 2 PO Calculator'!B2428=\"Yes\",VLOOKUP('drop down'!$A$2,'Step 2 PO Calculator'!B2428:D2963,3,FALSE),\"Leave this line blank\")","v":"Leave this line blank"},{"$nulls":11},"",null,"","No",null,null,"No"]
[null,{"$f":"IF('Step 2 PO Calculator'!B2429=\"Yes\",VLOOKUP('drop down'!$A$2,'Step 2 PO Calculator'!B2429:D2964,3,FALSE),\"Leave this line blank\")","v":"Leave this line blank"},{"$nulls":11},"",null,"","No",null,null,"No"]
[null,{"$f":"IF('Step 2 PO Calculator'!B2430=\"Yes\",VLOOKUP('drop down'!$A$2,'Step 2 PO Calculator'!B2430:D2965,3,FALSE),\"Leave this line blank\")","v":"Leave this line blank"},{"$nulls":11},"",null,"","No",null,null,"No"]
[null,{"$f":"IF('Step 2 PO Calculator'!B2431=\"Yes\",VLOOKUP('drop down'!$A$2,'Step 2 PO Calculator'!B2431:D2966,3,FALSE),\"Leave this line blank\")","v":"Leave this line blank"},{"$nulls":11},"",null,"","No",null,null,"No"]
[null,{"$f":"IF('Step 2 PO Calculator'!B2432=\"Yes\",VLOOKUP('drop down'!$A$2,'Step 2 PO Calculator'!B2432:D2967,3,FALSE),\"Leave this line blank\")","v":"Leave this line blank"},{"$nulls":11},"",null,"","No",null,null,"No"]
[null,{"$f":"IF('Step 2 PO Calculator'!B2433=\"Yes\",VLOOKUP('drop down'!$A$2,'Step 2 PO Calculator'!B2433:D2968,3,FALSE),\"Leave this line blank\")","v":"Leave this line blank"},{"$nulls":11},"",null,"","No",null,null,"No"]
[null,{"$f":"IF('Step 2 PO Calculator'!B2434=\"Yes\",VLOOKUP('drop down'!$A$2,'Step 2 PO Calculator'!B2434:D2969,3,FALSE),\"Leave this line blank\")","v":"Leave this line blank"},{"$nulls":11},"",null,"","No",null,null,"No"]
[null,{"$f":"IF('Step 2 PO Calculator'!B2435=\"Yes\",VLOOKUP('drop down'!$A$2,'Step 2 PO Calculator'!B2435:D2970,3,FALSE),\"Leave this line blank\")","v":"Leave this line blank"},{"$nulls":11},"",null,"","No",null,null,"No"]
[null,{"$f":"IF('Step 2 PO Calculator'!B2436=\"Yes\",VLOOKUP('drop down'!$A$2,'Step 2 PO Calculator'!B2436:D2971,3,FALSE),\"Leave this line blank\")","v":"Leave this line blank"},{"$nulls":11},"",null,"","No",null,null,"No"]
[null,{"$f":"IF('Step 2 PO Calculator'!B2437=\"Yes\",VLOOKUP('drop down'!$A$2,'Step 2 PO Calculator'!B2437:D2972,3,FALSE),\"Leave this line blank\")","v":"Leave this line blank"},{"$nulls":11},"",null,"","No",null,null,"No"]
[null,{"$f":"IF('Step 2 PO Calculator'!B2438=\"Yes\",VLOOKUP('drop down'!$A$2,'Step 2 PO Calculator'!B2438:D2973,3,FALSE),\"Leave this line blank\")","v":"Leave this line blank"},{"$nulls":11},"",null,"","No",null,null,"No"]
[null,{"$f":"IF('Step 2 PO Calculator'!B2439=\"Yes\",VLOOKUP('drop down'!$A$2,'Step 2 PO Calculator'!B2439:D2974,3,FALSE),\"Leave this line blank\")","v":"Leave this line blank"},{"$nulls":11},"",null,"","No",null,null,"No"]
[null,{"$f":"IF('Step 2 PO Calculator'!B2440=\"Yes\",VLOOKUP('drop down'!$A$2,'Step 2 PO Calculator'!B2440:D2975,3,FALSE),\"Leave this line blank\")","v":"Leave this line blank"},{"$nulls":11},"",null,"","No",null,null,"No"]
[null,{"$f":"IF('Step 2 PO Calculator'!B2441=\"Yes\",VLOOKUP('drop down'!$A$2,'Step 2 PO Calculator'!B2441:D2976,3,FALSE),\"Leave this line blank\")","v":"Leave this line blank"},{"$nulls":11},"",null,"","No",null,null,"No"]
[null,{"$f":"IF('Step 2 PO Calculator'!B2442=\"Yes\",VLOOKUP('drop down'!$A$2,'Step 2 PO Calculator'!B2442:D2977,3,FALSE),\"Leave this line blank\")","v":"Leave this line blank"},{"$nulls":11},"",null,"","No",null,null,"No"]
[null,{"$f":"IF('Step 2 PO Calculator'!B2443=\"Yes\",VLOOKUP('drop down'!$A$2,'Step 2 PO Calculator'!B2443:D2978,3,FALSE),\"Leave this line blank\")","v":"Leave this line blank"},{"$nulls":11},{"$f":"IF(I974=\"\",\"\",IF(_xlfn.DAYS(I$8,I974)>=180,\"X\",\"\"))","v":""},null,{"$f":"IF(K974=\"\",\"\",IF(_xlfn.DAYS(K974,I$8)<0,\"\",\"X\"))","v":""},{"$f":"IF(AND(N974=\"X\",P974=\"X\"),\"Yes\",\"No\")","v":"No"},null,null,{"$f":"IF(AND(N974=\"X\",P974=\"X\",R974=\"Yes\"),\"Yes\",\"No\")","v":"No"}]
[null,{"$f":"IF('Step 2 PO Calculator'!B2444=\"Yes\",VLOOKUP('drop down'!$A$2,'Step 2 PO Calculator'!B2444:D2979,3,FALSE),\"Leave this line blank\")","v":"Leave this line blank"},{"$nulls":11},"",null,"","No",null,null,"No"]
[null,{"$f":"IF('Step 2 PO Calculator'!B2445=\"Yes\",VLOOKUP('drop down'!$A$2,'Step 2 PO Calculator'!B2445:D2980,3,FALSE),\"Leave this line blank\")","v":"Leave this line blank"},{"$nulls":11},"",null,"","No",null,null,"No"]
[null,{"$f":"IF('Step 2 PO Calculator'!B2446=\"Yes\",VLOOKUP('drop down'!$A$2,'Step 2 PO Calculator'!B2446:D2981,3,FALSE),\"Leave this line blank\")","v":"Leave this line blank"},{"$nulls":11},"",null,"","No",null,null,"No"]
[null,{"$f":"IF('Step 2 PO Calculator'!B2447=\"Yes\",VLOOKUP('drop down'!$A$2,'Step 2 PO Calculator'!B2447:D2982,3,FALSE),\"Leave this line blank\")","v":"Leave this line blank"},{"$nulls":11},"",null,"","No",null,null,"No"]
[null,{"$f":"IF('Step 2 PO Calculator'!B2448=\"Yes\",VLOOKUP('drop down'!$A$2,'Step 2 PO Calculator'!B2448:D2983,3,FALSE),\"Leave this line blank\")","v":"Leave this line blank"},{"$nulls":11},"",null,"","No",null,null,"No"]
[null,{"$f":"IF('Step 2 PO Calculator'!B2449=\"Yes\",VLOOKUP('drop down'!$A$2,'Step 2 PO Calculator'!B2449:D2984,3,FALSE),\"Leave this line blank\")","v":"Leave this line blank"},{"$nulls":11},"",null,"","No",null,null,"No"]
[null,{"$f":"IF('Step 2 PO Calculator'!B2450=\"Yes\",VLOOKUP('drop down'!$A$2,'Step 2 PO Calculator'!B2450:D2985,3,FALSE),\"Leave this line blank\")","v":"Leave this line blank"},{"$nulls":11},"",null,"","No",null,null,"No"]
[null,{"$f":"IF('Step 2 PO Calculator'!B2451=\"Yes\",VLOOKUP('drop down'!$A$2,'Step 2 PO Calculator'!B2451:D2986,3,FALSE),\"Leave this line blank\")","v":"Leave this line blank"},{"$nulls":11},"",null,"","No",null,null,"No"]
[null,{"$f":"IF('Step 2 PO Calculator'!B2452=\"Yes\",VLOOKUP('drop down'!$A$2,'Step 2 PO Calculator'!B2452:D2987,3,FALSE),\"Leave this line blank\")","v":"Leave this line blank"},{"$nulls":11},"",null,"","No",null,null,"No"]
[null,{"$f":"IF('Step 2 PO Calculator'!B2453=\"Yes\",VLOOKUP('drop down'!$A$2,'Step 2 PO Calculator'!B2453:D2988,3,FALSE),\"Leave this line blank\")","v":"Leave this line blank"},{"$nulls":11},"",null,"","No",null,null,"No"]
[null,{"$f":"IF('Step 2 PO Calculator'!B2454=\"Yes\",VLOOKUP('drop down'!$A$2,'Step 2 PO Calculator'!B2454:D2989,3,FALSE),\"Leave this line blank\")","v":"Leave this line blank"},{"$nulls":11},"",null,"","No",null,null,"No"]
[null,{"$f":"IF('Step 2 PO Calculator'!B2455=\"Yes\",VLOOKUP('drop down'!$A$2,'Step 2 PO Calculator'!B2455:D2990,3,FALSE),\"Leave this line blank\")","v":"Leave this line blank"},{"$nulls":11},"",null,"","No",null,null,"No"]
[null,{"$f":"IF('Step 2 PO Calculator'!B2456=\"Yes\",VLOOKUP('drop down'!$A$2,'Step 2 PO Calculator'!B2456:D2991,3,FALSE),\"Leave this line blank\")","v":"Leave this line blank"},{"$nulls":11},"",null,"","No",null,null,"No"]
[null,{"$f":"IF('Step 2 PO Calculator'!B2457=\"Yes\",VLOOKUP('drop down'!$A$2,'Step 2 PO Calculator'!B2457:D2992,3,FALSE),\"Leave this line blank\")","v":"Leave this line blank"},{"$nulls":11},"",null,"","No",null,null,"No"]
[null,{"$f":"IF('Step 2 PO Calculator'!B2458=\"Yes\",VLOOKUP('drop down'!$A$2,'Step 2 PO Calculator'!B2458:D2993,3,FALSE),\"Leave this line blank\")","v":"Leave this line blank"},{"$nulls":11},"",null,"","No",null,null,"No"]
[null,{"$f":"IF('Step 2 PO Calculator'!B2459=\"Yes\",VLOOKUP('drop down'!$A$2,'Step 2 PO Calculator'!B2459:D2994,3,FALSE),\"Leave this line blank\")","v":"Leave this line blank"},{"$nulls":11},"",null,"","No",null,null,"No"]
[null,{"$f":"IF('Step 2 PO Calculator'!B2460=\"Yes\",VLOOKUP('drop down'!$A$2,'Step 2 PO Calculator'!B2460:D2995,3,FALSE),\"Leave this line blank\")","v":"Leave this line blank"},{"$nulls":11},"",null,"","No",null,null,"No"]
[null,{"$f":"IF('Step 2 PO Calculator'!B2461=\"Yes\",VLOOKUP('drop down'!$A$2,'Step 2 PO Calculator'!B2461:D2996,3,FALSE),\"Leave this line blank\")","v":"Leave this line blank"},{"$nulls":11},"",null,"","No",null,null,"No"]
[null,{"$f":"IF('Step 2 PO Calculator'!B2462=\"Yes\",VLOOKUP('drop down'!$A$2,'Step 2 PO Calculator'!B2462:D2997,3,FALSE),\"Leave this line blank\")","v":"Leave this line blank"},{"$nulls":11},"",null,"","No",null,null,"No"]
[null,{"$f":"IF('Step 2 PO Calculator'!B2463=\"Yes\",VLOOKUP('drop down'!$A$2,'Step 2 PO Calculator'!B2463:D2998,3,FALSE),\"Leave this line blank\")","v":"Leave this line blank"},{"$nulls":11},"",null,"","No",null,null,"No"]
[null,{"$f":"IF('Step 2 PO Calculator'!B2464=\"Yes\",VLOOKUP('drop down'!$A$2,'Step 2 PO Calculator'!B2464:D2999,3,FALSE),\"Leave this line blank\")","v":"Leave this line blank"},{"$nulls":11},"",null,"","No",null,null,"No"]
[null,{"$f":"IF('Step 2 PO Calculator'!B2465=\"Yes\",VLOOKUP('drop down'!$A$2,'Step 2 PO Calculator'!B2465:D3000,3,FALSE),\"Leave this line blank\")","v":"Leave this line blank"},{"$nulls":11},"",null,"","No",null,null,"No"]
[null,{"$f":"IF('Step 2 PO Calculator'!B2466=\"Yes\",VLOOKUP('drop down'!$A$2,'Step 2 PO Calculator'!B2466:D3001,3,FALSE),\"Leave this line blank\")","v":"Leave this line blank"},{"$nulls":11},"",null,"","No",null,null,"No"]
[null,{"$f":"IF('Step 2 PO Calculator'!B2467=\"Yes\",VLOOKUP('drop down'!$A$2,'Step 2 PO Calculator'!B2467:D3002,3,FALSE),\"Leave this line blank\")","v":"Leave this line blank"},{"$nulls":11},"",null,"","No",null,null,"No"]
[null,{"$f":"IF('Step 2 PO Calculator'!B2468=\"Yes\",VLOOKUP('drop down'!$A$2,'Step 2 PO Calculator'!B2468:D3003,3,FALSE),\"Leave this line blank\")","v":"Leave this line blank"},{"$nulls":11},"",null,"","No",null,null,"No"]
[null,{"$f":"IF('Step 2 PO Calculator'!B2469=\"Yes\",VLOOKUP('drop down'!$A$2,'Step 2 PO Calculator'!B2469:D3004,3,FALSE),\"Leave this line blank\")","v":"Leave this line blank"},{"$nulls":11},"",null,"","No",null,null,"No"]
[null,{"$f":"IF('Step 2 PO Calculator'!B2470=\"Yes\",VLOOKUP('drop down'!$A$2,'Step 2 PO Calculator'!B2470:D3005,3,FALSE),\"Leave this line blank\")","v":"Leave this line blank"},{"$nulls":11},"",null,"","No",null,null,"No"]
[null,{"$f":"IF('Step 2 PO Calculator'!B2471=\"Yes\",VLOOKUP('drop down'!$A$2,'Step 2 PO Calculator'!B2471:D3006,3,FALSE),\"Leave this line blank\")","v":"Leave this line blank"},{"$nulls":11},"",null,"","No",null,null,"No"]
[null,{"$f":"IF('Step 2 PO Calculator'!B2472=\"Yes\",VLOOKUP('drop down'!$A$2,'Step 2 PO Calculator'!B2472:D3007,3,FALSE),\"Leave this line blank\")","v":"Leave this line blank"},{"$nulls":11},"",null,"","No",null,null,"No"]
[null,{"$f":"IF('Step 2 PO Calculator'!B2473=\"Yes\",VLOOKUP('drop down'!$A$2,'Step 2 PO Calculator'!B2473:D3008,3,FALSE),\"Leave this line blank\")","v":"Leave this line blank"},{"$nulls":11},"",null,"","No",null,null,"No"]
[null,{"$f":"IF('Step 2 PO Calculator'!B2474=\"Yes\",VLOOKUP('drop down'!$A$2,'Step 2 PO Calculator'!B2474:D3009,3,FALSE),\"Leave this line blank\")","v":"Leave this line blank"},{"$nulls":11},"",null,"","No",null,null,"No"]
[null,{"$f":"IF('Step 2 PO Calculator'!B2475=\"Yes\",VLOOKUP('drop down'!$A$2,'Step 2 PO Calculator'!B2475:D3010,3,FALSE),\"Leave this line blank\")","v":"Leave this line blank"},{"$nulls":11},"",null,"","No",null,null,"No"]
[null,{"$f":"IF('Step 2 PO Calculator'!B2476=\"Yes\",VLOOKUP('drop down'!$A$2,'Step 2 PO Calculator'!B2476:D3011,3,FALSE),\"Leave this line blank\")","v":"Leave this line blank"},{"$nulls":11},"",null,"","No",null,null,"No"]
[null,{"$f":"IF('Step 2 PO Calculator'!B2477=\"Yes\",VLOOKUP('drop down'!$A$2,'Step 2 PO Calculator'!B2477:D3012,3,FALSE),\"Leave this line blank\")","v":"Leave this line blank"},{"$nulls":11},"",null,"","No",null,null,"No"]
[null,{"$f":"IF('Step 2 PO Calculator'!B2478=\"Yes\",VLOOKUP('drop down'!$A$2,'Step 2 PO Calculator'!B2478:D3013,3,FALSE),\"Leave this line blank\")","v":"Leave this line blank"},{"$nulls":11},"",null,"","No",null,null,"No"]
[null,{"$f":"IF('Step 2 PO Calculator'!B2479=\"Yes\",VLOOKUP('drop down'!$A$2,'Step 2 PO Calculator'!B2479:D3014,3,FALSE),\"Leave this line blank\")","v":"Leave this line blank"},{"$nulls":11},"",null,"","No",null,null,"No"]
[null,{"$f":"IF('Step 2 PO Calculator'!B2480=\"Yes\",VLOOKUP('drop down'!$A$2,'Step 2 PO Calculator'!B2480:D3015,3,FALSE),\"Leave this line blank\")","v":"Leave this line blank"},{"$nulls":11},"",null,"","No",null,null,"No"]
[null,{"$f":"IF('Step 2 PO Calculator'!B2481=\"Yes\",VLOOKUP('drop down'!$A$2,'Step 2 PO Calculator'!B2481:D3016,3,FALSE),\"Leave this line blank\")","v":"Leave this line blank"},{"$nulls":11},"",null,"","No",null,null,"No"]
[null,{"$f":"IF('Step 2 PO Calculator'!B2482=\"Yes\",VLOOKUP('drop down'!$A$2,'Step 2 PO Calculator'!B2482:D3017,3,FALSE),\"Leave this line blank\")","v":"Leave this line blank"},{"$nulls":11},"",null,"","No",null,null,"No"]
[null,{"$f":"IF('Step 2 PO Calculator'!B2483=\"Yes\",VLOOKUP('drop down'!$A$2,'Step 2 PO Calculator'!B2483:D3018,3,FALSE),\"Leave this line blank\")","v":"Leave this line blank"},{"$nulls":11},"",null,"","No",null,null,"No"]
[null,{"$f":"IF('Step 2 PO Calculator'!B2484=\"Yes\",VLOOKUP('drop down'!$A$2,'Step 2 PO Calculator'!B2484:D3019,3,FALSE),\"Leave this line blank\")","v":"Leave this line blank"},{"$nulls":11},"",null,"","No",null,null,"No"]
[null,{"$f":"IF('Step 2 PO Calculator'!B2485=\"Yes\",VLOOKUP('drop down'!$A$2,'Step 2 PO Calculator'!B2485:D3020,3,FALSE),\"Leave this line blank\")","v":"Leave this line blank"},{"$nulls":11},"",null,"","No",null,null,"No"]
[null,{"$f":"IF('Step 2 PO Calculator'!B2486=\"Yes\",VLOOKUP('drop down'!$A$2,'Step 2 PO Calculator'!B2486:D3021,3,FALSE),\"Leave this line blank\")","v":"Leave this line blank"},{"$nulls":11},"",null,"","No",null,null,"No"]
[null,{"$f":"IF('Step 2 PO Calculator'!B2487=\"Yes\",VLOOKUP('drop down'!$A$2,'Step 2 PO Calculator'!B2487:D3022,3,FALSE),\"Leave this line blank\")","v":"Leave this line blank"},{"$nulls":11},"",null,"","No",null,null,"No"]
[null,{"$f":"IF('Step 2 PO Calculator'!B2488=\"Yes\",VLOOKUP('drop down'!$A$2,'Step 2 PO Calculator'!B2488:D3023,3,FALSE),\"Leave this line blank\")","v":"Leave this line blank"},{"$nulls":11},"",null,"","No",null,null,"No"]
[null,{"$f":"IF('Step 2 PO Calculator'!B2489=\"Yes\",VLOOKUP('drop down'!$A$2,'Step 2 PO Calculator'!B2489:D3024,3,FALSE),\"Leave this line blank\")","v":"Leave this line blank"},{"$nulls":11},"",null,"","No",null,null,"No"]
[null,{"$f":"IF('Step 2 PO Calculator'!B2490=\"Yes\",VLOOKUP('drop down'!$A$2,'Step 2 PO Calculator'!B2490:D3025,3,FALSE),\"Leave this line blank\")","v":"Leave this line blank"},{"$nulls":11},"",null,"","No",null,null,"No"]
[null,{"$f":"IF('Step 2 PO Calculator'!B2491=\"Yes\",VLOOKUP('drop down'!$A$2,'Step 2 PO Calculator'!B2491:D3026,3,FALSE),\"Leave this line blank\")","v":"Leave this line blank"},{"$nulls":11},"",null,"","No",null,null,"No"]
[null,{"$f":"IF('Step 2 PO Calculator'!B2492=\"Yes\",VLOOKUP('drop down'!$A$2,'Step 2 PO Calculator'!B2492:D3027,3,FALSE),\"Leave this line blank\")","v":"Leave this line blank"},{"$nulls":11},"",null,"","No",null,null,"No"]
[null,{"$f":"IF('Step 2 PO Calculator'!B2493=\"Yes\",VLOOKUP('drop down'!$A$2,'Step 2 PO Calculator'!B2493:D3028,3,FALSE),\"Leave this line blank\")","v":"Leave this line blank"},{"$nulls":11},"",null,"","No",null,null,"No"]
[null,{"$f":"IF('Step 2 PO Calculator'!B2494=\"Yes\",VLOOKUP('drop down'!$A$2,'Step 2 PO Calculator'!B2494:D3029,3,FALSE),\"Leave this line blank\")","v":"Leave this line blank"},{"$nulls":11},"",null,"","No",null,null,"No"]
[null,{"$f":"IF('Step 2 PO Calculator'!B2495=\"Yes\",VLOOKUP('drop down'!$A$2,'Step 2 PO Calculator'!B2495:D3030,3,FALSE),\"Leave this line blank\")","v":"Leave this line blank"},{"$nulls":11},"",null,"","No",null,null,"No"]
[null,{"$f":"IF('Step 2 PO Calculator'!B2496=\"Yes\",VLOOKUP('drop down'!$A$2,'Step 2 PO Calculator'!B2496:D3031,3,FALSE),\"Leave this line blank\")","v":"Leave this line blank"},{"$nulls":11},"",null,"","No",null,null,"No"]
[null,{"$f":"IF('Step 2 PO Calculator'!B2497=\"Yes\",VLOOKUP('drop down'!$A$2,'Step 2 PO Calculator'!B2497:D3032,3,FALSE),\"Leave this line blank\")","v":"Leave this line blank"},{"$nulls":11},"",null,"","No",null,null,"No"]
[null,{"$f":"IF('Step 2 PO Calculator'!B2498=\"Yes\",VLOOKUP('drop down'!$A$2,'Step 2 PO Calculator'!B2498:D3033,3,FALSE),\"Leave this line blank\")","v":"Leave this line blank"},{"$nulls":11},"",null,"","No",null,null,"No"]
[null,{"$f":"IF('Step 2 PO Calculator'!B2499=\"Yes\",VLOOKUP('drop down'!$A$2,'Step 2 PO Calculator'!B2499:D3034,3,FALSE),\"Leave this line blank\")","v":"Leave this line blank"},{"$nulls":11},"",null,"","No",null,null,"No"]
[null,{"$f":"IF('Step 2 PO Calculator'!B2500=\"Yes\",VLOOKUP('drop down'!$A$2,'Step 2 PO Calculator'!B2500:D3035,3,FALSE),\"Leave this line blank\")","v":"Leave this line blank"},{"$nulls":11},"",null,"","No",null,null,"No"]
[null,{"$f":"IF('Step 2 PO Calculator'!B2501=\"Yes\",VLOOKUP('drop down'!$A$2,'Step 2 PO Calculator'!B2501:D3036,3,FALSE),\"Leave this line blank\")","v":"Leave this line blank"},{"$nulls":11},"",null,"","No",null,null,"No"]
[null,{"$f":"IF('Step 2 PO Calculator'!B2502=\"Yes\",VLOOKUP('drop down'!$A$2,'Step 2 PO Calculator'!B2502:D3037,3,FALSE),\"Leave this line blank\")","v":"Leave this line blank"},{"$nulls":11},"",null,"","No",null,null,"No"]
[null,{"$f":"IF('Step 2 PO Calculator'!B2503=\"Yes\",VLOOKUP('drop down'!$A$2,'Step 2 PO Calculator'!B2503:D3038,3,FALSE),\"Leave this line blank\")","v":"Leave this line blank"},{"$nulls":11},"",null,"","No",null,null,"No"]
[null,{"$f":"IF('Step 2 PO Calculator'!B2504=\"Yes\",VLOOKUP('drop down'!$A$2,'Step 2 PO Calculator'!B2504:D3039,3,FALSE),\"Leave this line blank\")","v":"Leave this line blank"},{"$nulls":11},"",null,"","No",null,null,"No"]
[null,{"$f":"IF('Step 2 PO Calculator'!B2505=\"Yes\",VLOOKUP('drop down'!$A$2,'Step 2 PO Calculator'!B2505:D3040,3,FALSE),\"Leave this line blank\")","v":"Leave this line blank"},{"$nulls":11},"",null,"","No",null,null,"No"]
[null,{"$f":"IF('Step 2 PO Calculator'!B2506=\"Yes\",VLOOKUP('drop down'!$A$2,'Step 2 PO Calculator'!B2506:D3041,3,FALSE),\"Leave this line blank\")","v":"Leave this line blank"},{"$nulls":11},"",null,"","No",null,null,"No"]
[null,{"$f":"IF('Step 2 PO Calculator'!B2507=\"Yes\",VLOOKUP('drop down'!$A$2,'Step 2 PO Calculator'!B2507:D3042,3,FALSE),\"Leave this line blank\")","v":"Leave this line blank"},{"$nulls":11},{"$f":"IF(I1038=\"\",\"\",IF(_xlfn.DAYS(I$8,I1038)>=180,\"X\",\"\"))","v":""},null,{"$f":"IF(K1038=\"\",\"\",IF(_xlfn.DAYS(K1038,I$8)<0,\"\",\"X\"))","v":""},{"$f":"IF(AND(N1038=\"X\",P1038=\"X\"),\"Yes\",\"No\")","v":"No"},null,null,{"$f":"IF(AND(N1038=\"X\",P1038=\"X\",R1038=\"Yes\"),\"Yes\",\"No\")","v":"No"}]
[null,{"$f":"IF('Step 2 PO Calculator'!B2508=\"Yes\",VLOOKUP('drop down'!$A$2,'Step 2 PO Calculator'!B2508:D3043,3,FALSE),\"Leave this line blank\")","v":"Leave this line blank"},{"$nulls":11},"",null,"","No",null,null,"No"]
[null,{"$f":"IF('Step 2 PO Calculator'!B2509=\"Yes\",VLOOKUP('drop down'!$A$2,'Step 2 PO Calculator'!B2509:D3044,3,FALSE),\"Leave this line blank\")","v":"Leave this line blank"},{"$nulls":11},"",null,"","No",null,null,"No"]
[null,{"$f":"IF('Step 2 PO Calculator'!B2510=\"Yes\",VLOOKUP('drop down'!$A$2,'Step 2 PO Calculator'!B2510:D3045,3,FALSE),\"Leave this line blank\")","v":"Leave this line blank"},{"$nulls":11},"",null,"","No",null,null,"No"]
[null,{"$f":"IF('Step 2 PO Calculator'!B2511=\"Yes\",VLOOKUP('drop down'!$A$2,'Step 2 PO Calculator'!B2511:D3046,3,FALSE),\"Leave this line blank\")","v":"Leave this line blank"},{"$nulls":11},"",null,"","No",null,null,"No"]
[null,{"$f":"IF('Step 2 PO Calculator'!B2512=\"Yes\",VLOOKUP('drop down'!$A$2,'Step 2 PO Calculator'!B2512:D3047,3,FALSE),\"Leave this line blank\")","v":"Leave this line blank"},{"$nulls":11},"",null,"","No",null,null,"No"]
[null,{"$f":"IF('Step 2 PO Calculator'!B2513=\"Yes\",VLOOKUP('drop down'!$A$2,'Step 2 PO Calculator'!B2513:D3048,3,FALSE),\"Leave this line blank\")","v":"Leave this line blank"},{"$nulls":11},"",null,"","No",null,null,"No"]
[null,{"$f":"IF('Step 2 PO Calculator'!B2514=\"Yes\",VLOOKUP('drop down'!$A$2,'Step 2 PO Calculator'!B2514:D3049,3,FALSE),\"Leave this line blank\")","v":"Leave this line blank"},{"$nulls":11},"",null,"","No",null,null,"No"]
[null,{"$f":"IF('Step 2 PO Calculator'!B2515=\"Yes\",VLOOKUP('drop down'!$A$2,'Step 2 PO Calculator'!B2515:D3050,3,FALSE),\"Leave this line blank\")","v":"Leave this line blank"},{"$nulls":11},"",null,"","No",null,null,"No"]
[null,{"$f":"IF('Step 2 PO Calculator'!B2516=\"Yes\",VLOOKUP('drop down'!$A$2,'Step 2 PO Calculator'!B2516:D3051,3,FALSE),\"Leave this line blank\")","v":"Leave this line blank"},{"$nulls":11},"",null,"","No",null,null,"No"]
[null,{"$f":"IF('Step 2 PO Calculator'!B2517=\"Yes\",VLOOKUP('drop down'!$A$2,'Step 2 PO Calculator'!B2517:D3052,3,FALSE),\"Leave this line blank\")","v":"Leave this line blank"},{"$nulls":11},"",null,"","No",null,null,"No"]
[null,{"$f":"IF('Step 2 PO Calculator'!B2518=\"Yes\",VLOOKUP('drop down'!$A$2,'Step 2 PO Calculator'!B2518:D3053,3,FALSE),\"Leave this line blank\")","v":"Leave this line blank"},{"$nulls":11},"",null,"","No",null,null,"No"]
[null,{"$f":"IF('Step 2 PO Calculator'!B2519=\"Yes\",VLOOKUP('drop down'!$A$2,'Step 2 PO Calculator'!B2519:D3054,3,FALSE),\"Leave this line blank\")","v":"Leave this line blank"},{"$nulls":11},"",null,"","No",null,null,"No"]
[null,{"$f":"IF('Step 2 PO Calculator'!B2520=\"Yes\",VLOOKUP('drop down'!$A$2,'Step 2 PO Calculator'!B2520:D3055,3,FALSE),\"Leave this line blank\")","v":"Leave this line blank"},{"$nulls":11},"",null,"","No",null,null,"No"]
[null,{"$f":"IF('Step 2 PO Calculator'!B2521=\"Yes\",VLOOKUP('drop down'!$A$2,'Step 2 PO Calculator'!B2521:D3056,3,FALSE),\"Leave this line blank\")","v":"Leave this line blank"},{"$nulls":11},"",null,"","No",null,null,"No"]
[null,{"$f":"IF('Step 2 PO Calculator'!B2522=\"Yes\",VLOOKUP('drop down'!$A$2,'Step 2 PO Calculator'!B2522:D3057,3,FALSE),\"Leave this line blank\")","v":"Leave this line blank"},{"$nulls":11},"",null,"","No",null,null,"No"]
[null,{"$f":"IF('Step 2 PO Calculator'!B2523=\"Yes\",VLOOKUP('drop down'!$A$2,'Step 2 PO Calculator'!B2523:D3058,3,FALSE),\"Leave this line blank\")","v":"Leave this line blank"},{"$nulls":11},"",null,"","No",null,null,"No"]
[null,{"$f":"IF('Step 2 PO Calculator'!B2524=\"Yes\",VLOOKUP('drop down'!$A$2,'Step 2 PO Calculator'!B2524:D3059,3,FALSE),\"Leave this line blank\")","v":"Leave this line blank"},{"$nulls":11},"",null,"","No",null,null,"No"]
[null,{"$f":"IF('Step 2 PO Calculator'!B2525=\"Yes\",VLOOKUP('drop down'!$A$2,'Step 2 PO Calculator'!B2525:D3060,3,FALSE),\"Leave this line blank\")","v":"Leave this line blank"},{"$nulls":11},"",null,"","No",null,null,"No"]
[null,{"$f":"IF('Step 2 PO Calculator'!B2526=\"Yes\",VLOOKUP('drop down'!$A$2,'Step 2 PO Calculator'!B2526:D3061,3,FALSE),\"Leave this line blank\")","v":"Leave this line blank"},{"$nulls":11},"",null,"","No",null,null,"No"]
[null,{"$f":"IF('Step 2 PO Calculator'!B2527=\"Yes\",VLOOKUP('drop down'!$A$2,'Step 2 PO Calculator'!B2527:D3062,3,FALSE),\"Leave this line blank\")","v":"Leave this line blank"},{"$nulls":11},"",null,"","No",null,null,"No"]
[null,{"$f":"IF('Step 2 PO Calculator'!B2528=\"Yes\",VLOOKUP('drop down'!$A$2,'Step 2 PO Calculator'!B2528:D3063,3,FALSE),\"Leave this line blank\")","v":"Leave this line blank"},{"$nulls":11},"",null,"","No",null,null,"No"]
[null,{"$f":"IF('Step 2 PO Calculator'!B2529=\"Yes\",VLOOKUP('drop down'!$A$2,'Step 2 PO Calculator'!B2529:D3064,3,FALSE),\"Leave this line blank\")","v":"Leave this line blank"},{"$nulls":11},"",null,"","No",null,null,"No"]
[null,{"$f":"IF('Step 2 PO Calculator'!B2530=\"Yes\",VLOOKUP('drop down'!$A$2,'Step 2 PO Calculator'!B2530:D3065,3,FALSE),\"Leave this line blank\")","v":"Leave this line blank"},{"$nulls":11},"",null,"","No",null,null,"No"]
[null,{"$f":"IF('Step 2 PO Calculator'!B2531=\"Yes\",VLOOKUP('drop down'!$A$2,'Step 2 PO Calculator'!B2531:D3066,3,FALSE),\"Leave this line blank\")","v":"Leave this line blank"},{"$nulls":11},"",null,"","No",null,null,"No"]
[null,{"$f":"IF('Step 2 PO Calculator'!B2532=\"Yes\",VLOOKUP('drop down'!$A$2,'Step 2 PO Calculator'!B2532:D3067,3,FALSE),\"Leave this line blank\")","v":"Leave this line blank"},{"$nulls":11},"",null,"","No",null,null,"No"]
[null,{"$f":"IF('Step 2 PO Calculator'!B2533=\"Yes\",VLOOKUP('drop down'!$A$2,'Step 2 PO Calculator'!B2533:D3068,3,FALSE),\"Leave this line blank\")","v":"Leave this line blank"},{"$nulls":11},"",null,"","No",null,null,"No"]
[null,{"$f":"IF('Step 2 PO Calculator'!B2534=\"Yes\",VLOOKUP('drop down'!$A$2,'Step 2 PO Calculator'!B2534:D3069,3,FALSE),\"Leave this line blank\")","v":"Leave this line blank"},{"$nulls":11},"",null,"","No",null,null,"No"]
[null,{"$f":"IF('Step 2 PO Calculator'!B2535=\"Yes\",VLOOKUP('drop down'!$A$2,'Step 2 PO Calculator'!B2535:D3070,3,FALSE),\"Leave this line blank\")","v":"Leave this line blank"},{"$nulls":11},"",null,"","No",null,null,"No"]
[null,{"$f":"IF('Step 2 PO Calculator'!B2536=\"Yes\",VLOOKUP('drop down'!$A$2,'Step 2 PO Calculator'!B2536:D3071,3,FALSE),\"Leave this line blank\")","v":"Leave this line blank"},{"$nulls":11},"",null,"","No",null,null,"No"]
[null,{"$f":"IF('Step 2 PO Calculator'!B2537=\"Yes\",VLOOKUP('drop down'!$A$2,'Step 2 PO Calculator'!B2537:D3072,3,FALSE),\"Leave this line blank\")","v":"Leave this line blank"},{"$nulls":11},"",null,"","No",null,null,"No"]
[null,{"$f":"IF('Step 2 PO Calculator'!B2538=\"Yes\",VLOOKUP('drop down'!$A$2,'Step 2 PO Calculator'!B2538:D3073,3,FALSE),\"Leave this line blank\")","v":"Leave this line blank"},{"$nulls":11},"",null,"","No",null,null,"No"]
[null,{"$f":"IF('Step 2 PO Calculator'!B2539=\"Yes\",VLOOKUP('drop down'!$A$2,'Step 2 PO Calculator'!B2539:D3074,3,FALSE),\"Leave this line blank\")","v":"Leave this line blank"},{"$nulls":11},"",null,"","No",null,null,"No"]
[null,{"$f":"IF('Step 2 PO Calculator'!B2540=\"Yes\",VLOOKUP('drop down'!$A$2,'Step 2 PO Calculator'!B2540:D3075,3,FALSE),\"Leave this line blank\")","v":"Leave this line blank"},{"$nulls":11},"",null,"","No",null,null,"No"]
[null,{"$f":"IF('Step 2 PO Calculator'!B2541=\"Yes\",VLOOKUP('drop down'!$A$2,'Step 2 PO Calculator'!B2541:D3076,3,FALSE),\"Leave this line blank\")","v":"Leave this line blank"},{"$nulls":11},"",null,"","No",null,null,"No"]
[null,{"$f":"IF('Step 2 PO Calculator'!B2542=\"Yes\",VLOOKUP('drop down'!$A$2,'Step 2 PO Calculator'!B2542:D3077,3,FALSE),\"Leave this line blank\")","v":"Leave this line blank"},{"$nulls":11},"",null,"","No",null,null,"No"]
[null,{"$f":"IF('Step 2 PO Calculator'!B2543=\"Yes\",VLOOKUP('drop down'!$A$2,'Step 2 PO Calculator'!B2543:D3078,3,FALSE),\"Leave this line blank\")","v":"Leave this line blank"},{"$nulls":11},"",null,"","No",null,null,"No"]
[null,{"$f":"IF('Step 2 PO Calculator'!B2544=\"Yes\",VLOOKUP('drop down'!$A$2,'Step 2 PO Calculator'!B2544:D3079,3,FALSE),\"Leave this line blank\")","v":"Leave this line blank"},{"$nulls":11},"",null,"","No",null,null,"No"]
[null,{"$f":"IF('Step 2 PO Calculator'!B2545=\"Yes\",VLOOKUP('drop down'!$A$2,'Step 2 PO Calculator'!B2545:D3080,3,FALSE),\"Leave this line blank\")","v":"Leave this line blank"},{"$nulls":11},"",null,"","No",null,null,"No"]
[null,{"$f":"IF('Step 2 PO Calculator'!B2546=\"Yes\",VLOOKUP('drop down'!$A$2,'Step 2 PO Calculator'!B2546:D3081,3,FALSE),\"Leave this line blank\")","v":"Leave this line blank"},{"$nulls":11},"",null,"","No",null,null,"No"]
[null,{"$f":"IF('Step 2 PO Calculator'!B2547=\"Yes\",VLOOKUP('drop down'!$A$2,'Step 2 PO Calculator'!B2547:D3082,3,FALSE),\"Leave this line blank\")","v":"Leave this line blank"},{"$nulls":11},"",null,"","No",null,null,"No"]
[null,{"$f":"IF('Step 2 PO Calculator'!B2548=\"Yes\",VLOOKUP('drop down'!$A$2,'Step 2 PO Calculator'!B2548:D3083,3,FALSE),\"Leave this line blank\")","v":"Leave this line blank"},{"$nulls":11},"",null,"","No",null,null,"No"]
[null,{"$f":"IF('Step 2 PO Calculator'!B2549=\"Yes\",VLOOKUP('drop down'!$A$2,'Step 2 PO Calculator'!B2549:D3084,3,FALSE),\"Leave this line blank\")","v":"Leave this line blank"},{"$nulls":11},"",null,"","No",null,null,"No"]
[null,{"$f":"IF('Step 2 PO Calculator'!B2550=\"Yes\",VLOOKUP('drop down'!$A$2,'Step 2 PO Calculator'!B2550:D3085,3,FALSE),\"Leave this line blank\")","v":"Leave this line blank"},{"$nulls":11},"",null,"","No",null,null,"No"]
[null,{"$f":"IF('Step 2 PO Calculator'!B2551=\"Yes\",VLOOKUP('drop down'!$A$2,'Step 2 PO Calculator'!B2551:D3086,3,FALSE),\"Leave this line blank\")","v":"Leave this line blank"},{"$nulls":11},"",null,"","No",null,null,"No"]
[null,{"$f":"IF('Step 2 PO Calculator'!B2552=\"Yes\",VLOOKUP('drop down'!$A$2,'Step 2 PO Calculator'!B2552:D3087,3,FALSE),\"Leave this line blank\")","v":"Leave this line blank"},{"$nulls":11},"",null,"","No",null,null,"No"]
[null,{"$f":"IF('Step 2 PO Calculator'!B2553=\"Yes\",VLOOKUP('drop down'!$A$2,'Step 2 PO Calculator'!B2553:D3088,3,FALSE),\"Leave this line blank\")","v":"Leave this line blank"},{"$nulls":11},"",null,"","No",null,null,"No"]
[null,{"$f":"IF('Step 2 PO Calculator'!B2554=\"Yes\",VLOOKUP('drop down'!$A$2,'Step 2 PO Calculator'!B2554:D3089,3,FALSE),\"Leave this line blank\")","v":"Leave this line blank"},{"$nulls":11},"",null,"","No",null,null,"No"]
[null,{"$f":"IF('Step 2 PO Calculator'!B2555=\"Yes\",VLOOKUP('drop down'!$A$2,'Step 2 PO Calculator'!B2555:D3090,3,FALSE),\"Leave this line blank\")","v":"Leave this line blank"},{"$nulls":11},"",null,"","No",null,null,"No"]
[null,{"$f":"IF('Step 2 PO Calculator'!B2556=\"Yes\",VLOOKUP('drop down'!$A$2,'Step 2 PO Calculator'!B2556:D3091,3,FALSE),\"Leave this line blank\")","v":"Leave this line blank"},{"$nulls":11},"",null,"","No",null,null,"No"]
[null,{"$f":"IF('Step 2 PO Calculator'!B2557=\"Yes\",VLOOKUP('drop down'!$A$2,'Step 2 PO Calculator'!B2557:D3092,3,FALSE),\"Leave this line blank\")","v":"Leave this line blank"},{"$nulls":11},"",null,"","No",null,null,"No"]
[null,{"$f":"IF('Step 2 PO Calculator'!B2558=\"Yes\",VLOOKUP('drop down'!$A$2,'Step 2 PO Calculator'!B2558:D3093,3,FALSE),\"Leave this line blank\")","v":"Leave this line blank"},{"$nulls":11},"",null,"","No",null,null,"No"]
[null,{"$f":"IF('Step 2 PO Calculator'!B2559=\"Yes\",VLOOKUP('drop down'!$A$2,'Step 2 PO Calculator'!B2559:D3094,3,FALSE),\"Leave this line blank\")","v":"Leave this line blank"},{"$nulls":11},"",null,"","No",null,null,"No"]
[null,{"$f":"IF('Step 2 PO Calculator'!B2560=\"Yes\",VLOOKUP('drop down'!$A$2,'Step 2 PO Calculator'!B2560:D3095,3,FALSE),\"Leave this line blank\")","v":"Leave this line blank"},{"$nulls":11},"",null,"","No",null,null,"No"]
[null,{"$f":"IF('Step 2 PO Calculator'!B2561=\"Yes\",VLOOKUP('drop down'!$A$2,'Step 2 PO Calculator'!B2561:D3096,3,FALSE),\"Leave this line blank\")","v":"Leave this line blank"},{"$nulls":11},"",null,"","No",null,null,"No"]
[null,{"$f":"IF('Step 2 PO Calculator'!B2562=\"Yes\",VLOOKUP('drop down'!$A$2,'Step 2 PO Calculator'!B2562:D3097,3,FALSE),\"Leave this line blank\")","v":"Leave this line blank"},{"$nulls":11},"",null,"","No",null,null,"No"]
[null,{"$f":"IF('Step 2 PO Calculator'!B2563=\"Yes\",VLOOKUP('drop down'!$A$2,'Step 2 PO Calculator'!B2563:D3098,3,FALSE),\"Leave this line blank\")","v":"Leave this line blank"},{"$nulls":11},"",null,"","No",null,null,"No"]
[null,{"$f":"IF('Step 2 PO Calculator'!B2564=\"Yes\",VLOOKUP('drop down'!$A$2,'Step 2 PO Calculator'!B2564:D3099,3,FALSE),\"Leave this line blank\")","v":"Leave this line blank"},{"$nulls":11},"",null,"","No",null,null,"No"]
[null,{"$f":"IF('Step 2 PO Calculator'!B2565=\"Yes\",VLOOKUP('drop down'!$A$2,'Step 2 PO Calculator'!B2565:D3100,3,FALSE),\"Leave this line blank\")","v":"Leave this line blank"},{"$nulls":11},"",null,"","No",null,null,"No"]
[null,{"$f":"IF('Step 2 PO Calculator'!B2566=\"Yes\",VLOOKUP('drop down'!$A$2,'Step 2 PO Calculator'!B2566:D3101,3,FALSE),\"Leave this line blank\")","v":"Leave this line blank"},{"$nulls":11},"",null,"","No",null,null,"No"]
[null,{"$f":"IF('Step 2 PO Calculator'!B2567=\"Yes\",VLOOKUP('drop down'!$A$2,'Step 2 PO Calculator'!B2567:D3102,3,FALSE),\"Leave this line blank\")","v":"Leave this line blank"},{"$nulls":11},"",null,"","No",null,null,"No"]
[null,{"$f":"IF('Step 2 PO Calculator'!B2568=\"Yes\",VLOOKUP('drop down'!$A$2,'Step 2 PO Calculator'!B2568:D3103,3,FALSE),\"Leave this line blank\")","v":"Leave this line blank"},{"$nulls":11},"",null,"","No",null,null,"No"]
[null,{"$f":"IF('Step 2 PO Calculator'!B2569=\"Yes\",VLOOKUP('drop down'!$A$2,'Step 2 PO Calculator'!B2569:D3104,3,FALSE),\"Leave this line blank\")","v":"Leave this line blank"},{"$nulls":11},"",null,"","No",null,null,"No"]
[null,{"$f":"IF('Step 2 PO Calculator'!B2570=\"Yes\",VLOOKUP('drop down'!$A$2,'Step 2 PO Calculator'!B2570:D3105,3,FALSE),\"Leave this line blank\")","v":"Leave this line blank"},{"$nulls":11},"",null,"","No",null,null,"No"]
[null,{"$f":"IF('Step 2 PO Calculator'!B2571=\"Yes\",VLOOKUP('drop down'!$A$2,'Step 2 PO Calculator'!B2571:D3106,3,FALSE),\"Leave this line blank\")","v":"Leave this line blank"},{"$nulls":11},{"$f":"IF(I1102=\"\",\"\",IF(_xlfn.DAYS(I$8,I1102)>=180,\"X\",\"\"))","v":""},null,{"$f":"IF(K1102=\"\",\"\",IF(_xlfn.DAYS(K1102,I$8)<0,\"\",\"X\"))","v":""},{"$f":"IF(AND(N1102=\"X\",P1102=\"X\"),\"Yes\",\"No\")","v":"No"},null,null,{"$f":"IF(AND(N1102=\"X\",P1102=\"X\",R1102=\"Yes\"),\"Yes\",\"No\")","v":"No"}]
[null,{"$f":"IF('Step 2 PO Calculator'!B2572=\"Yes\",VLOOKUP('drop down'!$A$2,'Step 2 PO Calculator'!B2572:D3107,3,FALSE),\"Leave this line blank\")","v":"Leave this line blank"},{"$nulls":11},"",null,"","No",null,null,"No"]
[null,{"$f":"IF('Step 2 PO Calculator'!B2573=\"Yes\",VLOOKUP('drop down'!$A$2,'Step 2 PO Calculator'!B2573:D3108,3,FALSE),\"Leave this line blank\")","v":"Leave this line blank"},{"$nulls":11},"",null,"","No",null,null,"No"]
[null,{"$f":"IF('Step 2 PO Calculator'!B2574=\"Yes\",VLOOKUP('drop down'!$A$2,'Step 2 PO Calculator'!B2574:D3109,3,FALSE),\"Leave this line blank\")","v":"Leave this line blank"},{"$nulls":11},"",null,"","No",null,null,"No"]
[null,{"$f":"IF('Step 2 PO Calculator'!B2575=\"Yes\",VLOOKUP('drop down'!$A$2,'Step 2 PO Calculator'!B2575:D3110,3,FALSE),\"Leave this line blank\")","v":"Leave this line blank"},{"$nulls":11},"",null,"","No",null,null,"No"]
[null,{"$f":"IF('Step 2 PO Calculator'!B2576=\"Yes\",VLOOKUP('drop down'!$A$2,'Step 2 PO Calculator'!B2576:D3111,3,FALSE),\"Leave this line blank\")","v":"Leave this line blank"},{"$nulls":11},"",null,"","No",null,null,"No"]
[null,{"$f":"IF('Step 2 PO Calculator'!B2577=\"Yes\",VLOOKUP('drop down'!$A$2,'Step 2 PO Calculator'!B2577:D3112,3,FALSE),\"Leave this line blank\")","v":"Leave this line blank"},{"$nulls":11},"",null,"","No",null,null,"No"]
[null,{"$f":"IF('Step 2 PO Calculator'!B2578=\"Yes\",VLOOKUP('drop down'!$A$2,'Step 2 PO Calculator'!B2578:D3113,3,FALSE),\"Leave this line blank\")","v":"Leave this line blank"},{"$nulls":11},"",null,"","No",null,null,"No"]
[null,{"$f":"IF('Step 2 PO Calculator'!B2579=\"Yes\",VLOOKUP('drop down'!$A$2,'Step 2 PO Calculator'!B2579:D3114,3,FALSE),\"Leave this line blank\")","v":"Leave this line blank"},{"$nulls":11},"",null,"","No",null,null,"No"]
[null,{"$f":"IF('Step 2 PO Calculator'!B2580=\"Yes\",VLOOKUP('drop down'!$A$2,'Step 2 PO Calculator'!B2580:D3115,3,FALSE),\"Leave this line blank\")","v":"Leave this line blank"},{"$nulls":11},"",null,"","No",null,null,"No"]
[null,{"$f":"IF('Step 2 PO Calculator'!B2581=\"Yes\",VLOOKUP('drop down'!$A$2,'Step 2 PO Calculator'!B2581:D3116,3,FALSE),\"Leave this line blank\")","v":"Leave this line blank"},{"$nulls":11},"",null,"","No",null,null,"No"]
[null,{"$f":"IF('Step 2 PO Calculator'!B2582=\"Yes\",VLOOKUP('drop down'!$A$2,'Step 2 PO Calculator'!B2582:D3117,3,FALSE),\"Leave this line blank\")","v":"Leave this line blank"},{"$nulls":11},"",null,"","No",null,null,"No"]
[null,{"$f":"IF('Step 2 PO Calculator'!B2583=\"Yes\",VLOOKUP('drop down'!$A$2,'Step 2 PO Calculator'!B2583:D3118,3,FALSE),\"Leave this line blank\")","v":"Leave this line blank"},{"$nulls":11},"",null,"","No",null,null,"No"]
[null,{"$f":"IF('Step 2 PO Calculator'!B2584=\"Yes\",VLOOKUP('drop down'!$A$2,'Step 2 PO Calculator'!B2584:D3119,3,FALSE),\"Leave this line blank\")","v":"Leave this line blank"},{"$nulls":11},"",null,"","No",null,null,"No"]
[null,{"$f":"IF('Step 2 PO Calculator'!B2585=\"Yes\",VLOOKUP('drop down'!$A$2,'Step 2 PO Calculator'!B2585:D3120,3,FALSE),\"Leave this line blank\")","v":"Leave this line blank"},{"$nulls":11},"",null,"","No",null,null,"No"]
[null,{"$f":"IF('Step 2 PO Calculator'!B2586=\"Yes\",VLOOKUP('drop down'!$A$2,'Step 2 PO Calculator'!B2586:D3121,3,FALSE),\"Leave this line blank\")","v":"Leave this line blank"},{"$nulls":11},"",null,"","No",null,null,"No"]
[null,{"$f":"IF('Step 2 PO Calculator'!B2587=\"Yes\",VLOOKUP('drop down'!$A$2,'Step 2 PO Calculator'!B2587:D3122,3,FALSE),\"Leave this line blank\")","v":"Leave this line blank"},{"$nulls":11},"",null,"","No",null,null,"No"]
[null,{"$f":"IF('Step 2 PO Calculator'!B2588=\"Yes\",VLOOKUP('drop down'!$A$2,'Step 2 PO Calculator'!B2588:D3123,3,FALSE),\"Leave this line blank\")","v":"Leave this line blank"},{"$nulls":11},"",null,"","No",null,null,"No"]
[null,{"$f":"IF('Step 2 PO Calculator'!B2589=\"Yes\",VLOOKUP('drop down'!$A$2,'Step 2 PO Calculator'!B2589:D3124,3,FALSE),\"Leave this line blank\")","v":"Leave this line blank"},{"$nulls":11},"",null,"","No",null,null,"No"]
[null,{"$f":"IF('Step 2 PO Calculator'!B2590=\"Yes\",VLOOKUP('drop down'!$A$2,'Step 2 PO Calculator'!B2590:D3125,3,FALSE),\"Leave this line blank\")","v":"Leave this line blank"},{"$nulls":11},"",null,"","No",null,null,"No"]
[null,{"$f":"IF('Step 2 PO Calculator'!B2591=\"Yes\",VLOOKUP('drop down'!$A$2,'Step 2 PO Calculator'!B2591:D3126,3,FALSE),\"Leave this line blank\")","v":"Leave this line blank"},{"$nulls":11},"",null,"","No",null,null,"No"]
[null,{"$f":"IF('Step 2 PO Calculator'!B2592=\"Yes\",VLOOKUP('drop down'!$A$2,'Step 2 PO Calculator'!B2592:D3127,3,FALSE),\"Leave this line blank\")","v":"Leave this line blank"},{"$nulls":11},"",null,"","No",null,null,"No"]
[null,{"$f":"IF('Step 2 PO Calculator'!B2593=\"Yes\",VLOOKUP('drop down'!$A$2,'Step 2 PO Calculator'!B2593:D3128,3,FALSE),\"Leave this line blank\")","v":"Leave this line blank"},{"$nulls":11},"",null,"","No",null,null,"No"]
[null,{"$f":"IF('Step 2 PO Calculator'!B2594=\"Yes\",VLOOKUP('drop down'!$A$2,'Step 2 PO Calculator'!B2594:D3129,3,FALSE),\"Leave this line blank\")","v":"Leave this line blank"},{"$nulls":11},"",null,"","No",null,null,"No"]
[null,{"$f":"IF('Step 2 PO Calculator'!B2595=\"Yes\",VLOOKUP('drop down'!$A$2,'Step 2 PO Calculator'!B2595:D3130,3,FALSE),\"Leave this line blank\")","v":"Leave this line blank"},{"$nulls":11},"",null,"","No",null,null,"No"]
[null,{"$f":"IF('Step 2 PO Calculator'!B2596=\"Yes\",VLOOKUP('drop down'!$A$2,'Step 2 PO Calculator'!B2596:D3131,3,FALSE),\"Leave this line blank\")","v":"Leave this line blank"},{"$nulls":11},"",null,"","No",null,null,"No"]
[null,{"$f":"IF('Step 2 PO Calculator'!B2597=\"Yes\",VLOOKUP('drop down'!$A$2,'Step 2 PO Calculator'!B2597:D3132,3,FALSE),\"Leave this line blank\")","v":"Leave this line blank"},{"$nulls":11},"",null,"","No",null,null,"No"]
[null,{"$f":"IF('Step 2 PO Calculator'!B2598=\"Yes\",VLOOKUP('drop down'!$A$2,'Step 2 PO Calculator'!B2598:D3133,3,FALSE),\"Leave this line blank\")","v":"Leave this line blank"},{"$nulls":11},"",null,"","No",null,null,"No"]
[null,{"$f":"IF('Step 2 PO Calculator'!B2599=\"Yes\",VLOOKUP('drop down'!$A$2,'Step 2 PO Calculator'!B2599:D3134,3,FALSE),\"Leave this line blank\")","v":"Leave this line blank"},{"$nulls":11},"",null,"","No",null,null,"No"]
[null,{"$f":"IF('Step 2 PO Calculator'!B2600=\"Yes\",VLOOKUP('drop down'!$A$2,'Step 2 PO Calculator'!B2600:D3135,3,FALSE),\"Leave this line blank\")","v":"Leave this line blank"},{"$nulls":11},"",null,"","No",null,null,"No"]
[null,{"$f":"IF('Step 2 PO Calculator'!B2601=\"Yes\",VLOOKUP('drop down'!$A$2,'Step 2 PO Calculator'!B2601:D3136,3,FALSE),\"Leave this line blank\")","v":"Leave this line blank"},{"$nulls":11},"",null,"","No",null,null,"No"]
[null,{"$f":"IF('Step 2 PO Calculator'!B2602=\"Yes\",VLOOKUP('drop down'!$A$2,'Step 2 PO Calculator'!B2602:D3137,3,FALSE),\"Leave this line blank\")","v":"Leave this line blank"},{"$nulls":11},"",null,"","No",null,null,"No"]
[null,{"$f":"IF('Step 2 PO Calculator'!B2603=\"Yes\",VLOOKUP('drop down'!$A$2,'Step 2 PO Calculator'!B2603:D3138,3,FALSE),\"Leave this line blank\")","v":"Leave this line blank"},{"$nulls":11},"",null,"","No",null,null,"No"]
[null,{"$f":"IF('Step 2 PO Calculator'!B2604=\"Yes\",VLOOKUP('drop down'!$A$2,'Step 2 PO Calculator'!B2604:D3139,3,FALSE),\"Leave this line blank\")","v":"Leave this line blank"},{"$nulls":11},"",null,"","No",null,null,"No"]
[null,{"$f":"IF('Step 2 PO Calculator'!B2605=\"Yes\",VLOOKUP('drop down'!$A$2,'Step 2 PO Calculator'!B2605:D3140,3,FALSE),\"Leave this line blank\")","v":"Leave this line blank"},{"$nulls":11},"",null,"","No",null,null,"No"]
[null,{"$f":"IF('Step 2 PO Calculator'!B2606=\"Yes\",VLOOKUP('drop down'!$A$2,'Step 2 PO Calculator'!B2606:D3141,3,FALSE),\"Leave this line blank\")","v":"Leave this line blank"},{"$nulls":11},"",null,"","No",null,null,"No"]
[null,{"$f":"IF('Step 2 PO Calculator'!B2607=\"Yes\",VLOOKUP('drop down'!$A$2,'Step 2 PO Calculator'!B2607:D3142,3,FALSE),\"Leave this line blank\")","v":"Leave this line blank"},{"$nulls":11},"",null,"","No",null,null,"No"]
[null,{"$f":"IF('Step 2 PO Calculator'!B2608=\"Yes\",VLOOKUP('drop down'!$A$2,'Step 2 PO Calculator'!B2608:D3143,3,FALSE),\"Leave this line blank\")","v":"Leave this line blank"},{"$nulls":11},"",null,"","No",null,null,"No"]
[null,{"$f":"IF('Step 2 PO Calculator'!B2609=\"Yes\",VLOOKUP('drop down'!$A$2,'Step 2 PO Calculator'!B2609:D3144,3,FALSE),\"Leave this line blank\")","v":"Leave this line blank"},{"$nulls":11},"",null,"","No",null,null,"No"]
[null,{"$f":"IF('Step 2 PO Calculator'!B2610=\"Yes\",VLOOKUP('drop down'!$A$2,'Step 2 PO Calculator'!B2610:D3145,3,FALSE),\"Leave this line blank\")","v":"Leave this line blank"},{"$nulls":11},"",null,"","No",null,null,"No"]
[null,{"$f":"IF('Step 2 PO Calculator'!B2611=\"Yes\",VLOOKUP('drop down'!$A$2,'Step 2 PO Calculator'!B2611:D3146,3,FALSE),\"Leave this line blank\")","v":"Leave this line blank"},{"$nulls":11},"",null,"","No",null,null,"No"]
[null,{"$f":"IF('Step 2 PO Calculator'!B2612=\"Yes\",VLOOKUP('drop down'!$A$2,'Step 2 PO Calculator'!B2612:D3147,3,FALSE),\"Leave this line blank\")","v":"Leave this line blank"},{"$nulls":11},"",null,"","No",null,null,"No"]
[null,{"$f":"IF('Step 2 PO Calculator'!B2613=\"Yes\",VLOOKUP('drop down'!$A$2,'Step 2 PO Calculator'!B2613:D3148,3,FALSE),\"Leave this line blank\")","v":"Leave this line blank"},{"$nulls":11},"",null,"","No",null,null,"No"]
[null,{"$f":"IF('Step 2 PO Calculator'!B2614=\"Yes\",VLOOKUP('drop down'!$A$2,'Step 2 PO Calculator'!B2614:D3149,3,FALSE),\"Leave this line blank\")","v":"Leave this line blank"},{"$nulls":11},"",null,"","No",null,null,"No"]
[null,{"$f":"IF('Step 2 PO Calculator'!B2615=\"Yes\",VLOOKUP('drop down'!$A$2,'Step 2 PO Calculator'!B2615:D3150,3,FALSE),\"Leave this line blank\")","v":"Leave this line blank"},{"$nulls":11},"",null,"","No",null,null,"No"]
[null,{"$f":"IF('Step 2 PO Calculator'!B2616=\"Yes\",VLOOKUP('drop down'!$A$2,'Step 2 PO Calculator'!B2616:D3151,3,FALSE),\"Leave this line blank\")","v":"Leave this line blank"},{"$nulls":11},"",null,"","No",null,null,"No"]
[null,{"$f":"IF('Step 2 PO Calculator'!B2617=\"Yes\",VLOOKUP('drop down'!$A$2,'Step 2 PO Calculator'!B2617:D3152,3,FALSE),\"Leave this line blank\")","v":"Leave this line blank"},{"$nulls":11},"",null,"","No",null,null,"No"]
[null,{"$f":"IF('Step 2 PO Calculator'!B2618=\"Yes\",VLOOKUP('drop down'!$A$2,'Step 2 PO Calculator'!B2618:D3153,3,FALSE),\"Leave this line blank\")","v":"Leave this line blank"},{"$nulls":11},"",null,"","No",null,null,"No"]
[null,{"$f":"IF('Step 2 PO Calculator'!B2619=\"Yes\",VLOOKUP('drop down'!$A$2,'Step 2 PO Calculator'!B2619:D3154,3,FALSE),\"Leave this line blank\")","v":"Leave this line blank"},{"$nulls":11},"",null,"","No",null,null,"No"]
[null,{"$f":"IF('Step 2 PO Calculator'!B2620=\"Yes\",VLOOKUP('drop down'!$A$2,'Step 2 PO Calculator'!B2620:D3155,3,FALSE),\"Leave this line blank\")","v":"Leave this line blank"},{"$nulls":11},"",null,"","No",null,null,"No"]
[null,{"$f":"IF('Step 2 PO Calculator'!B2621=\"Yes\",VLOOKUP('drop down'!$A$2,'Step 2 PO Calculator'!B2621:D3156,3,FALSE),\"Leave this line blank\")","v":"Leave this line blank"},{"$nulls":11},"",null,"","No",null,null,"No"]
[null,{"$f":"IF('Step 2 PO Calculator'!B2622=\"Yes\",VLOOKUP('drop down'!$A$2,'Step 2 PO Calculator'!B2622:D3157,3,FALSE),\"Leave this line blank\")","v":"Leave this line blank"},{"$nulls":11},"",null,"","No",null,null,"No"]
[null,{"$f":"IF('Step 2 PO Calculator'!B2623=\"Yes\",VLOOKUP('drop down'!$A$2,'Step 2 PO Calculator'!B2623:D3158,3,FALSE),\"Leave this line blank\")","v":"Leave this line blank"},{"$nulls":11},"",null,"","No",null,null,"No"]
[null,{"$f":"IF('Step 2 PO Calculator'!B2624=\"Yes\",VLOOKUP('drop down'!$A$2,'Step 2 PO Calculator'!B2624:D3159,3,FALSE),\"Leave this line blank\")","v":"Leave this line blank"},{"$nulls":11},"",null,"","No",null,null,"No"]
[null,{"$f":"IF('Step 2 PO Calculator'!B2625=\"Yes\",VLOOKUP('drop down'!$A$2,'Step 2 PO Calculator'!B2625:D3160,3,FALSE),\"Leave this line blank\")","v":"Leave this line blank"},{"$nulls":11},"",null,"","No",null,null,"No"]
[null,{"$f":"IF('Step 2 PO Calculator'!B2626=\"Yes\",VLOOKUP('drop down'!$A$2,'Step 2 PO Calculator'!B2626:D3161,3,FALSE),\"Leave this line blank\")","v":"Leave this line blank"},{"$nulls":11},"",null,"","No",null,null,"No"]
[null,{"$f":"IF('Step 2 PO Calculator'!B2627=\"Yes\",VLOOKUP('drop down'!$A$2,'Step 2 PO Calculator'!B2627:D3162,3,FALSE),\"Leave this line blank\")","v":"Leave this line blank"},{"$nulls":11},"",null,"","No",null,null,"No"]
[null,{"$f":"IF('Step 2 PO Calculator'!B2628=\"Yes\",VLOOKUP('drop down'!$A$2,'Step 2 PO Calculator'!B2628:D3163,3,FALSE),\"Leave this line blank\")","v":"Leave this line blank"},{"$nulls":11},"",null,"","No",null,null,"No"]
[null,{"$f":"IF('Step 2 PO Calculator'!B2629=\"Yes\",VLOOKUP('drop down'!$A$2,'Step 2 PO Calculator'!B2629:D3164,3,FALSE),\"Leave this line blank\")","v":"Leave this line blank"},{"$nulls":11},"",null,"","No",null,null,"No"]
[null,{"$f":"IF('Step 2 PO Calculator'!B2630=\"Yes\",VLOOKUP('drop down'!$A$2,'Step 2 PO Calculator'!B2630:D3165,3,FALSE),\"Leave this line blank\")","v":"Leave this line blank"},{"$nulls":11},"",null,"","No",null,null,"No"]
[null,{"$f":"IF('Step 2 PO Calculator'!B2631=\"Yes\",VLOOKUP('drop down'!$A$2,'Step 2 PO Calculator'!B2631:D3166,3,FALSE),\"Leave this line blank\")","v":"Leave this line blank"},{"$nulls":11},"",null,"","No",null,null,"No"]
[null,{"$f":"IF('Step 2 PO Calculator'!B2632=\"Yes\",VLOOKUP('drop down'!$A$2,'Step 2 PO Calculator'!B2632:D3167,3,FALSE),\"Leave this line blank\")","v":"Leave this line blank"},{"$nulls":11},"",null,"","No",null,null,"No"]
[null,{"$f":"IF('Step 2 PO Calculator'!B2633=\"Yes\",VLOOKUP('drop down'!$A$2,'Step 2 PO Calculator'!B2633:D3168,3,FALSE),\"Leave this line blank\")","v":"Leave this line blank"},{"$nulls":11},"",null,"","No",null,null,"No"]
[null,{"$f":"IF('Step 2 PO Calculator'!B2634=\"Yes\",VLOOKUP('drop down'!$A$2,'Step 2 PO Calculator'!B2634:D3169,3,FALSE),\"Leave this line blank\")","v":"Leave this line blank"},{"$nulls":11},"",null,"","No",null,null,"No"]
[null,{"$f":"IF('Step 2 PO Calculator'!B2635=\"Yes\",VLOOKUP('drop down'!$A$2,'Step 2 PO Calculator'!B2635:D3170,3,FALSE),\"Leave this line blank\")","v":"Leave this line blank"},{"$nulls":11},{"$f":"IF(I1166=\"\",\"\",IF(_xlfn.DAYS(I$8,I1166)>=180,\"X\",\"\"))","v":""},null,{"$f":"IF(K1166=\"\",\"\",IF(_xlfn.DAYS(K1166,I$8)<0,\"\",\"X\"))","v":""},{"$f":"IF(AND(N1166=\"X\",P1166=\"X\"),\"Yes\",\"No\")","v":"No"},null,null,{"$f":"IF(AND(N1166=\"X\",P1166=\"X\",R1166=\"Yes\"),\"Yes\",\"No\")","v":"No"}]
[null,{"$f":"IF('Step 2 PO Calculator'!B2636=\"Yes\",VLOOKUP('drop down'!$A$2,'Step 2 PO Calculator'!B2636:D3171,3,FALSE),\"Leave this line blank\")","v":"Leave this line blank"},{"$nulls":11},"",null,"","No",null,null,"No"]
[null,{"$f":"IF('Step 2 PO Calculator'!B2637=\"Yes\",VLOOKUP('drop down'!$A$2,'Step 2 PO Calculator'!B2637:D3172,3,FALSE),\"Leave this line blank\")","v":"Leave this line blank"},{"$nulls":11},"",null,"","No",null,null,"No"]
[null,{"$f":"IF('Step 2 PO Calculator'!B2638=\"Yes\",VLOOKUP('drop down'!$A$2,'Step 2 PO Calculator'!B2638:D3173,3,FALSE),\"Leave this line blank\")","v":"Leave this line blank"},{"$nulls":11},"",null,"","No",null,null,"No"]
[null,{"$f":"IF('Step 2 PO Calculator'!B2639=\"Yes\",VLOOKUP('drop down'!$A$2,'Step 2 PO Calculator'!B2639:D3174,3,FALSE),\"Leave this line blank\")","v":"Leave this line blank"},{"$nulls":11},"",null,"","No",null,null,"No"]
[null,{"$f":"IF('Step 2 PO Calculator'!B2640=\"Yes\",VLOOKUP('drop down'!$A$2,'Step 2 PO Calculator'!B2640:D3175,3,FALSE),\"Leave this line blank\")","v":"Leave this line blank"},{"$nulls":11},"",null,"","No",null,null,"No"]
[null,{"$f":"IF('Step 2 PO Calculator'!B2641=\"Yes\",VLOOKUP('drop down'!$A$2,'Step 2 PO Calculator'!B2641:D3176,3,FALSE),\"Leave this line blank\")","v":"Leave this line blank"},{"$nulls":11},"",null,"","No",null,null,"No"]
[null,{"$f":"IF('Step 2 PO Calculator'!B2642=\"Yes\",VLOOKUP('drop down'!$A$2,'Step 2 PO Calculator'!B2642:D3177,3,FALSE),\"Leave this line blank\")","v":"Leave this line blank"},{"$nulls":11},"",null,"","No",null,null,"No"]
[null,{"$f":"IF('Step 2 PO Calculator'!B2643=\"Yes\",VLOOKUP('drop down'!$A$2,'Step 2 PO Calculator'!B2643:D3178,3,FALSE),\"Leave this line blank\")","v":"Leave this line blank"},{"$nulls":11},"",null,"","No",null,null,"No"]
[null,{"$f":"IF('Step 2 PO Calculator'!B2644=\"Yes\",VLOOKUP('drop down'!$A$2,'Step 2 PO Calculator'!B2644:D3179,3,FALSE),\"Leave this line blank\")","v":"Leave this line blank"},{"$nulls":11},"",null,"","No",null,null,"No"]
[null,{"$f":"IF('Step 2 PO Calculator'!B2645=\"Yes\",VLOOKUP('drop down'!$A$2,'Step 2 PO Calculator'!B2645:D3180,3,FALSE),\"Leave this line blank\")","v":"Leave this line blank"},{"$nulls":11},"",null,"","No",null,null,"No"]
[null,{"$f":"IF('Step 2 PO Calculator'!B2646=\"Yes\",VLOOKUP('drop down'!$A$2,'Step 2 PO Calculator'!B2646:D3181,3,FALSE),\"Leave this line blank\")","v":"Leave this line blank"},{"$nulls":11},"",null,"","No",null,null,"No"]
[null,{"$f":"IF('Step 2 PO Calculator'!B2647=\"Yes\",VLOOKUP('drop down'!$A$2,'Step 2 PO Calculator'!B2647:D3182,3,FALSE),\"Leave this line blank\")","v":"Leave this line blank"},{"$nulls":11},"",null,"","No",null,null,"No"]
[null,{"$f":"IF('Step 2 PO Calculator'!B2648=\"Yes\",VLOOKUP('drop down'!$A$2,'Step 2 PO Calculator'!B2648:D3183,3,FALSE),\"Leave this line blank\")","v":"Leave this line blank"},{"$nulls":11},"",null,"","No",null,null,"No"]
[null,{"$f":"IF('Step 2 PO Calculator'!B2649=\"Yes\",VLOOKUP('drop down'!$A$2,'Step 2 PO Calculator'!B2649:D3184,3,FALSE),\"Leave this line blank\")","v":"Leave this line blank"},{"$nulls":11},"",null,"","No",null,null,"No"]
[null,{"$f":"IF('Step 2 PO Calculator'!B2650=\"Yes\",VLOOKUP('drop down'!$A$2,'Step 2 PO Calculator'!B2650:D3185,3,FALSE),\"Leave this line blank\")","v":"Leave this line blank"},{"$nulls":11},"",null,"","No",null,null,"No"]
[null,{"$f":"IF('Step 2 PO Calculator'!B2651=\"Yes\",VLOOKUP('drop down'!$A$2,'Step 2 PO Calculator'!B2651:D3186,3,FALSE),\"Leave this line blank\")","v":"Leave this line blank"},{"$nulls":11},"",null,"","No",null,null,"No"]
[null,{"$f":"IF('Step 2 PO Calculator'!B2652=\"Yes\",VLOOKUP('drop down'!$A$2,'Step 2 PO Calculator'!B2652:D3187,3,FALSE),\"Leave this line blank\")","v":"Leave this line blank"},{"$nulls":11},"",null,"","No",null,null,"No"]
[null,{"$f":"IF('Step 2 PO Calculator'!B2653=\"Yes\",VLOOKUP('drop down'!$A$2,'Step 2 PO Calculator'!B2653:D3188,3,FALSE),\"Leave this line blank\")","v":"Leave this line blank"},{"$nulls":11},"",null,"","No",null,null,"No"]
[null,{"$f":"IF('Step 2 PO Calculator'!B2654=\"Yes\",VLOOKUP('drop down'!$A$2,'Step 2 PO Calculator'!B2654:D3189,3,FALSE),\"Leave this line blank\")","v":"Leave this line blank"},{"$nulls":11},"",null,"","No",null,null,"No"]
[null,{"$f":"IF('Step 2 PO Calculator'!B2655=\"Yes\",VLOOKUP('drop down'!$A$2,'Step 2 PO Calculator'!B2655:D3190,3,FALSE),\"Leave this line blank\")","v":"Leave this line blank"},{"$nulls":11},"",null,"","No",null,null,"No"]
[null,{"$f":"IF('Step 2 PO Calculator'!B2656=\"Yes\",VLOOKUP('drop down'!$A$2,'Step 2 PO Calculator'!B2656:D3191,3,FALSE),\"Leave this line blank\")","v":"Leave this line blank"},{"$nulls":11},"",null,"","No",null,null,"No"]
[null,{"$f":"IF('Step 2 PO Calculator'!B2657=\"Yes\",VLOOKUP('drop down'!$A$2,'Step 2 PO Calculator'!B2657:D3192,3,FALSE),\"Leave this line blank\")","v":"Leave this line blank"},{"$nulls":11},"",null,"","No",null,null,"No"]
[null,{"$f":"IF('Step 2 PO Calculator'!B2658=\"Yes\",VLOOKUP('drop down'!$A$2,'Step 2 PO Calculator'!B2658:D3193,3,FALSE),\"Leave this line blank\")","v":"Leave this line blank"},{"$nulls":11},"",null,"","No",null,null,"No"]
[null,{"$f":"IF('Step 2 PO Calculator'!B2659=\"Yes\",VLOOKUP('drop down'!$A$2,'Step 2 PO Calculator'!B2659:D3194,3,FALSE),\"Leave this line blank\")","v":"Leave this line blank"},{"$nulls":11},"",null,"","No",null,null,"No"]
[null,{"$f":"IF('Step 2 PO Calculator'!B2660=\"Yes\",VLOOKUP('drop down'!$A$2,'Step 2 PO Calculator'!B2660:D3195,3,FALSE),\"Leave this line blank\")","v":"Leave this line blank"},{"$nulls":11},"",null,"","No",null,null,"No"]
[null,{"$f":"IF('Step 2 PO Calculator'!B2661=\"Yes\",VLOOKUP('drop down'!$A$2,'Step 2 PO Calculator'!B2661:D3196,3,FALSE),\"Leave this line blank\")","v":"Leave this line blank"},{"$nulls":11},"",null,"","No",null,null,"No"]
[null,{"$f":"IF('Step 2 PO Calculator'!B2662=\"Yes\",VLOOKUP('drop down'!$A$2,'Step 2 PO Calculator'!B2662:D3197,3,FALSE),\"Leave this line blank\")","v":"Leave this line blank"},{"$nulls":11},"",null,"","No",null,null,"No"]
[null,{"$f":"IF('Step 2 PO Calculator'!B2663=\"Yes\",VLOOKUP('drop down'!$A$2,'Step 2 PO Calculator'!B2663:D3198,3,FALSE),\"Leave this line blank\")","v":"Leave this line blank"},{"$nulls":11},"",null,"","No",null,null,"No"]
[null,{"$f":"IF('Step 2 PO Calculator'!B2664=\"Yes\",VLOOKUP('drop down'!$A$2,'Step 2 PO Calculator'!B2664:D3199,3,FALSE),\"Leave this line blank\")","v":"Leave this line blank"},{"$nulls":11},"",null,"","No",null,null,"No"]
[null,{"$f":"IF('Step 2 PO Calculator'!B2665=\"Yes\",VLOOKUP('drop down'!$A$2,'Step 2 PO Calculator'!B2665:D3200,3,FALSE),\"Leave this line blank\")","v":"Leave this line blank"},{"$nulls":11},"",null,"","No",null,null,"No"]
[null,{"$f":"IF('Step 2 PO Calculator'!B2666=\"Yes\",VLOOKUP('drop down'!$A$2,'Step 2 PO Calculator'!B2666:D3201,3,FALSE),\"Leave this line blank\")","v":"Leave this line blank"},{"$nulls":11},"",null,"","No",null,null,"No"]
[null,{"$f":"IF('Step 2 PO Calculator'!B2667=\"Yes\",VLOOKUP('drop down'!$A$2,'Step 2 PO Calculator'!B2667:D3202,3,FALSE),\"Leave this line blank\")","v":"Leave this line blank"},{"$nulls":11},"",null,"","No",null,null,"No"]
[null,{"$f":"IF('Step 2 PO Calculator'!B2668=\"Yes\",VLOOKUP('drop down'!$A$2,'Step 2 PO Calculator'!B2668:D3203,3,FALSE),\"Leave this line blank\")","v":"Leave this line blank"},{"$nulls":11},"",null,"","No",null,null,"No"]
[null,{"$f":"IF('Step 2 PO Calculator'!B2669=\"Yes\",VLOOKUP('drop down'!$A$2,'Step 2 PO Calculator'!B2669:D3204,3,FALSE),\"Leave this line blank\")","v":"Leave this line blank"},{"$nulls":11},"",null,"","No",null,null,"No"]
[null,{"$f":"IF('Step 2 PO Calculator'!B2670=\"Yes\",VLOOKUP('drop down'!$A$2,'Step 2 PO Calculator'!B2670:D3205,3,FALSE),\"Leave this line blank\")","v":"Leave this line blank"},{"$nulls":11},"",null,"","No",null,null,"No"]
[null,{"$f":"IF('Step 2 PO Calculator'!B2671=\"Yes\",VLOOKUP('drop down'!$A$2,'Step 2 PO Calculator'!B2671:D3206,3,FALSE),\"Leave this line blank\")","v":"Leave this line blank"},{"$nulls":11},"",null,"","No",null,null,"No"]
[null,{"$f":"IF('Step 2 PO Calculator'!B2672=\"Yes\",VLOOKUP('drop down'!$A$2,'Step 2 PO Calculator'!B2672:D3207,3,FALSE),\"Leave this line blank\")","v":"Leave this line blank"},{"$nulls":11},"",null,"","No",null,null,"No"]
[null,{"$f":"IF('Step 2 PO Calculator'!B2673=\"Yes\",VLOOKUP('drop down'!$A$2,'Step 2 PO Calculator'!B2673:D3208,3,FALSE),\"Leave this line blank\")","v":"Leave this line blank"},{"$nulls":11},"",null,"","No",null,null,"No"]
[null,{"$f":"IF('Step 2 PO Calculator'!B2674=\"Yes\",VLOOKUP('drop down'!$A$2,'Step 2 PO Calculator'!B2674:D3209,3,FALSE),\"Leave this line blank\")","v":"Leave this line blank"},{"$nulls":11},"",null,"","No",null,null,"No"]
[null,{"$f":"IF('Step 2 PO Calculator'!B2675=\"Yes\",VLOOKUP('drop down'!$A$2,'Step 2 PO Calculator'!B2675:D3210,3,FALSE),\"Leave this line blank\")","v":"Leave this line blank"},{"$nulls":11},"",null,"","No",null,null,"No"]
[null,{"$f":"IF('Step 2 PO Calculator'!B2676=\"Yes\",VLOOKUP('drop down'!$A$2,'Step 2 PO Calculator'!B2676:D3211,3,FALSE),\"Leave this line blank\")","v":"Leave this line blank"},{"$nulls":11},"",null,"","No",null,null,"No"]
[null,{"$f":"IF('Step 2 PO Calculator'!B2677=\"Yes\",VLOOKUP('drop down'!$A$2,'Step 2 PO Calculator'!B2677:D3212,3,FALSE),\"Leave this line blank\")","v":"Leave this line blank"},{"$nulls":11},"",null,"","No",null,null,"No"]
[null,{"$f":"IF('Step 2 PO Calculator'!B2678=\"Yes\",VLOOKUP('drop down'!$A$2,'Step 2 PO Calculator'!B2678:D3213,3,FALSE),\"Leave this line blank\")","v":"Leave this line blank"},{"$nulls":11},"",null,"","No",null,null,"No"]
[null,{"$f":"IF('Step 2 PO Calculator'!B2679=\"Yes\",VLOOKUP('drop down'!$A$2,'Step 2 PO Calculator'!B2679:D3214,3,FALSE),\"Leave this line blank\")","v":"Leave this line blank"},{"$nulls":11},"",null,"","No",null,null,"No"]
[null,{"$f":"IF('Step 2 PO Calculator'!B2680=\"Yes\",VLOOKUP('drop down'!$A$2,'Step 2 PO Calculator'!B2680:D3215,3,FALSE),\"Leave this line blank\")","v":"Leave this line blank"},{"$nulls":11},"",null,"","No",null,null,"No"]
[null,{"$f":"IF('Step 2 PO Calculator'!B2681=\"Yes\",VLOOKUP('drop down'!$A$2,'Step 2 PO Calculator'!B2681:D3216,3,FALSE),\"Leave this line blank\")","v":"Leave this line blank"},{"$nulls":11},"",null,"","No",null,null,"No"]
[null,{"$f":"IF('Step 2 PO Calculator'!B2682=\"Yes\",VLOOKUP('drop down'!$A$2,'Step 2 PO Calculator'!B2682:D3217,3,FALSE),\"Leave this line blank\")","v":"Leave this line blank"},{"$nulls":11},"",null,"","No",null,null,"No"]
[null,{"$f":"IF('Step 2 PO Calculator'!B2683=\"Yes\",VLOOKUP('drop down'!$A$2,'Step 2 PO Calculator'!B2683:D3218,3,FALSE),\"Leave this line blank\")","v":"Leave this line blank"},{"$nulls":11},"",null,"","No",null,null,"No"]
[null,{"$f":"IF('Step 2 PO Calculator'!B2684=\"Yes\",VLOOKUP('drop down'!$A$2,'Step 2 PO Calculator'!B2684:D3219,3,FALSE),\"Leave this line blank\")","v":"Leave this line blank"},{"$nulls":11},"",null,"","No",null,null,"No"]
[null,{"$f":"IF('Step 2 PO Calculator'!B2685=\"Yes\",VLOOKUP('drop down'!$A$2,'Step 2 PO Calculator'!B2685:D3220,3,FALSE),\"Leave this line blank\")","v":"Leave this line blank"},{"$nulls":11},"",null,"","No",null,null,"No"]
[null,{"$f":"IF('Step 2 PO Calculator'!B2686=\"Yes\",VLOOKUP('drop down'!$A$2,'Step 2 PO Calculator'!B2686:D3221,3,FALSE),\"Leave this line blank\")","v":"Leave this line blank"},{"$nulls":11},"",null,"","No",null,null,"No"]
[null,{"$f":"IF('Step 2 PO Calculator'!B2687=\"Yes\",VLOOKUP('drop down'!$A$2,'Step 2 PO Calculator'!B2687:D3222,3,FALSE),\"Leave this line blank\")","v":"Leave this line blank"},{"$nulls":11},"",null,"","No",null,null,"No"]
[null,{"$f":"IF('Step 2 PO Calculator'!B2688=\"Yes\",VLOOKUP('drop down'!$A$2,'Step 2 PO Calculator'!B2688:D3223,3,FALSE),\"Leave this line blank\")","v":"Leave this line blank"},{"$nulls":11},"",null,"","No",null,null,"No"]
[null,{"$f":"IF('Step 2 PO Calculator'!B2689=\"Yes\",VLOOKUP('drop down'!$A$2,'Step 2 PO Calculator'!B2689:D3224,3,FALSE),\"Leave this line blank\")","v":"Leave this line blank"},{"$nulls":11},"",null,"","No",null,null,"No"]
[null,{"$f":"IF('Step 2 PO Calculator'!B2690=\"Yes\",VLOOKUP('drop down'!$A$2,'Step 2 PO Calculator'!B2690:D3225,3,FALSE),\"Leave this line blank\")","v":"Leave this line blank"},{"$nulls":11},"",null,"","No",null,null,"No"]
[null,{"$f":"IF('Step 2 PO Calculator'!B2691=\"Yes\",VLOOKUP('drop down'!$A$2,'Step 2 PO Calculator'!B2691:D3226,3,FALSE),\"Leave this line blank\")","v":"Leave this line blank"},{"$nulls":11},"",null,"","No",null,null,"No"]
[null,{"$f":"IF('Step 2 PO Calculator'!B2692=\"Yes\",VLOOKUP('drop down'!$A$2,'Step 2 PO Calculator'!B2692:D3227,3,FALSE),\"Leave this line blank\")","v":"Leave this line blank"},{"$nulls":11},"",null,"","No",null,null,"No"]
[null,{"$f":"IF('Step 2 PO Calculator'!B2693=\"Yes\",VLOOKUP('drop down'!$A$2,'Step 2 PO Calculator'!B2693:D3228,3,FALSE),\"Leave this line blank\")","v":"Leave this line blank"},{"$nulls":11},"",null,"","No",null,null,"No"]
[null,{"$f":"IF('Step 2 PO Calculator'!B2694=\"Yes\",VLOOKUP('drop down'!$A$2,'Step 2 PO Calculator'!B2694:D3229,3,FALSE),\"Leave this line blank\")","v":"Leave this line blank"},{"$nulls":11},"",null,"","No",null,null,"No"]
[null,{"$f":"IF('Step 2 PO Calculator'!B2695=\"Yes\",VLOOKUP('drop down'!$A$2,'Step 2 PO Calculator'!B2695:D3230,3,FALSE),\"Leave this line blank\")","v":"Leave this line blank"},{"$nulls":11},"",null,"","No",null,null,"No"]
[null,{"$f":"IF('Step 2 PO Calculator'!B2696=\"Yes\",VLOOKUP('drop down'!$A$2,'Step 2 PO Calculator'!B2696:D3231,3,FALSE),\"Leave this line blank\")","v":"Leave this line blank"},{"$nulls":11},"",null,"","No",null,null,"No"]
[null,{"$f":"IF('Step 2 PO Calculator'!B2697=\"Yes\",VLOOKUP('drop down'!$A$2,'Step 2 PO Calculator'!B2697:D3232,3,FALSE),\"Leave this line blank\")","v":"Leave this line blank"},{"$nulls":11},"",null,"","No",null,null,"No"]
[null,{"$f":"IF('Step 2 PO Calculator'!B2698=\"Yes\",VLOOKUP('drop down'!$A$2,'Step 2 PO Calculator'!B2698:D3233,3,FALSE),\"Leave this line blank\")","v":"Leave this line blank"},{"$nulls":11},"",null,"","No",null,null,"No"]
[null,{"$f":"IF('Step 2 PO Calculator'!B2699=\"Yes\",VLOOKUP('drop down'!$A$2,'Step 2 PO Calculator'!B2699:D3234,3,FALSE),\"Leave this line blank\")","v":"Leave this line blank"},{"$nulls":11},{"$f":"IF(I1230=\"\",\"\",IF(_xlfn.DAYS(I$8,I1230)>=180,\"X\",\"\"))","v":""},null,{"$f":"IF(K1230=\"\",\"\",IF(_xlfn.DAYS(K1230,I$8)<0,\"\",\"X\"))","v":""},{"$f":"IF(AND(N1230=\"X\",P1230=\"X\"),\"Yes\",\"No\")","v":"No"},null,null,{"$f":"IF(AND(N1230=\"X\",P1230=\"X\",R1230=\"Yes\"),\"Yes\",\"No\")","v":"No"}]
[null,{"$f":"IF('Step 2 PO Calculator'!B2700=\"Yes\",VLOOKUP('drop down'!$A$2,'Step 2 PO Calculator'!B2700:D3235,3,FALSE),\"Leave this line blank\")","v":"Leave this line blank"},{"$nulls":11},"",null,"","No",null,null,"No"]
[null,{"$f":"IF('Step 2 PO Calculator'!B2701=\"Yes\",VLOOKUP('drop down'!$A$2,'Step 2 PO Calculator'!B2701:D3236,3,FALSE),\"Leave this line blank\")","v":"Leave this line blank"},{"$nulls":11},"",null,"","No",null,null,"No"]
[null,{"$f":"IF('Step 2 PO Calculator'!B2702=\"Yes\",VLOOKUP('drop down'!$A$2,'Step 2 PO Calculator'!B2702:D3237,3,FALSE),\"Leave this line blank\")","v":"Leave this line blank"},{"$nulls":11},"",null,"","No",null,null,"No"]
[null,{"$f":"IF('Step 2 PO Calculator'!B2703=\"Yes\",VLOOKUP('drop down'!$A$2,'Step 2 PO Calculator'!B2703:D3238,3,FALSE),\"Leave this line blank\")","v":"Leave this line blank"},{"$nulls":11},"",null,"","No",null,null,"No"]
[null,{"$f":"IF('Step 2 PO Calculator'!B2704=\"Yes\",VLOOKUP('drop down'!$A$2,'Step 2 PO Calculator'!B2704:D3239,3,FALSE),\"Leave this line blank\")","v":"Leave this line blank"},{"$nulls":11},"",null,"","No",null,null,"No"]
[null,{"$f":"IF('Step 2 PO Calculator'!B2705=\"Yes\",VLOOKUP('drop down'!$A$2,'Step 2 PO Calculator'!B2705:D3240,3,FALSE),\"Leave this line blank\")","v":"Leave this line blank"},{"$nulls":11},"",null,"","No",null,null,"No"]
[null,{"$f":"IF('Step 2 PO Calculator'!B2706=\"Yes\",VLOOKUP('drop down'!$A$2,'Step 2 PO Calculator'!B2706:D3241,3,FALSE),\"Leave this line blank\")","v":"Leave this line blank"},{"$nulls":11},"",null,"","No",null,null,"No"]
[null,{"$f":"IF('Step 2 PO Calculator'!B2707=\"Yes\",VLOOKUP('drop down'!$A$2,'Step 2 PO Calculator'!B2707:D3242,3,FALSE),\"Leave this line blank\")","v":"Leave this line blank"},{"$nulls":11},"",null,"","No",null,null,"No"]
[null,{"$f":"IF('Step 2 PO Calculator'!B2708=\"Yes\",VLOOKUP('drop down'!$A$2,'Step 2 PO Calculator'!B2708:D3243,3,FALSE),\"Leave this line blank\")","v":"Leave this line blank"},{"$nulls":11},"",null,"","No",null,null,"No"]
[null,{"$f":"IF('Step 2 PO Calculator'!B2709=\"Yes\",VLOOKUP('drop down'!$A$2,'Step 2 PO Calculator'!B2709:D3244,3,FALSE),\"Leave this line blank\")","v":"Leave this line blank"},{"$nulls":11},"",null,"","No",null,null,"No"]
[null,{"$f":"IF('Step 2 PO Calculator'!B2710=\"Yes\",VLOOKUP('drop down'!$A$2,'Step 2 PO Calculator'!B2710:D3245,3,FALSE),\"Leave this line blank\")","v":"Leave this line blank"},{"$nulls":11},"",null,"","No",null,null,"No"]
[null,{"$f":"IF('Step 2 PO Calculator'!B2711=\"Yes\",VLOOKUP('drop down'!$A$2,'Step 2 PO Calculator'!B2711:D3246,3,FALSE),\"Leave this line blank\")","v":"Leave this line blank"},{"$nulls":11},"",null,"","No",null,null,"No"]
[null,{"$f":"IF('Step 2 PO Calculator'!B2712=\"Yes\",VLOOKUP('drop down'!$A$2,'Step 2 PO Calculator'!B2712:D3247,3,FALSE),\"Leave this line blank\")","v":"Leave this line blank"},{"$nulls":11},"",null,"","No",null,null,"No"]
[null,{"$f":"IF('Step 2 PO Calculator'!B2713=\"Yes\",VLOOKUP('drop down'!$A$2,'Step 2 PO Calculator'!B2713:D3248,3,FALSE),\"Leave this line blank\")","v":"Leave this line blank"},{"$nulls":11},"",null,"","No",null,null,"No"]
[null,{"$f":"IF('Step 2 PO Calculator'!B2714=\"Yes\",VLOOKUP('drop down'!$A$2,'Step 2 PO Calculator'!B2714:D3249,3,FALSE),\"Leave this line blank\")","v":"Leave this line blank"},{"$nulls":11},"",null,"","No",null,null,"No"]
[null,{"$f":"IF('Step 2 PO Calculator'!B2715=\"Yes\",VLOOKUP('drop down'!$A$2,'Step 2 PO Calculator'!B2715:D3250,3,FALSE),\"Leave this line blank\")","v":"Leave this line blank"},{"$nulls":11},"",null,"","No",null,null,"No"]
[null,{"$f":"IF('Step 2 PO Calculator'!B2716=\"Yes\",VLOOKUP('drop down'!$A$2,'Step 2 PO Calculator'!B2716:D3251,3,FALSE),\"Leave this line blank\")","v":"Leave this line blank"},{"$nulls":11},"",null,"","No",null,null,"No"]
[null,{"$f":"IF('Step 2 PO Calculator'!B2717=\"Yes\",VLOOKUP('drop down'!$A$2,'Step 2 PO Calculator'!B2717:D3252,3,FALSE),\"Leave this line blank\")","v":"Leave this line blank"},{"$nulls":11},"",null,"","No",null,null,"No"]
[null,{"$f":"IF('Step 2 PO Calculator'!B2718=\"Yes\",VLOOKUP('drop down'!$A$2,'Step 2 PO Calculator'!B2718:D3253,3,FALSE),\"Leave this line blank\")","v":"Leave this line blank"},{"$nulls":11},"",null,"","No",null,null,"No"]
[null,{"$f":"IF('Step 2 PO Calculator'!B2719=\"Yes\",VLOOKUP('drop down'!$A$2,'Step 2 PO Calculator'!B2719:D3254,3,FALSE),\"Leave this line blank\")","v":"Leave this line blank"},{"$nulls":11},"",null,"","No",null,null,"No"]
[null,{"$f":"IF('Step 2 PO Calculator'!B2720=\"Yes\",VLOOKUP('drop down'!$A$2,'Step 2 PO Calculator'!B2720:D3255,3,FALSE),\"Leave this line blank\")","v":"Leave this line blank"},{"$nulls":11},"",null,"","No",null,null,"No"]
[null,{"$f":"IF('Step 2 PO Calculator'!B2721=\"Yes\",VLOOKUP('drop down'!$A$2,'Step 2 PO Calculator'!B2721:D3256,3,FALSE),\"Leave this line blank\")","v":"Leave this line blank"},{"$nulls":11},"",null,"","No",null,null,"No"]
[null,{"$f":"IF('Step 2 PO Calculator'!B2722=\"Yes\",VLOOKUP('drop down'!$A$2,'Step 2 PO Calculator'!B2722:D3257,3,FALSE),\"Leave this line blank\")","v":"Leave this line blank"},{"$nulls":11},"",null,"","No",null,null,"No"]
[null,{"$f":"IF('Step 2 PO Calculator'!B2723=\"Yes\",VLOOKUP('drop down'!$A$2,'Step 2 PO Calculator'!B2723:D3258,3,FALSE),\"Leave this line blank\")","v":"Leave this line blank"},{"$nulls":11},"",null,"","No",null,null,"No"]
[null,{"$f":"IF('Step 2 PO Calculator'!B2724=\"Yes\",VLOOKUP('drop down'!$A$2,'Step 2 PO Calculator'!B2724:D3259,3,FALSE),\"Leave this line blank\")","v":"Leave this line blank"},{"$nulls":11},"",null,"","No",null,null,"No"]
[null,{"$f":"IF('Step 2 PO Calculator'!B2725=\"Yes\",VLOOKUP('drop down'!$A$2,'Step 2 PO Calculator'!B2725:D3260,3,FALSE),\"Leave this line blank\")","v":"Leave this line blank"},{"$nulls":11},"",null,"","No",null,null,"No"]
[null,{"$f":"IF('Step 2 PO Calculator'!B2726=\"Yes\",VLOOKUP('drop down'!$A$2,'Step 2 PO Calculator'!B2726:D3261,3,FALSE),\"Leave this line blank\")","v":"Leave this line blank"},{"$nulls":11},"",null,"","No",null,null,"No"]
[null,{"$f":"IF('Step 2 PO Calculator'!B2727=\"Yes\",VLOOKUP('drop down'!$A$2,'Step 2 PO Calculator'!B2727:D3262,3,FALSE),\"Leave this line blank\")","v":"Leave this line blank"},{"$nulls":11},"",null,"","No",null,null,"No"]
[null,{"$f":"IF('Step 2 PO Calculator'!B2728=\"Yes\",VLOOKUP('drop down'!$A$2,'Step 2 PO Calculator'!B2728:D3263,3,FALSE),\"Leave this line blank\")","v":"Leave this line blank"},{"$nulls":11},"",null,"","No",null,null,"No"]
[null,{"$f":"IF('Step 2 PO Calculator'!B2729=\"Yes\",VLOOKUP('drop down'!$A$2,'Step 2 PO Calculator'!B2729:D3264,3,FALSE),\"Leave this line blank\")","v":"Leave this line blank"},{"$nulls":11},"",null,"","No",null,null,"No"]
[null,{"$f":"IF('Step 2 PO Calculator'!B2730=\"Yes\",VLOOKUP('drop down'!$A$2,'Step 2 PO Calculator'!B2730:D3265,3,FALSE),\"Leave this line blank\")","v":"Leave this line blank"},{"$nulls":11},"",null,"","No",null,null,"No"]
[null,{"$f":"IF('Step 2 PO Calculator'!B2731=\"Yes\",VLOOKUP('drop down'!$A$2,'Step 2 PO Calculator'!B2731:D3266,3,FALSE),\"Leave this line blank\")","v":"Leave this line blank"},{"$nulls":11},"",null,"","No",null,null,"No"]
[null,{"$f":"IF('Step 2 PO Calculator'!B2732=\"Yes\",VLOOKUP('drop down'!$A$2,'Step 2 PO Calculator'!B2732:D3267,3,FALSE),\"Leave this line blank\")","v":"Leave this line blank"},{"$nulls":11},"",null,"","No",null,null,"No"]
[null,{"$f":"IF('Step 2 PO Calculator'!B2733=\"Yes\",VLOOKUP('drop down'!$A$2,'Step 2 PO Calculator'!B2733:D3268,3,FALSE),\"Leave this line blank\")","v":"Leave this line blank"},{"$nulls":11},"",null,"","No",null,null,"No"]
[null,{"$f":"IF('Step 2 PO Calculator'!B2734=\"Yes\",VLOOKUP('drop down'!$A$2,'Step 2 PO Calculator'!B2734:D3269,3,FALSE),\"Leave this line blank\")","v":"Leave this line blank"},{"$nulls":11},"",null,"","No",null,null,"No"]
[null,{"$f":"IF('Step 2 PO Calculator'!B2735=\"Yes\",VLOOKUP('drop down'!$A$2,'Step 2 PO Calculator'!B2735:D3270,3,FALSE),\"Leave this line blank\")","v":"Leave this line blank"},{"$nulls":11},"",null,"","No",null,null,"No"]
[null,{"$f":"IF('Step 2 PO Calculator'!B2736=\"Yes\",VLOOKUP('drop down'!$A$2,'Step 2 PO Calculator'!B2736:D3271,3,FALSE),\"Leave this line blank\")","v":"Leave this line blank"},{"$nulls":11},"",null,"","No",null,null,"No"]
[null,{"$f":"IF('Step 2 PO Calculator'!B2737=\"Yes\",VLOOKUP('drop down'!$A$2,'Step 2 PO Calculator'!B2737:D3272,3,FALSE),\"Leave this line blank\")","v":"Leave this line blank"},{"$nulls":11},"",null,"","No",null,null,"No"]
[null,{"$f":"IF('Step 2 PO Calculator'!B2738=\"Yes\",VLOOKUP('drop down'!$A$2,'Step 2 PO Calculator'!B2738:D3273,3,FALSE),\"Leave this line blank\")","v":"Leave this line blank"},{"$nulls":11},"",null,"","No",null,null,"No"]
[null,{"$f":"IF('Step 2 PO Calculator'!B2739=\"Yes\",VLOOKUP('drop down'!$A$2,'Step 2 PO Calculator'!B2739:D3274,3,FALSE),\"Leave this line blank\")","v":"Leave this line blank"},{"$nulls":11},"",null,"","No",null,null,"No"]
[null,{"$f":"IF('Step 2 PO Calculator'!B2740=\"Yes\",VLOOKUP('drop down'!$A$2,'Step 2 PO Calculator'!B2740:D3275,3,FALSE),\"Leave this line blank\")","v":"Leave this line blank"},{"$nulls":11},"",null,"","No",null,null,"No"]
[null,{"$f":"IF('Step 2 PO Calculator'!B2741=\"Yes\",VLOOKUP('drop down'!$A$2,'Step 2 PO Calculator'!B2741:D3276,3,FALSE),\"Leave this line blank\")","v":"Leave this line blank"},{"$nulls":11},"",null,"","No",null,null,"No"]
[null,{"$f":"IF('Step 2 PO Calculator'!B2742=\"Yes\",VLOOKUP('drop down'!$A$2,'Step 2 PO Calculator'!B2742:D3277,3,FALSE),\"Leave this line blank\")","v":"Leave this line blank"},{"$nulls":11},"",null,"","No",null,null,"No"]
[null,{"$f":"IF('Step 2 PO Calculator'!B2743=\"Yes\",VLOOKUP('drop down'!$A$2,'Step 2 PO Calculator'!B2743:D3278,3,FALSE),\"Leave this line blank\")","v":"Leave this line blank"},{"$nulls":11},"",null,"","No",null,null,"No"]
[null,{"$f":"IF('Step 2 PO Calculator'!B2744=\"Yes\",VLOOKUP('drop down'!$A$2,'Step 2 PO Calculator'!B2744:D3279,3,FALSE),\"Leave this line blank\")","v":"Leave this line blank"},{"$nulls":11},"",null,"","No",null,null,"No"]
[null,{"$f":"IF('Step 2 PO Calculator'!B2745=\"Yes\",VLOOKUP('drop down'!$A$2,'Step 2 PO Calculator'!B2745:D3280,3,FALSE),\"Leave this line blank\")","v":"Leave this line blank"},{"$nulls":11},"",null,"","No",null,null,"No"]
[null,{"$f":"IF('Step 2 PO Calculator'!B2746=\"Yes\",VLOOKUP('drop down'!$A$2,'Step 2 PO Calculator'!B2746:D3281,3,FALSE),\"Leave this line blank\")","v":"Leave this line blank"},{"$nulls":11},"",null,"","No",null,null,"No"]
[null,{"$f":"IF('Step 2 PO Calculator'!B2747=\"Yes\",VLOOKUP('drop down'!$A$2,'Step 2 PO Calculator'!B2747:D3282,3,FALSE),\"Leave this line blank\")","v":"Leave this line blank"},{"$nulls":11},"",null,"","No",null,null,"No"]
[null,{"$f":"IF('Step 2 PO Calculator'!B2748=\"Yes\",VLOOKUP('drop down'!$A$2,'Step 2 PO Calculator'!B2748:D3283,3,FALSE),\"Leave this line blank\")","v":"Leave this line blank"},{"$nulls":11},"",null,"","No",null,null,"No"]
[null,{"$f":"IF('Step 2 PO Calculator'!B2749=\"Yes\",VLOOKUP('drop down'!$A$2,'Step 2 PO Calculator'!B2749:D3284,3,FALSE),\"Leave this line blank\")","v":"Leave this line blank"},{"$nulls":11},"",null,"","No",null,null,"No"]
[null,{"$f":"IF('Step 2 PO Calculator'!B2750=\"Yes\",VLOOKUP('drop down'!$A$2,'Step 2 PO Calculator'!B2750:D3285,3,FALSE),\"Leave this line blank\")","v":"Leave this line blank"},{"$nulls":11},"",null,"","No",null,null,"No"]
[null,{"$f":"IF('Step 2 PO Calculator'!B2751=\"Yes\",VLOOKUP('drop down'!$A$2,'Step 2 PO Calculator'!B2751:D3286,3,FALSE),\"Leave this line blank\")","v":"Leave this line blank"},{"$nulls":11},"",null,"","No",null,null,"No"]
[null,{"$f":"IF('Step 2 PO Calculator'!B2752=\"Yes\",VLOOKUP('drop down'!$A$2,'Step 2 PO Calculator'!B2752:D3287,3,FALSE),\"Leave this line blank\")","v":"Leave this line blank"},{"$nulls":11},"",null,"","No",null,null,"No"]
[null,{"$f":"IF('Step 2 PO Calculator'!B2753=\"Yes\",VLOOKUP('drop down'!$A$2,'Step 2 PO Calculator'!B2753:D3288,3,FALSE),\"Leave this line blank\")","v":"Leave this line blank"},{"$nulls":11},"",null,"","No",null,null,"No"]
[null,{"$f":"IF('Step 2 PO Calculator'!B2754=\"Yes\",VLOOKUP('drop down'!$A$2,'Step 2 PO Calculator'!B2754:D3289,3,FALSE),\"Leave this line blank\")","v":"Leave this line blank"},{"$nulls":11},"",null,"","No",null,null,"No"]
[null,{"$f":"IF('Step 2 PO Calculator'!B2755=\"Yes\",VLOOKUP('drop down'!$A$2,'Step 2 PO Calculator'!B2755:D3290,3,FALSE),\"Leave this line blank\")","v":"Leave this line blank"},{"$nulls":11},"",null,"","No",null,null,"No"]
[null,{"$f":"IF('Step 2 PO Calculator'!B2756=\"Yes\",VLOOKUP('drop down'!$A$2,'Step 2 PO Calculator'!B2756:D3291,3,FALSE),\"Leave this line blank\")","v":"Leave this line blank"},{"$nulls":11},"",null,"","No",null,null,"No"]
[null,{"$f":"IF('Step 2 PO Calculator'!B2757=\"Yes\",VLOOKUP('drop down'!$A$2,'Step 2 PO Calculator'!B2757:D3292,3,FALSE),\"Leave this line blank\")","v":"Leave this line blank"},{"$nulls":11},"",null,"","No",null,null,"No"]
[null,{"$f":"IF('Step 2 PO Calculator'!B2758=\"Yes\",VLOOKUP('drop down'!$A$2,'Step 2 PO Calculator'!B2758:D3293,3,FALSE),\"Leave this line blank\")","v":"Leave this line blank"},{"$nulls":11},"",null,"","No",null,null,"No"]
[null,{"$f":"IF('Step 2 PO Calculator'!B2759=\"Yes\",VLOOKUP('drop down'!$A$2,'Step 2 PO Calculator'!B2759:D3294,3,FALSE),\"Leave this line blank\")","v":"Leave this line blank"},{"$nulls":11},"",null,"","No",null,null,"No"]
[null,{"$f":"IF('Step 2 PO Calculator'!B2760=\"Yes\",VLOOKUP('drop down'!$A$2,'Step 2 PO Calculator'!B2760:D3295,3,FALSE),\"Leave this line blank\")","v":"Leave this line blank"},{"$nulls":11},"",null,"","No",null,null,"No"]
[null,{"$f":"IF('Step 2 PO Calculator'!B2761=\"Yes\",VLOOKUP('drop down'!$A$2,'Step 2 PO Calculator'!B2761:D3296,3,FALSE),\"Leave this line blank\")","v":"Leave this line blank"},{"$nulls":11},"",null,"","No",null,null,"No"]
[null,{"$f":"IF('Step 2 PO Calculator'!B2762=\"Yes\",VLOOKUP('drop down'!$A$2,'Step 2 PO Calculator'!B2762:D3297,3,FALSE),\"Leave this line blank\")","v":"Leave this line blank"},{"$nulls":11},"",null,"","No",null,null,"No"]
[null,{"$f":"IF('Step 2 PO Calculator'!B2763=\"Yes\",VLOOKUP('drop down'!$A$2,'Step 2 PO Calculator'!B2763:D3298,3,FALSE),\"Leave this line blank\")","v":"Leave this line blank"},{"$nulls":11},{"$f":"IF(I1294=\"\",\"\",IF(_xlfn.DAYS(I$8,I1294)>=180,\"X\",\"\"))","v":""},null,{"$f":"IF(K1294=\"\",\"\",IF(_xlfn.DAYS(K1294,I$8)<0,\"\",\"X\"))","v":""},{"$f":"IF(AND(N1294=\"X\",P1294=\"X\"),\"Yes\",\"No\")","v":"No"},null,null,{"$f":"IF(AND(N1294=\"X\",P1294=\"X\",R1294=\"Yes\"),\"Yes\",\"No\")","v":"No"}]
[null,{"$f":"IF('Step 2 PO Calculator'!B2764=\"Yes\",VLOOKUP('drop down'!$A$2,'Step 2 PO Calculator'!B2764:D3299,3,FALSE),\"Leave this line blank\")","v":"Leave this line blank"},{"$nulls":11},"",null,"","No",null,null,"No"]
[null,{"$f":"IF('Step 2 PO Calculator'!B2765=\"Yes\",VLOOKUP('drop down'!$A$2,'Step 2 PO Calculator'!B2765:D3300,3,FALSE),\"Leave this line blank\")","v":"Leave this line blank"},{"$nulls":11},"",null,"","No",null,null,"No"]
[null,{"$f":"IF('Step 2 PO Calculator'!B2766=\"Yes\",VLOOKUP('drop down'!$A$2,'Step 2 PO Calculator'!B2766:D3301,3,FALSE),\"Leave this line blank\")","v":"Leave this line blank"},{"$nulls":11},"",null,"","No",null,null,"No"]
[null,{"$f":"IF('Step 2 PO Calculator'!B2767=\"Yes\",VLOOKUP('drop down'!$A$2,'Step 2 PO Calculator'!B2767:D3302,3,FALSE),\"Leave this line blank\")","v":"Leave this line blank"},{"$nulls":11},"",null,"","No",null,null,"No"]
[null,{"$f":"IF('Step 2 PO Calculator'!B2768=\"Yes\",VLOOKUP('drop down'!$A$2,'Step 2 PO Calculator'!B2768:D3303,3,FALSE),\"Leave this line blank\")","v":"Leave this line blank"},{"$nulls":11},"",null,"","No",null,null,"No"]
[null,{"$f":"IF('Step 2 PO Calculator'!B2769=\"Yes\",VLOOKUP('drop down'!$A$2,'Step 2 PO Calculator'!B2769:D3304,3,FALSE),\"Leave this line blank\")","v":"Leave this line blank"},{"$nulls":11},"",null,"","No",null,null,"No"]
[null,{"$f":"IF('Step 2 PO Calculator'!B2770=\"Yes\",VLOOKUP('drop down'!$A$2,'Step 2 PO Calculator'!B2770:D3305,3,FALSE),\"Leave this line blank\")","v":"Leave this line blank"},{"$nulls":11},"",null,"","No",null,null,"No"]
[null,{"$f":"IF('Step 2 PO Calculator'!B2771=\"Yes\",VLOOKUP('drop down'!$A$2,'Step 2 PO Calculator'!B2771:D3306,3,FALSE),\"Leave this line blank\")","v":"Leave this line blank"},{"$nulls":11},"",null,"","No",null,null,"No"]
[null,{"$f":"IF('Step 2 PO Calculator'!B2772=\"Yes\",VLOOKUP('drop down'!$A$2,'Step 2 PO Calculator'!B2772:D3307,3,FALSE),\"Leave this line blank\")","v":"Leave this line blank"},{"$nulls":11},"",null,"","No",null,null,"No"]
[null,{"$f":"IF('Step 2 PO Calculator'!B2773=\"Yes\",VLOOKUP('drop down'!$A$2,'Step 2 PO Calculator'!B2773:D3308,3,FALSE),\"Leave this line blank\")","v":"Leave this line blank"},{"$nulls":11},"",null,"","No",null,null,"No"]
[null,{"$f":"IF('Step 2 PO Calculator'!B2774=\"Yes\",VLOOKUP('drop down'!$A$2,'Step 2 PO Calculator'!B2774:D3309,3,FALSE),\"Leave this line blank\")","v":"Leave this line blank"},{"$nulls":11},"",null,"","No",null,null,"No"]
[null,{"$f":"IF('Step 2 PO Calculator'!B2775=\"Yes\",VLOOKUP('drop down'!$A$2,'Step 2 PO Calculator'!B2775:D3310,3,FALSE),\"Leave this line blank\")","v":"Leave this line blank"},{"$nulls":11},"",null,"","No",null,null,"No"]
[null,{"$f":"IF('Step 2 PO Calculator'!B2776=\"Yes\",VLOOKUP('drop down'!$A$2,'Step 2 PO Calculator'!B2776:D3311,3,FALSE),\"Leave this line blank\")","v":"Leave this line blank"},{"$nulls":11},"",null,"","No",null,null,"No"]
[null,{"$f":"IF('Step 2 PO Calculator'!B2777=\"Yes\",VLOOKUP('drop down'!$A$2,'Step 2 PO Calculator'!B2777:D3312,3,FALSE),\"Leave this line blank\")","v":"Leave this line blank"},{"$nulls":11},"",null,"","No",null,null,"No"]
[null,{"$f":"IF('Step 2 PO Calculator'!B2778=\"Yes\",VLOOKUP('drop down'!$A$2,'Step 2 PO Calculator'!B2778:D3313,3,FALSE),\"Leave this line blank\")","v":"Leave this line blank"},{"$nulls":11},"",null,"","No",null,null,"No"]
[null,{"$f":"IF('Step 2 PO Calculator'!B2779=\"Yes\",VLOOKUP('drop down'!$A$2,'Step 2 PO Calculator'!B2779:D3314,3,FALSE),\"Leave this line blank\")","v":"Leave this line blank"},{"$nulls":11},"",null,"","No",null,null,"No"]
[null,{"$f":"IF('Step 2 PO Calculator'!B2780=\"Yes\",VLOOKUP('drop down'!$A$2,'Step 2 PO Calculator'!B2780:D3315,3,FALSE),\"Leave this line blank\")","v":"Leave this line blank"},{"$nulls":11},"",null,"","No",null,null,"No"]
[null,{"$f":"IF('Step 2 PO Calculator'!B2781=\"Yes\",VLOOKUP('drop down'!$A$2,'Step 2 PO Calculator'!B2781:D3316,3,FALSE),\"Leave this line blank\")","v":"Leave this line blank"},{"$nulls":11},"",null,"","No",null,null,"No"]
[null,{"$f":"IF('Step 2 PO Calculator'!B2782=\"Yes\",VLOOKUP('drop down'!$A$2,'Step 2 PO Calculator'!B2782:D3317,3,FALSE),\"Leave this line blank\")","v":"Leave this line blank"},{"$nulls":11},"",null,"","No",null,null,"No"]
[null,{"$f":"IF('Step 2 PO Calculator'!B2783=\"Yes\",VLOOKUP('drop down'!$A$2,'Step 2 PO Calculator'!B2783:D3318,3,FALSE),\"Leave this line blank\")","v":"Leave this line blank"},{"$nulls":11},"",null,"","No",null,null,"No"]
[null,{"$f":"IF('Step 2 PO Calculator'!B2784=\"Yes\",VLOOKUP('drop down'!$A$2,'Step 2 PO Calculator'!B2784:D3319,3,FALSE),\"Leave this line blank\")","v":"Leave this line blank"},{"$nulls":11},"",null,"","No",null,null,"No"]
[null,{"$f":"IF('Step 2 PO Calculator'!B2785=\"Yes\",VLOOKUP('drop down'!$A$2,'Step 2 PO Calculator'!B2785:D3320,3,FALSE),\"Leave this line blank\")","v":"Leave this line blank"},{"$nulls":11},"",null,"","No",null,null,"No"]
[null,{"$f":"IF('Step 2 PO Calculator'!B2786=\"Yes\",VLOOKUP('drop down'!$A$2,'Step 2 PO Calculator'!B2786:D3321,3,FALSE),\"Leave this line blank\")","v":"Leave this line blank"},{"$nulls":11},"",null,"","No",null,null,"No"]
[null,{"$f":"IF('Step 2 PO Calculator'!B2787=\"Yes\",VLOOKUP('drop down'!$A$2,'Step 2 PO Calculator'!B2787:D3322,3,FALSE),\"Leave this line blank\")","v":"Leave this line blank"},{"$nulls":11},"",null,"","No",null,null,"No"]
[null,{"$f":"IF('Step 2 PO Calculator'!B2788=\"Yes\",VLOOKUP('drop down'!$A$2,'Step 2 PO Calculator'!B2788:D3323,3,FALSE),\"Leave this line blank\")","v":"Leave this line blank"},{"$nulls":11},"",null,"","No",null,null,"No"]
[null,{"$f":"IF('Step 2 PO Calculator'!B2789=\"Yes\",VLOOKUP('drop down'!$A$2,'Step 2 PO Calculator'!B2789:D3324,3,FALSE),\"Leave this line blank\")","v":"Leave this line blank"},{"$nulls":11},"",null,"","No",null,null,"No"]
[null,{"$f":"IF('Step 2 PO Calculator'!B2790=\"Yes\",VLOOKUP('drop down'!$A$2,'Step 2 PO Calculator'!B2790:D3325,3,FALSE),\"Leave this line blank\")","v":"Leave this line blank"},{"$nulls":11},"",null,"","No",null,null,"No"]
[null,{"$f":"IF('Step 2 PO Calculator'!B2791=\"Yes\",VLOOKUP('drop down'!$A$2,'Step 2 PO Calculator'!B2791:D3326,3,FALSE),\"Leave this line blank\")","v":"Leave this line blank"},{"$nulls":11},"",null,"","No",null,null,"No"]
[null,{"$f":"IF('Step 2 PO Calculator'!B2792=\"Yes\",VLOOKUP('drop down'!$A$2,'Step 2 PO Calculator'!B2792:D3327,3,FALSE),\"Leave this line blank\")","v":"Leave this line blank"},{"$nulls":11},"",null,"","No",null,null,"No"]
[null,{"$f":"IF('Step 2 PO Calculator'!B2793=\"Yes\",VLOOKUP('drop down'!$A$2,'Step 2 PO Calculator'!B2793:D3328,3,FALSE),\"Leave this line blank\")","v":"Leave this line blank"},{"$nulls":11},"",null,"","No",null,null,"No"]
[null,{"$f":"IF('Step 2 PO Calculator'!B2794=\"Yes\",VLOOKUP('drop down'!$A$2,'Step 2 PO Calculator'!B2794:D3329,3,FALSE),\"Leave this line blank\")","v":"Leave this line blank"},{"$nulls":11},"",null,"","No",null,null,"No"]
[null,{"$f":"IF('Step 2 PO Calculator'!B2795=\"Yes\",VLOOKUP('drop down'!$A$2,'Step 2 PO Calculator'!B2795:D3330,3,FALSE),\"Leave this line blank\")","v":"Leave this line blank"},{"$nulls":11},"",null,"","No",null,null,"No"]
[null,{"$f":"IF('Step 2 PO Calculator'!B2796=\"Yes\",VLOOKUP('drop down'!$A$2,'Step 2 PO Calculator'!B2796:D3331,3,FALSE),\"Leave this line blank\")","v":"Leave this line blank"},{"$nulls":11},"",null,"","No",null,null,"No"]
[null,{"$f":"IF('Step 2 PO Calculator'!B2797=\"Yes\",VLOOKUP('drop down'!$A$2,'Step 2 PO Calculator'!B2797:D3332,3,FALSE),\"Leave this line blank\")","v":"Leave this line blank"},{"$nulls":11},"",null,"","No",null,null,"No"]
[null,{"$f":"IF('Step 2 PO Calculator'!B2798=\"Yes\",VLOOKUP('drop down'!$A$2,'Step 2 PO Calculator'!B2798:D3333,3,FALSE),\"Leave this line blank\")","v":"Leave this line blank"},{"$nulls":11},"",null,"","No",null,null,"No"]
[null,{"$f":"IF('Step 2 PO Calculator'!B2799=\"Yes\",VLOOKUP('drop down'!$A$2,'Step 2 PO Calculator'!B2799:D3334,3,FALSE),\"Leave this line blank\")","v":"Leave this line blank"},{"$nulls":11},"",null,"","No",null,null,"No"]
[null,{"$f":"IF('Step 2 PO Calculator'!B2800=\"Yes\",VLOOKUP('drop down'!$A$2,'Step 2 PO Calculator'!B2800:D3335,3,FALSE),\"Leave this line blank\")","v":"Leave this line blank"},{"$nulls":11},"",null,"","No",null,null,"No"]
[null,{"$f":"IF('Step 2 PO Calculator'!B2801=\"Yes\",VLOOKUP('drop down'!$A$2,'Step 2 PO Calculator'!B2801:D3336,3,FALSE),\"Leave this line blank\")","v":"Leave this line blank"},{"$nulls":11},"",null,"","No",null,null,"No"]
[null,{"$f":"IF('Step 2 PO Calculator'!B2802=\"Yes\",VLOOKUP('drop down'!$A$2,'Step 2 PO Calculator'!B2802:D3337,3,FALSE),\"Leave this line blank\")","v":"Leave this line blank"},{"$nulls":11},"",null,"","No",null,null,"No"]
[null,{"$f":"IF('Step 2 PO Calculator'!B2803=\"Yes\",VLOOKUP('drop down'!$A$2,'Step 2 PO Calculator'!B2803:D3338,3,FALSE),\"Leave this line blank\")","v":"Leave this line blank"},{"$nulls":11},"",null,"","No",null,null,"No"]
[null,{"$f":"IF('Step 2 PO Calculator'!B2804=\"Yes\",VLOOKUP('drop down'!$A$2,'Step 2 PO Calculator'!B2804:D3339,3,FALSE),\"Leave this line blank\")","v":"Leave this line blank"},{"$nulls":11},"",null,"","No",null,null,"No"]
[null,{"$f":"IF('Step 2 PO Calculator'!B2805=\"Yes\",VLOOKUP('drop down'!$A$2,'Step 2 PO Calculator'!B2805:D3340,3,FALSE),\"Leave this line blank\")","v":"Leave this line blank"},{"$nulls":11},"",null,"","No",null,null,"No"]
[null,{"$f":"IF('Step 2 PO Calculator'!B2806=\"Yes\",VLOOKUP('drop down'!$A$2,'Step 2 PO Calculator'!B2806:D3341,3,FALSE),\"Leave this line blank\")","v":"Leave this line blank"},{"$nulls":11},"",null,"","No",null,null,"No"]
[null,{"$f":"IF('Step 2 PO Calculator'!B2807=\"Yes\",VLOOKUP('drop down'!$A$2,'Step 2 PO Calculator'!B2807:D3342,3,FALSE),\"Leave this line blank\")","v":"Leave this line blank"},{"$nulls":11},"",null,"","No",null,null,"No"]
[null,{"$f":"IF('Step 2 PO Calculator'!B2808=\"Yes\",VLOOKUP('drop down'!$A$2,'Step 2 PO Calculator'!B2808:D3343,3,FALSE),\"Leave this line blank\")","v":"Leave this line blank"},{"$nulls":11},"",null,"","No",null,null,"No"]
[null,{"$f":"IF('Step 2 PO Calculator'!B2809=\"Yes\",VLOOKUP('drop down'!$A$2,'Step 2 PO Calculator'!B2809:D3344,3,FALSE),\"Leave this line blank\")","v":"Leave this line blank"},{"$nulls":11},"",null,"","No",null,null,"No"]
[null,{"$f":"IF('Step 2 PO Calculator'!B2810=\"Yes\",VLOOKUP('drop down'!$A$2,'Step 2 PO Calculator'!B2810:D3345,3,FALSE),\"Leave this line blank\")","v":"Leave this line blank"},{"$nulls":11},"",null,"","No",null,null,"No"]
[null,{"$f":"IF('Step 2 PO Calculator'!B2811=\"Yes\",VLOOKUP('drop down'!$A$2,'Step 2 PO Calculator'!B2811:D3346,3,FALSE),\"Leave this line blank\")","v":"Leave this line blank"},{"$nulls":11},"",null,"","No",null,null,"No"]
[null,{"$f":"IF('Step 2 PO Calculator'!B2812=\"Yes\",VLOOKUP('drop down'!$A$2,'Step 2 PO Calculator'!B2812:D3347,3,FALSE),\"Leave this line blank\")","v":"Leave this line blank"},{"$nulls":11},"",null,"","No",null,null,"No"]
[null,{"$f":"IF('Step 2 PO Calculator'!B2813=\"Yes\",VLOOKUP('drop down'!$A$2,'Step 2 PO Calculator'!B2813:D3348,3,FALSE),\"Leave this line blank\")","v":"Leave this line blank"},{"$nulls":11},"",null,"","No",null,null,"No"]
[null,{"$f":"IF('Step 2 PO Calculator'!B2814=\"Yes\",VLOOKUP('drop down'!$A$2,'Step 2 PO Calculator'!B2814:D3349,3,FALSE),\"Leave this line blank\")","v":"Leave this line blank"},{"$nulls":11},"",null,"","No",null,null,"No"]
[null,{"$f":"IF('Step 2 PO Calculator'!B2815=\"Yes\",VLOOKUP('drop down'!$A$2,'Step 2 PO Calculator'!B2815:D3350,3,FALSE),\"Leave this line blank\")","v":"Leave this line blank"},{"$nulls":11},"",null,"","No",null,null,"No"]
[null,{"$f":"IF('Step 2 PO Calculator'!B2816=\"Yes\",VLOOKUP('drop down'!$A$2,'Step 2 PO Calculator'!B2816:D3351,3,FALSE),\"Leave this line blank\")","v":"Leave this line blank"},{"$nulls":11},"",null,"","No",null,null,"No"]
[null,{"$f":"IF('Step 2 PO Calculator'!B2817=\"Yes\",VLOOKUP('drop down'!$A$2,'Step 2 PO Calculator'!B2817:D3352,3,FALSE),\"Leave this line blank\")","v":"Leave this line blank"},{"$nulls":11},"",null,"","No",null,null,"No"]
[null,{"$f":"IF('Step 2 PO Calculator'!B2818=\"Yes\",VLOOKUP('drop down'!$A$2,'Step 2 PO Calculator'!B2818:D3353,3,FALSE),\"Leave this line blank\")","v":"Leave this line blank"},{"$nulls":11},"",null,"","No",null,null,"No"]
[null,{"$f":"IF('Step 2 PO Calculator'!B2819=\"Yes\",VLOOKUP('drop down'!$A$2,'Step 2 PO Calculator'!B2819:D3354,3,FALSE),\"Leave this line blank\")","v":"Leave this line blank"},{"$nulls":11},"",null,"","No",null,null,"No"]
[null,{"$f":"IF('Step 2 PO Calculator'!B2820=\"Yes\",VLOOKUP('drop down'!$A$2,'Step 2 PO Calculator'!B2820:D3355,3,FALSE),\"Leave this line blank\")","v":"Leave this line blank"},{"$nulls":11},"",null,"","No",null,null,"No"]
[null,{"$f":"IF('Step 2 PO Calculator'!B2821=\"Yes\",VLOOKUP('drop down'!$A$2,'Step 2 PO Calculator'!B2821:D3356,3,FALSE),\"Leave this line blank\")","v":"Leave this line blank"},{"$nulls":11},"",null,"","No",null,null,"No"]
[null,{"$f":"IF('Step 2 PO Calculator'!B2822=\"Yes\",VLOOKUP('drop down'!$A$2,'Step 2 PO Calculator'!B2822:D3357,3,FALSE),\"Leave this line blank\")","v":"Leave this line blank"},{"$nulls":11},"",null,"","No",null,null,"No"]
[null,{"$f":"IF('Step 2 PO Calculator'!B2823=\"Yes\",VLOOKUP('drop down'!$A$2,'Step 2 PO Calculator'!B2823:D3358,3,FALSE),\"Leave this line blank\")","v":"Leave this line blank"},{"$nulls":11},"",null,"","No",null,null,"No"]
[null,{"$f":"IF('Step 2 PO Calculator'!B2824=\"Yes\",VLOOKUP('drop down'!$A$2,'Step 2 PO Calculator'!B2824:D3359,3,FALSE),\"Leave this line blank\")","v":"Leave this line blank"},{"$nulls":11},"",null,"","No",null,null,"No"]
[null,{"$f":"IF('Step 2 PO Calculator'!B2825=\"Yes\",VLOOKUP('drop down'!$A$2,'Step 2 PO Calculator'!B2825:D3360,3,FALSE),\"Leave this line blank\")","v":"Leave this line blank"},{"$nulls":11},"",null,"","No",null,null,"No"]
[null,{"$f":"IF('Step 2 PO Calculator'!B2826=\"Yes\",VLOOKUP('drop down'!$A$2,'Step 2 PO Calculator'!B2826:D3361,3,FALSE),\"Leave this line blank\")","v":"Leave this line blank"},{"$nulls":11},"",null,"","No",null,null,"No"]
[null,{"$f":"IF('Step 2 PO Calculator'!B2827=\"Yes\",VLOOKUP('drop down'!$A$2,'Step 2 PO Calculator'!B2827:D3362,3,FALSE),\"Leave this line blank\")","v":"Leave this line blank"},{"$nulls":11},{"$f":"IF(I1358=\"\",\"\",IF(_xlfn.DAYS(I$8,I1358)>=180,\"X\",\"\"))","v":""},null,{"$f":"IF(K1358=\"\",\"\",IF(_xlfn.DAYS(K1358,I$8)<0,\"\",\"X\"))","v":""},{"$f":"IF(AND(N1358=\"X\",P1358=\"X\"),\"Yes\",\"No\")","v":"No"},null,null,{"$f":"IF(AND(N1358=\"X\",P1358=\"X\",R1358=\"Yes\"),\"Yes\",\"No\")","v":"No"}]
[null,{"$f":"IF('Step 2 PO Calculator'!B2828=\"Yes\",VLOOKUP('drop down'!$A$2,'Step 2 PO Calculator'!B2828:D3363,3,FALSE),\"Leave this line blank\")","v":"Leave this line blank"},{"$nulls":11},"",null,"","No",null,null,"No"]
[null,{"$f":"IF('Step 2 PO Calculator'!B2829=\"Yes\",VLOOKUP('drop down'!$A$2,'Step 2 PO Calculator'!B2829:D3364,3,FALSE),\"Leave this line blank\")","v":"Leave this line blank"},{"$nulls":11},"",null,"","No",null,null,"No"]
[null,{"$f":"IF('Step 2 PO Calculator'!B2830=\"Yes\",VLOOKUP('drop down'!$A$2,'Step 2 PO Calculator'!B2830:D3365,3,FALSE),\"Leave this line blank\")","v":"Leave this line blank"},{"$nulls":11},"",null,"","No",null,null,"No"]
[null,{"$f":"IF('Step 2 PO Calculator'!B2831=\"Yes\",VLOOKUP('drop down'!$A$2,'Step 2 PO Calculator'!B2831:D3366,3,FALSE),\"Leave this line blank\")","v":"Leave this line blank"},{"$nulls":11},"",null,"","No",null,null,"No"]
[null,{"$f":"IF('Step 2 PO Calculator'!B2832=\"Yes\",VLOOKUP('drop down'!$A$2,'Step 2 PO Calculator'!B2832:D3367,3,FALSE),\"Leave this line blank\")","v":"Leave this line blank"},{"$nulls":11},"",null,"","No",null,null,"No"]
[null,{"$f":"IF('Step 2 PO Calculator'!B2833=\"Yes\",VLOOKUP('drop down'!$A$2,'Step 2 PO Calculator'!B2833:D3368,3,FALSE),\"Leave this line blank\")","v":"Leave this line blank"},{"$nulls":11},"",null,"","No",null,null,"No"]
[null,{"$f":"IF('Step 2 PO Calculator'!B2834=\"Yes\",VLOOKUP('drop down'!$A$2,'Step 2 PO Calculator'!B2834:D3369,3,FALSE),\"Leave this line blank\")","v":"Leave this line blank"},{"$nulls":11},"",null,"","No",null,null,"No"]
[null,{"$f":"IF('Step 2 PO Calculator'!B2835=\"Yes\",VLOOKUP('drop down'!$A$2,'Step 2 PO Calculator'!B2835:D3370,3,FALSE),\"Leave this line blank\")","v":"Leave this line blank"},{"$nulls":11},"",null,"","No",null,null,"No"]
[null,{"$f":"IF('Step 2 PO Calculator'!B2836=\"Yes\",VLOOKUP('drop down'!$A$2,'Step 2 PO Calculator'!B2836:D3371,3,FALSE),\"Leave this line blank\")","v":"Leave this line blank"},{"$nulls":11},"",null,"","No",null,null,"No"]
[null,{"$f":"IF('Step 2 PO Calculator'!B2837=\"Yes\",VLOOKUP('drop down'!$A$2,'Step 2 PO Calculator'!B2837:D3372,3,FALSE),\"Leave this line blank\")","v":"Leave this line blank"},{"$nulls":11},"",null,"","No",null,null,"No"]
[null,{"$f":"IF('Step 2 PO Calculator'!B2838=\"Yes\",VLOOKUP('drop down'!$A$2,'Step 2 PO Calculator'!B2838:D3373,3,FALSE),\"Leave this line blank\")","v":"Leave this line blank"},{"$nulls":11},"",null,"","No",null,null,"No"]
[null,{"$f":"IF('Step 2 PO Calculator'!B2839=\"Yes\",VLOOKUP('drop down'!$A$2,'Step 2 PO Calculator'!B2839:D3374,3,FALSE),\"Leave this line blank\")","v":"Leave this line blank"},{"$nulls":11},"",null,"","No",null,null,"No"]
[null,{"$f":"IF('Step 2 PO Calculator'!B2840=\"Yes\",VLOOKUP('drop down'!$A$2,'Step 2 PO Calculator'!B2840:D3375,3,FALSE),\"Leave this line blank\")","v":"Leave this line blank"},{"$nulls":11},"",null,"","No",null,null,"No"]
[null,{"$f":"IF('Step 2 PO Calculator'!B2841=\"Yes\",VLOOKUP('drop down'!$A$2,'Step 2 PO Calculator'!B2841:D3376,3,FALSE),\"Leave this line blank\")","v":"Leave this line blank"},{"$nulls":11},"",null,"","No",null,null,"No"]
[null,{"$f":"IF('Step 2 PO Calculator'!B2842=\"Yes\",VLOOKUP('drop down'!$A$2,'Step 2 PO Calculator'!B2842:D3377,3,FALSE),\"Leave this line blank\")","v":"Leave this line blank"},{"$nulls":11},"",null,"","No",null,null,"No"]
[null,{"$f":"IF('Step 2 PO Calculator'!B2843=\"Yes\",VLOOKUP('drop down'!$A$2,'Step 2 PO Calculator'!B2843:D3378,3,FALSE),\"Leave this line blank\")","v":"Leave this line blank"},{"$nulls":11},"",null,"","No",null,null,"No"]
[null,{"$f":"IF('Step 2 PO Calculator'!B2844=\"Yes\",VLOOKUP('drop down'!$A$2,'Step 2 PO Calculator'!B2844:D3379,3,FALSE),\"Leave this line blank\")","v":"Leave this line blank"},{"$nulls":11},"",null,"","No",null,null,"No"]
[null,{"$f":"IF('Step 2 PO Calculator'!B2845=\"Yes\",VLOOKUP('drop down'!$A$2,'Step 2 PO Calculator'!B2845:D3380,3,FALSE),\"Leave this line blank\")","v":"Leave this line blank"},{"$nulls":11},"",null,"","No",null,null,"No"]
[null,{"$f":"IF('Step 2 PO Calculator'!B2846=\"Yes\",VLOOKUP('drop down'!$A$2,'Step 2 PO Calculator'!B2846:D3381,3,FALSE),\"Leave this line blank\")","v":"Leave this line blank"},{"$nulls":11},"",null,"","No",null,null,"No"]
[null,{"$f":"IF('Step 2 PO Calculator'!B2847=\"Yes\",VLOOKUP('drop down'!$A$2,'Step 2 PO Calculator'!B2847:D3382,3,FALSE),\"Leave this line blank\")","v":"Leave this line blank"},{"$nulls":11},"",null,"","No",null,null,"No"]
[null,{"$f":"IF('Step 2 PO Calculator'!B2848=\"Yes\",VLOOKUP('drop down'!$A$2,'Step 2 PO Calculator'!B2848:D3383,3,FALSE),\"Leave this line blank\")","v":"Leave this line blank"},{"$nulls":11},"",null,"","No",null,null,"No"]
[null,{"$f":"IF('Step 2 PO Calculator'!B2849=\"Yes\",VLOOKUP('drop down'!$A$2,'Step 2 PO Calculator'!B2849:D3384,3,FALSE),\"Leave this line blank\")","v":"Leave this line blank"},{"$nulls":11},"",null,"","No",null,null,"No"]
[null,{"$f":"IF('Step 2 PO Calculator'!B2850=\"Yes\",VLOOKUP('drop down'!$A$2,'Step 2 PO Calculator'!B2850:D3385,3,FALSE),\"Leave this line blank\")","v":"Leave this line blank"},{"$nulls":11},"",null,"","No",null,null,"No"]
[null,{"$f":"IF('Step 2 PO Calculator'!B2851=\"Yes\",VLOOKUP('drop down'!$A$2,'Step 2 PO Calculator'!B2851:D3386,3,FALSE),\"Leave this line blank\")","v":"Leave this line blank"},{"$nulls":11},"",null,"","No",null,null,"No"]
[null,{"$f":"IF('Step 2 PO Calculator'!B2852=\"Yes\",VLOOKUP('drop down'!$A$2,'Step 2 PO Calculator'!B2852:D3387,3,FALSE),\"Leave this line blank\")","v":"Leave this line blank"},{"$nulls":11},"",null,"","No",null,null,"No"]
[null,{"$f":"IF('Step 2 PO Calculator'!B2853=\"Yes\",VLOOKUP('drop down'!$A$2,'Step 2 PO Calculator'!B2853:D3388,3,FALSE),\"Leave this line blank\")","v":"Leave this line blank"},{"$nulls":11},"",null,"","No",null,null,"No"]
[null,{"$f":"IF('Step 2 PO Calculator'!B2854=\"Yes\",VLOOKUP('drop down'!$A$2,'Step 2 PO Calculator'!B2854:D3389,3,FALSE),\"Leave this line blank\")","v":"Leave this line blank"},{"$nulls":11},"",null,"","No",null,null,"No"]
[null,{"$f":"IF('Step 2 PO Calculator'!B2855=\"Yes\",VLOOKUP('drop down'!$A$2,'Step 2 PO Calculator'!B2855:D3390,3,FALSE),\"Leave this line blank\")","v":"Leave this line blank"},{"$nulls":11},"",null,"","No",null,null,"No"]
[null,{"$f":"IF('Step 2 PO Calculator'!B2856=\"Yes\",VLOOKUP('drop down'!$A$2,'Step 2 PO Calculator'!B2856:D3391,3,FALSE),\"Leave this line blank\")","v":"Leave this line blank"},{"$nulls":11},"",null,"","No",null,null,"No"]
[null,{"$f":"IF('Step 2 PO Calculator'!B2857=\"Yes\",VLOOKUP('drop down'!$A$2,'Step 2 PO Calculator'!B2857:D3392,3,FALSE),\"Leave this line blank\")","v":"Leave this line blank"},{"$nulls":11},"",null,"","No",null,null,"No"]
[null,{"$f":"IF('Step 2 PO Calculator'!B2858=\"Yes\",VLOOKUP('drop down'!$A$2,'Step 2 PO Calculator'!B2858:D3393,3,FALSE),\"Leave this line blank\")","v":"Leave this line blank"},{"$nulls":11},"",null,"","No",null,null,"No"]
[null,{"$f":"IF('Step 2 PO Calculator'!B2859=\"Yes\",VLOOKUP('drop down'!$A$2,'Step 2 PO Calculator'!B2859:D3394,3,FALSE),\"Leave this line blank\")","v":"Leave this line blank"},{"$nulls":11},"",null,"","No",null,null,"No"]
[null,{"$f":"IF('Step 2 PO Calculator'!B2860=\"Yes\",VLOOKUP('drop down'!$A$2,'Step 2 PO Calculator'!B2860:D3395,3,FALSE),\"Leave this line blank\")","v":"Leave this line blank"},{"$nulls":11},"",null,"","No",null,null,"No"]
[null,{"$f":"IF('Step 2 PO Calculator'!B2861=\"Yes\",VLOOKUP('drop down'!$A$2,'Step 2 PO Calculator'!B2861:D3396,3,FALSE),\"Leave this line blank\")","v":"Leave this line blank"},{"$nulls":11},"",null,"","No",null,null,"No"]
[null,{"$f":"IF('Step 2 PO Calculator'!B2862=\"Yes\",VLOOKUP('drop down'!$A$2,'Step 2 PO Calculator'!B2862:D3397,3,FALSE),\"Leave this line blank\")","v":"Leave this line blank"},{"$nulls":11},"",null,"","No",null,null,"No"]
[null,{"$f":"IF('Step 2 PO Calculator'!B2863=\"Yes\",VLOOKUP('drop down'!$A$2,'Step 2 PO Calculator'!B2863:D3398,3,FALSE),\"Leave this line blank\")","v":"Leave this line blank"},{"$nulls":11},"",null,"","No",null,null,"No"]
[null,{"$f":"IF('Step 2 PO Calculator'!B2864=\"Yes\",VLOOKUP('drop down'!$A$2,'Step 2 PO Calculator'!B2864:D3399,3,FALSE),\"Leave this line blank\")","v":"Leave this line blank"},{"$nulls":11},"",null,"","No",null,null,"No"]
[null,{"$f":"IF('Step 2 PO Calculator'!B2865=\"Yes\",VLOOKUP('drop down'!$A$2,'Step 2 PO Calculator'!B2865:D3400,3,FALSE),\"Leave this line blank\")","v":"Leave this line blank"},{"$nulls":11},"",null,"","No",null,null,"No"]
[null,{"$f":"IF('Step 2 PO Calculator'!B2866=\"Yes\",VLOOKUP('drop down'!$A$2,'Step 2 PO Calculator'!B2866:D3401,3,FALSE),\"Leave this line blank\")","v":"Leave this line blank"},{"$nulls":11},"",null,"","No",null,null,"No"]
[null,{"$f":"IF('Step 2 PO Calculator'!B2867=\"Yes\",VLOOKUP('drop down'!$A$2,'Step 2 PO Calculator'!B2867:D3402,3,FALSE),\"Leave this line blank\")","v":"Leave this line blank"},{"$nulls":11},"",null,"","No",null,null,"No"]
[null,{"$f":"IF('Step 2 PO Calculator'!B2868=\"Yes\",VLOOKUP('drop down'!$A$2,'Step 2 PO Calculator'!B2868:D3403,3,FALSE),\"Leave this line blank\")","v":"Leave this line blank"},{"$nulls":11},"",null,"","No",null,null,"No"]
[null,{"$f":"IF('Step 2 PO Calculator'!B2869=\"Yes\",VLOOKUP('drop down'!$A$2,'Step 2 PO Calculator'!B2869:D3404,3,FALSE),\"Leave this line blank\")","v":"Leave this line blank"},{"$nulls":11},"",null,"","No",null,null,"No"]
[null,{"$f":"IF('Step 2 PO Calculator'!B2870=\"Yes\",VLOOKUP('drop down'!$A$2,'Step 2 PO Calculator'!B2870:D3405,3,FALSE),\"Leave this line blank\")","v":"Leave this line blank"},{"$nulls":11},"",null,"","No",null,null,"No"]
[null,{"$f":"IF('Step 2 PO Calculator'!B2871=\"Yes\",VLOOKUP('drop down'!$A$2,'Step 2 PO Calculator'!B2871:D3406,3,FALSE),\"Leave this line blank\")","v":"Leave this line blank"},{"$nulls":11},"",null,"","No",null,null,"No"]
[null,{"$f":"IF('Step 2 PO Calculator'!B2872=\"Yes\",VLOOKUP('drop down'!$A$2,'Step 2 PO Calculator'!B2872:D3407,3,FALSE),\"Leave this line blank\")","v":"Leave this line blank"},{"$nulls":11},"",null,"","No",null,null,"No"]
[null,{"$f":"IF('Step 2 PO Calculator'!B2873=\"Yes\",VLOOKUP('drop down'!$A$2,'Step 2 PO Calculator'!B2873:D3408,3,FALSE),\"Leave this line blank\")","v":"Leave this line blank"},{"$nulls":11},"",null,"","No",null,null,"No"]
[null,{"$f":"IF('Step 2 PO Calculator'!B2874=\"Yes\",VLOOKUP('drop down'!$A$2,'Step 2 PO Calculator'!B2874:D3409,3,FALSE),\"Leave this line blank\")","v":"Leave this line blank"},{"$nulls":11},"",null,"","No",null,null,"No"]
[null,{"$f":"IF('Step 2 PO Calculator'!B2875=\"Yes\",VLOOKUP('drop down'!$A$2,'Step 2 PO Calculator'!B2875:D3410,3,FALSE),\"Leave this line blank\")","v":"Leave this line blank"},{"$nulls":11},"",null,"","No",null,null,"No"]
[null,{"$f":"IF('Step 2 PO Calculator'!B2876=\"Yes\",VLOOKUP('drop down'!$A$2,'Step 2 PO Calculator'!B2876:D3411,3,FALSE),\"Leave this line blank\")","v":"Leave this line blank"},{"$nulls":11},"",null,"","No",null,null,"No"]
[null,{"$f":"IF('Step 2 PO Calculator'!B2877=\"Yes\",VLOOKUP('drop down'!$A$2,'Step 2 PO Calculator'!B2877:D3412,3,FALSE),\"Leave this line blank\")","v":"Leave this line blank"},{"$nulls":11},"",null,"","No",null,null,"No"]
[null,{"$f":"IF('Step 2 PO Calculator'!B2878=\"Yes\",VLOOKUP('drop down'!$A$2,'Step 2 PO Calculator'!B2878:D3413,3,FALSE),\"Leave this line blank\")","v":"Leave this line blank"},{"$nulls":11},"",null,"","No",null,null,"No"]
[null,{"$f":"IF('Step 2 PO Calculator'!B2879=\"Yes\",VLOOKUP('drop down'!$A$2,'Step 2 PO Calculator'!B2879:D3414,3,FALSE),\"Leave this line blank\")","v":"Leave this line blank"},{"$nulls":11},"",null,"","No",null,null,"No"]
[null,{"$f":"IF('Step 2 PO Calculator'!B2880=\"Yes\",VLOOKUP('drop down'!$A$2,'Step 2 PO Calculator'!B2880:D3415,3,FALSE),\"Leave this line blank\")","v":"Leave this line blank"},{"$nulls":11},"",null,"","No",null,null,"No"]
[null,{"$f":"IF('Step 2 PO Calculator'!B2881=\"Yes\",VLOOKUP('drop down'!$A$2,'Step 2 PO Calculator'!B2881:D3416,3,FALSE),\"Leave this line blank\")","v":"Leave this line blank"},{"$nulls":11},"",null,"","No",null,null,"No"]
[null,{"$f":"IF('Step 2 PO Calculator'!B2882=\"Yes\",VLOOKUP('drop down'!$A$2,'Step 2 PO Calculator'!B2882:D3417,3,FALSE),\"Leave this line blank\")","v":"Leave this line blank"},{"$nulls":11},"",null,"","No",null,null,"No"]
[null,{"$f":"IF('Step 2 PO Calculator'!B2883=\"Yes\",VLOOKUP('drop down'!$A$2,'Step 2 PO Calculator'!B2883:D3418,3,FALSE),\"Leave this line blank\")","v":"Leave this line blank"},{"$nulls":11},"",null,"","No",null,null,"No"]
[null,{"$f":"IF('Step 2 PO Calculator'!B2884=\"Yes\",VLOOKUP('drop down'!$A$2,'Step 2 PO Calculator'!B2884:D3419,3,FALSE),\"Leave this line blank\")","v":"Leave this line blank"},{"$nulls":11},"",null,"","No",null,null,"No"]
[null,{"$f":"IF('Step 2 PO Calculator'!B2885=\"Yes\",VLOOKUP('drop down'!$A$2,'Step 2 PO Calculator'!B2885:D3420,3,FALSE),\"Leave this line blank\")","v":"Leave this line blank"},{"$nulls":11},"",null,"","No",null,null,"No"]
[null,{"$f":"IF('Step 2 PO Calculator'!B2886=\"Yes\",VLOOKUP('drop down'!$A$2,'Step 2 PO Calculator'!B2886:D3421,3,FALSE),\"Leave this line blank\")","v":"Leave this line blank"},{"$nulls":11},"",null,"","No",null,null,"No"]
[null,{"$f":"IF('Step 2 PO Calculator'!B2887=\"Yes\",VLOOKUP('drop down'!$A$2,'Step 2 PO Calculator'!B2887:D3422,3,FALSE),\"Leave this line blank\")","v":"Leave this line blank"},{"$nulls":11},"",null,"","No",null,null,"No"]
[null,{"$f":"IF('Step 2 PO Calculator'!B2888=\"Yes\",VLOOKUP('drop down'!$A$2,'Step 2 PO Calculator'!B2888:D3423,3,FALSE),\"Leave this line blank\")","v":"Leave this line blank"},{"$nulls":11},"",null,"","No",null,null,"No"]
[null,{"$f":"IF('Step 2 PO Calculator'!B2889=\"Yes\",VLOOKUP('drop down'!$A$2,'Step 2 PO Calculator'!B2889:D3424,3,FALSE),\"Leave this line blank\")","v":"Leave this line blank"},{"$nulls":11},"",null,"","No",null,null,"No"]
[null,{"$f":"IF('Step 2 PO Calculator'!B2890=\"Yes\",VLOOKUP('drop down'!$A$2,'Step 2 PO Calculator'!B2890:D3425,3,FALSE),\"Leave this line blank\")","v":"Leave this line blank"},{"$nulls":11},"",null,"","No",null,null,"No"]
[null,{"$f":"IF('Step 2 PO Calculator'!B2891=\"Yes\",VLOOKUP('drop down'!$A$2,'Step 2 PO Calculator'!B2891:D3426,3,FALSE),\"Leave this line blank\")","v":"Leave this line blank"},{"$nulls":11},{"$f":"IF(I1422=\"\",\"\",IF(_xlfn.DAYS(I$8,I1422)>=180,\"X\",\"\"))","v":""},null,{"$f":"IF(K1422=\"\",\"\",IF(_xlfn.DAYS(K1422,I$8)<0,\"\",\"X\"))","v":""},{"$f":"IF(AND(N1422=\"X\",P1422=\"X\"),\"Yes\",\"No\")","v":"No"},null,null,{"$f":"IF(AND(N1422=\"X\",P1422=\"X\",R1422=\"Yes\"),\"Yes\",\"No\")","v":"No"}]
[null,{"$f":"IF('Step 2 PO Calculator'!B2892=\"Yes\",VLOOKUP('drop down'!$A$2,'Step 2 PO Calculator'!B2892:D3427,3,FALSE),\"Leave this line blank\")","v":"Leave this line blank"},{"$nulls":11},"",null,"","No",null,null,"No"]
[null,{"$f":"IF('Step 2 PO Calculator'!B2893=\"Yes\",VLOOKUP('drop down'!$A$2,'Step 2 PO Calculator'!B2893:D3428,3,FALSE),\"Leave this line blank\")","v":"Leave this line blank"},{"$nulls":11},"",null,"","No",null,null,"No"]
[null,{"$f":"IF('Step 2 PO Calculator'!B2894=\"Yes\",VLOOKUP('drop down'!$A$2,'Step 2 PO Calculator'!B2894:D3429,3,FALSE),\"Leave this line blank\")","v":"Leave this line blank"},{"$nulls":11},"",null,"","No",null,null,"No"]
[null,{"$f":"IF('Step 2 PO Calculator'!B2895=\"Yes\",VLOOKUP('drop down'!$A$2,'Step 2 PO Calculator'!B2895:D3430,3,FALSE),\"Leave this line blank\")","v":"Leave this line blank"},{"$nulls":11},"",null,"","No",null,null,"No"]
[null,{"$f":"IF('Step 2 PO Calculator'!B2896=\"Yes\",VLOOKUP('drop down'!$A$2,'Step 2 PO Calculator'!B2896:D3431,3,FALSE),\"Leave this line blank\")","v":"Leave this line blank"},{"$nulls":11},"",null,"","No",null,null,"No"]
[null,{"$f":"IF('Step 2 PO Calculator'!B2897=\"Yes\",VLOOKUP('drop down'!$A$2,'Step 2 PO Calculator'!B2897:D3432,3,FALSE),\"Leave this line blank\")","v":"Leave this line blank"},{"$nulls":11},"",null,"","No",null,null,"No"]
[null,{"$f":"IF('Step 2 PO Calculator'!B2898=\"Yes\",VLOOKUP('drop down'!$A$2,'Step 2 PO Calculator'!B2898:D3433,3,FALSE),\"Leave this line blank\")","v":"Leave this line blank"},{"$nulls":11},"",null,"","No",null,null,"No"]
[null,{"$f":"IF('Step 2 PO Calculator'!B2899=\"Yes\",VLOOKUP('drop down'!$A$2,'Step 2 PO Calculator'!B2899:D3434,3,FALSE),\"Leave this line blank\")","v":"Leave this line blank"},{"$nulls":11},"",null,"","No",null,null,"No"]
[null,{"$f":"IF('Step 2 PO Calculator'!B2900=\"Yes\",VLOOKUP('drop down'!$A$2,'Step 2 PO Calculator'!B2900:D3435,3,FALSE),\"Leave this line blank\")","v":"Leave this line blank"},{"$nulls":11},"",null,"","No",null,null,"No"]
[null,{"$f":"IF('Step 2 PO Calculator'!B2901=\"Yes\",VLOOKUP('drop down'!$A$2,'Step 2 PO Calculator'!B2901:D3436,3,FALSE),\"Leave this line blank\")","v":"Leave this line blank"},{"$nulls":11},"",null,"","No",null,null,"No"]
[null,{"$f":"IF('Step 2 PO Calculator'!B2902=\"Yes\",VLOOKUP('drop down'!$A$2,'Step 2 PO Calculator'!B2902:D3437,3,FALSE),\"Leave this line blank\")","v":"Leave this line blank"},{"$nulls":11},"",null,"","No",null,null,"No"]
[null,{"$f":"IF('Step 2 PO Calculator'!B2903=\"Yes\",VLOOKUP('drop down'!$A$2,'Step 2 PO Calculator'!B2903:D3438,3,FALSE),\"Leave this line blank\")","v":"Leave this line blank"},{"$nulls":11},"",null,"","No",null,null,"No"]
[null,{"$f":"IF('Step 2 PO Calculator'!B2904=\"Yes\",VLOOKUP('drop down'!$A$2,'Step 2 PO Calculator'!B2904:D3439,3,FALSE),\"Leave this line blank\")","v":"Leave this line blank"},{"$nulls":11},"",null,"","No",null,null,"No"]
[null,{"$f":"IF('Step 2 PO Calculator'!B2905=\"Yes\",VLOOKUP('drop down'!$A$2,'Step 2 PO Calculator'!B2905:D3440,3,FALSE),\"Leave this line blank\")","v":"Leave this line blank"},{"$nulls":11},"",null,"","No",null,null,"No"]
[null,{"$f":"IF('Step 2 PO Calculator'!B2906=\"Yes\",VLOOKUP('drop down'!$A$2,'Step 2 PO Calculator'!B2906:D3441,3,FALSE),\"Leave this line blank\")","v":"Leave this line blank"},{"$nulls":11},"",null,"","No",null,null,"No"]
[null,{"$f":"IF('Step 2 PO Calculator'!B2907=\"Yes\",VLOOKUP('drop down'!$A$2,'Step 2 PO Calculator'!B2907:D3442,3,FALSE),\"Leave this line blank\")","v":"Leave this line blank"},{"$nulls":11},"",null,"","No",null,null,"No"]
[null,{"$f":"IF('Step 2 PO Calculator'!B2908=\"Yes\",VLOOKUP('drop down'!$A$2,'Step 2 PO Calculator'!B2908:D3443,3,FALSE),\"Leave this line blank\")","v":"Leave this line blank"},{"$nulls":11},"",null,"","No",null,null,"No"]
[null,{"$f":"IF('Step 2 PO Calculator'!B2909=\"Yes\",VLOOKUP('drop down'!$A$2,'Step 2 PO Calculator'!B2909:D3444,3,FALSE),\"Leave this line blank\")","v":"Leave this line blank"},{"$nulls":11},"",null,"","No",null,null,"No"]
[null,{"$f":"IF('Step 2 PO Calculator'!B2910=\"Yes\",VLOOKUP('drop down'!$A$2,'Step 2 PO Calculator'!B2910:D3445,3,FALSE),\"Leave this line blank\")","v":"Leave this line blank"},{"$nulls":11},"",null,"","No",null,null,"No"]
[null,{"$f":"IF('Step 2 PO Calculator'!B2911=\"Yes\",VLOOKUP('drop down'!$A$2,'Step 2 PO Calculator'!B2911:D3446,3,FALSE),\"Leave this line blank\")","v":"Leave this line blank"},{"$nulls":11},"",null,"","No",null,null,"No"]
[null,{"$f":"IF('Step 2 PO Calculator'!B2912=\"Yes\",VLOOKUP('drop down'!$A$2,'Step 2 PO Calculator'!B2912:D3447,3,FALSE),\"Leave this line blank\")","v":"Leave this line blank"},{"$nulls":11},"",null,"","No",null,null,"No"]
[null,{"$f":"IF('Step 2 PO Calculator'!B2913=\"Yes\",VLOOKUP('drop down'!$A$2,'Step 2 PO Calculator'!B2913:D3448,3,FALSE),\"Leave this line blank\")","v":"Leave this line blank"},{"$nulls":11},"",null,"","No",null,null,"No"]
[null,{"$f":"IF('Step 2 PO Calculator'!B2914=\"Yes\",VLOOKUP('drop down'!$A$2,'Step 2 PO Calculator'!B2914:D3449,3,FALSE),\"Leave this line blank\")","v":"Leave this line blank"},{"$nulls":11},"",null,"","No",null,null,"No"]
[null,{"$f":"IF('Step 2 PO Calculator'!B2915=\"Yes\",VLOOKUP('drop down'!$A$2,'Step 2 PO Calculator'!B2915:D3450,3,FALSE),\"Leave this line blank\")","v":"Leave this line blank"},{"$nulls":11},"",null,"","No",null,null,"No"]
[null,{"$f":"IF('Step 2 PO Calculator'!B2916=\"Yes\",VLOOKUP('drop down'!$A$2,'Step 2 PO Calculator'!B2916:D3451,3,FALSE),\"Leave this line blank\")","v":"Leave this line blank"},{"$nulls":11},"",null,"","No",null,null,"No"]
[null,{"$f":"IF('Step 2 PO Calculator'!B2917=\"Yes\",VLOOKUP('drop down'!$A$2,'Step 2 PO Calculator'!B2917:D3452,3,FALSE),\"Leave this line blank\")","v":"Leave this line blank"},{"$nulls":11},"",null,"","No",null,null,"No"]
[null,{"$f":"IF('Step 2 PO Calculator'!B2918=\"Yes\",VLOOKUP('drop down'!$A$2,'Step 2 PO Calculator'!B2918:D3453,3,FALSE),\"Leave this line blank\")","v":"Leave this line blank"},{"$nulls":11},"",null,"","No",null,null,"No"]
[null,{"$f":"IF('Step 2 PO Calculator'!B2919=\"Yes\",VLOOKUP('drop down'!$A$2,'Step 2 PO Calculator'!B2919:D3454,3,FALSE),\"Leave this line blank\")","v":"Leave this line blank"},{"$nulls":11},"",null,"","No",null,null,"No"]
[null,{"$f":"IF('Step 2 PO Calculator'!B2920=\"Yes\",VLOOKUP('drop down'!$A$2,'Step 2 PO Calculator'!B2920:D3455,3,FALSE),\"Leave this line blank\")","v":"Leave this line blank"},{"$nulls":11},"",null,"","No",null,null,"No"]
[null,{"$f":"IF('Step 2 PO Calculator'!B2921=\"Yes\",VLOOKUP('drop down'!$A$2,'Step 2 PO Calculator'!B2921:D3456,3,FALSE),\"Leave this line blank\")","v":"Leave this line blank"},{"$nulls":11},"",null,"","No",null,null,"No"]
[null,{"$f":"IF('Step 2 PO Calculator'!B2922=\"Yes\",VLOOKUP('drop down'!$A$2,'Step 2 PO Calculator'!B2922:D3457,3,FALSE),\"Leave this line blank\")","v":"Leave this line blank"},{"$nulls":11},"",null,"","No",null,null,"No"]
[null,{"$f":"IF('Step 2 PO Calculator'!B2923=\"Yes\",VLOOKUP('drop down'!$A$2,'Step 2 PO Calculator'!B2923:D3458,3,FALSE),\"Leave this line blank\")","v":"Leave this line blank"},{"$nulls":11},"",null,"","No",null,null,"No"]
[null,{"$f":"IF('Step 2 PO Calculator'!B2924=\"Yes\",VLOOKUP('drop down'!$A$2,'Step 2 PO Calculator'!B2924:D3459,3,FALSE),\"Leave this line blank\")","v":"Leave this line blank"},{"$nulls":11},"",null,"","No",null,null,"No"]
[null,{"$f":"IF('Step 2 PO Calculator'!B2925=\"Yes\",VLOOKUP('drop down'!$A$2,'Step 2 PO Calculator'!B2925:D3460,3,FALSE),\"Leave this line blank\")","v":"Leave this line blank"},{"$nulls":11},"",null,"","No",null,null,"No"]
[null,{"$f":"IF('Step 2 PO Calculator'!B2926=\"Yes\",VLOOKUP('drop down'!$A$2,'Step 2 PO Calculator'!B2926:D3461,3,FALSE),\"Leave this line blank\")","v":"Leave this line blank"},{"$nulls":11},"",null,"","No",null,null,"No"]
[null,{"$f":"IF('Step 2 PO Calculator'!B2927=\"Yes\",VLOOKUP('drop down'!$A$2,'Step 2 PO Calculator'!B2927:D3462,3,FALSE),\"Leave this line blank\")","v":"Leave this line blank"},{"$nulls":11},"",null,"","No",null,null,"No"]
[null,{"$f":"IF('Step 2 PO Calculator'!B2928=\"Yes\",VLOOKUP('drop down'!$A$2,'Step 2 PO Calculator'!B2928:D3463,3,FALSE),\"Leave this line blank\")","v":"Leave this line blank"},{"$nulls":11},"",null,"","No",null,null,"No"]
[null,{"$f":"IF('Step 2 PO Calculator'!B2929=\"Yes\",VLOOKUP('drop down'!$A$2,'Step 2 PO Calculator'!B2929:D3464,3,FALSE),\"Leave this line blank\")","v":"Leave this line blank"},{"$nulls":11},"",null,"","No",null,null,"No"]
[null,{"$f":"IF('Step 2 PO Calculator'!B2930=\"Yes\",VLOOKUP('drop down'!$A$2,'Step 2 PO Calculator'!B2930:D3465,3,FALSE),\"Leave this line blank\")","v":"Leave this line blank"},{"$nulls":11},"",null,"","No",null,null,"No"]
[null,{"$f":"IF('Step 2 PO Calculator'!B2931=\"Yes\",VLOOKUP('drop down'!$A$2,'Step 2 PO Calculator'!B2931:D3466,3,FALSE),\"Leave this line blank\")","v":"Leave this line blank"},{"$nulls":11},"",null,"","No",null,null,"No"]
[null,{"$f":"IF('Step 2 PO Calculator'!B2932=\"Yes\",VLOOKUP('drop down'!$A$2,'Step 2 PO Calculator'!B2932:D3467,3,FALSE),\"Leave this line blank\")","v":"Leave this line blank"},{"$nulls":11},"",null,"","No",null,null,"No"]
[null,{"$f":"IF('Step 2 PO Calculator'!B2933=\"Yes\",VLOOKUP('drop down'!$A$2,'Step 2 PO Calculator'!B2933:D3468,3,FALSE),\"Leave this line blank\")","v":"Leave this line blank"},{"$nulls":11},"",null,"","No",null,null,"No"]
[null,{"$f":"IF('Step 2 PO Calculator'!B2934=\"Yes\",VLOOKUP('drop down'!$A$2,'Step 2 PO Calculator'!B2934:D3469,3,FALSE),\"Leave this line blank\")","v":"Leave this line blank"},{"$nulls":11},"",null,"","No",null,null,"No"]
[null,{"$f":"IF('Step 2 PO Calculator'!B2935=\"Yes\",VLOOKUP('drop down'!$A$2,'Step 2 PO Calculator'!B2935:D3470,3,FALSE),\"Leave this line blank\")","v":"Leave this line blank"},{"$nulls":11},"",null,"","No",null,null,"No"]
[null,{"$f":"IF('Step 2 PO Calculator'!B2936=\"Yes\",VLOOKUP('drop down'!$A$2,'Step 2 PO Calculator'!B2936:D3471,3,FALSE),\"Leave this line blank\")","v":"Leave this line blank"},{"$nulls":11},"",null,"","No",null,null,"No"]
[null,{"$f":"IF('Step 2 PO Calculator'!B2937=\"Yes\",VLOOKUP('drop down'!$A$2,'Step 2 PO Calculator'!B2937:D3472,3,FALSE),\"Leave this line blank\")","v":"Leave this line blank"},{"$nulls":11},"",null,"","No",null,null,"No"]
[null,{"$f":"IF('Step 2 PO Calculator'!B2938=\"Yes\",VLOOKUP('drop down'!$A$2,'Step 2 PO Calculator'!B2938:D3473,3,FALSE),\"Leave this line blank\")","v":"Leave this line blank"},{"$nulls":11},"",null,"","No",null,null,"No"]
[null,{"$f":"IF('Step 2 PO Calculator'!B2939=\"Yes\",VLOOKUP('drop down'!$A$2,'Step 2 PO Calculator'!B2939:D3474,3,FALSE),\"Leave this line blank\")","v":"Leave this line blank"},{"$nulls":11},"",null,"","No",null,null,"No"]
[null,{"$f":"IF('Step 2 PO Calculator'!B2940=\"Yes\",VLOOKUP('drop down'!$A$2,'Step 2 PO Calculator'!B2940:D3475,3,FALSE),\"Leave this line blank\")","v":"Leave this line blank"},{"$nulls":11},"",null,"","No",null,null,"No"]
[null,{"$f":"IF('Step 2 PO Calculator'!B2941=\"Yes\",VLOOKUP('drop down'!$A$2,'Step 2 PO Calculator'!B2941:D3476,3,FALSE),\"Leave this line blank\")","v":"Leave this line blank"},{"$nulls":11},"",null,"","No",null,null,"No"]
[null,{"$f":"IF('Step 2 PO Calculator'!B2942=\"Yes\",VLOOKUP('drop down'!$A$2,'Step 2 PO Calculator'!B2942:D3477,3,FALSE),\"Leave this line blank\")","v":"Leave this line blank"},{"$nulls":11},"",null,"","No",null,null,"No"]
[null,{"$f":"IF('Step 2 PO Calculator'!B2943=\"Yes\",VLOOKUP('drop down'!$A$2,'Step 2 PO Calculator'!B2943:D3478,3,FALSE),\"Leave this line blank\")","v":"Leave this line blank"},{"$nulls":11},"",null,"","No",null,null,"No"]
[null,{"$f":"IF('Step 2 PO Calculator'!B2944=\"Yes\",VLOOKUP('drop down'!$A$2,'Step 2 PO Calculator'!B2944:D3479,3,FALSE),\"Leave this line blank\")","v":"Leave this line blank"},{"$nulls":11},"",null,"","No",null,null,"No"]
[null,{"$f":"IF('Step 2 PO Calculator'!B2945=\"Yes\",VLOOKUP('drop down'!$A$2,'Step 2 PO Calculator'!B2945:D3480,3,FALSE),\"Leave this line blank\")","v":"Leave this line blank"},{"$nulls":11},"",null,"","No",null,null,"No"]
[null,{"$f":"IF('Step 2 PO Calculator'!B2946=\"Yes\",VLOOKUP('drop down'!$A$2,'Step 2 PO Calculator'!B2946:D3481,3,FALSE),\"Leave this line blank\")","v":"Leave this line blank"},{"$nulls":11},"",null,"","No",null,null,"No"]
[null,{"$f":"IF('Step 2 PO Calculator'!B2947=\"Yes\",VLOOKUP('drop down'!$A$2,'Step 2 PO Calculator'!B2947:D3482,3,FALSE),\"Leave this line blank\")","v":"Leave this line blank"},{"$nulls":11},"",null,"","No",null,null,"No"]
[null,{"$f":"IF('Step 2 PO Calculator'!B2948=\"Yes\",VLOOKUP('drop down'!$A$2,'Step 2 PO Calculator'!B2948:D3483,3,FALSE),\"Leave this line blank\")","v":"Leave this line blank"},{"$nulls":11},"",null,"","No",null,null,"No"]
[null,{"$f":"IF('Step 2 PO Calculator'!B2949=\"Yes\",VLOOKUP('drop down'!$A$2,'Step 2 PO Calculator'!B2949:D3484,3,FALSE),\"Leave this line blank\")","v":"Leave this line blank"},{"$nulls":11},"",null,"","No",null,null,"No"]
[null,{"$f":"IF('Step 2 PO Calculator'!B2950=\"Yes\",VLOOKUP('drop down'!$A$2,'Step 2 PO Calculator'!B2950:D3485,3,FALSE),\"Leave this line blank\")","v":"Leave this line blank"},{"$nulls":11},"",null,"","No",null,null,"No"]
[null,{"$f":"IF('Step 2 PO Calculator'!B2951=\"Yes\",VLOOKUP('drop down'!$A$2,'Step 2 PO Calculator'!B2951:D3486,3,FALSE),\"Leave this line blank\")","v":"Leave this line blank"},{"$nulls":11},"",null,"","No",null,null,"No"]
[null,{"$f":"IF('Step 2 PO Calculator'!B2952=\"Yes\",VLOOKUP('drop down'!$A$2,'Step 2 PO Calculator'!B2952:D3487,3,FALSE),\"Leave this line blank\")","v":"Leave this line blank"},{"$nulls":11},"",null,"","No",null,null,"No"]
[null,{"$f":"IF('Step 2 PO Calculator'!B2953=\"Yes\",VLOOKUP('drop down'!$A$2,'Step 2 PO Calculator'!B2953:D3488,3,FALSE),\"Leave this line blank\")","v":"Leave this line blank"},{"$nulls":11},"",null,"","No",null,null,"No"]
[null,{"$f":"IF('Step 2 PO Calculator'!B2954=\"Yes\",VLOOKUP('drop down'!$A$2,'Step 2 PO Calculator'!B2954:D3489,3,FALSE),\"Leave this line blank\")","v":"Leave this line blank"},{"$nulls":11},"",null,"","No",null,null,"No"]
[null,{"$f":"IF('Step 2 PO Calculator'!B2955=\"Yes\",VLOOKUP('drop down'!$A$2,'Step 2 PO Calculator'!B2955:D3490,3,FALSE),\"Leave this line blank\")","v":"Leave this line blank"},{"$nulls":11},{"$f":"IF(I1486=\"\",\"\",IF(_xlfn.DAYS(I$8,I1486)>=180,\"X\",\"\"))","v":""},null,{"$f":"IF(K1486=\"\",\"\",IF(_xlfn.DAYS(K1486,I$8)<0,\"\",\"X\"))","v":""},{"$f":"IF(AND(N1486=\"X\",P1486=\"X\"),\"Yes\",\"No\")","v":"No"},null,null,{"$f":"IF(AND(N1486=\"X\",P1486=\"X\",R1486=\"Yes\"),\"Yes\",\"No\")","v":"No"}]
[null,{"$f":"IF('Step 2 PO Calculator'!B2956=\"Yes\",VLOOKUP('drop down'!$A$2,'Step 2 PO Calculator'!B2956:D3491,3,FALSE),\"Leave this line blank\")","v":"Leave this line blank"},{"$nulls":11},"",null,"","No",null,null,"No"]
[null,{"$f":"IF('Step 2 PO Calculator'!B2957=\"Yes\",VLOOKUP('drop down'!$A$2,'Step 2 PO Calculator'!B2957:D3492,3,FALSE),\"Leave this line blank\")","v":"Leave this line blank"},{"$nulls":11},"",null,"","No",null,null,"No"]
[null,{"$f":"IF('Step 2 PO Calculator'!B2958=\"Yes\",VLOOKUP('drop down'!$A$2,'Step 2 PO Calculator'!B2958:D3493,3,FALSE),\"Leave this line blank\")","v":"Leave this line blank"},{"$nulls":11},"",null,"","No",null,null,"No"]
[null,{"$f":"IF('Step 2 PO Calculator'!B2959=\"Yes\",VLOOKUP('drop down'!$A$2,'Step 2 PO Calculator'!B2959:D3494,3,FALSE),\"Leave this line blank\")","v":"Leave this line blank"},{"$nulls":11},"",null,"","No",null,null,"No"]
[null,{"$f":"IF('Step 2 PO Calculator'!B2960=\"Yes\",VLOOKUP('drop down'!$A$2,'Step 2 PO Calculator'!B2960:D3495,3,FALSE),\"Leave this line blank\")","v":"Leave this line blank"},{"$nulls":11},"",null,"","No",null,null,"No"]
[null,{"$f":"IF('Step 2 PO Calculator'!B2961=\"Yes\",VLOOKUP('drop down'!$A$2,'Step 2 PO Calculator'!B2961:D3496,3,FALSE),\"Leave this line blank\")","v":"Leave this line blank"},{"$nulls":11},"",null,"","No",null,null,"No"]
[null,{"$f":"IF('Step 2 PO Calculator'!B2962=\"Yes\",VLOOKUP('drop down'!$A$2,'Step 2 PO Calculator'!B2962:D3497,3,FALSE),\"Leave this line blank\")","v":"Leave this line blank"},{"$nulls":11},"",null,"","No",null,null,"No"]
[null,{"$f":"IF('Step 2 PO Calculator'!B2963=\"Yes\",VLOOKUP('drop down'!$A$2,'Step 2 PO Calculator'!B2963:D3498,3,FALSE),\"Leave this line blank\")","v":"Leave this line blank"},{"$nulls":11},"",null,"","No",null,null,"No"]
[null,{"$f":"IF('Step 2 PO Calculator'!B2964=\"Yes\",VLOOKUP('drop down'!$A$2,'Step 2 PO Calculator'!B2964:D3499,3,FALSE),\"Leave this line blank\")","v":"Leave this line blank"},{"$nulls":11},"",null,"","No",null,null,"No"]
[null,{"$f":"IF('Step 2 PO Calculator'!B2965=\"Yes\",VLOOKUP('drop down'!$A$2,'Step 2 PO Calculator'!B2965:D3500,3,FALSE),\"Leave this line blank\")","v":"Leave this line blank"},{"$nulls":11},"",null,"","No",null,null,"No"]
[null,{"$f":"IF('Step 2 PO Calculator'!B2966=\"Yes\",VLOOKUP('drop down'!$A$2,'Step 2 PO Calculator'!B2966:D3501,3,FALSE),\"Leave this line blank\")","v":"Leave this line blank"},{"$nulls":11},"",null,"","No",null,null,"No"]
[null,{"$f":"IF('Step 2 PO Calculator'!B2967=\"Yes\",VLOOKUP('drop down'!$A$2,'Step 2 PO Calculator'!B2967:D3502,3,FALSE),\"Leave this line blank\")","v":"Leave this line blank"},{"$nulls":11},"",null,"","No",null,null,"No"]
[null,{"$f":"IF('Step 2 PO Calculator'!B2968=\"Yes\",VLOOKUP('drop down'!$A$2,'Step 2 PO Calculator'!B2968:D3503,3,FALSE),\"Leave this line blank\")","v":"Leave this line blank"},{"$nulls":11},"",null,"","No",null,null,"No"]
[null,{"$f":"IF('Step 2 PO Calculator'!B2969=\"Yes\",VLOOKUP('drop down'!$A$2,'Step 2 PO Calculator'!B2969:D3504,3,FALSE),\"Leave this line blank\")","v":"Leave this line blank"},{"$nulls":11},"",null,"","No",null,null,"No"]
[null,{"$f":"IF('Step 2 PO Calculator'!B2970=\"Yes\",VLOOKUP('drop down'!$A$2,'Step 2 PO Calculator'!B2970:D3505,3,FALSE),\"Leave this line blank\")","v":"Leave this line blank"},{"$nulls":11},"",null,"","No",null,null,"No"]
[null,{"$f":"IF('Step 2 PO Calculator'!B2971=\"Yes\",VLOOKUP('drop down'!$A$2,'Step 2 PO Calculator'!B2971:D3506,3,FALSE),\"Leave this line blank\")","v":"Leave this line blank"},{"$nulls":11},"",null,"","No",null,null,"No"]
[null,{"$f":"IF('Step 2 PO Calculator'!B2972=\"Yes\",VLOOKUP('drop down'!$A$2,'Step 2 PO Calculator'!B2972:D3507,3,FALSE),\"Leave this line blank\")","v":"Leave this line blank"},{"$nulls":11},"",null,"","No",null,null,"No"]
[null,{"$f":"IF('Step 2 PO Calculator'!B2973=\"Yes\",VLOOKUP('drop down'!$A$2,'Step 2 PO Calculator'!B2973:D3508,3,FALSE),\"Leave this line blank\")","v":"Leave this line blank"},{"$nulls":11},"",null,"","No",null,null,"No"]
[null,{"$f":"IF('Step 2 PO Calculator'!B2974=\"Yes\",VLOOKUP('drop down'!$A$2,'Step 2 PO Calculator'!B2974:D3509,3,FALSE),\"Leave this line blank\")","v":"Leave this line blank"},{"$nulls":11},"",null,"","No",null,null,"No"]
[null,{"$f":"IF('Step 2 PO Calculator'!B2975=\"Yes\",VLOOKUP('drop down'!$A$2,'Step 2 PO Calculator'!B2975:D3510,3,FALSE),\"Leave this line blank\")","v":"Leave this line blank"},{"$nulls":11},"",null,"","No",null,null,"No"]
[null,{"$f":"IF('Step 2 PO Calculator'!B2976=\"Yes\",VLOOKUP('drop down'!$A$2,'Step 2 PO Calculator'!B2976:D3511,3,FALSE),\"Leave this line blank\")","v":"Leave this line blank"},{"$nulls":11},"",null,"","No",null,null,"No"]
[null,{"$f":"IF('Step 2 PO Calculator'!B2977=\"Yes\",VLOOKUP('drop down'!$A$2,'Step 2 PO Calculator'!B2977:D3512,3,FALSE),\"Leave this line blank\")","v":"Leave this line blank"},{"$nulls":11},"",null,"","No",null,null,"No"]
[null,{"$f":"IF('Step 2 PO Calculator'!B2978=\"Yes\",VLOOKUP('drop down'!$A$2,'Step 2 PO Calculator'!B2978:D3513,3,FALSE),\"Leave this line blank\")","v":"Leave this line blank"},{"$nulls":11},"",null,"","No",null,null,"No"]
[null,{"$f":"IF('Step 2 PO Calculator'!B2979=\"Yes\",VLOOKUP('drop down'!$A$2,'Step 2 PO Calculator'!B2979:D3514,3,FALSE),\"Leave this line blank\")","v":"Leave this line blank"},{"$nulls":11},"",null,"","No",null,null,"No"]
[null,{"$f":"IF('Step 2 PO Calculator'!B2980=\"Yes\",VLOOKUP('drop down'!$A$2,'Step 2 PO Calculator'!B2980:D3515,3,FALSE),\"Leave this line blank\")","v":"Leave this line blank"},{"$nulls":11},"",null,"","No",null,null,"No"]
[null,{"$f":"IF('Step 2 PO Calculator'!B2981=\"Yes\",VLOOKUP('drop down'!$A$2,'Step 2 PO Calculator'!B2981:D3516,3,FALSE),\"Leave this line blank\")","v":"Leave this line blank"},{"$nulls":11},"",null,"","No",null,null,"No"]
[null,{"$f":"IF('Step 2 PO Calculator'!B2982=\"Yes\",VLOOKUP('drop down'!$A$2,'Step 2 PO Calculator'!B2982:D3517,3,FALSE),\"Leave this line blank\")","v":"Leave this line blank"},{"$nulls":11},"",null,"","No",null,null,"No"]
[null,{"$f":"IF('Step 2 PO Calculator'!B2983=\"Yes\",VLOOKUP('drop down'!$A$2,'Step 2 PO Calculator'!B2983:D3518,3,FALSE),\"Leave this line blank\")","v":"Leave this line blank"},{"$nulls":11},"",null,"","No",null,null,"No"]
[null,{"$f":"IF('Step 2 PO Calculator'!B2984=\"Yes\",VLOOKUP('drop down'!$A$2,'Step 2 PO Calculator'!B2984:D3519,3,FALSE),\"Leave this line blank\")","v":"Leave this line blank"},{"$nulls":11},"",null,"","No",null,null,"No"]
[null,{"$f":"IF('Step 2 PO Calculator'!B2985=\"Yes\",VLOOKUP('drop down'!$A$2,'Step 2 PO Calculator'!B2985:D3520,3,FALSE),\"Leave this line blank\")","v":"Leave this line blank"},{"$nulls":11},"",null,"","No",null,null,"No"]
[null,{"$f":"IF('Step 2 PO Calculator'!B2986=\"Yes\",VLOOKUP('drop down'!$A$2,'Step 2 PO Calculator'!B2986:D3521,3,FALSE),\"Leave this line blank\")","v":"Leave this line blank"},{"$nulls":11},"",null,"","No",null,null,"No"]
[null,{"$f":"IF('Step 2 PO Calculator'!B2987=\"Yes\",VLOOKUP('drop down'!$A$2,'Step 2 PO Calculator'!B2987:D3522,3,FALSE),\"Leave this line blank\")","v":"Leave this line blank"},{"$nulls":11},"",null,"","No",null,null,"No"]
[null,{"$f":"IF('Step 2 PO Calculator'!B2988=\"Yes\",VLOOKUP('drop down'!$A$2,'Step 2 PO Calculator'!B2988:D3523,3,FALSE),\"Leave this line blank\")","v":"Leave this line blank"},{"$nulls":11},"",null,"","No",null,null,"No"]
[null,{"$f":"IF('Step 2 PO Calculator'!B2989=\"Yes\",VLOOKUP('drop down'!$A$2,'Step 2 PO Calculator'!B2989:D3524,3,FALSE),\"Leave this line blank\")","v":"Leave this line blank"},{"$nulls":11},"",null,"","No",null,null,"No"]
[null,{"$f":"IF('Step 2 PO Calculator'!B2990=\"Yes\",VLOOKUP('drop down'!$A$2,'Step 2 PO Calculator'!B2990:D3525,3,FALSE),\"Leave this line blank\")","v":"Leave this line blank"},{"$nulls":11},"",null,"","No",null,null,"No"]
[null,{"$f":"IF('Step 2 PO Calculator'!B2991=\"Yes\",VLOOKUP('drop down'!$A$2,'Step 2 PO Calculator'!B2991:D3526,3,FALSE),\"Leave this line blank\")","v":"Leave this line blank"},{"$nulls":11},"",null,"","No",null,null,"No"]
[null,{"$f":"IF('Step 2 PO Calculator'!B2992=\"Yes\",VLOOKUP('drop down'!$A$2,'Step 2 PO Calculator'!B2992:D3527,3,FALSE),\"Leave this line blank\")","v":"Leave this line blank"},{"$nulls":11},"",null,"","No",null,null,"No"]
[null,{"$f":"IF('Step 2 PO Calculator'!B2993=\"Yes\",VLOOKUP('drop down'!$A$2,'Step 2 PO Calculator'!B2993:D3528,3,FALSE),\"Leave this line blank\")","v":"Leave this line blank"},{"$nulls":11},"",null,"","No",null,null,"No"]
[null,{"$f":"IF('Step 2 PO Calculator'!B2994=\"Yes\",VLOOKUP('drop down'!$A$2,'Step 2 PO Calculator'!B2994:D3529,3,FALSE),\"Leave this line blank\")","v":"Leave this line blank"},{"$nulls":11},"",null,"","No",null,null,"No"]
[null,{"$f":"IF('Step 2 PO Calculator'!B2995=\"Yes\",VLOOKUP('drop down'!$A$2,'Step 2 PO Calculator'!B2995:D3530,3,FALSE),\"Leave this line blank\")","v":"Leave this line blank"},{"$nulls":11},"",null,"","No",null,null,"No"]
[null,{"$f":"IF('Step 2 PO Calculator'!B2996=\"Yes\",VLOOKUP('drop down'!$A$2,'Step 2 PO Calculator'!B2996:D3531,3,FALSE),\"Leave this line blank\")","v":"Leave this line blank"},{"$nulls":11},"",null,"","No",null,null,"No"]
[null,{"$f":"IF('Step 2 PO Calculator'!B2997=\"Yes\",VLOOKUP('drop down'!$A$2,'Step 2 PO Calculator'!B2997:D3532,3,FALSE),\"Leave this line blank\")","v":"Leave this line blank"},{"$nulls":11},"",null,"","No",null,null,"No"]
[null,{"$f":"IF('Step 2 PO Calculator'!B2998=\"Yes\",VLOOKUP('drop down'!$A$2,'Step 2 PO Calculator'!B2998:D3533,3,FALSE),\"Leave this line blank\")","v":"Leave this line blank"},{"$nulls":11},"",null,"","No",null,null,"No"]
[null,{"$f":"IF('Step 2 PO Calculator'!B2999=\"Yes\",VLOOKUP('drop down'!$A$2,'Step 2 PO Calculator'!B2999:D3534,3,FALSE),\"Leave this line blank\")","v":"Leave this line blank"},{"$nulls":11},"",null,"","No",null,null,"No"]
[null,{"$f":"IF('Step 2 PO Calculator'!B3000=\"Yes\",VLOOKUP('drop down'!$A$2,'Step 2 PO Calculator'!B3000:D3535,3,FALSE),\"Leave this line blank\")","v":"Leave this line blank"},{"$nulls":11},"",null,"","No",null,null,"No"]
[null,{"$f":"IF('Step 2 PO Calculator'!B3001=\"Yes\",VLOOKUP('drop down'!$A$2,'Step 2 PO Calculator'!B3001:D3536,3,FALSE),\"Leave this line blank\")","v":"Leave this line blank"},{"$nulls":11},"",null,"","No",null,null,"No"]
[null,{"$f":"IF('Step 2 PO Calculator'!B3002=\"Yes\",VLOOKUP('drop down'!$A$2,'Step 2 PO Calculator'!B3002:D3537,3,FALSE),\"Leave this line blank\")","v":"Leave this line blank"},{"$nulls":11},"",null,"","No",null,null,"No"]
[null,{"$f":"IF('Step 2 PO Calculator'!B3003=\"Yes\",VLOOKUP('drop down'!$A$2,'Step 2 PO Calculator'!B3003:D3538,3,FALSE),\"Leave this line blank\")","v":"Leave this line blank"},{"$nulls":11},"",null,"","No",null,null,"No"]
[null,{"$f":"IF('Step 2 PO Calculator'!B3004=\"Yes\",VLOOKUP('drop down'!$A$2,'Step 2 PO Calculator'!B3004:D3539,3,FALSE),\"Leave this line blank\")","v":"Leave this line blank"},{"$nulls":11},"",null,"","No",null,null,"No"]
[null,{"$f":"IF('Step 2 PO Calculator'!B3005=\"Yes\",VLOOKUP('drop down'!$A$2,'Step 2 PO Calculator'!B3005:D3540,3,FALSE),\"Leave this line blank\")","v":"Leave this line blank"},{"$nulls":11},"",null,"","No",null,null,"No"]
[null,{"$f":"IF('Step 2 PO Calculator'!B3006=\"Yes\",VLOOKUP('drop down'!$A$2,'Step 2 PO Calculator'!B3006:D3541,3,FALSE),\"Leave this line blank\")","v":"Leave this line blank"},{"$nulls":11},"",null,"","No",null,null,"No"]
[null,{"$f":"IF('Step 2 PO Calculator'!B3007=\"Yes\",VLOOKUP('drop down'!$A$2,'Step 2 PO Calculator'!B3007:D3542,3,FALSE),\"Leave this line blank\")","v":"Leave this line blank"},{"$nulls":11},"",null,"","No",null,null,"No"]
[null,{"$f":"IF('Step 2 PO Calculator'!B3008=\"Yes\",VLOOKUP('drop down'!$A$2,'Step 2 PO Calculator'!B3008:D3543,3,FALSE),\"Leave this line blank\")","v":"Leave this line blank"},{"$nulls":11},"",null,"","No",null,null,"No"]
[null,{"$f":"IF('Step 2 PO Calculator'!B3009=\"Yes\",VLOOKUP('drop down'!$A$2,'Step 2 PO Calculator'!B3009:D3544,3,FALSE),\"Leave this line blank\")","v":"Leave this line blank"},{"$nulls":11},"",null,"","No",null,null,"No"]
[null,{"$f":"IF('Step 2 PO Calculator'!B3010=\"Yes\",VLOOKUP('drop down'!$A$2,'Step 2 PO Calculator'!B3010:D3545,3,FALSE),\"Leave this line blank\")","v":"Leave this line blank"},{"$nulls":11},"",null,"","No",null,null,"No"]
[null,{"$f":"IF('Step 2 PO Calculator'!B3011=\"Yes\",VLOOKUP('drop down'!$A$2,'Step 2 PO Calculator'!B3011:D3546,3,FALSE),\"Leave this line blank\")","v":"Leave this line blank"},{"$nulls":11},"",null,"","No",null,null,"No"]
[null,{"$f":"IF('Step 2 PO Calculator'!B3012=\"Yes\",VLOOKUP('drop down'!$A$2,'Step 2 PO Calculator'!B3012:D3547,3,FALSE),\"Leave this line blank\")","v":"Leave this line blank"},{"$nulls":11},"",null,"","No",null,null,"No"]
[null,{"$f":"IF('Step 2 PO Calculator'!B3013=\"Yes\",VLOOKUP('drop down'!$A$2,'Step 2 PO Calculator'!B3013:D3548,3,FALSE),\"Leave this line blank\")","v":"Leave this line blank"},{"$nulls":11},"",null,"","No",null,null,"No"]
[null,{"$f":"IF('Step 2 PO Calculator'!B3014=\"Yes\",VLOOKUP('drop down'!$A$2,'Step 2 PO Calculator'!B3014:D3549,3,FALSE),\"Leave this line blank\")","v":"Leave this line blank"},{"$nulls":11},"",null,"","No",null,null,"No"]
[null,{"$f":"IF('Step 2 PO Calculator'!B3015=\"Yes\",VLOOKUP('drop down'!$A$2,'Step 2 PO Calculator'!B3015:D3550,3,FALSE),\"Leave this line blank\")","v":"Leave this line blank"},{"$nulls":11},"",null,"","No",null,null,"No"]
[null,{"$f":"IF('Step 2 PO Calculator'!B3016=\"Yes\",VLOOKUP('drop down'!$A$2,'Step 2 PO Calculator'!B3016:D3551,3,FALSE),\"Leave this line blank\")","v":"Leave this line blank"},{"$nulls":11},"",null,"","No",null,null,"No"]
[null,{"$f":"IF('Step 2 PO Calculator'!B3017=\"Yes\",VLOOKUP('drop down'!$A$2,'Step 2 PO Calculator'!B3017:D3552,3,FALSE),\"Leave this line blank\")","v":"Leave this line blank"},{"$nulls":11},"",null,"","No",null,null,"No"]
[null,{"$f":"IF('Step 2 PO Calculator'!B3018=\"Yes\",VLOOKUP('drop down'!$A$2,'Step 2 PO Calculator'!B3018:D3553,3,FALSE),\"Leave this line blank\")","v":"Leave this line blank"},{"$nulls":11},"",null,"","No",null,null,"No"]
[null,{"$f":"IF('Step 2 PO Calculator'!B3019=\"Yes\",VLOOKUP('drop down'!$A$2,'Step 2 PO Calculator'!B3019:D3554,3,FALSE),\"Leave this line blank\")","v":"Leave this line blank"},{"$nulls":11},{"$f":"IF(I1550=\"\",\"\",IF(_xlfn.DAYS(I$8,I1550)>=180,\"X\",\"\"))","v":""},null,{"$f":"IF(K1550=\"\",\"\",IF(_xlfn.DAYS(K1550,I$8)<0,\"\",\"X\"))","v":""},{"$f":"IF(AND(N1550=\"X\",P1550=\"X\"),\"Yes\",\"No\")","v":"No"},null,null,{"$f":"IF(AND(N1550=\"X\",P1550=\"X\",R1550=\"Yes\"),\"Yes\",\"No\")","v":"No"}]
[null,{"$f":"IF('Step 2 PO Calculator'!B3020=\"Yes\",VLOOKUP('drop down'!$A$2,'Step 2 PO Calculator'!B3020:D3555,3,FALSE),\"Leave this line blank\")","v":"Leave this line blank"},{"$nulls":11},"",null,"","No",null,null,"No"]
[null,{"$f":"IF('Step 2 PO Calculator'!B3021=\"Yes\",VLOOKUP('drop down'!$A$2,'Step 2 PO Calculator'!B3021:D3556,3,FALSE),\"Leave this line blank\")","v":"Leave this line blank"},{"$nulls":11},"",null,"","No",null,null,"No"]
[null,{"$f":"IF('Step 2 PO Calculator'!B3022=\"Yes\",VLOOKUP('drop down'!$A$2,'Step 2 PO Calculator'!B3022:D3557,3,FALSE),\"Leave this line blank\")","v":"Leave this line blank"},{"$nulls":11},"",null,"","No",null,null,"No"]
[null,{"$f":"IF('Step 2 PO Calculator'!B3023=\"Yes\",VLOOKUP('drop down'!$A$2,'Step 2 PO Calculator'!B3023:D3558,3,FALSE),\"Leave this line blank\")","v":"Leave this line blank"},{"$nulls":11},"",null,"","No",null,null,"No"]
[null,{"$f":"IF('Step 2 PO Calculator'!B3024=\"Yes\",VLOOKUP('drop down'!$A$2,'Step 2 PO Calculator'!B3024:D3559,3,FALSE),\"Leave this line blank\")","v":"Leave this line blank"},{"$nulls":11},"",null,"","No",null,null,"No"]
[null,{"$f":"IF('Step 2 PO Calculator'!B3025=\"Yes\",VLOOKUP('drop down'!$A$2,'Step 2 PO Calculator'!B3025:D3560,3,FALSE),\"Leave this line blank\")","v":"Leave this line blank"},{"$nulls":11},"",null,"","No",null,null,"No"]
[null,{"$f":"IF('Step 2 PO Calculator'!B3026=\"Yes\",VLOOKUP('drop down'!$A$2,'Step 2 PO Calculator'!B3026:D3561,3,FALSE),\"Leave this line blank\")","v":"Leave this line blank"},{"$nulls":11},"",null,"","No",null,null,"No"]
[null,{"$f":"IF('Step 2 PO Calculator'!B3027=\"Yes\",VLOOKUP('drop down'!$A$2,'Step 2 PO Calculator'!B3027:D3562,3,FALSE),\"Leave this line blank\")","v":"Leave this line blank"},{"$nulls":11},"",null,"","No",null,null,"No"]
[null,{"$f":"IF('Step 2 PO Calculator'!B3028=\"Yes\",VLOOKUP('drop down'!$A$2,'Step 2 PO Calculator'!B3028:D3563,3,FALSE),\"Leave this line blank\")","v":"Leave this line blank"},{"$nulls":11},"",null,"","No",null,null,"No"]
[null,{"$f":"IF('Step 2 PO Calculator'!B3029=\"Yes\",VLOOKUP('drop down'!$A$2,'Step 2 PO Calculator'!B3029:D3564,3,FALSE),\"Leave this line blank\")","v":"Leave this line blank"},{"$nulls":11},"",null,"","No",null,null,"No"]
[null,{"$f":"IF('Step 2 PO Calculator'!B3030=\"Yes\",VLOOKUP('drop down'!$A$2,'Step 2 PO Calculator'!B3030:D3565,3,FALSE),\"Leave this line blank\")","v":"Leave this line blank"},{"$nulls":11},"",null,"","No",null,null,"No"]
[null,{"$f":"IF('Step 2 PO Calculator'!B3031=\"Yes\",VLOOKUP('drop down'!$A$2,'Step 2 PO Calculator'!B3031:D3566,3,FALSE),\"Leave this line blank\")","v":"Leave this line blank"},{"$nulls":11},"",null,"","No",null,null,"No"]
[null,{"$f":"IF('Step 2 PO Calculator'!B3032=\"Yes\",VLOOKUP('drop down'!$A$2,'Step 2 PO Calculator'!B3032:D3567,3,FALSE),\"Leave this line blank\")","v":"Leave this line blank"},{"$nulls":11},"",null,"","No",null,null,"No"]
[null,{"$f":"IF('Step 2 PO Calculator'!B3033=\"Yes\",VLOOKUP('drop down'!$A$2,'Step 2 PO Calculator'!B3033:D3568,3,FALSE),\"Leave this line blank\")","v":"Leave this line blank"},{"$nulls":11},"",null,"","No",null,null,"No"]
[null,{"$f":"IF('Step 2 PO Calculator'!B3034=\"Yes\",VLOOKUP('drop down'!$A$2,'Step 2 PO Calculator'!B3034:D3569,3,FALSE),\"Leave this line blank\")","v":"Leave this line blank"},{"$nulls":11},"",null,"","No",null,null,"No"]
[null,{"$f":"IF('Step 2 PO Calculator'!B3035=\"Yes\",VLOOKUP('drop down'!$A$2,'Step 2 PO Calculator'!B3035:D3570,3,FALSE),\"Leave this line blank\")","v":"Leave this line blank"},{"$nulls":11},"",null,"","No",null,null,"No"]
[null,{"$f":"IF('Step 2 PO Calculator'!B3036=\"Yes\",VLOOKUP('drop down'!$A$2,'Step 2 PO Calculator'!B3036:D3571,3,FALSE),\"Leave this line blank\")","v":"Leave this line blank"},{"$nulls":11},"",null,"","No",null,null,"No"]
[null,{"$f":"IF('Step 2 PO Calculator'!B3037=\"Yes\",VLOOKUP('drop down'!$A$2,'Step 2 PO Calculator'!B3037:D3572,3,FALSE),\"Leave this line blank\")","v":"Leave this line blank"},{"$nulls":11},"",null,"","No",null,null,"No"]
[null,{"$f":"IF('Step 2 PO Calculator'!B3038=\"Yes\",VLOOKUP('drop down'!$A$2,'Step 2 PO Calculator'!B3038:D3573,3,FALSE),\"Leave this line blank\")","v":"Leave this line blank"},{"$nulls":11},"",null,"","No",null,null,"No"]
[null,{"$f":"IF('Step 2 PO Calculator'!B3039=\"Yes\",VLOOKUP('drop down'!$A$2,'Step 2 PO Calculator'!B3039:D3574,3,FALSE),\"Leave this line blank\")","v":"Leave this line blank"},{"$nulls":11},"",null,"","No",null,null,"No"]
[null,{"$f":"IF('Step 2 PO Calculator'!B3040=\"Yes\",VLOOKUP('drop down'!$A$2,'Step 2 PO Calculator'!B3040:D3575,3,FALSE),\"Leave this line blank\")","v":"Leave this line blank"},{"$nulls":11},"",null,"","No",null,null,"No"]
[null,{"$f":"IF('Step 2 PO Calculator'!B3041=\"Yes\",VLOOKUP('drop down'!$A$2,'Step 2 PO Calculator'!B3041:D3576,3,FALSE),\"Leave this line blank\")","v":"Leave this line blank"},{"$nulls":11},"",null,"","No",null,null,"No"]
[null,{"$f":"IF('Step 2 PO Calculator'!B3042=\"Yes\",VLOOKUP('drop down'!$A$2,'Step 2 PO Calculator'!B3042:D3577,3,FALSE),\"Leave this line blank\")","v":"Leave this line blank"},{"$nulls":11},"",null,"","No",null,null,"No"]
[null,{"$f":"IF('Step 2 PO Calculator'!B3043=\"Yes\",VLOOKUP('drop down'!$A$2,'Step 2 PO Calculator'!B3043:D3578,3,FALSE),\"Leave this line blank\")","v":"Leave this line blank"},{"$nulls":11},"",null,"","No",null,null,"No"]
[null,{"$f":"IF('Step 2 PO Calculator'!B3044=\"Yes\",VLOOKUP('drop down'!$A$2,'Step 2 PO Calculator'!B3044:D3579,3,FALSE),\"Leave this line blank\")","v":"Leave this line blank"},{"$nulls":11},"",null,"","No",null,null,"No"]
[null,{"$f":"IF('Step 2 PO Calculator'!B3045=\"Yes\",VLOOKUP('drop down'!$A$2,'Step 2 PO Calculator'!B3045:D3580,3,FALSE),\"Leave this line blank\")","v":"Leave this line blank"},{"$nulls":11},"",null,"","No",null,null,"No"]
[null,{"$f":"IF('Step 2 PO Calculator'!B3046=\"Yes\",VLOOKUP('drop down'!$A$2,'Step 2 PO Calculator'!B3046:D3581,3,FALSE),\"Leave this line blank\")","v":"Leave this line blank"},{"$nulls":11},"",null,"","No",null,null,"No"]
[null,{"$f":"IF('Step 2 PO Calculator'!B3047=\"Yes\",VLOOKUP('drop down'!$A$2,'Step 2 PO Calculator'!B3047:D3582,3,FALSE),\"Leave this line blank\")","v":"Leave this line blank"},{"$nulls":11},"",null,"","No",null,null,"No"]
[null,{"$f":"IF('Step 2 PO Calculator'!B3048=\"Yes\",VLOOKUP('drop down'!$A$2,'Step 2 PO Calculator'!B3048:D3583,3,FALSE),\"Leave this line blank\")","v":"Leave this line blank"},{"$nulls":11},"",null,"","No",null,null,"No"]
[null,{"$f":"IF('Step 2 PO Calculator'!B3049=\"Yes\",VLOOKUP('drop down'!$A$2,'Step 2 PO Calculator'!B3049:D3584,3,FALSE),\"Leave this line blank\")","v":"Leave this line blank"},{"$nulls":11},"",null,"","No",null,null,"No"]
[null,{"$f":"IF('Step 2 PO Calculator'!B3050=\"Yes\",VLOOKUP('drop down'!$A$2,'Step 2 PO Calculator'!B3050:D3585,3,FALSE),\"Leave this line blank\")","v":"Leave this line blank"},{"$nulls":11},"",null,"","No",null,null,"No"]
[null,{"$f":"IF('Step 2 PO Calculator'!B3051=\"Yes\",VLOOKUP('drop down'!$A$2,'Step 2 PO Calculator'!B3051:D3586,3,FALSE),\"Leave this line blank\")","v":"Leave this line blank"},{"$nulls":11},"",null,"","No",null,null,"No"]
[null,{"$f":"IF('Step 2 PO Calculator'!B3052=\"Yes\",VLOOKUP('drop down'!$A$2,'Step 2 PO Calculator'!B3052:D3587,3,FALSE),\"Leave this line blank\")","v":"Leave this line blank"},{"$nulls":11},"",null,"","No",null,null,"No"]
[null,{"$f":"IF('Step 2 PO Calculator'!B3053=\"Yes\",VLOOKUP('drop down'!$A$2,'Step 2 PO Calculator'!B3053:D3588,3,FALSE),\"Leave this line blank\")","v":"Leave this line blank"},{"$nulls":11},"",null,"","No",null,null,"No"]
[null,{"$f":"IF('Step 2 PO Calculator'!B3054=\"Yes\",VLOOKUP('drop down'!$A$2,'Step 2 PO Calculator'!B3054:D3589,3,FALSE),\"Leave this line blank\")","v":"Leave this line blank"},{"$nulls":11},"",null,"","No",null,null,"No"]
[null,{"$f":"IF('Step 2 PO Calculator'!B3055=\"Yes\",VLOOKUP('drop down'!$A$2,'Step 2 PO Calculator'!B3055:D3590,3,FALSE),\"Leave this line blank\")","v":"Leave this line blank"},{"$nulls":11},"",null,"","No",null,null,"No"]
[null,{"$f":"IF('Step 2 PO Calculator'!B3056=\"Yes\",VLOOKUP('drop down'!$A$2,'Step 2 PO Calculator'!B3056:D3591,3,FALSE),\"Leave this line blank\")","v":"Leave this line blank"},{"$nulls":11},"",null,"","No",null,null,"No"]
[null,{"$f":"IF('Step 2 PO Calculator'!B3057=\"Yes\",VLOOKUP('drop down'!$A$2,'Step 2 PO Calculator'!B3057:D3592,3,FALSE),\"Leave this line blank\")","v":"Leave this line blank"},{"$nulls":11},"",null,"","No",null,null,"No"]
[null,{"$f":"IF('Step 2 PO Calculator'!B3058=\"Yes\",VLOOKUP('drop down'!$A$2,'Step 2 PO Calculator'!B3058:D3593,3,FALSE),\"Leave this line blank\")","v":"Leave this line blank"},{"$nulls":11},"",null,"","No",null,null,"No"]
[null,{"$f":"IF('Step 2 PO Calculator'!B3059=\"Yes\",VLOOKUP('drop down'!$A$2,'Step 2 PO Calculator'!B3059:D3594,3,FALSE),\"Leave this line blank\")","v":"Leave this line blank"},{"$nulls":11},"",null,"","No",null,null,"No"]
[null,{"$f":"IF('Step 2 PO Calculator'!B3060=\"Yes\",VLOOKUP('drop down'!$A$2,'Step 2 PO Calculator'!B3060:D3595,3,FALSE),\"Leave this line blank\")","v":"Leave this line blank"},{"$nulls":11},"",null,"","No",null,null,"No"]
[null,{"$f":"IF('Step 2 PO Calculator'!B3061=\"Yes\",VLOOKUP('drop down'!$A$2,'Step 2 PO Calculator'!B3061:D3596,3,FALSE),\"Leave this line blank\")","v":"Leave this line blank"},{"$nulls":11},"",null,"","No",null,null,"No"]
[null,{"$f":"IF('Step 2 PO Calculator'!B3062=\"Yes\",VLOOKUP('drop down'!$A$2,'Step 2 PO Calculator'!B3062:D3597,3,FALSE),\"Leave this line blank\")","v":"Leave this line blank"},{"$nulls":11},"",null,"","No",null,null,"No"]
[null,{"$f":"IF('Step 2 PO Calculator'!B3063=\"Yes\",VLOOKUP('drop down'!$A$2,'Step 2 PO Calculator'!B3063:D3598,3,FALSE),\"Leave this line blank\")","v":"Leave this line blank"},{"$nulls":11},"",null,"","No",null,null,"No"]
[null,{"$f":"IF('Step 2 PO Calculator'!B3064=\"Yes\",VLOOKUP('drop down'!$A$2,'Step 2 PO Calculator'!B3064:D3599,3,FALSE),\"Leave this line blank\")","v":"Leave this line blank"},{"$nulls":11},"",null,"","No",null,null,"No"]
[null,{"$f":"IF('Step 2 PO Calculator'!B3065=\"Yes\",VLOOKUP('drop down'!$A$2,'Step 2 PO Calculator'!B3065:D3600,3,FALSE),\"Leave this line blank\")","v":"Leave this line blank"},{"$nulls":11},"",null,"","No",null,null,"No"]
[null,{"$f":"IF('Step 2 PO Calculator'!B3066=\"Yes\",VLOOKUP('drop down'!$A$2,'Step 2 PO Calculator'!B3066:D3601,3,FALSE),\"Leave this line blank\")","v":"Leave this line blank"},{"$nulls":11},"",null,"","No",null,null,"No"]
[null,{"$f":"IF('Step 2 PO Calculator'!B3067=\"Yes\",VLOOKUP('drop down'!$A$2,'Step 2 PO Calculator'!B3067:D3602,3,FALSE),\"Leave this line blank\")","v":"Leave this line blank"},{"$nulls":11},"",null,"","No",null,null,"No"]
[null,{"$f":"IF('Step 2 PO Calculator'!B3068=\"Yes\",VLOOKUP('drop down'!$A$2,'Step 2 PO Calculator'!B3068:D3603,3,FALSE),\"Leave this line blank\")","v":"Leave this line blank"},{"$nulls":11},"",null,"","No",null,null,"No"]
[null,{"$f":"IF('Step 2 PO Calculator'!B3069=\"Yes\",VLOOKUP('drop down'!$A$2,'Step 2 PO Calculator'!B3069:D3604,3,FALSE),\"Leave this line blank\")","v":"Leave this line blank"},{"$nulls":11},"",null,"","No",null,null,"No"]
[null,{"$f":"IF('Step 2 PO Calculator'!B3070=\"Yes\",VLOOKUP('drop down'!$A$2,'Step 2 PO Calculator'!B3070:D3605,3,FALSE),\"Leave this line blank\")","v":"Leave this line blank"},{"$nulls":11},"",null,"","No",null,null,"No"]
[null,{"$f":"IF('Step 2 PO Calculator'!B3071=\"Yes\",VLOOKUP('drop down'!$A$2,'Step 2 PO Calculator'!B3071:D3606,3,FALSE),\"Leave this line blank\")","v":"Leave this line blank"},{"$nulls":11},"",null,"","No",null,null,"No"]
[null,{"$f":"IF('Step 2 PO Calculator'!B3072=\"Yes\",VLOOKUP('drop down'!$A$2,'Step 2 PO Calculator'!B3072:D3607,3,FALSE),\"Leave this line blank\")","v":"Leave this line blank"},{"$nulls":11},"",null,"","No",null,null,"No"]
[null,{"$f":"IF('Step 2 PO Calculator'!B3073=\"Yes\",VLOOKUP('drop down'!$A$2,'Step 2 PO Calculator'!B3073:D3608,3,FALSE),\"Leave this line blank\")","v":"Leave this line blank"},{"$nulls":11},"",null,"","No",null,null,"No"]
[null,{"$f":"IF('Step 2 PO Calculator'!B3074=\"Yes\",VLOOKUP('drop down'!$A$2,'Step 2 PO Calculator'!B3074:D3609,3,FALSE),\"Leave this line blank\")","v":"Leave this line blank"},{"$nulls":11},"",null,"","No",null,null,"No"]
[null,{"$f":"IF('Step 2 PO Calculator'!B3075=\"Yes\",VLOOKUP('drop down'!$A$2,'Step 2 PO Calculator'!B3075:D3610,3,FALSE),\"Leave this line blank\")","v":"Leave this line blank"},{"$nulls":11},"",null,"","No",null,null,"No"]
[null,{"$f":"IF('Step 2 PO Calculator'!B3076=\"Yes\",VLOOKUP('drop down'!$A$2,'Step 2 PO Calculator'!B3076:D3611,3,FALSE),\"Leave this line blank\")","v":"Leave this line blank"},{"$nulls":11},"",null,"","No",null,null,"No"]
[null,{"$f":"IF('Step 2 PO Calculator'!B3077=\"Yes\",VLOOKUP('drop down'!$A$2,'Step 2 PO Calculator'!B3077:D3612,3,FALSE),\"Leave this line blank\")","v":"Leave this line blank"},{"$nulls":11},"",null,"","No",null,null,"No"]
[null,{"$f":"IF('Step 2 PO Calculator'!B3078=\"Yes\",VLOOKUP('drop down'!$A$2,'Step 2 PO Calculator'!B3078:D3613,3,FALSE),\"Leave this line blank\")","v":"Leave this line blank"},{"$nulls":11},"",null,"","No",null,null,"No"]
[null,{"$f":"IF('Step 2 PO Calculator'!B3079=\"Yes\",VLOOKUP('drop down'!$A$2,'Step 2 PO Calculator'!B3079:D3614,3,FALSE),\"Leave this line blank\")","v":"Leave this line blank"},{"$nulls":11},"",null,"","No",null,null,"No"]
[null,{"$f":"IF('Step 2 PO Calculator'!B3080=\"Yes\",VLOOKUP('drop down'!$A$2,'Step 2 PO Calculator'!B3080:D3615,3,FALSE),\"Leave this line blank\")","v":"Leave this line blank"},{"$nulls":11},"",null,"","No",null,null,"No"]
[null,{"$f":"IF('Step 2 PO Calculator'!B3081=\"Yes\",VLOOKUP('drop down'!$A$2,'Step 2 PO Calculator'!B3081:D3616,3,FALSE),\"Leave this line blank\")","v":"Leave this line blank"},{"$nulls":11},"",null,"","No",null,null,"No"]
[null,{"$f":"IF('Step 2 PO Calculator'!B3082=\"Yes\",VLOOKUP('drop down'!$A$2,'Step 2 PO Calculator'!B3082:D3617,3,FALSE),\"Leave this line blank\")","v":"Leave this line blank"},{"$nulls":11},"",null,"","No",null,null,"No"]
[null,{"$f":"IF('Step 2 PO Calculator'!B3083=\"Yes\",VLOOKUP('drop down'!$A$2,'Step 2 PO Calculator'!B3083:D3618,3,FALSE),\"Leave this line blank\")","v":"Leave this line blank"},{"$nulls":11},{"$f":"IF(I1614=\"\",\"\",IF(_xlfn.DAYS(I$8,I1614)>=180,\"X\",\"\"))","v":""},null,{"$f":"IF(K1614=\"\",\"\",IF(_xlfn.DAYS(K1614,I$8)<0,\"\",\"X\"))","v":""},{"$f":"IF(AND(N1614=\"X\",P1614=\"X\"),\"Yes\",\"No\")","v":"No"},null,null,{"$f":"IF(AND(N1614=\"X\",P1614=\"X\",R1614=\"Yes\"),\"Yes\",\"No\")","v":"No"}]
[null,{"$f":"IF('Step 2 PO Calculator'!B3084=\"Yes\",VLOOKUP('drop down'!$A$2,'Step 2 PO Calculator'!B3084:D3619,3,FALSE),\"Leave this line blank\")","v":"Leave this line blank"},{"$nulls":11},"",null,"","No",null,null,"No"]
[null,{"$f":"IF('Step 2 PO Calculator'!B3085=\"Yes\",VLOOKUP('drop down'!$A$2,'Step 2 PO Calculator'!B3085:D3620,3,FALSE),\"Leave this line blank\")","v":"Leave this line blank"},{"$nulls":11},"",null,"","No",null,null,"No"]
[null,{"$f":"IF('Step 2 PO Calculator'!B3086=\"Yes\",VLOOKUP('drop down'!$A$2,'Step 2 PO Calculator'!B3086:D3621,3,FALSE),\"Leave this line blank\")","v":"Leave this line blank"},{"$nulls":11},"",null,"","No",null,null,"No"]
[null,{"$f":"IF('Step 2 PO Calculator'!B3087=\"Yes\",VLOOKUP('drop down'!$A$2,'Step 2 PO Calculator'!B3087:D3622,3,FALSE),\"Leave this line blank\")","v":"Leave this line blank"},{"$nulls":11},"",null,"","No",null,null,"No"]
[null,{"$f":"IF('Step 2 PO Calculator'!B3088=\"Yes\",VLOOKUP('drop down'!$A$2,'Step 2 PO Calculator'!B3088:D3623,3,FALSE),\"Leave this line blank\")","v":"Leave this line blank"},{"$nulls":11},"",null,"","No",null,null,"No"]
[null,{"$f":"IF('Step 2 PO Calculator'!B3089=\"Yes\",VLOOKUP('drop down'!$A$2,'Step 2 PO Calculator'!B3089:D3624,3,FALSE),\"Leave this line blank\")","v":"Leave this line blank"},{"$nulls":11},"",null,"","No",null,null,"No"]
[null,{"$f":"IF('Step 2 PO Calculator'!B3090=\"Yes\",VLOOKUP('drop down'!$A$2,'Step 2 PO Calculator'!B3090:D3625,3,FALSE),\"Leave this line blank\")","v":"Leave this line blank"},{"$nulls":11},"",null,"","No",null,null,"No"]
[null,{"$f":"IF('Step 2 PO Calculator'!B3091=\"Yes\",VLOOKUP('drop down'!$A$2,'Step 2 PO Calculator'!B3091:D3626,3,FALSE),\"Leave this line blank\")","v":"Leave this line blank"},{"$nulls":11},"",null,"","No",null,null,"No"]
[null,{"$f":"IF('Step 2 PO Calculator'!B3092=\"Yes\",VLOOKUP('drop down'!$A$2,'Step 2 PO Calculator'!B3092:D3627,3,FALSE),\"Leave this line blank\")","v":"Leave this line blank"},{"$nulls":11},"",null,"","No",null,null,"No"]
[null,{"$f":"IF('Step 2 PO Calculator'!B3093=\"Yes\",VLOOKUP('drop down'!$A$2,'Step 2 PO Calculator'!B3093:D3628,3,FALSE),\"Leave this line blank\")","v":"Leave this line blank"},{"$nulls":11},"",null,"","No",null,null,"No"]
[null,{"$f":"IF('Step 2 PO Calculator'!B3094=\"Yes\",VLOOKUP('drop down'!$A$2,'Step 2 PO Calculator'!B3094:D3629,3,FALSE),\"Leave this line blank\")","v":"Leave this line blank"},{"$nulls":11},"",null,"","No",null,null,"No"]
[null,{"$f":"IF('Step 2 PO Calculator'!B3095=\"Yes\",VLOOKUP('drop down'!$A$2,'Step 2 PO Calculator'!B3095:D3630,3,FALSE),\"Leave this line blank\")","v":"Leave this line blank"},{"$nulls":11},"",null,"","No",null,null,"No"]
[null,{"$f":"IF('Step 2 PO Calculator'!B3096=\"Yes\",VLOOKUP('drop down'!$A$2,'Step 2 PO Calculator'!B3096:D3631,3,FALSE),\"Leave this line blank\")","v":"Leave this line blank"},{"$nulls":11},"",null,"","No",null,null,"No"]
[null,{"$f":"IF('Step 2 PO Calculator'!B3097=\"Yes\",VLOOKUP('drop down'!$A$2,'Step 2 PO Calculator'!B3097:D3632,3,FALSE),\"Leave this line blank\")","v":"Leave this line blank"},{"$nulls":11},"",null,"","No",null,null,"No"]
[null,{"$f":"IF('Step 2 PO Calculator'!B3098=\"Yes\",VLOOKUP('drop down'!$A$2,'Step 2 PO Calculator'!B3098:D3633,3,FALSE),\"Leave this line blank\")","v":"Leave this line blank"},{"$nulls":11},"",null,"","No",null,null,"No"]
[null,{"$f":"IF('Step 2 PO Calculator'!B3099=\"Yes\",VLOOKUP('drop down'!$A$2,'Step 2 PO Calculator'!B3099:D3634,3,FALSE),\"Leave this line blank\")","v":"Leave this line blank"},{"$nulls":11},"",null,"","No",null,null,"No"]
[null,{"$f":"IF('Step 2 PO Calculator'!B3100=\"Yes\",VLOOKUP('drop down'!$A$2,'Step 2 PO Calculator'!B3100:D3635,3,FALSE),\"Leave this line blank\")","v":"Leave this line blank"},{"$nulls":11},"",null,"","No",null,null,"No"]
[null,{"$f":"IF('Step 2 PO Calculator'!B3101=\"Yes\",VLOOKUP('drop down'!$A$2,'Step 2 PO Calculator'!B3101:D3636,3,FALSE),\"Leave this line blank\")","v":"Leave this line blank"},{"$nulls":11},"",null,"","No",null,null,"No"]
[null,{"$f":"IF('Step 2 PO Calculator'!B3102=\"Yes\",VLOOKUP('drop down'!$A$2,'Step 2 PO Calculator'!B3102:D3637,3,FALSE),\"Leave this line blank\")","v":"Leave this line blank"},{"$nulls":11},"",null,"","No",null,null,"No"]
[null,{"$f":"IF('Step 2 PO Calculator'!B3103=\"Yes\",VLOOKUP('drop down'!$A$2,'Step 2 PO Calculator'!B3103:D3638,3,FALSE),\"Leave this line blank\")","v":"Leave this line blank"},{"$nulls":11},"",null,"","No",null,null,"No"]
[null,{"$f":"IF('Step 2 PO Calculator'!B3104=\"Yes\",VLOOKUP('drop down'!$A$2,'Step 2 PO Calculator'!B3104:D3639,3,FALSE),\"Leave this line blank\")","v":"Leave this line blank"},{"$nulls":11},"",null,"","No",null,null,"No"]
[null,{"$f":"IF('Step 2 PO Calculator'!B3105=\"Yes\",VLOOKUP('drop down'!$A$2,'Step 2 PO Calculator'!B3105:D3640,3,FALSE),\"Leave this line blank\")","v":"Leave this line blank"},{"$nulls":11},"",null,"","No",null,null,"No"]
[null,{"$f":"IF('Step 2 PO Calculator'!B3106=\"Yes\",VLOOKUP('drop down'!$A$2,'Step 2 PO Calculator'!B3106:D3641,3,FALSE),\"Leave this line blank\")","v":"Leave this line blank"},{"$nulls":11},"",null,"","No",null,null,"No"]
[null,{"$f":"IF('Step 2 PO Calculator'!B3107=\"Yes\",VLOOKUP('drop down'!$A$2,'Step 2 PO Calculator'!B3107:D3642,3,FALSE),\"Leave this line blank\")","v":"Leave this line blank"},{"$nulls":11},"",null,"","No",null,null,"No"]
[null,{"$f":"IF('Step 2 PO Calculator'!B3108=\"Yes\",VLOOKUP('drop down'!$A$2,'Step 2 PO Calculator'!B3108:D3643,3,FALSE),\"Leave this line blank\")","v":"Leave this line blank"},{"$nulls":11},"",null,"","No",null,null,"No"]
[null,{"$f":"IF('Step 2 PO Calculator'!B3109=\"Yes\",VLOOKUP('drop down'!$A$2,'Step 2 PO Calculator'!B3109:D3644,3,FALSE),\"Leave this line blank\")","v":"Leave this line blank"},{"$nulls":11},"",null,"","No",null,null,"No"]
[null,{"$f":"IF('Step 2 PO Calculator'!B3110=\"Yes\",VLOOKUP('drop down'!$A$2,'Step 2 PO Calculator'!B3110:D3645,3,FALSE),\"Leave this line blank\")","v":"Leave this line blank"},{"$nulls":11},"",null,"","No",null,null,"No"]
[null,{"$f":"IF('Step 2 PO Calculator'!B3111=\"Yes\",VLOOKUP('drop down'!$A$2,'Step 2 PO Calculator'!B3111:D3646,3,FALSE),\"Leave this line blank\")","v":"Leave this line blank"},{"$nulls":11},"",null,"","No",null,null,"No"]
[null,{"$f":"IF('Step 2 PO Calculator'!B3112=\"Yes\",VLOOKUP('drop down'!$A$2,'Step 2 PO Calculator'!B3112:D3647,3,FALSE),\"Leave this line blank\")","v":"Leave this line blank"},{"$nulls":11},"",null,"","No",null,null,"No"]
[null,{"$f":"IF('Step 2 PO Calculator'!B3113=\"Yes\",VLOOKUP('drop down'!$A$2,'Step 2 PO Calculator'!B3113:D3648,3,FALSE),\"Leave this line blank\")","v":"Leave this line blank"},{"$nulls":11},"",null,"","No",null,null,"No"]
[null,{"$f":"IF('Step 2 PO Calculator'!B3114=\"Yes\",VLOOKUP('drop down'!$A$2,'Step 2 PO Calculator'!B3114:D3649,3,FALSE),\"Leave this line blank\")","v":"Leave this line blank"},{"$nulls":11},"",null,"","No",null,null,"No"]
[null,{"$f":"IF('Step 2 PO Calculator'!B3115=\"Yes\",VLOOKUP('drop down'!$A$2,'Step 2 PO Calculator'!B3115:D3650,3,FALSE),\"Leave this line blank\")","v":"Leave this line blank"},{"$nulls":11},"",null,"","No",null,null,"No"]
[null,{"$f":"IF('Step 2 PO Calculator'!B3116=\"Yes\",VLOOKUP('drop down'!$A$2,'Step 2 PO Calculator'!B3116:D3651,3,FALSE),\"Leave this line blank\")","v":"Leave this line blank"},{"$nulls":11},"",null,"","No",null,null,"No"]
[null,{"$f":"IF('Step 2 PO Calculator'!B3117=\"Yes\",VLOOKUP('drop down'!$A$2,'Step 2 PO Calculator'!B3117:D3652,3,FALSE),\"Leave this line blank\")","v":"Leave this line blank"},{"$nulls":11},"",null,"","No",null,null,"No"]
[null,{"$f":"IF('Step 2 PO Calculator'!B3118=\"Yes\",VLOOKUP('drop down'!$A$2,'Step 2 PO Calculator'!B3118:D3653,3,FALSE),\"Leave this line blank\")","v":"Leave this line blank"},{"$nulls":11},"",null,"","No",null,null,"No"]
[null,{"$f":"IF('Step 2 PO Calculator'!B3119=\"Yes\",VLOOKUP('drop down'!$A$2,'Step 2 PO Calculator'!B3119:D3654,3,FALSE),\"Leave this line blank\")","v":"Leave this line blank"},{"$nulls":11},"",null,"","No",null,null,"No"]
[null,{"$f":"IF('Step 2 PO Calculator'!B3120=\"Yes\",VLOOKUP('drop down'!$A$2,'Step 2 PO Calculator'!B3120:D3655,3,FALSE),\"Leave this line blank\")","v":"Leave this line blank"},{"$nulls":11},"",null,"","No",null,null,"No"]
[null,{"$f":"IF('Step 2 PO Calculator'!B3121=\"Yes\",VLOOKUP('drop down'!$A$2,'Step 2 PO Calculator'!B3121:D3656,3,FALSE),\"Leave this line blank\")","v":"Leave this line blank"},{"$nulls":11},"",null,"","No",null,null,"No"]
[null,{"$f":"IF('Step 2 PO Calculator'!B3122=\"Yes\",VLOOKUP('drop down'!$A$2,'Step 2 PO Calculator'!B3122:D3657,3,FALSE),\"Leave this line blank\")","v":"Leave this line blank"},{"$nulls":11},"",null,"","No",null,null,"No"]
[null,{"$f":"IF('Step 2 PO Calculator'!B3123=\"Yes\",VLOOKUP('drop down'!$A$2,'Step 2 PO Calculator'!B3123:D3658,3,FALSE),\"Leave this line blank\")","v":"Leave this line blank"},{"$nulls":11},"",null,"","No",null,null,"No"]
[null,{"$f":"IF('Step 2 PO Calculator'!B3124=\"Yes\",VLOOKUP('drop down'!$A$2,'Step 2 PO Calculator'!B3124:D3659,3,FALSE),\"Leave this line blank\")","v":"Leave this line blank"},{"$nulls":11},"",null,"","No",null,null,"No"]
[null,{"$f":"IF('Step 2 PO Calculator'!B3125=\"Yes\",VLOOKUP('drop down'!$A$2,'Step 2 PO Calculator'!B3125:D3660,3,FALSE),\"Leave this line blank\")","v":"Leave this line blank"},{"$nulls":11},"",null,"","No",null,null,"No"]
[null,{"$f":"IF('Step 2 PO Calculator'!B3126=\"Yes\",VLOOKUP('drop down'!$A$2,'Step 2 PO Calculator'!B3126:D3661,3,FALSE),\"Leave this line blank\")","v":"Leave this line blank"},{"$nulls":11},"",null,"","No",null,null,"No"]
[null,{"$f":"IF('Step 2 PO Calculator'!B3127=\"Yes\",VLOOKUP('drop down'!$A$2,'Step 2 PO Calculator'!B3127:D3662,3,FALSE),\"Leave this line blank\")","v":"Leave this line blank"},{"$nulls":11},"",null,"","No",null,null,"No"]
[null,{"$f":"IF('Step 2 PO Calculator'!B3128=\"Yes\",VLOOKUP('drop down'!$A$2,'Step 2 PO Calculator'!B3128:D3663,3,FALSE),\"Leave this line blank\")","v":"Leave this line blank"},{"$nulls":11},"",null,"","No",null,null,"No"]
[null,{"$f":"IF('Step 2 PO Calculator'!B3129=\"Yes\",VLOOKUP('drop down'!$A$2,'Step 2 PO Calculator'!B3129:D3664,3,FALSE),\"Leave this line blank\")","v":"Leave this line blank"},{"$nulls":11},"",null,"","No",null,null,"No"]
[null,{"$f":"IF('Step 2 PO Calculator'!B3130=\"Yes\",VLOOKUP('drop down'!$A$2,'Step 2 PO Calculator'!B3130:D3665,3,FALSE),\"Leave this line blank\")","v":"Leave this line blank"},{"$nulls":11},"",null,"","No",null,null,"No"]
[null,{"$f":"IF('Step 2 PO Calculator'!B3131=\"Yes\",VLOOKUP('drop down'!$A$2,'Step 2 PO Calculator'!B3131:D3666,3,FALSE),\"Leave this line blank\")","v":"Leave this line blank"},{"$nulls":11},"",null,"","No",null,null,"No"]
[null,{"$f":"IF('Step 2 PO Calculator'!B3132=\"Yes\",VLOOKUP('drop down'!$A$2,'Step 2 PO Calculator'!B3132:D3667,3,FALSE),\"Leave this line blank\")","v":"Leave this line blank"},{"$nulls":11},"",null,"","No",null,null,"No"]
[null,{"$f":"IF('Step 2 PO Calculator'!B3133=\"Yes\",VLOOKUP('drop down'!$A$2,'Step 2 PO Calculator'!B3133:D3668,3,FALSE),\"Leave this line blank\")","v":"Leave this line blank"},{"$nulls":11},"",null,"","No",null,null,"No"]
[null,{"$f":"IF('Step 2 PO Calculator'!B3134=\"Yes\",VLOOKUP('drop down'!$A$2,'Step 2 PO Calculator'!B3134:D3669,3,FALSE),\"Leave this line blank\")","v":"Leave this line blank"},{"$nulls":11},"",null,"","No",null,null,"No"]
[null,{"$f":"IF('Step 2 PO Calculator'!B3135=\"Yes\",VLOOKUP('drop down'!$A$2,'Step 2 PO Calculator'!B3135:D3670,3,FALSE),\"Leave this line blank\")","v":"Leave this line blank"},{"$nulls":11},"",null,"","No",null,null,"No"]
[null,{"$f":"IF('Step 2 PO Calculator'!B3136=\"Yes\",VLOOKUP('drop down'!$A$2,'Step 2 PO Calculator'!B3136:D3671,3,FALSE),\"Leave this line blank\")","v":"Leave this line blank"},{"$nulls":11},"",null,"","No",null,null,"No"]
[null,{"$f":"IF('Step 2 PO Calculator'!B3137=\"Yes\",VLOOKUP('drop down'!$A$2,'Step 2 PO Calculator'!B3137:D3672,3,FALSE),\"Leave this line blank\")","v":"Leave this line blank"},{"$nulls":11},"",null,"","No",null,null,"No"]
[null,{"$f":"IF('Step 2 PO Calculator'!B3138=\"Yes\",VLOOKUP('drop down'!$A$2,'Step 2 PO Calculator'!B3138:D3673,3,FALSE),\"Leave this line blank\")","v":"Leave this line blank"},{"$nulls":11},"",null,"","No",null,null,"No"]
[null,{"$f":"IF('Step 2 PO Calculator'!B3139=\"Yes\",VLOOKUP('drop down'!$A$2,'Step 2 PO Calculator'!B3139:D3674,3,FALSE),\"Leave this line blank\")","v":"Leave this line blank"},{"$nulls":11},"",null,"","No",null,null,"No"]
[null,{"$f":"IF('Step 2 PO Calculator'!B3140=\"Yes\",VLOOKUP('drop down'!$A$2,'Step 2 PO Calculator'!B3140:D3675,3,FALSE),\"Leave this line blank\")","v":"Leave this line blank"},{"$nulls":11},"",null,"","No",null,null,"No"]
[null,{"$f":"IF('Step 2 PO Calculator'!B3141=\"Yes\",VLOOKUP('drop down'!$A$2,'Step 2 PO Calculator'!B3141:D3676,3,FALSE),\"Leave this line blank\")","v":"Leave this line blank"},{"$nulls":11},"",null,"","No",null,null,"No"]
[null,{"$f":"IF('Step 2 PO Calculator'!B3142=\"Yes\",VLOOKUP('drop down'!$A$2,'Step 2 PO Calculator'!B3142:D3677,3,FALSE),\"Leave this line blank\")","v":"Leave this line blank"},{"$nulls":11},"",null,"","No",null,null,"No"]
[null,{"$f":"IF('Step 2 PO Calculator'!B3143=\"Yes\",VLOOKUP('drop down'!$A$2,'Step 2 PO Calculator'!B3143:D3678,3,FALSE),\"Leave this line blank\")","v":"Leave this line blank"},{"$nulls":11},"",null,"","No",null,null,"No"]
[null,{"$f":"IF('Step 2 PO Calculator'!B3144=\"Yes\",VLOOKUP('drop down'!$A$2,'Step 2 PO Calculator'!B3144:D3679,3,FALSE),\"Leave this line blank\")","v":"Leave this line blank"},{"$nulls":11},"",null,"","No",null,null,"No"]
[null,{"$f":"IF('Step 2 PO Calculator'!B3145=\"Yes\",VLOOKUP('drop down'!$A$2,'Step 2 PO Calculator'!B3145:D3680,3,FALSE),\"Leave this line blank\")","v":"Leave this line blank"},{"$nulls":11},"",null,"","No",null,null,"No"]
[null,{"$f":"IF('Step 2 PO Calculator'!B3146=\"Yes\",VLOOKUP('drop down'!$A$2,'Step 2 PO Calculator'!B3146:D3681,3,FALSE),\"Leave this line blank\")","v":"Leave this line blank"},{"$nulls":11},"",null,"","No",null,null,"No"]
[null,{"$f":"IF('Step 2 PO Calculator'!B3147=\"Yes\",VLOOKUP('drop down'!$A$2,'Step 2 PO Calculator'!B3147:D3682,3,FALSE),\"Leave this line blank\")","v":"Leave this line blank"},{"$nulls":11},{"$f":"IF(I1678=\"\",\"\",IF(_xlfn.DAYS(I$8,I1678)>=180,\"X\",\"\"))","v":""},null,{"$f":"IF(K1678=\"\",\"\",IF(_xlfn.DAYS(K1678,I$8)<0,\"\",\"X\"))","v":""},{"$f":"IF(AND(N1678=\"X\",P1678=\"X\"),\"Yes\",\"No\")","v":"No"},null,null,{"$f":"IF(AND(N1678=\"X\",P1678=\"X\",R1678=\"Yes\"),\"Yes\",\"No\")","v":"No"}]
[null,{"$f":"IF('Step 2 PO Calculator'!B3148=\"Yes\",VLOOKUP('drop down'!$A$2,'Step 2 PO Calculator'!B3148:D3683,3,FALSE),\"Leave this line blank\")","v":"Leave this line blank"},{"$nulls":11},"",null,"","No",null,null,"No"]
[null,{"$f":"IF('Step 2 PO Calculator'!B3149=\"Yes\",VLOOKUP('drop down'!$A$2,'Step 2 PO Calculator'!B3149:D3684,3,FALSE),\"Leave this line blank\")","v":"Leave this line blank"},{"$nulls":11},"",null,"","No",null,null,"No"]
[null,{"$f":"IF('Step 2 PO Calculator'!B3150=\"Yes\",VLOOKUP('drop down'!$A$2,'Step 2 PO Calculator'!B3150:D3685,3,FALSE),\"Leave this line blank\")","v":"Leave this line blank"},{"$nulls":11},"",null,"","No",null,null,"No"]
[null,{"$f":"IF('Step 2 PO Calculator'!B3151=\"Yes\",VLOOKUP('drop down'!$A$2,'Step 2 PO Calculator'!B3151:D3686,3,FALSE),\"Leave this line blank\")","v":"Leave this line blank"},{"$nulls":11},"",null,"","No",null,null,"No"]
[null,{"$f":"IF('Step 2 PO Calculator'!B3152=\"Yes\",VLOOKUP('drop down'!$A$2,'Step 2 PO Calculator'!B3152:D3687,3,FALSE),\"Leave this line blank\")","v":"Leave this line blank"},{"$nulls":11},"",null,"","No",null,null,"No"]
[null,{"$f":"IF('Step 2 PO Calculator'!B3153=\"Yes\",VLOOKUP('drop down'!$A$2,'Step 2 PO Calculator'!B3153:D3688,3,FALSE),\"Leave this line blank\")","v":"Leave this line blank"},{"$nulls":11},"",null,"","No",null,null,"No"]
[null,{"$f":"IF('Step 2 PO Calculator'!B3154=\"Yes\",VLOOKUP('drop down'!$A$2,'Step 2 PO Calculator'!B3154:D3689,3,FALSE),\"Leave this line blank\")","v":"Leave this line blank"},{"$nulls":11},"",null,"","No",null,null,"No"]
[null,{"$f":"IF('Step 2 PO Calculator'!B3155=\"Yes\",VLOOKUP('drop down'!$A$2,'Step 2 PO Calculator'!B3155:D3690,3,FALSE),\"Leave this line blank\")","v":"Leave this line blank"},{"$nulls":11},"",null,"","No",null,null,"No"]
[null,{"$f":"IF('Step 2 PO Calculator'!B3156=\"Yes\",VLOOKUP('drop down'!$A$2,'Step 2 PO Calculator'!B3156:D3691,3,FALSE),\"Leave this line blank\")","v":"Leave this line blank"},{"$nulls":11},"",null,"","No",null,null,"No"]
[null,{"$f":"IF('Step 2 PO Calculator'!B3157=\"Yes\",VLOOKUP('drop down'!$A$2,'Step 2 PO Calculator'!B3157:D3692,3,FALSE),\"Leave this line blank\")","v":"Leave this line blank"},{"$nulls":11},"",null,"","No",null,null,"No"]
[null,{"$f":"IF('Step 2 PO Calculator'!B3158=\"Yes\",VLOOKUP('drop down'!$A$2,'Step 2 PO Calculator'!B3158:D3693,3,FALSE),\"Leave this line blank\")","v":"Leave this line blank"},{"$nulls":11},"",null,"","No",null,null,"No"]
[null,{"$f":"IF('Step 2 PO Calculator'!B3159=\"Yes\",VLOOKUP('drop down'!$A$2,'Step 2 PO Calculator'!B3159:D3694,3,FALSE),\"Leave this line blank\")","v":"Leave this line blank"},{"$nulls":11},"",null,"","No",null,null,"No"]
[null,{"$f":"IF('Step 2 PO Calculator'!B3160=\"Yes\",VLOOKUP('drop down'!$A$2,'Step 2 PO Calculator'!B3160:D3695,3,FALSE),\"Leave this line blank\")","v":"Leave this line blank"},{"$nulls":11},"",null,"","No",null,null,"No"]
[null,{"$f":"IF('Step 2 PO Calculator'!B3161=\"Yes\",VLOOKUP('drop down'!$A$2,'Step 2 PO Calculator'!B3161:D3696,3,FALSE),\"Leave this line blank\")","v":"Leave this line blank"},{"$nulls":11},"",null,"","No",null,null,"No"]
[null,{"$f":"IF('Step 2 PO Calculator'!B3162=\"Yes\",VLOOKUP('drop down'!$A$2,'Step 2 PO Calculator'!B3162:D3697,3,FALSE),\"Leave this line blank\")","v":"Leave this line blank"},{"$nulls":11},"",null,"","No",null,null,"No"]
[null,{"$f":"IF('Step 2 PO Calculator'!B3163=\"Yes\",VLOOKUP('drop down'!$A$2,'Step 2 PO Calculator'!B3163:D3698,3,FALSE),\"Leave this line blank\")","v":"Leave this line blank"},{"$nulls":11},"",null,"","No",null,null,"No"]
[null,{"$f":"IF('Step 2 PO Calculator'!B3164=\"Yes\",VLOOKUP('drop down'!$A$2,'Step 2 PO Calculator'!B3164:D3699,3,FALSE),\"Leave this line blank\")","v":"Leave this line blank"},{"$nulls":11},"",null,"","No",null,null,"No"]
[null,{"$f":"IF('Step 2 PO Calculator'!B3165=\"Yes\",VLOOKUP('drop down'!$A$2,'Step 2 PO Calculator'!B3165:D3700,3,FALSE),\"Leave this line blank\")","v":"Leave this line blank"},{"$nulls":11},"",null,"","No",null,null,"No"]
[null,{"$f":"IF('Step 2 PO Calculator'!B3166=\"Yes\",VLOOKUP('drop down'!$A$2,'Step 2 PO Calculator'!B3166:D3701,3,FALSE),\"Leave this line blank\")","v":"Leave this line blank"},{"$nulls":11},"",null,"","No",null,null,"No"]
[null,{"$f":"IF('Step 2 PO Calculator'!B3167=\"Yes\",VLOOKUP('drop down'!$A$2,'Step 2 PO Calculator'!B3167:D3702,3,FALSE),\"Leave this line blank\")","v":"Leave this line blank"},{"$nulls":11},"",null,"","No",null,null,"No"]
[null,{"$f":"IF('Step 2 PO Calculator'!B3168=\"Yes\",VLOOKUP('drop down'!$A$2,'Step 2 PO Calculator'!B3168:D3703,3,FALSE),\"Leave this line blank\")","v":"Leave this line blank"},{"$nulls":11},"",null,"","No",null,null,"No"]
[null,{"$f":"IF('Step 2 PO Calculator'!B3169=\"Yes\",VLOOKUP('drop down'!$A$2,'Step 2 PO Calculator'!B3169:D3704,3,FALSE),\"Leave this line blank\")","v":"Leave this line blank"},{"$nulls":11},"",null,"","No",null,null,"No"]
[null,{"$f":"IF('Step 2 PO Calculator'!B3170=\"Yes\",VLOOKUP('drop down'!$A$2,'Step 2 PO Calculator'!B3170:D3705,3,FALSE),\"Leave this line blank\")","v":"Leave this line blank"},{"$nulls":11},"",null,"","No",null,null,"No"]
[null,{"$f":"IF('Step 2 PO Calculator'!B3171=\"Yes\",VLOOKUP('drop down'!$A$2,'Step 2 PO Calculator'!B3171:D3706,3,FALSE),\"Leave this line blank\")","v":"Leave this line blank"},{"$nulls":11},"",null,"","No",null,null,"No"]
[null,{"$f":"IF('Step 2 PO Calculator'!B3172=\"Yes\",VLOOKUP('drop down'!$A$2,'Step 2 PO Calculator'!B3172:D3707,3,FALSE),\"Leave this line blank\")","v":"Leave this line blank"},{"$nulls":11},"",null,"","No",null,null,"No"]
[null,{"$f":"IF('Step 2 PO Calculator'!B3173=\"Yes\",VLOOKUP('drop down'!$A$2,'Step 2 PO Calculator'!B3173:D3708,3,FALSE),\"Leave this line blank\")","v":"Leave this line blank"},{"$nulls":11},"",null,"","No",null,null,"No"]
[null,{"$f":"IF('Step 2 PO Calculator'!B3174=\"Yes\",VLOOKUP('drop down'!$A$2,'Step 2 PO Calculator'!B3174:D3709,3,FALSE),\"Leave this line blank\")","v":"Leave this line blank"},{"$nulls":11},"",null,"","No",null,null,"No"]
[null,{"$f":"IF('Step 2 PO Calculator'!B3175=\"Yes\",VLOOKUP('drop down'!$A$2,'Step 2 PO Calculator'!B3175:D3710,3,FALSE),\"Leave this line blank\")","v":"Leave this line blank"},{"$nulls":11},"",null,"","No",null,null,"No"]
[null,{"$f":"IF('Step 2 PO Calculator'!B3176=\"Yes\",VLOOKUP('drop down'!$A$2,'Step 2 PO Calculator'!B3176:D3711,3,FALSE),\"Leave this line blank\")","v":"Leave this line blank"},{"$nulls":11},"",null,"","No",null,null,"No"]
[null,{"$f":"IF('Step 2 PO Calculator'!B3177=\"Yes\",VLOOKUP('drop down'!$A$2,'Step 2 PO Calculator'!B3177:D3712,3,FALSE),\"Leave this line blank\")","v":"Leave this line blank"},{"$nulls":11},"",null,"","No",null,null,"No"]
[null,{"$f":"IF('Step 2 PO Calculator'!B3178=\"Yes\",VLOOKUP('drop down'!$A$2,'Step 2 PO Calculator'!B3178:D3713,3,FALSE),\"Leave this line blank\")","v":"Leave this line blank"},{"$nulls":11},"",null,"","No",null,null,"No"]
[null,{"$f":"IF('Step 2 PO Calculator'!B3179=\"Yes\",VLOOKUP('drop down'!$A$2,'Step 2 PO Calculator'!B3179:D3714,3,FALSE),\"Leave this line blank\")","v":"Leave this line blank"},{"$nulls":11},"",null,"","No",null,null,"No"]
[null,{"$f":"IF('Step 2 PO Calculator'!B3180=\"Yes\",VLOOKUP('drop down'!$A$2,'Step 2 PO Calculator'!B3180:D3715,3,FALSE),\"Leave this line blank\")","v":"Leave this line blank"},{"$nulls":11},"",null,"","No",null,null,"No"]
[null,{"$f":"IF('Step 2 PO Calculator'!B3181=\"Yes\",VLOOKUP('drop down'!$A$2,'Step 2 PO Calculator'!B3181:D3716,3,FALSE),\"Leave this line blank\")","v":"Leave this line blank"},{"$nulls":11},"",null,"","No",null,null,"No"]
[null,{"$f":"IF('Step 2 PO Calculator'!B3182=\"Yes\",VLOOKUP('drop down'!$A$2,'Step 2 PO Calculator'!B3182:D3717,3,FALSE),\"Leave this line blank\")","v":"Leave this line blank"},{"$nulls":11},"",null,"","No",null,null,"No"]
[null,{"$f":"IF('Step 2 PO Calculator'!B3183=\"Yes\",VLOOKUP('drop down'!$A$2,'Step 2 PO Calculator'!B3183:D3718,3,FALSE),\"Leave this line blank\")","v":"Leave this line blank"},{"$nulls":11},"",null,"","No",null,null,"No"]
[null,{"$f":"IF('Step 2 PO Calculator'!B3184=\"Yes\",VLOOKUP('drop down'!$A$2,'Step 2 PO Calculator'!B3184:D3719,3,FALSE),\"Leave this line blank\")","v":"Leave this line blank"},{"$nulls":11},"",null,"","No",null,null,"No"]
[null,{"$f":"IF('Step 2 PO Calculator'!B3185=\"Yes\",VLOOKUP('drop down'!$A$2,'Step 2 PO Calculator'!B3185:D3720,3,FALSE),\"Leave this line blank\")","v":"Leave this line blank"},{"$nulls":11},"",null,"","No",null,null,"No"]
[null,{"$f":"IF('Step 2 PO Calculator'!B3186=\"Yes\",VLOOKUP('drop down'!$A$2,'Step 2 PO Calculator'!B3186:D3721,3,FALSE),\"Leave this line blank\")","v":"Leave this line blank"},{"$nulls":11},"",null,"","No",null,null,"No"]
[null,{"$f":"IF('Step 2 PO Calculator'!B3187=\"Yes\",VLOOKUP('drop down'!$A$2,'Step 2 PO Calculator'!B3187:D3722,3,FALSE),\"Leave this line blank\")","v":"Leave this line blank"},{"$nulls":11},"",null,"","No",null,null,"No"]
[null,{"$f":"IF('Step 2 PO Calculator'!B3188=\"Yes\",VLOOKUP('drop down'!$A$2,'Step 2 PO Calculator'!B3188:D3723,3,FALSE),\"Leave this line blank\")","v":"Leave this line blank"},{"$nulls":11},"",null,"","No",null,null,"No"]
[null,{"$f":"IF('Step 2 PO Calculator'!B3189=\"Yes\",VLOOKUP('drop down'!$A$2,'Step 2 PO Calculator'!B3189:D3724,3,FALSE),\"Leave this line blank\")","v":"Leave this line blank"},{"$nulls":11},"",null,"","No",null,null,"No"]
[null,{"$f":"IF('Step 2 PO Calculator'!B3190=\"Yes\",VLOOKUP('drop down'!$A$2,'Step 2 PO Calculator'!B3190:D3725,3,FALSE),\"Leave this line blank\")","v":"Leave this line blank"},{"$nulls":11},"",null,"","No",null,null,"No"]
[null,{"$f":"IF('Step 2 PO Calculator'!B3191=\"Yes\",VLOOKUP('drop down'!$A$2,'Step 2 PO Calculator'!B3191:D3726,3,FALSE),\"Leave this line blank\")","v":"Leave this line blank"},{"$nulls":11},"",null,"","No",null,null,"No"]
[null,{"$f":"IF('Step 2 PO Calculator'!B3192=\"Yes\",VLOOKUP('drop down'!$A$2,'Step 2 PO Calculator'!B3192:D3727,3,FALSE),\"Leave this line blank\")","v":"Leave this line blank"},{"$nulls":11},"",null,"","No",null,null,"No"]
[null,{"$f":"IF('Step 2 PO Calculator'!B3193=\"Yes\",VLOOKUP('drop down'!$A$2,'Step 2 PO Calculator'!B3193:D3728,3,FALSE),\"Leave this line blank\")","v":"Leave this line blank"},{"$nulls":11},"",null,"","No",null,null,"No"]
[null,{"$f":"IF('Step 2 PO Calculator'!B3194=\"Yes\",VLOOKUP('drop down'!$A$2,'Step 2 PO Calculator'!B3194:D3729,3,FALSE),\"Leave this line blank\")","v":"Leave this line blank"},{"$nulls":11},"",null,"","No",null,null,"No"]
[null,{"$f":"IF('Step 2 PO Calculator'!B3195=\"Yes\",VLOOKUP('drop down'!$A$2,'Step 2 PO Calculator'!B3195:D3730,3,FALSE),\"Leave this line blank\")","v":"Leave this line blank"},{"$nulls":11},"",null,"","No",null,null,"No"]
[null,{"$f":"IF('Step 2 PO Calculator'!B3196=\"Yes\",VLOOKUP('drop down'!$A$2,'Step 2 PO Calculator'!B3196:D3731,3,FALSE),\"Leave this line blank\")","v":"Leave this line blank"},{"$nulls":11},"",null,"","No",null,null,"No"]
[null,{"$f":"IF('Step 2 PO Calculator'!B3197=\"Yes\",VLOOKUP('drop down'!$A$2,'Step 2 PO Calculator'!B3197:D3732,3,FALSE),\"Leave this line blank\")","v":"Leave this line blank"},{"$nulls":11},"",null,"","No",null,null,"No"]
[null,{"$f":"IF('Step 2 PO Calculator'!B3198=\"Yes\",VLOOKUP('drop down'!$A$2,'Step 2 PO Calculator'!B3198:D3733,3,FALSE),\"Leave this line blank\")","v":"Leave this line blank"},{"$nulls":11},"",null,"","No",null,null,"No"]
[null,{"$f":"IF('Step 2 PO Calculator'!B3199=\"Yes\",VLOOKUP('drop down'!$A$2,'Step 2 PO Calculator'!B3199:D3734,3,FALSE),\"Leave this line blank\")","v":"Leave this line blank"},{"$nulls":11},"",null,"","No",null,null,"No"]
[null,{"$f":"IF('Step 2 PO Calculator'!B3200=\"Yes\",VLOOKUP('drop down'!$A$2,'Step 2 PO Calculator'!B3200:D3735,3,FALSE),\"Leave this line blank\")","v":"Leave this line blank"},{"$nulls":11},"",null,"","No",null,null,"No"]
[null,{"$f":"IF('Step 2 PO Calculator'!B3201=\"Yes\",VLOOKUP('drop down'!$A$2,'Step 2 PO Calculator'!B3201:D3736,3,FALSE),\"Leave this line blank\")","v":"Leave this line blank"},{"$nulls":11},"",null,"","No",null,null,"No"]
[null,{"$f":"IF('Step 2 PO Calculator'!B3202=\"Yes\",VLOOKUP('drop down'!$A$2,'Step 2 PO Calculator'!B3202:D3737,3,FALSE),\"Leave this line blank\")","v":"Leave this line blank"},{"$nulls":11},"",null,"","No",null,null,"No"]
[null,{"$f":"IF('Step 2 PO Calculator'!B3203=\"Yes\",VLOOKUP('drop down'!$A$2,'Step 2 PO Calculator'!B3203:D3738,3,FALSE),\"Leave this line blank\")","v":"Leave this line blank"},{"$nulls":11},"",null,"","No",null,null,"No"]
[null,{"$f":"IF('Step 2 PO Calculator'!B3204=\"Yes\",VLOOKUP('drop down'!$A$2,'Step 2 PO Calculator'!B3204:D3739,3,FALSE),\"Leave this line blank\")","v":"Leave this line blank"},{"$nulls":11},"",null,"","No",null,null,"No"]
[null,{"$f":"IF('Step 2 PO Calculator'!B3205=\"Yes\",VLOOKUP('drop down'!$A$2,'Step 2 PO Calculator'!B3205:D3740,3,FALSE),\"Leave this line blank\")","v":"Leave this line blank"},{"$nulls":11},"",null,"","No",null,null,"No"]
[null,{"$f":"IF('Step 2 PO Calculator'!B3206=\"Yes\",VLOOKUP('drop down'!$A$2,'Step 2 PO Calculator'!B3206:D3741,3,FALSE),\"Leave this line blank\")","v":"Leave this line blank"},{"$nulls":11},"",null,"","No",null,null,"No"]
[null,{"$f":"IF('Step 2 PO Calculator'!B3207=\"Yes\",VLOOKUP('drop down'!$A$2,'Step 2 PO Calculator'!B3207:D3742,3,FALSE),\"Leave this line blank\")","v":"Leave this line blank"},{"$nulls":11},"",null,"","No",null,null,"No"]
[null,{"$f":"IF('Step 2 PO Calculator'!B3208=\"Yes\",VLOOKUP('drop down'!$A$2,'Step 2 PO Calculator'!B3208:D3743,3,FALSE),\"Leave this line blank\")","v":"Leave this line blank"},{"$nulls":11},"",null,"","No",null,null,"No"]
[null,{"$f":"IF('Step 2 PO Calculator'!B3209=\"Yes\",VLOOKUP('drop down'!$A$2,'Step 2 PO Calculator'!B3209:D3744,3,FALSE),\"Leave this line blank\")","v":"Leave this line blank"},{"$nulls":11},"",null,"","No",null,null,"No"]
[null,{"$f":"IF('Step 2 PO Calculator'!B3210=\"Yes\",VLOOKUP('drop down'!$A$2,'Step 2 PO Calculator'!B3210:D3745,3,FALSE),\"Leave this line blank\")","v":"Leave this line blank"},{"$nulls":11},"",null,"","No",null,null,"No"]
[null,{"$f":"IF('Step 2 PO Calculator'!B3211=\"Yes\",VLOOKUP('drop down'!$A$2,'Step 2 PO Calculator'!B3211:D3746,3,FALSE),\"Leave this line blank\")","v":"Leave this line blank"},{"$nulls":11},{"$f":"IF(I1742=\"\",\"\",IF(_xlfn.DAYS(I$8,I1742)>=180,\"X\",\"\"))","v":""},null,{"$f":"IF(K1742=\"\",\"\",IF(_xlfn.DAYS(K1742,I$8)<0,\"\",\"X\"))","v":""},{"$f":"IF(AND(N1742=\"X\",P1742=\"X\"),\"Yes\",\"No\")","v":"No"},null,null,{"$f":"IF(AND(N1742=\"X\",P1742=\"X\",R1742=\"Yes\"),\"Yes\",\"No\")","v":"No"}]
[null,{"$f":"IF('Step 2 PO Calculator'!B3212=\"Yes\",VLOOKUP('drop down'!$A$2,'Step 2 PO Calculator'!B3212:D3747,3,FALSE),\"Leave this line blank\")","v":"Leave this line blank"},{"$nulls":11},"",null,"","No",null,null,"No"]
[null,{"$f":"IF('Step 2 PO Calculator'!B3213=\"Yes\",VLOOKUP('drop down'!$A$2,'Step 2 PO Calculator'!B3213:D3748,3,FALSE),\"Leave this line blank\")","v":"Leave this line blank"},{"$nulls":11},"",null,"","No",null,null,"No"]
[null,{"$f":"IF('Step 2 PO Calculator'!B3214=\"Yes\",VLOOKUP('drop down'!$A$2,'Step 2 PO Calculator'!B3214:D3749,3,FALSE),\"Leave this line blank\")","v":"Leave this line blank"},{"$nulls":11},"",null,"","No",null,null,"No"]
[null,{"$f":"IF('Step 2 PO Calculator'!B3215=\"Yes\",VLOOKUP('drop down'!$A$2,'Step 2 PO Calculator'!B3215:D3750,3,FALSE),\"Leave this line blank\")","v":"Leave this line blank"},{"$nulls":11},"",null,"","No",null,null,"No"]
[null,{"$f":"IF('Step 2 PO Calculator'!B3216=\"Yes\",VLOOKUP('drop down'!$A$2,'Step 2 PO Calculator'!B3216:D3751,3,FALSE),\"Leave this line blank\")","v":"Leave this line blank"},{"$nulls":11},"",null,"","No",null,null,"No"]
[null,{"$f":"IF('Step 2 PO Calculator'!B3217=\"Yes\",VLOOKUP('drop down'!$A$2,'Step 2 PO Calculator'!B3217:D3752,3,FALSE),\"Leave this line blank\")","v":"Leave this line blank"},{"$nulls":11},"",null,"","No",null,null,"No"]
[null,{"$f":"IF('Step 2 PO Calculator'!B3218=\"Yes\",VLOOKUP('drop down'!$A$2,'Step 2 PO Calculator'!B3218:D3753,3,FALSE),\"Leave this line blank\")","v":"Leave this line blank"},{"$nulls":11},"",null,"","No",null,null,"No"]
[null,{"$f":"IF('Step 2 PO Calculator'!B3219=\"Yes\",VLOOKUP('drop down'!$A$2,'Step 2 PO Calculator'!B3219:D3754,3,FALSE),\"Leave this line blank\")","v":"Leave this line blank"},{"$nulls":11},"",null,"","No",null,null,"No"]
[null,{"$f":"IF('Step 2 PO Calculator'!B3220=\"Yes\",VLOOKUP('drop down'!$A$2,'Step 2 PO Calculator'!B3220:D3755,3,FALSE),\"Leave this line blank\")","v":"Leave this line blank"},{"$nulls":11},"",null,"","No",null,null,"No"]
[null,{"$f":"IF('Step 2 PO Calculator'!B3221=\"Yes\",VLOOKUP('drop down'!$A$2,'Step 2 PO Calculator'!B3221:D3756,3,FALSE),\"Leave this line blank\")","v":"Leave this line blank"},{"$nulls":11},"",null,"","No",null,null,"No"]
[null,{"$f":"IF('Step 2 PO Calculator'!B3222=\"Yes\",VLOOKUP('drop down'!$A$2,'Step 2 PO Calculator'!B3222:D3757,3,FALSE),\"Leave this line blank\")","v":"Leave this line blank"},{"$nulls":11},"",null,"","No",null,null,"No"]
[null,{"$f":"IF('Step 2 PO Calculator'!B3223=\"Yes\",VLOOKUP('drop down'!$A$2,'Step 2 PO Calculator'!B3223:D3758,3,FALSE),\"Leave this line blank\")","v":"Leave this line blank"},{"$nulls":11},"",null,"","No",null,null,"No"]
[null,{"$f":"IF('Step 2 PO Calculator'!B3224=\"Yes\",VLOOKUP('drop down'!$A$2,'Step 2 PO Calculator'!B3224:D3759,3,FALSE),\"Leave this line blank\")","v":"Leave this line blank"},{"$nulls":11},"",null,"","No",null,null,"No"]
[null,{"$f":"IF('Step 2 PO Calculator'!B3225=\"Yes\",VLOOKUP('drop down'!$A$2,'Step 2 PO Calculator'!B3225:D3760,3,FALSE),\"Leave this line blank\")","v":"Leave this line blank"},{"$nulls":11},"",null,"","No",null,null,"No"]
[null,{"$f":"IF('Step 2 PO Calculator'!B3226=\"Yes\",VLOOKUP('drop down'!$A$2,'Step 2 PO Calculator'!B3226:D3761,3,FALSE),\"Leave this line blank\")","v":"Leave this line blank"},{"$nulls":11},"",null,"","No",null,null,"No"]
[null,{"$f":"IF('Step 2 PO Calculator'!B3227=\"Yes\",VLOOKUP('drop down'!$A$2,'Step 2 PO Calculator'!B3227:D3762,3,FALSE),\"Leave this line blank\")","v":"Leave this line blank"},{"$nulls":11},"",null,"","No",null,null,"No"]
[null,{"$f":"IF('Step 2 PO Calculator'!B3228=\"Yes\",VLOOKUP('drop down'!$A$2,'Step 2 PO Calculator'!B3228:D3763,3,FALSE),\"Leave this line blank\")","v":"Leave this line blank"},{"$nulls":11},"",null,"","No",null,null,"No"]
[null,{"$f":"IF('Step 2 PO Calculator'!B3229=\"Yes\",VLOOKUP('drop down'!$A$2,'Step 2 PO Calculator'!B3229:D3764,3,FALSE),\"Leave this line blank\")","v":"Leave this line blank"},{"$nulls":11},"",null,"","No",null,null,"No"]
[null,{"$f":"IF('Step 2 PO Calculator'!B3230=\"Yes\",VLOOKUP('drop down'!$A$2,'Step 2 PO Calculator'!B3230:D3765,3,FALSE),\"Leave this line blank\")","v":"Leave this line blank"},{"$nulls":11},"",null,"","No",null,null,"No"]
[null,{"$f":"IF('Step 2 PO Calculator'!B3231=\"Yes\",VLOOKUP('drop down'!$A$2,'Step 2 PO Calculator'!B3231:D3766,3,FALSE),\"Leave this line blank\")","v":"Leave this line blank"},{"$nulls":11},"",null,"","No",null,null,"No"]
[null,{"$f":"IF('Step 2 PO Calculator'!B3232=\"Yes\",VLOOKUP('drop down'!$A$2,'Step 2 PO Calculator'!B3232:D3767,3,FALSE),\"Leave this line blank\")","v":"Leave this line blank"},{"$nulls":11},"",null,"","No",null,null,"No"]
[null,{"$f":"IF('Step 2 PO Calculator'!B3233=\"Yes\",VLOOKUP('drop down'!$A$2,'Step 2 PO Calculator'!B3233:D3768,3,FALSE),\"Leave this line blank\")","v":"Leave this line blank"},{"$nulls":11},"",null,"","No",null,null,"No"]
[null,{"$f":"IF('Step 2 PO Calculator'!B3234=\"Yes\",VLOOKUP('drop down'!$A$2,'Step 2 PO Calculator'!B3234:D3769,3,FALSE),\"Leave this line blank\")","v":"Leave this line blank"},{"$nulls":11},"",null,"","No",null,null,"No"]
[null,{"$f":"IF('Step 2 PO Calculator'!B3235=\"Yes\",VLOOKUP('drop down'!$A$2,'Step 2 PO Calculator'!B3235:D3770,3,FALSE),\"Leave this line blank\")","v":"Leave this line blank"},{"$nulls":11},"",null,"","No",null,null,"No"]
[null,{"$f":"IF('Step 2 PO Calculator'!B3236=\"Yes\",VLOOKUP('drop down'!$A$2,'Step 2 PO Calculator'!B3236:D3771,3,FALSE),\"Leave this line blank\")","v":"Leave this line blank"},{"$nulls":11},"",null,"","No",null,null,"No"]
[null,{"$f":"IF('Step 2 PO Calculator'!B3237=\"Yes\",VLOOKUP('drop down'!$A$2,'Step 2 PO Calculator'!B3237:D3772,3,FALSE),\"Leave this line blank\")","v":"Leave this line blank"},{"$nulls":11},"",null,"","No",null,null,"No"]
[null,{"$f":"IF('Step 2 PO Calculator'!B3238=\"Yes\",VLOOKUP('drop down'!$A$2,'Step 2 PO Calculator'!B3238:D3773,3,FALSE),\"Leave this line blank\")","v":"Leave this line blank"},{"$nulls":11},"",null,"","No",null,null,"No"]
[null,{"$f":"IF('Step 2 PO Calculator'!B3239=\"Yes\",VLOOKUP('drop down'!$A$2,'Step 2 PO Calculator'!B3239:D3774,3,FALSE),\"Leave this line blank\")","v":"Leave this line blank"},{"$nulls":11},"",null,"","No",null,null,"No"]
[null,{"$f":"IF('Step 2 PO Calculator'!B3240=\"Yes\",VLOOKUP('drop down'!$A$2,'Step 2 PO Calculator'!B3240:D3775,3,FALSE),\"Leave this line blank\")","v":"Leave this line blank"},{"$nulls":11},"",null,"","No",null,null,"No"]
[null,{"$f":"IF('Step 2 PO Calculator'!B3241=\"Yes\",VLOOKUP('drop down'!$A$2,'Step 2 PO Calculator'!B3241:D3776,3,FALSE),\"Leave this line blank\")","v":"Leave this line blank"},{"$nulls":11},"",null,"","No",null,null,"No"]
[null,{"$f":"IF('Step 2 PO Calculator'!B3242=\"Yes\",VLOOKUP('drop down'!$A$2,'Step 2 PO Calculator'!B3242:D3777,3,FALSE),\"Leave this line blank\")","v":"Leave this line blank"},{"$nulls":11},"",null,"","No",null,null,"No"]
[null,{"$f":"IF('Step 2 PO Calculator'!B3243=\"Yes\",VLOOKUP('drop down'!$A$2,'Step 2 PO Calculator'!B3243:D3778,3,FALSE),\"Leave this line blank\")","v":"Leave this line blank"},{"$nulls":11},"",null,"","No",null,null,"No"]
[null,{"$f":"IF('Step 2 PO Calculator'!B3244=\"Yes\",VLOOKUP('drop down'!$A$2,'Step 2 PO Calculator'!B3244:D3779,3,FALSE),\"Leave this line blank\")","v":"Leave this line blank"},{"$nulls":11},"",null,"","No",null,null,"No"]
[null,{"$f":"IF('Step 2 PO Calculator'!B3245=\"Yes\",VLOOKUP('drop down'!$A$2,'Step 2 PO Calculator'!B3245:D3780,3,FALSE),\"Leave this line blank\")","v":"Leave this line blank"},{"$nulls":11},"",null,"","No",null,null,"No"]
[null,{"$f":"IF('Step 2 PO Calculator'!B3246=\"Yes\",VLOOKUP('drop down'!$A$2,'Step 2 PO Calculator'!B3246:D3781,3,FALSE),\"Leave this line blank\")","v":"Leave this line blank"},{"$nulls":11},"",null,"","No",null,null,"No"]
[null,{"$f":"IF('Step 2 PO Calculator'!B3247=\"Yes\",VLOOKUP('drop down'!$A$2,'Step 2 PO Calculator'!B3247:D3782,3,FALSE),\"Leave this line blank\")","v":"Leave this line blank"},{"$nulls":11},"",null,"","No",null,null,"No"]
[null,{"$f":"IF('Step 2 PO Calculator'!B3248=\"Yes\",VLOOKUP('drop down'!$A$2,'Step 2 PO Calculator'!B3248:D3783,3,FALSE),\"Leave this line blank\")","v":"Leave this line blank"},{"$nulls":11},"",null,"","No",null,null,"No"]
[null,{"$f":"IF('Step 2 PO Calculator'!B3249=\"Yes\",VLOOKUP('drop down'!$A$2,'Step 2 PO Calculator'!B3249:D3784,3,FALSE),\"Leave this line blank\")","v":"Leave this line blank"},{"$nulls":11},"",null,"","No",null,null,"No"]
[null,{"$f":"IF('Step 2 PO Calculator'!B3250=\"Yes\",VLOOKUP('drop down'!$A$2,'Step 2 PO Calculator'!B3250:D3785,3,FALSE),\"Leave this line blank\")","v":"Leave this line blank"},{"$nulls":11},"",null,"","No",null,null,"No"]
[null,{"$f":"IF('Step 2 PO Calculator'!B3251=\"Yes\",VLOOKUP('drop down'!$A$2,'Step 2 PO Calculator'!B3251:D3786,3,FALSE),\"Leave this line blank\")","v":"Leave this line blank"},{"$nulls":11},"",null,"","No",null,null,"No"]
[null,{"$f":"IF('Step 2 PO Calculator'!B3252=\"Yes\",VLOOKUP('drop down'!$A$2,'Step 2 PO Calculator'!B3252:D3787,3,FALSE),\"Leave this line blank\")","v":"Leave this line blank"},{"$nulls":11},"",null,"","No",null,null,"No"]
[null,{"$f":"IF('Step 2 PO Calculator'!B3253=\"Yes\",VLOOKUP('drop down'!$A$2,'Step 2 PO Calculator'!B3253:D3788,3,FALSE),\"Leave this line blank\")","v":"Leave this line blank"},{"$nulls":11},"",null,"","No",null,null,"No"]
[null,{"$f":"IF('Step 2 PO Calculator'!B3254=\"Yes\",VLOOKUP('drop down'!$A$2,'Step 2 PO Calculator'!B3254:D3789,3,FALSE),\"Leave this line blank\")","v":"Leave this line blank"},{"$nulls":11},"",null,"","No",null,null,"No"]
[null,{"$f":"IF('Step 2 PO Calculator'!B3255=\"Yes\",VLOOKUP('drop down'!$A$2,'Step 2 PO Calculator'!B3255:D3790,3,FALSE),\"Leave this line blank\")","v":"Leave this line blank"},{"$nulls":11},"",null,"","No",null,null,"No"]
[null,{"$f":"IF('Step 2 PO Calculator'!B3256=\"Yes\",VLOOKUP('drop down'!$A$2,'Step 2 PO Calculator'!B3256:D3791,3,FALSE),\"Leave this line blank\")","v":"Leave this line blank"},{"$nulls":11},"",null,"","No",null,null,"No"]
[null,{"$f":"IF('Step 2 PO Calculator'!B3257=\"Yes\",VLOOKUP('drop down'!$A$2,'Step 2 PO Calculator'!B3257:D3792,3,FALSE),\"Leave this line blank\")","v":"Leave this line blank"},{"$nulls":11},"",null,"","No",null,null,"No"]
[null,{"$f":"IF('Step 2 PO Calculator'!B3258=\"Yes\",VLOOKUP('drop down'!$A$2,'Step 2 PO Calculator'!B3258:D3793,3,FALSE),\"Leave this line blank\")","v":"Leave this line blank"},{"$nulls":11},"",null,"","No",null,null,"No"]
[null,{"$f":"IF('Step 2 PO Calculator'!B3259=\"Yes\",VLOOKUP('drop down'!$A$2,'Step 2 PO Calculator'!B3259:D3794,3,FALSE),\"Leave this line blank\")","v":"Leave this line blank"},{"$nulls":11},"",null,"","No",null,null,"No"]
[null,{"$f":"IF('Step 2 PO Calculator'!B3260=\"Yes\",VLOOKUP('drop down'!$A$2,'Step 2 PO Calculator'!B3260:D3795,3,FALSE),\"Leave this line blank\")","v":"Leave this line blank"},{"$nulls":11},"",null,"","No",null,null,"No"]
[null,{"$f":"IF('Step 2 PO Calculator'!B3261=\"Yes\",VLOOKUP('drop down'!$A$2,'Step 2 PO Calculator'!B3261:D3796,3,FALSE),\"Leave this line blank\")","v":"Leave this line blank"},{"$nulls":11},"",null,"","No",null,null,"No"]
[null,{"$f":"IF('Step 2 PO Calculator'!B3262=\"Yes\",VLOOKUP('drop down'!$A$2,'Step 2 PO Calculator'!B3262:D3797,3,FALSE),\"Leave this line blank\")","v":"Leave this line blank"},{"$nulls":11},"",null,"","No",null,null,"No"]
[null,{"$f":"IF('Step 2 PO Calculator'!B3263=\"Yes\",VLOOKUP('drop down'!$A$2,'Step 2 PO Calculator'!B3263:D3798,3,FALSE),\"Leave this line blank\")","v":"Leave this line blank"},{"$nulls":11},"",null,"","No",null,null,"No"]
[null,{"$f":"IF('Step 2 PO Calculator'!B3264=\"Yes\",VLOOKUP('drop down'!$A$2,'Step 2 PO Calculator'!B3264:D3799,3,FALSE),\"Leave this line blank\")","v":"Leave this line blank"},{"$nulls":11},"",null,"","No",null,null,"No"]
[null,{"$f":"IF('Step 2 PO Calculator'!B3265=\"Yes\",VLOOKUP('drop down'!$A$2,'Step 2 PO Calculator'!B3265:D3800,3,FALSE),\"Leave this line blank\")","v":"Leave this line blank"},{"$nulls":11},"",null,"","No",null,null,"No"]
[null,{"$f":"IF('Step 2 PO Calculator'!B3266=\"Yes\",VLOOKUP('drop down'!$A$2,'Step 2 PO Calculator'!B3266:D3801,3,FALSE),\"Leave this line blank\")","v":"Leave this line blank"},{"$nulls":11},"",null,"","No",null,null,"No"]
[null,{"$f":"IF('Step 2 PO Calculator'!B3267=\"Yes\",VLOOKUP('drop down'!$A$2,'Step 2 PO Calculator'!B3267:D3802,3,FALSE),\"Leave this line blank\")","v":"Leave this line blank"},{"$nulls":11},"",null,"","No",null,null,"No"]
[null,{"$f":"IF('Step 2 PO Calculator'!B3268=\"Yes\",VLOOKUP('drop down'!$A$2,'Step 2 PO Calculator'!B3268:D3803,3,FALSE),\"Leave this line blank\")","v":"Leave this line blank"},{"$nulls":11},"",null,"","No",null,null,"No"]
[null,{"$f":"IF('Step 2 PO Calculator'!B3269=\"Yes\",VLOOKUP('drop down'!$A$2,'Step 2 PO Calculator'!B3269:D3804,3,FALSE),\"Leave this line blank\")","v":"Leave this line blank"},{"$nulls":11},"",null,"","No",null,null,"No"]
[null,{"$f":"IF('Step 2 PO Calculator'!B3270=\"Yes\",VLOOKUP('drop down'!$A$2,'Step 2 PO Calculator'!B3270:D3805,3,FALSE),\"Leave this line blank\")","v":"Leave this line blank"},{"$nulls":11},"",null,"","No",null,null,"No"]
[null,{"$f":"IF('Step 2 PO Calculator'!B3271=\"Yes\",VLOOKUP('drop down'!$A$2,'Step 2 PO Calculator'!B3271:D3806,3,FALSE),\"Leave this line blank\")","v":"Leave this line blank"},{"$nulls":11},"",null,"","No",null,null,"No"]
[null,{"$f":"IF('Step 2 PO Calculator'!B3272=\"Yes\",VLOOKUP('drop down'!$A$2,'Step 2 PO Calculator'!B3272:D3807,3,FALSE),\"Leave this line blank\")","v":"Leave this line blank"},{"$nulls":11},"",null,"","No",null,null,"No"]
[null,{"$f":"IF('Step 2 PO Calculator'!B3273=\"Yes\",VLOOKUP('drop down'!$A$2,'Step 2 PO Calculator'!B3273:D3808,3,FALSE),\"Leave this line blank\")","v":"Leave this line blank"},{"$nulls":11},"",null,"","No",null,null,"No"]
[null,{"$f":"IF('Step 2 PO Calculator'!B3274=\"Yes\",VLOOKUP('drop down'!$A$2,'Step 2 PO Calculator'!B3274:D3809,3,FALSE),\"Leave this line blank\")","v":"Leave this line blank"},{"$nulls":11},"",null,"","No",null,null,"No"]
[null,{"$f":"IF('Step 2 PO Calculator'!B3275=\"Yes\",VLOOKUP('drop down'!$A$2,'Step 2 PO Calculator'!B3275:D3810,3,FALSE),\"Leave this line blank\")","v":"Leave this line blank"},{"$nulls":11},{"$f":"IF(I1806=\"\",\"\",IF(_xlfn.DAYS(I$8,I1806)>=180,\"X\",\"\"))","v":""},null,{"$f":"IF(K1806=\"\",\"\",IF(_xlfn.DAYS(K1806,I$8)<0,\"\",\"X\"))","v":""},{"$f":"IF(AND(N1806=\"X\",P1806=\"X\"),\"Yes\",\"No\")","v":"No"},null,null,{"$f":"IF(AND(N1806=\"X\",P1806=\"X\",R1806=\"Yes\"),\"Yes\",\"No\")","v":"No"}]
[null,{"$f":"IF('Step 2 PO Calculator'!B3276=\"Yes\",VLOOKUP('drop down'!$A$2,'Step 2 PO Calculator'!B3276:D3811,3,FALSE),\"Leave this line blank\")","v":"Leave this line blank"},{"$nulls":11},"",null,"","No",null,null,"No"]
[null,{"$f":"IF('Step 2 PO Calculator'!B3277=\"Yes\",VLOOKUP('drop down'!$A$2,'Step 2 PO Calculator'!B3277:D3812,3,FALSE),\"Leave this line blank\")","v":"Leave this line blank"},{"$nulls":11},"",null,"","No",null,null,"No"]
[null,{"$f":"IF('Step 2 PO Calculator'!B3278=\"Yes\",VLOOKUP('drop down'!$A$2,'Step 2 PO Calculator'!B3278:D3813,3,FALSE),\"Leave this line blank\")","v":"Leave this line blank"},{"$nulls":11},"",null,"","No",null,null,"No"]
[null,{"$f":"IF('Step 2 PO Calculator'!B3279=\"Yes\",VLOOKUP('drop down'!$A$2,'Step 2 PO Calculator'!B3279:D3814,3,FALSE),\"Leave this line blank\")","v":"Leave this line blank"},{"$nulls":11},"",null,"","No",null,null,"No"]
[null,{"$f":"IF('Step 2 PO Calculator'!B3280=\"Yes\",VLOOKUP('drop down'!$A$2,'Step 2 PO Calculator'!B3280:D3815,3,FALSE),\"Leave this line blank\")","v":"Leave this line blank"},{"$nulls":11},"",null,"","No",null,null,"No"]
[null,{"$f":"IF('Step 2 PO Calculator'!B3281=\"Yes\",VLOOKUP('drop down'!$A$2,'Step 2 PO Calculator'!B3281:D3816,3,FALSE),\"Leave this line blank\")","v":"Leave this line blank"},{"$nulls":11},"",null,"","No",null,null,"No"]
[null,{"$f":"IF('Step 2 PO Calculator'!B3282=\"Yes\",VLOOKUP('drop down'!$A$2,'Step 2 PO Calculator'!B3282:D3817,3,FALSE),\"Leave this line blank\")","v":"Leave this line blank"},{"$nulls":11},"",null,"","No",null,null,"No"]
[null,{"$f":"IF('Step 2 PO Calculator'!B3283=\"Yes\",VLOOKUP('drop down'!$A$2,'Step 2 PO Calculator'!B3283:D3818,3,FALSE),\"Leave this line blank\")","v":"Leave this line blank"},{"$nulls":11},"",null,"","No",null,null,"No"]
[null,{"$f":"IF('Step 2 PO Calculator'!B3284=\"Yes\",VLOOKUP('drop down'!$A$2,'Step 2 PO Calculator'!B3284:D3819,3,FALSE),\"Leave this line blank\")","v":"Leave this line blank"},{"$nulls":11},"",null,"","No",null,null,"No"]
[null,{"$f":"IF('Step 2 PO Calculator'!B3285=\"Yes\",VLOOKUP('drop down'!$A$2,'Step 2 PO Calculator'!B3285:D3820,3,FALSE),\"Leave this line blank\")","v":"Leave this line blank"},{"$nulls":11},"",null,"","No",null,null,"No"]
[null,{"$f":"IF('Step 2 PO Calculator'!B3286=\"Yes\",VLOOKUP('drop down'!$A$2,'Step 2 PO Calculator'!B3286:D3821,3,FALSE),\"Leave this line blank\")","v":"Leave this line blank"},{"$nulls":11},"",null,"","No",null,null,"No"]
[null,{"$f":"IF('Step 2 PO Calculator'!B3287=\"Yes\",VLOOKUP('drop down'!$A$2,'Step 2 PO Calculator'!B3287:D3822,3,FALSE),\"Leave this line blank\")","v":"Leave this line blank"},{"$nulls":11},"",null,"","No",null,null,"No"]
[null,{"$f":"IF('Step 2 PO Calculator'!B3288=\"Yes\",VLOOKUP('drop down'!$A$2,'Step 2 PO Calculator'!B3288:D3823,3,FALSE),\"Leave this line blank\")","v":"Leave this line blank"},{"$nulls":11},"",null,"","No",null,null,"No"]
[null,{"$f":"IF('Step 2 PO Calculator'!B3289=\"Yes\",VLOOKUP('drop down'!$A$2,'Step 2 PO Calculator'!B3289:D3824,3,FALSE),\"Leave this line blank\")","v":"Leave this line blank"},{"$nulls":11},"",null,"","No",null,null,"No"]
[null,{"$f":"IF('Step 2 PO Calculator'!B3290=\"Yes\",VLOOKUP('drop down'!$A$2,'Step 2 PO Calculator'!B3290:D3825,3,FALSE),\"Leave this line blank\")","v":"Leave this line blank"},{"$nulls":11},"",null,"","No",null,null,"No"]
[null,{"$f":"IF('Step 2 PO Calculator'!B3291=\"Yes\",VLOOKUP('drop down'!$A$2,'Step 2 PO Calculator'!B3291:D3826,3,FALSE),\"Leave this line blank\")","v":"Leave this line blank"},{"$nulls":11},"",null,"","No",null,null,"No"]
[null,{"$f":"IF('Step 2 PO Calculator'!B3292=\"Yes\",VLOOKUP('drop down'!$A$2,'Step 2 PO Calculator'!B3292:D3827,3,FALSE),\"Leave this line blank\")","v":"Leave this line blank"},{"$nulls":11},"",null,"","No",null,null,"No"]
[null,{"$f":"IF('Step 2 PO Calculator'!B3293=\"Yes\",VLOOKUP('drop down'!$A$2,'Step 2 PO Calculator'!B3293:D3828,3,FALSE),\"Leave this line blank\")","v":"Leave this line blank"},{"$nulls":11},"",null,"","No",null,null,"No"]
[null,{"$f":"IF('Step 2 PO Calculator'!B3294=\"Yes\",VLOOKUP('drop down'!$A$2,'Step 2 PO Calculator'!B3294:D3829,3,FALSE),\"Leave this line blank\")","v":"Leave this line blank"},{"$nulls":11},"",null,"","No",null,null,"No"]
[null,{"$f":"IF('Step 2 PO Calculator'!B3295=\"Yes\",VLOOKUP('drop down'!$A$2,'Step 2 PO Calculator'!B3295:D3830,3,FALSE),\"Leave this line blank\")","v":"Leave this line blank"},{"$nulls":11},"",null,"","No",null,null,"No"]
[null,{"$f":"IF('Step 2 PO Calculator'!B3296=\"Yes\",VLOOKUP('drop down'!$A$2,'Step 2 PO Calculator'!B3296:D3831,3,FALSE),\"Leave this line blank\")","v":"Leave this line blank"},{"$nulls":11},"",null,"","No",null,null,"No"]
[null,{"$f":"IF('Step 2 PO Calculator'!B3297=\"Yes\",VLOOKUP('drop down'!$A$2,'Step 2 PO Calculator'!B3297:D3832,3,FALSE),\"Leave this line blank\")","v":"Leave this line blank"},{"$nulls":11},"",null,"","No",null,null,"No"]
[null,{"$f":"IF('Step 2 PO Calculator'!B3298=\"Yes\",VLOOKUP('drop down'!$A$2,'Step 2 PO Calculator'!B3298:D3833,3,FALSE),\"Leave this line blank\")","v":"Leave this line blank"},{"$nulls":11},"",null,"","No",null,null,"No"]
[null,{"$f":"IF('Step 2 PO Calculator'!B3299=\"Yes\",VLOOKUP('drop down'!$A$2,'Step 2 PO Calculator'!B3299:D3834,3,FALSE),\"Leave this line blank\")","v":"Leave this line blank"},{"$nulls":11},"",null,"","No",null,null,"No"]
[null,{"$f":"IF('Step 2 PO Calculator'!B3300=\"Yes\",VLOOKUP('drop down'!$A$2,'Step 2 PO Calculator'!B3300:D3835,3,FALSE),\"Leave this line blank\")","v":"Leave this line blank"},{"$nulls":11},"",null,"","No",null,null,"No"]
[null,{"$f":"IF('Step 2 PO Calculator'!B3301=\"Yes\",VLOOKUP('drop down'!$A$2,'Step 2 PO Calculator'!B3301:D3836,3,FALSE),\"Leave this line blank\")","v":"Leave this line blank"},{"$nulls":11},"",null,"","No",null,null,"No"]
[null,{"$f":"IF('Step 2 PO Calculator'!B3302=\"Yes\",VLOOKUP('drop down'!$A$2,'Step 2 PO Calculator'!B3302:D3837,3,FALSE),\"Leave this line blank\")","v":"Leave this line blank"},{"$nulls":11},"",null,"","No",null,null,"No"]
[null,{"$f":"IF('Step 2 PO Calculator'!B3303=\"Yes\",VLOOKUP('drop down'!$A$2,'Step 2 PO Calculator'!B3303:D3838,3,FALSE),\"Leave this line blank\")","v":"Leave this line blank"},{"$nulls":11},"",null,"","No",null,null,"No"]
[null,{"$f":"IF('Step 2 PO Calculator'!B3304=\"Yes\",VLOOKUP('drop down'!$A$2,'Step 2 PO Calculator'!B3304:D3839,3,FALSE),\"Leave this line blank\")","v":"Leave this line blank"},{"$nulls":11},"",null,"","No",null,null,"No"]
[null,{"$f":"IF('Step 2 PO Calculator'!B3305=\"Yes\",VLOOKUP('drop down'!$A$2,'Step 2 PO Calculator'!B3305:D3840,3,FALSE),\"Leave this line blank\")","v":"Leave this line blank"},{"$nulls":11},"",null,"","No",null,null,"No"]
[null,{"$f":"IF('Step 2 PO Calculator'!B3306=\"Yes\",VLOOKUP('drop down'!$A$2,'Step 2 PO Calculator'!B3306:D3841,3,FALSE),\"Leave this line blank\")","v":"Leave this line blank"},{"$nulls":11},"",null,"","No",null,null,"No"]
[null,{"$f":"IF('Step 2 PO Calculator'!B3307=\"Yes\",VLOOKUP('drop down'!$A$2,'Step 2 PO Calculator'!B3307:D3842,3,FALSE),\"Leave this line blank\")","v":"Leave this line blank"},{"$nulls":11},"",null,"","No",null,null,"No"]
[null,{"$f":"IF('Step 2 PO Calculator'!B3308=\"Yes\",VLOOKUP('drop down'!$A$2,'Step 2 PO Calculator'!B3308:D3843,3,FALSE),\"Leave this line blank\")","v":"Leave this line blank"},{"$nulls":11},"",null,"","No",null,null,"No"]
[null,{"$f":"IF('Step 2 PO Calculator'!B3309=\"Yes\",VLOOKUP('drop down'!$A$2,'Step 2 PO Calculator'!B3309:D3844,3,FALSE),\"Leave this line blank\")","v":"Leave this line blank"},{"$nulls":11},"",null,"","No",null,null,"No"]
[null,{"$f":"IF('Step 2 PO Calculator'!B3310=\"Yes\",VLOOKUP('drop down'!$A$2,'Step 2 PO Calculator'!B3310:D3845,3,FALSE),\"Leave this line blank\")","v":"Leave this line blank"},{"$nulls":11},"",null,"","No",null,null,"No"]
[null,{"$f":"IF('Step 2 PO Calculator'!B3311=\"Yes\",VLOOKUP('drop down'!$A$2,'Step 2 PO Calculator'!B3311:D3846,3,FALSE),\"Leave this line blank\")","v":"Leave this line blank"},{"$nulls":11},"",null,"","No",null,null,"No"]
[null,{"$f":"IF('Step 2 PO Calculator'!B3312=\"Yes\",VLOOKUP('drop down'!$A$2,'Step 2 PO Calculator'!B3312:D3847,3,FALSE),\"Leave this line blank\")","v":"Leave this line blank"},{"$nulls":11},"",null,"","No",null,null,"No"]
[null,{"$f":"IF('Step 2 PO Calculator'!B3313=\"Yes\",VLOOKUP('drop down'!$A$2,'Step 2 PO Calculator'!B3313:D3848,3,FALSE),\"Leave this line blank\")","v":"Leave this line blank"},{"$nulls":11},"",null,"","No",null,null,"No"]
[null,{"$f":"IF('Step 2 PO Calculator'!B3314=\"Yes\",VLOOKUP('drop down'!$A$2,'Step 2 PO Calculator'!B3314:D3849,3,FALSE),\"Leave this line blank\")","v":"Leave this line blank"},{"$nulls":11},"",null,"","No",null,null,"No"]
[null,{"$f":"IF('Step 2 PO Calculator'!B3315=\"Yes\",VLOOKUP('drop down'!$A$2,'Step 2 PO Calculator'!B3315:D3850,3,FALSE),\"Leave this line blank\")","v":"Leave this line blank"},{"$nulls":11},"",null,"","No",null,null,"No"]
[null,{"$f":"IF('Step 2 PO Calculator'!B3316=\"Yes\",VLOOKUP('drop down'!$A$2,'Step 2 PO Calculator'!B3316:D3851,3,FALSE),\"Leave this line blank\")","v":"Leave this line blank"},{"$nulls":11},"",null,"","No",null,null,"No"]
[null,{"$f":"IF('Step 2 PO Calculator'!B3317=\"Yes\",VLOOKUP('drop down'!$A$2,'Step 2 PO Calculator'!B3317:D3852,3,FALSE),\"Leave this line blank\")","v":"Leave this line blank"},{"$nulls":11},"",null,"","No",null,null,"No"]
[null,{"$f":"IF('Step 2 PO Calculator'!B3318=\"Yes\",VLOOKUP('drop down'!$A$2,'Step 2 PO Calculator'!B3318:D3853,3,FALSE),\"Leave this line blank\")","v":"Leave this line blank"},{"$nulls":11},"",null,"","No",null,null,"No"]
[null,{"$f":"IF('Step 2 PO Calculator'!B3319=\"Yes\",VLOOKUP('drop down'!$A$2,'Step 2 PO Calculator'!B3319:D3854,3,FALSE),\"Leave this line blank\")","v":"Leave this line blank"},{"$nulls":11},"",null,"","No",null,null,"No"]
[null,{"$f":"IF('Step 2 PO Calculator'!B3320=\"Yes\",VLOOKUP('drop down'!$A$2,'Step 2 PO Calculator'!B3320:D3855,3,FALSE),\"Leave this line blank\")","v":"Leave this line blank"},{"$nulls":11},"",null,"","No",null,null,"No"]
[null,{"$f":"IF('Step 2 PO Calculator'!B3321=\"Yes\",VLOOKUP('drop down'!$A$2,'Step 2 PO Calculator'!B3321:D3856,3,FALSE),\"Leave this line blank\")","v":"Leave this line blank"},{"$nulls":11},"",null,"","No",null,null,"No"]
[null,{"$f":"IF('Step 2 PO Calculator'!B3322=\"Yes\",VLOOKUP('drop down'!$A$2,'Step 2 PO Calculator'!B3322:D3857,3,FALSE),\"Leave this line blank\")","v":"Leave this line blank"},{"$nulls":11},"",null,"","No",null,null,"No"]
[null,{"$f":"IF('Step 2 PO Calculator'!B3323=\"Yes\",VLOOKUP('drop down'!$A$2,'Step 2 PO Calculator'!B3323:D3858,3,FALSE),\"Leave this line blank\")","v":"Leave this line blank"},{"$nulls":11},"",null,"","No",null,null,"No"]
[null,{"$f":"IF('Step 2 PO Calculator'!B3324=\"Yes\",VLOOKUP('drop down'!$A$2,'Step 2 PO Calculator'!B3324:D3859,3,FALSE),\"Leave this line blank\")","v":"Leave this line blank"},{"$nulls":11},"",null,"","No",null,null,"No"]
[null,{"$f":"IF('Step 2 PO Calculator'!B3325=\"Yes\",VLOOKUP('drop down'!$A$2,'Step 2 PO Calculator'!B3325:D3860,3,FALSE),\"Leave this line blank\")","v":"Leave this line blank"},{"$nulls":11},"",null,"","No",null,null,"No"]
[null,{"$f":"IF('Step 2 PO Calculator'!B3326=\"Yes\",VLOOKUP('drop down'!$A$2,'Step 2 PO Calculator'!B3326:D3861,3,FALSE),\"Leave this line blank\")","v":"Leave this line blank"},{"$nulls":11},"",null,"","No",null,null,"No"]
[null,{"$f":"IF('Step 2 PO Calculator'!B3327=\"Yes\",VLOOKUP('drop down'!$A$2,'Step 2 PO Calculator'!B3327:D3862,3,FALSE),\"Leave this line blank\")","v":"Leave this line blank"},{"$nulls":11},"",null,"","No",null,null,"No"]
[null,{"$f":"IF('Step 2 PO Calculator'!B3328=\"Yes\",VLOOKUP('drop down'!$A$2,'Step 2 PO Calculator'!B3328:D3863,3,FALSE),\"Leave this line blank\")","v":"Leave this line blank"},{"$nulls":11},"",null,"","No",null,null,"No"]
[null,{"$f":"IF('Step 2 PO Calculator'!B3329=\"Yes\",VLOOKUP('drop down'!$A$2,'Step 2 PO Calculator'!B3329:D3864,3,FALSE),\"Leave this line blank\")","v":"Leave this line blank"},{"$nulls":11},"",null,"","No",null,null,"No"]
[null,{"$f":"IF('Step 2 PO Calculator'!B3330=\"Yes\",VLOOKUP('drop down'!$A$2,'Step 2 PO Calculator'!B3330:D3865,3,FALSE),\"Leave this line blank\")","v":"Leave this line blank"},{"$nulls":11},"",null,"","No",null,null,"No"]
[null,{"$f":"IF('Step 2 PO Calculator'!B3331=\"Yes\",VLOOKUP('drop down'!$A$2,'Step 2 PO Calculator'!B3331:D3866,3,FALSE),\"Leave this line blank\")","v":"Leave this line blank"},{"$nulls":11},"",null,"","No",null,null,"No"]
[null,{"$f":"IF('Step 2 PO Calculator'!B3332=\"Yes\",VLOOKUP('drop down'!$A$2,'Step 2 PO Calculator'!B3332:D3867,3,FALSE),\"Leave this line blank\")","v":"Leave this line blank"},{"$nulls":11},"",null,"","No",null,null,"No"]
[null,{"$f":"IF('Step 2 PO Calculator'!B3333=\"Yes\",VLOOKUP('drop down'!$A$2,'Step 2 PO Calculator'!B3333:D3868,3,FALSE),\"Leave this line blank\")","v":"Leave this line blank"},{"$nulls":11},"",null,"","No",null,null,"No"]
[null,{"$f":"IF('Step 2 PO Calculator'!B3334=\"Yes\",VLOOKUP('drop down'!$A$2,'Step 2 PO Calculator'!B3334:D3869,3,FALSE),\"Leave this line blank\")","v":"Leave this line blank"},{"$nulls":11},"",null,"","No",null,null,"No"]
[null,{"$f":"IF('Step 2 PO Calculator'!B3335=\"Yes\",VLOOKUP('drop down'!$A$2,'Step 2 PO Calculator'!B3335:D3870,3,FALSE),\"Leave this line blank\")","v":"Leave this line blank"},{"$nulls":11},"",null,"","No",null,null,"No"]
[null,{"$f":"IF('Step 2 PO Calculator'!B3336=\"Yes\",VLOOKUP('drop down'!$A$2,'Step 2 PO Calculator'!B3336:D3871,3,FALSE),\"Leave this line blank\")","v":"Leave this line blank"},{"$nulls":11},"",null,"","No",null,null,"No"]
[null,{"$f":"IF('Step 2 PO Calculator'!B3337=\"Yes\",VLOOKUP('drop down'!$A$2,'Step 2 PO Calculator'!B3337:D3872,3,FALSE),\"Leave this line blank\")","v":"Leave this line blank"},{"$nulls":11},"",null,"","No",null,null,"No"]
[null,{"$f":"IF('Step 2 PO Calculator'!B3338=\"Yes\",VLOOKUP('drop down'!$A$2,'Step 2 PO Calculator'!B3338:D3873,3,FALSE),\"Leave this line blank\")","v":"Leave this line blank"},{"$nulls":11},"",null,"","No",null,null,"No"]
[null,{"$f":"IF('Step 2 PO Calculator'!B3339=\"Yes\",VLOOKUP('drop down'!$A$2,'Step 2 PO Calculator'!B3339:D3874,3,FALSE),\"Leave this line blank\")","v":"Leave this line blank"},{"$nulls":11},{"$f":"IF(I1870=\"\",\"\",IF(_xlfn.DAYS(I$8,I1870)>=180,\"X\",\"\"))","v":""},null,{"$f":"IF(K1870=\"\",\"\",IF(_xlfn.DAYS(K1870,I$8)<0,\"\",\"X\"))","v":""},{"$f":"IF(AND(N1870=\"X\",P1870=\"X\"),\"Yes\",\"No\")","v":"No"},null,null,{"$f":"IF(AND(N1870=\"X\",P1870=\"X\",R1870=\"Yes\"),\"Yes\",\"No\")","v":"No"}]
[null,{"$f":"IF('Step 2 PO Calculator'!B3340=\"Yes\",VLOOKUP('drop down'!$A$2,'Step 2 PO Calculator'!B3340:D3875,3,FALSE),\"Leave this line blank\")","v":"Leave this line blank"},{"$nulls":11},"",null,"","No",null,null,"No"]
[null,{"$f":"IF('Step 2 PO Calculator'!B3341=\"Yes\",VLOOKUP('drop down'!$A$2,'Step 2 PO Calculator'!B3341:D3876,3,FALSE),\"Leave this line blank\")","v":"Leave this line blank"},{"$nulls":11},"",null,"","No",null,null,"No"]
[null,{"$f":"IF('Step 2 PO Calculator'!B3342=\"Yes\",VLOOKUP('drop down'!$A$2,'Step 2 PO Calculator'!B3342:D3877,3,FALSE),\"Leave this line blank\")","v":"Leave this line blank"},{"$nulls":11},"",null,"","No",null,null,"No"]
[null,{"$f":"IF('Step 2 PO Calculator'!B3343=\"Yes\",VLOOKUP('drop down'!$A$2,'Step 2 PO Calculator'!B3343:D3878,3,FALSE),\"Leave this line blank\")","v":"Leave this line blank"},{"$nulls":11},"",null,"","No",null,null,"No"]
[null,{"$f":"IF('Step 2 PO Calculator'!B3344=\"Yes\",VLOOKUP('drop down'!$A$2,'Step 2 PO Calculator'!B3344:D3879,3,FALSE),\"Leave this line blank\")","v":"Leave this line blank"},{"$nulls":11},"",null,"","No",null,null,"No"]
[null,{"$f":"IF('Step 2 PO Calculator'!B3345=\"Yes\",VLOOKUP('drop down'!$A$2,'Step 2 PO Calculator'!B3345:D3880,3,FALSE),\"Leave this line blank\")","v":"Leave this line blank"},{"$nulls":11},"",null,"","No",null,null,"No"]
[null,{"$f":"IF('Step 2 PO Calculator'!B3346=\"Yes\",VLOOKUP('drop down'!$A$2,'Step 2 PO Calculator'!B3346:D3881,3,FALSE),\"Leave this line blank\")","v":"Leave this line blank"},{"$nulls":11},"",null,"","No",null,null,"No"]
[null,{"$f":"IF('Step 2 PO Calculator'!B3347=\"Yes\",VLOOKUP('drop down'!$A$2,'Step 2 PO Calculator'!B3347:D3882,3,FALSE),\"Leave this line blank\")","v":"Leave this line blank"},{"$nulls":11},"",null,"","No",null,null,"No"]
[null,{"$f":"IF('Step 2 PO Calculator'!B3348=\"Yes\",VLOOKUP('drop down'!$A$2,'Step 2 PO Calculator'!B3348:D3883,3,FALSE),\"Leave this line blank\")","v":"Leave this line blank"},{"$nulls":11},"",null,"","No",null,null,"No"]
[null,{"$f":"IF('Step 2 PO Calculator'!B3349=\"Yes\",VLOOKUP('drop down'!$A$2,'Step 2 PO Calculator'!B3349:D3884,3,FALSE),\"Leave this line blank\")","v":"Leave this line blank"},{"$nulls":11},"",null,"","No",null,null,"No"]
[null,{"$f":"IF('Step 2 PO Calculator'!B3350=\"Yes\",VLOOKUP('drop down'!$A$2,'Step 2 PO Calculator'!B3350:D3885,3,FALSE),\"Leave this line blank\")","v":"Leave this line blank"},{"$nulls":11},"",null,"","No",null,null,"No"]
[null,{"$f":"IF('Step 2 PO Calculator'!B3351=\"Yes\",VLOOKUP('drop down'!$A$2,'Step 2 PO Calculator'!B3351:D3886,3,FALSE),\"Leave this line blank\")","v":"Leave this line blank"},{"$nulls":11},"",null,"","No",null,null,"No"]
[null,{"$f":"IF('Step 2 PO Calculator'!B3352=\"Yes\",VLOOKUP('drop down'!$A$2,'Step 2 PO Calculator'!B3352:D3887,3,FALSE),\"Leave this line blank\")","v":"Leave this line blank"},{"$nulls":11},"",null,"","No",null,null,"No"]
[null,{"$f":"IF('Step 2 PO Calculator'!B3353=\"Yes\",VLOOKUP('drop down'!$A$2,'Step 2 PO Calculator'!B3353:D3888,3,FALSE),\"Leave this line blank\")","v":"Leave this line blank"},{"$nulls":11},"",null,"","No",null,null,"No"]
[null,{"$f":"IF('Step 2 PO Calculator'!B3354=\"Yes\",VLOOKUP('drop down'!$A$2,'Step 2 PO Calculator'!B3354:D3889,3,FALSE),\"Leave this line blank\")","v":"Leave this line blank"},{"$nulls":11},"",null,"","No",null,null,"No"]
[null,{"$f":"IF('Step 2 PO Calculator'!B3355=\"Yes\",VLOOKUP('drop down'!$A$2,'Step 2 PO Calculator'!B3355:D3890,3,FALSE),\"Leave this line blank\")","v":"Leave this line blank"},{"$nulls":11},"",null,"","No",null,null,"No"]
[null,{"$f":"IF('Step 2 PO Calculator'!B3356=\"Yes\",VLOOKUP('drop down'!$A$2,'Step 2 PO Calculator'!B3356:D3891,3,FALSE),\"Leave this line blank\")","v":"Leave this line blank"},{"$nulls":11},"",null,"","No",null,null,"No"]
[null,{"$f":"IF('Step 2 PO Calculator'!B3357=\"Yes\",VLOOKUP('drop down'!$A$2,'Step 2 PO Calculator'!B3357:D3892,3,FALSE),\"Leave this line blank\")","v":"Leave this line blank"},{"$nulls":11},"",null,"","No",null,null,"No"]
[null,{"$f":"IF('Step 2 PO Calculator'!B3358=\"Yes\",VLOOKUP('drop down'!$A$2,'Step 2 PO Calculator'!B3358:D3893,3,FALSE),\"Leave this line blank\")","v":"Leave this line blank"},{"$nulls":11},"",null,"","No",null,null,"No"]
[null,{"$f":"IF('Step 2 PO Calculator'!B3359=\"Yes\",VLOOKUP('drop down'!$A$2,'Step 2 PO Calculator'!B3359:D3894,3,FALSE),\"Leave this line blank\")","v":"Leave this line blank"},{"$nulls":11},"",null,"","No",null,null,"No"]
[null,{"$f":"IF('Step 2 PO Calculator'!B3360=\"Yes\",VLOOKUP('drop down'!$A$2,'Step 2 PO Calculator'!B3360:D3895,3,FALSE),\"Leave this line blank\")","v":"Leave this line blank"},{"$nulls":11},"",null,"","No",null,null,"No"]
[null,{"$f":"IF('Step 2 PO Calculator'!B3361=\"Yes\",VLOOKUP('drop down'!$A$2,'Step 2 PO Calculator'!B3361:D3896,3,FALSE),\"Leave this line blank\")","v":"Leave this line blank"},{"$nulls":11},"",null,"","No",null,null,"No"]
[null,{"$f":"IF('Step 2 PO Calculator'!B3362=\"Yes\",VLOOKUP('drop down'!$A$2,'Step 2 PO Calculator'!B3362:D3897,3,FALSE),\"Leave this line blank\")","v":"Leave this line blank"},{"$nulls":11},"",null,"","No",null,null,"No"]
[null,{"$f":"IF('Step 2 PO Calculator'!B3363=\"Yes\",VLOOKUP('drop down'!$A$2,'Step 2 PO Calculator'!B3363:D3898,3,FALSE),\"Leave this line blank\")","v":"Leave this line blank"},{"$nulls":11},"",null,"","No",null,null,"No"]
[null,{"$f":"IF('Step 2 PO Calculator'!B3364=\"Yes\",VLOOKUP('drop down'!$A$2,'Step 2 PO Calculator'!B3364:D3899,3,FALSE),\"Leave this line blank\")","v":"Leave this line blank"},{"$nulls":11},"",null,"","No",null,null,"No"]
[null,{"$f":"IF('Step 2 PO Calculator'!B3365=\"Yes\",VLOOKUP('drop down'!$A$2,'Step 2 PO Calculator'!B3365:D3900,3,FALSE),\"Leave this line blank\")","v":"Leave this line blank"},{"$nulls":11},"",null,"","No",null,null,"No"]
[null,{"$f":"IF('Step 2 PO Calculator'!B3366=\"Yes\",VLOOKUP('drop down'!$A$2,'Step 2 PO Calculator'!B3366:D3901,3,FALSE),\"Leave this line blank\")","v":"Leave this line blank"},{"$nulls":11},"",null,"","No",null,null,"No"]
[null,{"$f":"IF('Step 2 PO Calculator'!B3367=\"Yes\",VLOOKUP('drop down'!$A$2,'Step 2 PO Calculator'!B3367:D3902,3,FALSE),\"Leave this line blank\")","v":"Leave this line blank"},{"$nulls":11},"",null,"","No",null,null,"No"]
[null,{"$f":"IF('Step 2 PO Calculator'!B3368=\"Yes\",VLOOKUP('drop down'!$A$2,'Step 2 PO Calculator'!B3368:D3903,3,FALSE),\"Leave this line blank\")","v":"Leave this line blank"},{"$nulls":11},"",null,"","No",null,null,"No"]
[null,{"$f":"IF('Step 2 PO Calculator'!B3369=\"Yes\",VLOOKUP('drop down'!$A$2,'Step 2 PO Calculator'!B3369:D3904,3,FALSE),\"Leave this line blank\")","v":"Leave this line blank"},{"$nulls":11},"",null,"","No",null,null,"No"]
[null,{"$f":"IF('Step 2 PO Calculator'!B3370=\"Yes\",VLOOKUP('drop down'!$A$2,'Step 2 PO Calculator'!B3370:D3905,3,FALSE),\"Leave this line blank\")","v":"Leave this line blank"},{"$nulls":11},"",null,"","No",null,null,"No"]
[null,{"$f":"IF('Step 2 PO Calculator'!B3371=\"Yes\",VLOOKUP('drop down'!$A$2,'Step 2 PO Calculator'!B3371:D3906,3,FALSE),\"Leave this line blank\")","v":"Leave this line blank"},{"$nulls":11},"",null,"","No",null,null,"No"]
[null,{"$f":"IF('Step 2 PO Calculator'!B3372=\"Yes\",VLOOKUP('drop down'!$A$2,'Step 2 PO Calculator'!B3372:D3907,3,FALSE),\"Leave this line blank\")","v":"Leave this line blank"},{"$nulls":11},"",null,"","No",null,null,"No"]
[null,{"$f":"IF('Step 2 PO Calculator'!B3373=\"Yes\",VLOOKUP('drop down'!$A$2,'Step 2 PO Calculator'!B3373:D3908,3,FALSE),\"Leave this line blank\")","v":"Leave this line blank"},{"$nulls":11},"",null,"","No",null,null,"No"]
[null,{"$f":"IF('Step 2 PO Calculator'!B3374=\"Yes\",VLOOKUP('drop down'!$A$2,'Step 2 PO Calculator'!B3374:D3909,3,FALSE),\"Leave this line blank\")","v":"Leave this line blank"},{"$nulls":11},"",null,"","No",null,null,"No"]
[null,{"$f":"IF('Step 2 PO Calculator'!B3375=\"Yes\",VLOOKUP('drop down'!$A$2,'Step 2 PO Calculator'!B3375:D3910,3,FALSE),\"Leave this line blank\")","v":"Leave this line blank"},{"$nulls":11},"",null,"","No",null,null,"No"]
[null,{"$f":"IF('Step 2 PO Calculator'!B3376=\"Yes\",VLOOKUP('drop down'!$A$2,'Step 2 PO Calculator'!B3376:D3911,3,FALSE),\"Leave this line blank\")","v":"Leave this line blank"},{"$nulls":11},"",null,"","No",null,null,"No"]
[null,{"$f":"IF('Step 2 PO Calculator'!B3377=\"Yes\",VLOOKUP('drop down'!$A$2,'Step 2 PO Calculator'!B3377:D3912,3,FALSE),\"Leave this line blank\")","v":"Leave this line blank"},{"$nulls":11},"",null,"","No",null,null,"No"]
[null,{"$f":"IF('Step 2 PO Calculator'!B3378=\"Yes\",VLOOKUP('drop down'!$A$2,'Step 2 PO Calculator'!B3378:D3913,3,FALSE),\"Leave this line blank\")","v":"Leave this line blank"},{"$nulls":11},"",null,"","No",null,null,"No"]
[null,{"$f":"IF('Step 2 PO Calculator'!B3379=\"Yes\",VLOOKUP('drop down'!$A$2,'Step 2 PO Calculator'!B3379:D3914,3,FALSE),\"Leave this line blank\")","v":"Leave this line blank"},{"$nulls":11},"",null,"","No",null,null,"No"]
[null,{"$f":"IF('Step 2 PO Calculator'!B3380=\"Yes\",VLOOKUP('drop down'!$A$2,'Step 2 PO Calculator'!B3380:D3915,3,FALSE),\"Leave this line blank\")","v":"Leave this line blank"},{"$nulls":11},"",null,"","No",null,null,"No"]
[null,{"$f":"IF('Step 2 PO Calculator'!B3381=\"Yes\",VLOOKUP('drop down'!$A$2,'Step 2 PO Calculator'!B3381:D3916,3,FALSE),\"Leave this line blank\")","v":"Leave this line blank"},{"$nulls":11},"",null,"","No",null,null,"No"]
[null,{"$f":"IF('Step 2 PO Calculator'!B3382=\"Yes\",VLOOKUP('drop down'!$A$2,'Step 2 PO Calculator'!B3382:D3917,3,FALSE),\"Leave this line blank\")","v":"Leave this line blank"},{"$nulls":11},"",null,"","No",null,null,"No"]
[null,{"$f":"IF('Step 2 PO Calculator'!B3383=\"Yes\",VLOOKUP('drop down'!$A$2,'Step 2 PO Calculator'!B3383:D3918,3,FALSE),\"Leave this line blank\")","v":"Leave this line blank"},{"$nulls":11},"",null,"","No",null,null,"No"]
[null,{"$f":"IF('Step 2 PO Calculator'!B3384=\"Yes\",VLOOKUP('drop down'!$A$2,'Step 2 PO Calculator'!B3384:D3919,3,FALSE),\"Leave this line blank\")","v":"Leave this line blank"},{"$nulls":11},"",null,"","No",null,null,"No"]
[null,{"$f":"IF('Step 2 PO Calculator'!B3385=\"Yes\",VLOOKUP('drop down'!$A$2,'Step 2 PO Calculator'!B3385:D3920,3,FALSE),\"Leave this line blank\")","v":"Leave this line blank"},{"$nulls":11},"",null,"","No",null,null,"No"]
[null,{"$f":"IF('Step 2 PO Calculator'!B3386=\"Yes\",VLOOKUP('drop down'!$A$2,'Step 2 PO Calculator'!B3386:D3921,3,FALSE),\"Leave this line blank\")","v":"Leave this line blank"},{"$nulls":11},"",null,"","No",null,null,"No"]
[null,{"$f":"IF('Step 2 PO Calculator'!B3387=\"Yes\",VLOOKUP('drop down'!$A$2,'Step 2 PO Calculator'!B3387:D3922,3,FALSE),\"Leave this line blank\")","v":"Leave this line blank"},{"$nulls":11},"",null,"","No",null,null,"No"]
[null,{"$f":"IF('Step 2 PO Calculator'!B3388=\"Yes\",VLOOKUP('drop down'!$A$2,'Step 2 PO Calculator'!B3388:D3923,3,FALSE),\"Leave this line blank\")","v":"Leave this line blank"},{"$nulls":11},"",null,"","No",null,null,"No"]
[null,{"$f":"IF('Step 2 PO Calculator'!B3389=\"Yes\",VLOOKUP('drop down'!$A$2,'Step 2 PO Calculator'!B3389:D3924,3,FALSE),\"Leave this line blank\")","v":"Leave this line blank"},{"$nulls":11},"",null,"","No",null,null,"No"]
[null,{"$f":"IF('Step 2 PO Calculator'!B3390=\"Yes\",VLOOKUP('drop down'!$A$2,'Step 2 PO Calculator'!B3390:D3925,3,FALSE),\"Leave this line blank\")","v":"Leave this line blank"},{"$nulls":11},"",null,"","No",null,null,"No"]
[null,{"$f":"IF('Step 2 PO Calculator'!B3391=\"Yes\",VLOOKUP('drop down'!$A$2,'Step 2 PO Calculator'!B3391:D3926,3,FALSE),\"Leave this line blank\")","v":"Leave this line blank"},{"$nulls":11},"",null,"","No",null,null,"No"]
[null,{"$f":"IF('Step 2 PO Calculator'!B3392=\"Yes\",VLOOKUP('drop down'!$A$2,'Step 2 PO Calculator'!B3392:D3927,3,FALSE),\"Leave this line blank\")","v":"Leave this line blank"},{"$nulls":11},"",null,"","No",null,null,"No"]
[null,{"$f":"IF('Step 2 PO Calculator'!B3393=\"Yes\",VLOOKUP('drop down'!$A$2,'Step 2 PO Calculator'!B3393:D3928,3,FALSE),\"Leave this line blank\")","v":"Leave this line blank"},{"$nulls":11},"",null,"","No",null,null,"No"]
[null,{"$f":"IF('Step 2 PO Calculator'!B3394=\"Yes\",VLOOKUP('drop down'!$A$2,'Step 2 PO Calculator'!B3394:D3929,3,FALSE),\"Leave this line blank\")","v":"Leave this line blank"},{"$nulls":11},"",null,"","No",null,null,"No"]
[null,{"$f":"IF('Step 2 PO Calculator'!B3395=\"Yes\",VLOOKUP('drop down'!$A$2,'Step 2 PO Calculator'!B3395:D3930,3,FALSE),\"Leave this line blank\")","v":"Leave this line blank"},{"$nulls":11},"",null,"","No",null,null,"No"]
[null,{"$f":"IF('Step 2 PO Calculator'!B3396=\"Yes\",VLOOKUP('drop down'!$A$2,'Step 2 PO Calculator'!B3396:D3931,3,FALSE),\"Leave this line blank\")","v":"Leave this line blank"},{"$nulls":11},"",null,"","No",null,null,"No"]
[null,{"$f":"IF('Step 2 PO Calculator'!B3397=\"Yes\",VLOOKUP('drop down'!$A$2,'Step 2 PO Calculator'!B3397:D3932,3,FALSE),\"Leave this line blank\")","v":"Leave this line blank"},{"$nulls":11},"",null,"","No",null,null,"No"]
[null,{"$f":"IF('Step 2 PO Calculator'!B3398=\"Yes\",VLOOKUP('drop down'!$A$2,'Step 2 PO Calculator'!B3398:D3933,3,FALSE),\"Leave this line blank\")","v":"Leave this line blank"},{"$nulls":11},"",null,"","No",null,null,"No"]
[null,{"$f":"IF('Step 2 PO Calculator'!B3399=\"Yes\",VLOOKUP('drop down'!$A$2,'Step 2 PO Calculator'!B3399:D3934,3,FALSE),\"Leave this line blank\")","v":"Leave this line blank"},{"$nulls":11},"",null,"","No",null,null,"No"]
[null,{"$f":"IF('Step 2 PO Calculator'!B3400=\"Yes\",VLOOKUP('drop down'!$A$2,'Step 2 PO Calculator'!B3400:D3935,3,FALSE),\"Leave this line blank\")","v":"Leave this line blank"},{"$nulls":11},"",null,"","No",null,null,"No"]
[null,{"$f":"IF('Step 2 PO Calculator'!B3401=\"Yes\",VLOOKUP('drop down'!$A$2,'Step 2 PO Calculator'!B3401:D3936,3,FALSE),\"Leave this line blank\")","v":"Leave this line blank"},{"$nulls":11},"",null,"","No",null,null,"No"]
[null,{"$f":"IF('Step 2 PO Calculator'!B3402=\"Yes\",VLOOKUP('drop down'!$A$2,'Step 2 PO Calculator'!B3402:D3937,3,FALSE),\"Leave this line blank\")","v":"Leave this line blank"},{"$nulls":11},"",null,"","No",null,null,"No"]
[null,{"$f":"IF('Step 2 PO Calculator'!B3403=\"Yes\",VLOOKUP('drop down'!$A$2,'Step 2 PO Calculator'!B3403:D3938,3,FALSE),\"Leave this line blank\")","v":"Leave this line blank"},{"$nulls":11},{"$f":"IF(I1934=\"\",\"\",IF(_xlfn.DAYS(I$8,I1934)>=180,\"X\",\"\"))","v":""},null,{"$f":"IF(K1934=\"\",\"\",IF(_xlfn.DAYS(K1934,I$8)<0,\"\",\"X\"))","v":""},{"$f":"IF(AND(N1934=\"X\",P1934=\"X\"),\"Yes\",\"No\")","v":"No"},null,null,{"$f":"IF(AND(N1934=\"X\",P1934=\"X\",R1934=\"Yes\"),\"Yes\",\"No\")","v":"No"}]
[null,{"$f":"IF('Step 2 PO Calculator'!B3404=\"Yes\",VLOOKUP('drop down'!$A$2,'Step 2 PO Calculator'!B3404:D3939,3,FALSE),\"Leave this line blank\")","v":"Leave this line blank"},{"$nulls":11},"",null,"","No",null,null,"No"]
[null,{"$f":"IF('Step 2 PO Calculator'!B3405=\"Yes\",VLOOKUP('drop down'!$A$2,'Step 2 PO Calculator'!B3405:D3940,3,FALSE),\"Leave this line blank\")","v":"Leave this line blank"},{"$nulls":11},"",null,"","No",null,null,"No"]
[null,{"$f":"IF('Step 2 PO Calculator'!B3406=\"Yes\",VLOOKUP('drop down'!$A$2,'Step 2 PO Calculator'!B3406:D3941,3,FALSE),\"Leave this line blank\")","v":"Leave this line blank"},{"$nulls":11},"",null,"","No",null,null,"No"]
[null,{"$f":"IF('Step 2 PO Calculator'!B3407=\"Yes\",VLOOKUP('drop down'!$A$2,'Step 2 PO Calculator'!B3407:D3942,3,FALSE),\"Leave this line blank\")","v":"Leave this line blank"},{"$nulls":11},"",null,"","No",null,null,"No"]
[null,{"$f":"IF('Step 2 PO Calculator'!B3408=\"Yes\",VLOOKUP('drop down'!$A$2,'Step 2 PO Calculator'!B3408:D3943,3,FALSE),\"Leave this line blank\")","v":"Leave this line blank"},{"$nulls":11},"",null,"","No",null,null,"No"]
[null,{"$f":"IF('Step 2 PO Calculator'!B3409=\"Yes\",VLOOKUP('drop down'!$A$2,'Step 2 PO Calculator'!B3409:D3944,3,FALSE),\"Leave this line blank\")","v":"Leave this line blank"},{"$nulls":11},"",null,"","No",null,null,"No"]
[null,{"$f":"IF('Step 2 PO Calculator'!B3410=\"Yes\",VLOOKUP('drop down'!$A$2,'Step 2 PO Calculator'!B3410:D3945,3,FALSE),\"Leave this line blank\")","v":"Leave this line blank"},{"$nulls":11},"",null,"","No",null,null,"No"]
[null,{"$f":"IF('Step 2 PO Calculator'!B3411=\"Yes\",VLOOKUP('drop down'!$A$2,'Step 2 PO Calculator'!B3411:D3946,3,FALSE),\"Leave this line blank\")","v":"Leave this line blank"},{"$nulls":11},"",null,"","No",null,null,"No"]
[null,{"$f":"IF('Step 2 PO Calculator'!B3412=\"Yes\",VLOOKUP('drop down'!$A$2,'Step 2 PO Calculator'!B3412:D3947,3,FALSE),\"Leave this line blank\")","v":"Leave this line blank"},{"$nulls":11},"",null,"","No",null,null,"No"]
[null,{"$f":"IF('Step 2 PO Calculator'!B3413=\"Yes\",VLOOKUP('drop down'!$A$2,'Step 2 PO Calculator'!B3413:D3948,3,FALSE),\"Leave this line blank\")","v":"Leave this line blank"},{"$nulls":11},"",null,"","No",null,null,"No"]
[null,{"$f":"IF('Step 2 PO Calculator'!B3414=\"Yes\",VLOOKUP('drop down'!$A$2,'Step 2 PO Calculator'!B3414:D3949,3,FALSE),\"Leave this line blank\")","v":"Leave this line blank"},{"$nulls":11},"",null,"","No",null,null,"No"]
[null,{"$f":"IF('Step 2 PO Calculator'!B3415=\"Yes\",VLOOKUP('drop down'!$A$2,'Step 2 PO Calculator'!B3415:D3950,3,FALSE),\"Leave this line blank\")","v":"Leave this line blank"},{"$nulls":11},"",null,"","No",null,null,"No"]
[null,{"$f":"IF('Step 2 PO Calculator'!B3416=\"Yes\",VLOOKUP('drop down'!$A$2,'Step 2 PO Calculator'!B3416:D3951,3,FALSE),\"Leave this line blank\")","v":"Leave this line blank"},{"$nulls":11},"",null,"","No",null,null,"No"]
[null,{"$f":"IF('Step 2 PO Calculator'!B3417=\"Yes\",VLOOKUP('drop down'!$A$2,'Step 2 PO Calculator'!B3417:D3952,3,FALSE),\"Leave this line blank\")","v":"Leave this line blank"},{"$nulls":11},"",null,"","No",null,null,"No"]
[null,{"$f":"IF('Step 2 PO Calculator'!B3418=\"Yes\",VLOOKUP('drop down'!$A$2,'Step 2 PO Calculator'!B3418:D3953,3,FALSE),\"Leave this line blank\")","v":"Leave this line blank"},{"$nulls":11},"",null,"","No",null,null,"No"]
[null,{"$f":"IF('Step 2 PO Calculator'!B3419=\"Yes\",VLOOKUP('drop down'!$A$2,'Step 2 PO Calculator'!B3419:D3954,3,FALSE),\"Leave this line blank\")","v":"Leave this line blank"},{"$nulls":11},"",null,"","No",null,null,"No"]
[null,{"$f":"IF('Step 2 PO Calculator'!B3420=\"Yes\",VLOOKUP('drop down'!$A$2,'Step 2 PO Calculator'!B3420:D3955,3,FALSE),\"Leave this line blank\")","v":"Leave this line blank"},{"$nulls":11},"",null,"","No",null,null,"No"]
[null,{"$f":"IF('Step 2 PO Calculator'!B3421=\"Yes\",VLOOKUP('drop down'!$A$2,'Step 2 PO Calculator'!B3421:D3956,3,FALSE),\"Leave this line blank\")","v":"Leave this line blank"},{"$nulls":11},"",null,"","No",null,null,"No"]
[null,{"$f":"IF('Step 2 PO Calculator'!B3422=\"Yes\",VLOOKUP('drop down'!$A$2,'Step 2 PO Calculator'!B3422:D3957,3,FALSE),\"Leave this line blank\")","v":"Leave this line blank"},{"$nulls":11},"",null,"","No",null,null,"No"]
[null,{"$f":"IF('Step 2 PO Calculator'!B3423=\"Yes\",VLOOKUP('drop down'!$A$2,'Step 2 PO Calculator'!B3423:D3958,3,FALSE),\"Leave this line blank\")","v":"Leave this line blank"},{"$nulls":11},"",null,"","No",null,null,"No"]
[null,{"$f":"IF('Step 2 PO Calculator'!B3424=\"Yes\",VLOOKUP('drop down'!$A$2,'Step 2 PO Calculator'!B3424:D3959,3,FALSE),\"Leave this line blank\")","v":"Leave this line blank"},{"$nulls":11},"",null,"","No",null,null,"No"]
[null,{"$f":"IF('Step 2 PO Calculator'!B3425=\"Yes\",VLOOKUP('drop down'!$A$2,'Step 2 PO Calculator'!B3425:D3960,3,FALSE),\"Leave this line blank\")","v":"Leave this line blank"},{"$nulls":11},"",null,"","No",null,null,"No"]
[null,{"$f":"IF('Step 2 PO Calculator'!B3426=\"Yes\",VLOOKUP('drop down'!$A$2,'Step 2 PO Calculator'!B3426:D3961,3,FALSE),\"Leave this line blank\")","v":"Leave this line blank"},{"$nulls":11},"",null,"","No",null,null,"No"]
[null,{"$f":"IF('Step 2 PO Calculator'!B3427=\"Yes\",VLOOKUP('drop down'!$A$2,'Step 2 PO Calculator'!B3427:D3962,3,FALSE),\"Leave this line blank\")","v":"Leave this line blank"},{"$nulls":11},"",null,"","No",null,null,"No"]
[null,{"$f":"IF('Step 2 PO Calculator'!B3428=\"Yes\",VLOOKUP('drop down'!$A$2,'Step 2 PO Calculator'!B3428:D3963,3,FALSE),\"Leave this line blank\")","v":"Leave this line blank"},{"$nulls":11},"",null,"","No",null,null,"No"]
[null,{"$f":"IF('Step 2 PO Calculator'!B3429=\"Yes\",VLOOKUP('drop down'!$A$2,'Step 2 PO Calculator'!B3429:D3964,3,FALSE),\"Leave this line blank\")","v":"Leave this line blank"},{"$nulls":11},"",null,"","No",null,null,"No"]
[null,{"$f":"IF('Step 2 PO Calculator'!B3430=\"Yes\",VLOOKUP('drop down'!$A$2,'Step 2 PO Calculator'!B3430:D3965,3,FALSE),\"Leave this line blank\")","v":"Leave this line blank"},{"$nulls":11},"",null,"","No",null,null,"No"]
[null,{"$f":"IF('Step 2 PO Calculator'!B3431=\"Yes\",VLOOKUP('drop down'!$A$2,'Step 2 PO Calculator'!B3431:D3966,3,FALSE),\"Leave this line blank\")","v":"Leave this line blank"},{"$nulls":11},"",null,"","No",null,null,"No"]
[null,{"$f":"IF('Step 2 PO Calculator'!B3432=\"Yes\",VLOOKUP('drop down'!$A$2,'Step 2 PO Calculator'!B3432:D3967,3,FALSE),\"Leave this line blank\")","v":"Leave this line blank"},{"$nulls":11},"",null,"","No",null,null,"No"]
[null,{"$f":"IF('Step 2 PO Calculator'!B3433=\"Yes\",VLOOKUP('drop down'!$A$2,'Step 2 PO Calculator'!B3433:D3968,3,FALSE),\"Leave this line blank\")","v":"Leave this line blank"},{"$nulls":11},"",null,"","No",null,null,"No"]
[null,{"$f":"IF('Step 2 PO Calculator'!B3434=\"Yes\",VLOOKUP('drop down'!$A$2,'Step 2 PO Calculator'!B3434:D3969,3,FALSE),\"Leave this line blank\")","v":"Leave this line blank"},{"$nulls":11},"",null,"","No",null,null,"No"]
[null,{"$f":"IF('Step 2 PO Calculator'!B3435=\"Yes\",VLOOKUP('drop down'!$A$2,'Step 2 PO Calculator'!B3435:D3970,3,FALSE),\"Leave this line blank\")","v":"Leave this line blank"},{"$nulls":11},"",null,"","No",null,null,"No"]
[null,{"$f":"IF('Step 2 PO Calculator'!B3436=\"Yes\",VLOOKUP('drop down'!$A$2,'Step 2 PO Calculator'!B3436:D3971,3,FALSE),\"Leave this line blank\")","v":"Leave this line blank"},{"$nulls":11},"",null,"","No",null,null,"No"]
[null,{"$f":"IF('Step 2 PO Calculator'!B3437=\"Yes\",VLOOKUP('drop down'!$A$2,'Step 2 PO Calculator'!B3437:D3972,3,FALSE),\"Leave this line blank\")","v":"Leave this line blank"},{"$nulls":11},"",null,"","No",null,null,"No"]
[null,{"$f":"IF('Step 2 PO Calculator'!B3438=\"Yes\",VLOOKUP('drop down'!$A$2,'Step 2 PO Calculator'!B3438:D3973,3,FALSE),\"Leave this line blank\")","v":"Leave this line blank"},{"$nulls":11},"",null,"","No",null,null,"No"]
[null,{"$f":"IF('Step 2 PO Calculator'!B3439=\"Yes\",VLOOKUP('drop down'!$A$2,'Step 2 PO Calculator'!B3439:D3974,3,FALSE),\"Leave this line blank\")","v":"Leave this line blank"},{"$nulls":11},"",null,"","No",null,null,"No"]
[null,{"$f":"IF('Step 2 PO Calculator'!B3440=\"Yes\",VLOOKUP('drop down'!$A$2,'Step 2 PO Calculator'!B3440:D3975,3,FALSE),\"Leave this line blank\")","v":"Leave this line blank"},{"$nulls":11},"",null,"","No",null,null,"No"]
[null,{"$f":"IF('Step 2 PO Calculator'!B3441=\"Yes\",VLOOKUP('drop down'!$A$2,'Step 2 PO Calculator'!B3441:D3976,3,FALSE),\"Leave this line blank\")","v":"Leave this line blank"},{"$nulls":11},"",null,"","No",null,null,"No"]
[null,{"$f":"IF('Step 2 PO Calculator'!B3442=\"Yes\",VLOOKUP('drop down'!$A$2,'Step 2 PO Calculator'!B3442:D3977,3,FALSE),\"Leave this line blank\")","v":"Leave this line blank"},{"$nulls":11},"",null,"","No",null,null,"No"]
[null,{"$f":"IF('Step 2 PO Calculator'!B3443=\"Yes\",VLOOKUP('drop down'!$A$2,'Step 2 PO Calculator'!B3443:D3978,3,FALSE),\"Leave this line blank\")","v":"Leave this line blank"},{"$nulls":11},"",null,"","No",null,null,"No"]
[null,{"$f":"IF('Step 2 PO Calculator'!B3444=\"Yes\",VLOOKUP('drop down'!$A$2,'Step 2 PO Calculator'!B3444:D3979,3,FALSE),\"Leave this line blank\")","v":"Leave this line blank"},{"$nulls":11},"",null,"","No",null,null,"No"]
[null,{"$f":"IF('Step 2 PO Calculator'!B3445=\"Yes\",VLOOKUP('drop down'!$A$2,'Step 2 PO Calculator'!B3445:D3980,3,FALSE),\"Leave this line blank\")","v":"Leave this line blank"},{"$nulls":11},"",null,"","No",null,null,"No"]
[null,{"$f":"IF('Step 2 PO Calculator'!B3446=\"Yes\",VLOOKUP('drop down'!$A$2,'Step 2 PO Calculator'!B3446:D3981,3,FALSE),\"Leave this line blank\")","v":"Leave this line blank"},{"$nulls":11},"",null,"","No",null,null,"No"]
[null,{"$f":"IF('Step 2 PO Calculator'!B3447=\"Yes\",VLOOKUP('drop down'!$A$2,'Step 2 PO Calculator'!B3447:D3982,3,FALSE),\"Leave this line blank\")","v":"Leave this line blank"},{"$nulls":11},"",null,"","No",null,null,"No"]
[null,{"$f":"IF('Step 2 PO Calculator'!B3448=\"Yes\",VLOOKUP('drop down'!$A$2,'Step 2 PO Calculator'!B3448:D3983,3,FALSE),\"Leave this line blank\")","v":"Leave this line blank"},{"$nulls":11},"",null,"","No",null,null,"No"]
[null,{"$f":"IF('Step 2 PO Calculator'!B3449=\"Yes\",VLOOKUP('drop down'!$A$2,'Step 2 PO Calculator'!B3449:D3984,3,FALSE),\"Leave this line blank\")","v":"Leave this line blank"},{"$nulls":11},"",null,"","No",null,null,"No"]
[null,{"$f":"IF('Step 2 PO Calculator'!B3450=\"Yes\",VLOOKUP('drop down'!$A$2,'Step 2 PO Calculator'!B3450:D3985,3,FALSE),\"Leave this line blank\")","v":"Leave this line blank"},{"$nulls":11},"",null,"","No",null,null,"No"]
[null,{"$f":"IF('Step 2 PO Calculator'!B3451=\"Yes\",VLOOKUP('drop down'!$A$2,'Step 2 PO Calculator'!B3451:D3986,3,FALSE),\"Leave this line blank\")","v":"Leave this line blank"},{"$nulls":11},"",null,"","No",null,null,"No"]
[null,{"$f":"IF('Step 2 PO Calculator'!B3452=\"Yes\",VLOOKUP('drop down'!$A$2,'Step 2 PO Calculator'!B3452:D3987,3,FALSE),\"Leave this line blank\")","v":"Leave this line blank"},{"$nulls":11},"",null,"","No",null,null,"No"]
[null,{"$f":"IF('Step 2 PO Calculator'!B3453=\"Yes\",VLOOKUP('drop down'!$A$2,'Step 2 PO Calculator'!B3453:D3988,3,FALSE),\"Leave this line blank\")","v":"Leave this line blank"},{"$nulls":11},"",null,"","No",null,null,"No"]
[null,{"$f":"IF('Step 2 PO Calculator'!B3454=\"Yes\",VLOOKUP('drop down'!$A$2,'Step 2 PO Calculator'!B3454:D3989,3,FALSE),\"Leave this line blank\")","v":"Leave this line blank"},{"$nulls":11},"",null,"","No",null,null,"No"]
[null,{"$f":"IF('Step 2 PO Calculator'!B3455=\"Yes\",VLOOKUP('drop down'!$A$2,'Step 2 PO Calculator'!B3455:D3990,3,FALSE),\"Leave this line blank\")","v":"Leave this line blank"},{"$nulls":11},"",null,"","No",null,null,"No"]
[null,{"$f":"IF('Step 2 PO Calculator'!B3456=\"Yes\",VLOOKUP('drop down'!$A$2,'Step 2 PO Calculator'!B3456:D3991,3,FALSE),\"Leave this line blank\")","v":"Leave this line blank"},{"$nulls":11},"",null,"","No",null,null,"No"]
[null,{"$f":"IF('Step 2 PO Calculator'!B3457=\"Yes\",VLOOKUP('drop down'!$A$2,'Step 2 PO Calculator'!B3457:D3992,3,FALSE),\"Leave this line blank\")","v":"Leave this line blank"},{"$nulls":11},"",null,"","No",null,null,"No"]
[null,{"$f":"IF('Step 2 PO Calculator'!B3458=\"Yes\",VLOOKUP('drop down'!$A$2,'Step 2 PO Calculator'!B3458:D3993,3,FALSE),\"Leave this line blank\")","v":"Leave this line blank"},{"$nulls":11},"",null,"","No",null,null,"No"]
[null,{"$f":"IF('Step 2 PO Calculator'!B3459=\"Yes\",VLOOKUP('drop down'!$A$2,'Step 2 PO Calculator'!B3459:D3994,3,FALSE),\"Leave this line blank\")","v":"Leave this line blank"},{"$nulls":11},"",null,"","No",null,null,"No"]
[null,{"$f":"IF('Step 2 PO Calculator'!B3460=\"Yes\",VLOOKUP('drop down'!$A$2,'Step 2 PO Calculator'!B3460:D3995,3,FALSE),\"Leave this line blank\")","v":"Leave this line blank"},{"$nulls":11},"",null,"","No",null,null,"No"]
[null,{"$f":"IF('Step 2 PO Calculator'!B3461=\"Yes\",VLOOKUP('drop down'!$A$2,'Step 2 PO Calculator'!B3461:D3996,3,FALSE),\"Leave this line blank\")","v":"Leave this line blank"},{"$nulls":11},"",null,"","No",null,null,"No"]
[null,{"$f":"IF('Step 2 PO Calculator'!B3462=\"Yes\",VLOOKUP('drop down'!$A$2,'Step 2 PO Calculator'!B3462:D3997,3,FALSE),\"Leave this line blank\")","v":"Leave this line blank"},{"$nulls":11},"",null,"","No",null,null,"No"]
[null,{"$f":"IF('Step 2 PO Calculator'!B3463=\"Yes\",VLOOKUP('drop down'!$A$2,'Step 2 PO Calculator'!B3463:D3998,3,FALSE),\"Leave this line blank\")","v":"Leave this line blank"},{"$nulls":11},"",null,"","No",null,null,"No"]
[null,{"$f":"IF('Step 2 PO Calculator'!B3464=\"Yes\",VLOOKUP('drop down'!$A$2,'Step 2 PO Calculator'!B3464:D3999,3,FALSE),\"Leave this line blank\")","v":"Leave this line blank"},{"$nulls":11},"",null,"","No",null,null,"No"]
[null,{"$f":"IF('Step 2 PO Calculator'!B3465=\"Yes\",VLOOKUP('drop down'!$A$2,'Step 2 PO Calculator'!B3465:D4000,3,FALSE),\"Leave this line blank\")","v":"Leave this line blank"},{"$nulls":11},"",null,"","No",null,null,"No"]
[null,{"$f":"IF('Step 2 PO Calculator'!B3466=\"Yes\",VLOOKUP('drop down'!$A$2,'Step 2 PO Calculator'!B3466:D4001,3,FALSE),\"Leave this line blank\")","v":"Leave this line blank"},{"$nulls":11},"",null,"","No",null,null,"No"]
[null,{"$f":"IF('Step 2 PO Calculator'!B3467=\"Yes\",VLOOKUP('drop down'!$A$2,'Step 2 PO Calculator'!B3467:D4002,3,FALSE),\"Leave this line blank\")","v":"Leave this line blank"},{"$nulls":11},{"$f":"IF(I1998=\"\",\"\",IF(_xlfn.DAYS(I$8,I1998)>=180,\"X\",\"\"))","v":""},null,{"$f":"IF(K1998=\"\",\"\",IF(_xlfn.DAYS(K1998,I$8)<0,\"\",\"X\"))","v":""},{"$f":"IF(AND(N1998=\"X\",P1998=\"X\"),\"Yes\",\"No\")","v":"No"},null,null,{"$f":"IF(AND(N1998=\"X\",P1998=\"X\",R1998=\"Yes\"),\"Yes\",\"No\")","v":"No"}]
[null,{"$f":"IF('Step 2 PO Calculator'!B3468=\"Yes\",VLOOKUP('drop down'!$A$2,'Step 2 PO Calculator'!B3468:D4003,3,FALSE),\"Leave this line blank\")","v":"Leave this line blank"},{"$nulls":11},"",null,"","No",null,null,"No"]
[null,{"$f":"IF('Step 2 PO Calculator'!B3469=\"Yes\",VLOOKUP('drop down'!$A$2,'Step 2 PO Calculator'!B3469:D4004,3,FALSE),\"Leave this line blank\")","v":"Leave this line blank"},{"$nulls":11},"",null,"","No",null,null,"No"]
[null,{"$f":"IF('Step 2 PO Calculator'!B3470=\"Yes\",VLOOKUP('drop down'!$A$2,'Step 2 PO Calculator'!B3470:D4005,3,FALSE),\"Leave this line blank\")","v":"Leave this line blank"},{"$nulls":11},"",null,"","No",null,null,"No"]
[null,{"$f":"IF('Step 2 PO Calculator'!B3471=\"Yes\",VLOOKUP('drop down'!$A$2,'Step 2 PO Calculator'!B3471:D4006,3,FALSE),\"Leave this line blank\")","v":"Leave this line blank"},{"$nulls":11},"",null,"","No",null,null,"No"]
[null,{"$f":"IF('Step 2 PO Calculator'!B3472=\"Yes\",VLOOKUP('drop down'!$A$2,'Step 2 PO Calculator'!B3472:D4007,3,FALSE),\"Leave this line blank\")","v":"Leave this line blank"},{"$nulls":11},"",null,"","No",null,null,"No"]
[null,{"$f":"IF('Step 2 PO Calculator'!B3473=\"Yes\",VLOOKUP('drop down'!$A$2,'Step 2 PO Calculator'!B3473:D4008,3,FALSE),\"Leave this line blank\")","v":"Leave this line blank"},{"$nulls":11},"",null,"","No",null,null,"No"]
[null,{"$f":"IF('Step 2 PO Calculator'!B3474=\"Yes\",VLOOKUP('drop down'!$A$2,'Step 2 PO Calculator'!B3474:D4009,3,FALSE),\"Leave this line blank\")","v":"Leave this line blank"},{"$nulls":11},"",null,"","No",null,null,"No"]
[null,{"$f":"IF('Step 2 PO Calculator'!B3475=\"Yes\",VLOOKUP('drop down'!$A$2,'Step 2 PO Calculator'!B3475:D4010,3,FALSE),\"Leave this line blank\")","v":"Leave this line blank"},{"$nulls":11},"",null,"","No",null,null,"No"]
[null,{"$f":"IF('Step 2 PO Calculator'!B3476=\"Yes\",VLOOKUP('drop down'!$A$2,'Step 2 PO Calculator'!B3476:D4011,3,FALSE),\"Leave this line blank\")","v":"Leave this line blank"},{"$nulls":11},"",null,"","No",null,null,"No"]
[null,{"$f":"IF('Step 2 PO Calculator'!B3477=\"Yes\",VLOOKUP('drop down'!$A$2,'Step 2 PO Calculator'!B3477:D4012,3,FALSE),\"Leave this line blank\")","v":"Leave this line blank"},{"$nulls":11},"",null,"","No",null,null,"No"]
[null,{"$f":"IF('Step 2 PO Calculator'!B3478=\"Yes\",VLOOKUP('drop down'!$A$2,'Step 2 PO Calculator'!B3478:D4013,3,FALSE),\"Leave this line blank\")","v":"Leave this line blank"},{"$nulls":11},"",null,"","No",null,null,"No"]
[null,{"$f":"IF('Step 2 PO Calculator'!B3479=\"Yes\",VLOOKUP('drop down'!$A$2,'Step 2 PO Calculator'!B3479:D4014,3,FALSE),\"Leave this line blank\")","v":"Leave this line blank"},{"$nulls":11},"",null,"","No",null,null,"No"]
[null,{"$f":"IF('Step 2 PO Calculator'!B3480=\"Yes\",VLOOKUP('drop down'!$A$2,'Step 2 PO Calculator'!B3480:D4015,3,FALSE),\"Leave this line blank\")","v":"Leave this line blank"},{"$nulls":11},"",null,"","No",null,null,"No"]
[null,{"$f":"IF('Step 2 PO Calculator'!B3481=\"Yes\",VLOOKUP('drop down'!$A$2,'Step 2 PO Calculator'!B3481:D4016,3,FALSE),\"Leave this line blank\")","v":"Leave this line blank"},{"$nulls":11},"",null,"","No",null,null,"No"]
[null,{"$f":"IF('Step 2 PO Calculator'!B3482=\"Yes\",VLOOKUP('drop down'!$A$2,'Step 2 PO Calculator'!B3482:D4017,3,FALSE),\"Leave this line blank\")","v":"Leave this line blank"},{"$nulls":11},"",null,"","No",null,null,"No"]
[null,{"$f":"IF('Step 2 PO Calculator'!B3483=\"Yes\",VLOOKUP('drop down'!$A$2,'Step 2 PO Calculator'!B3483:D4018,3,FALSE),\"Leave this line blank\")","v":"Leave this line blank"},{"$nulls":11},"",null,"","No",null,null,"No"]
[null,{"$f":"IF('Step 2 PO Calculator'!B3484=\"Yes\",VLOOKUP('drop down'!$A$2,'Step 2 PO Calculator'!B3484:D4019,3,FALSE),\"Leave this line blank\")","v":"Leave this line blank"},{"$nulls":11},"",null,"","No",null,null,"No"]
[null,{"$f":"IF('Step 2 PO Calculator'!B3485=\"Yes\",VLOOKUP('drop down'!$A$2,'Step 2 PO Calculator'!B3485:D4020,3,FALSE),\"Leave this line blank\")","v":"Leave this line blank"},{"$nulls":11},"",null,"","No",null,null,"No"]
[null,{"$f":"IF('Step 2 PO Calculator'!B3486=\"Yes\",VLOOKUP('drop down'!$A$2,'Step 2 PO Calculator'!B3486:D4021,3,FALSE),\"Leave this line blank\")","v":"Leave this line blank"},{"$nulls":11},"",null,"","No",null,null,"No"]
[null,{"$f":"IF('Step 2 PO Calculator'!B3487=\"Yes\",VLOOKUP('drop down'!$A$2,'Step 2 PO Calculator'!B3487:D4022,3,FALSE),\"Leave this line blank\")","v":"Leave this line blank"},{"$nulls":11},"",null,"","No",null,null,"No"]
[null,{"$f":"IF('Step 2 PO Calculator'!B3488=\"Yes\",VLOOKUP('drop down'!$A$2,'Step 2 PO Calculator'!B3488:D4023,3,FALSE),\"Leave this line blank\")","v":"Leave this line blank"},{"$nulls":11},"",null,"","No",null,null,"No"]
[null,{"$f":"IF('Step 2 PO Calculator'!B3489=\"Yes\",VLOOKUP('drop down'!$A$2,'Step 2 PO Calculator'!B3489:D4024,3,FALSE),\"Leave this line blank\")","v":"Leave this line blank"},{"$nulls":11},"",null,"","No",null,null,"No"]
[null,{"$f":"IF('Step 2 PO Calculator'!B3490=\"Yes\",VLOOKUP('drop down'!$A$2,'Step 2 PO Calculator'!B3490:D4025,3,FALSE),\"Leave this line blank\")","v":"Leave this line blank"},{"$nulls":11},"",null,"","No",null,null,"No"]
[null,{"$f":"IF('Step 2 PO Calculator'!B3491=\"Yes\",VLOOKUP('drop down'!$A$2,'Step 2 PO Calculator'!B3491:D4026,3,FALSE),\"Leave this line blank\")","v":"Leave this line blank"},{"$nulls":11},"",null,"","No",null,null,"No"]
[null,{"$f":"IF('Step 2 PO Calculator'!B3492=\"Yes\",VLOOKUP('drop down'!$A$2,'Step 2 PO Calculator'!B3492:D4027,3,FALSE),\"Leave this line blank\")","v":"Leave this line blank"},{"$nulls":11},"",null,"","No",null,null,"No"]
[null,{"$f":"IF('Step 2 PO Calculator'!B3493=\"Yes\",VLOOKUP('drop down'!$A$2,'Step 2 PO Calculator'!B3493:D4028,3,FALSE),\"Leave this line blank\")","v":"Leave this line blank"},{"$nulls":11},"",null,"","No",null,null,"No"]
[null,{"$f":"IF('Step 2 PO Calculator'!B3494=\"Yes\",VLOOKUP('drop down'!$A$2,'Step 2 PO Calculator'!B3494:D4029,3,FALSE),\"Leave this line blank\")","v":"Leave this line blank"},{"$nulls":11},"",null,"","No",null,null,"No"]
[null,{"$f":"IF('Step 2 PO Calculator'!B3495=\"Yes\",VLOOKUP('drop down'!$A$2,'Step 2 PO Calculator'!B3495:D4030,3,FALSE),\"Leave this line blank\")","v":"Leave this line blank"},{"$nulls":11},"",null,"","No",null,null,"No"]
[null,{"$f":"IF('Step 2 PO Calculator'!B3496=\"Yes\",VLOOKUP('drop down'!$A$2,'Step 2 PO Calculator'!B3496:D4031,3,FALSE),\"Leave this line blank\")","v":"Leave this line blank"},{"$nulls":11},"",null,"","No",null,null,"No"]
[null,{"$f":"IF('Step 2 PO Calculator'!B3497=\"Yes\",VLOOKUP('drop down'!$A$2,'Step 2 PO Calculator'!B3497:D4032,3,FALSE),\"Leave this line blank\")","v":"Leave this line blank"},{"$nulls":11},"",null,"","No",null,null,"No"]
[null,{"$f":"IF('Step 2 PO Calculator'!B3498=\"Yes\",VLOOKUP('drop down'!$A$2,'Step 2 PO Calculator'!B3498:D4033,3,FALSE),\"Leave this line blank\")","v":"Leave this line blank"},{"$nulls":11},"",null,"","No",null,null,"No"]
[null,{"$f":"IF('Step 2 PO Calculator'!B3499=\"Yes\",VLOOKUP('drop down'!$A$2,'Step 2 PO Calculator'!B3499:D4034,3,FALSE),\"Leave this line blank\")","v":"Leave this line blank"},{"$nulls":11},"",null,"","No",null,null,"No"]
[null,{"$f":"IF('Step 2 PO Calculator'!B3500=\"Yes\",VLOOKUP('drop down'!$A$2,'Step 2 PO Calculator'!B3500:D4035,3,FALSE),\"Leave this line blank\")","v":"Leave this line blank"},{"$nulls":11},"",null,"","No",null,null,"No"]
[null,{"$f":"IF('Step 2 PO Calculator'!B3501=\"Yes\",VLOOKUP('drop down'!$A$2,'Step 2 PO Calculator'!B3501:D4036,3,FALSE),\"Leave this line blank\")","v":"Leave this line blank"},{"$nulls":11},"",null,"","No",null,null,"No"]
[null,{"$f":"IF('Step 2 PO Calculator'!B3502=\"Yes\",VLOOKUP('drop down'!$A$2,'Step 2 PO Calculator'!B3502:D4037,3,FALSE),\"Leave this line blank\")","v":"Leave this line blank"},{"$nulls":11},"",null,"","No",null,null,"No"]
[null,{"$f":"IF('Step 2 PO Calculator'!B3503=\"Yes\",VLOOKUP('drop down'!$A$2,'Step 2 PO Calculator'!B3503:D4038,3,FALSE),\"Leave this line blank\")","v":"Leave this line blank"},{"$nulls":11},"",null,"","No",null,null,"No"]
[null,{"$f":"IF('Step 2 PO Calculator'!B3504=\"Yes\",VLOOKUP('drop down'!$A$2,'Step 2 PO Calculator'!B3504:D4039,3,FALSE),\"Leave this line blank\")","v":"Leave this line blank"},{"$nulls":11},"",null,"","No",null,null,"No"]
[null,{"$f":"IF('Step 2 PO Calculator'!B3505=\"Yes\",VLOOKUP('drop down'!$A$2,'Step 2 PO Calculator'!B3505:D4040,3,FALSE),\"Leave this line blank\")","v":"Leave this line blank"},{"$nulls":11},"",null,"","No",null,null,"No"]
[null,{"$f":"IF('Step 2 PO Calculator'!B3506=\"Yes\",VLOOKUP('drop down'!$A$2,'Step 2 PO Calculator'!B3506:D4041,3,FALSE),\"Leave this line blank\")","v":"Leave this line blank"},{"$nulls":11},"",null,"","No",null,null,"No"]
[null,{"$f":"IF('Step 2 PO Calculator'!B3507=\"Yes\",VLOOKUP('drop down'!$A$2,'Step 2 PO Calculator'!B3507:D4042,3,FALSE),\"Leave this line blank\")","v":"Leave this line blank"},{"$nulls":11},"",null,"","No",null,null,"No"]
[null,{"$f":"IF('Step 2 PO Calculator'!B3508=\"Yes\",VLOOKUP('drop down'!$A$2,'Step 2 PO Calculator'!B3508:D4043,3,FALSE),\"Leave this line blank\")","v":"Leave this line blank"},{"$nulls":11},"",null,"","No",null,null,"No"]
[null,{"$f":"IF('Step 2 PO Calculator'!B3509=\"Yes\",VLOOKUP('drop down'!$A$2,'Step 2 PO Calculator'!B3509:D4044,3,FALSE),\"Leave this line blank\")","v":"Leave this line blank"},{"$nulls":11},"",null,"","No",null,null,"No"]
[null,{"$f":"IF('Step 2 PO Calculator'!B3510=\"Yes\",VLOOKUP('drop down'!$A$2,'Step 2 PO Calculator'!B3510:D4045,3,FALSE),\"Leave this line blank\")","v":"Leave this line blank"},{"$nulls":11},"",null,"","No",null,null,"No"]
[null,{"$f":"IF('Step 2 PO Calculator'!B3511=\"Yes\",VLOOKUP('drop down'!$A$2,'Step 2 PO Calculator'!B3511:D4046,3,FALSE),\"Leave this line blank\")","v":"Leave this line blank"},{"$nulls":11},"",null,"","No",null,null,"No"]

{"sheet":"drop down","index":5,"n_rows":26,"n_cols":1,"rows_kept":26,"hidden":true}
[" "]
["Yes"]
["No"]
[]
[]
["Proposed Principal Office (must be located in a HUBZone)"]
["Other HUBZone Location"]
["Other Non-HUBZone Location"]
["Standard Telework HUBZone location"]
["Standard Telework non-HUBZone location"]
[]
[]
["Weekly"]
["Bi-weekly"]
["Twice a month"]
["Monthly"]
["Other"]
["N/A"]
[]
["Driver’s License"]
["State ID"]
["Signed Attestation and Voter ID card"]
["Signed Attestation and Utility Bill"]
["Signed Attestation and Lease "]
["Signed Attestation and Deed"]
["Signed Attestation and Other (explain in notes section)"]